Workbook
Name Interval: '[1]Office Work Schedule'!#REF!
Name ScheduleStart: '[1]Office Work Schedule'!#REF!
Name Type: '[2]Maintenance Work Order'!#REF!

Sheet Seguimiento General 
A2: PLANTILLA SEGUIMIENTO CONTRATO 227-20 | B2: 1 | C2: =1+B2 -> 2 | D2: =1+C2 -> 3 | E2: =1+D2 -> 4 | F2: =1+E2 -> 5 | G2: =1+F2 -> 6 | H2: =1+G2 -> 7 | I2: =1+H2 -> 8 | J2: =1+I2 -> 9 | ... P2: =1+O2 -> 15
A4: CONTRATO | B4: META ÍTEMS VIGENCIA 2020
A5: CTO-227-20 | B5: 15574946 | C5: ayudas de memoria
A14: Requisito Contractual | B14: Requisito Contractual CLÁUSULA | C14: Requisito Contractual CLÁUSULA | D14: ETAPA CONTRACTUAL | E14: PARTE RESPONSABLE DEL CONTRATO | F14: SUBACTIVIDADES | G14: INICIO | H14: PLAZO | I14: FINALIZACIÓN O ENTREGA EFECTIVA | J14: DURACIÓN (DÍAS/MESES) | K14: FRECUENCIA | L14: ESTADO | M14: ¿CALIFICABLE AL CONTRATISTA? | N14: COMENTARIOS / ACLARACIONES COMPLEMENTARIAS | O14: ESTADO DEL CONTRATISTA | P14: COMPETENCIA EN SUPERVISIÓN | Q14: ACTIVIDADES A REALIZAR POR PARTE DEL GRUPO SUPERVISOR | R14: SEGUIMIENTO
A15: Cumplir con los términos establecidos en los cronogramas que determine la ADRES para la revisión y verificación de los requisitos que deben cumplir los servicios y tecnologías en salud no financiadas con la UPC. La inobservancia de los términos establecidos activará la aplicación del Acuerdo de Nivel de Servicios (ANS). En el evento de no superar el proceso de calidad, deberá realizar, cuantas veces sea necesario, las revisiones y verificaciones a que haya lugar hasta tanto se cuente con un resultado favorable o se aplique lo previsto en los ANS. | B15: CUARTA. Núm.. 4.2.3 - OBE. 5 y 10 | D15: 4. Ejecución | E15: DATA TOOLS S.A - REVISIÓN NO UPC | J15: =+H15-G15 -> 0 | K15: Acordada entre las partes | L15: En espera | M15: SI | P15: Supervisión - Técnico | Q15: Debe validarse contra la circular del cronograma 2020 | R15: Cuando se apliquen ANS se revisa por el equipo
A16: Someter ante el supervisor o interventor o a quien defina la ADRES, los resultados de la revisión y verificación efectuada a los servicios y tecnologías en salud no financiadas con la UPC, para efectos de desarrollar el proceso de calidad. | B16: CUARTA. Núm.. 4.2.3 - OBE. 9 CUARTA. Núm.. 4.2.3 - OBE. 18 | C16: Calidad | D16: 4. Ejecución | E16: DATA TOOLS S.A - REVISIÓN NO UPC | F16: N/A | G16: N/A | H16: N/A | I16: N/A | J16: N/A | K16: Acordada entre las partes | L16: En espera | M16: SI | P16: Supervisión - Tecnológica
A17: pdt | B17: CUARTA. Núm.. 4.2.3 - OBE. 9 CUARTA. Núm.. 4.2.3 - OBE. 18 | C17: Tablero de control y reportes de información | D17: 4. Ejecución | E17: DATA TOOLS S.A - TECNOLOGÍA | K17: Acordada entre las partes | L17: En espera | M17: SI | P17: Supervisión - Tecnológica | R17: Transferencia de la información por la BDT / solicitar relación de usuarios que lo requieren
A18: Firma del contrato | B18: CONTRATO | C18: PERFECCIONAMIENTO CTO 227-20 | D18: 1. Suscripción | E18: ADRES & DATA TOOLS S.A. | F18: N/A | G18: 43998 | H18: 43998 | I18: =+H18 -> 43998 | J18: =+H18-G18 -> 0 | K18: Única vez | L18: Completo | M18: NO | N18: Contrato suscrito el 16-N/A6-2N/A2N/A, con evidencia de cargue en la plataforma SECOP II | O18: Cumple | P18: Supervisión - Transversal
A19: Acta de inicio | B19: CUARTA. Núm.. 4.1 - OBG. 1 | C19: PERFECCIONAMIENTO CTO 227-20 | D19: 2. Inicio | E19: ADRES & DATA TOOLS S.A. | F19: Suscribir el acta de inicio | G19: 43998 | H19: 44005 | I19: =+H19 -> 44005 | J19: =NETWORKDAYS(G19,H19,'Condicionales '!A2:A4) -> 5 | K19: Única vez | L19: Completo | M19: SI | N19: Suscrita el 23-N/A6-2N/A2N/A, con evidencia de cargue en la plataforma SECOP II | O19: Cumple | P19: Supervisión - Transversal
A20: Acta de inicio | B20: CUARTA.34, (i) | C20: PERFECCIONAMIENTO CTO 227-20 | D20: 2. Inicio | E20: ADRES - TRANSVERSAL | F20: 1. Expedición del RP | G20: 43998 | H20: 43998 | I20: =+H20 -> 43998 | J20: =+H20-G20 -> 0 | K20: Única vez | L20: Completo | M20: NO | N20: N/A | O20: Cumple | P20: Supervisión - Transversal
A21: Acta de inicio | B21: CUARTA.34, (iii) CLAUSULA DECIMA QUINTA | C21: PERFECCIONAMIENTO CTO 227-20 | D21: 2. Inicio | E21: ADRES - TRANSVERSAL | F21: 3. Expedición del Certificado de afiliación al Sistema General de Seguridad Social y parafiscales | G21: 43990 | H21: 43990 | I21: =+H21 -> 43990 | J21: =+H21-G21 -> 0 | K21: Única vez | L21: Completo | M21: NO | N21: N/A | O21: Cumple | P21: Supervisión - Transversal
A22: Acta de inicio - HV | B22: CUARTA. Núm.. 4.1 - OBG. 1(ii) | C22: PERFECCIONAMIENTO CTO 227-20 | D22: 2. Inicio | E22: DATA TOOLS S.A - TRANSVERSAL | F22: 4. Aprobación de las hojas de vida del equipo directivo | G22: 43999 | H22: 44004 | I22: =+H22 -> 44004 | J22: =+H22-G22 -> 5 | K22: Única vez | L22: Completo | M22: NO | N22: Se deben aportar las certificaciones de funciones de algunas certificaciones de Gloria Patiño y Patricia Gonzalez | O22: Cumple | P22: Supervisión - Transversal | Q22: Solicitar complementar Funciones
A23: Acta de inicio - canal dedicado de comunicaciones | B23: CUARTA. Núm.. 4.1 - OBG. 1 (iii) | C23: PERFECCIONAMIENTO CTO 227-20 | D23: 2. Inicio | E23: ADRES - TECNOLOGÍA | F23: 5. Evidenciar canal dedicado de comunicaciones | G23: 43998 | H23: 44003 | I23: =+H23 -> 44003 | J23: =+H23-G23 -> 5 | K23: Única vez | L23: Completo | M23: SI | O23: Cumple | P23: Supervisión - Transversal | Q23: Solicitar acta suscrita por proveedor
A24: Acta de inicio | B24: CUARTA. Núm.. 4.1 - OBG. 1(iv) | C24: PERFECCIONAMIENTO CTO 227-20 | D24: 2. Inicio | E24: ADRES - TRANSVERSAL | F24: 6. Demostrar que dispone de sede de operaciones | G24: 43998 | H24: 44005 | I24: =+H24 -> 44005 | J24: =+H24-G24 -> 7 | K24: Única vez | L24: Completo | M24: SI | N24: N/A | O24: Cumple | P24: Supervisión - Transversal
A25: Acta de inicio - No estar el contratista en conflicto de interés | B25: VIGÉSIMA NOVENA. 29, Núm.. 4 | C25: PERFECCIONAMIENTO CTO 227-20 | D25: 3. Ejecución - Alistamiento | E25: DATA TOOLS S.A - TRANSVERSAL | F25: 9. Declaración de no estar en conflicto de interés | G25: 43998 | H25: 44005 | I25: =+H25 -> 44005 | J25: =NETWORKDAYS(G25,H25,'Condicionales '!A2:A7) -> 5 | K25: Según obligación | L25: Completo | M25: SI | N25: N/A | P25: Supervisión - Transversal
A26: Vincular el personal directivo, profesionales transversales y auditores para la ejecución del contrato. El personal contratado debe ser suficiente para cumplir con el objeto contractual. | B26: CUARTA. Núm.. 4.2.2 - OBEA. 4 CUARTA. Núm.. 4.1 - OBG. 4 | D26: 3. Ejecución - Alistamiento | E26: DATA TOOLS S.A - TRANSVERSAL | F26: N/A | G26: 44018 | H26: 44029 | I26: =H26 -> 44029 | J26: =NETWORKDAYS(G26,H26,'Condicionales '!A3:A8) -> 10 | K26: Única vez | L26: En progreso | M26: SI | N26: Plazo de acuerdo a lo solicitado en el Oficio 46310 | P26: Supervisión - Jurídica | Q26: Con el oficio 46310 del 03-07-2020 se solicitó aportar certificación informando cantidades y nivel educativo | R26: En el evento en el que se evidencie que el objeto contractual no se esta cumpliendo en condiciones de calidad y oportunidad debe establecerse la causa. El análisis debe ser concurrente con la revisión de los elementos de la infraestructura física, administrativa, técnica, tecnológica, logística y operativa con la que debe contar el contratista (Ver: TERCERA. Num.3.2_x000D_ CUARTA. Núm.. 4.2.3 - OBE. 14)
A27: Encontrarse al día en el pago de honorarios, salarios y prestaciones de Ley con su personal y certificar el cumplimiento del pago de aportes al Sistema de Seguridad Social Integral y parafiscales de todo el personal que sea vinculado para la ejecución del contrato. | B27: CUARTA. Núm.. 4.1 - OBG. 5 y 6 NOVENA. Núm.. 9.4, Lit. e) CLAUSULA DECIMA QUINTA | C27: Administrativo - Financiera | D27: 4. Ejecución | E27: DATA TOOLS S.A - TRANSVERSAL | J27: =+H27-G27 -> 0 | K27: Requisitos pago | L27: En espera | M27: SI | N27: Para verificación se propone solicitar certificación periódica | P27: Supervisión - Financiera | Q27: Solicitar al contratista certificar esta condición de forma mensual
A28: Presentar para cada uno de los pagos un Informe Mensual de Gestión concreto y preciso, a más tardar dentro de los ocho (8) primeros días hábiles del mes siguiente al que se evalúa, y uno al finalizar la ejecución del contrato, a más tardar dentro de los quince (15) días hábiles siguientes a la misma. La estructura de los contenidos del Informe Mensual de Gestión será definida por la ADRES. La estructura del Informe Final, en principio, podrá ser la misma utilizada para la presentación del informe mensual, solo que consolidará la información de la totalidad del periodo de ejecución del contrato. | B28: CUARTA. Núm.. 4.1 - OBG. 8 CUARTA. Núm.. 4.2.3 - OBE. 19 | C28: Administrativo - Financiera | D28: 4. Ejecución | E28: DATA TOOLS S.A - TRANSVERSAL | J28: =+H28-G28 -> 0 | K28: Requisitos pago | L28: En espera | M28: SI | P28: Supervisión - Transversal | Q28: Se debe definir la estructura de los contenidos del Informe Mensual de Gestión será definida por la ADRES. | R28: TENER EN CUENTA ACTIVIDADES DEL EQUIPO DIRECTIVO E INCLUIRLO EN EL ESQUEMA DE INFORME DE GESTIÓN
A29: Guardar la debida reserva, cuidado y custodia de la información y/o de los soportes a los que se tenga acceso y/o le sean suministrados con ocasión del contrato y utilizarla exclusivamente para los fines de este. | B29: CUARTA. Núm.. 4.1 - OBE. 9 | C29: Seguridad de la información | D29: 4. Ejecución | E29: DATA TOOLS S.A - TRANSVERSAL | F29: N/A | G29: N/A | H29: N/A | I29: N/A | J29: N/A | K29: Según obligación | L29: En espera | M29: SI | P29: Supervisión - Jurídica
A30: Acta de inicio | B30: CUARTA. Núm.. 4.1 - OBG. 10 y 11 | C30: PERFECCIONAMIENTO CTO 227-20 | D30: 2. Inicio | E30: DATA TOOLS S.A - TRANSVERSAL | F30: 8. Suscripción del compromiso de confidencialidad | G30: 43998 | H30: 44005 | I30: =+H30 -> 44005 | J30: =+H30-G30 -> 7 | K30: Única vez | L30: Completo | M30: SI | N30: N/A | P30: Supervisión - Transversal
A31: Incluir en los contratos que celebre el contratista para la vinculación del Equipo de Trabajo del contrato, una cláusula de confidencialidad, en la cual, de manera expresa, se obligue al personal y contratistas a mantener la reserva y confidencialidad de toda la información que le sea suministrada, que administre o a la que tenga acceso en desarrollo del objeto contractual o de los servicios prestados, así como a abstenerse de utilizarla indebidamente | B31: CUARTA. Núm.. 4.1 - OBG. 11 CUARTA. Núm.. 4.2.3 - OBE. 15, Lit. d) DÉCIMA OCTAVA | C31: Administrativo - Inclusión de cláusula contractual | D31: 4. Ejecución | E31: DATA TOOLS S.A - TRANSVERSAL | F31: N/A | G31: 44005 | H31: 44029 | I31: =H31 -> 44029 | J31: =+H31-G31 -> 24 | K31: Acordada entre las partes | L31: En progreso | M31: SI | P31: Supervisión - Jurídica | Q31: Solicitar certificación de la cláusula de confidencialidad en los contratos suscritos con el personal y pedir evidencia por muestra y preguntar o proponer la adopción de mecanismos. ( Representante legal debe emitirla)
A32: Elaborar el mapa de riesgos y tratamiento del riesgo que contenga como mínimo los mecanismos, alertas y actividades que le permitirán identificar, controlar y mitigar los riesgos de fuga de la información confidencial y oficial que es inherente al proceso de revisión y verificación. Para lo anteriormente enunciado, deberá definirse de común acuerdo el esquema de medición que permita el monitoreo continuo, el cual hará parte del informe mensual de gestión. | B32: CUARTA. Núm.. 4.1 - OBG. 12 | C32: Administrativo - Inclusión de cláusula contractual | D32: 4. Ejecución | E32: DATA TOOLS S.A - TRANSVERSAL | F32: N/A | G32: 44005 | H32: 44029 | I32: =H32 -> 44029 | J32: =+H32-G32 -> 24 | K32: Acordada entre las partes | L32: En espera | M32: SI | P32: Supervisión - Transversal | Q32: Lili debería revisar la configuración de la nube contratada para garantizar la seguridad de la información. Por lo que entiendo esto sería realmente verificado al comienzo y en caso de que cambien de contratista (verifiquemos).
A33: Suministrar a la supervisión o interventoría del contrato la información que requiera para el ejercicio de su labor. | B33: CUARTA. Núm.. 4.1 - OBG. 16 | D33: 4. Ejecución | E33: DATA TOOLS S.A - TRANSVERSAL | F33: N/A | J33: =+H33-G33 -> 0 | K33: Ejecución continua | L33: En progreso | M33: SI | P33: Supervisión - Transversal | Q33: Incluir las fichas técnicas de los indicadores a evaluar para poder solicitar que consoliden semanalmente esta información.
A34: Aceptar y comprometerse a conocer los lineamientos establecidos por la ADRES en materia de procesos y procedimientos relacionados con el Sistema Integrado de Gestión Institucional – SIGI. Consecuencia de lo anterior, no podrá oponer en ningún caso el desconocimiento de algún proceso y/o procedimiento. El contratista se obliga a consultar cada uno de los procesos y/o procedimientos, en especial los referentes al proceso en el cual se va a ejecutar el objeto del contrato. | B34: CUARTA. Núm.. 4.1 - OBG. 17 | D34: 4. Ejecución | E34: ADRES & DATA TOOLS S.A. | F34: N/A | G34: 44005 | H34: 44029 | I34: =H34 -> 44029 | J34: =+H34-G34 -> 24 | K34: Acordada entre las partes | L34: En progreso | M34: SI | P34: Supervisión - Transversal | Q34: Precisar cuándo se hará, si requiere apoyo e indicar link para consultarlo
A35: Aceptar y comprometerse a dar pleno cumplimiento con las políticas de seguridad de la información y los lineamientos dados por la ADRES relacionados con el Sistema de Gestión de Seguridad de la Información y las políticas emanadas por el Ministerio de las Tecnologías de la Información y las Comunicaciones, en especial las relacionadas con el MSPI aplicado a la ADRES. Con la suscripción del contrato en SECOP II, el contratista se obliga a conocer el(los) documento(s) relacionados con esta obligación, y en consecuencia no podrá alegar el desconocimiento de las políticas, actividades, compromisos de que trata la presente obligación | B35: CUARTA. Núm.. 4.1 - OBG. 18 | D35: 4. Ejecución | E35: DATA TOOLS S.A - TECNOLOGÍA | F35: por definir | G35: 44018 | H35: 44029 | J35: =+H35-G35 -> 11 | K35: Ejecución continua | L35: En espera | M35: SI | P35: Supervisión - Tecnológica | Q35: Articularlo con la parte de teletrabajo y planes de continuidad. ¿cómo de evidencia? Podría verificarse a través de una reunión con un acta donde se discutan los documentos y se puedan hacer preguntas.
A36: Acta de inicio | B36: CUARTA. Núm.. 4.1 - OBG. 19 CUARTA.34 (ii DÉCIMA PRIMERA | C36: PERFECCIONAMIENTO CTO 227-20 | D36: 2. Inicio | E36: ADRES - TRANSVERSAL | F36: 2. Aprobación de póliza de garantía | G36: 43999 | H36: 43999 | I36: =+H36 -> 43999 | J36: =+H36-G36 -> 0 | K36: Única vez | L36: Completo | M36: NO | N36: N/A | O36: Cumple | P36: Supervisión - Transversal
A37: Aplicar las buenas prácticas ambientales, las políticas y directrices consagradas en la Política Nacional de Producción y Consumo Sostenible de Colombia y las herramientas establecidas en la Guía conceptual y metodológica de compras públicas sostenibles con el ambiente G-CPSMA-02, expedidas por Colombia Compra Eficiente. | B37: CUARTA. Núm.. 4.1 - OBG. 20 TRIGÉSIMA PRIMERA | D37: 4. Ejecución | E37: DATA TOOLS S.A - TECNOLOGÍA | F37: N/A | G37: 44018 | H37: 44029 | J37: =+H37-G37 -> 11 | K37: Acordada entre las partes | L37: En progreso | M37: SI | P37: Supervisión - Jurídica | Q37: Pedir certificación y definir forma de verificación ( Representante legal debe emitirla)
A38: Gestionar todas las comunicaciones por intermedio del supervisor y/o interventor del contrato y manifestar por escrito que conoce que, en todo caso, quien tiene la facultad para decidir cualquier cambio sobre las estipulaciones contenidas en el contrato, SECOP I – II y demás documentos físicos y/o electrónicos es el Ordenador del Gasto en materia contractual de la ADRES. | B38: CUARTA. Núm.. 4.1 - OBG. 22 | C38: Declaración | D38: 4. Ejecución | E38: DATA TOOLS S.A - TRANSVERSAL | F38: N/A | G38: 44018 | H38: 44029 | I38: N/A | J38: N/A | K38: Acordada entre las partes | L38: En espera | M38: SI | P38: Supervisión - Jurídica | R38: Solicitar el envío de el documento que contenga la declaración definida en la obligación
A39: Participar en las reuniones en las que sea requerida su asistencia ya sea por parte de la ADRES o el supervisor y/o interventor, evidenciando la reunión realizada mediante el levantamiento de una ayuda de memoria por parte del contratista y que deberá estar acompañado del listado de asistencia de la reunión. | B39: CUARTA. Núm.. 4.1 - OBG. 23 CUARTA. Núm.. 4.2.2 - OBEA. 2 | D39: 4. Ejecución | E39: DATA TOOLS S.A - TECNOLOGÍA | F39: N/A | J39: =+H39-G39 -> 0 | K39: Según obligación | L39: En progreso | M39: SI | P39: Supervisión - Transversal | R39: Solicitar ayudas y listados de asistencia
A40: Elaborar y presentar a la ADRES un protocolo de intercambio de información que de manera detallada describa los términos, condiciones, formatos, medios y procedimientos para garantizar una fluida, oportuna y correcta comunicación entre las partes. | B40: CUARTA. Núm.. 4.2.2 - OBEA. 1 | D40: 3. Ejecución - Alistamiento | E40: DATA TOOLS S.A - TRANSVERSAL | F40: N/A | G40: 44006 | H40: 44020 | I40: =+H40 -> 44020 | J40: =+H40-G40 -> 14 | K40: Única vez | L40: Completo | M40: SI | N40: Documento que de manera detallada describa los términos, condiciones, formatos, medios y procedimientos para garantizar una fluida, oportuna y correcta comunicación entre las partes. | P40: Supervisión - Tecnológica | Q40: Escribir parámetros de entrega de información para facilitar la comunicación | R40: El contratista remitió este documento el 09-07-2020 por correo electrónico "RE: METODOLOGÍA DE EVALUACIÓN, PROTOCOLO DE INTERCAMBIO DE INFORMACIÓN Y PAQUETE APF-S02-0620"
A41: Concluir las adaptaciones y mejoras en su infraestructura operativa y tecnológica para garantizar el inicio de la operación. | B41: CUARTA. Núm.. 4.2.2 - OBEA. 3 | D41: 3. Ejecución - Alistamiento | E41: DATA TOOLS S.A - TRANSVERSAL | F41: N/A | G41: 44021 | H41: 44035 | I41: =+H41 -> 44035 | J41: =+H41-G41 -> 14 | K41: Única vez | L41: En progreso | M41: SI | N41: N/A | P41: Supervisión - Tecnológica | Q41: Establecer manera de seguimiento y periodicidades | R41: Se realizó visita el 07-07-2020 y se verificó el estado de esta obligación. Sin embargo se encuentra pendiente la recepción de las evidencias presentadas, las cuales debieron entregarse junto con la ayuda de memoria generada.
A42: Efectuar las revisiones y verificaciones de los servicios y tecnologías no financiados con cargo a la UPC de acuerdo con el cronograma establecido por la ADRES y acreditar los estándares de calidad establecidos. | B42: CUARTA. Núm.. 4.2.2 - OBEA. 5 | D42: 3. Ejecución - Alistamiento | E42: DATA TOOLS S.A - REVISIÓN NO UPC | F42: Auditoría de paquetes APF | J42: =+H42-G42 -> 0 | K42: Única vez | L42: En progreso | M42: SI | N42: De acuerdo con el cronograma establecido por la ADRES y acreditar los estándares de calidad establecidos. | P42: Supervisión - Técnico | Q42: Solicitar cronograma y determinar la volumetría de los paquetes entregados en el alistamiento, para la ejecución
A43: Demás actividades solicitadas por la ADRES | B43: CUARTA. Núm.. 4.2.2 - OBEA. 6 | D43: 3. Ejecución - Alistamiento | E43: DATA TOOLS S.A - TRANSVERSAL | F43: N/A | J43: =+H43-G43 -> 0 | K43: Acordada entre las partes | L43: Completo | M43: SI | N43: A demanda. Que la ADRES le solicite para efectos de revisar y verificar los servicios y tecnologías en salud que se le asignen y cumplir con los estándares de calidad establecidos. | P43: Supervisión - Transversal
A44: Acta de inicio - Plan de Trabajo para la ejecución del contrato (PDT). Se debe actualizar. | B44: CUARTA. Núm.. 4.2.3 - OBE. 1 | C44: PDT | D44: 4. Ejecución | E44: ADRES - TRANSVERSAL | F44: 7. Entregar plan de trabajo para la ejecución del contrato | G44: 43998 | H44: 44005 | I44: =+H44 -> 44005 | J44: =+H44-G44 -> 7 | K44: Según obligación | L44: En progreso | M44: SI | N44: Establecido en la obligación específica número 1 del numeral 4.2.3 del presente contrato. Dicho documento deberá contener las actividades generales que proyecta ejecutar durante el plazo del contrato y los recursos humanos, físicos, técnicos y tecnológicos que prevé emplear. Este plan de trabajo deberá ser aprobado por el supervisor y/o interventor del contrato. El contratista asegurará la actualización oportuna del plan de trabajo y lo mantendrá a disposición del supervisor | O44: En progreso | P44: Supervisión - Transversal | Q44: Revisar, observar aprobar y estar pendiente de la actualización oportuna
A45: Transcribir o capturar los datos que le indique la ADRES de los soportes entregados por las entidades recobrantes, contrastarlos contra la información registrada en los medios magnéticos entregados por las entidades recobrantes, generar un reporte con la información transcrita o capturada consistente y certificar los resultados de estas actividades | B45: CUARTA. Núm.. 4.2.3 - OBE. 2 y 17 | D45: 4. Ejecución | E45: DATA TOOLS S.A - TECNOLOGÍA | F45: N/A | J45: =+H45-G45 -> 0 | K45: Acordada entre las partes | L45: En espera | M45: SI | P45: Supervisión - Técnico | Q45: Establecer manera de seguimiento y forma de verificación
A46: Efectuar la revisión y verificación de los requisitos que deben cumplir los servicios y tecnologías en salud no financiadas con la UPC que le sean entregadas por la ADRES, conforme con la normatividad vigente y aplicable, el Manual Operativo y de Auditoría y las especificaciones técnicas definidas por la ADRES. En caso de ser requerido por la ADRES, el contratista contactará a los agentes intervinientes en los procesos de prescripción, direccionamiento, prestación, suministro y facturación de los servicios y tecnologías en salud objeto del proceso de revisión y verificación. Se debe garantizar consistencia, unicidad y coherencia en la aplicación de los criterios de auditoría, en las glosas y validaciones descritas en el Manual Operativo y de Auditoría. | B46: CUARTA. Núm.. 4.2.3 - OBE. 3, 4, 5 y 10 | D46: 4. Ejecución | E46: DATA TOOLS S.A - REVISIÓN NO UPC | J46: =+H46-G46 -> 0 | K46: Según obligación | L46: En espera | M46: SI | N46: Se compagina con la CLÁUSULA QUINTA - OBLIGACIONES DE LA ADRES 5.2, OBLE 1 | P46: Supervisión - Técnico
A47: Certificar, conforme lo defina la ADRES, los resultados del proceso de revisión y verificación efectuada a los servicios y tecnologías en salud no financiadas con la UPC que le sean entregados. | B47: CUARTA. Núm.. 4.2.2 - OBEA. 6 CUARTA. Núm.. 4.2.3 - OBE. 6 y 11 | D47: 4. Ejecución | E47: DATA TOOLS S.A - REVISIÓN NO UPC | J47: =+H47-G47 -> 0 | K47: Acordada entre las partes | L47: En espera | M47: SI | P47: Supervisión - Técnico | Q47: Solicitar precisar si el aval lo da la supervisión o calidad (OBE 1) Revisión de la certificación de cada paquete procesado por el contratista debe contener como mínimo: i) valor y cantidad total auditada; ii) valor y cantidad aprobada; iii) principales causales de glosa.
A48: Suministrar la información o apoyo requerido por la ADRES para la atención de acciones judiciales o requerimientos formulados por los organismos de control y otros actores del sistema de salud. | B48: CUARTA. Núm.. 4.2.3 - OBE. 7 | D48: 4. Ejecución | E48: DATA TOOLS S.A - JURÍDICA | J48: =+H48-G48 -> 0 | K48: Acordada entre las partes | L48: En espera | M48: SI | P48: Supervisión - Jurídica
A49: Informar de acuerdo con las instrucciones impartidas por la ADRES los resultados del proceso de revisión y verificación a las entidades recobrantes y revisar la retroalimentación que para el efecto estas realicen. | B49: CUARTA. Núm.. 4.2.3 - OBE. 8 | D49: 4. Ejecución | E49: DATA TOOLS S.A - REVISIÓN NO UPC | J49: =+H49-G49 -> 0 | K49: Acordada entre las partes | L49: En espera | M49: SI | P49: Supervisión - Técnico | Q49: Establecer el cómo y los medios a través de los cuales se surte
A50: Diseñar un tablero de control mediante el cual realice seguimiento al cumplimiento de los cronogramas de trabajo establecidos por la ADRES y que permita evidenciar el progreso diario y semanal de la ejecución de las labores contratadas. | B50: CUARTA. Núm.. 4.2.3 - OBE. 8 | C50: Tablero de control y reportes de información | D50: 4. Ejecución | E50: DATA TOOLS S.A - REVISIÓN NO UPC | G50: 44018 | H50: 44029 | I50: =H50 -> 44029 | K50: Acordada entre las partes | L50: En espera | M50: SI | P50: Supervisión - Transversal | Q50: Establecer cómo se cumplirá esta parte de la obligación y ayudar para su realización. (La Dirección General definirá los indicadores claves del proceso que deberá generar el contratista. Las direcciones de tecnología deben garantizar la puesta en marcha de la actualización periódica del mismo.) | R50: Javier
...

Sheet Condicionales 
A1: FESTIVOS CO | B1: FRECUENCIA DE EVALUACIÓN | C1: COMPETENCIA SUPERVISOR | D1: SEMÁFOROS | E1: FASE | F1: PARTES | K1: Supervisores | L1: Competencias | M1: Competencias | N1: Periodo de supervisión
A2: 44004 | B2: Única vez | C2: Supervisión - Tecnológica | D2: Cumple | E2: 1. Suscripción | F2: DATA TOOLS S.A - CONTROL INTERNO | K2: Laura Contreras | L2: Transversal | M2: 43999 | N2: =TODAY() -> 44035
A3: 44011 | B3: Diaria | C3: Supervisión - Jurídica | D3: En progreso | E3: 2. Inicio | F3: DATA TOOLS S.A - JURÍDICA | K3: Daniela Zuluaga | L3: Transversal | M3: 44000 | N3: =TODAY() -> 44035
A4: 44032 | B4: Semanal | C4: Supervisión - Tecnico | D4: Cumple parcial | E4: 3. Ejecución - Alistamiento | F4: DATA TOOLS S.A - REVISIÓN NO UPC | K4: Germán Sánchez | L4: Transversal | M4: 44000 | N4: =TODAY() -> 44035
B5: Mensual | C5: Supervisión - Financiera | D5: No Cumple | E5: 4. Ejecución | F5: DATA TOOLS S.A - TECNOLOGÍA | K5: Julio González | L5: Técnico | M5: 44000 | N5: =TODAY() -> 44035
B6: Finalizado el CTO | C6: Supervisión - Transversal | D6: No imputable al contratista | E6: 5. Liquidación | F6: DATA TOOLS S.A - TRANSVERSAL | K6: Fabio Rojas | L6: Jurídico | M6: 44000 | N6: =TODAY() -> 44035
B7: Según obligación | F7: ADRES - DOP | K7: Lilia Castellanos | L7: Técnico | M7: 44000 | N7: =TODAY() -> 44035
B8: Requisitos pago | F8: ADRES - OAJ | K8: Juavier Muñoz | L8: Tecnológico | M8: 43999 | N8: =TODAY() -> 44035
B9: No definida en el CTO | F9: ADRES - TRANSVERSAL | K9: Yuli Gómez | L9: Financiera | M9: 44000 | N9: =TODAY() -> 44035
B10: Acordada entre las partes | F10: ADRES - TECNOLOGÍA
B11: Ejecución continua | F11: ADRES & DATA TOOLS S.A.
F12: N/A | G12: VARIABLES
A13: RESPUESTAS | G13: DICOTÒMICA | H13: VALOR DE 1 SI CUMPLE 0 NO CUMPLE LA CONDICIÒN
A14: SI | B14: Completo | G14: ORDINALES | H14: 1MALO/ 2 REGULAR / 3 BUENO …
A15: NO | B15: En progreso | G15: CONTINUAS | H15: VALOR PARA LOS CUANTITATIVOS | I15: PUEDO EVALUAR EN RANGOS
B16: En espera
B17: Inició
B18: Incompleto
E19: CALIDAD / CANTIDAD / OPORTUNIDAD
E20: CANTIDAD
E21: OPORTUNIDAD
A22: MARCAS EN PDF | B22: AMARILLO | C22: Marcación de incluido o mapeado en la matriz (primera parte del ejercicio para clasificar) | D22: No dice nada
B23: ROSADO | C23: Incluido en matriz pendiente desarrollar o revisar
B24: MORADO | C24: Pendiente por incluir en la matriz - para discutir
B25: VERDE | C25: Producto o servicio cumplido
B26: AZUL | C26: Incluido en otras obligaciones del contrato o no se evalua por ser cualitativa u obedecer a principios que comprenden aspectos morales y éticos | D26: Sin peso propio
E28: MISIONAL | F28: MISIONAL PRINCIPAL MEDIA
B29: CUANTITATIVO | C29: SI | E29: TRANSVERSAL | F29: MISIONAL DERIVADA O DE APOYO
B30: CUALITATIVO | C30: NO | E30: N/A | F30: TRANSVERSAL
B31: VACÍO | C31: SOLO SI SE REQUIERE | F31: N/A
B32: N/A | F32: MISIONAL PRINCIPAL ALTA
F33: MISIONAL PRINCIPAL BAJA
C36: obl | D36: 50
C37: cumplio | D37: 20 | E37: =+D37/D36 -> 0.4 | F37: =+E37*80% -> 0.32
C38: no cumpliò | D38: 30
D45: ANS | E45: CUARTA | F45: 4.2.2 | G45: 5
E46: CUARTA | F46: 4.2.3 | G46: 3
E47: CUARTA | F47: 4.2.3 | G47: 4
E48: CUARTA | F48: 4.2.3 | G48: 10

Sheet OBL. CONTRATO 
A1: ORDEN | B1: CLÁUSULA | C1: Núm. | D1: OBL | E1: Contenido OBL | F1: Consolidación | G1: CUANTIFICABLE/ CUALITATIVO | H1: Forma de medición o entregable | I1: CRITERIO | J1: MEDICIÓN | K1: OBSERVACIÓN | L1: ¿Debe revisarse nuevamente? | M1: Clasificación | N1: Subclasificación | O1: Puntaje General | P1: Puntaje Específico | Q1: ¿aplica ANS? | R1: Resultado Alistamiento | S1: Resultado Jul 2020 | T1: Resultado Ago. 2020 | U1: Resultado Sep. 2020 | V1: Resultado Oct 2020 | W1: Resultado Nov2020 | X1: Resultado Dic 2020 | Y1: Resultado Final | Z1: Promedio ponderado | AA1: Supervisión
A2: 1 | B2: CUARTA | C2: 4.1 | D2: 1 | E2: Suscribir el acta de inicio dentro de los cinco (5) días siguientes a la celebración del contrato. Para la suscripción del acta de inicio el contratista deberá contar con: i) Aprobación de las garantías otorgadas por parte de la ADRES, ii) Aprobación de las hojas de vida del equipo directivo con el que se ejecutará el contrato, iii) Evidenciar el trámite para la instalación y puesta en operación del canal dedicado de comunicaciones, iv) Demostrar que dispone de una sede de operaciones y entregar el plan de trabajo para la ejecución del contrato establecido en la obligación específica número 1 del numeral 4.2.3 del presente contrato. | F2: CUARTA. Núm.. 4.1 - OBG. 1, 19 CUARTA.34, (i), (ii) y (iii) DÉCIMA PRIMERA CLAUSULA DECIMA QUINTA | G2: CUALITATIVO | H2: Acta de inicio | I2: Entregado | J2: 1 | K2: Acta de inicio suscrita el 23/06/2020, publicada en el SECOP II | L2: NO | M2: TRANSVERSAL | N2: TRANSVERSAL | O2: =+IF(M2="TRANSVERSAL ","20%",IF(M2="MISIONAL ","80%","0%")) -> 20% | P2: =+VLOOKUP(_xlfn.CONCAT(M2,N2),DINÁMICA!$H$5:$K$11,4,0) -> 0.008 | Q2: No | R2: N/A | AA2: =AA18 -> Supervisión - Transversal
A3: 2 | B3: CUARTA | C3: 4.1 | D3: 2 | E3: Cumplir con el objeto del contrato de acuerdo con las condiciones jurídicas, técnicas y financieras del mismo y demás normas aplicables vigentes. | F3: Se consolida en la totalidad del contenido obligacional | G3: VACÍO | H3: N/A | I3: N/A | J3: N/A | K3: se verifica en todas las obligaciones del contrato | L3: SOLO SI SE REQUIERE | M3: N/A | N3: N/A | O3: =+IF(M3="TRANSVERSAL ","20%",IF(M3="MISIONAL ","80%","0%")) -> 0% | P3: =+VLOOKUP(_xlfn.CONCAT(M3,N3),DINÁMICA!$H$5:$K$11,4,0) -> 0 | Q3: No | R3: N/A | AA3: =AA18 -> Supervisión - Transversal
A4: 3 | B4: CUARTA | C4: 4.1 | D4: 3 | E4: Realizar las labores contratadas en forma independiente, bajo su propio riesgo y responsabilidad, con sujeción a la normativa vigente y las especificaciones técnicas definidas por la ADRES, sin que ello implique exclusividad, salvo en los eventos en que otras actividades similares o relacionadas con el objeto del contrato impliquen conflictos de interés. | F4: Independencia | G4: VACÍO | H4: N/A | I4: N/A | J4: N/A | K4: Mientras no surjan alertas, se presume el cumplimiento. | L4: SOLO SI SE REQUIERE | M4: N/A | N4: N/A | O4: =+IF(M4="TRANSVERSAL ","20%",IF(M4="MISIONAL ","80%","0%")) -> 0% | P4: =+VLOOKUP(_xlfn.CONCAT(M4,N4),DINÁMICA!$H$5:$K$11,4,0) -> 0 | Q4: No | R4: N/A | AA4: =AA18 -> Supervisión - Transversal
A5: 4 | B5: CUARTA | C5: 4.1 | D5: 4 | E5: Contar con el personal suficiente que le permita cumplir con el objeto contractual en condiciones de calidad y oportunidad. | F5: CUARTA. Núm.. 4.2.2 - OBEA. 4 CUARTA. Núm.. 4.1 - OBG. 4 | G5: CUALITATIVO | H5: Certificación del número de número y la cualificación de personas contratadas por el contratista para el desarrollo de cada subproceso, en el marco de las tres líneas de acción definidas con la ADRES. | I5: Cumple/No Cumple | J5: 1 | L5: SI | M5: TRANSVERSAL | N5: TRANSVERSAL | O5: =+IF(M5="TRANSVERSAL ","20%",IF(M5="MISIONAL ","80%","0%")) -> 20% | P5: =+VLOOKUP(_xlfn.CONCAT(M5,N5),DINÁMICA!$H$5:$K$11,4,0) -> 0.008 | Q5: No | R5: N/A | AA5: =VLOOKUP(F5,'Seguimiento General '!$B$15:$P$65,15,FALSE) -> Supervisión - Jurídica
A6: 5 | B6: CUARTA | C6: 4.1 | D6: 5 | E6: Cumplir con las disposiciones sobre contratación de personal colombiano y extranjero que efectúe en el marco de la ejecución del contrato y pagar por su cuenta todos los honorarios, salarios y prestaciones de Ley, de ser el caso, y/o realizar de forma oportuna los pagos o desembolsos dispuestos a favor de su personal en la forma y condiciones convenidas. | F6: CUARTA. Núm.. 4.1 - OBG. 5 y 6 NOVENA. Núm.. 9.4, Lit. e) CLAUSULA DECIMA QUINTA | G6: CUANTITATIVO | H6: ((Cantidad de certificaciones de pago de salarios, honorarios y prestaciones de ley/8)*(Cantidad de certificaciones de pago de salarios, honorarios y prestaciones de ley en oportunidad/8)) | I6: 1 | J6: 1 | K6: El 8 obedece a la cantidad de informes a presentar durante la ejecuciòn del contrato. Para el periodo a evaluar este indicador corresponderá a 1 | M6: TRANSVERSAL | N6: TRANSVERSAL | O6: =+IF(M6="TRANSVERSAL ","20%",IF(M6="MISIONAL ","80%","0%")) -> 20% | P6: =+VLOOKUP(_xlfn.CONCAT(M6,N6),DINÁMICA!$H$5:$K$11,4,0) -> 0.008 | Q6: No | R6: N/A | AA6: =VLOOKUP(F6,'Seguimiento General '!$B$15:$P$65,15,FALSE) -> Supervisión - Financiera
A7: 6 | B7: CUARTA | C7: 4.1 | D7: 6 | E7: Realizar y/o verificar de forma cumplida el pago de aportes al Sistema de Seguridad Social Integral y parafiscales de todo el personal que sea vinculado para la ejecución del contrato. | F7: CUARTA. Núm.. 4.1 - OBG. 5 y 6 NOVENA. Núm.. 9.4, Lit. e) CLAUSULA DECIMA QUINTA | G7: VACÍO | H7: N/A | I7: N/A | J7: N/A | K7: Se verifica en la obligación 4.1.5 | M7: N/A | N7: N/A | O7: =+IF(M7="TRANSVERSAL ","20%",IF(M7="MISIONAL ","80%","0%")) -> 0% | P7: =+VLOOKUP(_xlfn.CONCAT(M7,N7),DINÁMICA!$H$5:$K$11,4,0) -> 0 | Q7: No | R7: N/A | AA7: =VLOOKUP(F7,'Seguimiento General '!$B$15:$P$65,15,FALSE) -> Supervisión - Financiera
A8: 7 | B8: CUARTA | C8: 4.1 | D8: 7 | E8: Responder por cualquier tipo de reclamación, judicial o extrajudicial, que instaure, impulse o en la que coadyuve el personal o subcontratistas contra la ADRES, por causa o con ocasión del contrato. | F8: Responsabilidad | G8: VACÍO | H8: N/A | I8: N/A | J8: N/A | K8: Se activa cuando se requiera | L8: SOLO SI SE REQUIERE | M8: N/A | N8: N/A | O8: =+IF(M8="TRANSVERSAL ","20%",IF(M8="MISIONAL ","80%","0%")) -> 0% | P8: =+VLOOKUP(_xlfn.CONCAT(M8,N8),DINÁMICA!$H$5:$K$11,4,0) -> 0 | Q8: No | R8: N/A | AA8: =AA10 -> Supervisión - Jurídica
A9: 8 | B9: CUARTA | C9: 4.1 | D9: 8 | E9: Presentar para cada uno de los pagos informe correspondiente al avance del contrato, concreto y preciso, anexando el pago de aportes al Sistema de Seguridad Social Integral y parafiscales del período correspondiente. | F9: CUARTA. Núm.. 4.1 - OBG. 8 CUARTA. Núm.. 4.2.3 - OBE. 19 | G9: VACÍO | H9: N/A | I9: N/A | J9: N/A | K9: Se evalúa en la obligación específica 19 | L9: NO | M9: N/A | N9: N/A | O9: =+IF(M9="TRANSVERSAL ","20%",IF(M9="MISIONAL ","80%","0%")) -> 0% | P9: =+VLOOKUP(_xlfn.CONCAT(M9,N9),DINÁMICA!$H$5:$K$11,4,0) -> 0 | Q9: No | R9: N/A | AA9: =VLOOKUP(F9,'Seguimiento General '!$B$15:$P$65,15,FALSE) -> Supervisión - Transversal
A10: 9 | B10: CUARTA | C10: 4.1 | D10: 9 | E10: Guardar la debida reserva, cuidado y custodia de la información y/o de los soportes a los que se tenga acceso y/o le sean suministrados con ocasión del contrato y utilizarla exclusivamente para los fines de este. | F10: CUARTA. Núm.. 4.1 - OBE. 9 | G10: CUALITATIVO | H10: Documento mediante el cual manifieste conocer, adoptar e implementar las políticas de seguridad y privacidad de la información de la ADRES | I10: Cumple/No Cumple | J10: 1 | K10: https://www.adres.gov.co/Portals/0/manuales/2020/Pol%C3%ADticas%20de%20Seguridad/[FINAL]%20PGSPI%20V2.0.pdf?ver=2020-05-27-144455-580 https://www.adres.gov.co/Portals/0/manuales/2020/Pol%C3%ADticas%20de%20Seguridad/[FINAL]%20Man%20PESPI%20V2.0.pdf?ver=2020-05-27-144455-607 | L10: SOLO SI SE REQUIERE | M10: TRANSVERSAL | N10: TRANSVERSAL | O10: =+IF(M10="TRANSVERSAL ","20%",IF(M10="MISIONAL ","80%","0%")) -> 20% | P10: =+VLOOKUP(_xlfn.CONCAT(M10,N10),DINÁMICA!$H$5:$K$11,4,0) -> 0.008 | Q10: No | R10: N/A | AA10: =VLOOKUP(F10,'Seguimiento General '!$B$15:$P$65,15,FALSE) -> Supervisión - Jurídica
A11: 10 | B11: CUARTA | C11: 4.1 | D11: 10 | E11: Suscribir, junto con el acta de inicio, el documento Compromiso de Confidencialidad y Reserva de manejo de la Información que suministre la ADRES. | F11: CUARTA. Núm.. 4.1 - OBG. 10 y 11 | G11: CUALITATIVO | H11: Documento de confidencialidad suscrito | I11: Cumple/No Cumple | J11: 1 | K11: El entregable se suscribió y entregó junto con el acta de inicio del 23 de junio de 2020 | L11: NO | M11: TRANSVERSAL | N11: TRANSVERSAL | O11: =+IF(M11="TRANSVERSAL ","20%",IF(M11="MISIONAL ","80%","0%")) -> 20% | P11: =+VLOOKUP(_xlfn.CONCAT(M11,N11),DINÁMICA!$H$5:$K$11,4,0) -> 0.008 | Q11: No | R11: N/A | AA11: =VLOOKUP(F11,'Seguimiento General '!$B$15:$P$65,15,FALSE) -> Supervisión - Transversal
A12: 11 | B12: CUARTA | C12: 4.1 | D12: 11 | E12: No revelar, publicar o dar a conocer, total o parcialmente información, a ninguna persona aparte de sus empleados, contratistas, consultores o afiliados que específicamente necesiten conocerla para poder desarrollar el objeto contractual, por lo que se compromete a: (i) Utilizar dicha información de forma reservada. (ii). Impedir la copia o revelación de esa información a terceros, salvo que gocen de aprobación escrita de la ADRES, y únicamente en términos de tal aprobación. (iii) No utilizar la información o fragmentos de esta para fines distintos de la ejecución de este contrato. Dar uso distinto a la información establecida en el contrato y en el presente estudio previo, así como la revelación de la información confidencial, dará lugar a tomar las respectivas medidas legales. | F12: CUARTA. Núm.. 4.1 - OBG. 11 CUARTA. Núm.. 4.2.3 - OBE. 15, Lit. d) DÉCIMA OCTAVA | G12: VACÍO | H12: N/A | I12: N/A | J12: N/A | K12: Se evalúa en otras obligaciones | L12: NO | M12: N/A | N12: N/A | O12: =+IF(M12="TRANSVERSAL ","20%",IF(M12="MISIONAL ","80%","0%")) -> 0% | P12: =+VLOOKUP(_xlfn.CONCAT(M12,N12),DINÁMICA!$H$5:$K$11,4,0) -> 0 | Q12: No | R12: N/A | AA12: =VLOOKUP(F12,'Seguimiento General '!$B$15:$P$65,15,FALSE) -> Supervisión - Jurídica
A13: 12 | B13: CUARTA | C13: 4.1 | D13: 12 | E13: Elaborar el mapa de riesgos y tratamiento del riesgo que contenga como mínimo los mecanismos, alertas y actividades que le permitirán identificar, controlar y mitigar los riesgos de fuga de la información confidencial y oficial que es inherente al proceso de revisión y verificación. Para lo anteriormente enunciado, deberá definirse de común acuerdo el esquema de medición que permita el monitoreo continuo, el cual hará parte del informe mensual de gestión. | F13: CUARTA. Núm.. 4.1 - OBG. 12 | G13: CUANTITATIVO | H13: ((Presentar el mapa de riesgos asociados a la fuga de información confidencial y oficial y su tratamiento *20%) + ((Evidencia mensual del monitoreo continúo realizado por la Dirección de Control Interno del contratista/6)*80%) | I13: Resultado del indicador según metodología | J13: 1 | K13: Sin excepción, durante la ejecución del contrato, la matriz de riesgos asociados a la fuga de información confidencial y oficial, debe permitir el monitoreo continuo, cuyos resultados deberán hacer parte del informe mensual de gestión. El número 6 que se presenta en el denominador obedece a la cantidad de informes mensuales de ejecución. Por lo tanto para la medición de un solo periodo, este se sustituye por el número 1 | L13: SI | M13: TRANSVERSAL | N13: TRANSVERSAL | O13: =+IF(M13="TRANSVERSAL ","20%",IF(M13="MISIONAL ","80%","0%")) -> 20% | P13: =+VLOOKUP(_xlfn.CONCAT(M13,N13),DINÁMICA!$H$5:$K$11,4,0) -> 0.008 | Q13: No | R13: N/A | AA13: =VLOOKUP(F13,'Seguimiento General '!$B$15:$P$65,15,FALSE) -> Supervisión - Transversal
A14: 13 | B14: CUARTA | C14: 4.1 | D14: 13 | E14: Indemnizar y/o asumir todo daño que se cause a terceros, a bienes propios o de terceros, o al personal contratado para la ejecución del contrato, por causa o con ocasión del desarrollo de este. | F14: Responsabilidad | G14: VACÍO | H14: N/A | I14: N/A | J14: N/A | K14: Se activa cuando se requiera | L14: SOLO SI SE REQUIERE | M14: N/A | N14: N/A | O14: =+IF(M14="TRANSVERSAL ","20%",IF(M14="MISIONAL ","80%","0%")) -> 0% | P14: =+VLOOKUP(_xlfn.CONCAT(M14,N14),DINÁMICA!$H$5:$K$11,4,0) -> 0 | Q14: No | R14: N/A | AA14: =AA8 -> Supervisión - Jurídica
A15: 14 | B15: CUARTA | C15: 4.1 | D15: 14 | E15: Obrar con lealtad y buena fe durante la ejecución del contrato, evitando dilaciones injustificadas. | F15: Buena fe | G15: VACÍO | H15: N/A | I15: N/A | J15: N/A | K15: Se presume la buena fe | L15: NO | M15: N/A | N15: N/A | O15: =+IF(M15="TRANSVERSAL ","20%",IF(M15="MISIONAL ","80%","0%")) -> 0% | P15: =+VLOOKUP(_xlfn.CONCAT(M15,N15),DINÁMICA!$H$5:$K$11,4,0) -> 0 | Q15: No | R15: N/A | AA15: =AA14 -> Supervisión - Jurídica
A16: 15 | B16: CUARTA | C16: 4.1 | D16: 15 | E16: Reportar cualquier novedad o anomalía que se presente dentro de la ejecución del contrato a quien efectúe la supervisión y/o interventoría de este. | F16: Responsabilidad | G16: CUALITATIVO | H16: Certificación suscrita por el Gerente General del proyecto, en la que consten las anomalías presentadas para el periodo de reporte y su informe al supervisor. | I16: Cumple/No cumple | J16: 1 | K16: Se activa cuando se requiera | L16: SI | M16: TRANSVERSAL | N16: TRANSVERSAL | O16: =+IF(M16="TRANSVERSAL ","20%",IF(M16="MISIONAL ","80%","0%")) -> 20% | P16: =+VLOOKUP(_xlfn.CONCAT(M16,N16),DINÁMICA!$H$5:$K$11,4,0) -> 0.008 | Q16: No | R16: N/A | AA16: =AA15 -> Supervisión - Jurídica
A17: 16 | B17: CUARTA | C17: 4.1 | D17: 16 | E17: Suministrar a la supervisión o interventoría del contrato la información que requiera para el ejercicio de su labor. | F17: CUARTA. Núm.. 4.1 - OBG. 16 | G17: CUANTITATIVO | H17: Número de información entregada / número de información requerida | I17: 1 | M17: TRANSVERSAL | N17: TRANSVERSAL | O17: =+IF(M17="TRANSVERSAL ","20%",IF(M17="MISIONAL ","80%","0%")) -> 20% | P17: =+VLOOKUP(_xlfn.CONCAT(M17,N17),DINÁMICA!$H$5:$K$11,4,0) -> 0.008 | Q17: No | R17: N/A | AA17: =VLOOKUP(F17,'Seguimiento General '!$B$15:$P$65,15,FALSE) -> Supervisión - Transversal
A18: 17 | B18: CUARTA | C18: 4.1 | D18: 17 | E18: Aceptar y comprometerse a conocer los lineamientos establecidos por la ADRES en materia de procesos y procedimientos relacionados con el Sistema Integrado de Gestión Institucional – SIGI. Consecuencia de lo anterior, no podrá oponer en ningún caso el desconocimiento de algún proceso y/o procedimiento. El contratista se obliga a consultar cada uno de los procesos y/o procedimientos, en especial los referentes al proceso en el cual se va a ejecutar el objeto del contrato. | F18: CUARTA. Núm.. 4.1 - OBG. 17 | G18: CUALITATIVO | H18: Certificación emitida por la Gerente del Proyecto, en la que se acredite el compromiso relacionado con los lineamientos en materia de procesos y procedimientos del Sistema Integrado de Gestión Institucional – SIGI | I18: Certificación procesos y procedimientos del Sistema Integrado de Gestión Institucional – SIGI | J18: 1 | M18: TRANSVERSAL | N18: TRANSVERSAL | O18: =+IF(M18="TRANSVERSAL ","20%",IF(M18="MISIONAL ","80%","0%")) -> 20% | P18: =+VLOOKUP(_xlfn.CONCAT(M18,N18),DINÁMICA!$H$5:$K$11,4,0) -> 0.008 | Q18: No | R18: N/A | AA18: =VLOOKUP(F18,'Seguimiento General '!$B$15:$P$65,15,FALSE) -> Supervisión - Transversal
A19: 18 | B19: CUARTA | C19: 4.1 | D19: 18 | E19: Aceptar y comprometerse a dar pleno cumplimiento con las políticas de seguridad de la información y los lineamientos dados por la ADRES relacionados con el Sistema de Gestión de Seguridad de la Información y las políticas emanadas por el Ministerio de las Tecnologías de la Información y las Comunicaciones, en especial las relacionadas con el MSPI aplicado a la ADRES. Con la suscripción del contrato en SECOP II, el contratista se obliga a conocer el(los) documento(s) relacionados con esta obligación, y en consecuencia no podrá alegar el desconocimiento de las políticas, actividades, compromisos de que trata la presente obligación | F19: CUARTA. Núm.. 4.1 - OBG. 18 | G19: CUALITATIVO | H19: Certificación del Director de Tecnología del contratista donde Acepta y se compromete a dar pleno cumplimiento con las políticas de seguridad de la información | I19: Cumple | J19: 1 | M19: TRANSVERSAL | N19: TRANSVERSAL | O19: =+IF(M19="TRANSVERSAL ","20%",IF(M19="MISIONAL ","80%","0%")) -> 20% | P19: =+VLOOKUP(_xlfn.CONCAT(M19,N19),DINÁMICA!$H$5:$K$11,4,0) -> 0.008 | Q19: No | R19: N/A | AA19: =VLOOKUP(F19,'Seguimiento General '!$B$15:$P$65,15,FALSE) -> Supervisión - Tecnológica
A20: 19 | B20: CUARTA | C20: 4.1 | D20: 19 | E20: Constituir la garantía a favor de la ADRES en los términos establecidos en este documento y mantenerla vigente durante el periodo de cada amparo, por los valores y con los amparos previstos en el mismo. Se obliga a presentarla dentro de los tres (3) días hábiles siguientes a la firma de contrato. | F20: CUARTA. Núm.. 4.1 - OBG. 19 CUARTA.34 (ii DÉCIMA PRIMERA | G20: CUALITATIVO | H20: Poliza_10_NB-100131549_0- de Mundial de Seguros | I20: Cumple/No Cumple | J20: 1 | K20: Garantía aprobada por el grupo interno de gestión contractual de la ADRES, el 17 de junio de 2020 y se encuentra publicada en el SECOP II | L20: SOLO SI SE REQUIERE | M20: TRANSVERSAL | N20: TRANSVERSAL | O20: =+IF(M20="TRANSVERSAL ","20%",IF(M20="MISIONAL ","80%","0%")) -> 20% | P20: =+VLOOKUP(_xlfn.CONCAT(M20,N20),DINÁMICA!$H$5:$K$11,4,0) -> 0.008 | Q20: No | R20: N/A | AA20: =VLOOKUP(F20,'Seguimiento General '!$B$15:$P$65,15,FALSE) -> Supervisión - Transversal
A21: 20 | B21: CUARTA | C21: 4.1 | D21: 20 | E21: Aplicar las buenas prácticas ambientales, las políticas y directrices consagradas en la Política Nacional de Producción y Consumo Sostenible de Colombia y las herramientas establecidas en la Guía conceptual y metodológica de compras públicas sostenibles con el ambiente G-CPSMA-02, expedidas por Colombia Compra Eficiente. | F21: CUARTA. Núm.. 4.1 - OBG. 20 TRIGÉSIMA PRIMERA | G21: CUALITATIVO | H21: Certificación suscrita por el Representante Legal en la que se acredite el cumplimiento de las buenas prácticas ambientales / herramientas de análisis costo-beneficio del Ministerio de Ambiente y Desarrollo Sostenible para insumos de oficina, servicios generales y equipos eléctricos | I21: Cumple/No Cumple | J21: 1 | K21: Es necesario establecer la periodicidad de entrega de las verificaciones durante la ejecución del contrato | L21: SI | M21: TRANSVERSAL | N21: TRANSVERSAL | O21: =+IF(M21="TRANSVERSAL ","20%",IF(M21="MISIONAL ","80%","0%")) -> 20% | P21: =+VLOOKUP(_xlfn.CONCAT(M21,N21),DINÁMICA!$H$5:$K$11,4,0) -> 0.008 | Q21: No | R21: N/A | AA21: =VLOOKUP(F21,'Seguimiento General '!$B$15:$P$65,15,FALSE) -> Supervisión - Jurídica
A22: 21 | B22: CUARTA | C22: 4.1 | D22: 21 | E22: Responder ante las autoridades competentes por los actos u omisiones que ejecute en desarrollo de contrato, cuando con ellos cause perjuicio a la administración o a terceros en los términos del artículo 52 de la Ley 80 de 1993. | F22: Responsabilidad | G22: VACÍO | H22: N/A | I22: N/A | J22: N/A | K22: Se activa cuando se requiera | L22: SOLO SI SE REQUIERE | M22: N/A | N22: N/A | O22: =+IF(M22="TRANSVERSAL ","20%",IF(M22="MISIONAL ","80%","0%")) -> 0% | P22: =+VLOOKUP(_xlfn.CONCAT(M22,N22),DINÁMICA!$H$5:$K$11,4,0) -> 0 | Q22: No | R22: N/A | AA22: =AA16 -> Supervisión - Jurídica
A23: 22 | B23: CUARTA | C23: 4.1 | D23: 22 | E23: Gestionar todas las comunicaciones por intermedio del supervisor y/o interventor del contrato y manifestar por escrito que conoce que, en todo caso, quien tiene la facultad para decidir cualquier cambio sobre las estipulaciones contenidas en este documento, SECOP I – II y demás documentos físicos y/o electrónicos es el Ordenador del Gasto en materia contractual de la ADRES. | F23: CUARTA. Núm.. 4.1 - OBG. 22 | G23: CUANTITATIVO | H23: (((Número de comunicaciones gestionadas y/o reportadas al grupo supervisor / número de comunicaciones gestionadas)*50%) + (Documento mediante el cual se comprometa a gestionar todas las comunicaciones por intermedio del supervisor y manifieste por escrito que conoce y acepta que el Ordenador del Gasto es el único facultado para decidir cualquier cambio sobre las estipulaciones contenidas en este documento, SECOP I – II y demás documentos físicos y/o electrónicos)*50%) | I23: Resultado del indicador según metodología | J23: 1 | K23: Se entiende por gestionar, reportar al grupo supervisor todas las comunicaciones que se generan. Para la medición de esta obligación el contratista deberá presentar, junto con el informe de gestión mensual, la relación de comunicaciones gestionadas durante el periodo objeto de reporte, incluyendo el asunto y fecha de generación, así como el número de radicado cuando se trate de comunicaciones distintas a las enviadas por correo electrónico. | L23: SOLO SI SE REQUIERE | M23: TRANSVERSAL | N23: TRANSVERSAL | O23: =+IF(M23="TRANSVERSAL ","20%",IF(M23="MISIONAL ","80%","0%")) -> 20% | P23: =+VLOOKUP(_xlfn.CONCAT(M23,N23),DINÁMICA!$H$5:$K$11,4,0) -> 0.008 | Q23: No | R23: N/A | AA23: =VLOOKUP(F23,'Seguimiento General '!$B$15:$P$65,15,FALSE) -> Supervisión - Jurídica
A24: 23 | B24: CUARTA | C24: 4.1 | D24: 23 | E24: Participar en las reuniones en las que sea requerida su asistencia ya sea por parte de la ADRES o el supervisor y/o interventor, evidenciando la reunión realizada mediante el levantamiento de una ayuda de memoria por parte del contratista y que deberá estar acompañado del listado de asistencia de la reunión. | F24: CUARTA. Núm.. 4.1 - OBG. 23 CUARTA. Núm.. 4.2.2 - OBEA. 2 | G24: CUANTITATIVO | H24: Cantidad de reuniones a las que asiste y presenta ayuda de memoria/ número de reuniones a las que fue convocado | I24: Resultado del indicador según metodología | J24: 1 | K24: En el informe de gestión el contratista deberá listar las reuniones a las que se asistió en el mes reportado, indicando asunto, fecha y hora, y aportar ayudas de memoria. | L24: SI | M24: TRANSVERSAL | N24: TRANSVERSAL | O24: =+IF(M24="TRANSVERSAL ","20%",IF(M24="MISIONAL ","80%","0%")) -> 20% | P24: =+VLOOKUP(_xlfn.CONCAT(M24,N24),DINÁMICA!$H$5:$K$11,4,0) -> 0.008 | Q24: No | R24: N/A | AA24: =VLOOKUP(F24,'Seguimiento General '!$B$15:$P$65,15,FALSE) -> Supervisión - Transversal
A25: 24 | B25: CUARTA | C25: 4.1 | D25: 24 | E25: Las demás que estén directamente relacionadas con el objeto u obligaciones del contrato. | F25: Se consolida en la totalidad del contenido obligacional | G25: VACÍO | H25: N/A | I25: N/A | J25: N/A | K25: se verifica en otras obligaciones | L25: NO | M25: N/A | N25: N/A | O25: =+IF(M25="TRANSVERSAL ","20%",IF(M25="MISIONAL ","80%","0%")) -> 0% | P25: =+VLOOKUP(_xlfn.CONCAT(M25,N25),DINÁMICA!$H$5:$K$11,4,0) -> 0 | Q25: No | R25: N/A | AA25: =AA4 -> Supervisión - Transversal
A26: 25 | B26: CUARTA | C26: 4.2.2 | D26: 1 | E26: Elaborar y presentar a la ADRES un protocolo de intercambio de información que de manera detallada describa los términos, condiciones, formatos, medios y procedimientos para garantizar una fluida, oportuna y correcta comunicación entre las partes. | F26: CUARTA. Núm.. 4.2.2 - OBEA. 1 | G26: CUALITATIVO | H26: Registro de la evidencia que se cuenta con un protocolo de intercambio de información que de manera detallada describa los términos, condiciones, formatos, medios y procedimientos para garantizar una fluida, oportuna y correcta comunicación entre las partes | I26: Protocolo de intercambio de información | J26: 1 | K26: Sin excepción, durante la ejecución del contrato, se debe tener en cuenta la implementación del protocolo de intercambio de información. | L26: SI | M26: TRANSVERSAL | N26: TRANSVERSAL | O26: =+IF(M26="TRANSVERSAL ","20%",IF(M26="MISIONAL ","80%","0%")) -> 20% | P26: =+VLOOKUP(_xlfn.CONCAT(M26,N26),DINÁMICA!$H$5:$K$11,4,0) -> 0.008 | Q26: No | AA26: =VLOOKUP(F26,'Seguimiento General '!$B$15:$P$65,15,FALSE) -> Supervisión - Tecnológica
A27: 26 | B27: CUARTA | C27: 4.2.2 | D27: 2 | E27: Asistir a los talleres y reuniones que se programen por parte de la ADRES para lograr la parametrización, estandarización y adaptación de la infraestructura operativa y tecnológica. | F27: CUARTA. Núm.. 4.1 - OBG. 23 CUARTA. Núm.. 4.2.2 - OBEA. 2 | G27: CUANTITATIVO | H27: Número de talleres a los que se asistió / Número de talleres a los que se convocó | I27: Resultado del indicador según metodología | J27: 1 | M27: TRANSVERSAL | N27: TRANSVERSAL | O27: =+IF(M27="TRANSVERSAL ","20%",IF(M27="MISIONAL ","80%","0%")) -> 20% | P27: =+VLOOKUP(_xlfn.CONCAT(M27,N27),DINÁMICA!$H$5:$K$11,4,0) -> 0.008 | Q27: No | AA27: =VLOOKUP(F27,'Seguimiento General '!$B$15:$P$65,15,FALSE) -> Supervisión - Transversal
A28: 27 | B28: CUARTA | C28: 4.2.2 | D28: 3 | E28: Concluir las adaptaciones y mejoras en su infraestructura operativa y tecnológica para garantizar el inicio de la operación. | F28: CUARTA. Núm.. 4.2.2 - OBEA. 3 | G28: CUALITATIVO | H28: Evidencias de las funcionalidades presentadas en la visita del 07 de julio de 2020 | I28: Cumple | J28: 1 | K28: Esta obligación se verifica en etapa de alistamiento | L28: NO | M28: MISIONAL | N28: MISIONAL DERIVADA O DE APOYO | O28: =+IF(M28="TRANSVERSAL ","20%",IF(M28="MISIONAL ","80%","0%")) -> 80% | P28: =+VLOOKUP(_xlfn.CONCAT(M28,N28),DINÁMICA!$H$5:$K$11,4,0) -> 0.033333333 | Q28: No | AA28: =VLOOKUP(F28,'Seguimiento General '!$B$15:$P$65,15,FALSE) -> Supervisión - Tecnológica
A29: 28 | B29: CUARTA | C29: 4.2.2 | D29: 4 | E29: Vincular el personal directivo, profesionales transversales y auditores para la ejecución del contrato. | F29: CUARTA. Núm.. 4.2.2 - OBEA. 4 CUARTA. Núm.. 4.1 - OBG. 4 | G29: VACÍO | H29: N/A | I29: N/A | J29: N/A | K29: se verifica en otras obligaciones - es el último a verificar en la aplicación de la metodología | L29: NO | M29: N/A | N29: N/A | O29: =+IF(M29="TRANSVERSAL ","20%",IF(M29="MISIONAL ","80%","0%")) -> 0% | P29: =+VLOOKUP(_xlfn.CONCAT(M29,N29),DINÁMICA!$H$5:$K$11,4,0) -> 0 | Q29: No | AA29: =VLOOKUP(F29,'Seguimiento General '!$B$15:$P$65,15,FALSE) -> Supervisión - Jurídica
A30: 29 | B30: CUARTA | C30: 4.2.2 | D30: 5 | E30: Efectuar las revisiones y verificaciones de los servicios y tecnologías no financiados con cargo a la UPC de acuerdo con el cronograma establecido por la ADRES y acreditar los estándares de calidad establecidos. | F30: CUARTA. Núm.. 4.2.2 - OBEA. 5 | G30: CUANTITATIVO | H30: Total de paquetes entregados que superaron la etapa de revisión de calidad / Total de paquetes que se debían entregar | I30: Resultado del indicador según metodología | J30: 1 | K30: Aplica únicamente a la etapa de alistamiento Entiéndase paquetes entregados con resultado en condiciones de oportunidad y calidad aquellos a los que no se le aplicaron Acuerdos de Niveles de Servicios | L30: SI | M30: MISIONAL | N30: MISIONAL PRINCIPAL MEDIA | O30: =+IF(M30="TRANSVERSAL ","20%",IF(M30="MISIONAL ","80%","0%")) -> 80% | P30: =+VLOOKUP(_xlfn.CONCAT(M30,N30),DINÁMICA!$H$5:$K$11,4,0) -> 0.1 | Q30: No | AA30: =VLOOKUP(F30,'Seguimiento General '!$B$15:$P$65,15,FALSE) -> Supervisión - Técnico
A31: 30 | B31: CUARTA | C31: 4.2.2 | D31: 6 | E31: Adelantar las demás actividades que la ADRES le solicite para efectos de revisar y verificar los servicios y tecnologías en salud que se le asignen y cumplir con los estándares de calidad establecidos. | F31: CUARTA. Núm.. 4.2.2 - OBEA. 6 | G31: VACÍO | H31: N/A | I31: N/A | J31: N/A | K31: se verifica en otras obligaciones - es el último a verificar en la aplicación de la metodología | L31: NO | M31: N/A | N31: N/A | O31: =+IF(M31="TRANSVERSAL ","20%",IF(M31="MISIONAL ","80%","0%")) -> 0% | P31: =+VLOOKUP(_xlfn.CONCAT(M31,N31),DINÁMICA!$H$5:$K$11,4,0) -> 0 | Q31: No | AA31: =VLOOKUP(F31,'Seguimiento General '!$B$15:$P$65,15,FALSE) -> Supervisión - Transversal
A32: 31 | B32: CUARTA | C32: 4.2.3 | D32: 1 | E32: Presentar para la suscripción del acta de inicio el plan de trabajo para la ejecución del contrato. Dicho documento deberá contener las actividades generales que proyecta ejecutar durante el plazo del contrato y los recursos humanos, físicos, técnicos y tecnológicos que prevé emplear. Este plan de trabajo deberá ser aprobado por el supervisor y/o interventor del contrato. El supervisor y/o interventor, durante la ejecución del contrato, podrá solicitar al Contratista la realización de adiciones, modificaciones y/o ajustes a su contenido, los cuales serán de obligatorio cumplimiento. El contratista asegurará la actualización oportuna del plan de trabajo y lo mantendrá a disposición del supervisor y/o interventor para la respectiva verificación y control. | F32: CUARTA. Núm.. 4.2.3 - OBE. 1 | G32: CUALITATIVO | H32: Presentación del Plan de Trabajo General | I32: Cumple | J32: 1 | L32: SOLO SI SE REQUIERE | M32: TRANSVERSAL | N32: TRANSVERSAL | O32: =+IF(M32="TRANSVERSAL ","20%",IF(M32="MISIONAL ","80%","0%")) -> 20% | P32: =+VLOOKUP(_xlfn.CONCAT(M32,N32),DINÁMICA!$H$5:$K$11,4,0) -> 0.008 | Q32: No | R32: N/A | AA32: =VLOOKUP(F32,'Seguimiento General '!$B$15:$P$65,15,FALSE) -> Supervisión - Transversal
A33: 32 | B33: CUARTA | C33: 4.2.3 | D33: 2 | E33: Transcribir o capturar los datos que le indique la ADRES de los soportes entregados por las entidades recobrantes, contrastarlos contra la información registrada en los medios magnéticos entregados por las entidades recobrantes, generar un reporte con la información transcrita o capturada consistente y certificar los resultados de estas actividades. | F33: CUARTA. Núm.. 4.2.3 - OBE. 2 y 17 | G33: CUANTITATIVO | H33: (Ítems con la completitud de datos capturados / ítems sobre los cuales se solicitó la captura de datos)*Factor de verificación de revisión de calidad | I33: Resultado del indicador según metodología | J33: 1 | K33: De forma aleatoria se extraerán 100 ítems sobre los cuales se validará la calidad de la consistencia de los datos capturados. Cada ítem que cumpla con la calidad de captura de datos tendrá como resultado un 1% del factor de calidad. La captura de datos de cada paquete deberá realizarse al momento en que se entregue el resultado del cierre del respectivo paquete. | L33: SI | M33: MISIONAL | N33: MISIONAL DERIVADA O DE APOYO | O33: =+IF(M33="TRANSVERSAL ","20%",IF(M33="MISIONAL ","80%","0%")) -> 80% | P33: =+VLOOKUP(_xlfn.CONCAT(M33,N33),DINÁMICA!$H$5:$K$11,4,0) -> 0.033333333 | Q33: No | R33: N/A | AA33: =VLOOKUP(F33,'Seguimiento General '!$B$15:$P$65,15,FALSE) -> Supervisión - Técnico
A34: 33 | B34: CUARTA | C34: 4.2.3 | D34: 3 | E34: Efectuar la revisión y verificación de los requisitos que deben cumplir los servicios y tecnologías en salud no financiadas con la UPC que le sean entregadas por la ADRES, conforme con la normatividad vigente y aplicable, el Manual Operativo y de Auditoría y las especificaciones técnicas definidas por la ADRES. En caso de ser requerido por la ADRES, el contratista contactará a los agentes intervinientes en los procesos de prescripción, direccionamiento, prestación, suministro y facturación de los servicios y tecnologías en salud objeto del proceso de revisión y verificación. | F34: CUARTA. Núm.. 4.2.3 - OBE. 3 y 4 | G34: CUANTITATIVO | H34: 1-(Número de observaciones conciliadas y aceptadas por Data Tools / Número de observaciones realizadas por la ADRES en el/los respectivo(s) precierre-sistemas) 1-(Número de comunicaciones gestionadas por Data Tools con los agentes / Número de solicitudes realizadas por la ADRES respecto a los agentes) | I34: Resultado del indicador según metodología | J34: 1 | K34: El indicador debe revisarse al final del cada mes | L34: SI | M34: MISIONAL | N34: MISIONAL PRINCIPAL BAJA | O34: =+IF(M34="TRANSVERSAL ","20%",IF(M34="MISIONAL ","80%","0%")) -> 80% | P34: =+VLOOKUP(_xlfn.CONCAT(M34,N34),DINÁMICA!$H$5:$K$11,4,0) -> 0.05 | Q34: SI | R34: N/A | AA34: =AA33 -> Supervisión - Técnico
