Workbook

Sheet Oferta_1_Indoamericana
A1: Nombre Proveedor | B1: CORPORACION EDUCATIVA INDOAMERICANA S.A.S.
A2: Priorización de oferta | B2: 1
A3: Fecha | B3: 46098
A4: Nombre de contacto | B4: MÓNICA TATIANA MURCIA RAMÍREZ
A5: Correo de contacto | B5: contratacion@indoamericana.edu.co
A6: Teléfono de contacto | B6: 601 432 4350 Ext 1059 - 316 8331883
A7: Estado Final | B7: EVALUADO
A8: Puntuación Final | B8: =+IF($B$7="Evaluado",(G26+G23+G21+G18),0) -> 41.003033
A9: 2621493
A10: CRITERIOS | B10: No. | C10: 8.5. CAUSALES DE RECHAZO | D10: Documento | E10: APORTADO Si / NO | F10: DATO | H10: ESTADO | I10: Observaciones
A11: Validación Causales de rechazo | B11: 1 | C11: Cuando el proponente no aporte el Anexo 09_Propuesta_Economica debidamente diligenciado, completo, sin modificaciones de estructura | D11: Anexo 09_Propuesta_Economica | E11: SI | H11: =+IF(E11="SI","ACEPTADO","RECHAZADO") -> ACEPTADO | I11: El proponente diligencia el valor del presupuesto en el Anexo 09_Propuesta_Económica, en el cual se oferta el costo unitario por cupo de la estrategia integral del programa a desarrollar en el marco del programa Talento Capital Formación de la Agencia ATENEA, el cual se encuentra relacionado de acuerdo con los criterios establecidos en el DOCUMENTO DE ESPECÍFICACIONES TÉCNICAS Cursos de formación informal de ciclo corto Sector Servicios Turismo y Habilidades Socioemocionales - HSE, de acuerdo al numeral 6.2. Costo Unitario.
C12: Valor total de la propuesta | D12: Anexo 09_Propuesta_Economica | F12: 64600000 | H12: =+IF(F12<=Datos!B29,"ACEPTADO","RECHAZADO") -> ACEPTADO | I12: El proponente diligencia el valor del presupuesto en el Anexo 09_Propuesta_Económica, en el cual se establece el valor total de la propuesta de la estrategia integral del programa a desarrollar en el marco del programa Talento Capital Formación de la Agencia ATENEA, el cual se encuentra relacionado de acuerdo con los criterios establecidos en el DOCUMENTO DE ESPECÍFICACIONES TÉCNICAS Cursos de formación informal de ciclo corto Sector Servicios Turismo y Habilidades Socioemocionales - HSE, de acuerdo al numeral 6.2. Costo Unitario, ofertando el valor de $64,600,000.00, el cual no supera el valor máximo establecido de $65.000.000. Por tanto, cumple con el requisito.
B13: 2 | C13: Cuando el costo unitario por cupo de la propuesta económica no se allegue o su valor supere el costo unitario máximo establecido para el presente proceso. (Anexo 09_Propuesta_Economica) | D13: Anexo 09_Propuesta_Economica | E13: SI | F13: COSTO CUPO UNITARIO OFERTADO - TURISMO | G13: 850000 | H13: =+IF(G13<=Datos!B28,"ACEPTADO","RECHAZADO") -> ACEPTADO | I13: El proponente diligencia el valor del presupuesto en el Anexo 09_Propuesta_Económica, en el cual se oferta el costo unitario por cupo de la estrategia integral del programa a desarrollar en el marco del programa Talento Capital Formación de la Agencia ATENEA, el cual se encuentra relacionado de acuerdo con los criterios establecidos en el DOCUMENTO DE ESPECÍFICACIONES TÉCNICAS Cursos de formación informal de ciclo corto Sector Servicios Turismo y Habilidades Socioemocionales - HSE, de acuerdo al numeral 6.2. Costo Unitario, ofertando el valor de $850,000.00, el cual no supera el valor máximo establecido de $1.182.500. Por tanto, cumple con el requisito.
B14: 3 | C14: Cuando el proponente no aporte el Anexo_17_Syllabus debidamente diligenciado, completo y sin modificaciones de estructura y hasta una vez surtido el proceso de subsanación establecido en el cronograma del presente proceso contractual. Para los casos en que los ajustes solicitados no queden debidamente subsanados se rechazará la oferta del proponente del banco de oferentes | D14: Anexo_17_Syllabus | E14: SI | H14: =+IF(E14="SI","ACEPTADO","RECHAZADO") -> ACEPTADO | I14: El proponente diligencia la información en el Anexo 17_Syllabus, mediante el cual presenta la estructura del programa de formación en el marco del programa Talento Capital Formación de la Agencia ATENEA, el cual se encuentra relacionado de acuerdo con los criterios establecidos en el DOCUMENTO DE ESPECÍFICACIONES TÉCNICAS Cursos de formación informal de ciclo corto Sector Servicios Turismo y Habilidades Socioemocionales - HSE, de acuerdo con el numeral 4. Requisitos de la oferta – característica: Syllabus, evidenciándose su presentación debidamente diligenciada, completa y sin modificaciones en su estructura. Por tanto, cumple con el requisito.
B15: 4 | C15: Cuando el proponente no aporte el Anexo 13_ Carta Presentacion_propuesta debidamente diligenciado, completo, sin modificaciones de estructura y debidamente firmado por el Representante Legal y hasta una vez surtido el proceso de subsanación establecido en el cronograma del presente proceso contractual. Para los casos en que los ajustes solicitados no queden debidamente subsanados se rechazará la oferta del proponente del banco de oferentes | D15: Anexo 13_ Carta Presentacion_propuesta | E15: SI | H15: =+IF(E15="SI","ACEPTADO","RECHAZADO") -> ACEPTADO | I15: El proponente diligencia la información en el Anexo 13_Carta Presentacion_propuesta, mediante el cual presenta la propuesta en el marco del programa Talento Capital Formación de la Agencia ATENEA, el cual se encuentra relacionado de acuerdo con los criterios establecidos en el DOCUMENTO DE ESPECÍFICACIONES TÉCNICAS Cursos de formación informal de ciclo corto Sector Servicios Turismo y Habilidades Socioemocionales - HSE, evidenciándose su presentación debidamente diligenciada, completa, sin modificaciones en su estructura y debidamente firmado por el representante legal. Por tanto, cumple con el requisito.
B16: 5 | C16: Cuando el proponente no haya cumplido los requisitos de ejecución de la Operación Principal, caso en el cual no contará con la posibilidad para participar en las convocatorias de la Operación Secundaria | D16: No aplica | E16: NO | H16: =+IF(E16="NO","ACEPTADO","RECHAZADO") -> ACEPTADO
A17: 6. FACTORES DE PONDERACIÓN | B17: No. | C17: Criterio | G17: Puntaje asignado
A18: 6.1. Equipo de docente en función de la calidad | C18: Equipos docentes del proyecto | D18: Documento soporte | E18: Descripción | F18: Validación / dato ofertado | G18: =+MAX(G19:G20) -> 30.5
B19: 6.1.1 | C19: Total de docentes, tutores o monitores que cuenten con experiencia adicional de un año y hasta un año y once meses | D19: Anexo 08_Equipo_trabajo_funcion_calidad_puntuable | E19: Se asignará hasta 15 puntos, para el oferente que presente con su oferta que los docentes, tutores o monitores partiendo de la relación técnica definida de que por cada 30 estudiantes se requiere un docente) con mejoramiento de su perfil en un año y hasta un año y once meses, adicionales en la experiencia profesional a la experiencia mínima requerida y relacionada con el subsector en el que se impartirá la formación, es decir, igual a dos años y hasta 2 años y once meses. | F19: NO | G19: =+IF(F19="SI",Datos!C3,0) -> 0
B20: 6.1.2 | C20: Total de docentes, tutores o monitores que cuenten con experiencia adicional de dos años o más | D20: Anexo 08_Equipo_trabajo_funcion_calidad_puntuable | E20: Se asignará hasta 30,5 puntos, para el oferente que presente con su oferta que los docentes, tutores o monitores partiendo de la relación técnica definida de que por cada 30 estudiantes se requiere un docente) con mejoramiento de su perfil en dos años o más, adicionales en la experiencia profesional a la experiencia mínima requerida y relacionada con el subsector en el que se impartirá la formación, es decir, igual a tres años o más. | F20: SI | G20: =+IF(F20="SI",Datos!C4,0) -> 30.5 | I20: Para este factor de ponderación, el oferente obtuvo una puntuación de 30.5 puntos. Lo anterior, como resultado de la validación por parte del equipo evaluador en el marco de la presentación de la oferta, en la cual, allegó el documento Anexo 08_Equipo trabajo_Calidad puntuable, en la cual se compromete con que una vez resulte adjudicatario contratará los docentes, tutores o monitores partiendo de la relación técnica definida de que por cada 30 estudiantes se requiere un docente con mejoramiento de su perfil en dos años o más, adicionales en la experiencia profesional a la experiencia mínima requerida y relacionada con el subsector en el que se impartirá la formación, es decir, igual a tres años o más.
A21: 6.2. Costo Unitario | C21: Menor costo unitario | D21: Documento soporte | F21: Validación / dato ofertado | G21: =+SUM(G22:G22) -> 0 | H21: CUPOS OFERTADOS
B22: 6.2.1 | C22: Costo Cupo Unitario ofertado | D22: Anexo 09_Propuesta_Economica | E22: COSTO CUPO UNITARIO OFERTADO - TURISMO | F22: =+G13 -> 850000 | G22: =IF(IF($H$13="ACEPTADO",((Datos!$C$7*(Medidas!$C$9/F22))),0)<Medidas!D13,0,IF($H$13="ACEPTADO",((Datos!$C$7*(Medidas!$C$9/F22))),0)) -> 0 | H22: 76 | I22: El proponente diligencia el valor del presupuesto en el Anexo 09 – Propuesta Económica, en el cual presenta el costo unitario por cupo correspondiente a la estrategia integral del programa a desarrollar en el marco del programa Talento Capital Formación de la Agencia ATENEA. Dicho valor se encuentra estructurado conforme a los criterios establecidos en elDOCUMENTO DE ESPECÍFICACIONES TÉCNICAS Cursos de formación informal de ciclo corto Sector Servicios Turismo y Habilidades Socioemocionales - HSE, específicamente en el numeral 6.2. Costo Unitario, ofertando un valor de $850.000,00, el cual no supera el valor máximo permitido de $1.182.500,00. No obstante, en el marco de la evaluación económica, y de conformidad con lo establecido en el numeral 6. Factores de ponderación, subnumeral 6.2. Costo Unitario, particularmente en la Nota 1, se establece: “(...) Nota 1: Para efectos de la evaluación del criterio económico, se identificará como valor atípico bajo aquel costo unitario por cupo ofertado que sea inferior al límite definido como la mediana menos dos (2) veces la desviación absoluta mediana (MAD) de los costos unitarios por cupo correspondientes a las propuestas habilitadas en la presente convocatoria. La desviación absoluta mediana (MAD) se calculará como la mediana de los valores absolutos de la diferencia entre cada costo unitario por cupo ofertado y la mediana de dichos costos. En caso de que el costo unitario por cupo ofertado por el proponente se ubique por debajo del límite anteriormente definido, no se asignará puntaje, es decir, se otorgarán cero (0) puntos en este criterio (...)”. En aplicación de lo anterior, se determinó que la mediana de los costos unitarios ofertados corresponde a $1.095.000,00, mientras que la desviación absoluta mediana (MAD) es de $77.976,00, lo que establece un límite de valor atípico bajo de $939.048,00. En consecuencia, dado que el valor ofertado por el proponente ($850.000,00) se encuentra por debajo de dicho umbral, por lo cual no se asigna puntaje, es decir, se otorgarán cero (0) puntos en este factor de ponderación.
A23: 6.3. Experiencia especifica en temática y Subsector | C23: Mayor Experiencia por subsector / temática | D23: Documento soporte | F23: Validación / dato ofertado | G23: =+G25 -> 10.253033
B24: 6.3.1 | C24: Subsector TURISMO - HSE | D24: Anexo_10_Acreditacion_experiencia_puntuable | E24: SI | I24: El proponente allega el Anexo_10_Acreditacion_experiencia_puntuable debidamente diligenciado y firmado por el representante legal, evidenciando el registro completo de la información requerida frente a la relación exacta de la cantidad de personas formadas (986) en el subsector de turismo. Se observa que el formato corresponde al establecido en la convocatoria, sin modificaciones en su estructura, por lo cual cumple con los requisitos formales exigidos.
D25: Anexo_11_basededatos_personasformadasSectores | F25: 986 | G25: =IF(E24="SI",(Datos!$C$10*(Oferta_1_Indoamericana!F25/Medidas!$D$9)),0) -> 10.253033 | I25: El proponente allega el Anexo_11_basededatos_personasformadasSectores debidamente diligenciado, evidenciando el registro completo de la información requerida, incluyendo la relación exacta de la cantidad de personas que se indican en el Anexo_10_Acreditacion_experiencia_puntuable y el nombre del programa en el cual fue certificada la población relacionada. Se observa que el formato corresponde al establecido en la convocatoria, sin modificaciones en su estructura, por lo cual cumple con los requisitos formales exigidos. Por lo Anterior y de acuerdo con lo establecido en el DOCUMENTO DE ESPECÍFICACIONES TÉCNICAS Cursos de formación informal de ciclo corto Sector Servicios Turismo y Habilidades Socioemocionales - HSE la puntuación asignada es de 10,25 puntos.
A26: 6.4. Incentivos a la contratación | C26: Incentivos a la contratación | D26: Documento soporte | E26: Descripción | F26: Validación / dato ofertado | G26: =+SUM(G27:G28) -> 0.25
B27: 6.4.1 | C27: Criterios adicionales para Mipymes en el Sistema de Compras Públicas | E27: Participante que acredite un tamaño empresarial de micro, pequeña o mediana empresa. | F27: NO | G27: =+IF(F27="SI",Datos!$C$13,0) -> 0 | I27: De acuerdo con la revisión realizada por la Agencia ATENEA, se asigna un puntaje de 0 (cero) en este criterio, al no ser la entidad una Mypime, conforme a lo establecido en el numeral 6.4 - Incentivos a la contratación, aspecto puntuable “Criterios adicionales para Mipymes en el Sistema de Compras Públicas”, del DOCUMENTO DE ESPECÍFICACIONES TÉCNICAS Cursos de formación informal de ciclo corto Sector Servicios Turismo y Habilidades Socioemocionales - HSE.
B28: 6.4.2 | C28: Empresas y emprendimientos de mujeres en el Sistema de Compras Públicas | D28: Anexo_12_Incentivos_Contratacion_Puntuable | E28: Participante que acredite que su equipo de trabajo base está conformado mínimo por el 50% de mujeres. | F28: SI | G28: =+IF(F28="SI",Datos!$C$14,0) -> 0.25 | I28: Para este factor de ponderación, el proponente obtuvo una puntuación de 0,25 puntos. Lo anterior, teniendo en cuenta que el proponente allegó con la presentación de su propuesta el Anexo_12_Incentivos_Contratacion_Puntuable, tal y como lo establece el DOCUMENTO DE ESPECÍFICACIONES TÉCNICAS Cursos de formación informal de ciclo corto Sector Servicios Turismo y Habilidades Socioemocionales - HSE en su numeral 6. FACTORES DE PONDERACIÓN, subnumeral 6.4. Incentivos a la contratación aspecto puntuable Empresas y emprendimientos de mujeres en el Sistema de Compras Públicas, conforme a lo establecido en el DOCUMENTO DE ESPECÍFICACIONES TÉCNICAS Cursos de formación informal de ciclo corto Sector Servicios Turismo y Habilidades Socioemocionales - HSE.
E29: .. | G29: =+G26+G23+G21+G18 -> 41.003033

Sheet Oferta_2_Cualificacion_E
A1: Nombre Proveedor | B1: CORPORACION INSTITUTO COLOMBIANO DE CUALIFICACION EMPRESARIAL - CICCE
A2: Priorización de oferta | B2: 2
A3: Fecha | B3: 46098
A4: Nombre de contacto | B4: CLAUDIA MILENA MANJARREZ ALZATE
A5: Correo de contacto | B5: info@cicce.edu.co
A6: Teléfono de contacto | B6: 3168048525
A7: Estado Final | B7: EVALUADO
A8: Puntuación Final | B8: =+IF($B$7="Evaluado",(G26+G23+G21+G18),0) -> 47.05137
A9: 2621493
A10: CRITERIOS | B10: No. | C10: 8.5. CAUSALES DE RECHAZO | D10: Documento | E10: APORTADO Si / NO | F10: DATO | H10: ESTADO | I10: Observaciones
A11: Validación Causales de rechazo | B11: 1 | C11: Cuando el proponente no aporte el Anexo 09_Propuesta_Economica debidamente diligenciado, completo, sin modificaciones de estructura | D11: Anexo 09_Propuesta_Economica | E11: SI | H11: =+IF(E11="SI","ACEPTADO","RECHAZADO") -> ACEPTADO | I11: El proponente diligencia el valor del presupuesto en el Anexo 09_Propuesta_Económica, en el cual se oferta el costo unitario por cupo de la estrategia integral del programa a desarrollar en el marco del programa Talento Capital Formación de la Agencia ATENEA, el cual se encuentra relacionado de acuerdo con los criterios establecidos en el DOCUMENTO DE ESPECÍFICACIONES TÉCNICAS Cursos de formación informal de ciclo corto Sector Servicios Turismo y Habilidades Socioemocionales - HSE, de acuerdo al numeral 6.2. Costo Unitario.
C12: Valor total de la propuesta | D12: Anexo 09_Propuesta_Economica | F12: 64605000 | H12: =+IF(F12<=Datos!B29,"ACEPTADO","RECHAZADO") -> ACEPTADO | I12: El proponente diligencia el valor del presupuesto en el Anexo 09_Propuesta_Económica, en el cual se establece el valor total de la propuesta de la estrategia integral del programa a desarrollar en el marco del programa Talento Capital Formación de la Agencia ATENEA, el cual se encuentra relacionado de acuerdo con los criterios establecidos en el DOCUMENTO DE ESPECÍFICACIONES TÉCNICAS Cursos de formación informal de ciclo corto Sector Servicios Turismo y Habilidades Socioemocionales - HSE, de acuerdo al numeral 6.2. Costo Unitario, ofertando el valor de $64,605,000.00, el cual no supera el valor máximo establecido de $65.000.000. Por tanto, cumple con el requisito.
B13: 2 | C13: Cuando el costo unitario por cupo de la propuesta económica no se allegue o su valor supere el costo unitario máximo establecido para el presente proceso. (Anexo 09_Propuesta_Economica) | D13: Anexo 09_Propuesta_Economica | E13: SI | F13: COSTO CUPO UNITARIO OFERTADO - TURISMO | G13: 1095000 | H13: =+IF(G13<=Datos!B28,"ACEPTADO","RECHAZADO") -> ACEPTADO | I13: El proponente diligencia el valor del presupuesto en el Anexo 09_Propuesta_Económica, en el cual se oferta el costo unitario por cupo de la estrategia integral del programa a desarrollar en el marco del programa Talento Capital Formación de la Agencia ATENEA, el cual se encuentra relacionado de acuerdo con los criterios establecidos en el DOCUMENTO DE ESPECÍFICACIONES TÉCNICAS Cursos de formación informal de ciclo corto Sector Servicios Turismo y Habilidades Socioemocionales - HSE, de acuerdo al numeral 6.2. Costo Unitario, ofertando el valor de $1,095,000.00, el cual no supera el valor máximo establecido de $1.182.500. Por tanto, cumple con el requisito.
B14: 3 | C14: Cuando el proponente no aporte el Anexo_17_Syllabus debidamente diligenciado, completo y sin modificaciones de estructura y hasta una vez surtido el proceso de subsanación establecido en el cronograma del presente proceso contractual. Para los casos en que los ajustes solicitados no queden debidamente subsanados se rechazará la oferta del proponente del banco de oferentes | D14: Anexo_17_Syllabus | E14: SI | H14: =+IF(E14="SI","ACEPTADO","RECHAZADO") -> ACEPTADO | I14: El proponente diligencia la información en el Anexo 17_Syllabus, mediante el cual presenta la estructura del programa de formación en el marco del programa Talento Capital Formación de la Agencia ATENEA, el cual se encuentra relacionado de acuerdo con los criterios establecidos en el DOCUMENTO DE ESPECÍFICACIONES TÉCNICAS Cursos de formación informal de ciclo corto Sector Servicios Turismo y Habilidades Socioemocionales - HSE, de acuerdo con el numeral 4. Requisitos de la oferta – característica: Syllabus, evidenciándose su presentación debidamente diligenciada, completa y sin modificaciones en su estructura. Por tanto, cumple con el requisito.
B15: 4 | C15: Cuando el proponente no aporte el Anexo 13_ Carta Presentacion_propuesta debidamente diligenciado, completo, sin modificaciones de estructura y debidamente firmado por el Representante Legal y hasta una vez surtido el proceso de subsanación establecido en el cronograma del presente proceso contractual. Para los casos en que los ajustes solicitados no queden debidamente subsanados se rechazará la oferta del proponente del banco de oferentes | D15: Anexo 13_ Carta Presentacion_propuesta | E15: SI | H15: =+IF(E15="SI","ACEPTADO","RECHAZADO") -> ACEPTADO | I15: El proponente diligencia la información en el Anexo 13_Carta Presentacion_propuesta, mediante el cual presenta la propuesta en el marco del programa Talento Capital Formación de la Agencia ATENEA, el cual se encuentra relacionado de acuerdo con los criterios establecidos en el DOCUMENTO DE ESPECÍFICACIONES TÉCNICAS Cursos de formación informal de ciclo corto Sector Servicios Turismo y Habilidades Socioemocionales - HSE, evidenciándose su presentación debidamente diligenciada, completa, sin modificaciones en su estructura y debidamente firmado por el representante legal. Por tanto, cumple con el requisito.
B16: 5 | C16: Cuando el proponente no haya cumplido los requisitos de ejecución de la Operación Principal, caso en el cual no contará con la posibilidad para participar en las convocatorias de la Operación Secundaria | D16: No aplica | E16: NO | H16: =+IF(E16="NO","ACEPTADO","RECHAZADO") -> ACEPTADO
A17: 6. FACTORES DE PONDERACIÓN | B17: No. | C17: Criterio | G17: Puntaje asignado
A18: 6.1. Equipo de docente en función de la calidad | C18: Equipos docentes del proyecto | D18: Documento soporte | E18: Descripción | F18: Validación / dato ofertado | G18: =+MAX(G19:G20) -> 30.5
B19: 6.1.1 | C19: Total de docentes, tutores o monitores que cuenten con experiencia adicional de un año y hasta un año y once meses | D19: Anexo 08_Equipo_trabajo_funcion_calidad_puntuable | E19: Se asignará hasta 15 puntos, para el oferente que presente con su oferta que los docentes, tutores o monitores partiendo de la relación técnica definida de que por cada 30 estudiantes se requiere un docente) con mejoramiento de su perfil en un año y hasta un año y once meses, adicionales en la experiencia profesional a la experiencia mínima requerida y relacionada con el subsector en el que se impartirá la formación, es decir, igual a dos años y hasta 2 años y once meses. | F19: NO | G19: =+IF(F19="SI",Datos!C3,0) -> 0
B20: 6.1.2 | C20: Total de docentes, tutores o monitores que cuenten con experiencia adicional de dos años o más | D20: Anexo 08_Equipo_trabajo_funcion_calidad_puntuable | E20: Se asignará hasta 30,5 puntos, para el oferente que presente con su oferta que los docentes, tutores o monitores partiendo de la relación técnica definida de que por cada 30 estudiantes se requiere un docente) con mejoramiento de su perfil en dos años o más, adicionales en la experiencia profesional a la experiencia mínima requerida y relacionada con el subsector en el que se impartirá la formación, es decir, igual a tres años o más. | F20: SI | G20: =+IF(F20="SI",Datos!C4,0) -> 30.5 | I20: Para este factor de ponderación, el oferente obtuvo una puntuación de 30.5 puntos. Lo anterior como resultado de la validación por parte del equipo evaluador en el marco de la presentación de la oferta, en la cual, allegó el documento Anexo 08_Equipo trabajo_Calidad puntuable, en la cual se compromete con que una vez resulte adjudicatario contratará los docentes, tutores o monitores partiendo de la relación técnica definida de que por cada 30 estudiantes se requiere un docente) con mejoramiento de su perfil en dos años o más, adicionales en la experiencia profesional a la experiencia mínima requerida y relacionada con el subsector en el que se impartirá la formación, es decir, igual a tres años o más.
A21: 6.2. Costo Unitario | C21: Menor costo unitario | D21: Documento soporte | F21: Validación / dato ofertado | G21: =+SUM(G22:G22) -> 16.30137 | H21: CUPOS OFERTADOS
B22: 6.2.1 | C22: Costo Cupo Unitario ofertado | D22: Anexo 09_Propuesta_Economica | E22: COSTO CUPO UNITARIO OFERTADO - TURISMO | F22: =+G13 -> 1095000 | G22: =IF($H$13="ACEPTADO",((Datos!$C$7*(Medidas!$C$9/Oferta_2_Cualificacion_E!F22))),0) -> 16.30137 | H22: 59 | I22: El proponente diligencia el valor del presupuesto en el Anexo 09 – Propuesta Económica, en el cual se oferta el costo unitario por cupo de la estrategia integral del programa a desarrollar en el marco del programa Talento Capital Formación de la Agencia ATENEA, el cual se encuentra relacionado de acuerdo con los criterios establecidos en el DOCUMENTO DE ESPECÍFICACIONES TÉCNICAS Cursos de formación informal de ciclo corto Sector Servicios Turismo y Habilidades Socioemocionales - HSE, de acuerdo al numeral 6.2. Costo Unitario, ofertando el valor de $1,095,000.00, el cual no supera el valor máximo establecido de $1,182,500. Por tanto, cumple con el requisito. Por lo Anterior y de acuerdo con lo establecido en el DOCUMENTO DE ESPECÍFICACIONES TÉCNICAS Cursos de formación informal de ciclo corto Sector Servicios Turismo y Habilidades Socioemocionales - HSE la puntuación asignada es de 16,30 puntos.
A23: 6.3. Experiencia especifica en temática y Subsector | C23: Mayor Experiencia por subsector / temática | D23: Documento soporte | F23: Validación / dato ofertado | G23: =+G25 -> 0
B24: 6.3.1 | C24: Subsector TURISMO - HSE | D24: Anexo_10_Acreditacion_experiencia_puntuable | E24: NO | I24: El proponente no allegó el Anexo_10_Acreditacion_experiencia_puntuable en su versión 2 publicado mediante la adenda No1. Por lo cual para la agencia Atenea no es posible validar que el ofrecimiento que está haciendo frente a las personas formadas corresponde al subsector de Turismo, ya que el documento aportado menciona personas formadas en el subsector de BPO.
D25: Anexo_11_basededatos_personasformadasSectores | F25: 65 | G25: =IF(E24="SI",(Datos!$C$10*(F25/Medidas!$D$9)),0) -> 0 | I25: El proponente allega el Anexo_11_basededatos_personasformadasSectores, incluyendo la relación de la cantidad de personas que se indican en el Anexo_10_Acreditacion_experiencia_puntuable y el nombre del programa en el cual fue certificada la población relacionada. No obstante, el Anexo_11_basededatos_personasformadasSectores presenta las siguientes inconsistencias: i) la columna “NOMBRE” repite la misma información registrada en la columna “APELLIDOS”; ii) la columna “FECHA DE TERMINACIÓN DEL CURSO” no se encuentra diligenciada. En consecuencia, el equipo evaluador de la Agencia Atenea no cuenta con información suficiente para validar la totalidad de las personas reportadas como formadas, toda vez que la fecha de terminación del curso constituye un dato necesario para verificar la culminación efectiva del proceso formativo por parte de las personas relacionadas. Por lo anterior, no es procedente asignar puntaje al proponente en este factor de ponderación. Por lo anterior, y teniendo en cuenta lo indicado frente a la presentación del formato "Anexo_10_Acreditacion_experiencia_puntuable", se asigna una puntuación de cero (0) para este criterio de ponderación.
A26: 6.4. Incentivos a la contratación | C26: Incentivos a la contratación | D26: Documento soporte | E26: Descripción | F26: Validación / dato ofertado | G26: =+SUM(G27:G28) -> 0.25
B27: 6.4.1 | C27: Criterios adicionales para Mipymes en el Sistema de Compras Públicas | E27: Participante que acredite un tamaño empresarial de micro, pequeña o mediana empresa. | F27: NO | G27: =+IF(F27="SI",Datos!$C$13,0) -> 0 | I27: De acuerdo con la revisión realizada por la Agencia ATENEA, se asigna un puntaje de 0 (cero) en este criterio, al no ser la entidad una Mypime, conforme a lo establecido en el numeral 6.4 - Incentivos a la contratación, aspecto puntuable “Criterios adicionales para Mipymes en el Sistema de Compras Públicas”, del DOCUMENTO DE ESPECÍFICACIONES TÉCNICAS Cursos de formación informal de ciclo corto Sector Servicios Turismo y Habilidades Socioemocionales - HSE.
B28: 6.4.2 | C28: Empresas y emprendimientos de mujeres en el Sistema de Compras Públicas | D28: Anexo_12_Incentivos_Contratacion_Puntuable | E28: Participante que acredite que su equipo de trabajo base está conformado mínimo por el 50% de mujeres. | F28: SI | G28: =+IF(F28="SI",Datos!$C$14,0) -> 0.25 | I28: Para este factor de ponderación, el proponente obtuvo una puntuación de 0,25 puntos. Lo anterior, teniendo en cuenta que el proponente allegó con la presentación de su propuesta el 17 de marzo de 2026, el Anexo_12_Incentivos_Contratacion_Puntuable, tal y como lo establece el DOCUMENTO DE ESPECÍFICACIONES TÉCNICAS Cursos de formación informal de ciclo corto Sector Servicios Turismo y Habilidades Socioemocionales - HSE en su numeral 6. FACTORES DE PONDERACIÓN, subnumeral 6.4. Incentivos a la contratación aspecto puntuable Empresas y emprendimientos de mujeres en el Sistema de Compras Públicas. conforme a lo establecido en el DOCUMENTO DE ESPECÍFICACIONES TÉCNICAS Cursos de formación informal de ciclo corto Sector Servicios Turismo y Habilidades Socioemocionales - HSE.
E29: .. | G29: =+G26+G23+G21+G18 -> 47.05137

Sheet Oferta_3_Fun_CCB
A1: Nombre Proveedor | B1: FUNDACIÓN UNIVERSITARIA EMPRESARIAL DE LA CÁMARA DE COMERCIO DE BOGOTÁ – UNIEMPRESARIAL
A2: Priorización de oferta | B2: 2
A3: Fecha | B3: 46098
A4: Nombre de contacto | B4: JUAN ALFREDO PINTO SAAVEDRA
A5: Correo de contacto | B5: notificacionesjudiciales@uniempresarial.edu.co / rector@uniempresarial.edu.co
A6: Teléfono de contacto | B6: (+601) 3808000 Exts. 1002, 6604, 6607, 6608
A7: Estado Final | B7: EVALUADO
A8: Puntuación Final | B8: =+IF($B$7="Evaluado",(G26+G23+G21+G18),0) -> 46.539626
A9: 2621493
A10: CRITERIOS | B10: No. | C10: 8.5. CAUSALES DE RECHAZO | D10: Documento | E10: APORTADO Si / NO | F10: DATO | H10: ESTADO | I10: Observaciones
A11: Validación Causales de rechazo | B11: 1 | C11: Cuando el proponente no aporte el Anexo 09_Propuesta_Economica debidamente diligenciado, completo, sin modificaciones de estructura | D11: Anexo 09_Propuesta_Economica | E11: SI | H11: =+IF(E11="SI","ACEPTADO","RECHAZADO") -> ACEPTADO | I11: El proponente diligencia el valor del presupuesto en el Anexo 09_Propuesta_Económica, en el cual se oferta el costo unitario por cupo de la estrategia integral del programa a desarrollar en el marco del programa Talento Capital Formación de la Agencia ATENEA, el cual se encuentra relacionado de acuerdo con los criterios establecidos en el documento ESPECÍFICACIONES TÉCNICAS Cursos de formación informal de ciclo corto Sector Servicios Turismo y Habilidades Socioemocionales - HSE, de acuerdo al numeral 6.2. Costo Unitario.
C12: Valor total de la propuesta | D12: Anexo 09_Propuesta_Economica | F12: 64513680 | H12: =+IF(F12<=Datos!B29,"ACEPTADO","RECHAZADO") -> ACEPTADO | I12: El proponente diligencia el valor del presupuesto en el Anexo 09_Propuesta_Económica, en el cual se establece el valor total de la propuesta de la estrategia integral del programa a desarrollar en el marco del programa Talento Capital Formación de la Agencia ATENEA, el cual se encuentra relacionado de acuerdo con los criterios establecidos en el documento ESPECÍFICACIONES TÉCNICAS Cursos de formación informal de ciclo corto Sector Servicios Turismo y Habilidades Socioemocionales - HSE, de acuerdo al numeral 6.2. Costo Unitario, ofertando el valor de $64.513.680, el cual no supera el valor máximo establecido de $65.000.000. Por tanto, cumple con el requisito.
B13: 2 | C13: Cuando el costo unitario por cupo de la propuesta económica no se allegue o su valor supere el costo unitario máximo establecido para el presente proceso. (Anexo 09_Propuesta_Economica) | D13: Anexo 09_Propuesta_Economica | E13: SI | F13: COSTO CUPO UNITARIO OFERTADO - TURISMO | G13: 1172976 | H13: =+IF(G13<=Datos!B28,"ACEPTADO","RECHAZADO") -> ACEPTADO | I13: El proponente diligencia el valor del presupuesto en el Anexo 09_Propuesta_Económica, en el cual se oferta el costo unitario por cupo de la estrategia integral del programa a desarrollar en el marco del programa Talento Capital Formación de la Agencia ATENEA, el cual se encuentra relacionado de acuerdo con los criterios establecidos en el DOCUMENTO DE ESPECÍFICACIONES TÉCNICAS Cursos de formación informal de ciclo corto Sector Servicios Turismo y Habilidades Socioemocionales - HSE, de acuerdo al numeral 6.2. Costo Unitario, ofertando el valor de $1.172.976, el cual no supera el valor máximo establecido de $1.182.500. Por tanto, cumple con el requisito.
B14: 3 | C14: Cuando el proponente no aporte el Anexo_17_Syllabus debidamente diligenciado, completo y sin modificaciones de estructura y hasta una vez surtido el proceso de subsanación establecido en el cronograma del presente proceso contractual. Para los casos en que los ajustes solicitados no queden debidamente subsanados se rechazará la oferta del proponente del banco de oferentes | D14: Anexo_17_Syllabus | E14: SI | H14: =+IF(E14="SI","ACEPTADO","RECHAZADO") -> ACEPTADO | I14: El proponente allega el Anexo 17_Syllabus, debidamente diligenciado, completo y sin modificaciones en su estructura, en el marco de lo establecido en el DOCUMENTO DE ESPECÍFICACIONES TÉCNICAS Cursos de formación informal de ciclo corto Sector Servicios Turismo y Habilidades Socioemocionales - HSE, de acuerdo con el numeral 4. Requisitos de la oferta – característica: Syllabus. En el marco de la evaluación inicial, el equipo evaluador identificó observaciones en el contenido del anexo, particularmente en los numerales 1.8. Conocimientos y habilidades, 1.10. Horas sincrónicas y asincrónicas del curso, 1.12. Módulos del curso y 1.14. Resumen técnico del curso, razón por la cual se solicitó subsanación dentro del término definido en el cronograma del proceso. Una vez revisada la información allegada por el proponente en etapa de subsanación, se verificó que se realizaron los ajustes requeridos en los numerales previamente señalados, evidenciándose cumplimiento frente a las condiciones establecidas en el DOCUMENTO DE ESPECÍFICACIONES TÉCNICAS y el Anexo 17_Syllabus, particularmente en lo relacionado con la diferenciación de la modalidad de formación entre el componente técnico (virtual sincrónico) y el componente de habilidades socioemocionales – HSE (presencial), así como la coherencia en la distribución horaria y la planeación académica del programa. Así mismo, se verificó que no se presentaran modificaciones en la estructura del anexo ni en los textos base del formato establecido por la entidad. En consecuencia, se concluye que el proponente cumple con requisito, una vez surtido el proceso de subsanación y verificación.
B15: 4 | C15: Cuando el proponente no aporte el Anexo 13_ Carta Presentacion_propuesta debidamente diligenciado, completo, sin modificaciones de estructura y debidamente firmado por el Representante Legal y hasta una vez surtido el proceso de subsanación establecido en el cronograma del presente proceso contractual. Para los casos en que los ajustes solicitados no queden debidamente subsanados se rechazará la oferta del proponente del banco de oferentes | D15: Anexo 13_ Carta Presentacion_propuesta | E15: SI | H15: =+IF(E15="SI","ACEPTADO","RECHAZADO") -> ACEPTADO | I15: El proponente diligencia la información en el Anexo 13_Carta Presentacion_propuesta, mediante el cual presenta la propuesta en el marco del programa Talento Capital Formación de la Agencia ATENEA, el cual se encuentra relacionado de acuerdo con los criterios establecidos en el DOCUMENTO DE ESPECÍFICACIONES TÉCNICAS Cursos de formación informal de ciclo corto Sector Servicios Turismo y Habilidades Socioemocionales - HSE, evidenciándose su presentación debidamente diligenciada, completa, sin modificaciones en su estructura y debidamente firmado por el representante legal. Por tanto, cumple con el requisito.
B16: 5 | C16: Cuando el proponente no haya cumplido los requisitos de ejecución de la Operación Principal, caso en el cual no contará con la posibilidad para participar en las convocatorias de la Operación Secundaria | D16: No aplica | E16: NO | H16: =+IF(E16="NO","ACEPTADO","RECHAZADO") -> ACEPTADO
A17: 6. FACTORES DE PONDERACIÓN | B17: No. | C17: Criterio | G17: Puntaje asignado
A18: 6.1. Equipo de docente en función de la calidad | C18: Equipos docentes del proyecto | D18: Documento soporte | E18: Descripción | F18: Validación / dato ofertado | G18: =+MAX(G19:G20) -> 30.5
B19: 6.1.1 | C19: Total de docentes, tutores o monitores que cuenten con experiencia adicional de un año y hasta un año y once meses | D19: Anexo 08_Equipo_trabajo_funcion_calidad_puntuable | E19: Se asignará hasta 15 puntos, para el oferente que presente con su oferta que los docentes, tutores o monitores partiendo de la relación técnica definida de que por cada 30 estudiantes se requiere un docente) con mejoramiento de su perfil en un año y hasta un año y once meses, adicionales en la experiencia profesional a la experiencia mínima requerida y relacionada con el subsector en el que se impartirá la formación, es decir, igual a dos años y hasta 2 años y once meses. | F19: NO | G19: =+IF(F19="SI",Datos!C3,0) -> 0
B20: 6.1.2 | C20: Total de docentes, tutores o monitores que cuenten con experiencia adicional de dos años o más | D20: Anexo 08_Equipo_trabajo_funcion_calidad_puntuable | E20: Se asignará hasta 30,5 puntos, para el oferente que presente con su oferta que los docentes, tutores o monitores partiendo de la relación técnica definida de que por cada 30 estudiantes se requiere un docente) con mejoramiento de su perfil en dos años o más, adicionales en la experiencia profesional a la experiencia mínima requerida y relacionada con el subsector en el que se impartirá la formación, es decir, igual a tres años o más. | F20: SI | G20: =+IF(F20="SI",Datos!C4,0) -> 30.5 | I20: Para este factor de ponderación, al proponente se le asigna una puntuación de 30,5 puntos. Lo anterior como resultado de la validación por parte del equipo evaluador en el marco de la presentación de la oferta, en la cual el oferente allegó el documento Anexo 08_Equipo_trabajo_funcion_calidad_puntuable, según lo establecido en el DOCUMENTO DE ESPECÍFICACIONES TÉCNICAS Cursos de formación informal de ciclo corto Sector Servicios Turismo y Habilidades Socioemocionales - HSE, de acuerdo con el numeral 6.1. Equipo docente en función de la calidad, en el cual se establece que “Se asignará hasta 30,5 puntos, para el oferente que presente con su oferta que los docentes, tutores o monitores partiendo de la relación técnica definida de que por cada 30 estudiantes se requiere un docente) con mejoramiento de su perfil en dos años o más, adicionales en la experiencia profesional a la experiencia mínima requerida y relacionada con el subsector en el que se impartirá la formación, es decir, igual a tres años o más”, evidenciándose que el proponente selecciona este criterio.
A21: 6.2. Costo Unitario | C21: Menor costo unitario | D21: Documento soporte | F21: Validación / dato ofertado | G21: =+SUM(G22:G22) -> 15.217703 | H21: CUPOS OFERTADOS
B22: 6.2.1 | C22: Costo Cupo Unitario ofertado | D22: Anexo 09_Propuesta_Economica | E22: COSTO CUPO UNITARIO OFERTADO - TURISMO | F22: =+G13 -> 1172976 | G22: =IF($H$13="ACEPTADO",((Datos!$C$7*(Medidas!$C$9/Oferta_3_Fun_CCB!F22))),0) -> 15.217703 | H22: 55 | I22: El proponente diligencia el valor del presupuesto en el Anexo 09 – Propuesta Económica, en el cual se oferta el costo unitario por cupo de la estrategia integral del programa a desarrollar en el marco del programa de Talento Capital Formación de la Agencia ATENEA, el cual se encuentra relacionado de acuerdo con los criterios establecidos en el DOCUMENTO DE ESPECÍFICACIONES TÉCNICAS Cursos de formación informal de ciclo corto Sector Servicios Turismo y Habilidades Socioemocionales - HSE, de acuerdo con el numeral 6.2. Costo Unitario, ofertando el valor de $1.172.976, el cual no supera el valor máximo establecido de $1.182.500. En consecuencia, el valor ofertado es objeto de ponderación conforme a los criterios definidos para la asignación de puntaje, por lo cual se le asigna una puntuación de 15,22 puntos.
A23: 6.3. Experiencia especifica en temática y Subsector | C23: Mayor Experiencia por subsector / temática | D23: Documento soporte | F23: Validación / dato ofertado | G23: =+G25 -> 0.57192374
B24: 6.3.1 | C24: Subsector TURISMO - HSE | D24: Anexo_10_Acreditacion_experiencia_puntuable | E24: SI | I24: El proponente allega el Anexo 10_Acreditacion_experiencia_puntuable debidamente diligenciado y firmado por el representante legal, en el marco de lo establecido en el DOCUMENTO DE ESPECÍFICACIONES TÉCNICAS Cursos de formación informal de ciclo corto Sector Servicios Turismo y Habilidades Socioemocionales - HSE, de acuerdo con el numeral 6.3. Experiencia específica en temática y subsector.
D25: Anexo_11_basededatos_personasformadasSectores | F25: 55 | G25: =IF(E24="SI",(Datos!$C$10*(Oferta_3_Fun_CCB!F25/Medidas!$D$9)),0) -> 0.57192374 | I25: El proponente allega el Anexo_11_basededatos_personasformadasSectores, en el marco de lo establecido en el DOCUMENTO DE ESPECÍFICACIONES TÉCNICAS Cursos de formación informal de ciclo corto Sector Servicios Turismo y Habilidades Socioemocionales - HSE, de acuerdo con el numeral 6.3. Experiencia específica en temática y subsector, en el cual relaciona un total de 922 personas formadas en el subsector de turismo. No obstante, una vez realizada la verificación por parte del equipo evaluador sobre la información registrada, se evidenció que: - Únicamente 56 personas corresponden a formación específica en el subsector de turismo, particularmente asociada al programa de "Administración Turística". - Adicionalmente, se identificó que dentro de este grupo una (1) persona no cuenta con información completa de identificación (nombre y apellido), por lo cual no es posible validarla. En consecuencia, el total de personas efectivamente verificadas y que cumplen con los criterios establecidos en el DOCUMENTO DE ESPECÍFICACIONES TÉCNICAS Cursos de formación informal de ciclo corto Sector Servicios Turismo y Habilidades Socioemocionales - HSE, de acuerdo con el numeral 6.3, corresponde a 55 personas. En ese sentido, para efectos de la asignación de puntaje, se tuvo en cuenta únicamente el número de personas validadas conforme a los criterios definidos en la Nota 3. en la cual reza "(...) En el caso de que se presente por parte del oferente un curso, programa, seminario, u otros cursos cortos, que no haga parte del Subsector de la convocatoria en que se presenta la oferta, la relación de personas formadas para ese programa, curso, seminarios, etc no será tenida en cuenta sobre el total que se reporta, es decir, que la Agencia Atenea valdrá en función de la puntuación solo la cantidad de personas formadas relacionadas con el Subsector de la convocatoria(...)", Por lo anterior se otorga un puntaje de 0,57 puntos.
A26: 6.4. Incentivos a la contratación | C26: Incentivos a la contratación | D26: Documento soporte | E26: Descripción | F26: Validación / dato ofertado | G26: =+SUM(G27:G28) -> 0.25
B27: 6.4.1 | C27: Criterios adicionales para Mipymes en el Sistema de Compras Públicas | E27: Participante que acredite un tamaño empresarial de micro, pequeña o mediana empresa. | F27: NO | G27: =+IF(F27="SI",Datos!$C$13,0) -> 0 | I27: De acuerdo con la revisión realizada por la Agencia ATENEA, se asigna un puntaje de 0 (cero) en este criterio, al no ser la entidad una Mypime, conforme a lo establecido en el numeral 6.4 - Incentivos a la contratación, aspecto puntuable “Criterios adicionales para Mipymes en el Sistema de Compras Públicas”, del DOCUMENTO DE ESPECÍFICACIONES TÉCNICAS Cursos de formación informal de ciclo corto Sector Servicios Turismo y Habilidades Socioemocionales - HSE.
B28: 6.4.2 | C28: Empresas y emprendimientos de mujeres en el Sistema de Compras Públicas | D28: Anexo_12_Incentivos_Contratacion_Puntuable | E28: Participante que acredite que su equipo de trabajo base está conformado mínimo por el 50% de mujeres. | F28: SI | G28: =+IF(F28="SI",Datos!$C$14,0) -> 0.25 | I28: Para este factor de ponderación, al proponente se le asigna una puntuación de 0,25 puntos. Lo anterior como resultado de la validación realizada por la Agencia ATENEA en el marco de la presentación de la oferta, en la cual el oferente allegó el Anexo_12_Incentivos_Contratacion_Puntuable, mediante el cual manifiesta el compromiso de que el equipo de trabajo base estará conformado como mínimo en un 50% por mujeres, conforme a lo establecido en el DOCUMENTO DE ESPECÍFICACIONES TÉCNICAS Cursos de formación informal de ciclo corto Sector Servicios Turismo y Habilidades Socioemocionales - HSE, de acuerdo con el numeral 6.4. Incentivos a la contratación, en el aspecto puntuable “Empresas y emprendimientos de mujeres en el Sistema de Compras Públicas”.
E29: .. | G29: =+G26+G23+G21+G18 -> 46.539626

Sheet Oferta_4_Gestion_Total
A1: Nombre Proveedor | B1: GESTIÓN TOTAL CORPORATIVA SAS BIC
A2: Priorización de oferta | B2: 2
A3: Fecha | B3: 46098
A4: Nombre de contacto | B4: CARLOS ALBERTO UMBARILA ZAMORA
A5: Correo de contacto | B5: info@gestion-total.com
A6: Teléfono de contacto | B6: 3176399468
A7: Estado Final | B7: EVALUADO
A8: Puntuación Final | B8: =+IF($B$7="Evaluado",(G26+G23+G21+G18),0) -> 49.02731
A9: 2621493
A10: CRITERIOS | B10: No. | C10: 8.5. CAUSALES DE RECHAZO | D10: Documento | E10: APORTADO Si / NO | F10: DATO | H10: ESTADO | I10: Observaciones
A11: Validación Causales de rechazo | B11: 1 | C11: Cuando el proponente no aporte el Anexo 09_Propuesta_Economica debidamente diligenciado, completo, sin modificaciones de estructura | D11: Anexo 09_Propuesta_Economica | E11: SI | H11: =+IF(E11="SI","ACEPTADO","RECHAZADO") -> ACEPTADO | I11: El proponente diligencia el valor del presupuesto en el Anexo 09_Propuesta_Económica, en el cual se oferta el costo unitario por cupo de la estrategia integral del programa a desarrollar en el marco del programa Talento Capital Formación de la Agencia ATENEA, el cual se encuentra relacionado de acuerdo con los criterios establecidos en el DOCUMENTO DE ESPECÍFICACIONES TÉCNICAS Cursos de formación informal de ciclo corto Sector Servicios Turismo y Habilidades Socioemocionales - HSE, de acuerdo al numeral 6.2. Costo Unitario.
C12: Valor total de la propuesta | D12: Anexo 09_Propuesta_Economica | F12: 64531753 | H12: =+IF(F12<=Datos!B29,"ACEPTADO","RECHAZADO") -> ACEPTADO | I12: El proponente diligencia el valor del presupuesto en el Anexo 09_Propuesta_Económica, en el cual se establece el valor total de la propuesta de la estrategia integral del programa a desarrollar en el marco del programa Talento Capital Formación de la Agencia ATENEA, el cual se encuentra relacionado de acuerdo con los criterios establecidos en el DOCUMENTO DE ESPECÍFICACIONES TÉCNICAS Cursos de formación informal de ciclo corto Sector Servicios Turismo y Habilidades Socioemocionales - HSE, de acuerdo al numeral 6.2. Costo Unitario, ofertando el valor de $64.531.752,88, el cual no supera el valor máximo establecido de $65.000.000. Por tanto, cumple con el requisito.
B13: 2 | C13: Cuando el costo unitario por cupo de la propuesta económica no se allegue o su valor supere el costo unitario máximo establecido para el presente proceso. (Anexo 09_Propuesta_Economica) | D13: Anexo 09_Propuesta_Economica | E13: SI | F13: COSTO CUPO UNITARIO OFERTADO - TURISMO | G13: 1152352.7 | H13: =+IF(G13<=Datos!B28,"ACEPTADO","RECHAZADO") -> ACEPTADO | I13: El proponente diligencia el valor del presupuesto en el Anexo 09_Propuesta_Económica, en el cual se oferta el costo unitario por cupo de la estrategia integral del programa a desarrollar en el marco del programa Talento Capital Formación de la Agencia ATENEA, el cual se encuentra relacionado de acuerdo con los criterios establecidos en el DOCUMENTO DE ESPECÍFICACIONES TÉCNICAS Cursos de formación informal de ciclo corto Sector Servicios Turismo y Habilidades Socioemocionales - HSE, de acuerdo al numeral 6.2. Costo Unitario, ofertando el valor de $1.152.352,73, el cual no supera el valor máximo establecido de $1.182.500. Por tanto, cumple con el requisito.
B14: 3 | C14: Cuando el proponente no aporte el Anexo_17_Syllabus debidamente diligenciado, completo y sin modificaciones de estructura y hasta una vez surtido el proceso de subsanación establecido en el cronograma del presente proceso contractual. Para los casos en que los ajustes solicitados no queden debidamente subsanados se rechazará la oferta del proponente del banco de oferentes | D14: Anexo_17_Syllabus | E14: SI | H14: =+IF(E14="SI","ACEPTADO","RECHAZADO") -> ACEPTADO | I14: El proponente allega el Anexo 17_Syllabus, debidamente diligenciado, completo y sin modificaciones en su estructura, en el marco de lo establecido en el DOCUMENTO DE ESPECÍFICACIONES TÉCNICAS Cursos de formación informal de ciclo corto Sector Servicios Turismo y Habilidades Socioemocionales - HSE, de acuerdo con el numeral 4. Requisitos de la oferta – característica: Syllabus. En el marco de la evaluación inicial, el equipo evaluador identificó observaciones en el contenido del anexo, particularmente en los numerales 1.8. Conocimientos y habilidades y 1.14. Resumen técnico del curso, razón por la cual se solicitó subsanación dentro del término definido en el cronograma del proceso. Una vez revisada la información allegada por el proponente en etapa de subsanación, se verificó que se realizaron los ajustes requeridos en los numerales previamente señalados, evidenciándose cumplimiento frente a las condiciones establecidas en el DOCUMENTO DE ESPECÍFICACIONES TÉCNICAS y el Anexo 17_Syllabus, particularmente en lo relacionado con la diferenciación de la modalidad de formación entre el componente técnico (virtual sincrónico) y el componente de habilidades socioemocionales – HSE (presencial), así como la coherencia en la distribución horaria y la planeación académica del programa. Así mismo, se verificó que no se presentaran modificaciones en la estructura del anexo ni en los textos base del formato establecido por la entidad. En consecuencia, se concluye que el proponente cumple con el requisito, una vez surtido el proceso de subsanación y verificación.
B15: 4 | C15: Cuando el proponente no aporte el Anexo 13_ Carta Presentacion_propuesta debidamente diligenciado, completo, sin modificaciones de estructura y debidamente firmado por el Representante Legal y hasta una vez surtido el proceso de subsanación establecido en el cronograma del presente proceso contractual. Para los casos en que los ajustes solicitados no queden debidamente subsanados se rechazará la oferta del proponente del banco de oferentes | D15: Anexo 13_ Carta Presentacion_propuesta | E15: SI | H15: =+IF(E15="SI","ACEPTADO","RECHAZADO") -> ACEPTADO | I15: El proponente diligencia la información en el Anexo 13_Carta Presentacion_propuesta, mediante el cual presenta la propuesta en el marco del programa Talento Capital Formación de la Agencia ATENEA, el cual se encuentra relacionado de acuerdo con los criterios establecidos en el DOCUMENTO DE ESPECÍFICACIONES TÉCNICAS Cursos de formación informal de ciclo corto Sector Servicios Turismo y Habilidades Socioemocionales - HSE, evidenciándose su presentación debidamente diligenciada, completa, sin modificaciones en su estructura y debidamente firmado por el representante legal. Por tanto, cumple con el requisito.
B16: 5 | C16: Cuando el proponente no haya cumplido los requisitos de ejecución de la Operación Principal, caso en el cual no contará con la posibilidad para participar en las convocatorias de la Operación Secundaria | D16: No aplica | E16: NO | H16: =+IF(E16="NO","ACEPTADO","RECHAZADO") -> ACEPTADO
A17: 6. FACTORES DE PONDERACIÓN | B17: No. | C17: Criterio | G17: Puntaje asignado
A18: 6.1. Equipo de docente en función de la calidad | C18: Equipos docentes del proyecto | D18: Documento soporte | E18: Descripción | F18: Validación / dato ofertado | G18: =+MAX(G19:G20) -> 30.5
B19: 6.1.1 | C19: Total de docentes, tutores o monitores que cuenten con experiencia adicional de un año y hasta un año y once meses | D19: Anexo 08_Equipo_trabajo_funcion_calidad_puntuable | E19: Se asignará hasta 15 puntos, para el oferente que presente con su oferta que los docentes, tutores o monitores partiendo de la relación técnica definida de que por cada 30 estudiantes se requiere un docente) con mejoramiento de su perfil en un año y hasta un año y once meses, adicionales en la experiencia profesional a la experiencia mínima requerida y relacionada con el subsector en el que se impartirá la formación, es decir, igual a dos años y hasta 2 años y once meses. | F19: NO | G19: =+IF(F19="SI",Datos!C3,0) -> 0
B20: 6.1.2 | C20: Total de docentes, tutores o monitores que cuenten con experiencia adicional de dos años o más | D20: Anexo 08_Equipo_trabajo_funcion_calidad_puntuable | E20: Se asignará hasta 30,5 puntos, para el oferente que presente con su oferta que los docentes, tutores o monitores partiendo de la relación técnica definida de que por cada 30 estudiantes se requiere un docente) con mejoramiento de su perfil en dos años o más, adicionales en la experiencia profesional a la experiencia mínima requerida y relacionada con el subsector en el que se impartirá la formación, es decir, igual a tres años o más. | F20: SI | G20: =+IF(F20="SI",Datos!C4,0) -> 30.5 | I20: Para este factor de ponderación, al proponente se le asigna una puntuación de 30,5 puntos. Lo anterior como resultado de la validación por parte del equipo evaluador en el marco de la presentación de la oferta, en la cual el oferente allegó el documento Anexo 08_Equipo_trabajo_funcion_calidad_puntuable, según lo establecido en el DOCUMENTO DE ESPECÍFICACIONES TÉCNICAS Cursos de formación informal de ciclo corto Sector Servicios Turismo y Habilidades Socioemocionales - HSE, de acuerdo con el numeral 6.1. Equipo docente en función de la calidad, en el cual se establece que “Se asignará hasta 30,5 puntos, para el oferente que presente con su oferta que los docentes, tutores o monitores partiendo de la relación técnica definida de que por cada 30 estudiantes se requiere un docente) con mejoramiento de su perfil en dos años o más, adicionales en la experiencia profesional a la experiencia mínima requerida y relacionada con el subsector en el que se impartirá la formación, es decir, igual a tres años o más”, evidenciándose que el proponente selecciona este criterio.
A21: 6.2. Costo Unitario | C21: Menor costo unitario | D21: Documento soporte | F21: Validación / dato ofertado | G21: =+SUM(G22:G22) -> 15.490049 | H21: CUPOS OFERTADOS
B22: 6.2.1 | C22: Costo Cupo Unitario ofertado | D22: Anexo 09_Propuesta_Economica | E22: COSTO CUPO UNITARIO OFERTADO - TURISMO | F22: =+G13 -> 1152352.7 | G22: =IF($H$13="ACEPTADO",((Datos!$C$7*(Medidas!$C$9/Oferta_4_Gestion_Total!F22))),0) -> 15.490049 | H22: 56 | I22: El proponente diligencia el valor del presupuesto en el Anexo 09 – Propuesta Económica, en el cual se oferta el costo unitario por cupo de la estrategia integral del programa a desarrollar en el marco del programa de Talento Capital Formación de la Agencia ATENEA, el cual se encuentra relacionado de acuerdo con los criterios establecidos en el DOCUMENTO DE ESPECÍFICACIONES TÉCNICAS Cursos de formación informal de ciclo corto Sector Servicios Turismo y Habilidades Socioemocionales - HSE, de acuerdo con el numeral 6.2. Costo Unitario, ofertando el valor de $1.152.352,73, el cual no supera el valor máximo establecido de $1.182.500. En consecuencia, el valor ofertado es objeto de ponderación conforme a los criterios definidos para la asignación de puntaje, por lo cual se le asigna una puntuación de 15,49 puntos.
A23: 6.3. Experiencia especifica en temática y Subsector | C23: Mayor Experiencia por subsector / temática | D23: Documento soporte | F23: Validación / dato ofertado | G23: =+G25 -> 2.5372617
B24: 6.3.1 | C24: Subsector TURISMO - HSE | D24: Anexo_10_Acreditacion_experiencia_puntuable | E24: SI | I24: El proponente allega el Anexo 10_Acreditacion_experiencia_puntuable debidamente diligenciado y firmado por el representante legal, en el marco de lo establecido en el DOCUMENTO DE ESPECÍFICACIONES TÉCNICAS Cursos de formación informal de ciclo corto Sector Servicios Turismo y Habilidades Socioemocionales - HSE, de acuerdo con el numeral 6.3. Experiencia específica en temática y subsector.
D25: Anexo_11_basededatos_personasformadasSectores | F25: 244 | G25: =IF(E24="SI",(Datos!$C$10*(Oferta_4_Gestion_Total!F25/Medidas!$D$9)),0) -> 2.5372617 | I25: El proponente, para este factor de ponderación, obtuvo una puntuación de 2,54 puntos. Lo anterior, teniendo en cuenta que el oferente allegó dentro de su propuesta el documento denominado “Anexo_11_basededatos_personasformadasSectores” en formato Excel, debidamente diligenciado, lo cual le permite al equipo evaluador técnico de la Agencia ATENEA validar el requisito 6. Factores de Ponderación, numeral 6.3. Experiencia específica en temática y subsector, establecido en el DOCUMENTO DE ESPECIFICACIONES TÉCNICAS Cursos de formación informal de ciclo corto Sector Servicios Turismo y Habilidades Socioemocionales - HSE, en el marco de la Convocatoria Operación Secundaria Banco de Oferentes. De acuerdo con la información registrada, el proponente certifica en el Anexo 10_Acreditacion_experiencia_puntuable un total de 529 personas formadas, mientras que en el Anexo_11_basededatos_personasformadasSectores relaciona 526 registros, evidenciándose una diferencia de tres (3) registros entre la certificación y la base de datos aportada. Una vez realizada la verificación de los datos, se encuentra una relación de 526 registros, sin embargo, se identificó: -275 registros corresponden a personas jurídicas, las cuales no son objeto de validación para este criterio. -Dos (2) registros no cuentan con documento de identidad, lo que impide validar su trazabilidad. -Cinco (5) registros no presentan información de nombres y/o apellidos, por lo cual no es posible verificar la identidad de las personas formadas. Por lo tanto, el dato de cantidad de personas formadas por el oferente válido para la Agencia ATENEA será de 244 registros, según la verificación realizada.
A26: 6.4. Incentivos a la contratación | C26: Incentivos a la contratación | D26: Documento soporte | E26: Descripción | F26: Validación / dato ofertado | G26: =+SUM(G27:G28) -> 0.5
B27: 6.4.1 | C27: Criterios adicionales para Mipymes en el Sistema de Compras Públicas | E27: Participante que acredite un tamaño empresarial de micro, pequeña o mediana empresa. | F27: SI | G27: =+IF(F27="SI",Datos!$C$13,0) -> 0.25 | I27: Para este factor de ponderación, al proponente se le asigna una puntuación de 0,25 puntos. Lo anterior como resultado de la validación realizada por la Agencia ATENEA en el marco de la presentación de la oferta, en la cual se verificó que el proponente acredita la condición de micro, pequeña o mediana empresa (Mipyme), conforme a lo establecido en el DOCUMENTO DE ESPECÍFICACIONES TÉCNICAS Cursos de formación informal de ciclo corto Sector Servicios Turismo y Habilidades Socioemocionales - HSE, de acuerdo con el numeral 6.4. Incentivos a la contratación, en el aspecto puntuable “Criterios adicionales para Mipymes en el Sistema de Compras Públicas”, por lo cual cumple con el criterio establecido.
B28: 6.4.2 | C28: Empresas y emprendimientos de mujeres en el Sistema de Compras Públicas | D28: Anexo_12_Incentivos_Contratacion_Puntuable | E28: Participante que acredite que su equipo de trabajo base está conformado mínimo por el 50% de mujeres. | F28: SI | G28: =+IF(F28="SI",Datos!$C$14,0) -> 0.25 | I28: Para este factor de ponderación, al proponente se le asigna una puntuación de 0,25 puntos. Lo anterior como resultado de la validación realizada por parte del equipo evaluador en el marco de la presentación de la oferta, en la cual el oferente allegó el Anexo_12_Incentivos_Contratacion_Puntuable, debidamente diligenciado y firmado por el representante legal, mediante el cual manifiesta el compromiso de que el equipo de trabajo base estará conformado como mínimo en un 50% por mujeres, conforme a lo establecido en el DOCUMENTO DE ESPECÍFICACIONES TÉCNICAS Cursos de formación informal de ciclo corto Sector Servicios Turismo y Habilidades Socioemocionales - HSE, de acuerdo con el numeral 6.4. Incentivos a la contratación, en el aspecto puntuable “Empresas y emprendimientos de mujeres en el Sistema de Compras Públicas”.
E29: .. | G29: =+G26+G23+G21+G18 -> 49.02731

Sheet Oferta_5_Incap
A1: Nombre Proveedor | B1: INSTITUTO COLOMBIANO DE APRENDIZAJE (INCAP) SAS
A2: Priorización de oferta | B2: 1
A3: Fecha | B3: 46098
A4: Nombre de contacto | B4: ANDRES EDUARDO GALVIS MARTINEZ
A5: Correo de contacto | B5: luis.barbosa@incap.edu.co
A6: Teléfono de contacto | B6: 313 331 2614
