Workbook
Name \0: #REF!
Name \00: #REF!
Name \a: #REF!
Name \AA: #REF!
Name \b: #REF!
Name \bb: #REF!
Name \c: #REF!
Name \E: #REF!
Name \EE: #REF!
Name \eliminar: #REF!
Name \eliminar1: #REF!
Name \G: #REF!
Name \i: #REF!
Name \k: #REF!
Name \l: #REF!
Name \M: #REF!
Name \ñ: #REF!
Name \P: #REF!
Name \q: #REF!
Name \R: #REF!
Name \s: #REF!
Name \t: #REF!
Name \V: #REF!
Name \X: [0]!ERR
Name \X: [0]!ERR
Name \X: [0]!ERR
Name \X: [0]!ERR
Name \X: [0]!ERR
Name \X: [0]!ERR
Name \X: [0]!ERR
Name \Z: [0]!ERR
Name \Z: [0]!ERR
Name \Z: [0]!ERR
Name \Z: [0]!ERR
Name \Z: [0]!ERR
Name \Z: [0]!ERR
Name \Z: [0]!ERR
Name _: #REF!
Name _: #REF!
Name _: #REF!
Name _: #REF!
Name _: #REF!
Name _: #REF!
Name __: #REF!
Name __: #REF!
Name __: #REF!
Name __: #REF!
Name __: #REF!
Name __: #REF!
Name _________________________________________________i1: #REF!
Name ________________________________________________i1: #REF!
Name _______________________________________________i1: #REF!
Name ______________________________________________i1: #REF!
Name _____________________________________________i1: #REF!
Name ____________________________________________i1: #REF!
Name ___________________________________________i1: #REF!
Name __________________________________________i1: #REF!
Name _________________________________________i1: #REF!
Name ________________________________________i1: #REF!
Name _______________________________________i1: #REF!

Sheet Presupuesto  
E2: PRESUPUESTO ESTADIO SAN MARTÍN DE LOBA JULIO DE 2025 | H2: ALCALDIA MUNICIPAL DE SAN MARTÍN DE LOBA
D9: ÍTEM | E9: DESCRIPCIÓN | F9: UNIDAD | G9: CANTIDAD | H9: VALOR UNITARIO | I9: VALOR PARCIAL
D10: 1 | E10: PRELIMINARES | I10: =SUM(I11:I21) -> 1.0565515e+08
D11: 1.1 | E11: Cerramiento y señalización del área de trabajo | F11: ml | G11: 219.7094 | H11: 73813.248 | I11: =+H11*G11 -> 16217464 | K11: =+H11*#REF! -> #REF! | L11: =+G11*K11 -> #REF!
D12: 1.2 | E12: Campamento de obra (oficina y almacén, incluye habilitación de contenedor existente y reubicación) | F12: glb | G12: 1 | H12: 9419480.6 | I12: =+H12*G12 -> 9419480.6 | K12: =+H12*#REF! -> #REF! | L12: =+G12*K12 -> #REF!
D13: 1.3 | E13: Elementos e Implementos de seguridad obra ref: extintor, camilla, botiquin, señalizacion, elementos de bioseguridad | F13: glb | G13: 1 | H13: 2320698.9 | I13: =+H13*G13 -> 2320698.9 | K13: =+H13*#REF! -> #REF! | L13: =+G13*K13 -> #REF!
D14: 1.4 | E14: Alquiler de baños ecológico provisionales 2 unidades | F14: glb | G14: 1 | H14: 9122386.9 | I14: =+H14*G14 -> 9122386.9 | K14: =+H14*#REF! -> #REF! | L14: =+G14*K14 -> #REF!
D15: 1.5 | E15: Localización, trazado y replanteo | F15: m2 | G15: 4815.5524 | H15: 3816.12 | I15: =+H15*G15 -> 18376726 | K15: =+H15*#REF! -> #REF! | L15: =+G15*K15 -> #REF!
D16: 1.6 | E16: Demolición de cerramiento perimetral en mampostería, incluye columnas y contrafuertes | F16: m3 | G16: 48.909182 | H16: 432637.12 | I16: =+H16*G16 -> 21159927 | K16: =+H16*#REF! -> #REF! | L16: =+G16*K16 -> #REF!
D17: 1.7 | E17: Demolición decimentación de cerramiento perimetral | F17: m3 | G17: 9.1704715 | H17: 432637.12 | I17: =+H17*G17 -> 3967486.4 | K17: =+H17*#REF! -> #REF! | L17: =+G17*K17 -> #REF!
D18: 1.8 | E18: Desmonte de cerramiento perimetral en malla eslabonada, incluye verticales | F18: m2 | G18: 262.16328 | H18: 41022 | I18: =+H18*G18 -> 10754462 | K18: =+H18*#REF! -> #REF! | L18: =+G18*K18 -> #REF!
D19: 1.9 | E19: Traslado de escombro y material sobrante al lugar aprobado por interventoría | F19: m3 | G19: 136.72864 | H19: 81740.96 | I19: =+H19*G19 -> 11176330 | K19: =+H19*#REF! -> #REF! | L19: =+G19*K19 -> #REF!
D20: 1.10 | E20: Desmonte de porterías, incluye disposición final | F20: und | G20: 1 | H20: 210600 | I20: =+H20*G20 -> 210600 | K20: =+H20*#REF! -> #REF! | L20: =+G20*K20 -> #REF!
D21: 1.11 | E21: Desmonte de postes de iluminación, incluye disposición final | F21: und | G21: 5 | H21: 585918 | I21: =+H21*G21 -> 2929590 | K21: =+H21*#REF! -> #REF! | L21: =+G21*K21 -> #REF!
D22: 2 | E22: MOVIMIENTO DE TIERRAS | I22: =SUM(I23:I34) -> 9.238527e+08 | K22: =+H22*#REF! -> #REF! | L22: =+G22*K22 -> #REF!
D23: 2.1 | E23: Excavación común: zapatas, viga cimiento de camerinos de hombres y mujeres | F23: m3 | G23: 65.73333 | H23: 65649.3 | I23: =+H23*G23 -> 4315347.1 | K23: =+H23*#REF! -> #REF! | L23: =+G23*K23 -> #REF!
D24: 2.2 | E24: Excavación común: zapatas, viga cimiento de gradas | F24: m3 | G24: 859.92264 | H24: 65649.3 | I24: =+H24*G24 -> 56453319 | K24: =+H24*#REF! -> #REF! | L24: =+G24*K24 -> #REF!
D25: 2.3 | E25: Excavación pilotes, según diseños y estudios de gradas | F25: ml | G25: 1692.3024 | H25: 351344.9 | I25: =+H25*G25 -> 5.9458181e+08 | K25: =+H25*#REF! -> #REF! | L25: =+G25*K25 -> #REF!
D26: 2.4 | E26: Excavación común: zapatas, viga cimiento de portería | F26: m3 | G26: 77.724192 | H26: 65649.3 | I26: =+H26*G26 -> 5102538.8 | K26: =+H26*#REF! -> #REF! | L26: =+G26*K26 -> #REF!
D27: 2.4 | E27: Excavación común: zapatas, viga cimiento de punto de venta | F27: m3 | G27: 42.60516 | H27: 65649.3 | I27: =+H27*G27 -> 2796998.9 | K27: =+H27*#REF! -> #REF! | L27: =+G27*K27 -> #REF!
D28: 2.5 | E28: Relleno y compactacion con material selecionado en cimentación de camerinos de hombres y mujeres | F28: m3 | G28: 22.726782 | H28: 120420.78 | I28: =+H28*G28 -> 2736776.8 | K28: =+H28*#REF! -> #REF! | L28: =+G28*K28 -> #REF!
D29: 2.6 | E29: Relleno y compactacion con material selecionado de gradas | F29: m3 | G29: 123.09538 | H29: 120420.78 | I29: =+H29*G29 -> 14823241 | K29: =+H29*#REF! -> #REF! | L29: =+G29*K29 -> #REF!
D30: 2.6 | E30: Relleno y compactacion con material selecionado en cimentación de portería | F30: m3 | G30: 6.151392 | H30: 120420.78 | I30: =+H30*G30 -> 740755.42 | K30: =+H30*#REF! -> #REF! | L30: =+G30*K30 -> #REF!
D31: 2.7 | E31: Relleno y compactacion con material selecionado cimentación de punto de venta | F31: m3 | G31: 15.030288 | H31: 120420.78 | I31: =+H31*G31 -> 1809959 | K31: =+H31*#REF! -> #REF! | L31: =+G31*K31 -> #REF!
D32: 2.8 | E32: Adecuación de zona de grama sintética para cancha | F32: m2 | G32: 2717.739 | H32: 78480 | I32: =+H32*G32 -> 2.1328816e+08 | K32: =+H32*#REF! -> #REF! | L32: =+G32*K32 -> #REF! | N32: =+H32/0.15 -> 523200 | O32: =+N32*0.6 -> 313920 | P32: =+O32-180000 -> 133920 | Q32: =+P32*0.15 -> 20088
D33: 2.9 | E33: Relleno y compactacion con material selecionado en general | F33: m3 | G33: 186.24349 | H33: 120420.78 | I33: =+H33*G33 -> 22427587 | K33: =+H33*#REF! -> #REF! | L33: =+G33*K33 -> #REF!
D34: 2.10 | E34: Adecuación de zona de grama natural para exteriores | F34: m2 | G34: 132.2088 | H34: 36126.234 | I34: =+H34*G34 -> 4776206.1 | K34: =+H34*#REF! -> #REF! | L34: =+G34*K34 -> #REF!
D35: 3 | E35: ESTRUCTURA CIMENTACIÓN | I35: =SUM(I36:I55) -> 2.207566e+09 | K35: =+H35*#REF! -> #REF! | L35: =+G35*K35 -> #REF!
D36: 3.1 | E36: Solado en concreto pobre 2000 psi con espesor de 5cm de camerinos de hombres y mujeres | F36: m2 | G36: 22.712832 | H36: 80999.337 | I36: =+H36*G36 -> 1839724.3 | K36: =+H36*#REF! -> #REF! | L36: =+G36*K36 -> #REF!
D37: 3.2 | E37: Concreto zapatas (incluye encofrado y desencofrado) de camerinos de hombres y mujeres | F37: m3 | G37: 6.8138496 | H37: 1426848.3 | I37: =+H37*G37 -> 9722329.9 | K37: =+H37*#REF! -> #REF! | L37: =+G37*K37 -> #REF!
D38: 3.3 | E38: Concreto vigas de cimentación (incluye encofrado y desencofrado) en camerinos de hombres y mujeres | F38: m3 | G38: 7.0303313 | H38: 1625088.3 | I38: =+H38*G38 -> 11424909 | K38: =+H38*#REF! -> #REF! | L38: =+G38*K38 -> #REF!
D39: 3.4 | E39: Acero de refuerzo en camerinos de hombres y mujeres | F39: kg | G39: 1799.7435 | H39: 13265.088 | I39: =+H39*G39 -> 23873756 | K39: =+H39*#REF! -> #REF! | L39: =+G39*K39 -> #REF!
D40: 3.5 | E40: Solado en concreto pobre 2000 psi con espesor de 5cm de gradas | F40: m2 | G40: 245.34702 | H40: 80999.337 | I40: =+H40*G40 -> 19872946 | K40: =+H40*#REF! -> #REF! | L40: =+G40*K40 -> #REF!
D41: 3.6 | E41: Concreto Pilotes (incluye encofrado y desencofrado) | F41: m3 | G41: 225.42084 | H41: 1209193.5 | I41: =+H41*G41 -> 2.7257741e+08 | K41: =+H41*#REF! -> #REF! | L41: =+G41*K41 -> #REF!
D42: 3.7 | E42: Concreto zapatas (incluye encofrado y desencofrado) de gradas | F42: m3 | G42: 158.51664 | H42: 1426848.3 | I42: =+H42*G42 -> 2.261792e+08 | K42: =+H42*#REF! -> #REF! | L42: =+G42*K42 -> #REF!
D43: 3.8 | E43: Concreto vigas de cimentación (incluye encofrado y desencofrado) de gradas | F43: m3 | G43: 162.22176 | H43: 1625088.3 | I43: =+H43*G43 -> 2.6362469e+08 | K43: =+H43*#REF! -> #REF! | L43: =+G43*K43 -> #REF!
D44: 3.9 | E44: Acero de refuerzo de gradas | F44: kg | G44: 68957.473 | H44: 13265.088 | I44: =+H44*G44 -> 9.1472694e+08 | K44: =+H44*#REF! -> #REF! | L44: =+G44*K44 -> #REF!
D45: 3.10 | E45: Solado en concreto pobre 2000 psi con espesor de 5cm de portería | F45: m2 | G45: 11.8296 | H45: 80999.337 | I45: =+H45*G45 -> 958189.76 | K45: =+H45*#REF! -> #REF! | L45: =+G45*K45 -> #REF!
D46: 3.11 | E46: Cimentación de postes de portería, 2 und | F46: m3 | G46: 23.94311 | H46: 1625088.3 | I46: =+H46*G46 -> 38909669 | K46: =+H46*#REF! -> #REF! | L46: =+G46*K46 -> #REF!
D47: 3.13 | E47: Acero de refuerzo de portería | F47: kg | G47: 3112.6044 | H47: 13265.088 | I47: =+H47*G47 -> 41288971 | K47: =+H47*#REF! -> #REF! | L47: =+G47*K47 -> #REF!
...

Sheet Presupuesto  version anterior
E2: PRESUPUESTO ESTADIO SAN MARTÍN DE LOBA JULIO DE 2024 | H2: ALCALDIA MUNICIPAL DE SAN MARTÍN DE LOBA
D9: ÍTEM | E9: DESCRIPCIÓN | F9: UNIDAD | G9: CANTIDAD | H9: VALOR UNITARIO | I9: VALOR PARCIAL
D10: 1 | E10: PRELIMINARES | I10: =SUM(I11:I21) -> 1.5766852e+08
D11: 1.1 | E11: Cerramiento y señalización del área de trabajo | F11: ml | G11: 354.37 | H11: 73813.248 | I11: =+H11*G11 -> 26157201 | L11: =+H11-'Presupuesto '!H11 -> 0
D12: 1.2 | E12: Campamento de obra (oficina y almacén, incluye habilitación de contenedor existente y reubicación) | F12: glb | G12: 1 | H12: 9419480.6 | I12: =+H12*G12 -> 9419480.6 | L12: =+H12-'Presupuesto '!H12 -> 0
D13: 1.3 | E13: Elementos e Implementos de seguridad obra ref: extintor, camilla, botiquin, señalizacion, elementos de bioseguridad | F13: glb | G13: 1 | H13: 2320698.9 | I13: =+H13*G13 -> 2320698.9 | L13: =+H13-'Presupuesto '!H13 -> 0 | O13: =90+95+90+95 -> 370
D14: 1.4 | E14: Alquiler de baños ecológico provisionales 2 unidades | F14: glb | G14: 1 | H14: 9122386.9 | I14: =+H14*G14 -> 9122386.9 | L14: =+H14-'Presupuesto '!H14 -> 0
D15: 1.5 | E15: Localización, trazado y replanteo | F15: m2 | G15: 7767.02 | H15: 3816.12 | I15: =+H15*G15 -> 29639880 | L15: =+H15-'Presupuesto '!H15 -> 0
D16: 1.6 | E16: Demolición de cerramiento perimetral en mampostería, incluye columnas y contrafuertes | F16: m3 | G16: =+((G11-2)*1.6*0.12)*1.1*1.06 -> 78.885777 | H16: 432637.12 | I16: =+H16*G16 -> 34128915 | L16: =+H16-'Presupuesto '!H16 -> 0
D17: 1.7 | E17: Demolición decimentación de cerramiento perimetral | F17: m3 | G17: =+((G11-2)*0.3*0.12)*1.1*1.06 -> 14.791083 | H17: 432637.12 | I17: =+H17*G17 -> 6399171.6 | L17: =+H17-'Presupuesto '!H17 -> 0
D18: 1.8 | E18: Desmonte de cerramiento perimetral en malla eslabonada, incluye verticales | F18: m2 | G18: =+(G11-2)*1.2 -> 422.844 | H18: 41022 | I18: =+H18*G18 -> 17345907 | L18: =+H18-'Presupuesto '!H18 -> 0
D19: 1.9 | E19: Traslado de escombro y material sobrante al lugar aprobado por interventoría | F19: m3 | G19: =+(G18*0.3)+G17+G16 -> 220.53006 | H19: 81740.96 | I19: =+H19*G19 -> 18026339 | L19: =+H19-'Presupuesto '!H19 -> 0
D20: 1.10 | E20: Desmonte de porterías, incluye disposición final | F20: und | G20: 2 | H20: 210600 | I20: =+H20*G20 -> 421200 | L20: =+H20-'Presupuesto '!H20 -> 0
D21: 1.11 | E21: Desmonte de postes de iluminación, incluye disposición final | F21: und | G21: 8 | H21: 585918 | I21: =+H21*G21 -> 4687344 | L21: =+H21-'Presupuesto '!H21 -> 0
D22: 2 | E22: MOVIMIENTO DE TIERRAS | I22: =SUM(I23:I36) -> 1.5083947e+09
D23: 2.1 | E23: Excavación común: zapatas, viga cimiento de camerinos de hombres y mujeres | F23: m3 | G23: =+((1.2*1.2*1.5*12)*2*1.3)+(((10.97*0.5*0.5*3)+(6.63*0.5*0.5*4))*2*1.3) -> 106.0215 | H23: 65649.3 | I23: =+H23*G23 -> 6960237.3 | L23: =+H23-'Presupuesto '!H23 -> 0
D24: 2.2 | E24: Excavación común: zapatas, viga cimiento de gradas | F24: m3 | G24: =1541.08*0.9 -> 1386.972 | H24: 65649.3 | I24: =+H24*G24 -> 91053741 | L24: =+H24-'Presupuesto '!H24 -> 0
D25: 2.3 | E25: Excavación pilotes, según diseños y estudios de gradas | F25: ml | G25: =3032.8*0.9 -> 2729.52 | H25: 351344.9 | I25: =+H25*G25 -> 9.5900292e+08 | L25: =+H25-'Presupuesto '!H25 -> 0
D26: 2.4 | E26: Excavación común: zapatas, viga cimiento de portería | F26: m3 | G26: =+((3*4*4)+(0.6*0.6*0.6))*1.3*2 -> 125.3616 | H26: 65649.3 | I26: =+H26*G26 -> 8229901.3 | L26: =+H26-'Presupuesto '!H26 -> 0
D27: 2.4 | E27: Excavación común: zapatas, viga cimiento de punto de venta | F27: m3 | G27: =+((2.2*2.2*1*9)*1.3)+(((5.64*0.5*0.5*3)+(6.76*0.5*0.5*3))*1.3) -> 68.718 | H27: 65649.3 | I27: =+H27*G27 -> 4511288.6 | L27: =+H27-'Presupuesto '!H27 -> 0
D28: 2.5 | E28: Relleno y compactacion con material selecionado en cimentación de camerinos de hombres y mujeres | F28: m3 | G28: =+((1.2*1.2*0.3*12)*2*1.3)+(((10.97*0.3*0.5*3)+(6.63*0.3*0.5*4))*2*1.3) -> 36.6561 | H28: 120420.78 | I28: =+H28*G28 -> 4414156.2 | L28: =+H28-'Presupuesto '!H28 -> 0
D29: 2.6 | E29: Relleno y compactacion con material selecionado de gradas | F29: m3 | G29: =(354.45-G28-G30-G31)*0.7 -> 198.54093 | H29: 120420.78 | I29: =+H29*G29 -> 23908454 | L29: =+H29-'Presupuesto '!H29 -> 0
D30: 2.6 | E30: Relleno y compactacion con material selecionado en cimentación de portería | F30: m3 | G30: =+((3*0.3*4)+(0.6*0.6*0.6))*1.3*2 -> 9.9216 | H30: 120420.78 | I30: =+H30*G30 -> 1194766.8 | L30: =+H30-'Presupuesto '!H30 -> 0
D31: 2.7 | E31: Relleno y compactacion con material selecionado cimentación de punto de venta | F31: m3 | G31: =+((2.2*2.2*0.3*9)*1.3)+(((5.64*0.3*0.5*3)+(6.76*0.3*0.5*3))*1.3) -> 24.2424 | H31: 120420.78 | I31: =+H31*G31 -> 2919288.7 | L31: =+H31-'Presupuesto '!H31 -> 0
D32: 2.8 | E32: Excavación común: zapatas, viga cimiento de cerramiento en malla eslabonada | F32: m3 | G32: =+(2*1.5*1.4*40)+(0.4*0.3*(51+1.3+1.3)*2)-(0.4*0.3*40) -> 176.064 | H32: 65649.3 | I32: =+H32*G32 -> 11558478 | L32: =+H32-'Presupuesto '!H32 -> -12830.7
D33: 2.9 | E33: Relleno y compactacion con material selecionado cimentación de cerramiento malla eslabonada | F33: m3 | G33: =+(2*1.5*0.4*40)+(0.4*0.3*(51+1.3+1.3)*2)-(0.4*0.3*40) -> 56.064 | H33: 120420.78 | I33: =+H33*G33 -> 6751270.6 | L33: =+H33-'Presupuesto '!H33 -> 0
D34: 2.10 | E34: Adecuación de zona de grama sintética para cancha | F34: m2 | G34: 4383.45 | H34: 78480 | I34: =+H34*G34 -> 344013156 | L34: =+H34-'Presupuesto '!H34 -> 42353.766
D35: 2.11 | E35: Relleno y compactacion con material selecionado en general | F35: m3 | G35: =+(G169+G170+G171+G172+G173+G174)*0.15*1.1 -> 300.39273 | H35: 120420.78 | I35: =+H35*G35 -> 36173527 | L35: =+H35-'Presupuesto '!H35 -> 120420.78
D36: 2.12 | E36: Adecuación de zona de grama natural para exteriores | F36: m2 | G36: 213.24 | H36: 36126.234 | I36: =+H36*G36 -> 7703558.1 | L36: =+H36-'Presupuesto '!H36 -> -44873.103
D37: 3 | E37: ESTRUCTURA CIMENTACIÓN | I37: =SUM(I38:I60) -> 3.6635229e+09
D38: 3.1 | E38: Solado en concreto pobre 2000 psi con espesor de 5cm de camerinos de hombres y mujeres | F38: m2 | G38: =+(1.2*1.2*12)*2*1.06 -> 36.6336 | H38: 80999.337 | I38: =+H38*G38 -> 2967297.3
D39: 3.2 | E39: Concreto zapatas (incluye encofrado y desencofrado) de camerinos de hombres y mujeres | F39: m3 | G39: =+(1.2*1.2*0.3*12)*2*1.06 -> 10.99008 | H39: 1426848.3 | I39: =+H39*G39 -> 15681177
D40: 3.3 | E40: Concreto vigas de cimentación (incluye encofrado y desencofrado) en camerinos de hombres y mujeres | F40: m3 | G40: =+((10.97*0.3*0.3*3)+(6.63*0.3*0.3*4))*2*1.06 -> 11.339244 | H40: 1625088.3 | I40: =+H40*G40 -> 18427273
D41: 3.4 | E41: Acero de refuerzo en camerinos de hombres y mujeres | F41: kg | G41: =+(G39+G40)*130 -> 2902.8121 | H41: 13265.088 | I41: =+H41*G41 -> 38506058
D42: 3.5 | E42: Solado en concreto pobre 2000 psi con espesor de 5cm de gradas | F42: m2 | G42: =439.69*0.9 -> 395.721 | H42: 80999.337 | I42: =+H42*G42 -> 32053139
D43: 3.6 | E43: Concreto Pilotes (incluye encofrado y desencofrado) | F43: m3 | G43: =403.98*0.9 -> 363.582 | H43: 1209193.5 | I43: =+H43*G43 -> 4.3964099e+08
D44: 3.7 | E44: Concreto zapatas (incluye encofrado y desencofrado) de gradas | F44: m3 | G44: =284.08*0.9 -> 255.672 | H44: 1426848.3 | I44: =+H44*G44 -> 3.6480517e+08
D45: 3.8 | E45: Concreto vigas de cimentación (incluye encofrado y desencofrado) de gradas | F45: m3 | G45: =290.72*0.9 -> 261.648 | H45: 1625088.3 | I45: =+H45*G45 -> 4.2520111e+08
D46: 3.9 | E46: Acero de refuerzo de gradas | F46: kg | G46: =+(G43*135)+(G44*110)+(G45*130) -> 111221.73 | H46: 13265.088 | I46: =+H46*G46 -> 1.475366e+09
D47: 3.10 | E47: Solado en concreto pobre 2000 psi con espesor de 5cm de portería | F47: m2 | G47: =3*3*2*1.06 -> 19.08 | H47: 80999.337 | I47: =+H47*G47 -> 1545467.3
...

Sheet Presupuesto BORRADOR
E2: PRESUPUESTO ESTADIO SAN MARTÍN DE LOBA JULIO DE 2025 | H2: ALCALDIA MUNICIPAL DE SAN MARTÍN DE LOBA
D9: ÍTEM | E9: DESCRIPCIÓN | F9: UNIDAD | G9: CANTIDAD | H9: VALOR UNITARIO | I9: VALOR PARCIAL
D10: 1 | E10: PRELIMINARES | I10: =SUM(I11:I21) -> 1.5766852e+08
D11: 1.1 | E11: Cerramiento y señalización del área de trabajo | F11: ml | G11: 354.37 | H11: 73813.248 | I11: =+H11*G11 -> 26157201
D12: 1.2 | E12: Campamento de obra (oficina y almacén, incluye habilitación de contenedor existente y reubicación) | F12: glb | G12: 1 | H12: 9419480.6 | I12: =+H12*G12 -> 9419480.6
D13: 1.3 | E13: Elementos e Implementos de seguridad obra ref: extintor, camilla, botiquin, señalizacion, elementos de bioseguridad | F13: glb | G13: 1 | H13: 2320698.9 | I13: =+H13*G13 -> 2320698.9
D14: 1.4 | E14: Alquiler de baños ecológico provisionales 2 unidades | F14: glb | G14: 1 | H14: 9122386.9 | I14: =+H14*G14 -> 9122386.9
D15: 1.5 | E15: Localización, trazado y replanteo | F15: m2 | G15: 7767.02 | H15: 3816.12 | I15: =+H15*G15 -> 29639880
D16: 1.6 | E16: Demolición de cerramiento perimetral en mampostería, incluye columnas y contrafuertes | F16: m3 | G16: 78.885777 | H16: 432637.12 | I16: =+H16*G16 -> 34128915
D17: 1.7 | E17: Demolición decimentación de cerramiento perimetral | F17: m3 | G17: 14.791083 | H17: 432637.12 | I17: =+H17*G17 -> 6399171.6
D18: 1.8 | E18: Desmonte de cerramiento perimetral en malla eslabonada, incluye verticales | F18: m2 | G18: 422.844 | H18: 41022 | I18: =+H18*G18 -> 17345907
D19: 1.9 | E19: Traslado de escombro y material sobrante al lugar aprobado por interventoría | F19: m3 | G19: 220.53006 | H19: 81740.96 | I19: =+H19*G19 -> 18026339
D20: 1.10 | E20: Desmonte de porterías, incluye disposición final | F20: und | G20: 2 | H20: 210600 | I20: =+H20*G20 -> 421200
D21: 1.11 | E21: Desmonte de postes de iluminación, incluye disposición final | F21: und | G21: 8 | H21: 585918 | I21: =+H21*G21 -> 4687344
D22: 2 | E22: MOVIMIENTO DE TIERRAS | I22: =SUM(I23:I32) -> 9.1912659e+08
D23: 2.1 | E23: Descapote total del area | F23: m2 | G23: 7767.02 | H23: 8987.6923 | I23: =+H23*G23 -> 69807586
D24: 2.2 | E24: Excavación común: zapatas, viga cimiento baños hombres y mujeres | F24: m3 | G24: 82.83 | H24: 65649.3 | I24: =+H24*G24 -> 5437731.5
D25: 2.3 | E25: Excavación común: zapatas, viga cimiento de gradas | F25: m3 | G25: 214.2 | H25: 65649.3 | I25: =+H25*G25 -> 14062080
D26: 2.7 | E26: Relleno y compactacion con material selecionado en cimentación de camerinos de hombres y mujeres | F26: m3 | G26: 30.75 | H26: 120420.78 | I26: =+H26*G26 -> 3702939
D27: 2.8 | E27: Relleno y compactacion con material selecionado de gradas | F27: m3 | G27: 117.6 | H27: 120420.78 | I27: =+H27*G27 -> 14161484
D28: 2.11 | E28: Adecuación de zona de grama sintética para cancha | F28: m2 | G28: 4557 | H28: 78480 | I28: =+H28*G28 -> 357633360
D29: 2.12 | E29: Relleno y compactacion con material selecionado en general | F29: m3 | G29: 3140.4 | H29: 120420.78 | I29: =+H29*G29 -> 3.7816942e+08
D30: 2.13 | E30: Adecuación de zona de grama natural para exteriores | F30: m2 | G30: =+G177 -> 270.8 | H30: 36126.234 | I30: =+H30*G30 -> 9782984.2
D31: 2.14 | E31: Geotextil nt 1600 para separacion de estratos | F31: m2 | G31: 4557 | H31: 13352 | I31: =+H31*G31 -> 60845064
D32: 2.15 | E32: Estabilizacion con piedra ciclopeo para cimentacion | F32: m3 | G32: 16 | H32: =455725/1.32 -> 345246.21 | I32: =+H32*G32 -> 5523939.4
D33: 3 | E33: ESTRUCTURA CIMENTACIÓN | I33: =SUM(I34:I42) -> 4.0433628e+08
D34: 3.1 | E34: Solado en concreto pobre 2000 psi con espesor de 5cm de baños de hombres y mujeres | F34: m2 | G34: 32 | H34: 80999.337 | I34: =+H34*G34 -> 2591978.8
D35: 3.2 | E35: Concreto zapatas (incluye encofrado y desencofrado) de baños de hombres y mujeres | F35: m3 | G35: 4.2 | H35: 1426848.3 | I35: =+H35*G35 -> 5992763
D36: 3.3 | E36: Concreto vigas de cimentación (incluye encofrado y desencofrado) en baños de hombres y mujeres | F36: m3 | G36: 5.64 | H36: 1625088.3 | I36: =+H36*G36 -> 9165498.2
D37: 3.4 | E37: Acero de refuerzo en baños de hombres y mujeres | F37: kg | G37: 764.39 | H37: 13265.088 | I37: =+H37*G37 -> 10139701
D38: 3.5 | E38: Solado en concreto pobre 2000 psi con espesor de 5cm de gradas | F38: m2 | G38: 142.8 | H38: 80999.337 | I38: =+H38*G38 -> 11566705
D39: 3.6 | E39: Concreto zapatas (incluye encofrado y desencofrado) de gradas | F39: m3 | G39: 62 | H39: 1426848.3 | I39: =+H39*G39 -> 88464596
D40: 3.7 | E40: Concreto vigas de cimentación (incluye encofrado y desencofrado) de gradas | F40: m3 | G40: 16.38 | H40: 1625088.3 | I40: =+H40*G40 -> 26618947
D41: 3.8 | E41: Acero de refuerzo de gradas | F41: kg | G41: 13758.07 | H41: 13265.088 | I41: =+H41*G41 -> 1.8250201e+08
D42: 3.9 | E42: Traslado de material sobrante por excavacion, lugar aprobado por interventoría | F42: m3 | G42: 785.1 | H42: 85714.02 | I42: =+H42*G42 -> 67294077
D43: 4 | E43: ESTRUCTURA Y ENTREPISOS | I43: =SUM(I44:I52) -> 3.7001015e+08
D44: 4.1 | E44: Construcción de columnas de baños de hombres y mujeres | F44: m3 | G44: 4.14 | H44: 2040784.5 | I44: =+H44*G44 -> 8448847.9
D45: 4.2 | E45: Construcción de vigas aereas de baños de hombres y mujeres | F45: m3 | G45: 2.88 | H45: 2340784.5 | I45: =+H45*G45 -> 6741459.4
D46: 4.3 | E46: Acero de refuerzo para baños de hombres y mujeres | F46: kg | G46: 1337.33 | H46: 13264.788 | I46: =+H46*G46 -> 17739398
D47: 4.4 | E47: Estructura metalica para cubierta | F47: kg | G47: 367.2 | H47: 25545.455 | I47: =+H47*G47 -> 9380290.9
...

Sheet 1.1
C3: ESTADIO SAN MARTÍN DE LOBA
C5: DESCRIPCION: | D5: Cerramiento y señalización del área de trabajo | H5: ITEM: | I5: 1.1
H6: UNIDAD: | I6: ml
C7: I. EQUIPO
C8: Descripcion | E8: Cantidad | F8: Tarifa/Hora | G8: Rendimiento | H8: Valor-Unit.
C9: Herramienta menor | E9: 1 | F9: 2000 | G9: 0.6501426 | H9: =+E9*F9/G9 -> 3076.2482
H13: Sub-Total | I13: =+SUM(H9:H12) -> 3076.2482
C14: II. MATERIALES EN OBRA
C15: Descripcion | E15: Unidad | F15: Pecio-Unit. | G15: Cantidad | H15: Valor-Unit.
C16: Malla verde de cerramiento | E16: m2 | F16: 8500 | G16: 1 | H16: =+G16*F16 -> 8500
C17: Madera rolliza x 3m de Ø3" aprox. | E17: UND | F17: 12000 | G17: 1 | H17: =+G17*F17 -> 12000
C18: CONCRETO 1500 PSI OB/GRAN | E18: m3 | F18: 302298 | G18: 0.078151264 | H18: =+G18*F18 -> 23624.971
C19: Puntilllas | E19: kg | F19: 2000 | G19: 3 | H19: =+G19*F19 -> 6000
H20: =+G20*F20 -> 0
H21: =+G21*F21 -> 0
H22: Sub-Total | I22: =+SUM(H16:H21) -> 50124.971
C23: III. TRANSPORTES
C24: Trabajador | E24: Valor peso o Cant. | F24: Distancia | G24: M2-km | H24: Tarifa | I24: Valor-Unit.
I27: Sub-Total | J27: =+SUM(I25:I26) -> 0
C28: IV. MANO DE OBRA
C29: Descripcion | E29: Jornal | F29: Prestaciones | G29: Jornal Total | H29: Rendimientos | I29: Valor-Unit.
C30: Oficial | E30: 92196.56 | F30: 1.85 | G30: =+F30*E30 -> 170563.64 | H30: 13.446804 | I30: =+G30/H30 -> 12684.326
C31: Ayudante | E31: 57622.85 | F31: 1.85 | G31: =+F31*E31 -> 106602.27 | H31: =+H30 -> 13.446804 | I31: =+G31/H31 -> 7927.7035
I34: Sub-Total | J34: =+SUM(I30:I33) -> 20612.029
C36: Total Costos Directos | J36: =+I13+I22+J27+J34 -> 73813.248
C40: NOMBRE DEL CONTRATISTA: | G40: FECHA:
C42: NOMBRE Y FIRMA DEL REPRESENTANTE LEGAL:

Sheet 1.2
C3: ESTADIO SAN MARTÍN DE LOBA
C5: DESCRIPCION: | D5: Campamento de obra (oficina y almacén, incluye habilitación de contenedor existente y reubicación) | H5: ITEM: | I5: 1.2
H6: UNIDAD: | I6: glb
C7: I. EQUIPO
C8: Descripcion | E8: Cantidad | F8: Tarifa/Hora | G8: Rendimiento | H8: Valor-Unit.
H13: Sub-Total | I13: =+SUM(H9:H12) -> 0
C14: II. MATERIALES EN OBRA
C15: Descripcion | E15: Unidad | F15: Pecio-Unit. | G15: Cantidad | H15: Valor-Unit.
C16: =+D5 -> Campamento de obra (oficina y almacén, incluye habilitación de contenedor existente y reubicación) | E16: und | F16: 9419480.6 | G16: 1 | H16: =+G16*F16 -> 9419480.6
H17: =+G17*F17 -> 0
H18: =+G18*F18 -> 0
H19: =+G19*F19 -> 0
H20: =+G20*F20 -> 0
H21: =+G21*F21 -> 0
H22: Sub-Total | I22: =+SUM(H16:H21) -> 9419480.6
C23: III. TRANSPORTES
C24: Trabajador | E24: Valor peso o Cant. | F24: Distancia | G24: M2-km | H24: Tarifa | I24: Valor-Unit.
I27: Sub-Total | J27: =+SUM(I25:I26) -> 0
C28: IV. MANO DE OBRA
C29: Descripcion | E29: Jornal | F29: Prestaciones | G29: Jornal Total | H29: Rendimientos | I29: Valor-Unit.
I34: Sub-Total | J34: =+SUM(I30:I33) -> 0
C36: Total Costos Directos | J36: =+I13+I22+J27+J34 -> 9419480.6
C40: NOMBRE DEL CONTRATISTA: | G40: FECHA:
C42: NOMBRE Y FIRMA DEL REPRESENTANTE LEGAL:

Sheet 1.3
C3: ESTADIO SAN MARTÍN DE LOBA
C5: DESCRIPCION: | D5: Elementos e Implementos de seguridad obra ref: extintor, camilla, botiquin, señalizacion, elementos de bioseguridad | H5: ITEM: | I5: 1.3
H6: UNIDAD: | I6: glb
C7: I. EQUIPO
C8: Descripcion | E8: Cantidad | F8: Tarifa/Hora | G8: Rendimiento | H8: Valor-Unit.
H13: Sub-Total | I13: =+SUM(H9:H12) -> 0
C14: II. MATERIALES EN OBRA
C15: Descripcion | E15: Unidad | F15: Pecio-Unit. | G15: Cantidad | H15: Valor-Unit.
C16: =+D5 -> Elementos e Implementos de seguridad obra ref: extintor, camilla, botiquin, señalizacion, elementos de bioseguridad | E16: und | F16: 2320698.9 | G16: 1 | H16: =+G16*F16 -> 2320698.9
H22: Sub-Total | I22: =+SUM(H16:H21) -> 2320698.9
C23: III. TRANSPORTES
C24: Trabajador | E24: Valor peso o Cant. | F24: Distancia | G24: M2-km | H24: Tarifa | I24: Valor-Unit.
I27: Sub-Total | J27: =+SUM(I25:I26) -> 0
C28: IV. MANO DE OBRA
C29: Descripcion | E29: Jornal | F29: Prestaciones | G29: Jornal Total | H29: Rendimientos | I29: Valor-Unit.
I34: Sub-Total | J34: =+SUM(I30:I33) -> 0
C36: Total Costos Directos | J36: =+I13+I22+J27+J34 -> 2320698.9
C40: NOMBRE DEL CONTRATISTA: | G40: FECHA:
C42: NOMBRE Y FIRMA DEL REPRESENTANTE LEGAL:

Sheet 1.4
C3: ESTADIO SAN MARTÍN DE LOBA
C5: DESCRIPCION: | D5: Alquiler de baños ecológico provisionales: 2 unidades | H5: ITEM: | I5: 1.4
H6: UNIDAD: | I6: glb
C7: I. EQUIPO
C8: Descripcion | E8: Cantidad | F8: Tarifa/Hora | G8: Rendimiento | H8: Valor-Unit.
H13: Sub-Total | I13: =+SUM(H9:H12) -> 0
C14: II. MATERIALES EN OBRA
C15: Descripcion | E15: Unidad | F15: Pecio-Unit. | G15: Cantidad | H15: Valor-Unit.
C16: =+D5 -> Alquiler de baños ecológico provisionales: 2 unidades | E16: und | F16: =9122386.90909091/2 -> 4561193.5 | G16: 2 | H16: =+G16*F16 -> 9122386.9
H22: Sub-Total | I22: =+SUM(H16:H21) -> 9122386.9
C23: III. TRANSPORTES
C24: Trabajador | E24: Valor peso o Cant. | F24: Distancia | G24: M2-km | H24: Tarifa | I24: Valor-Unit.
I27: Sub-Total | J27: =+SUM(I25:I26) -> 0
C28: IV. MANO DE OBRA
C29: Descripcion | E29: Jornal | F29: Prestaciones | G29: Jornal Total | H29: Rendimientos | I29: Valor-Unit.
I34: Sub-Total | J34: =+SUM(I30:I33) -> 0
C36: Total Costos Directos | J36: =+I13+I22+J27+J34 -> 9122386.9
C40: NOMBRE DEL CONTRATISTA: | G40: FECHA:
C42: NOMBRE Y FIRMA DEL REPRESENTANTE LEGAL:

Sheet 1.5
C3: ESTADIO SAN MARTÍN DE LOBA
C5: DESCRIPCION: | D5: Localización, trazado y replanteo | H5: ITEM: | I5: 1.5
H6: UNIDAD: | I6: m2
C7: I. EQUIPO
C8: Descripcion | E8: Cantidad | F8: Tarifa/Hora | G8: Rendimiento | H8: Valor-Unit.
C9: Herramienta menor | E9: 1 | F9: 2000.0001 | G9: 25 | H9: =+E9*F9/G9 -> 80.000005
C10: Equipos de topografía | E10: 1 | F10: 160000 | G10: 150 | H10: =+E10*F10/G10 -> 1066.6667
C11: Nivel de precisión | E11: 1 | F11: 60000 | G11: 150 | H11: =+E11*F11/G11 -> 400
H13: Sub-Total | I13: =+SUM(H9:H12) -> 1546.6667
C14: II. MATERIALES EN OBRA
C15: Descripcion | E15: Unidad | F15: Pecio-Unit. | G15: Cantidad | H15: Valor-Unit.
C16: Puntilllas | E16: kg | F16: 350 | G16: 0.03 | H16: =+G16*F16 -> 10.5
C17: Estacas de madera | E17: GLB | F17: 100 | G17: 1 | H17: =+G17*F17 -> 100
C18: Hilo o Nylon para demarcación | E18: GLB | F18: 100 | G18: 1 | H18: =+G18*F18 -> 100
H22: Sub-Total | I22: =+SUM(H16:H21) -> 210.5
C23: III. TRANSPORTES
C24: Trabajador | E24: Valor peso o Cant. | F24: Distancia | G24: M2-km | H24: Tarifa | I24: Valor-Unit.
I27: Sub-Total | J27: =+SUM(I25:I26) -> 0
C28: IV. MANO DE OBRA
C29: Descripcion | E29: Jornal | F29: Prestaciones | G29: Jornal Total | H29: Rendimientos | I29: Valor-Unit.
C30: Oficial | E30: 92196.56 | F30: 1.85 | G30: =+F30*E30 -> 170563.64 | H30: 134.61495 | I30: =+G30/H30 -> 1267.0482
C31: Ayudante | E31: 57622.85 | F31: 1.85 | G31: =+F31*E31 -> 106602.27 | H31: =+H30 -> 134.61495 | I31: =+G31/H31 -> 791.90513
I34: Sub-Total | J34: =+SUM(I30:I33) -> 2058.9533
C36: Total Costos Directos | J36: =+I13+I22+J27+J34 -> 3816.12
C40: NOMBRE DEL CONTRATISTA: | G40: FECHA:
C42: NOMBRE Y FIRMA DEL REPRESENTANTE LEGAL:

Sheet 1.6
C3: ESTADIO SAN MARTÍN DE LOBA
C5: DESCRIPCION: | D5: Demolición de cerramiento perimetral en mampostería, incluye columnas y contrafuertes | H5: ITEM: | I5: 1.6
H6: UNIDAD: | I6: m3
C7: I. EQUIPO
C8: Descripcion | E8: Cantidad | F8: Tarifa/Hora | G8: Rendimiento | H8: Valor-Unit.
C9: Herramienta menor | E9: 1 | F9: 3500 | G9: 1 | H9: =+E9*F9/G9 -> 3500
H13: Sub-Total | I13: =+SUM(H9:H12) -> 3500
C14: II. MATERIALES EN OBRA
C15: Descripcion | E15: Unidad | F15: Pecio-Unit. | G15: Cantidad | H15: Valor-Unit.
H22: Sub-Total | I22: =+SUM(H16:H21) -> 0
C23: III. TRANSPORTES
C24: Trabajador | E24: Valor peso o Cant. | F24: Distancia | G24: M2-km | H24: Tarifa | I24: Valor-Unit.
I27: Sub-Total | J27: =+SUM(I25:I26) -> 0
C28: IV. MANO DE OBRA
C29: Descripcion | E29: Jornal | F29: Prestaciones | G29: Jornal Total | H29: Rendimientos | I29: Valor-Unit.
C30: Oficial | E30: 92196.56 | F30: 1.85 | G30: =+F30*E30 -> 170563.64 | H30: 0.64586795 | I30: =+G30/H30 -> 264084.38
C31: Ayudante | E31: 57622.85 | F31: 1.85 | G31: =+F31*E31 -> 106602.27 | H31: =+H30 -> 0.64586795 | I31: =+G31/H31 -> 165052.74
I34: Sub-Total | J34: =+SUM(I30:I33) -> 429137.12
C36: Total Costos Directos | J36: =+I13+I22+J27+J34 -> 432637.12
C40: NOMBRE DEL CONTRATISTA: | G40: FECHA:
C42: NOMBRE Y FIRMA DEL REPRESENTANTE LEGAL:

Sheet 1.7
C3: ESTADIO SAN MARTÍN DE LOBA
C5: DESCRIPCION: | D5: Demolición decimentación de cerramiento perimetral | H5: ITEM: | I5: 1.7
H6: UNIDAD: | I6: m3
C7: I. EQUIPO
C8: Descripcion | E8: Cantidad | F8: Tarifa/Hora | G8: Rendimiento | H8: Valor-Unit.
C9: Herramienta menor | E9: 1 | F9: 3500 | G9: 1 | H9: =+E9*F9/G9 -> 3500
H13: Sub-Total | I13: =+SUM(H9:H12) -> 3500
C14: II. MATERIALES EN OBRA
C15: Descripcion | E15: Unidad | F15: Pecio-Unit. | G15: Cantidad | H15: Valor-Unit.
H22: Sub-Total | I22: =+SUM(H16:H21) -> 0
C23: III. TRANSPORTES
C24: Trabajador | E24: Valor peso o Cant. | F24: Distancia | G24: M2-km | H24: Tarifa | I24: Valor-Unit.
I27: Sub-Total | J27: =+SUM(I25:I26) -> 0
C28: IV. MANO DE OBRA
C29: Descripcion | E29: Jornal | F29: Prestaciones | G29: Jornal Total | H29: Rendimientos | I29: Valor-Unit.
C30: Oficial | E30: 92196.56 | F30: 1.85 | G30: =+F30*E30 -> 170563.64 | H30: 0.64586795 | I30: =+G30/H30 -> 264084.38
C31: Ayudante | E31: 57622.85 | F31: 1.85 | G31: =+F31*E31 -> 106602.27 | H31: =+H30 -> 0.64586795 | I31: =+G31/H31 -> 165052.74
I34: Sub-Total | J34: =+SUM(I30:I33) -> 429137.12
C36: Total Costos Directos | J36: =+I13+I22+J27+J34 -> 432637.12
C40: NOMBRE DEL CONTRATISTA: | G40: FECHA:
C42: NOMBRE Y FIRMA DEL REPRESENTANTE LEGAL:

Sheet 1.8
C3: ESTADIO SAN MARTÍN DE LOBA
C5: DESCRIPCION: | D5: Desmonte de cerramiento perimetral en malla eslabonada, incluye verticales | H5: ITEM: | I5: 1.8
H6: UNIDAD: | I6: m2
C7: I. EQUIPO
C8: Descripcion | E8: Cantidad | F8: Tarifa/Hora | G8: Rendimiento | H8: Valor-Unit.
C9: Herramienta menor | E9: 1 | F9: 3500 | G9: 1 | H9: =+E9*F9/G9 -> 3500
H13: Sub-Total | I13: =+SUM(H9:H12) -> 3500
C14: II. MATERIALES EN OBRA
C15: Descripcion | E15: Unidad | F15: Pecio-Unit. | G15: Cantidad | H15: Valor-Unit.
H22: Sub-Total | I22: =+SUM(H16:H21) -> 0
C23: III. TRANSPORTES
C24: Trabajador | E24: Valor peso o Cant. | F24: Distancia | G24: M2-km | H24: Tarifa | I24: Valor-Unit.
I27: Sub-Total | J27: =+SUM(I25:I26) -> 0
C28: IV. MANO DE OBRA
C29: Descripcion | E29: Jornal | F29: Prestaciones | G29: Jornal Total | H29: Rendimientos | I29: Valor-Unit.
C30: Oficial | E30: 92196.56 | F30: 1.85 | G30: =+F30*E30 -> 170563.64 | H30: 7.3867573 | I30: =+G30/H30 -> 23090.462
C31: Ayudante | E31: 57622.85 | F31: 1.85 | G31: =+F31*E31 -> 106602.27 | H31: =+H30 -> 7.3867573 | I31: =+G31/H31 -> 14431.538
I34: Sub-Total | J34: =+SUM(I30:I33) -> 37522
C36: Total Costos Directos | J36: =+I13+I22+J27+J34 -> 41022
C40: NOMBRE DEL CONTRATISTA: | G40: FECHA:
C42: NOMBRE Y FIRMA DEL REPRESENTANTE LEGAL:

Sheet 1.9
C3: ESTADIO SAN MARTÍN DE LOBA
C5: DESCRIPCION: | D5: Traslado de escombro y material sobrante al lugar aprobado por interventoría | H5: ITEM: | I5: 1.9
H6: UNIDAD: | I6: m3
C7: I. EQUIPO
C8: Descripcion | E8: Cantidad | F8: Tarifa/Hora | G8: Rendimiento | H8: Valor-Unit.
C9: Herramienta menor | E9: 1 | F9: 3500 | G9: 1 | H9: =+E9*F9/G9 -> 3500
C10: Volqueta 7m3 | E10: 1 | F10: 350000 | G10: 40 | H10: =+E10*F10/G10 -> 8750
C11: Cargador | E11: 1 | F11: 400000 | G11: 40 | H11: =+E11*F11/G11 -> 10000
H13: Sub-Total | I13: =+SUM(H9:H12) -> 22250
C14: II. MATERIALES EN OBRA
C15: Descripcion | E15: Unidad | F15: Pecio-Unit. | G15: Cantidad | H15: Valor-Unit.
H22: Sub-Total | I22: =+SUM(H16:H21) -> 0
C23: III. TRANSPORTES
C24: Trabajador | E24: Valor peso o Cant. | F24: Distancia | G24: M2-km | H24: Tarifa | I24: Valor-Unit.
I27: Sub-Total | J27: =+SUM(I25:I26) -> 0
C28: IV. MANO DE OBRA
C29: Descripcion | E29: Jornal | F29: Prestaciones | G29: Jornal Total | H29: Rendimientos | I29: Valor-Unit.
C30: Oficial | E30: 92196.56 | F30: 1.85 | G30: =+F30*E30 -> 170563.64 | H30: 4.6589584 | I30: =+G30/H30 -> 36609.822
C31: Ayudante | E31: 57622.85 | F31: 1.85 | G31: =+F31*E31 -> 106602.27 | H31: =+H30 -> 4.6589584 | I31: =+G31/H31 -> 22881.138
I34: Sub-Total | J34: =+SUM(I30:I33) -> 59490.96
C36: Total Costos Directos | J36: =+I13+I22+J27+J34 -> 81740.96
C40: NOMBRE DEL CONTRATISTA: | G40: FECHA:
C42: NOMBRE Y FIRMA DEL REPRESENTANTE LEGAL:

Sheet 1.10
C3: ESTADIO SAN MARTÍN DE LOBA
C5: DESCRIPCION: | D5: Desmonte de porterías, incluye disposición final | H5: ITEM: | I5: 1.10
H6: UNIDAD: | I6: und
C7: I. EQUIPO
C8: Descripcion | E8: Cantidad | F8: Tarifa/Hora | G8: Rendimiento | H8: Valor-Unit.
C9: Herramienta menor | E9: 1 | F9: 3500 | G9: 1 | H9: =+E9*F9/G9 -> 3500
C10: Camión grua | E10: 1 | F10: 150000 | G10: 2 | H10: =+E10*F10/G10 -> 75000
H13: Sub-Total | I13: =+SUM(H9:H12) -> 78500
C14: II. MATERIALES EN OBRA
C15: Descripcion | E15: Unidad | F15: Pecio-Unit. | G15: Cantidad | H15: Valor-Unit.
H22: Sub-Total | I22: =+SUM(H16:H21) -> 0
C23: III. TRANSPORTES
C24: Trabajador | E24: Valor peso o Cant. | F24: Distancia | G24: M2-km | H24: Tarifa | I24: Valor-Unit.
I27: Sub-Total | J27: =+SUM(I25:I26) -> 0
C28: IV. MANO DE OBRA
C29: Descripcion | E29: Jornal | F29: Prestaciones | G29: Jornal Total | H29: Rendimientos | I29: Valor-Unit.
C30: Ayudante electrico | E30: 57622.85 | F30: 1.85 | G30: 106602.27 | H30: 2.0695611 | I30: =+G30/H30 -> 51509.604
C31: Oficial electrico | E31: 90155 | F31: 1.85 | G31: 166786.75 | H31: =+H30 -> 2.0695611 | I31: =+G31/H31 -> 80590.396
I34: Sub-Total | J34: =+SUM(I30:I33) -> 132100
C36: Total Costos Directos | J36: =+I13+I22+J27+J34 -> 210600
C40: NOMBRE DEL CONTRATISTA: | G40: FECHA:
C42: NOMBRE Y FIRMA DEL REPRESENTANTE LEGAL:

Sheet 1.11
C3: ESTADIO SAN MARTÍN DE LOBA
C5: DESCRIPCION: | D5: Desmonte de postes de iluminación, incluye disposición final | H5: ITEM: | I5: 1.11
H6: UNIDAD: | I6: und
C7: I. EQUIPO
C8: Descripcion | E8: Cantidad | F8: Tarifa/Hora | G8: Rendimiento | H8: Valor-Unit.
C9: Herramienta menor | E9: 1 | F9: 3500 | G9: 1 | H9: =+E9*F9/G9 -> 3500
C10: Equipo oxicorte | E10: 1 | F10: 40000 | G10: 2 | H10: =+E10*F10/G10 -> 20000
H13: Sub-Total | I13: =+SUM(H9:H12) -> 23500
C14: II. MATERIALES EN OBRA
C15: Descripcion | E15: Unidad | F15: Pecio-Unit. | G15: Cantidad | H15: Valor-Unit.
H22: Sub-Total | I22: =+SUM(H16:H21) -> 0
C23: III. TRANSPORTES
C24: Trabajador | E24: Valor peso o Cant. | F24: Distancia | G24: M2-km | H24: Tarifa | I24: Valor-Unit.
I27: Sub-Total | J27: =+SUM(I25:I26) -> 0
C28: IV. MANO DE OBRA
C29: Descripcion | E29: Jornal | F29: Prestaciones | G29: Jornal Total | H29: Rendimientos | I29: Valor-Unit.
C30: Oficial | E30: 92196.56 | F30: 1.85 | G30: =+F30*E30 -> 170563.64 | H30: 0.49281123 | I30: =+G30/H30 -> 346103.38
C31: Ayudante | E31: 57622.85 | F31: 1.85 | G31: =+F31*E31 -> 106602.27 | H31: =+H30 -> 0.49281123 | I31: =+G31/H31 -> 216314.62
I34: Sub-Total | J34: =+SUM(I30:I33) -> 562418
C36: Total Costos Directos | J36: =+I13+I22+J27+J34 -> 585918
C40: NOMBRE DEL CONTRATISTA: | G40: FECHA:
C42: NOMBRE Y FIRMA DEL REPRESENTANTE LEGAL:

Sheet 2.1
C3: ESTADIO SAN MARTÍN DE LOBA
C5: DESCRIPCION: | D5: Descapote total del area | H5: ITEM: | I5: 2.1
H6: UNIDAD: | I6: m2
C7: I. EQUIPO
C8: Descripcion | E8: Cantidad | F8: Tarifa/Hora | G8: Rendimiento | H8: Valor-Unit.
C9: Herramienta menor | E9: 1 | F9: 2000 | G9: 0.65019506 | H9: =+E9*F9/G9 -> 3076
H13: Sub-Total | I13: =+SUM(H9:H12) -> 3076
C14: II. MATERIALES EN OBRA
C15: Descripcion | E15: Unidad | F15: Pecio-Unit. | G15: Cantidad | H15: Valor-Unit.
H16: =+G16*F16 -> 0
H17: =+G17*F17 -> 0
H18: =+G18*F18 -> 0
H19: =+G19*F19 -> 0
H20: =+G20*F20 -> 0
H21: =+G21*F21 -> 0
H22: Sub-Total | I22: =+SUM(H16:H21) -> 0
C23: III. TRANSPORTES
C24: Trabajador | E24: Valor peso o Cant. | F24: Distancia | G24: M2-km | H24: Tarifa | I24: Valor-Unit.
I27: Sub-Total | J27: =+SUM(I25:I26) -> 0
C28: IV. MANO DE OBRA
C29: Descripcion | E29: Jornal | F29: Prestaciones | G29: Jornal Total | H29: Rendimientos | I29: Valor-Unit.
C30: Oficial | E30: 92196.56 | F30: 1.85 | G30: =+F30*E30 -> 170563.64 | H30: 46.88436 | I30: =+G30/H30 -> 3637.9645
C31: Ayudante | E31: 57622.85 | F31: 1.85 | G31: =+F31*E31 -> 106602.27 | H31: =+H30 -> 46.88436 | I31: =+G31/H31 -> 2273.7278
I34: Sub-Total | J34: =+SUM(I30:I33) -> 5911.6923
C36: Total Costos Directos | J36: =+I13+I22+J27+J34 -> 8987.6923
C40: NOMBRE DEL CONTRATISTA: | G40: FECHA:
C42: NOMBRE Y FIRMA DEL REPRESENTANTE LEGAL:

Sheet 2.2
C3: ESTADIO SAN MARTÍN DE LOBA
C5: DESCRIPCION: | D5: Excavación común: cimentaciones | H5: ITEM: | I5: 2.2
H6: UNIDAD: | I6: m3
C7: I. EQUIPO
C8: Descripcion | E8: Cantidad | F8: Tarifa/Hora | G8: Rendimiento | H8: Valor-Unit.
C9: Herramienta menor | E9: 1 | F9: 2000 | G9: 0.65019506 | H9: =+E9*F9/G9 -> 3076
H13: Sub-Total | I13: =+SUM(H9:H12) -> 3076
C14: II. MATERIALES EN OBRA
C15: Descripcion | E15: Unidad | F15: Pecio-Unit. | G15: Cantidad | H15: Valor-Unit.
H16: =+G16*F16 -> 0
H17: =+G17*F17 -> 0
H18: =+G18*F18 -> 0
H19: =+G19*F19 -> 0
H20: =+G20*F20 -> 0
H21: =+G21*F21 -> 0
H22: Sub-Total | I22: =+SUM(H16:H21) -> 0
C23: III. TRANSPORTES
C24: Trabajador | E24: Valor peso o Cant. | F24: Distancia | G24: M2-km | H24: Tarifa | I24: Valor-Unit.
I27: Sub-Total | J27: =+SUM(I25:I26) -> 0
C28: IV. MANO DE OBRA
C29: Descripcion | E29: Jornal | F29: Prestaciones | G29: Jornal Total | H29: Rendimientos | I29: Valor-Unit.
C30: Oficial | E30: 92196.56 | F30: 1.85 | G30: =+F30*E30 -> 170563.64 | H30: 4.4294597 | I30: =+G30/H30 -> 38506.646
C31: Ayudante | E31: 57622.85 | F31: 1.85 | G31: =+F31*E31 -> 106602.27 | H31: =+H30 -> 4.4294597 | I31: =+G31/H31 -> 24066.654
I34: Sub-Total | J34: =+SUM(I30:I33) -> 62573.3
C36: Total Costos Directos | J36: =+I13+I22+J27+J34 -> 65649.3
C40: NOMBRE DEL CONTRATISTA: | G40: FECHA:
C42: NOMBRE Y FIRMA DEL REPRESENTANTE LEGAL:

Sheet 2.3
C3: ESTADIO SAN MARTÍN DE LOBA
C5: DESCRIPCION: | D5: Relleno y compactación con material selecionado | H5: ITEM: | I5: 2.3
H6: UNIDAD: | I6: m3
C7: I. EQUIPO
C8: Descripcion | E8: Cantidad | F8: Tarifa/Hora | G8: Rendimiento | H8: Valor-Unit.
C9: Herramienta menor | E9: 1 | F9: 1999.9999 | G9: 0.39858683 | H9: =+E9*F9/G9 -> 5017.7271
H13: Sub-Total | I13: =+SUM(H9:H12) -> 5017.7271
C14: II. MATERIALES EN OBRA
C15: Descripcion | E15: Unidad | F15: Pecio-Unit. | G15: Cantidad | H15: Valor-Unit.
C16: Material seleccionado | E16: m3 | F16: 79500 | G16: 1 | H16: =+G16*F16 -> 79500
H22: Sub-Total | I22: =+SUM(H16:H21) -> 79500
C23: III. TRANSPORTES
C24: Trabajador | E24: Valor peso o Cant. | F24: Distancia | G24: M2-km | H24: Tarifa | I24: Valor-Unit.
I27: Sub-Total | J27: =+SUM(I25:I26) -> 0
C28: IV. MANO DE OBRA
C29: Descripcion | E29: Jornal | F29: Prestaciones | G29: Jornal Total | H29: Rendimientos | I29: Valor-Unit.
C30: Oficial | E30: 92196.56 | F30: 1.85 | G30: =+F30*E30 -> 170563.64 | H30: 7.7198423 | I30: =+G30/H30 -> 22094.187
C31: Ayudante | E31: 57622.85 | F31: 1.85 | G31: =+F31*E31 -> 106602.27 | H31: =+H30 -> 7.7198423 | I31: =+G31/H31 -> 13808.867
I34: Sub-Total | J34: =+SUM(I30:I33) -> 35903.053
C36: Total Costos Directos | J36: =+I13+I22+J27+J34 -> 120420.78
C40: NOMBRE DEL CONTRATISTA: | G40: FECHA:
C42: NOMBRE Y FIRMA DEL REPRESENTANTE LEGAL:

Sheet 2.4
C3: ESTADIO SAN MARTÍN DE LOBA
C5: DESCRIPCION: | D5: Adecuación de zona de grama sintética para cancha | H5: ITEM: | I5: 2.4
H6: UNIDAD: | I6: m2
C7: I. EQUIPO
C8: Descripcion | E8: Cantidad | F8: Tarifa/Hora | G8: Rendimiento | H8: Valor-Unit.
C9: Herramienta menor | E9: 1 | F9: 2000 | G9: 0.6116208 | H9: =+E9*F9/G9 -> 3270
H13: Sub-Total | I13: =+SUM(H9:H12) -> 3270
C14: II. MATERIALES EN OBRA
C15: Descripcion | E15: Unidad | F15: Pecio-Unit. | G15: Cantidad | H15: Valor-Unit.
C16: Grama sintética | E16: und | F16: 48500 | G16: 1 | H16: =+G16*F16 -> 48500
H22: Sub-Total | I22: =+SUM(H16:H21) -> 48500
C23: III. TRANSPORTES
C24: Trabajador | E24: Valor peso o Cant. | F24: Distancia | G24: M2-km | H24: Tarifa | I24: Valor-Unit.
I27: Sub-Total | J27: =+SUM(I25:I26) -> 0
C28: IV. MANO DE OBRA
C29: Descripcion | E29: Jornal | F29: Prestaciones | G29: Jornal Total | H29: Rendimientos | I29: Valor-Unit.
C30: Oficial | E30: 92196.56 | F30: 1.85 | G30: =+F30*E30 -> 170563.64 | H30: 10.376859 | I30: =+G30/H30 -> 16436.923
C31: Ayudante | E31: 57622.85 | F31: 1.85 | G31: =+F31*E31 -> 106602.27 | H31: =+H30 -> 10.376859 | I31: =+G31/H31 -> 10273.077
I34: Sub-Total | J34: =+SUM(I30:I33) -> 26710
C36: Total Costos Directos | J36: =+I13+I22+J27+J34 -> 78480
C40: NOMBRE DEL CONTRATISTA: | G40: FECHA:
C42: NOMBRE Y FIRMA DEL REPRESENTANTE LEGAL:

Sheet 2.5
C3: ESTADIO SAN MARTÍN DE LOBA
C5: DESCRIPCION: | D5: Adecuación de zona de grama natural para exteriores | H5: ITEM: | I5: 2.5
H6: UNIDAD: | I6: m2
C7: I. EQUIPO
C8: Descripcion | E8: Cantidad | F8: Tarifa/Hora | G8: Rendimiento | H8: Valor-Unit.
C9: Herramienta menor | E9: 1 | F9: 2000 | G9: 1.3286743 | H9: =+E9*F9/G9 -> 1505.2597
H13: Sub-Total | I13: =+SUM(H9:H12) -> 1505.2597
C14: II. MATERIALES EN OBRA
C15: Descripcion | E15: Unidad | F15: Pecio-Unit. | G15: Cantidad | H15: Valor-Unit.
C16: Grama natural | E16: und | F16: 22325.718 | G16: 1 | H16: =+G16*F16 -> 22325.718
H22: Sub-Total | I22: =+SUM(H16:H21) -> 22325.718
C23: III. TRANSPORTES
C24: Trabajador | E24: Valor peso o Cant. | F24: Distancia | G24: M2-km | H24: Tarifa | I24: Valor-Unit.
I27: Sub-Total | J27: =+SUM(I25:I26) -> 0
C28: IV. MANO DE OBRA
C29: Descripcion | E29: Jornal | F29: Prestaciones | G29: Jornal Total | H29: Rendimientos | I29: Valor-Unit.
C30: Oficial | E30: 92196.56 | F30: 1.85 | G30: =+F30*E30 -> 170563.64 | H30: 22.542508 | I30: =+G30/H30 -> 7566.3115
C31: Ayudante | E31: 57622.85 | F31: 1.85 | G31: =+F31*E31 -> 106602.27 | H31: =+H30 -> 22.542508 | I31: =+G31/H31 -> 4728.9447
I34: Sub-Total | J34: =+SUM(I30:I33) -> 12295.256
C36: Total Costos Directos | J36: =+I13+I22+J27+J34 -> 36126.234
C40: NOMBRE DEL CONTRATISTA: | G40: FECHA:
C42: NOMBRE Y FIRMA DEL REPRESENTANTE LEGAL:

Sheet 2.6
C3: ESTADIO SAN MARTÍN DE LOBA
C5: DESCRIPCION: | D5: Geotextil nt 1600 para separacion de estratos | H5: ITEM: | I5: 2.6
H6: UNIDAD: | I6: m2
C7: I. EQUIPO
C8: Descripcion | E8: Cantidad | F8: Tarifa/Hora | G8: Rendimiento | H8: Valor-Unit.
C9: Herramienta menor | E9: 1 | F9: 2000 | G9: 1.3286743 | H9: =+E9*F9/G9 -> 1505.2597
H13: Sub-Total | I13: =+SUM(H9:H12) -> 1505.2597
C14: II. MATERIALES EN OBRA
C15: Descripcion | E15: Unidad | F15: Pecio-Unit. | G15: Cantidad | H15: Valor-Unit.
C16: Geotextil NT 1600 | E16: m2 | F16: 9200 | G16: 1 | H16: =+G16*F16 -> 9200
H22: Sub-Total | I22: =+SUM(H16:H21) -> 9200
C23: III. TRANSPORTES
C24: Trabajador | E24: Valor peso o Cant. | F24: Distancia | G24: M2-km | H24: Tarifa | I24: Valor-Unit.
I27: Sub-Total | J27: =+SUM(I25:I26) -> 0
C28: IV. MANO DE OBRA
C29: Descripcion | E29: Jornal | F29: Prestaciones | G29: Jornal Total | H29: Rendimientos | I29: Valor-Unit.
C30: Oficial | E30: 92196.56 | F30: 1.85 | G30: =+F30*E30 -> 170563.64 | H30: 104.71972 | I30: =+G30/H30 -> 1628.7632
C31: Ayudante | E31: 57622.85 | F31: 1.85 | G31: =+F31*E31 -> 106602.27 | H31: =+H30 -> 104.71972 | I31: =+G31/H31 -> 1017.977
I34: Sub-Total | J34: =+SUM(I30:I33) -> 2646.7403
C36: Total Costos Directos | J36: =+I13+I22+J27+J34 -> 13352
C40: NOMBRE DEL CONTRATISTA: | G40: FECHA:
C42: NOMBRE Y FIRMA DEL REPRESENTANTE LEGAL:

Sheet 2.7
C3: ESTADIO SAN MARTÍN DE LOBA
C5: DESCRIPCION: | D5: Estabilizacion con piedra ciclopeo para cimentacion | H5: ITEM: | I5: 2.7
H6: UNIDAD: | I6: m3
C7: I. EQUIPO
C8: Descripcion | E8: Cantidad | F8: Tarifa/Hora | G8: Rendimiento | H8: Valor-Unit.
C9: Herramienta menor | E9: 1 | F9: 2000 | G9: 1.3286743 | H9: =+E9*F9/G9 -> 1505.2597
H13: Sub-Total | I13: =+SUM(H9:H12) -> 1505.2597
C14: II. MATERIALES EN OBRA
C15: Descripcion | E15: Unidad | F15: Pecio-Unit. | G15: Cantidad | H15: Valor-Unit.
C16: Piedra ciclopea | E16: m3 | F16: 140000 | G16: 1 | H16: =+G16*F16 -> 140000
H22: Sub-Total | I22: =+SUM(H16:H21) -> 140000
C23: III. TRANSPORTES
C24: Trabajador | E24: Valor peso o Cant. | F24: Distancia | G24: M2-km | H24: Tarifa | I24: Valor-Unit.
I27: Sub-Total | J27: =+SUM(I25:I26) -> 0
C28: IV. MANO DE OBRA
C29: Descripcion | E29: Jornal | F29: Prestaciones | G29: Jornal Total | H29: Rendimientos | I29: Valor-Unit.
C30: Oficial | E30: 92196.56 | F30: 1.85 | G30: =+F30*E30 -> 170563.64 | H30: 1.3603839 | I30: =+G30/H30 -> 125379.05
C31: Ayudante | E31: 57622.85 | F31: 1.85 | G31: =+F31*E31 -> 106602.27 | H31: =+H30 -> 1.3603839 | I31: =+G31/H31 -> 78361.905
I34: Sub-Total | J34: =+SUM(I30:I33) -> 203740.95
C36: Total Costos Directos | J36: =+I13+I22+J27+J34 -> 345246.21
C40: NOMBRE DEL CONTRATISTA: | G40: FECHA:
C42: NOMBRE Y FIRMA DEL REPRESENTANTE LEGAL:

Sheet 3.1
C3: ESTADIO SAN MARTÍN DE LOBA
C5: DESCRIPCION: | D5: Solado en concreto pobre 2000 PSI con espesor de 5cm de baños y gradas | H5: ITEM: | I5: 3.1
H6: UNIDAD: | I6: m2
C7: I. EQUIPO
C8: Descripcion | E8: Cantidad | F8: Tarifa/Hora | G8: Rendimiento | H8: Valor-Unit.
C9: Herramienta menor | E9: 1 | F9: 2000 | G9: 0.59276823 | H9: =+E9*F9/G9 -> 3374
H13: Sub-Total | I13: =+SUM(H9:H12) -> 3374
C14: II. MATERIALES EN OBRA
C15: Descripcion | E15: Unidad | F15: Pecio-Unit. | G15: Cantidad | H15: Valor-Unit.
C16: Concreto 2.000 psi | E16: m3 | F16: =632445*0.9 -> 569200.5 | G16: =+G17*0.05 -> 0.030062098 | H16: =+G16*F16 -> 17111.361
C17: Autobomba | E17: m3 | F17: 60000 | G17: 0.60124196 | H17: =+G17*F17 -> 36074.518
H22: Sub-Total | I22: =+SUM(H16:H21) -> 53185.879
C23: III. TRANSPORTES
C24: Trabajador | E24: Valor peso o Cant. | F24: Distancia | G24: M2-km | H24: Tarifa | I24: Valor-Unit.
I27: Sub-Total | J27: =+SUM(I25:I26) -> 0
C28: IV. MANO DE OBRA
C29: Descripcion | E29: Jornal | F29: Prestaciones | G29: Jornal Total | H29: Rendimientos | I29: Valor-Unit.
C30: Oficial | E30: 92196.56 | F30: 1.85 | G30: =+F30*E30 -> 170563.64 | H30: 11.340919 | I30: =+G30/H30 -> 15039.667
C31: Ayudante | E31: 57622.85 | F31: 1.85 | G31: =+F31*E31 -> 106602.27 | H31: =+H30 -> 11.340919 | I31: =+G31/H31 -> 9399.7916
I34: Sub-Total | J34: =+SUM(I30:I33) -> 24439.458
C36: Total Costos Directos | J36: =+I13+I22+J27+J34 -> 80999.337
C40: NOMBRE DEL CONTRATISTA: | G40: FECHA:
C42: NOMBRE Y FIRMA DEL REPRESENTANTE LEGAL:

Sheet 3.2
C3: ESTADIO SAN MARTÍN DE LOBA
C5: DESCRIPCION: | D5: Concreto zapatas (incluye encofrado y desencofrado) de baños y gradas | H5: ITEM: | I5: 3.2
H6: UNIDAD: | I6: m3
C7: I. EQUIPO
C8: Descripcion | E8: Cantidad | F8: Tarifa/Hora | G8: Rendimiento | H8: Valor-Unit.
C9: Herramienta menor | E9: 1 | F9: 2000 | G9: 0.12495074 | H9: =+E9*F9/G9 -> 16006.308
C10: Vibrador de concreto | E10: 1 | F10: 7500 | G10: =+G9*5 -> 0.6247537 | H10: =+E10*F10/G10 -> 12004.731
C11: Formaleta | E11: 1 | F11: 5500 | G11: =+G9*1.4 -> 0.17493104 | H11: =+E11*F11/G11 -> 31440.962
H13: Sub-Total | I13: =+SUM(H9:H12) -> 59452
C14: II. MATERIALES EN OBRA
C15: Descripcion | E15: Unidad | F15: Pecio-Unit. | G15: Cantidad | H15: Valor-Unit.
C16: Concreto | E16: m3 | F16: 907878.88 | G16: 1 | H16: =+G16*F16 -> 907878.88
C17: Autobomba | E17: m3 | F17: 60000 | G17: 1 | H17: =+G17*F17 -> 60000
H18: =+G18*F18 -> 0
H19: =+G19*F19 -> 0
H20: =+G20*F20 -> 0
H21: =+G21*F21 -> 0
H22: Sub-Total | I22: =+SUM(H16:H21) -> 967878.88
C23: III. TRANSPORTES
C24: Trabajador | E24: Valor peso o Cant. | F24: Distancia | G24: M2-km | H24: Tarifa | I24: Valor-Unit.
I27: Sub-Total | J27: =+SUM(I25:I26) -> 0
C28: IV. MANO DE OBRA
C29: Descripcion | E29: Jornal | F29: Prestaciones | G29: Jornal Total | H29: Rendimientos | I29: Valor-Unit.
C30: Oficial | E30: 92196.56 | F30: 1.85 | G30: =+F30*E30 -> 170563.64 | H30: 0.6937517 | I30: =+G30/H30 -> 245856.89
C31: Ayudante | E31: 57622.85 | F31: 1.85 | G31: =+F31*E31 -> 106602.27 | H31: =+H30 -> 0.6937517 | I31: =+G31/H31 -> 153660.56
I34: Sub-Total | J34: =+SUM(I30:I33) -> 399517.45
C36: Total Costos Directos | J36: =+I13+I22+J27+J34 -> 1426848.3
C40: NOMBRE DEL CONTRATISTA: | G40: FECHA:
C42: NOMBRE Y FIRMA DEL REPRESENTANTE LEGAL:

Sheet 3.3
C3: ESTADIO SAN MARTÍN DE LOBA
C5: DESCRIPCION: | D5: Concreto vigas de cimentación (incluye encofrado y desencofrado) en baños y gradas | H5: ITEM: | I5: 3.3
H6: UNIDAD: | I6: m3
C7: I. EQUIPO
C8: Descripcion | E8: Cantidad | F8: Tarifa/Hora | G8: Rendimiento | H8: Valor-Unit.
C9: Herramienta menor | E9: 1 | F9: 2000 | G9: 0.10970833 | H9: =+E9*F9/G9 -> 18230.157
C10: Vibrador de concreto | E10: 1 | F10: 7500 | G10: =+G9*5 -> 0.54854164 | H10: =+E10*F10/G10 -> 13672.617
C11: Formaleta | E11: 1 | F11: 5500 | G11: =+G9*1.4 -> 0.15359166 | H11: =+E11*F11/G11 -> 35809.236
H13: Sub-Total | I13: =+SUM(H9:H12) -> 67712.01
C14: II. MATERIALES EN OBRA
C15: Descripcion | E15: Unidad | F15: Pecio-Unit. | G15: Cantidad | H15: Valor-Unit.
C16: Concreto | E16: m3 | F16: 907878.88 | G16: 1 | H16: =+G16*F16 -> 907878.88
C17: Autobomba | E17: m3 | F17: 60000 | G17: 1 | H17: =+G17*F17 -> 60000
H22: Sub-Total | I22: =+SUM(H16:H21) -> 967878.88
C23: III. TRANSPORTES
C24: Trabajador | E24: Valor peso o Cant. | F24: Distancia | G24: M2-km | H24: Tarifa | I24: Valor-Unit.
I27: Sub-Total | J27: =+SUM(I25:I26) -> 0
C28: IV. MANO DE OBRA
C29: Descripcion | E29: Jornal | F29: Prestaciones | G29: Jornal Total | H29: Rendimientos | I29: Valor-Unit.
C30: Oficial | E30: 92196.56 | F30: 1.85 | G30: =+F30*E30 -> 170563.64 | H30: 0.47017322 | I30: =+G30/H30 -> 362767.65
C31: Ayudante | E31: 57622.85 | F31: 1.85 | G31: =+F31*E31 -> 106602.27 | H31: =+H30 -> 0.47017322 | I31: =+G31/H31 -> 226729.78
I34: Sub-Total | J34: =+SUM(I30:I33) -> 589497.44
C36: Total Costos Directos | J36: =+I13+I22+J27+J34 -> 1625088.3
C40: NOMBRE DEL CONTRATISTA: | G40: FECHA:
C42: NOMBRE Y FIRMA DEL REPRESENTANTE LEGAL:

Sheet 3.4
C3: ESTADIO SAN MARTÍN DE LOBA
C5: DESCRIPCION: | D5: Acero de refuerzo | H5: ITEM: | I5: 3.4
H6: UNIDAD: | I6: kg
C7: I. EQUIPO
C8: Descripcion | E8: Cantidad | F8: Tarifa/Hora | G8: Rendimiento | H8: Valor-Unit.
C9: Herramienta menor | E9: 1 | F9: 2000 | G9: 3.6185995 | H9: =+E9*F9/G9 -> 552.70002
H13: Sub-Total | I13: =+SUM(H9:H12) -> 552.70002
C14: II. MATERIALES EN OBRA
C15: Descripcion | E15: Unidad | F15: Pecio-Unit. | G15: Cantidad | H15: Valor-Unit.
C16: Acero de refuerzo | E16: kg | F16: 7747.419 | G16: 1 | H16: =+G16*F16 -> 7747.419
C17: Alambre recocido | E17: kg | F17: =+F16*1.08 -> 8367.2125 | G17: =+G16*0.03 -> 0.03 | H17: =+G17*F17 -> 251.01637
H22: Sub-Total | I22: =+SUM(H16:H21) -> 7998.4353
C23: III. TRANSPORTES
C24: Trabajador | E24: Valor peso o Cant. | F24: Distancia | G24: M2-km | H24: Tarifa | I24: Valor-Unit.
I27: Sub-Total | J27: =+SUM(I25:I26) -> 0
C28: IV. MANO DE OBRA
C29: Descripcion | E29: Jornal | F29: Prestaciones | G29: Jornal Total | H29: Rendimientos | I29: Valor-Unit.
C30: Oficial | E30: 92196.56 | F30: 1.85 | G30: =+F30*E30 -> 170563.64 | H30: 58.796923 | I30: =+G30/H30 -> 2900.8939
C31: Ayudante | E31: 57622.85 | F31: 1.85 | G31: =+F31*E31 -> 106602.27 | H31: =+H30 -> 58.796923 | I31: =+G31/H31 -> 1813.0587
I34: Sub-Total | J34: =+SUM(I30:I33) -> 4713.9526
C36: Total Costos Directos | J36: =+I13+I22+J27+J34 -> 13265.088
C40: NOMBRE DEL CONTRATISTA: | G40: FECHA:
C42: NOMBRE Y FIRMA DEL REPRESENTANTE LEGAL:

Sheet 3.5
C3: ESTADIO SAN MARTÍN DE LOBA
C5: DESCRIPCION: | D5: Traslado de material sobrante por excavacion, lugar aprobado por interventoría | H5: ITEM: | I5: 3.5
H6: UNIDAD: | I6: m3
C7: I. EQUIPO
C8: Descripcion | E8: Cantidad | F8: Tarifa/Hora | G8: Rendimiento | H8: Valor-Unit.
C9: Herramienta menor | E9: 1 | F9: 2000.0002 | G9: 2.5 | H9: =+E9*F9/G9 -> 800.00008
H13: Sub-Total | I13: =+SUM(H9:H12) -> 800.00008
C14: II. MATERIALES EN OBRA
C15: Descripcion | E15: Unidad | F15: Pecio-Unit. | G15: Cantidad | H15: Valor-Unit.
H16: =+G16*F16 -> 0
H17: =+G17*F17 -> 0
H18: =+G18*F18 -> 0
H19: =+G19*F19 -> 0
H20: =+G20*F20 -> 0
H21: =+G21*F21 -> 0
H22: Sub-Total | I22: =+SUM(H16:H21) -> 0
C23: III. TRANSPORTES
C24: Trabajador | E24: Valor peso o Cant. | F24: Distancia | G24: M2-km | H24: Tarifa | I24: Valor-Unit.
C25: Transporte | E25: 0.083783784 | H25: 370000 | I25: =+H25*E25 -> 31000
C26: Disposición certificada | E26: 1.3684211 | H26: 19000 | I26: =+H26*E26 -> 26000
I27: Sub-Total | J27: =+SUM(I25:I26) -> 57000
C28: IV. MANO DE OBRA
C29: Descripcion | E29: Jornal | F29: Prestaciones | G29: Jornal Total | H29: Rendimientos | I29: Valor-Unit.
C30: Oficial | E30: 92196.56 | F30: 1.85 | G30: =+F30*E30 -> 170563.64 | H30: 9.9292724 | I30: =+G30/H30 -> 17177.858
C31: Ayudante | E31: 57622.85 | F31: 1.85 | G31: =+F31*E31 -> 106602.27 | H31: =+H30 -> 9.9292724 | I31: =+G31/H31 -> 10736.162
I34: Sub-Total | J34: =+SUM(I30:I33) -> 27914.02
C36: Total Costos Directos | J36: =+I13+I22+J27+J34 -> 85714.02
C40: NOMBRE DEL CONTRATISTA: | G40: FECHA:
C42: NOMBRE Y FIRMA DEL REPRESENTANTE LEGAL:

Sheet 4.1
C3: ESTADIO SAN MARTÍN DE LOBA
C5: DESCRIPCION: | D5: Construcción de columnas de baños | H5: ITEM: | I5: 4.1
H6: UNIDAD: | I6: m3
C7: I. EQUIPO
C8: Descripcion | E8: Cantidad | F8: Tarifa/Hora | G8: Rendimiento | H8: Valor-Unit.
C9: Herramienta menor | E9: 1 | F9: 2000 | G9: 0.087362069 | H9: =+E9*F9/G9 -> 22893.231
C10: Vibrador de concreto | E10: 1 | F10: 7500 | G10: =+G9*5 -> 0.43681034 | H10: =+E10*F10/G10 -> 17169.923
C11: Formaleta | E11: 1 | F11: 5500 | G11: =+G9*1.4 -> 0.1223069 | H11: =+E11*F11/G11 -> 44968.846
H13: Sub-Total | I13: =+SUM(H9:H12) -> 85032
C14: II. MATERIALES EN OBRA
C15: Descripcion | E15: Unidad | F15: Pecio-Unit. | G15: Cantidad | H15: Valor-Unit.
C16: Concreto | E16: m3 | F16: 1315252.5 | G16: 1 | H16: =+G16*F16 -> 1315252.5
C17: Autobomba | E17: m3 | F17: 60000 | G17: 1 | H17: =+G17*F17 -> 60000
H22: Sub-Total | I22: =+SUM(H16:H21) -> 1375252.5
C23: III. TRANSPORTES
C24: Trabajador | E24: Valor peso o Cant. | F24: Distancia | G24: M2-km | H24: Tarifa | I24: Valor-Unit.
I27: Sub-Total | J27: =+SUM(I25:I26) -> 0
C28: IV. MANO DE OBRA
C29: Descripcion | E29: Jornal | F29: Prestaciones | G29: Jornal Total | H29: Rendimientos | I29: Valor-Unit.
C30: Oficial | E30: 92196.56 | F30: 1.85 | G30: =+F30*E30 -> 170563.64 | H30: 0.47746065 | I30: =+G30/H30 -> 357230.77
C31: Ayudante | E31: 57622.85 | F31: 1.85 | G31: =+F31*E31 -> 106602.27 | H31: =+H30 -> 0.47746065 | I31: =+G31/H31 -> 223269.23
I34: Sub-Total | J34: =+SUM(I30:I33) -> 580500
C36: Total Costos Directos | J36: =+I13+I22+J27+J34 -> 2040784.5
C40: NOMBRE DEL CONTRATISTA: | G40: FECHA:
C42: NOMBRE Y FIRMA DEL REPRESENTANTE LEGAL:

Sheet 4.2
C3: ESTADIO SAN MARTÍN DE LOBA
C5: DESCRIPCION: | D5: Construcción de vigas aereas de baños de hombres y mujeres | H5: ITEM: | I5: 4.2
H6: UNIDAD: | I6: m3
C7: I. EQUIPO
C8: Descripcion | E8: Cantidad | F8: Tarifa/Hora | G8: Rendimiento | H8: Valor-Unit.
C9: Herramienta menor | E9: 1 | F9: 2000 | G9: 0.087362069 | H9: =+E9*F9/G9 -> 22893.231
C10: Vibrador de concreto | E10: 1 | F10: 7500 | G10: =+G9*5 -> 0.43681034 | H10: =+E10*F10/G10 -> 17169.923
H13: Sub-Total | I13: =+SUM(H9:H12) -> 40063.154
C14: II. MATERIALES EN OBRA
C15: Descripcion | E15: Unidad | F15: Pecio-Unit. | G15: Cantidad | H15: Valor-Unit.
C16: Concreto | E16: m3 | F16: 780000 | G16: 1.05 | H16: =+G16*F16 -> 819000
C17: Formaleta | E17: m2 | F17: 95000 | G17: 8 | H17: =+G17*F17 -> 760000
C18: Alambre recocido | E18: kg | F18: 8000 | G18: 5 | H18: =+G18*F18 -> 40000
H19: =+G19*F19 -> 0
H20: =+G20*F20 -> 0
H21: =+G21*F21 -> 0
H22: Sub-Total | I22: =+SUM(H16:H21) -> 1619000
C23: III. TRANSPORTES
C24: Trabajador | E24: Valor peso o Cant. | F24: Distancia | G24: M2-km | H24: Tarifa | I24: Valor-Unit.
I27: Sub-Total | J27: =+SUM(I25:I26) -> 0
C28: IV. MANO DE OBRA
C29: Descripcion | E29: Jornal | F29: Prestaciones | G29: Jornal Total | H29: Rendimientos | I29: Valor-Unit.
C30: Oficial | E30: 92196.56 | F30: 1.85 | G30: =+F30*E30 -> 170563.64 | H30: 0.40656774 | I30: =+G30/H30 -> 419520.84
C31: Ayudante | E31: 57622.85 | F31: 1.85 | G31: =+F31*E31 -> 106602.27 | H31: =+H30 -> 0.40656774 | I31: =+G31/H31 -> 262200.52
I34: Sub-Total | J34: =+SUM(I30:I33) -> 681721.36
C36: Total Costos Directos | J36: =+I13+I22+J27+J34 -> 2340784.5
C40: NOMBRE DEL CONTRATISTA: | G40: FECHA:
C42: NOMBRE Y FIRMA DEL REPRESENTANTE LEGAL:

Sheet 4.3
C3: ESTADIO SAN MARTÍN DE LOBA
C5: DESCRIPCION: | D5: Acero de refuerzo para baños | H5: ITEM: | I5: 4.3
H6: UNIDAD: | I6: kg
C7: I. EQUIPO
C8: Descripcion | E8: Cantidad | F8: Tarifa/Hora | G8: Rendimiento | H8: Valor-Unit.
C9: Herramienta menor | E9: 1 | F9: 2000 | G9: 14.5 | H9: =+E9*F9/G9 -> 137.93103
H13: Sub-Total | I13: =+SUM(H9:H12) -> 137.93103
C14: II. MATERIALES EN OBRA
C15: Descripcion | E15: Unidad | F15: Pecio-Unit. | G15: Cantidad | H15: Valor-Unit.
C16: Acero figurado | E16: kg | F16: 9500 | G16: 1.05 | H16: =+G16*F16 -> 9975
H22: Sub-Total | I22: =+SUM(H16:H21) -> 9975
C23: III. TRANSPORTES
C24: Trabajador | E24: Valor peso o Cant. | F24: Distancia | G24: M2-km | H24: Tarifa | I24: Valor-Unit.
I27: Sub-Total | J27: =+SUM(I25:I26) -> 0
C28: IV. MANO DE OBRA
C29: Descripcion | E29: Jornal | F29: Prestaciones | G29: Jornal Total | H29: Rendimientos | I29: Valor-Unit.
C30: Oficial | E30: 92196.56 | F30: 1.85 | G30: =+F30*E30 -> 170563.64 | H30: 87.931423 | I30: =+G30/H30 -> 1939.7347
