Workbook

Sheet OFERTA BASE
B1: OLEODUCTO CENTRAL S.A. FORMATO PRESENTACION DE OFERTAS PARA COMPRA DE BIENES
B2: PROCESO | F2: PC08413 | G2: DIRECCION
B3: FECHA INICIO | F3: 46094 | G3: NOMBRE CONTACTO EMAIL
B4: FECHA CIERRE | F4: 46100 | G4: TELEFONO
B5: NOMBRE COMERCIAL | G5: REGIMEN:
B6: RAZON SOCIAL | G6: VALIDEZ DE LA OFERTA | J6: 60 DIAS
B7: NIT | G7: FORMA DE PAGO | J7: 45 DIAS
B9: ITEM | C9: SOLPED | D9: POS | E9: CODIGO SAP | F9: DESCRIPCION DEL MATERIAL | G9: DESCRIPCION AMPLIADA | H9: P/N | I9: Texto de inspeccion | J9: UND | K9: QTY | L9: ESTACION | M9: LUGAR DE ENTREGA | N9: MARCA | O9: T. ENTREGA EN DIAS CALENDARIO | P9: Moneda | Q9: VR. UNITARIO SIN IVA | R9: VR. TOTAL SIN IVA | S9: IVA APLICABLE | T9: CUMPLE TECNICAMENTE | U9: P/N ALTERNATIVO | V9: COMENTARIOS
B10: 1 | C10: 10060714 | D10: 56 | E10: 16050 | F10: Aditivo,Preserv,Agua.Estac.Lavaojos,HYDR | G10: PROTECCION PARA OJOS Y ACCESORIOS;Tipo de proteccion para ojos:Aditivo,Clase de proteccion:Preservante,Aplicacion de protector:Para agua de estacion lavaojos,Fabricante protector vision,Referencia de protector:HYDROSEP,CARACTERISTICAS ADICIONALES:Botella 8oz | J10: EA | K10: 4 | L10: CCA | M10: =+VLOOKUP(L10,Hoja1!$A$1:$C$13,3,0) -> CAUCASIA - CCA Danys duran Chávez Jefe de almacén Km 1 via Medellin entrada frente al Aeropuerto a 2.7 km ESTACION LA TRAMPA CAUCASIA Fijo: 8308902-8308903 Ext. 7213 Cel: 315-8808485 materiales.caucasia-externo@ocensa.com.co | R10: =+K10*Q10 -> 0 | S10: %
B11: 2 | C11: 10060651 | D11: 3 | E11: 13613 | F11: Barrera.Absor,Oleofil,Cordon,Ctrl.Derram | G11: BARRERA ABSORBENTE;MATERIAL:Oleofilico,TIPO:Cordon,APLICACION:Control derrames,TAMAÑO:8 Pulgadas x 3 Metros,CAPACIDAD:57-62 Galones, PORCENTAJE,PESO,CARACTERISTICAS ADICIONALES:GCS-B810,CARACTERISTICAS ADICIONALES:Paquete x 4 unidades | H11: 0 | J11: EA | K11: 20 | L11: EPO | M11: =+VLOOKUP(L11,Hoja1!$A$1:$C$13,3,0) -> EL PORVENIR - EPO Dayan Andres Acevedo Ardila. Jefe de Almacen OCENSA El Porvenir Estacion OCENSA El Porvenir Km 12 via vereda el porvenir Monterrey-Casanare-Colombia Tel 3250375 EXT. 7513 Materiales.porvenir@ocensa.com.co | R11: =+K11*Q11 -> 0 | S11: %
B12: 3 | C12: 10059653 | D12: 6 | E12: 13613 | F12: Barrera.Absor,Oleofil,Cordon,Ctrl.Derram | G12: BARRERA ABSORBENTE;MATERIAL:Oleofilico,TIPO:Cordon,APLICACION:Control derrames,TAMAÑO:8 Pulgadas x 3 Metros,CAPACIDAD:57-62 Galones, PORCENTAJE,PESO,CARACTERISTICAS ADICIONALES:GCS-B810,CARACTERISTICAS ADICIONALES:Paquete x 4 unidades | H12: 0 | J12: EA | K12: 40 | L12: EPO | M12: =+VLOOKUP(L12,Hoja1!$A$1:$C$13,3,0) -> EL PORVENIR - EPO Dayan Andres Acevedo Ardila. Jefe de Almacen OCENSA El Porvenir Estacion OCENSA El Porvenir Km 12 via vereda el porvenir Monterrey-Casanare-Colombia Tel 3250375 EXT. 7513 Materiales.porvenir@ocensa.com.co
B13: 4 | C13: 10059996 | D13: 12 | E13: 13613 | F13: Barrera.Absor,Oleofil,Cordon,Ctrl.Derram | G13: BARRERA ABSORBENTE;MATERIAL:Oleofilico,TIPO:Cordon,APLICACION:Control derrames,TAMAÑO:8 Pulgadas x 3 Metros,CAPACIDAD:57-62 Galones, PORCENTAJE,PESO,CARACTERISTICAS ADICIONALES:GCS-B810,CARACTERISTICAS ADICIONALES:Paquete x 4 unidades | H13: 0 | J13: EA | K13: 15 | L13: EPO | M13: =+VLOOKUP(L13,Hoja1!$A$1:$C$13,3,0) -> EL PORVENIR - EPO Dayan Andres Acevedo Ardila. Jefe de Almacen OCENSA El Porvenir Estacion OCENSA El Porvenir Km 12 via vereda el porvenir Monterrey-Casanare-Colombia Tel 3250375 EXT. 7513 Materiales.porvenir@ocensa.com.co
B14: 5 | C14: 10059680 | D14: 3 | E14: 13613 | F14: Barrera.Absor,Oleofil,Cordon,Ctrl.Derram | G14: BARRERA ABSORBENTE;MATERIAL:Oleofilico,TIPO:Cordon,APLICACION:Control derrames,TAMAÑO:8 Pulgadas x 3 Metros,CAPACIDAD:57-62 Galones, PORCENTAJE,PESO,CARACTERISTICAS ADICIONALES:GCS-B810,CARACTERISTICAS ADICIONALES:Paquete x 4 unidades | H14: 0 | J14: EA | K14: 8 | L14: GRA | M14: =+VLOOKUP(L14,Hoja1!$A$1:$C$13,3,0) -> La Granjita Sector La Granjita, municipio Pueblo Nuevo (Córdoba). Generalidades: El caserío La Granjita se ubica aledaño a la Ruta 25, vía de primer orden que comunica el departamento de Antioquia con Coveñas.
B15: 6 | C15: 10060293 | D15: 5 | E15: 13613 | F15: Barrera.Absor,Oleofil,Cordon,Ctrl.Derram | G15: BARRERA ABSORBENTE;MATERIAL:Oleofilico,TIPO:Cordon,APLICACION:Control derrames,TAMAÑO:8 Pulgadas x 3 Metros,CAPACIDAD:57-62 Galones, PORCENTAJE,PESO,CARACTERISTICAS ADICIONALES:GCS-B810,CARACTERISTICAS ADICIONALES:Paquete x 4 unidades | H15: 0 | J15: EA | K15: 1 | L15: CCA | M15: =+VLOOKUP(L15,Hoja1!$A$1:$C$13,3,0) -> CAUCASIA - CCA Danys duran Chávez Jefe de almacén Km 1 via Medellin entrada frente al Aeropuerto a 2.7 km ESTACION LA TRAMPA CAUCASIA Fijo: 8308902-8308903 Ext. 7213 Cel: 315-8808485 materiales.caucasia-externo@ocensa.com.co
B16: 7 | C16: 10060292 | D16: 14 | E16: 13613 | F16: Barrera.Absor,Oleofil,Cordon,Ctrl.Derram | G16: BARRERA ABSORBENTE;MATERIAL:Oleofilico,TIPO:Cordon,APLICACION:Control derrames,TAMAÑO:8 Pulgadas x 3 Metros,CAPACIDAD:57-62 Galones, PORCENTAJE,PESO,CARACTERISTICAS ADICIONALES:GCS-B810,CARACTERISTICAS ADICIONALES:Paquete x 4 unidades | H16: 0 | J16: EA | K16: 3 | L16: PAE | M16: =+VLOOKUP(L16,Hoja1!$A$1:$C$13,3,0) -> ESTACION DE PAEZ Estación OCENSA PAEZ Vía a Vistahermosa vereda yapompo Pedro Fabian Laguado Pedro.FabianLaguado@ocensa.com.co +57 1 3250200 Ext: 7063 Cel. 316 7487759
B17: 8 | C17: 10060533 | D17: 1 | E17: 13612 | F17: Barrera.Absor,Oleofil,Paño,Ctrl.Derram,1 | G17: BARRERA ABSORBENTE;MATERIAL:Oleofilico,TIPO:Paño,APLICACION:Control derrames,TAMAÑO:16 x 20 Pulgadas,CAPACIDAD:17-22 Galones,PORCENT AJE,PESO,CARACTERISTICAS ADICIONALES:GCS-WLP,CARACTERISTICAS ADICIONALES:Caja x 200 paños | J17: EA | K17: 5 | L17: EPO | M17: =+VLOOKUP(L17,Hoja1!$A$1:$C$13,3,0) -> EL PORVENIR - EPO Dayan Andres Acevedo Ardila. Jefe de Almacen OCENSA El Porvenir Estacion OCENSA El Porvenir Km 12 via vereda el porvenir Monterrey-Casanare-Colombia Tel 3250375 EXT. 7513 Materiales.porvenir@ocensa.com.co | R17: =+K17*Q17 -> 0 | S17: %
B18: 9 | C18: 10060651 | D18: 2 | E18: 13612 | F18: Barrera.Absor,Oleofil,Paño,Ctrl.Derram,1 | G18: BARRERA ABSORBENTE;MATERIAL:Oleofilico,TIPO:Paño,APLICACION:Control derrames,TAMAÑO:16 x 20 Pulgadas,CAPACIDAD:17-22 Galones,PORCENT AJE,PESO,CARACTERISTICAS ADICIONALES:GCS-WLP,CARACTERISTICAS ADICIONALES:Caja x 200 paños | H18: 0 | J18: EA | K18: 25 | L18: EPO | M18: =+VLOOKUP(L18,Hoja1!$A$1:$C$13,3,0) -> EL PORVENIR - EPO Dayan Andres Acevedo Ardila. Jefe de Almacen OCENSA El Porvenir Estacion OCENSA El Porvenir Km 12 via vereda el porvenir Monterrey-Casanare-Colombia Tel 3250375 EXT. 7513 Materiales.porvenir@ocensa.com.co | R18: =+K18*Q18 -> 0 | S18: %
B19: 10 | C19: 10060651 | D19: 1 | E19: 13610 | F19: Barrera.Absor,Oleofil,Paño,Ctrl.Derram,A | G19: BARRERA ABSORBENTE;MATERIAL:Oleofilico,TIPO:Paño,APLICACION:Control derrames,TAMAÑO:Ancho 30-38 pulgadas,CAPACIDAD:32-36 Galones,POR CENTAJE,PESO,CARACTERISTICAS ADICIONALES:Rollo x 40-50m | H19: 0 | J19: ROL | K19: 20 | L19: EPO | M19: =+VLOOKUP(L19,Hoja1!$A$1:$C$13,3,0) -> EL PORVENIR - EPO Dayan Andres Acevedo Ardila. Jefe de Almacen OCENSA El Porvenir Estacion OCENSA El Porvenir Km 12 via vereda el porvenir Monterrey-Casanare-Colombia Tel 3250375 EXT. 7513 Materiales.porvenir@ocensa.com.co | R19: =+K19*Q19 -> 0 | S19: %
B20: 11 | C20: 10059774 | D20: 2 | E20: 67744 | F20: Biocataliz,NONTOX,Piscin.D/Oxidac,Galonx | G20: PRODUCTOS QUIMICOS;NOMBRE:Biocatalizador,REFERENCIA:NONTOX,FABRICANTE:Bio-Organic Catalyst,APLICACION:Piscina de Oxidacion,PRESENTAC ION:Galon x 4KG,CARACTERISTICA ADICIONAL:Biocatalizador Organico,CARACTERISTICA ADICIONAL:Solubilizacion Grasa Organica | J20: KG | K20: 4 | L20: MRF | M20: =+VLOOKUP(L20,Hoja1!$A$1:$C$13,3,0) -> MIRAFLORES - MRF Pedro a. Romero Esquivel. Jefe de Almacen OCENSA Miraflores materiales.miraflores-externo@ocensa.com.co Estacion OCENSA Miraflores Km 7 Via a Garagoa Miraflores Boyaca Colombia Tel 3250200 EXT. 7413 Cel: 3714355074 | R20: =+K20*Q20 -> 0 | S20: %
B21: 12 | C21: 10060517 | D21: 1 | E21: 68538 | F21: Bolsa,Elev,Submarino,Capac.Carga:5000KG, | G21: EQUIPOS Y ACCESORIOS DE ELEVACION;NOMBRE:Bolsa,MODIFICADOR:Elevacion,APLICACION ESPECIFICA:Submarino,CARACTERISTICAS ADICIONALES:Cap acidad Carga: 5000KG,CARACTERISTICAS ADICIONALES:Tipo: Abierta,CARACTERISTICAS ADICIONALES:Tejido: Nylon,CARACTERISTICAS ADICIONALES :Recubierta: Poliuretano,CARACTERISTICAS ADICIONALES:Resistencia a la Abrasion,CARACTERISTICAS ADICIONALES:Costura: Reforzada,CARACT ERISTICAS ADICIONALES:Valvula de descarga Patentada,CARACTERISTICAS ADICIONALES:Arnes de Elevacion de Nylon,CARACTERISTICAS ADICIONA LES:Diametro: 1.83m,CARACTERISTICAS ADICIONALES:Altura Total: 2.95m,CARACTERISTICAS ADICIONALES:Dimensiones: 1.04x1.04x0.25m,CARACTE | J21: EA | K21: 1 | L21: CVA | M21: =+VLOOKUP(L21,Hoja1!$A$1:$C$13,3,0) -> COVEÑAS - CVA Edernan Diaz Torres Jefe Almacen OCENSA Coveñas Terminal OCENSA Coveñas ext. 7113 Km 1 via a Lorica Coveñas - Sucre-Colombia CEL. 3174005215 almacen.covenas-externo@ocensa.com.co | R21: =+K21*Q21 -> 0 | S21: %
B22: 13 | C22: 10060259 | D22: 20 | E22: 15934 | F22: Casco,HDPE,Safari,E,G,Z89.1,BULLARD,Abov | G22: CASCO DE SEGURIDAD;MATERIAL:Polietileno de alta densidad,TIPO:Safari,RESISTENCIA:E,RESISTENCIA:G,ESPECIFICACION:ANSI Z89.1,FABRICANT E CASCO:BULLARD,REFERENCIA:AboveView,COLOR,CARACTERISTICA ADICIONAL:Incluye Logo Ocensa,CARACTERISTICA ADICIONAL:Tipo I | J22: EA | K22: 65 | L22: TUN | M22: =+VLOOKUP(L22,Hoja1!$A$1:$C$13,3,0) -> TUNJA - TUN Milton Reynaldo Garzón gil Jefe de almacén tunja Campamento Ocensa soraca Km 1 via Tunja - soraca Tunja Boyacá T 3250200 EXT. 7873 M 3208812052 /3174005212 materiales.tunja-externo@ocensa.com.co | R22: =+K22*Q22 -> 0 | S22: %
B23: 14 | C23: 10060417 | D23: 6 | E23: 62637 | F23: Disco,Vikoma,KI002I | G23: PARTES PARA EQUIPOS DE DERRAME;NOMBRE:Disco,MODIFICADOR,APLICACION ESPECIFICA,APLICACION GENERAL,FABRICANTE:Vikoma,MODELO,REFERENCIA :KI002I | J23: EA | K23: 2 | L23: PBE | M23: =+VLOOKUP(L23,Hoja1!$A$1:$C$13,3,0) -> PUERTO BERRIO-ANTIOQUIA- COLOMBIA Carretera principal km 1 via subestacion electrica la malena, campamento ocensa-ismocol Tel.(+57) (1) 3250200,Ext.7913 Cel. (+57) (3) 317-4005213 | R23: =+K23*Q23 -> 0 | S23: %
B24: 15 | C24: 10060411 | D24: 1 | E24: 10610 | F24: Estacion,Lavaojos,Port,D/Doble.Chorro,EN | G24: PROTECCION PARA OJOS Y ACCESORIOS;Tipo de proteccion para ojos:ESTACION,Clase de proteccion:Lavaojos,Clase de proteccion:PORTATIL,Cl ase de proteccion:De Doble Chorro,Aplicacion de protector,Fabricante protector vision:ENCON,Referencia de protector:01104002T+011030 08,CARACTERISTICAS ADICIONALES:Conector Y-BCP,CARACTERISTICAS ADICIONALES:13.5GL,CARACTERISTICAS ADICIONALES:Vertical,CARACTERISTICA S ADICIONALES:Con carro para transporte,CARACTERISTICAS ADICIONALES:Con Ducha Manual | J24: EA | K24: 4 | L24: MRF | M24: =+VLOOKUP(L24,Hoja1!$A$1:$C$13,3,0) -> MIRAFLORES - MRF Pedro a. Romero Esquivel. Jefe de Almacen OCENSA Miraflores materiales.miraflores-externo@ocensa.com.co Estacion OCENSA Miraflores Km 7 Via a Garagoa Miraflores Boyaca Colombia Tel 3250200 EXT. 7413 Cel: 3714355074 | R24: =+K24*Q24 -> 0 | S24: %
B25: 16 | C25: 10060259 | D25: 21 | E25: 15961 | F25: Gafas,Policarb,Claro,Z87.1-2010,MSA,OvrG | G25: GAFAS DE PROTECCION;MATERIAL:Policarbonato,TIPO,TIPO DE LENTE:Claro,USO,ESPECIFICACION:ANSI Z87.1-2010,FABRICANTE:MINE SAFETY APPLIA NCES,REFERENCIA:OvrG2,CARACTERISTICA ADICIONAL:Uso Sobre Lentes | J25: EA | K25: 170 | L25: TUN | M25: =+VLOOKUP(L25,Hoja1!$A$1:$C$13,3,0) -> TUNJA - TUN Milton Reynaldo Garzón gil Jefe de almacén tunja Campamento Ocensa soraca Km 1 via Tunja - soraca Tunja Boyacá T 3250200 EXT. 7873 M 3208812052 /3174005212 materiales.tunja-externo@ocensa.com.co | R25: =+K25*Q25 -> 0 | S25: %
B26: 17 | C26: 10060651 | D26: 4 | E26: 12045 | F26: Gafas,Policarb,Mult.Lent,Ahumada,Uv,Z87. | G26: GAFAS DE PROTECCION;MATERIAL:Policarbonato,TIPO:Monolenticular,TIPO DE LENTE:Ahumada,USO:Rayos uv,ESPECIFICACION:ANSI Z87.1,FABRICAN TE:KIMBERLY-CLARK,REFERENCIA:30196094,CARACTERISTICA ADICIONAL:Antiempañante,CARACTERISTICA ADICIONAL:NEMESIS | H26: 0 | J26: EA | K26: 24 | L26: EPO | M26: =+VLOOKUP(L26,Hoja1!$A$1:$C$13,3,0) -> EL PORVENIR - EPO Dayan Andres Acevedo Ardila. Jefe de Almacen OCENSA El Porvenir Estacion OCENSA El Porvenir Km 12 via vereda el porvenir Monterrey-Casanare-Colombia Tel 3250375 EXT. 7513 Materiales.porvenir@ocensa.com.co | R26: =+K26*Q26 -> 0 | S26: %
B27: 18 | C27: 10060259 | D27: 18 | E27: 14219 | F27: Gafas,Polim,M/Gafa,Osc,Sold,Z87.1,ARSEG, | G27: GAFAS DE PROTECCION;MATERIAL:POLIMERO,TIPO:Monogafa,TIPO DE LENTE:Oscuro,USO:Soldadura,ESPECIFICACION:ANSI Z87.1,FABRICANTE:ARSEG,RE FERENCIA:9-003 | J27: EA | K27: 170 | L27: TUN | M27: =+VLOOKUP(L27,Hoja1!$A$1:$C$13,3,0) -> TUNJA - TUN Milton Reynaldo Garzón gil Jefe de almacén tunja Campamento Ocensa soraca Km 1 via Tunja - soraca Tunja Boyacá T 3250200 EXT. 7873 M 3208812052 /3174005212 materiales.tunja-externo@ocensa.com.co | R27: =+K27*Q27 -> 0 | S27: %
B28: 19 | C28: 10060390 | D28: 11 | E28: 7496 | F28: Geotextil,No.Tej,O.Civil,PAVCO,NT200 | G28: MATERIALES DE REVESTIMIENTO;NOMBRE:Geotextil,TIPO:No Tejido,APLICACION:Obra Civil,ADHERENCIA,TAMAÑO,TIEMPO DE SELLADO,PRESENTACION,F UERZA DE TENSION,FABRICANTE:PAVCO,REFERENCIA:NT200 | J28: M | K28: 130 | L28: PBE | M28: =+VLOOKUP(L28,Hoja1!$A$1:$C$13,3,0) -> PUERTO BERRIO-ANTIOQUIA- COLOMBIA Carretera principal km 1 via subestacion electrica la malena, campamento ocensa-ismocol Tel.(+57) (1) 3250200,Ext.7913 Cel. (+57) (3) 317-4005213 | R28: =+K28*Q28 -> 0 | S28: %
B29: 20 | C29: 10060506 | D29: 1 | E29: 16018 | F29: Hipoclorito,Ca,65%,Tableta,Trat.Agua.Pot | G29: PRODUCTOS QUIMICOS;NOMBRE:Hipoclorito,TIPO:Calcio,TIPO:65%,TIPO:Tableta,REFERENCIA,FABRICANTE,APLICACION:Tratamiento Agua Potable,PR ESENTACION,CARACTERISTICA ADICIONAL:Cloro 65% | J29: KG | K29: 30 | L29: LBE | M29: =+VLOOKUP(L29,Hoja1!$A$1:$C$13,3,0) -> LA BELLEZA – LBE KM 5 Trampa - La Belleza OCENSA via Florián , Contacto Jose Fernando Chaparro Profesional Autoridad de Area +57 1 3250200 Ext 7404 Cel. 3214400753 tm_belleza@ocensa.com.co; Jose.Chaparro@ocensa.com.co | R29: =+K29*Q29 -> 0 | S29: %
B30: 21 | C30: 10060355 | D30: 1 | E30: 63617 | F30: Modulo,Ctrl,Arranque.Aut,DSE,DSE6010.MKI | G30: PARTES DE CONTROL DE AUTOMATIZACION;NOMBRE:Modulo,MODIFICADOR:De Control,APLICACION GENERAL,APLICACION ESPECIFICA:Arranque Automatic o,FABRICANTE:DEEP SEA ELECTRONICS,MODELO:DSE6010 MKII,SERIE,CARACTERISTICAS ADICIONALES:Referencia 6010-003-03,CARACTERISTICAS ADICI ONALES:Temperatura -30/70°C,CARACTERISTICAS ADICIONALES:Alimentacion 8-35VDC,CARACTERISTICAS ADICIONALES:Corriente 100mA@12V,CARACTE RISTICAS ADICIONALES:Corriente 105mA@24V | J30: EA | K30: 1 | L30: PBE | M30: =+VLOOKUP(L30,Hoja1!$A$1:$C$13,3,0) -> PUERTO BERRIO-ANTIOQUIA- COLOMBIA Carretera principal km 1 via subestacion electrica la malena, campamento ocensa-ismocol Tel.(+57) (1) 3250200,Ext.7913 Cel. (+57) (3) 317-4005213 | R30: =+K30*Q30 -> 0 | S30: %
B31: 22 | C31: 10059417 | D31: 1 | E31: 12121 | F31: Modulo,Señal.alarma,KIDDE,ASM,-35/66°C,1 | G31: PARTES DE CONTROL DE AUTOMATIZACION;:Modulo,MODIFICADOR,APLICACION GENERAL:Para señal de alarma,APLICACION ESPECIFICA,FABRICANTE:KID DE FIRE SYSTEMS,MODELO:ADDRESSABLE SIGNAL MODULE,SERIE,CARACTERISTICAS ADICIONALES:-35°C/66°C,CARACTERISTICAS ADICIONALES:16.5/27.5V DC,CARACTERISTICAS ADICIONALES:24VDC,CARACTERISTICAS ADICIONALES:UL listed,CARACTERISTICAS ADICIONALES:Notificacion salida 2A@24VDC | H31: PN70200200001 | J31: EA | K31: 2 | L31: LBE | M31: =+VLOOKUP(L31,Hoja1!$A$1:$C$13,3,0) -> LA BELLEZA – LBE KM 5 Trampa - La Belleza OCENSA via Florián , Contacto Jose Fernando Chaparro Profesional Autoridad de Area +57 1 3250200 Ext 7404 Cel. 3214400753 tm_belleza@ocensa.com.co; Jose.Chaparro@ocensa.com.co | R31: =+K31*Q31 -> 0 | S31: %
B32: 23 | C32: 10060259 | D32: 23 | E32: 15994 | F32: Protector.Audit,Tapon,Moldex,6405,ANSIS3 | G32: Protector auditivo;TIPO DE PROTECTOR:Tapon,MATERIAL DE PROTECTOR,MARCA PROTECTOR:Moldex,REFERENCIA DEL PROTECTOR:6405,CARACTERISTICA S ADICIONALES:ANSI S3.19-1974,CARACTERISTICAS ADICIONALES:Reutilizable,CARACTERISTICAS ADICIONALES:CSA Clase AL,CARACTERISTICAS ADIC IONALES:Minimo NRR 27dB | J32: PAA | K32: 9 | L32: TUN | M32: =+VLOOKUP(L32,Hoja1!$A$1:$C$13,3,0) -> TUNJA - TUN Milton Reynaldo Garzón gil Jefe de almacén tunja Campamento Ocensa soraca Km 1 via Tunja - soraca Tunja Boyacá T 3250200 EXT. 7873 M 3208812052 /3174005212 materiales.tunja-externo@ocensa.com.co | R32: =+K32*Q32 -> 0 | S32: %
B33: 24 | C33: 10059866 | D33: 53 | E33: 61330 | F33: Sensor,Flujo.Aire,Detector.Gas,SEIKOM,GD | G33: PARTES PARA DETECTORES;NOMBRE PARTE DETECTOR HUMO:Sensor,MODIFICADOR PARTE DETECTOR HUM:Flujo Aire,APLICACION PARTE DETEC HUMO:Para Detector de gas,FABRICANTE PARTE DETEC HUMO:SEIKOM ELECTRONIC,MODELO PARTE DETEC HUMO:GD129NI,REFERENCIA PART DETEC HUMO:F8.2EX | J33: EA | K33: 1 | L33: CQO | M33: =+VLOOKUP(L33,Hoja1!$A$1:$C$13,3,0) -> ESTACIÓN CHIQUILLO, Hacienda Buenavista, Vereda Costeñal, Remedios Antioquia. Tomas Carroll Tomas.Carroll@ocensa.com.co Profesional Autoridad Chiquillo, Direccion Operaciones | R33: =+K33*Q33 -> 0 | S33: %
B34: 25 | C34: 10059601 | D34: 14 | E34: 5691 | F34: Señalizacion,Adhesiva,Riesgo.Elect,100mm | G34: KITS DE SEÑALIZACION;NOMBRE:Señalizacion,MODIFICADOR:Adhesiva,APLICACION ESPECIFICA:Riesgo electrico,DIMENSIONES:100mm,CARACTERISTIC AS ADICIONALES:CATU,CARACTERISTICAS ADICIONALES:Referencia AT-49/1,CARACTERISTICAS ADICIONALES:Caja de 20 | J34: EA | K34: 2 | L34: EPO | M34: =+VLOOKUP(L34,Hoja1!$A$1:$C$13,3,0) -> EL PORVENIR - EPO Dayan Andres Acevedo Ardila. Jefe de Almacen OCENSA El Porvenir Estacion OCENSA El Porvenir Km 12 via vereda el porvenir Monterrey-Casanare-Colombia Tel 3250375 EXT. 7513 Materiales.porvenir@ocensa.com.co | R34: =+K34*Q34 -> 0 | S34: %
B35: 26 | C35: 10059601 | D35: 17 | E35: 9204 | F35: Señalizacion,Reglam.,60cm x 30cm Calibre | G35: KITS DE SEÑALIZACION;NOMBRE:Señalizacion,MODIFICADOR:Reglamentaria,APLICACION ESPECIFICA,DIMENSIONES:60cm x 30cm Calibre 26,FABRICAN TE,REFERENCIA,CARACTERISTICAS ADICIONALES:Lamina Galvanizada,CARACTERISTICAS ADICIONALES:No entre solo personal autoriz,CARACTERISTI CAS ADICIONALES:Cinta reflectiva 3m,CARACTERISTICAS ADICIONALES:Horizontal | J35: EA | K35: 1 | L35: EPO | M35: =+VLOOKUP(L35,Hoja1!$A$1:$C$13,3,0) -> EL PORVENIR - EPO Dayan Andres Acevedo Ardila. Jefe de Almacen OCENSA El Porvenir Estacion OCENSA El Porvenir Km 12 via vereda el porvenir Monterrey-Casanare-Colombia Tel 3250375 EXT. 7513 Materiales.porvenir@ocensa.com.co | R35: =+K35*Q35 -> 0 | S35: %
B36: 27 | C36: 10060539 | D36: 1 | E36: 16010 | F36: Sulfato,Al,Tipo.A,Trat.Agua.Potable | G36: PRODUCTOS QUIMICOS;NOMBRE:Sulfato,TIPO:Granulado,TIPO:Aluminio,TIPO:Tipo A,REFERENCIA,FABRICANTE,APLICACION:Tratamiento Agua Potable | J36: KG | K36: 50 | L36: GRA | M36: =+VLOOKUP(L36,Hoja1!$A$1:$C$13,3,0) -> La Granjita Sector La Granjita, municipio Pueblo Nuevo (Córdoba). Generalidades: El caserío La Granjita se ubica aledaño a la Ruta 25, vía de primer orden que comunica el departamento de Antioquia con Coveñas. | R36: =+K36*Q36 -> 0 | S36: %
B38: OBSERVACIONES GENERALES | Q38: Total | R38: =SUM(R10:R36) -> 0
B39: • Es obligatorio adjuntar diligenciado el archivo de EXCEL en editable y en PDF firmado por el represéntate legal (formato presentación oferta) junto con su oferta comercial. • Es obligatorio adjuntar el archivo 4. DECLARACIÓN DE CUMPLIMIENTO PERSONA JURÍDICA debidamente diligenciado y firmado por el representante legal. • Es obligatorio enviar las fichas técnicas o data sheets, sin este documento la oferta no sera tomada en cuenta • Favor revisar documentacion adjunta
B41: Detalle de Lugar de entrega:
B42: CVA | D42: Terminal Marítimo de Coveñas, Terminal Ocensa, Km 1 vía Lorica
B43: EPO | D43: El Porvenir, Estación Ecopetrol, Monterrey / Casanare
B44: VSA | D44: ESTACION DE BOMBEO VASCONIA (Km. 17 vía a Bucaramanga, Puerto Boyacá (Boyacá)
B45: CUS | D45: Cusiana, CPF Estación Cusiana, Tauramena / Casanare
B46: LBE | D46: KM 5 Trampa -La Belleza OCENSA via Florian | V46: FIRMA REP LEGAL.
B47: PBE | D47: Puerto Berrio Km 1 vía subestación eléctrica La Malena, Campamentos MASA (Mecánicos Asociados), OCENSA, Puerto Berrio-Antioquia
B48: OPBE | O48: Observaciones
B49: TUN | D49: Tunja, Campamento Ocensa, Alto de Soracá, Km 2 frente a antenas RCN
B50: MRF | D50: Miraflores, Estación Ecopetrol, Km 7 vía Garagoa, Miraflores / Boyacá
B51: CCA | D51: Caucasia, Ocensa, Estación La Trampa Km 2 frente a entrada Aeropuerto
B52: OCCS
B53: CCS

Sheet Hoja1
A1: LBE | B1: LA BELLEZA | C1: LA BELLEZA – LBE KM 5 Trampa - La Belleza OCENSA via Florián , Contacto Jose Fernando Chaparro Profesional Autoridad de Area +57 1 3250200 Ext 7404 Cel. 3214400753 tm_belleza@ocensa.com.co; Jose.Chaparro@ocensa.com.co
A2: CCA | B2: CAUCASIA | C2: CAUCASIA - CCA Danys duran Chávez Jefe de almacén Km 1 via Medellin entrada frente al Aeropuerto a 2.7 km ESTACION LA TRAMPA CAUCASIA Fijo: 8308902-8308903 Ext. 7213 Cel: 315-8808485 materiales.caucasia-externo@ocensa.com.co
A3: CVA | B3: COVEÑAS - CVA | C3: COVEÑAS - CVA Edernan Diaz Torres Jefe Almacen OCENSA Coveñas Terminal OCENSA Coveñas ext. 7113 Km 1 via a Lorica Coveñas - Sucre-Colombia CEL. 3174005215 almacen.covenas-externo@ocensa.com.co
A4: CUS | B4: CUSIANA - CUS | C4: CUSIANA - CUS Luz Nelly Mora Jefe de Almacen OCENSA Cusiana Estación OCENSA Cusiana Localizado en el Km 2,2 de la vía que conduce de la marginal de la selva al municipio de Tauramena. Tauramena, Casanare, Colombia Tel. 091 3250200 - Ext 7613/ 0986346098 - Ext. 6098 Cel.317 4005210 / 314 3813470 Materiales.cusiana@ocensa.com.co
A5: MRF | B5: MIRAFLORES - MRF | C5: MIRAFLORES - MRF Pedro a. Romero Esquivel. Jefe de Almacen OCENSA Miraflores materiales.miraflores-externo@ocensa.com.co Estacion OCENSA Miraflores Km 7 Via a Garagoa Miraflores Boyaca Colombia Tel 3250200 EXT. 7413 Cel: 3714355074
A6: EPO | B6: EL PORVENIR - EPO | C6: EL PORVENIR - EPO Dayan Andres Acevedo Ardila. Jefe de Almacen OCENSA El Porvenir Estacion OCENSA El Porvenir Km 12 via vereda el porvenir Monterrey-Casanare-Colombia Tel 3250375 EXT. 7513 Materiales.porvenir@ocensa.com.co
A7: PBE | B7: PUERTO BERRIO - PBE | C7: PUERTO BERRIO-ANTIOQUIA- COLOMBIA Carretera principal km 1 via subestacion electrica la malena, campamento ocensa-ismocol Tel.(+57) (1) 3250200,Ext.7913 Cel. (+57) (3) 317-4005213
A8: TUN | B8: TUNJA - TUN | C8: TUNJA - TUN Milton Reynaldo Garzón gil Jefe de almacén tunja Campamento Ocensa soraca Km 1 via Tunja - soraca Tunja Boyacá T 3250200 EXT. 7873 M 3208812052 /3174005212 materiales.tunja-externo@ocensa.com.co
A9: VSA | B9: VASCONIA - VAS | C9: VASCONIA - VAS Jairo Antonio Fandiño Maestre. Jefe de Almacen OCENSA Planta Vasconia. Estacion ECOPETROL-Vasconia Puerto Boyaca-Boyaca- Colombia Tel.(+57) (1) 3250200,Ext.7313 Cel. (+57) (3) 318-3490425 Materiales.vasconia@ocensa.com.co
A10: CQO | B10: El Chiquillo | C10: ESTACIÓN CHIQUILLO, Hacienda Buenavista, Vereda Costeñal, Remedios Antioquia. Tomas Carroll Tomas.Carroll@ocensa.com.co Profesional Autoridad Chiquillo, Direccion Operaciones
A11: PAE | B11: El Páez | C11: ESTACION DE PAEZ Estación OCENSA PAEZ Vía a Vistahermosa vereda yapompo Pedro Fabian Laguado Pedro.FabianLaguado@ocensa.com.co +57 1 3250200 Ext: 7063 Cel. 316 7487759
A12: BOG | C12: Carrera 11 No. 84-09 piso 9 Bogotá – Colombia
A13: GRA | B13: La Granjita | C13: La Granjita Sector La Granjita, municipio Pueblo Nuevo (Córdoba). Generalidades: El caserío La Granjita se ubica aledaño a la Ruta 25, vía de primer orden que comunica el departamento de Antioquia con Coveñas.
A17: Estación MRF:
A19: · Encoexpres
A20: · Interrapidisimo.
A21: · Servientrega
A22: · Tcc.
A25: Estación PAE:
A27: · Servientrega
A28: · Encoexpres
A31: CUS
A32: ENCOEXPRESS
A34: TUN Soraca
A35: Inter rapidísimo
... A78: NO
