Workbook
Name \a: [1]Insumos!#REF!
Name \a: [1]Insumos!#REF!
Name \a: [1]Insumos!#REF!
Name \b: [2]INSUMOS!#REF!
Name \i: [2]INSUMOS!#REF!
Name \m: [2]INSUMOS!#REF!
Name \r: [2]INSUMOS!#REF!
Name \t: [2]INSUMOS!#REF!
Name \x: [2]INSUMOS!#REF!
Name _________________________________apu1: [2]INSUMOS!#REF!
Name ________________________________apu1: [2]INSUMOS!#REF!
Name _______________________________apu1: [2]INSUMOS!#REF!
Name ______________________________apu1: [2]INSUMOS!#REF!
Name ____________________________apu1: [2]INSUMOS!#REF!
Name ___________________________apu1: [2]INSUMOS!#REF!
Name __________________________apu1: [2]INSUMOS!#REF!
Name _________________________apu1: [2]INSUMOS!#REF!
Name ________________________apu1: [2]INSUMOS!#REF!
Name _______________________apu1: [2]INSUMOS!#REF!
Name _____________________apu1: [2]INSUMOS!#REF!
Name ____________________apu1: [2]INSUMOS!#REF!
Name ___________________apu1: [2]INSUMOS!#REF!
Name __________________apu1: [2]INSUMOS!#REF!
Name _________________apu1: [2]INSUMOS!#REF!
Name ________________apu1: [2]INSUMOS!#REF!
Name _______________apu1: [2]INSUMOS!#REF!
Name ______________apu1: [2]INSUMOS!#REF!
Name _____________apu1: [2]INSUMOS!#REF!
Name ____________apu1: [2]INSUMOS!#REF!
Name ___________apu1: [2]INSUMOS!#REF!
Name __________apu1: [2]INSUMOS!#REF!
Name _________apu1: [2]INSUMOS!#REF!
Name ________apu1: [2]INSUMOS!#REF!
Name _______apu1: [2]INSUMOS!#REF!
Name ______apu1: [2]INSUMOS!#REF!
Name _____apu1: [2]INSUMOS!#REF!
Name ____apu1: [2]INSUMOS!#REF!
Name ___apu1: [2]INSUMOS!#REF!
Name __apu1: [2]INSUMOS!#REF!
Name _A16400: #REF!
Name _A16400: #REF!
Name _A16400: #REF!
Name _A16400: #REF!
Name _apu1: [2]INSUMOS!#REF!
Name A: #REF!
Name a: [1]Insumos!#REF!
Name ACERO: #REF!
Name ACERO: #REF!
Name ACTIVOS: #REF!
Name ACTIVOS: #REF!
Name adfasdfsa: [1]Insumos!#REF!
Name adfasdfsa: [1]Insumos!#REF!
Name adfasfadfa: [1]Insumos!#REF!
Name ADMON: #REF!
Name ADMON: #REF!
Name adsfadsfasdfafdasfdasfd: [2]INSUMOS!#REF!
Name adsfadsfasdfafdasfdasfd: [2]INSUMOS!#REF!
Name adsfadsfasdfafdasfdasfd: [2]INSUMOS!#REF!
Name adsfadsfasdfafdasfdasfd: [2]INSUMOS!#REF!
Name adsfadsfasfasdfasfdasdfadsfdsafdsa: [1]Insumos!#REF!

Sheet PRESUPUESTO
C1: SECRETARIA DE PLANEACIÓN Y OBRAS PÚBLICAS | D1: CODIGO | F1: 103
D2: SERIE Y SUBSERIE | F2: 51
C3: NIT. 800252922-2
C4: Modelo Integrado de Planeación y Gestión | D4: VERSIÓN | F4: 1
C5: PRESUPUESTO | D5: FECHA DEL FORMATO | F5: D/M/A
F6: 45402
A8: MEJORAMIENTO DEL SISTEMA DE TRATAMIENTO DE AGUAS RESIDUALES EN LA INSTITUCION EDUCATIVA RURAL SAN CARLOS, SEDE PRINCIPAL, EN EL MUNICIPIO DE SAN MIGUEL PUTUMAYO.
A11: PRESUPUESTO GENERAL
A13: ITEM | B13: DESCRIPCION | D13: UNIDAD | E13: CANTIDAD | F13: VR/UNITARIO | G13: VR/TOTAL | M13: =450000/9 -> 50000
A14: POZO SEPTICO SAN CARLOS
A15: 1 | B15: PRELIMINARES
A16: 1.1 | B16: Excavacion a maquina en material comun H=1.5 - 2.5m | D16: M3 | E16: ='MEMORIA CANTIDADES'!I23 -> 27.5 | F16: =APUS!H37 -> 37383.34 | G16: =+ROUND(E16*F16,2) -> 1028041.8
A17: 1.2 | B17: Excavacion manual para zanjas de redes sanitarias | D17: M3 | E17: ='MEMORIA CANTIDADES'!I32 -> 35 | F17: =APUS!H86 -> 45500 | G17: =+ROUND(E17*F17,2) -> 1592500
B18: subtotal | G18: =ROUND(SUM(G16:G17),2) -> 2620541.9
A19: 2 | B19: POZO SEPTICO
A20: 2.1 | B20: Suministro e instalacion pozo septico prefabricado 20.000 lts | D20: UND | E20: ='MEMORIA CANTIDADES'!I44 -> 1 | F20: =APUS!H138 -> 34515821 | G20: =+ROUND(E20*F20,2) -> 34515821
B21: subtotal | G21: =ROUND(SUM(G20:G20),2) -> 34515821
A22: TOTAL COSTO DIRECTO | G22: =G18+G21 -> 37136363
A23: ADMINISTRACIÓN | F23: 0.28 | G23: =ROUND(F23*$G$22,2) -> 10398182
A24: IMPREVISTOS | F24: 0.01 | G24: =ROUND(F24*$G$22,2) -> 371363.63
A25: UTILIDAD | F25: 0.03 | G25: =ROUND(F25*$G$22,2) -> 1114090.9
A26: TOTAL COSTO INDIRECTO | G26: =SUM(G23:G25) -> 11883636
A27: TOTAL OBRA | G27: =ROUND(G22+G26,2) -> 49019999
B32: _________________________________________
B33: REALIZO: ING JEISSON ARLED BUESAQUILLO | E33: ARQ. GUILLERMO YAMID VALLEJOS BENAVIDES
B34: Apoyo Profesional SPOPM | E34: SECRETARIO DE PLANEACION Y OBRAS PUBLICAS
E35: SAN MIGUEL - PUTUMAYO

Sheet APUS
C1: SECRETARIA DE PLANEACIÓN Y OBRAS PÚBLICAS | D1: CODIGO | F1: 103
D2: SERIE Y SUBSERIE | F2: 51
C3: NIT. 800252922-2
C4: Modelo Integrado de Planeación y Gestión | D4: VERSIÓN | F4: 1
C5: PRESUPUESTO | D5: FECHA DEL FORMATO | F5: D/M/A
F6: =[10]PRESUPUESTO!F6 -> 45402
A8: =PRESUPUESTO!A8 -> MEJORAMIENTO DEL SISTEMA DE TRATAMIENTO DE AGUAS RESIDUALES EN LA INSTITUCION EDUCATIVA RURAL SAN CARLOS, SEDE PRINCIPAL, EN EL MUNICIPIO DE SAN MIGUEL PUTUMAYO.
A11: 1.1 | B11: =VLOOKUP(A11,PRESUPUESTO!$A$14:$G$22,2,) -> Excavacion a maquina en material comun H=1.5 - 2.5m | G11: Unidad: | H11: =VLOOKUP(A11,PRESUPUESTO!$A$14:$G$22,4,) -> M3
A13: I | B13: EQUIPO
B14: DESCRIPCIÓN | D14: Tipo | E14: Tarifa/Hora | F14: Rend | G14: V. Unitario.
B15: Herremienta menor | F15: 0.1 | G15: =ROUND(H29*F15,2) -> 2216.67
B16: Retroexcavadora | D16: H-M | E16: 130000 | F16: 0.1 | G16: =E16*F16 -> 13000
E17: SUBTOTAL. | H17: =ROUND(SUM(G15:G16),2) -> 15216.67
A18: II | B18: MATERIALES EN OBRA.
B19: DESCRIPCIÓN | D19: Unidad | E19: Cant. | F19: Precio Unit. | G19: V. Unitario.
E23: SUBTOTAL | H23: =ROUND(SUM(G20:G22),2) -> 0
A24: III | B24: MANO DE OBRA.
A25: CAN | B25: DESCRIPCIÓN | C25: Jornal | D25: Prestac | E25: Jornal Total | F25: Redn m3/Dia | G25: V. Unitario.
A26: 1 | B26: Oficial de obra | C26: 120000 | D26: 0.75 | E26: =+(A26*C26)+(A26*C26*D26) -> 210000 | F26: 15 | G26: =ROUND(E26/(F26),2) -> 14000
A27: 1 | B27: Ayudante de obra | C27: 70000 | D27: 0.75 | E27: =+(A27*C27)+(A27*C27*D27) -> 122500 | F27: 15 | G27: =ROUND(E27/(F27),2) -> 8166.67
E29: SUBTOTAL | H29: =ROUND(SUM(G26)+(G27),2) -> 22166.67
A30: IV | B30: TRANSPORTE
B31: DESCRIPCIÓN | C31: Unidad | D31: Cantidad | E31: Prec.Unitario | G31: Vr. Unitario
E35: SUBTOTAL | H35: =ROUND(SUM(G32)+(G33),0) -> 0
D37: TOTAL COSTOS DIRECTOS. | H37: =ROUND(SUM(H17:H36),2) -> 37383.34
A39: V | B39: COSTOS INDIRECTOS.
B40: DESCRIPCIÓN | D40: % | F40: V. UNITARIO
B41: ADMINISTRACIÓN | D41: 0.28 | F41: =+H37*D41 -> 10467.335
B42: IMPREVISTOS | D42: 0.01 | F42: =+H37*D42 -> 373.8334
B43: UTILIDAD | D43: 0.03 | F43: =+H37*D43 -> 1121.5002
D44: TOTAL COSTOS INDIRECTOS | H44: =SUM(F41:G43) -> 11962.669
D46: TOTAL PRECIO UNITARIO. | H46: =H37+H44 -> 49346.009
A50: Reviso: | B50: Ing. Jeisson Arled Buesaquillo Madroñero | E50: ARQ. GUILLERMO YAMID VALLEJOS BENAVIDES
A51: Apoyo Profesional SPOPM | E51: =+$E$51 -> SECRETARIO DE PLANEACION Y OBRAS PUBLICAS
E52: =+$E$52 -> SAN MIGUEL - PUTUMAYO
C53: SECRETARIA DE PLANEACIÓN Y OBRAS PÚBLICAS | D53: CODIGO | F53: 103
D54: SERIE Y SUBSERIE | F54: 51
C55: NIT. 800252922-2
C56: Modelo Integrado de Planeación y Gestión | D56: VERSIÓN | F56: 1
C57: PRESUPUESTO | D57: FECHA DEL FORMATO | F57: D/M/A
...

Sheet MEMORIA CANTIDADES
C1: SECRETARIA DE PLANEACIÓN Y OBRAS PÚBLICAS | E1: CODIGO | G1: 103
E2: SERIE Y SUBSERIE | G2: 51
C3: NIT. 800252922-2
C4: Modelo Integrado de Planeación y Gestión | E4: VERSIÓN | G4: 1
C5: PRESUPUESTO | E5: FECHA DEL FORMATO | G5: D/M/A
G6: 44216
A8: =PRESUPUESTO!A8 -> MEJORAMIENTO DEL SISTEMA DE TRATAMIENTO DE AGUAS RESIDUALES EN LA INSTITUCION EDUCATIVA RURAL SAN CARLOS, SEDE PRINCIPAL, EN EL MUNICIPIO DE SAN MIGUEL PUTUMAYO.
A12: MEMORIA DE CANTIDADES
A15: ITEM | C15: =VLOOKUP(A16,PRESUPUESTO!$A$14:$G$22,2,) -> Excavacion a maquina en material comun H=1.5 - 2.5m | I15: UNIDAD
A16: 1.1 | I16: =VLOOKUP(A16,PRESUPUESTO!$A$14:$G$22,4,) -> M3
A17: DESCRIPCION | D17: ANCHO | E17: LONGITUD | F17: ALTO | G17: VOLUMEN | I17: TOTAL
A18: AREA POZO SEPTICO | C18: EXCAVACION POZO SEPTICO | D18: 2.5 | E18: 5.5 | F18: 2 | G18: =D18*E18*F18 -> 27.5 | I18: =G18 -> 27.5
A23: TOTAL | I23: =SUM(I18:I22) -> 27.5
A25: ITEM | C25: =VLOOKUP(A26,PRESUPUESTO!$A$14:$G$22,2,) -> Excavacion manual para zanjas de redes sanitarias | I25: UNIDAD
A26: 1.2 | I26: =VLOOKUP(A26,PRESUPUESTO!$A$14:$G$22,4,) -> M3
A27: DESCRIPCION | D27: ANCHO | E27: LONGITUD | F27: ALTO | G27: No. ELEM. | I27: TOTAL
A28: ZANJAS REDES | C28: ZANJAS DE REDES SANITARIAS A POZO | D28: 0.5 | E28: 70 | F28: 1 | G28: 1 | I28: =D28*E28*F28*G28 -> 35
A32: TOTAL | I32: =SUM(I28:I31) -> 35
A34: ITEM | C34: =VLOOKUP(A35,PRESUPUESTO!$A$14:$G$22,2,) -> Suministro e instalacion pozo septico prefabricado 20.000 lts | I34: UNIDAD
A35: 2.1 | I35: =VLOOKUP(A35,PRESUPUESTO!$A$14:$G$22,4,) -> UND
A36: DESCRIPCION | D36: ANCHO | E36: LARGO | F36: ALTO | G36: No. ELEM. | I36: TOTAL
A37: POZO SEPTICO | C37: SUMINISTRO E INSTALACION | G37: 1 | I37: =G37 -> 1
A44: TOTAL | I44: =SUM(I37:I43) -> 1
B49: _________________________________________ | E49: _______________________________________________
B50: REALIZO: ING JEISSON ARLED BUESAQUILLO | E50: ARQ. GUILLERMO YAMID VALLEJOS BENAVIDES
B51: Apoyo Profesional SPOPM | E51: SECRETARIO DE PLANEACION Y OBRAS PUBLICAS
E52: SAN MIGUEL - PUTUMAYO

Sheet FLUJO DE INVERSION 
C1: SECRETARIA DE PLANEACIÓN Y OBRAS PÚBLICAS | I1: CODIGO | L1: 103
I2: SERIE Y SUBSERIE | L2: 51
C3: NIT. 800252922-2
C4: Modelo Integrado de Planeación y Gestión | I4: VERSIÓN | L4: 1
C5: PRESUPUESTO | I5: FECHA DEL FORMATO | L5: D/M/A
L6: 44216
A8: =PRESUPUESTO!A8 -> MEJORAMIENTO DEL SISTEMA DE TRATAMIENTO DE AGUAS RESIDUALES EN LA INSTITUCION EDUCATIVA RURAL SAN CARLOS, SEDE PRINCIPAL, EN EL MUNICIPIO DE SAN MIGUEL PUTUMAYO.
A11: FLUJO DE INVERSION
I12: MES 1 | M12: MES 2
I13: SEMANA 1 | J13: SEMANA 2 | K13: SEMANA 3 | L13: SEMANA 4 | M13: SEMANA 5 | N13: SEMANA 6 | O13: SEMANA 7 | P13: SEMANA 8
A14: ITEM | B14: DESCRIPCION | D14: UNIDAD | E14: CANTIDAD | F14: V/UNITARIO | G14: V/TOTAL | H14: %
A15: 1 | B15: =PRESUPUESTO!B15 -> PRELIMINARES
A16: 1.1 | B16: =VLOOKUP(A16,PRESUPUESTO!$A$14:$G$21,2,) -> Excavacion a maquina en material comun H=1.5 - 2.5m | D16: =VLOOKUP(A16,PRESUPUESTO!$A$14:$G$21,4,) -> M3 | E16: =VLOOKUP(A16,PRESUPUESTO!$A$14:$G$21,5,) -> 27.5 | F16: =VLOOKUP(A16,PRESUPUESTO!$A$14:$G$21,6,) -> 37383.34 | G16: =+ROUND(E16*F16,2) -> 1028041.8 | H16: =G16/$G$21 -> 0.02768289 | I16: =$G$16/2 -> 514020.92 | J16: =$G$16/2 -> 514020.92
A17: 1.2 | B17: =VLOOKUP(A17,PRESUPUESTO!$A$14:$G$21,2,) -> Excavacion manual para zanjas de redes sanitarias | D17: =VLOOKUP(A17,PRESUPUESTO!$A$14:$G$21,4,) -> M3 | E17: =VLOOKUP(A17,PRESUPUESTO!$A$14:$G$21,5,) -> 35 | F17: =VLOOKUP(A17,PRESUPUESTO!$A$14:$G$21,6,) -> 45500 | G17: =+ROUND(E17*F17,2) -> 1592500 | H17: =G17/$G$21 -> 0.042882498 | O17: =$G$17/2 -> 796250 | P17: =$G$17/2 -> 796250
A18: 2 | B18: =PRESUPUESTO!B19 -> POZO SEPTICO
A19: 2.1 | B19: =VLOOKUP(A19,PRESUPUESTO!$A$14:$G$21,2,) -> Suministro e instalacion pozo septico prefabricado 20.000 lts | D19: =VLOOKUP(A19,PRESUPUESTO!$A$14:$G$21,4,) -> UND | E19: =VLOOKUP(A19,PRESUPUESTO!$A$14:$G$21,5,) -> 1 | F19: =VLOOKUP(A19,PRESUPUESTO!$A$14:$G$21,6,) -> 34515821 | G19: =+ROUND(E19*F19,2) -> 34515821 | H19: =G19/$G$21 -> 0.92943461 | J19: =$G$19/5 -> 6903164.2 | K19: =$G$19/5 -> 6903164.2 | L19: =$G$19/5 -> 6903164.2 | M19: =$G$19/5 -> 6903164.2 | N19: =$G$19/5 -> 6903164.2
A21: TOTAL COSTO DIRECTO OBRA | G21: =SUM(G16:G17,G19:G19) -> 37136363 | H21: =SUM(H16:H19) -> 1 | I21: =SUM(I14:I19) -> 514020.92 | J21: =SUM(J14:J19) -> 7417185.1 | K21: =SUM(K14:K19) -> 6903164.2 | L21: =SUM(L14:L19) -> 6903164.2 | M21: =SUM(M14:M19) -> 6903164.2 | N21: =SUM(N14:N19) -> 6903164.2 | O21: =SUM(O14:O19) -> 796250 | P21: =SUM(P14:P19) -> 796250
A22: ADMINISTRACION | F22: 0.28 | G22: =ROUND((F22*G$21),2) -> 10398182 | H22: =G22/G$21 -> 0.28 | I22: =$F$22*I$21 -> 143925.86 | J22: =$F$22*J$21 -> 2076811.8 | K22: =$F$22*K$21 -> 1932886 | L22: =$F$22*L$21 -> 1932886 | M22: =$F$22*M$21 -> 1932886 | N22: =$F$22*N$21 -> 1932886 | O22: =$F$22*O$21 -> 222950 | P22: =$F$22*P$21 -> 222950
A23: IMPREVISTOS | F23: 0.01 | G23: =ROUND((F23*G$21),2) -> 371363.63 | H23: =G23/G$21 -> 0.01 | I23: =$F$23*I$21 -> 5140.2092 | J23: =$F$23*J$21 -> 74171.851 | K23: =$F$23*K$21 -> 69031.642 | L23: =$F$23*L$21 -> 69031.642 | M23: =$F$23*M$21 -> 69031.642 | N23: =$F$23*N$21 -> 69031.642 | O23: =$F$23*O$21 -> 7962.5 | P23: =$F$23*P$21 -> 7962.5
A24: UTILIDAD | F24: 0.03 | G24: =ROUND((F24*G$21),2) -> 1114090.9 | H24: =G24/G$21 -> 0.03 | I24: =$F$24*I$21 -> 15420.628 | J24: =$F$24*J$21 -> 222515.55 | K24: =$F$24*K$21 -> 207094.93 | L24: =$F$24*L$21 -> 207094.93 | M24: =$F$24*M$21 -> 207094.93 | N24: =$F$24*N$21 -> 207094.93 | O24: =$F$24*O$21 -> 23887.5 | P24: =$F$24*P$21 -> 23887.5
A25: TOTAL COSTO INDIRECTO OBRA | G25: =SUM(G22:G24) -> 11883636 | H25: =SUM(H22:H24) -> 0.32 | I25: =SUM(I22:I24) -> 164486.7 | J25: =SUM(J22:J24) -> 2373499.2 | K25: =SUM(K22:K24) -> 2209012.5 | L25: =SUM(L22:L24) -> 2209012.5 | M25: =SUM(M22:M24) -> 2209012.5 | N25: =SUM(N22:N24) -> 2209012.5 | ... P25: =SUM(P22:P24) -> 254800
A26: TOTAL OBRA | G26: =G25+G21 -> 49019999 | H26: =G25/G21 -> 0.32 | I26: =I21+I25 -> 678507.62 | J26: =J21+J25 -> 9790684.4 | K26: =K21+K25 -> 9112176.7 | L26: =L21+L25 -> 9112176.7 | M26: =M21+M25 -> 9112176.7 | N26: =N21+N25 -> 9112176.7 | O26: =O21+O25 -> 1051050 | P26: =P21+P25 -> 1051050
A27: ACUMULADO SEMANAL | G27: =P27 -> 49019999 | I27: =I26 -> 678507.62 | J27: =I27+J26 -> 10469192 | K27: =J27+K26 -> 19581369 | L27: =K27+L26 -> 28693545 | M27: =L27+M26 -> 37805722 | N27: =M27+N26 -> 46917899 | O27: =N27+O26 -> 47968949 | P27: =O27+P26+0.01 -> 49019999
E32: ______________________________________________
B33: _________________________________________ | E33: ARQ. GUILLERMO YAMID VALLEJOS BENAVIDES
B34: REALIZO: ING JEISSON ARLED BUESAQUILLO | E34: SECRETARIO DE PLANEACION Y OBRAS PUBLICAS
B35: Apoyo Profesional SPOPM | E35: SAN MIGUEL - PUTUMAYO

Sheet CRONOGRAMA
C1: SECRETARIA DE PLANEACIÓN Y OBRAS PÚBLICAS | I1: CODIGO | L1: 103
I2: SERIE Y SUBSERIE | L2: 51
C3: NIT. 800252922-2
C4: Modelo Integrado de Planeación y Gestión | I4: VERSIÓN | L4: 1
C5: PRESUPUESTO | I5: FECHA DEL FORMATO | L5: D/M/A
L6: 44216
A8: =PRESUPUESTO!A8 -> MEJORAMIENTO DEL SISTEMA DE TRATAMIENTO DE AGUAS RESIDUALES EN LA INSTITUCION EDUCATIVA RURAL SAN CARLOS, SEDE PRINCIPAL, EN EL MUNICIPIO DE SAN MIGUEL PUTUMAYO.
A11: CRONOGRAMA DE ACTIVIDADES
I12: MES 1 | M12: MES 2
I13: SEMANA 1 | J13: SEMANA 2 | K13: SEMANA 3 | L13: SEMANA 4 | M13: SEMANA 5 | N13: SEMANA 6 | O13: SEMANA 7 | P13: SEMANA 8
A14: ITEM | B14: DESCRIPCION | D14: UNIDAD | E14: CANTIDAD | F14: V/UNITARIO | G14: V/TOTAL | H14: %
A15: 1 | B15: =PRESUPUESTO!B15 -> PRELIMINARES
A16: 1.1 | B16: =VLOOKUP(A16,PRESUPUESTO!$A$14:$G$21,2,) -> Excavacion a maquina en material comun H=1.5 - 2.5m | D16: =VLOOKUP(A16,PRESUPUESTO!$A$14:$G$21,4,) -> M3 | E16: =VLOOKUP(A16,PRESUPUESTO!$A$14:$G$21,5,) -> 27.5 | F16: =VLOOKUP(A16,PRESUPUESTO!$A$14:$G$21,6,) -> 37383.34 | G16: =+ROUND(E16*F16,2) -> 1028041.8 | H16: =G16/$G$21 -> 0.02768289
A17: 1.2 | B17: =VLOOKUP(A17,PRESUPUESTO!$A$14:$G$21,2,) -> Excavacion manual para zanjas de redes sanitarias | D17: =VLOOKUP(A17,PRESUPUESTO!$A$14:$G$21,4,) -> M3 | E17: =VLOOKUP(A17,PRESUPUESTO!$A$14:$G$21,5,) -> 35 | F17: =VLOOKUP(A17,PRESUPUESTO!$A$14:$G$21,6,) -> 45500 | G17: =+ROUND(E17*F17,2) -> 1592500 | H17: =G17/$G$21 -> 0.042882498
A18: 2 | B18: =PRESUPUESTO!B19 -> POZO SEPTICO
A19: 2.1 | B19: =VLOOKUP(A19,PRESUPUESTO!$A$14:$G$21,2,) -> Suministro e instalacion pozo septico prefabricado 20.000 lts | D19: =VLOOKUP(A19,PRESUPUESTO!$A$14:$G$21,4,) -> UND | E19: =VLOOKUP(A19,PRESUPUESTO!$A$14:$G$21,5,) -> 1 | F19: =VLOOKUP(A19,PRESUPUESTO!$A$14:$G$21,6,) -> 34515821 | G19: =+ROUND(E19*F19,2) -> 34515821 | H19: =G19/$G$21 -> 0.92943461
A21: TOTAL COSTO DIRECTO OBRA | G21: =SUM(G16:G17,G19:G19) -> 37136363 | H21: =SUM(H16:H19) -> 1
A22: ADMINISTRACION | F22: 0.28 | G22: =ROUND((F22*G$21),2) -> 10398182 | H22: =G22/G$21 -> 0.28
A23: IMPREVISTOS | F23: 0.01 | G23: =ROUND((F23*G$21),2) -> 371363.63 | H23: =G23/G$21 -> 0.01
A24: UTILIDAD | F24: 0.03 | G24: =ROUND((F24*G$21),2) -> 1114090.9 | H24: =G24/G$21 -> 0.03
A25: TOTAL COSTO INDIRECTO OBRA | G25: =SUM(G22:G24) -> 11883636 | H25: =SUM(H22:H24) -> 0.32
A26: TOTAL OBRA | G26: =G25+G21 -> 49019999 | H26: =G25/G21 -> 0.32
E32: ______________________________________________
B33: _________________________________________ | E33: ARQ. GUILLERMO YAMID VALLEJOS BENAVIDES
B34: REALIZO: ING JEISSON ARLED BUESAQUILLO | E34: SECRETARIO DE PLANEACION Y OBRAS PUBLICAS
B35: Apoyo Profesional SPOPM | E35: SAN MIGUEL - PUTUMAYO

Sheet F.M 
D1: SECRETARIA DE PLANEACIÓN Y OBRAS PÚBLICAS | E1: CODIGO | F1: 103
E2: SERIE Y SUBSERIE | F2: 51
D3: NIT. 800252922-2
D4: Modelo Integrado de Planeación y Gestión | E4: VERSIÓN | F4: 1
D5: PRESUPUESTO | E5: FECHA DEL FORMATO | F5: D/M/A
F6: 44216
B8: =PRESUPUESTO!A8 -> MEJORAMIENTO DEL SISTEMA DE TRATAMIENTO DE AGUAS RESIDUALES EN LA INSTITUCION EDUCATIVA RURAL SAN CARLOS, SEDE PRINCIPAL, EN EL MUNICIPIO DE SAN MIGUEL PUTUMAYO.
B11: FACTOR PRESTACIONAL PARA PERSONAL PROFESIONAL, ADMINISTRATIVO Y TECNICO | G11: %
B12: A. | D12: VALOR BASE (Sueldo) | G12: 100
B13: B. | D13: PRESTACIONES SOCIALES | G13: =SUM(G14:G29) -> 75.432
C14: a. | D14: Cesantías | F14: (A/12) | G14: 8.33
C15: b. | D15: Intereses sobre cesantía | F15: (a*12%) | G15: 1
C16: c. | D16: Prima anual | F16: (A/12) | G16: 8.33
C17: d. | D17: Caja de Compensación | F17: % A | G17: 4
C18: e. | D18: SENA | F18: % A | G18: 2
C19: f. | D19: ICBF | F19: % A | G19: 3
C20: g. | D20: Sistema de seguridad social : Salud | F20: % A | G20: 8.5
C21: h. | D21: Sistema de seguridad social : Pensiòn | F21: % A | G21: 12
C22: i. | D22: ARP personal en obra | F22: % A | G22: 6.96
C23: j. | D23: ARP personal en oficina | F23: % A | G23: 0.522
C24: k. | D24: Vacaciones | F24: (15/360*100) | G24: 4.17
C25: l. | D25: Ausencias justificadas | F25: (3/360*100) | G25: 0.83
... C29: p | D29: Bonoficación rereación | F29: % A | G29: 2
B30: C. | D30: SUMA (A + B) | G30: =G12+G13 -> 175.432
B32: E. | D32: FACTOR PRESTACIONAL | G32: =G30 -> 175.432
D33: FACTOR PRESTACIONAL FINAL | G33: =ROUND(G32/100,2) -> 1.75
B39: _________________________________________ | E39: ARQ. GUILLERMO YAMID VALLEJOS BENAVIDES
B40: REALIZO: ING JEISSON ARLED BUESAQUILLO | E40: SECRETARIO DE PLANEACION Y OBRAS PUBLICAS
B41: Apoyo Profesional SPOPM | E41: SAN MIGUEL - PUTUMAYO

Sheet DESGLOSE AIU
B1: SECRETARIA DE PLANEACIÓN Y OBRA PÚBLICAS | D1: CÓDIGO | E1: 103
D2: SERIE Y SUBSERIE | E2: 51
B3: NIT. 800252922-2
B4: Modelo Integrado de Planeación y Gestión | D4: VERSIÓN | E4: 1
B5: PRESUPUESTO | D5: FECHA DEL FORMATO | E5: D/M/A
E6: =[11]PRESUPUESTO!F6 -> 45402
A8: =PRESUPUESTO!A8 -> MEJORAMIENTO DEL SISTEMA DE TRATAMIENTO DE AGUAS RESIDUALES EN LA INSTITUCION EDUCATIVA RURAL SAN CARLOS, SEDE PRINCIPAL, EN EL MUNICIPIO DE SAN MIGUEL PUTUMAYO.
A10: DESGLOCE A.I.U - SUMINISTRO E INSTALACION POZO SEPTICO
A12: SALARIO PERSONAL ADMINISTRATIVO DE OBRA
A13: PERSONAL | B13: SUELDO BASICO | C13: FACTOR PRESTACIONAL | E13: SUELDO + PRESTACIONES
A14: Tecnologo en obras civiles | B14: 2300000 | C14: =+'[11]F.M '!G33 -> 1.75 | E14: =B14*C14 -> 4025000
A15: 1. ADMINISTRACION
A16: 1.1. PERSONAL ADMINISTRATIVO DE OBRA | B16: SUELDO + PRESTACIONES | C16: DEDICACION | D16: MESES | E16: VALOR PARCIAL | F16: % SOBRE COSTO DIRECTO
A17: Residente de Obra | B17: =E14 -> 4025000 | C17: 0.5 | D17: 2 | E17: =ROUND((B17*C17*D17),0) -> 4025000 | F17: =E17/E45 -> 0.10838434
A18: 1.2. COSTOS DEL PROCESO
A19: Polizas y legalizacion del contrato | E19: 251318.08 | F19: =E19/E45 -> 0.0067674393
A20: 1.3. GASTOS DE OBRA
A21: Edicion de informes | E21: 40000 | F21: =E21/E45 -> 0.0010771114
A22: Seguridad Industrial | E22: 400000 | F22: =E22/E45 -> 0.010771114
F23: =E23/E45 -> 0
A24: IMPUESTOS DE OBRA
A25: Otras obigaciones (Impuestos de ley) | E25: =E45*F25 -> 5681863.5 | F25: 0.153
A26: TOTAL ADMINISTRACION | E26: =ROUND(SUM(E17:E25),2) -> 10398182 | F26: =SUM(F17:F25) -> 0.28 | G26: 10398182 | H26: =G26-E26 -> 0
A28: 2. IMPREVISTOS
A29: DESCRIPCION | D29: VALOR PARCIAL | F29: PORCENTAJE
A30: IMPREVISTOS | D30: =F30*E45 -> 371363.63 | F30: 0.01
A31: TOTAL UTILIDAD | D31: =ROUND(D30,2) -> 371363.63 | F31: =SUM(F30) -> 0.01
A33: 3. UTILIDAD
A34: DESCRIPCION | D34: VALOR PARCIAL | F34: PORCENTAJE
A35: UTILIDAD | D35: =F35*E45 -> 1114090.9 | F35: 0.03
A36: TOTAL UTILIDAD | D36: =ROUND(D35,2) -> 1114090.9 | F36: =SUM(F35) -> 0.03
A38: TOTAL COSTO DIRECTO A.I.U
A39: RESUMEN
A40: DESCRIPCION | D40: VALOR PARCIAL | F40: PORCENTAJE
A41: ADMINISTRACION | D41: =+F41*E45 -> 10398182 | F41: =F26 -> 0.28 | G41: 8113869.6 | H41: =J41-I41 -> -2284312 | I41: =D41 -> 10398182 | J41: =[11]PRESUPUESTO!G37 -> 8113869.6
A42: IMPREVISTOS | D42: =F42*E45 -> 371363.63 | F42: =F31 -> 0.01 | G42: 601027.38 | H42: =J42-I42 -> 229663.75 | I42: =D42 -> 371363.63 | J42: =[11]PRESUPUESTO!G38 -> 601027.38
A43: UTILIDAD | D43: =F43*E45 -> 1114090.9 | F43: =F36 -> 0.03 | G43: 901541.07 | H43: =J43-I43 -> -212549.82 | I43: =D43 -> 1114090.9 | J43: =[11]PRESUPUESTO!G39 -> 901541.07
A44: TOTAL | D44: =SUM(D41:E43) -> 11883636 | F44: =SUM(F41:F43) -> 0.32
A45: COSTO DIRECTO | E45: =PRESUPUESTO!G22 -> 37136363
A46: COSTO INDIRECTO (32%) | E46: =+D44 -> 11883636
...
