Workbook
Name CALIFICACIONPROP: SMMLV!$F$2:$F$5
Name CMEM1: PARÁMETROS!$G$5
Name CMEM2: PARÁMETROS!$G$6
Name CMEMM1: PARÁMETROS!$K$5
Name CMEMM2: PARÁMETROS!$K$6
Name CMLM1: PARÁMETROS!$I$5
Name CMLM2: PARÁMETROS!$I$6
Name METPONDERACION: SMMLV!$H$2:$H$6
Name NOMPROC: PARÁMETROS!$B$5
Name PDMI: PARÁMETROS!$M$5
Name PDMII: PARÁMETROS!$M$6
Name VALIDACION: SMMLV!$D$2:$D$3

Sheet PARÁMETROS
A1: Proyecto | B1: Concurso | C1: Presupuesto Oficial | D1: Año | E1: Presupuesto Oficial (SMMLV) | F1: Parámetros | P1: Fecha de cierre según Adendas | Q1: Fecha de cierre según Secop II | R1: Fecha de Adjudicación
F2: Experiencia | L2: Discapacidad | N2: Desempate
F3: Sumatoria Experiencia | H3: Exp. Min, al menos uno de los integrantes de la figura asociativa acreditará mínimo el 51% de la experiencia solicitada. | J3: Exp. Min por contrato
F4: Porcentaje Requerido P.O. | G4: Valor | H4: Porcentaje Requerido P.O. | I4: Valor | J4: Porcentaje Requerido P.O. | K4: Valor | L4: Criterio | M4: Valor | N4: Criterio | O4: Valor
A5: INTERVENTORÍA INTEGRAL QUE INCLUYE, PERO NO SE LIMITA A: LA INTERVENTORÍA TÉCNICA, ECONÓMICA, FINANCIERA, CONTABLE, JURÍDICA, SOCIAL, PREDIAL, AMBIENTAL, DE REDES, ADMINISTRATIVA, DE SEGUROS, RIESGOS, OPERATIVA, MANTENIMIENTO, ADMINISTRATIVA DE AFORO Y RECAUDO, DE GESTIÓN DE CALIDAD, GESTIÓN DE ARCHIVO DOCUMENTAL Y GESTIÓN DE SEGUIMIENTO DEL CONTRATO DE CONCESIÓN BAJO UN ESQUEMA DE ASOCIACIÓN PÚBLICO PRIVADA QUE SE DERIVE DEL PROCESO LICITATORIO No. VJ-VE-APP-IPB-001-2024 CUYO OBJETO CORRESPONDE A LA FINANCIACIÓN, ELABORACIÓN DE ESTUDIOS Y DISEÑOS DEFINITIVOS, GESTIÓN AMBIENTAL, GESTIÓN PREDIAL, GESTIÓN SOCIAL, CONSTRUCCIÓN, REHABILITACIÓN, MEJORAMIENTO, OPERACIÓN Y MANTENIMIENTO DEL CORREDOR “EL ESTANQUILLO - POPAYÁN”, DE ACUERDO CON EL ALCANCE DESCRITO EN LA PARTE ESPECIAL, EL APÉNDICE TÉCNICO 1 Y DEMÁS APÉNDICES DEL CONTRATO | B5: VJ-VEJ-CM-002-2026 | C5: 69477143896 | D5: 2026 | E5: =IF(OR(C5="",D5=""),"",C5/1750905) -> 39680.704 | F5: 1 | G5: =IF(OR(E5="",F5=""),"",E5*F5) -> 39680.704 | H5: 0.51 | I5: =IF(OR(G5="",H5=""),"",G5*H5) -> 20237.159 | J5: 0.1 | K5: 3968.07 | L5: =IF(F5="","",F5*0.4) -> 0.4 | M5: =IF(OR(E5="",L5=""),"",E5*L5) -> 15872.282 | N5: =IF(F5="","",F5*0.25) -> 0.25 | O5: =IF(OR(E5="",N5=""),"",E5*N5) -> 9920.1761 | P5: 46090 | Q5: 46090
E6: =IF(OR(C6="",D6=""),"",C6/VLOOKUP(D6,SMMLV!$A$2:$B$101,2,FALSE)) | G6: =IF(OR(E6="",F6=""),"",E6*F6) | I6: =IF(OR(G6="",H6=""),"",G6*H6) | K6: =IF(OR(E6="",J6=""),"",E6*J6) | L6: =IF(F6="","",F6*0.4) | M6: =IF(OR(E6="",L6=""),"",E6*L6) | N6: =IF(F6="","",F6*0.25) | O6: =IF(OR(E6="",N6=""),"",E6*N6)

Sheet EXPERIENCIA 
B1: IDN1 | C1: IDN2 | D1: INTEGRANTE | E1: VERIFICACIÓN AL MENOS UNO DE LOS INTEGRANTES ACREDITA EL 51% DE EXPERIENCIA (SI / NO / N/A) | F1: ENTIDAD CONTRATANTE | G1: PAÍS DE EJECUCIÓN | H1: No. CONTRATO | I1: OBJETO DEL CONTRATO | J1: ¿CONTRATO VÁLIDO PARA ACREDITAR EXPERIENCIA? (SI/NO) | K1: a) Un (1) contrato debe ser de interventoría de proyectos que incluyen dentro de su objeto o alcance la construcción y/o mejoramiento y/o rehabilitación y/o reconstrucción y/o ampliación de obras de Infraestructura de Transporte Vial. NOTA GENERAL: No serán validos los contratos cuyo alcance y/o actividades sean única y exclusivamente de interventoría de mantenimiento de proyectos de infraestructura de transporte. | L1: b) Un (1) contrato debe ser de interventoría de una concesión de un proyecto de infraestructura de transporte celebrado y ejecutado en Colombia y que incluya por lo menos dentro de su objeto y/o alcance de interventoría técnica y financiera, y/o técnica y social, y/o técnica y ambiental del proyecto, el cual deberá acreditar como mínimo la construcción y/o mejoramiento y/o rehabilitación y/o reconstrucción de obras de infraestructura de transporte. En todo caso, si el respectivo contrato adicionalmente acredita fase de preconstrucción y/o etapa de operación y mantenimiento se tendrá en cuenta el valor total del contrato aportado. NOTA GENERAL: No serán validos los contratos cuyo alcance y/o actividades sean única y exclusivamente de interventoría de mantenimiento de proyectos de infraestructura de transporte. | M1: c) Los contratos restantes por acreditar deberán ser de interventoría de proyectos que incluyen dentro de su objeto o alcance la construcción y/o mejoramiento y/o rehabilitación y/o reconstrucción y/o ampliación de obras de Infraestructura de Transporte: Vial, Puertos, Aeropuertos o infraestructura Férrea de pasajeros o de carga, urbano o interurbano. NOTA GENERAL: No serán validos los contratos cuyo alcance y/o actividades sean única y exclusivamente de interventoría de mantenimiento de proyectos de infraestructura de transporte. | N1: FORM COND 1 | O1: FORM COND 2 | P1: FORM COND 3 | Q1: VIGENCIA DEL CONTRATO: N/A | R1: PORCENTAJE DE PARTICIPACIÓN | S1: Fecha de inicio del contrato | T1: Fecha de terminación del contrato | U1: Año de Finalización / última facturación | V1: SMMLV Finalización / última facturación | W1: Valor del contrato incluido IVA (Proponente no obligado a RUP - N/A si el contrato se encuentra inscrito en el RUP) | X1: MONEDA | Y1: Nº CONSECUTIVO DEL RUP / MATRIZ / EJECUCIÓN | Z1: ¿EL CONTRATO SE ENCUENTRA INSCRITO EN ALGUNOS DE LOS SIGUIENTES CÓDIGOS UNSPSC? | AC1: ACTIVIDADES RUP, FORMATO, MATRIZ | AD1: Valor del contrato en Pesos incluido IVA (Contratos en ejecución / Proponente no obligado a RUP) | AE1: VALOR DEL CONTRATO EN SMMLV | AF1: SMMLV DEL CONTRATO PONDERADO | AG1: SUMATORIA EXPERIENCIA ACREDITADA | AH1: EXPERIENCIA MÍNIMA AL MENOS UNO DE LOS INTEGRANTES ACREDITA EL 51% DE LA EXPERIENCIA SOLICITADA | AI1: EXPERIENCIA MÍNIMA REQUERIDA POR CONTRATO | AJ1: ¿EN CASO DE FIGURA ASOCIATIVA, CADA UNO DE LOS INTEGRANTES CUMPLE CON LO ESTABLECIDO DENTRO DE LA NOTA GENERAL 6 DEL NUMERAL 3.4.1.? | AK1: ¿LOS CONTRATOS APORTADOS CUMPLEN CON LO ESTABLECIDO EN LAS VIÑETAS a) Y b) DEL NUMERAL 3.4.1. | AL1: CALIFICACIÓN HABILITANTE | AM1: NÚMERO TOTAL MAXIMO DE CONTRATOS ADICIONALES POR CRITERIO DIFERENCIAL | AN1: ¿EL CONTRATO FUE OBJETO DE SUBSANE? | AO1: ¿CON LOS CONTRATOS APORTADOS QUE NO FUERON OBJETO DE SUBSANE SE DA CUMPLIMIENTO FRENTE A LA EXPERIENCIA MÍNIMA REQUERIDA | AP1: ¿CONTRATO VÁLIDO PARA EFECTOS DE DETERMINACIÓN DEL PROMEDIO? | AQ1: NÚMERO DE CONTRATOS VÁLIDOS QUE NO FUERON OBJETO DE SUBSANE (APLICA PARA PROPONENTES QUE DIERON CUMPLIMIENTO FRENTE A LA EXPERIENCIA MÍNIMA REQUERIDA) | AR1: SUMATORIA EN SMMLV DE LOS CONTRATOS VÁLIDOS APORTADOS QUE NO FUERON OBJETO DE SUBSANE | AS1: PROMEDIO EN SMMLV DE LOS CONTRATOS VÁLIDOS APORTADOS QUE NO FUERON OBJETO DE SUBSANE | AT1: NOTAS | AU1: OBSERVACIONES GENERALES AL PROPONENTE | AV1: SOLICITUDES | AW1: SUBSANE PRESENTADO | AX1: RESPUESTA DE LA AGENCIA
Z2: Segmento 80 81 81 | AA2: Familia 10 10 10 | AB2: Clase 16 15 22 | CB2: COND 1 | CD2: COND 2 | CL2: COND 3 | CQ2: COND 4
A3: ="A"&B3 -> AP01 | B3: P01 | C3: P01-01 | D3: =+IFERROR(INDEX('DESEMPATE Y DISCAPACIDAD'!$D$3:$D$450,MATCH(C3,'DESEMPATE Y DISCAPACIDAD'!$C$3:$C$450,0)),"") -> TNM INGENIERIA S.A.S. | E3: =IFERROR(IF(D3="","",IF(VLOOKUP(D3,'DESEMPATE Y DISCAPACIDAD'!D$3:$E$450,2,FALSE)=1,"N/A",IF(VLOOKUP(D3,'DESEMPATE Y DISCAPACIDAD'!D$3:$F$450,3,FALSE)="X","SI","NO"))),"") -> NO | F3: ISRAEL RAILWAYS LTD | G3: ISRAEL | H3: - | I3: SUPERVISIÓN Y CONTROL DE CALIDAD EN EL ÁREA DE LAS OBRAS DE INGENIERÍA CIVIL, COMO PARTE DEL PROYECTO "LÍNEA RÁPIDA A1", DE TEL AVIV A JERUSALÉN, INCLUYENDO LA EXCAVACIÓN DE TÚNELES, CONSTRUCCIÓN Y EDIFICACIÓN DE PUENTES. | J3: SI | K3: SI | L3: NO | M3: SI | N3: =IFERROR(IF(OR(J3="",K3=""),"",IF(J3="NO","NO",K3)),"") -> SI | O3: =IFERROR(IF(OR(J3="",L3=""),"",IF(J3="NO","NO",L3)),"") -> NO | P3: =IFERROR(IF(OR(J3="",M3=""),"",IF(J3="NO","NO",M3)),"") -> SI | Q3: =IFERROR(IF(S3="","",IF(S3>=DATE(1900,1,1),"SI","NO")),"") -> SI | R3: 1 | S3: 40179 | T3: 42277 | U3: =IFERROR(IF(T3="","",YEAR(T3)),"") -> 2015 | V3: =IF(U3=2023,1160000,IFERROR(INDEX(SMMLV!$B$2:$B$101,MATCH(U3,SMMLV!$A$2:$A$101,0)),"")) -> 644350 | W3: N/A | X3: COP | Y3: 146 | Z3: SI | AC3: =IFERROR(IF(Y3="","",IF(ISNUMBER(Y3),IF(COUNTIF(Z3,"SI")>0,"SI","NO"),Y3)),"") -> SI | AD3: =IF(W3="","",IF(W3="N/A","N/A",W3)) -> N/A | AE3: 24514.21 | AF3: =IFERROR(IF(OR(J3="",J3="NO"),"",IF(AND(J3="SI",Q3="SI"),IFERROR(AE3*R3,""),"")),"") -> 24514.21 | AG3: =IFERROR(IF(COUNTIF(AF3:AF12,"")=10,"",IF(COUNTIF(E3:E12,"N/A")>0,IF(SUM(CB3:CB12)>=CMEM1,"CUMPLE","NO CUMPLE"),IF(SUM(AF3:AF12)>=CMEM1,"CUMPLE","NO CUMPLE"))),"") -> CUMPLE | AH3: =IF(COUNTIF(AF3:AF12,"")=10,"",IF(SUMIF(C3:C12,C3,AF3:AF12)>=CMLM1,"CUMPLE",IF(SUMIF(C3:C12,C4,AF3:AF12)>=CMLM1,"CUMPLE",IF(SUMIF(C3:C12,C5,AF3:AF12)>=CMLM1,"CUMPLE",IF(SUMIF(C3:C12,C6,AF3:AF12)>=CMLM1,"CUMPLE",IF(SUMIF(C3:C12,C7,AF3:AF12)>=CMLM1,"CUMPLE",IF(SUMIF(C3:C12,C8,AF3:AF12)>=CMLM1,"CUMPLE",IF(SUMIF(C3:C12,C9,AF3:AF12)>=CMLM1,"CUMPLE",IF(SUMIF(C3:C12,C10,AF3:AF12)>=CMLM1,"CUMPLE",IF(SUMIF(C3:C12,C11,AF3:AF12)>=CMLM1,"CUMPLE",IF(SUMIF(C3:C12,C12,AF3:AF12)>=CMLM1,"CUMPLE","NO CUMPLE"))))))))))) -> CUMPLE | AI3: =IFERROR(IF(AF3="","",IF(AF3>=CMEMM1,"CUMPLE","NO CUMPLE")),"") -> CUMPLE | AJ3: =IFERROR(IF(COUNTIF(AF3:AF12,"")=10,"",IF(COUNTIF(E3:E12,"N/A")>0,"N/A",CJ3)),"") -> CUMPLE | AK3: =IFERROR(IF(AND(COUNTIF(N3:N12,"SI")>=1,COUNTIF(O3:O12,"SI")>=1,COUNTIF(P3:P12,"SI")>=1,COUNTIF(J3:J12,"SI")<=10,CO3="CUMPLE"),"CUMPLE","NO CUMPLE"),"") -> CUMPLE | AL3: HÁBIL | AM3: =IFERROR(IF(B3<>"",IF(VLOOKUP(B3,'DESEMPATE Y DISCAPACIDAD'!$A$3:$Q$450,10,FALSE)="","",VLOOKUP(B3,'DESEMPATE Y DISCAPACIDAD'!$A$3:$Q$450,10,FALSE)+6),""),"") -> 8 | AN3: NO | AO3: SI | AP3: SI | AQ3: =IFERROR(IF(COUNTIF(AP3:AP12,"")=10,"",IF(AO3="NO",0,COUNTIF(AP3:AP12,"SI"))),"") -> 5 | AR3: =IFERROR(IF(COUNTIF(AF3:AF12,"")=10,"",IF(AO3="NO",0,IF(COUNTIF(E3:E12,"N/A")>0,SUM(CQ3:CQ12),SUM(CR3:CR12)))),"") -> 72438.022 | AS3: =IFERROR(IF(OR(COUNTIF(AF3:AF12,"")=10,AQ3="",AR3=""),"",IF(AO3="NO",0,AR3/AQ3)),"") -> 14487.604 | AU3: El proponente aporta 5 contratos válidos para acreditar experiencia según lo solicitado en el Anexo de generalidades al Pliego de Condiciones, con lo cual el proponente recibe la calificación en los aspectos técnicos de HÁBIL. | AV3: No aplica solicitud de subsane y/o aclaración | AW3: No aplica solicitud de subsane y/o aclaración | AX3: No aplica solicitud de subsane y/o aclaración | CB3: =IFERROR(IF(COUNTIF(AF3:AF12,"")=10,"",IF(COUNTIF(E3:E12,"N/A")>0,IF(AF3>=CMEMM1,AF3,0),"N/A")),"") -> N/A | CD3: =IFERROR(IF(COUNTIF(AF3:AF12,"")=10,"",IF(AF3="","",IF(AF3>=CMEMM1,1,0))),"") -> 1 | CE3: =B3&"-0"&1 -> P01-01 | CF3: =IFERROR(INDEX('DESEMPATE Y DISCAPACIDAD'!$D$3:$D$450,MATCH(CE3,'DESEMPATE Y DISCAPACIDAD'!$C$3:$C$450,0)),"") -> TNM INGENIERIA S.A.S. | CG3: =IF(OR(CE3="",CF3=""),"",SUMIF(D3:D12,CF3,CD3:CD12)) -> 3 | CH3: =IF(OR(CE3="",CF3="",CG3=""),"",IF(CG3>0,"CUMPLE","NO CUMPLE")) -> CUMPLE | CI3: =IF(CF3="","",IF(ISTEXT(CF3),1,0)) -> 1 | CJ3: =IF(OR(CD3="",CE3="",CF3="",CG3="",CH3="",CI3=""),"",IF(COUNTIF(CH3:CH12,"CUMPLE")=COUNTIF(CI3:CI12,1),"CUMPLE","NO CUMPLE")) -> CUMPLE | CL3: =IF(N3="","",IF(N3="SI",1,0)) -> 1 | CM3: =IF(O3="","",IF(O3="SI",1,0)) -> 0 | CN3: =IF(OR(CL3="",CM3=""),"",IF(AND(CL3=0,CM3=0),"N/A",IF(AND(CL3=1,CM3=0),"COND. A",IF(AND(CL3=0,CM3=1),"COND. B",IF(AND(CL3=1,CM3=1),"COND. A Y B",""))))) -> COND. A | CO3: =IF(COUNTIF(CN3:CN12,"N/A")=10,"NO CUMPLE",IF(COUNTIF(CN3:CN12,"COND. A Y B")>1,"CUMPLE",IF(AND(COUNTIF(CN3:CN12,"COND. A")>0,COUNTIF(CN3:CN12,"COND. B")>0),"CUMPLE",IF(AND(COUNTIF(CN3:CN12,"COND. A Y B")>0,COUNTIF(CN3:CN12,"COND. A")>0),"CUMPLE",IF(AND(COUNTIF(CN3:CN12,"COND. A Y B")>0,COUNTIF(CN3:CN12,"COND. B")>0),"CUMPLE","NO CUMPLE"))))) -> CUMPLE | CQ3: =IF(OR(AN3="",CB3=""),"",IF(AN3="NO",CB3,0)) -> N/A | CR3: =IF(OR(AN3="",AF3=""),"",IF(AN3="NO",AF3,0)) -> 24514.21
C4: P01-01 | D4: =+IFERROR(INDEX('DESEMPATE Y DISCAPACIDAD'!$D$3:$D$450,MATCH(C4,'DESEMPATE Y DISCAPACIDAD'!$C$3:$C$450,0)),"") -> TNM INGENIERIA S.A.S. | E4: =IFERROR(IF(D4="","",IF(VLOOKUP(D4,'DESEMPATE Y DISCAPACIDAD'!D$3:$E$450,2,FALSE)=1,"N/A",IF(VLOOKUP(D4,'DESEMPATE Y DISCAPACIDAD'!D$3:$F$450,3,FALSE)="X","SI","NO"))),"") -> NO | F4: INSTITUTO NACIONAL DE VIAS - INVIAS | G4: COLOMBIA | H4: 1569 de 2009 | I4: INTERVENTORÍA TÉCNICA, LEGAL, FINANCIERA, ADMINISTRATIVA, AMBIENTAL, PREDIAL Y SOCIAL DEL PROYECTO: “ESTUDIOS Y DISEÑOS, GESTIÓN SOCIAL, PREDIAL, AMBIENTAL Y MEJORAMIENTO DEL PROYECTO CORREDOR DEL SUR Y MARGINAL DE LA SELVA" | J4: SI | K4: SI | L4: NO | M4: NO | N4: =IFERROR(IF(OR(J4="",K4=""),"",IF(J4="NO","NO",K4)),"") -> SI | O4: =IFERROR(IF(OR(J4="",L4=""),"",IF(J4="NO","NO",L4)),"") -> NO | P4: =IFERROR(IF(OR(J4="",M4=""),"",IF(J4="NO","NO",M4)),"") -> NO | Q4: =IFERROR(IF(S4="","",IF(S4>=DATE(1900,1,1),"SI","NO")),"") -> SI | R4: 0.6 | S4: 40079 | T4: 42094 | U4: =IFERROR(IF(T4="","",YEAR(T4)),"") -> 2015 | V4: =IF(U4=2023,1160000,IFERROR(INDEX(SMMLV!$B$2:$B$101,MATCH(U4,SMMLV!$A$2:$A$101,0)),"")) -> 644350 | W4: N/A | X4: COP | Y4: 98 | Z4: SI | AC4: =IFERROR(IF(Y4="","",IF(ISNUMBER(Y4),IF(COUNTIF(Z4,"SI")>0,"SI","NO"),Y4)),"") -> SI | AD4: =IF(W4="","",IF(W4="N/A","N/A",W4)) -> N/A | AE4: 21741.25 | AF4: =IFERROR(IF(OR(J4="",J4="NO"),"",IF(AND(J4="SI",Q4="SI"),IFERROR(AE4*R4,""),"")),"") -> 13044.75 | AI4: =IFERROR(IF(AF4="","",IF(AF4>=CMEMM1,"CUMPLE","NO CUMPLE")),"") -> CUMPLE | AN4: NO | AP4: SI | CB4: =IFERROR(IF(COUNTIF(AF3:AF12,"")=10,"",IF(COUNTIF(E3:E12,"N/A")>0,IF(AF4>=CMEMM1,AF4,0),"N/A")),"") -> N/A | CD4: =IFERROR(IF(COUNTIF(AF3:AF12,"")=10,"",IF(AF4="","",IF(AF4>=CMEMM1,1,0))),"") -> 1 | CE4: =B3&"-0"&2 -> P01-02 | CF4: =IFERROR(INDEX('DESEMPATE Y DISCAPACIDAD'!$D$3:$D$450,MATCH(CE4,'DESEMPATE Y DISCAPACIDAD'!$C$3:$C$450,0)),"") -> CEMOSA INGENIERIA Y CONTROL SAS | CG4: =IF(OR(CE4="",CF4=""),"",SUMIF(D3:D12,CF4,CD3:CD12)) -> 1 | CH4: =IF(OR(CE4="",CF4="",CG4=""),"",IF(CG4>0,"CUMPLE","NO CUMPLE")) -> CUMPLE | CI4: =IF(CF4="","",IF(ISTEXT(CF4),1,0)) -> 1 | CL4: =IF(N4="","",IF(N4="SI",1,0)) -> 1 | CM4: =IF(O4="","",IF(O4="SI",1,0)) -> 0 | CN4: =IF(OR(CL4="",CM4=""),"",IF(AND(CL4=0,CM4=0),"N/A",IF(AND(CL4=1,CM4=0),"COND. A",IF(AND(CL4=0,CM4=1),"COND. B",IF(AND(CL4=1,CM4=1),"COND. A Y B",""))))) -> COND. A | CQ4: =IF(OR(AN4="",CB4=""),"",IF(AN4="NO",CB4,0)) -> N/A | CR4: =IF(OR(AN4="",AF4=""),"",IF(AN4="NO",AF4,0)) -> 13044.75
C5: P01-01 | D5: =+IFERROR(INDEX('DESEMPATE Y DISCAPACIDAD'!$D$3:$D$450,MATCH(C5,'DESEMPATE Y DISCAPACIDAD'!$C$3:$C$450,0)),"") -> TNM INGENIERIA S.A.S. | E5: =IFERROR(IF(D5="","",IF(VLOOKUP(D5,'DESEMPATE Y DISCAPACIDAD'!D$3:$E$450,2,FALSE)=1,"N/A",IF(VLOOKUP(D5,'DESEMPATE Y DISCAPACIDAD'!D$3:$F$450,3,FALSE)="X","SI","NO"))),"") -> NO | F5: AGENCIA NACIONAL DE INFRAESTRUCTURA - ANI | G5: COLOMBIA | H5: 094 de 2012 | I5: INTERVENTORÍA INTEGRAL DEL CONTRATO DE CONCESIÓN, QUE INCLUYE PERO NO SE LIMITA A LA INTERVENTORÍA TÉCNICA, FINANCIERA, OPERATIVA, CONTABLE, JURÍDICA, MEDIOAMBIENTAL, SOCIO-PREDIAL, ADMINISTRATIVA, DEL CONTRATO DE CONCESIÓN NO. 275 Y DEMÁS DOCUMENTOS QUE LO MODIFIQUEN, ADICIONEN O COMPLEMENTEN, PARA LA CONCESIÓN DESARROLLO VIAL DEL ORIENTE DE MEDELLÍN, VALLE DEL RIONEGRO Y CONEXIÓN A PUERTO TRIUNFO - DEVIMED | J5: SI | K5: SI | L5: SI | M5: NO | N5: =IFERROR(IF(OR(J5="",K5=""),"",IF(J5="NO","NO",K5)),"") -> SI | O5: =IFERROR(IF(OR(J5="",L5=""),"",IF(J5="NO","NO",L5)),"") -> SI | P5: =IFERROR(IF(OR(J5="",M5=""),"",IF(J5="NO","NO",M5)),"") -> NO | Q5: =IFERROR(IF(S5="","",IF(S5>=DATE(1900,1,1),"SI","NO")),"") -> SI | R5: 0.68 | S5: 41191 | T5: 43077 | U5: =IFERROR(IF(T5="","",YEAR(T5)),"") -> 2017 | V5: =IF(U5=2023,1160000,IFERROR(INDEX(SMMLV!$B$2:$B$101,MATCH(U5,SMMLV!$A$2:$A$101,0)),"")) -> 737717 | W5: N/A | X5: COP | Y5: 155 | Z5: SI | AC5: =IFERROR(IF(Y5="","",IF(ISNUMBER(Y5),IF(COUNTIF(Z5,"SI")>0,"SI","NO"),Y5)),"") -> SI | AD5: =IF(W5="","",IF(W5="N/A","N/A",W5)) -> N/A | AE5: 6530.93 | AF5: =IFERROR(IF(OR(J5="",J5="NO"),"",IF(AND(J5="SI",Q5="SI"),IFERROR(AE5*R5,""),"")),"") -> 4441.0324 | AI5: =IFERROR(IF(AF5="","",IF(AF5>=CMEMM1,"CUMPLE","NO CUMPLE")),"") -> CUMPLE | AN5: NO | AP5: SI | CB5: =IFERROR(IF(COUNTIF(AF3:AF12,"")=10,"",IF(COUNTIF(E3:E12,"N/A")>0,IF(AF5>=CMEMM1,AF5,0),"N/A")),"") -> N/A | CD5: =IFERROR(IF(COUNTIF(AF3:AF12,"")=10,"",IF(AF5="","",IF(AF5>=CMEMM1,1,0))),"") -> 1 | CE5: =B3&"-0"&3 -> P01-03 | CF5: =IFERROR(INDEX('DESEMPATE Y DISCAPACIDAD'!$D$3:$D$450,MATCH(CE5,'DESEMPATE Y DISCAPACIDAD'!$C$3:$C$450,0)),"") -> CEMOSA COLOMBIA | CG5: =IF(OR(CE5="",CF5=""),"",SUMIF(D3:D12,CF5,CD3:CD12)) -> 1 | CH5: =IF(OR(CE5="",CF5="",CG5=""),"",IF(CG5>0,"CUMPLE","NO CUMPLE")) -> CUMPLE | CI5: =IF(CF5="","",IF(ISTEXT(CF5),1,0)) -> 1 | CL5: =IF(N5="","",IF(N5="SI",1,0)) -> 1 | CM5: =IF(O5="","",IF(O5="SI",1,0)) -> 1 | CN5: =IF(OR(CL5="",CM5=""),"",IF(AND(CL5=0,CM5=0),"N/A",IF(AND(CL5=1,CM5=0),"COND. A",IF(AND(CL5=0,CM5=1),"COND. B",IF(AND(CL5=1,CM5=1),"COND. A Y B",""))))) -> COND. A Y B | CQ5: =IF(OR(AN5="",CB5=""),"",IF(AN5="NO",CB5,0)) -> N/A | CR5: =IF(OR(AN5="",AF5=""),"",IF(AN5="NO",AF5,0)) -> 4441.0324
C6: P01-02 | D6: =+IFERROR(INDEX('DESEMPATE Y DISCAPACIDAD'!$D$3:$D$450,MATCH(C6,'DESEMPATE Y DISCAPACIDAD'!$C$3:$C$450,0)),"") -> CEMOSA INGENIERIA Y CONTROL SAS | E6: =IFERROR(IF(D6="","",IF(VLOOKUP(D6,'DESEMPATE Y DISCAPACIDAD'!D$3:$E$450,2,FALSE)=1,"N/A",IF(VLOOKUP(D6,'DESEMPATE Y DISCAPACIDAD'!D$3:$F$450,3,FALSE)="X","SI","NO"))),"") -> NO | F6: MINISTERIO DE FOMENTO. DIRECCION GENERAL DE CARRETERAS | G6: ESPAÑA | H6: - | I6: CONTROL Y VIGILANCIA DE LAS OBRAS “AUTOVÍA DEL MEDITERRÁNEO. CN-340 DE CÁDIZ Y GIBRALTAR A BARCELONA. TRAMO: RONDA ESTE DE MÁLAGA – RINCÓN DE LA VICTORIA.” | J6: SI | K6: SI | L6: NO | M6: NO | N6: =IFERROR(IF(OR(J6="",K6=""),"",IF(J6="NO","NO",K6)),"") -> SI | O6: =IFERROR(IF(OR(J6="",L6=""),"",IF(J6="NO","NO",L6)),"") -> NO | P6: =IFERROR(IF(OR(J6="",M6=""),"",IF(J6="NO","NO",M6)),"") -> NO | Q6: =IFERROR(IF(S6="","",IF(S6>=DATE(1900,1,1),"SI","NO")),"") -> SI | R6: 1 | S6: 37201 | T6: 38173 | U6: =IFERROR(IF(T6="","",YEAR(T6)),"") -> 2004 | V6: =IF(U6=2023,1160000,IFERROR(INDEX(SMMLV!$B$2:$B$101,MATCH(U6,SMMLV!$A$2:$A$101,0)),"")) -> 358000 | W6: N/A | X6: COP | Y6: 35 | Z6: SI | AC6: =IFERROR(IF(Y6="","",IF(ISNUMBER(Y6),IF(COUNTIF(Z6,"SI")>0,"SI","NO"),Y6)),"") -> SI | AD6: =IF(W6="","",IF(W6="N/A","N/A",W6)) -> N/A | AE6: 14369.32 | AF6: =IFERROR(IF(OR(J6="",J6="NO"),"",IF(AND(J6="SI",Q6="SI"),IFERROR(AE6*R6,""),"")),"") -> 14369.32 | AI6: =IFERROR(IF(AF6="","",IF(AF6>=CMEMM1,"CUMPLE","NO CUMPLE")),"") -> CUMPLE | AN6: NO | AP6: SI | CB6: =IFERROR(IF(COUNTIF(AF3:AF12,"")=10,"",IF(COUNTIF(E3:E12,"N/A")>0,IF(AF6>=CMEMM1,AF6,0),"N/A")),"") -> N/A | CD6: =IFERROR(IF(COUNTIF(AF3:AF12,"")=10,"",IF(AF6="","",IF(AF6>=CMEMM1,1,0))),"") -> 1 | CE6: =B3&"-0"&4 -> P01-04 | CF6: =IFERROR(INDEX('DESEMPATE Y DISCAPACIDAD'!$D$3:$D$450,MATCH(CE6,'DESEMPATE Y DISCAPACIDAD'!$C$3:$C$450,0)),"") -> 0 | CG6: =IF(OR(CE6="",CF6=""),"",SUMIF(D3:D12,CF6,CD3:CD12)) -> 0 | CH6: =IF(OR(CE6="",CF6="",CG6=""),"",IF(CG6>0,"CUMPLE","NO CUMPLE")) -> NO CUMPLE | CI6: =IF(CF6="","",IF(ISTEXT(CF6),1,0)) -> 0 | CL6: =IF(N6="","",IF(N6="SI",1,0)) -> 1 | CM6: =IF(O6="","",IF(O6="SI",1,0)) -> 0 | CN6: =IF(OR(CL6="",CM6=""),"",IF(AND(CL6=0,CM6=0),"N/A",IF(AND(CL6=1,CM6=0),"COND. A",IF(AND(CL6=0,CM6=1),"COND. B",IF(AND(CL6=1,CM6=1),"COND. A Y B",""))))) -> COND. A | CQ6: =IF(OR(AN6="",CB6=""),"",IF(AN6="NO",CB6,0)) -> N/A | CR6: =IF(OR(AN6="",AF6=""),"",IF(AN6="NO",AF6,0)) -> 14369.32
C7: P01-03 | D7: =+IFERROR(INDEX('DESEMPATE Y DISCAPACIDAD'!$D$3:$D$450,MATCH(C7,'DESEMPATE Y DISCAPACIDAD'!$C$3:$C$450,0)),"") -> CEMOSA COLOMBIA | E7: =IFERROR(IF(D7="","",IF(VLOOKUP(D7,'DESEMPATE Y DISCAPACIDAD'!D$3:$E$450,2,FALSE)=1,"N/A",IF(VLOOKUP(D7,'DESEMPATE Y DISCAPACIDAD'!D$3:$F$450,3,FALSE)="X","SI","NO"))),"") -> NO | F7: MINISTERIO DE FOMENTO. DIRECCION GENERAL DE CARRETERAS | G7: ESPAÑA | H7: clave: 12-GR-3150 | I7: CONSULTORÍA Y ASISTENCIA PARA EL CONTROL Y VIGILANCIA DE LAS OBRAS: AUTOVÍA DEL MEDITERRÁNEO A-7. TRAMO: ENLACE DE POLOPOS-ENLACE DE ALBUÑOL. EXPEDIENTE: 30.65/05-6; | J7: SI | K7: SI | L7: NO | M7: NO | N7: =IFERROR(IF(OR(J7="",K7=""),"",IF(J7="NO","NO",K7)),"") -> SI | O7: =IFERROR(IF(OR(J7="",L7=""),"",IF(J7="NO","NO",L7)),"") -> NO | P7: =IFERROR(IF(OR(J7="",M7=""),"",IF(J7="NO","NO",M7)),"") -> NO | Q7: =IFERROR(IF(S7="","",IF(S7>=DATE(1900,1,1),"SI","NO")),"") -> SI | R7: 1 | S7: 38672 | T7: 42107 | U7: =IFERROR(IF(T7="","",YEAR(T7)),"") -> 2015 | V7: =IF(U7=2023,1160000,IFERROR(INDEX(SMMLV!$B$2:$B$101,MATCH(U7,SMMLV!$A$2:$A$101,0)),"")) -> 644350 | W7: N/A | X7: COP | Y7: 168 | Z7: SI | AC7: =IFERROR(IF(Y7="","",IF(ISNUMBER(Y7),IF(COUNTIF(Z7,"SI")>0,"SI","NO"),Y7)),"") -> SI | AD7: =IF(W7="","",IF(W7="N/A","N/A",W7)) -> N/A | AE7: 16068.71 | AF7: =IFERROR(IF(OR(J7="",J7="NO"),"",IF(AND(J7="SI",Q7="SI"),IFERROR(AE7*R7,""),"")),"") -> 16068.71 | AI7: =IFERROR(IF(AF7="","",IF(AF7>=CMEMM1,"CUMPLE","NO CUMPLE")),"") -> CUMPLE | AN7: NO | AP7: SI | CB7: =IFERROR(IF(COUNTIF(AF3:AF12,"")=10,"",IF(COUNTIF(E3:E12,"N/A")>0,IF(AF7>=CMEMM1,AF7,0),"N/A")),"") -> N/A | CD7: =IFERROR(IF(COUNTIF(AF3:AF12,"")=10,"",IF(AF7="","",IF(AF7>=CMEMM1,1,0))),"") -> 1 | CE7: =B3&"-0"&5 -> P01-05 | CF7: =IFERROR(INDEX('DESEMPATE Y DISCAPACIDAD'!$D$3:$D$450,MATCH(CE7,'DESEMPATE Y DISCAPACIDAD'!$C$3:$C$450,0)),"") -> 0 | CG7: =IF(OR(CE7="",CF7=""),"",SUMIF(D3:D12,CF7,CD3:CD12)) -> 0 | CH7: =IF(OR(CE7="",CF7="",CG7=""),"",IF(CG7>0,"CUMPLE","NO CUMPLE")) -> NO CUMPLE | CI7: =IF(CF7="","",IF(ISTEXT(CF7),1,0)) -> 0 | CL7: =IF(N7="","",IF(N7="SI",1,0)) -> 1 | CM7: =IF(O7="","",IF(O7="SI",1,0)) -> 0 | CN7: =IF(OR(CL7="",CM7=""),"",IF(AND(CL7=0,CM7=0),"N/A",IF(AND(CL7=1,CM7=0),"COND. A",IF(AND(CL7=0,CM7=1),"COND. B",IF(AND(CL7=1,CM7=1),"COND. A Y B",""))))) -> COND. A | CQ7: =IF(OR(AN7="",CB7=""),"",IF(AN7="NO",CB7,0)) -> N/A | CR7: =IF(OR(AN7="",AF7=""),"",IF(AN7="NO",AF7,0)) -> 16068.71
D8: =+IFERROR(INDEX('DESEMPATE Y DISCAPACIDAD'!$D$3:$D$450,MATCH(C8,'DESEMPATE Y DISCAPACIDAD'!$C$3:$C$450,0)),"") | E8: =IFERROR(IF(D8="","",IF(VLOOKUP(D8,'DESEMPATE Y DISCAPACIDAD'!D$3:$E$450,2,FALSE)=1,"N/A",IF(VLOOKUP(D8,'DESEMPATE Y DISCAPACIDAD'!D$3:$F$450,3,FALSE)="X","SI","NO"))),"") | N8: =IFERROR(IF(OR(J8="",K8=""),"",IF(J8="NO","NO",K8)),"") | O8: =IFERROR(IF(OR(J8="",L8=""),"",IF(J8="NO","NO",L8)),"") | P8: =IFERROR(IF(OR(J8="",M8=""),"",IF(J8="NO","NO",M8)),"") | Q8: =IFERROR(IF(S8="","",IF(S8>=DATE(1900,1,1),"SI","NO")),"") | U8: =IFERROR(IF(T8="","",YEAR(T8)),"") | V8: =IF(U8=2023,1160000,IFERROR(INDEX(SMMLV!$B$2:$B$101,MATCH(U8,SMMLV!$A$2:$A$101,0)),"")) | AC8: =IFERROR(IF(Y8="","",IF(ISNUMBER(Y8),IF(COUNTIF(Z8,"SI")>0,"SI","NO"),Y8)),"") | AD8: =IF(W8="","",IF(W8="N/A","N/A",W8)) | AF8: =IFERROR(IF(OR(J8="",J8="NO"),"",IF(AND(J8="SI",Q8="SI"),IFERROR(AE8*R8,""),"")),"") | AI8: =IFERROR(IF(AF8="","",IF(AF8>=CMEMM1,"CUMPLE","NO CUMPLE")),"") | CB8: =IFERROR(IF(COUNTIF(AF3:AF12,"")=10,"",IF(COUNTIF(E3:E12,"N/A")>0,IF(AF8>=CMEMM1,AF8,0),"N/A")),"") -> N/A | CD8: =IFERROR(IF(COUNTIF(AF3:AF12,"")=10,"",IF(AF8="","",IF(AF8>=CMEMM1,1,0))),"") | CE8: =B3&"-0"&6 -> P01-06 | CF8: =IFERROR(INDEX('DESEMPATE Y DISCAPACIDAD'!$D$3:$D$450,MATCH(CE8,'DESEMPATE Y DISCAPACIDAD'!$C$3:$C$450,0)),"") -> 0 | CG8: =IF(OR(CE8="",CF8=""),"",SUMIF(D3:D12,CF8,CD3:CD12)) -> 0 | CH8: =IF(OR(CE8="",CF8="",CG8=""),"",IF(CG8>0,"CUMPLE","NO CUMPLE")) -> NO CUMPLE | CI8: =IF(CF8="","",IF(ISTEXT(CF8),1,0)) -> 0 | CL8: =IF(N8="","",IF(N8="SI",1,0)) | CM8: =IF(O8="","",IF(O8="SI",1,0)) | CN8: =IF(OR(CL8="",CM8=""),"",IF(AND(CL8=0,CM8=0),"N/A",IF(AND(CL8=1,CM8=0),"COND. A",IF(AND(CL8=0,CM8=1),"COND. B",IF(AND(CL8=1,CM8=1),"COND. A Y B",""))))) | CQ8: =IF(OR(AN8="",CB8=""),"",IF(AN8="NO",CB8,0)) | CR8: =IF(OR(AN8="",AF8=""),"",IF(AN8="NO",AF8,0))
D9: =+IFERROR(INDEX('DESEMPATE Y DISCAPACIDAD'!$D$3:$D$450,MATCH(C9,'DESEMPATE Y DISCAPACIDAD'!$C$3:$C$450,0)),"") | E9: =IFERROR(IF(D9="","",IF(VLOOKUP(D9,'DESEMPATE Y DISCAPACIDAD'!D$3:$E$450,2,FALSE)=1,"N/A",IF(VLOOKUP(D9,'DESEMPATE Y DISCAPACIDAD'!D$3:$F$450,3,FALSE)="X","SI","NO"))),"") | N9: =IFERROR(IF(OR(J9="",K9=""),"",IF(J9="NO","NO",K9)),"") | O9: =IFERROR(IF(OR(J9="",L9=""),"",IF(J9="NO","NO",L9)),"") | P9: =IFERROR(IF(OR(J9="",M9=""),"",IF(J9="NO","NO",M9)),"") | Q9: =IFERROR(IF(S9="","",IF(S9>=DATE(1900,1,1),"SI","NO")),"") | U9: =IFERROR(IF(T9="","",YEAR(T9)),"") | V9: =IF(U9=2023,1160000,IFERROR(INDEX(SMMLV!$B$2:$B$101,MATCH(U9,SMMLV!$A$2:$A$101,0)),"")) | AC9: =IFERROR(IF(Y9="","",IF(ISNUMBER(Y9),IF(COUNTIF(Z9,"SI")>0,"SI","NO"),Y9)),"") | AD9: =IF(W9="","",IF(W9="N/A","N/A",W9)) | AF9: =IFERROR(IF(OR(J9="",J9="NO"),"",IF(AND(J9="SI",Q9="SI"),IFERROR(AE9*R9,""),"")),"") | AI9: =IFERROR(IF(AF9="","",IF(AF9>=CMEMM1,"CUMPLE","NO CUMPLE")),"") | CB9: =IFERROR(IF(COUNTIF(AF3:AF12,"")=10,"",IF(COUNTIF(E3:E12,"N/A")>0,IF(AF9>=CMEMM1,AF9,0),"N/A")),"") -> N/A | CD9: =IFERROR(IF(COUNTIF(AF3:AF12,"")=10,"",IF(AF9="","",IF(AF9>=CMEMM1,1,0))),"") | CE9: =B3&"-0"&7 -> P01-07 | CF9: =IFERROR(INDEX('DESEMPATE Y DISCAPACIDAD'!$D$3:$D$450,MATCH(CE9,'DESEMPATE Y DISCAPACIDAD'!$C$3:$C$450,0)),"") | CG9: =IF(OR(CE9="",CF9=""),"",SUMIF(D3:D12,CF9,CD3:CD12)) | CH9: =IF(OR(CE9="",CF9="",CG9=""),"",IF(CG9>0,"CUMPLE","NO CUMPLE")) | CI9: =IF(CF9="","",IF(ISTEXT(CF9),1,0)) | CL9: =IF(N9="","",IF(N9="SI",1,0)) | CM9: =IF(O9="","",IF(O9="SI",1,0)) | CN9: =IF(OR(CL9="",CM9=""),"",IF(AND(CL9=0,CM9=0),"N/A",IF(AND(CL9=1,CM9=0),"COND. A",IF(AND(CL9=0,CM9=1),"COND. B",IF(AND(CL9=1,CM9=1),"COND. A Y B",""))))) | CQ9: =IF(OR(AN9="",CB9=""),"",IF(AN9="NO",CB9,0)) | CR9: =IF(OR(AN9="",AF9=""),"",IF(AN9="NO",AF9,0))
D10: =+IFERROR(INDEX('DESEMPATE Y DISCAPACIDAD'!$D$3:$D$450,MATCH(C10,'DESEMPATE Y DISCAPACIDAD'!$C$3:$C$450,0)),"") | E10: =IFERROR(IF(D10="","",IF(VLOOKUP(D10,'DESEMPATE Y DISCAPACIDAD'!D$3:$E$450,2,FALSE)=1,"N/A",IF(VLOOKUP(D10,'DESEMPATE Y DISCAPACIDAD'!D$3:$F$450,3,FALSE)="X","SI","NO"))),"") | N10: =IFERROR(IF(OR(J10="",K10=""),"",IF(J10="NO","NO",K10)),"") | O10: =IFERROR(IF(OR(J10="",L10=""),"",IF(J10="NO","NO",L10)),"") | P10: =IFERROR(IF(OR(J10="",M10=""),"",IF(J10="NO","NO",M10)),"") | Q10: =IFERROR(IF(S10="","",IF(S10>=DATE(1900,1,1),"SI","NO")),"") | U10: =IFERROR(IF(T10="","",YEAR(T10)),"") | V10: =IF(U10=2023,1160000,IFERROR(INDEX(SMMLV!$B$2:$B$101,MATCH(U10,SMMLV!$A$2:$A$101,0)),"")) | AC10: =IFERROR(IF(Y10="","",IF(ISNUMBER(Y10),IF(COUNTIF(Z10,"SI")>0,"SI","NO"),Y10)),"") | AD10: =IF(W10="","",IF(W10="N/A","N/A",W10)) | AF10: =IFERROR(IF(OR(J10="",J10="NO"),"",IF(AND(J10="SI",Q10="SI"),IFERROR(AE10*R10,""),"")),"") | AI10: =IFERROR(IF(AF10="","",IF(AF10>=CMEMM1,"CUMPLE","NO CUMPLE")),"") | CB10: =IFERROR(IF(COUNTIF(AF3:AF12,"")=10,"",IF(COUNTIF(E3:E12,"N/A")>0,IF(AF10>=CMEMM1,AF10,0),"N/A")),"") -> N/A | CD10: =IFERROR(IF(COUNTIF(AF3:AF12,"")=10,"",IF(AF10="","",IF(AF10>=CMEMM1,1,0))),"") | CE10: =B3&"-0"&8 -> P01-08 | CF10: =IFERROR(INDEX('DESEMPATE Y DISCAPACIDAD'!$D$3:$D$450,MATCH(CE10,'DESEMPATE Y DISCAPACIDAD'!$C$3:$C$450,0)),"") | CG10: =IF(OR(CE10="",CF10=""),"",SUMIF(D3:D12,CF10,CD3:CD12)) | CH10: =IF(OR(CE10="",CF10="",CG10=""),"",IF(CG10>0,"CUMPLE","NO CUMPLE")) | CI10: =IF(CF10="","",IF(ISTEXT(CF10),1,0)) | CL10: =IF(N10="","",IF(N10="SI",1,0)) | CM10: =IF(O10="","",IF(O10="SI",1,0)) | CN10: =IF(OR(CL10="",CM10=""),"",IF(AND(CL10=0,CM10=0),"N/A",IF(AND(CL10=1,CM10=0),"COND. A",IF(AND(CL10=0,CM10=1),"COND. B",IF(AND(CL10=1,CM10=1),"COND. A Y B",""))))) | CQ10: =IF(OR(AN10="",CB10=""),"",IF(AN10="NO",CB10,0)) | CR10: =IF(OR(AN10="",AF10=""),"",IF(AN10="NO",AF10,0))
D11: =+IFERROR(INDEX('DESEMPATE Y DISCAPACIDAD'!$D$3:$D$450,MATCH(C11,'DESEMPATE Y DISCAPACIDAD'!$C$3:$C$450,0)),"") | E11: =IFERROR(IF(D11="","",IF(VLOOKUP(D11,'DESEMPATE Y DISCAPACIDAD'!D$3:$E$450,2,FALSE)=1,"N/A",IF(VLOOKUP(D11,'DESEMPATE Y DISCAPACIDAD'!D$3:$F$450,3,FALSE)="X","SI","NO"))),"") | N11: =IFERROR(IF(OR(J11="",K11=""),"",IF(J11="NO","NO",K11)),"") | O11: =IFERROR(IF(OR(J11="",L11=""),"",IF(J11="NO","NO",L11)),"") | P11: =IFERROR(IF(OR(J11="",M11=""),"",IF(J11="NO","NO",M11)),"") | Q11: =IFERROR(IF(S11="","",IF(S11>=DATE(1900,1,1),"SI","NO")),"") | U11: =IFERROR(IF(T11="","",YEAR(T11)),"") | V11: =IF(U11=2023,1160000,IFERROR(INDEX(SMMLV!$B$2:$B$101,MATCH(U11,SMMLV!$A$2:$A$101,0)),"")) | AC11: =IFERROR(IF(Y11="","",IF(ISNUMBER(Y11),IF(COUNTIF(Z11,"SI")>0,"SI","NO"),Y11)),"") | AD11: =IF(W11="","",IF(W11="N/A","N/A",W11)) | AF11: =IFERROR(IF(OR(J11="",J11="NO"),"",IF(AND(J11="SI",Q11="SI"),IFERROR(AE11*R11,""),"")),"") | AI11: =IFERROR(IF(AF11="","",IF(AF11>=CMEMM1,"CUMPLE","NO CUMPLE")),"") | CB11: =IFERROR(IF(COUNTIF(AF3:AF12,"")=10,"",IF(COUNTIF(E3:E12,"N/A")>0,IF(AF11>=CMEMM1,AF11,0),"N/A")),"") -> N/A | CD11: =IFERROR(IF(COUNTIF(AF3:AF12,"")=10,"",IF(AF11="","",IF(AF11>=CMEMM1,1,0))),"") | CE11: =B3&"-0"&9 -> P01-09 | CF11: =IFERROR(INDEX('DESEMPATE Y DISCAPACIDAD'!$D$3:$D$450,MATCH(CE11,'DESEMPATE Y DISCAPACIDAD'!$C$3:$C$450,0)),"") | CG11: =IF(OR(CE11="",CF11=""),"",SUMIF(D3:D12,CF11,CD3:CD12)) | CH11: =IF(OR(CE11="",CF11="",CG11=""),"",IF(CG11>0,"CUMPLE","NO CUMPLE")) | CI11: =IF(CF11="","",IF(ISTEXT(CF11),1,0)) | CL11: =IF(N11="","",IF(N11="SI",1,0)) | CM11: =IF(O11="","",IF(O11="SI",1,0)) | CN11: =IF(OR(CL11="",CM11=""),"",IF(AND(CL11=0,CM11=0),"N/A",IF(AND(CL11=1,CM11=0),"COND. A",IF(AND(CL11=0,CM11=1),"COND. B",IF(AND(CL11=1,CM11=1),"COND. A Y B",""))))) | CQ11: =IF(OR(AN11="",CB11=""),"",IF(AN11="NO",CB11,0)) | CR11: =IF(OR(AN11="",AF11=""),"",IF(AN11="NO",AF11,0))
D12: =+IFERROR(INDEX('DESEMPATE Y DISCAPACIDAD'!$D$3:$D$450,MATCH(C12,'DESEMPATE Y DISCAPACIDAD'!$C$3:$C$450,0)),"") | E12: =IFERROR(IF(D12="","",IF(VLOOKUP(D12,'DESEMPATE Y DISCAPACIDAD'!D$3:$E$450,2,FALSE)=1,"N/A",IF(VLOOKUP(D12,'DESEMPATE Y DISCAPACIDAD'!D$3:$F$450,3,FALSE)="X","SI","NO"))),"") | N12: =IFERROR(IF(OR(J12="",K12=""),"",IF(J12="NO","NO",K12)),"") | O12: =IFERROR(IF(OR(J12="",L12=""),"",IF(J12="NO","NO",L12)),"") | P12: =IFERROR(IF(OR(J12="",M12=""),"",IF(J12="NO","NO",M12)),"") | Q12: =IFERROR(IF(S12="","",IF(S12>=DATE(1900,1,1),"SI","NO")),"") | U12: =IFERROR(IF(T12="","",YEAR(T12)),"") | V12: =IF(U12=2023,1160000,IFERROR(INDEX(SMMLV!$B$2:$B$101,MATCH(U12,SMMLV!$A$2:$A$101,0)),"")) | AC12: =IFERROR(IF(Y12="","",IF(ISNUMBER(Y12),IF(COUNTIF(Z12,"SI")>0,"SI","NO"),Y12)),"") | AD12: =IF(W12="","",IF(W12="N/A","N/A",W12)) | AF12: =IFERROR(IF(OR(J12="",J12="NO"),"",IF(AND(J12="SI",Q12="SI"),IFERROR(AE12*R12,""),"")),"") | AI12: =IFERROR(IF(AF12="","",IF(AF12>=CMEMM1,"CUMPLE","NO CUMPLE")),"") | CB12: =IFERROR(IF(COUNTIF(AF3:AF12,"")=10,"",IF(COUNTIF(E3:E12,"N/A")>0,IF(AF12>=CMEMM1,AF12,0),"N/A")),"") -> N/A | CD12: =IFERROR(IF(COUNTIF(AF3:AF12,"")=10,"",IF(AF12="","",IF(AF12>=CMEMM1,1,0))),"") | CE12: =B3&"-"&10 -> P01-10 | CF12: =IFERROR(INDEX('DESEMPATE Y DISCAPACIDAD'!$D$3:$D$450,MATCH(CE12,'DESEMPATE Y DISCAPACIDAD'!$C$3:$C$450,0)),"") | CG12: =IF(OR(CE12="",CF12=""),"",SUMIF(D3:D12,CF12,CD3:CD12)) | CH12: =IF(OR(CE12="",CF12="",CG12=""),"",IF(CG12>0,"CUMPLE","NO CUMPLE")) | CI12: =IF(CF12="","",IF(ISTEXT(CF12),1,0)) | CL12: =IF(N12="","",IF(N12="SI",1,0)) | CM12: =IF(O12="","",IF(O12="SI",1,0)) | CN12: =IF(OR(CL12="",CM12=""),"",IF(AND(CL12=0,CM12=0),"N/A",IF(AND(CL12=1,CM12=0),"COND. A",IF(AND(CL12=0,CM12=1),"COND. B",IF(AND(CL12=1,CM12=1),"COND. A Y B",""))))) | CQ12: =IF(OR(AN12="",CB12=""),"",IF(AN12="NO",CB12,0)) | CR12: =IF(OR(AN12="",AF12=""),"",IF(AN12="NO",AF12,0))
A13: ="A"&B13 -> AP02 | B13: P02 | C13: P02-01 | D13: =+IFERROR(INDEX('DESEMPATE Y DISCAPACIDAD'!$D$3:$D$450,MATCH(C13,'DESEMPATE Y DISCAPACIDAD'!$C$3:$C$450,0)),"") -> INTECSA COLOMBIA INTERNACIONAL S.A.S | E13: =IFERROR(IF(D13="","",IF(VLOOKUP(D13,'DESEMPATE Y DISCAPACIDAD'!D$3:$E$450,2,FALSE)=1,"N/A",IF(VLOOKUP(D13,'DESEMPATE Y DISCAPACIDAD'!D$3:$F$450,3,FALSE)="X","SI","NO"))),"") -> NO | F13: MINISTERIO DE FOMENTO. DIRECCION GENERAL DE CARRETERAS | G13: ESPAÑA | H13: 12-CR-3160 | I13: ASISTENCIA TÉCNICA PARA EL CONTROL Y VIGILANCIA DE LAS OBRAS: AUTOVÍA DE CIUDAD REAL (N-430) A ATALAYA DEL CAÑABATE (A-31). TRAMO: ENLACE DE MIGUELTURRA - ENLACE DE DAIMIEL (ESTE) CON LA N-430. CLAVE: 12-CR-3160 | J13: SI | K13: SI | L13: NO | M13: NO | N13: =IFERROR(IF(OR(J13="",K13=""),"",IF(J13="NO","NO",K13)),"") -> SI | O13: =IFERROR(IF(OR(J13="",L13=""),"",IF(J13="NO","NO",L13)),"") -> NO | P13: =IFERROR(IF(OR(J13="",M13=""),"",IF(J13="NO","NO",M13)),"") -> NO | Q13: =IFERROR(IF(S13="","",IF(S13>=DATE(1900,1,1),"SI","NO")),"") -> SI | R13: 1 | S13: 37242 | T13: 38094 | U13: =IFERROR(IF(T13="","",YEAR(T13)),"") -> 2004 | V13: =IF(U13=2023,1160000,IFERROR(INDEX(SMMLV!$B$2:$B$101,MATCH(U13,SMMLV!$A$2:$A$101,0)),"")) -> 358000 | W13: N/A | X13: COP | Y13: 39 | Z13: SI | AC13: =IFERROR(IF(Y13="","",IF(ISNUMBER(Y13),IF(COUNTIF(Z13,"SI")>0,"SI","NO"),Y13)),"") -> SI | AD13: =IF(W13="","",IF(W13="N/A","N/A",W13)) -> N/A | AE13: 20019.89 | AF13: =IFERROR(IF(OR(J13="",J13="NO"),"",IF(AND(J13="SI",Q13="SI"),IFERROR(AE13*R13,""),"")),"") -> 20019.89 | AG13: =IFERROR(IF(COUNTIF(AF13:AF22,"")=10,"",IF(COUNTIF(E13:E22,"N/A")>0,IF(SUM(CB13:CB22)>=CMEM1,"CUMPLE","NO CUMPLE"),IF(SUM(AF13:AF22)>=CMEM1,"CUMPLE","NO CUMPLE"))),"") -> CUMPLE | AH13: =IF(COUNTIF(AF13:AF22,"")=10,"",IF(SUMIF(C13:C22,C13,AF13:AF22)>=CMLM1,"CUMPLE",IF(SUMIF(C13:C22,C14,AF13:AF22)>=CMLM1,"CUMPLE",IF(SUMIF(C13:C22,C15,AF13:AF22)>=CMLM1,"CUMPLE",IF(SUMIF(C13:C22,C16,AF13:AF22)>=CMLM1,"CUMPLE",IF(SUMIF(C13:C22,C17,AF13:AF22)>=CMLM1,"CUMPLE",IF(SUMIF(C13:C22,C18,AF13:AF22)>=CMLM1,"CUMPLE",IF(SUMIF(C13:C22,C19,AF13:AF22)>=CMLM1,"CUMPLE",IF(SUMIF(C13:C22,C20,AF13:AF22)>=CMLM1,"CUMPLE",IF(SUMIF(C13:C22,C21,AF13:AF22)>=CMLM1,"CUMPLE",IF(SUMIF(C13:C22,C22,AF13:AF22)>=CMLM1,"CUMPLE","NO CUMPLE"))))))))))) -> CUMPLE | AI13: =IFERROR(IF(AF13="","",IF(AF13>=CMEMM1,"CUMPLE","NO CUMPLE")),"") -> CUMPLE | AJ13: =IFERROR(IF(COUNTIF(AF13:AF22,"")=10,"",IF(COUNTIF(E13:E22,"N/A")>0,"N/A",CJ13)),"") -> CUMPLE | AK13: =IFERROR(IF(AND(COUNTIF(N13:N22,"SI")>=1,COUNTIF(O13:O22,"SI")>=1,COUNTIF(P13:P22,"SI")>=1,COUNTIF(J13:J22,"SI")<=10,CO13="CUMPLE"),"CUMPLE","NO CUMPLE"),"") -> CUMPLE | AL13: HÁBIL | AM13: =IFERROR(IF(B13<>"",IF(VLOOKUP(B13,'DESEMPATE Y DISCAPACIDAD'!$A$3:$Q$450,10,FALSE)="","",VLOOKUP(B13,'DESEMPATE Y DISCAPACIDAD'!$A$3:$Q$450,10,FALSE)+6),""),"") -> 8 | AN13: NO | AO13: SI | AP13: SI | AQ13: =IFERROR(IF(COUNTIF(AP13:AP22,"")=10,"",IF(AO13="NO",0,COUNTIF(AP13:AP22,"SI"))),"") -> 4 | AR13: =IFERROR(IF(COUNTIF(AF13:AF22,"")=10,"",IF(AO13="NO",0,IF(COUNTIF(E13:E22,"N/A")>0,SUM(CQ13:CQ22),SUM(CR13:CR22)))),"") -> 66105.117 | AS13: =IFERROR(IF(OR(COUNTIF(AF13:AF22,"")=10,AQ13="",AR13=""),"",IF(AO13="NO",0,AR13/AQ13)),"") -> 16526.279 | AU13: El proponente aporta 4 contratos válidos para acreditar experiencia según lo solicitado en el Anexo de generalidades al Pliego de Condiciones, con lo cual el proponente recibe la calificación en los aspectos técnicos de HÁBIL. | AV13: No aplica solicitud de subsane y/o aclaración | AW13: No aplica solicitud de subsane y/o aclaración | AX13: El proponente a solicitado la revisión del Valor del contrato expresado en SMMLV del Contrato de Orden No. 3. Al respecto, se realizó la revisión de la observación solicitada y se validó nuevamente el valor del contrato expresado en SMMLV de la experiencia aportada en el RUP constantando el valor real. Así las cosas, se realiza el ajuste en el Contrato de Orden No. 3 y por ende el ajuste en el promedio en SMMLV de los contratos aportados. | CB13: =IFERROR(IF(COUNTIF(AF13:AF22,"")=10,"",IF(COUNTIF(E13:E22,"N/A")>0,IF(AF13>=CMEMM1,AF13,0),"N/A")),"") -> N/A | CD13: =IFERROR(IF(COUNTIF(AF13:AF22,"")=10,"",IF(AF13="","",IF(AF13>=CMEMM1,1,0))),"") -> 1 | CE13: =B13&"-0"&1 -> P02-01 | CF13: =IFERROR(INDEX('DESEMPATE Y DISCAPACIDAD'!$D$3:$D$450,MATCH(CE13,'DESEMPATE Y DISCAPACIDAD'!$C$3:$C$450,0)),"") -> INTECSA COLOMBIA INTERNACIONAL S.A.S | CG13: =IF(OR(CE13="",CF13=""),"",SUMIF(D13:D22,CF13,CD13:CD22)) -> 2 | CH13: =IF(OR(CE13="",CF13="",CG13=""),"",IF(CG13>0,"CUMPLE","NO CUMPLE")) -> CUMPLE | CI13: =IF(CF13="","",IF(ISTEXT(CF13),1,0)) -> 1 | CJ13: =IF(OR(CD13="",CE13="",CF13="",CG13="",CH13="",CI13=""),"",IF(COUNTIF(CH13:CH22,"CUMPLE")=COUNTIF(CI13:CI22,1),"CUMPLE","NO CUMPLE")) -> CUMPLE | CL13: =IF(N13="","",IF(N13="SI",1,0)) -> 1 | CM13: =IF(O13="","",IF(O13="SI",1,0)) -> 0 | CN13: =IF(OR(CL13="",CM13=""),"",IF(AND(CL13=0,CM13=0),"N/A",IF(AND(CL13=1,CM13=0),"COND. A",IF(AND(CL13=0,CM13=1),"COND. B",IF(AND(CL13=1,CM13=1),"COND. A Y B",""))))) -> COND. A | CO13: =IF(COUNTIF(CN13:CN22,"N/A")=10,"NO CUMPLE",IF(COUNTIF(CN13:CN22,"COND. A Y B")>1,"CUMPLE",IF(AND(COUNTIF(CN13:CN22,"COND. A")>0,COUNTIF(CN13:CN22,"COND. B")>0),"CUMPLE",IF(AND(COUNTIF(CN13:CN22,"COND. A Y B")>0,COUNTIF(CN13:CN22,"COND. A")>0),"CUMPLE",IF(AND(COUNTIF(CN13:CN22,"COND. A Y B")>0,COUNTIF(CN13:CN22,"COND. B")>0),"CUMPLE","NO CUMPLE"))))) -> CUMPLE | CQ13: =IF(OR(AN13="",CB13=""),"",IF(AN13="NO",CB13,0)) -> N/A | CR13: =IF(OR(AN13="",AF13=""),"",IF(AN13="NO",AF13,0)) -> 20019.89
C14: P02-01 | D14: =+IFERROR(INDEX('DESEMPATE Y DISCAPACIDAD'!$D$3:$D$450,MATCH(C14,'DESEMPATE Y DISCAPACIDAD'!$C$3:$C$450,0)),"") -> INTECSA COLOMBIA INTERNACIONAL S.A.S | E14: =IFERROR(IF(D14="","",IF(VLOOKUP(D14,'DESEMPATE Y DISCAPACIDAD'!D$3:$E$450,2,FALSE)=1,"N/A",IF(VLOOKUP(D14,'DESEMPATE Y DISCAPACIDAD'!D$3:$F$450,3,FALSE)="X","SI","NO"))),"") -> NO | F14: MINISTERIO DE FOMENTO. DIRECCION GENERAL DE CARRETERAS | G14: ESPAÑA | H14: 12-LU-3110 | I14: ASISTENCIA TÉCNICA PARA EL CONTROL Y VIGILANCIA DE LAS OBRAS "AUTOVÍA DEL NOROESTE. CN-VI DE MADRID A A CORUÑA TRAMO AGUERA -CEREIXAL PROVINCIA DE LUGO. CLAVE 12-LU-3110 | J14: SI | K14: SI | L14: NO | M14: NO | N14: =IFERROR(IF(OR(J14="",K14=""),"",IF(J14="NO","NO",K14)),"") -> SI | O14: =IFERROR(IF(OR(J14="",L14=""),"",IF(J14="NO","NO",L14)),"") -> NO | P14: =IFERROR(IF(OR(J14="",M14=""),"",IF(J14="NO","NO",M14)),"") -> NO | Q14: =IFERROR(IF(S14="","",IF(S14>=DATE(1900,1,1),"SI","NO")),"") -> SI | R14: 1 | S14: 35660 | T14: 37088 | U14: =IFERROR(IF(T14="","",YEAR(T14)),"") -> 2001 | V14: =IF(U14=2023,1160000,IFERROR(INDEX(SMMLV!$B$2:$B$101,MATCH(U14,SMMLV!$A$2:$A$101,0)),"")) -> 286000 | W14: N/A | X14: COP | Y14: 38 | Z14: SI | AC14: =IFERROR(IF(Y14="","",IF(ISNUMBER(Y14),IF(COUNTIF(Z14,"SI")>0,"SI","NO"),Y14)),"") -> SI | AD14: =IF(W14="","",IF(W14="N/A","N/A",W14)) -> N/A | AE14: 13194.81 | AF14: =IFERROR(IF(OR(J14="",J14="NO"),"",IF(AND(J14="SI",Q14="SI"),IFERROR(AE14*R14,""),"")),"") -> 13194.81 | AI14: =IFERROR(IF(AF14="","",IF(AF14>=CMEMM1,"CUMPLE","NO CUMPLE")),"") -> CUMPLE | AN14: NO | AP14: SI | CB14: =IFERROR(IF(COUNTIF(AF13:AF22,"")=10,"",IF(COUNTIF(E13:E22,"N/A")>0,IF(AF14>=CMEMM1,AF14,0),"N/A")),"") -> N/A | CD14: =IFERROR(IF(COUNTIF(AF13:AF22,"")=10,"",IF(AF14="","",IF(AF14>=CMEMM1,1,0))),"") -> 1 | CE14: =B13&"-0"&2 -> P02-02 | CF14: =IFERROR(INDEX('DESEMPATE Y DISCAPACIDAD'!$D$3:$D$450,MATCH(CE14,'DESEMPATE Y DISCAPACIDAD'!$C$3:$C$450,0)),"") -> INTECSA ENGINEERING GROUP, S.A. UNIPERSONAL SUCURSAL COLOMBIA | CG14: =IF(OR(CE14="",CF14=""),"",SUMIF(D13:D22,CF14,CD13:CD22)) -> 1 | CH14: =IF(OR(CE14="",CF14="",CG14=""),"",IF(CG14>0,"CUMPLE","NO CUMPLE")) -> CUMPLE | CI14: =IF(CF14="","",IF(ISTEXT(CF14),1,0)) -> 1 | CL14: =IF(N14="","",IF(N14="SI",1,0)) -> 1 | CM14: =IF(O14="","",IF(O14="SI",1,0)) -> 0 | CN14: =IF(OR(CL14="",CM14=""),"",IF(AND(CL14=0,CM14=0),"N/A",IF(AND(CL14=1,CM14=0),"COND. A",IF(AND(CL14=0,CM14=1),"COND. B",IF(AND(CL14=1,CM14=1),"COND. A Y B",""))))) -> COND. A | CQ14: =IF(OR(AN14="",CB14=""),"",IF(AN14="NO",CB14,0)) -> N/A | CR14: =IF(OR(AN14="",AF14=""),"",IF(AN14="NO",AF14,0)) -> 13194.81
C15: P02-02 | D15: =+IFERROR(INDEX('DESEMPATE Y DISCAPACIDAD'!$D$3:$D$450,MATCH(C15,'DESEMPATE Y DISCAPACIDAD'!$C$3:$C$450,0)),"") -> INTECSA ENGINEERING GROUP, S.A. UNIPERSONAL SUCURSAL COLOMBIA | E15: =IFERROR(IF(D15="","",IF(VLOOKUP(D15,'DESEMPATE Y DISCAPACIDAD'!D$3:$E$450,2,FALSE)=1,"N/A",IF(VLOOKUP(D15,'DESEMPATE Y DISCAPACIDAD'!D$3:$F$450,3,FALSE)="X","SI","NO"))),"") -> NO | F15: ADMINISTRACIÓN DE INFRAESTRUCTURAS FERROVIARIAS - ADIF | G15: ESPAÑA | H15: 022/03 | I15: CONSULTORÍA Y ASISTENCIA TÉCNICA PARA LA REDACCIÓN DEL PROYECTO Y CONTROL DE LAS OBRAS DE LA PLATAFORMA DEL NUEVO ACCESO FERROVIARIO DE ALTA VELOCIDAD MADRID - CASTILLA LA MANCHA - COMUNIDAD VALENCIANA - REGIÓN DE MURCIA TRAMO:CAMPOS DEL PARAÍSO - HORCAJADA (NUMERO DE EXPEDIENTE PC022/03 | J15: SI | K15: NO | L15: NO | M15: SI | N15: =IFERROR(IF(OR(J15="",K15=""),"",IF(J15="NO","NO",K15)),"") -> NO | O15: =IFERROR(IF(OR(J15="",L15=""),"",IF(J15="NO","NO",L15)),"") -> NO | P15: =IFERROR(IF(OR(J15="",M15=""),"",IF(J15="NO","NO",M15)),"") -> SI | Q15: =IFERROR(IF(S15="","",IF(S15>=DATE(1900,1,1),"SI","NO")),"") -> SI | R15: 1 | S15: 38058 | T15: 40068 | U15: =IFERROR(IF(T15="","",YEAR(T15)),"") -> 2009 | V15: =IF(U15=2023,1160000,IFERROR(INDEX(SMMLV!$B$2:$B$101,MATCH(U15,SMMLV!$A$2:$A$101,0)),"")) -> 496900 | W15: N/A | X15: COP | Y15: 75 | Z15: SI | AC15: =IFERROR(IF(Y15="","",IF(ISNUMBER(Y15),IF(COUNTIF(Z15,"SI")>0,"SI","NO"),Y15)),"") -> SI | AD15: =IF(W15="","",IF(W15="N/A","N/A",W15)) -> N/A | AE15: 25239.06 | AF15: =IFERROR(IF(OR(J15="",J15="NO"),"",IF(AND(J15="SI",Q15="SI"),IFERROR(AE15*R15,""),"")),"") -> 25239.06 | AI15: =IFERROR(IF(AF15="","",IF(AF15>=CMEMM1,"CUMPLE","NO CUMPLE")),"") -> CUMPLE | AN15: NO | AP15: SI | CB15: =IFERROR(IF(COUNTIF(AF13:AF22,"")=10,"",IF(COUNTIF(E13:E22,"N/A")>0,IF(AF15>=CMEMM1,AF15,0),"N/A")),"") -> N/A | CD15: =IFERROR(IF(COUNTIF(AF13:AF22,"")=10,"",IF(AF15="","",IF(AF15>=CMEMM1,1,0))),"") -> 1 | CE15: =B13&"-0"&3 -> P02-03 | CF15: =IFERROR(INDEX('DESEMPATE Y DISCAPACIDAD'!$D$3:$D$450,MATCH(CE15,'DESEMPATE Y DISCAPACIDAD'!$C$3:$C$450,0)),"") -> JGF INGENIERIA S.A.S | CG15: =IF(OR(CE15="",CF15=""),"",SUMIF(D13:D22,CF15,CD13:CD22)) -> 1 | CH15: =IF(OR(CE15="",CF15="",CG15=""),"",IF(CG15>0,"CUMPLE","NO CUMPLE")) -> CUMPLE | CI15: =IF(CF15="","",IF(ISTEXT(CF15),1,0)) -> 1 | CL15: =IF(N15="","",IF(N15="SI",1,0)) -> 0 | CM15: =IF(O15="","",IF(O15="SI",1,0)) -> 0 | CN15: =IF(OR(CL15="",CM15=""),"",IF(AND(CL15=0,CM15=0),"N/A",IF(AND(CL15=1,CM15=0),"COND. A",IF(AND(CL15=0,CM15=1),"COND. B",IF(AND(CL15=1,CM15=1),"COND. A Y B",""))))) -> N/A | CQ15: =IF(OR(AN15="",CB15=""),"",IF(AN15="NO",CB15,0)) -> N/A | CR15: =IF(OR(AN15="",AF15=""),"",IF(AN15="NO",AF15,0)) -> 25239.06
C16: P02-03 | D16: =+IFERROR(INDEX('DESEMPATE Y DISCAPACIDAD'!$D$3:$D$450,MATCH(C16,'DESEMPATE Y DISCAPACIDAD'!$C$3:$C$450,0)),"") -> JGF INGENIERIA S.A.S | E16: =IFERROR(IF(D16="","",IF(VLOOKUP(D16,'DESEMPATE Y DISCAPACIDAD'!D$3:$E$450,2,FALSE)=1,"N/A",IF(VLOOKUP(D16,'DESEMPATE Y DISCAPACIDAD'!D$3:$F$450,3,FALSE)="X","SI","NO"))),"") -> NO | F16: AEROPUERTO INTERNACIONAL MATECAÑA | G16: COLOMBIA | H16: 173 DE 2017 | I16: INTERVENTORIA TÉCNICA, ECONÓMICA, FINANCIERA, CONTABLE, JURIDICA, ADMINISTRATIVA, OPERATIVA, AMBIENTAL Y SOCIAL DEL CONTRATO DE CONCESIÓN PARA LA "CONSTRUCCIÓN, MODERNIZACIÓN y ADECUACIÓN DEL LADO TIERRA DEL AEROPUERTO Y LA CONSTRUCCIÓN, ADMINISTRACIÓN, OPERACIÓN, MANTENIMIENTO, EXPLOTACIÓN COMERCIAL y REVERSIÓN TANTO DEL LADO AIRE COMO DEL LADO TIERRA DEL AEROPUERTO INTERNACIONAL MATECAÑA QUE SIRVE A LA CIUDAD DE PEREIRA | J16: SI | K16: SI | L16: SI | M16: NO | N16: =IFERROR(IF(OR(J16="",K16=""),"",IF(J16="NO","NO",K16)),"") -> SI | O16: =IFERROR(IF(OR(J16="",L16=""),"",IF(J16="NO","NO",L16)),"") -> SI | P16: =IFERROR(IF(OR(J16="",M16=""),"",IF(J16="NO","NO",M16)),"") -> NO | Q16: =IFERROR(IF(S16="","",IF(S16>=DATE(1900,1,1),"SI","NO")),"") -> SI | R16: 0.51 | S16: 42963 | T16: 45925 | U16: =IFERROR(IF(T16="","",YEAR(T16)),"") -> 2025 | V16: =IF(U16=2023,1160000,IFERROR(INDEX(SMMLV!$B$2:$B$101,MATCH(U16,SMMLV!$A$2:$A$101,0)),"")) | W16: N/A | X16: COP | Y16: 33 | Z16: SI | AC16: =IFERROR(IF(Y16="","",IF(ISNUMBER(Y16),IF(COUNTIF(Z16,"SI")>0,"SI","NO"),Y16)),"") -> SI | AD16: =IF(W16="","",IF(W16="N/A","N/A",W16)) -> N/A | AE16: 15002.66 | AF16: =IFERROR(IF(OR(J16="",J16="NO"),"",IF(AND(J16="SI",Q16="SI"),IFERROR(AE16*R16,""),"")),"") -> 7651.3566 | AI16: =IFERROR(IF(AF16="","",IF(AF16>=CMEMM1,"CUMPLE","NO CUMPLE")),"") -> CUMPLE | AN16: NO | AP16: SI | CB16: =IFERROR(IF(COUNTIF(AF13:AF22,"")=10,"",IF(COUNTIF(E13:E22,"N/A")>0,IF(AF16>=CMEMM1,AF16,0),"N/A")),"") -> N/A | CD16: =IFERROR(IF(COUNTIF(AF13:AF22,"")=10,"",IF(AF16="","",IF(AF16>=CMEMM1,1,0))),"") -> 1 | CE16: =B13&"-0"&4 -> P02-04 | CF16: =IFERROR(INDEX('DESEMPATE Y DISCAPACIDAD'!$D$3:$D$450,MATCH(CE16,'DESEMPATE Y DISCAPACIDAD'!$C$3:$C$450,0)),"") -> 0 | CG16: =IF(OR(CE16="",CF16=""),"",SUMIF(D13:D22,CF16,CD13:CD22)) -> 0 | CH16: =IF(OR(CE16="",CF16="",CG16=""),"",IF(CG16>0,"CUMPLE","NO CUMPLE")) -> NO CUMPLE | CI16: =IF(CF16="","",IF(ISTEXT(CF16),1,0)) -> 0 | CL16: =IF(N16="","",IF(N16="SI",1,0)) -> 1 | CM16: =IF(O16="","",IF(O16="SI",1,0)) -> 1 | CN16: =IF(OR(CL16="",CM16=""),"",IF(AND(CL16=0,CM16=0),"N/A",IF(AND(CL16=1,CM16=0),"COND. A",IF(AND(CL16=0,CM16=1),"COND. B",IF(AND(CL16=1,CM16=1),"COND. A Y B",""))))) -> COND. A Y B | CQ16: =IF(OR(AN16="",CB16=""),"",IF(AN16="NO",CB16,0)) -> N/A | CR16: =IF(OR(AN16="",AF16=""),"",IF(AN16="NO",AF16,0)) -> 7651.3566
D17: =+IFERROR(INDEX('DESEMPATE Y DISCAPACIDAD'!$D$3:$D$450,MATCH(C17,'DESEMPATE Y DISCAPACIDAD'!$C$3:$C$450,0)),"") | E17: =IFERROR(IF(D17="","",IF(VLOOKUP(D17,'DESEMPATE Y DISCAPACIDAD'!D$3:$E$450,2,FALSE)=1,"N/A",IF(VLOOKUP(D17,'DESEMPATE Y DISCAPACIDAD'!D$3:$F$450,3,FALSE)="X","SI","NO"))),"") | N17: =IFERROR(IF(OR(J17="",K17=""),"",IF(J17="NO","NO",K17)),"") | O17: =IFERROR(IF(OR(J17="",L17=""),"",IF(J17="NO","NO",L17)),"") | P17: =IFERROR(IF(OR(J17="",M17=""),"",IF(J17="NO","NO",M17)),"") | Q17: =IFERROR(IF(S17="","",IF(S17>=DATE(1900,1,1),"SI","NO")),"") | U17: =IFERROR(IF(T17="","",YEAR(T17)),"") | V17: =IF(U17=2023,1160000,IFERROR(INDEX(SMMLV!$B$2:$B$101,MATCH(U17,SMMLV!$A$2:$A$101,0)),"")) | AC17: =IFERROR(IF(Y17="","",IF(ISNUMBER(Y17),IF(COUNTIF(Z17,"SI")>0,"SI","NO"),Y17)),"") | AD17: =IF(W17="","",IF(W17="N/A","N/A",W17)) | AF17: =IFERROR(IF(OR(J17="",J17="NO"),"",IF(AND(J17="SI",Q17="SI"),IFERROR(AE17*R17,""),"")),"") | AI17: =IFERROR(IF(AF17="","",IF(AF17>=CMEMM1,"CUMPLE","NO CUMPLE")),"") | CB17: =IFERROR(IF(COUNTIF(AF13:AF22,"")=10,"",IF(COUNTIF(E13:E22,"N/A")>0,IF(AF17>=CMEMM1,AF17,0),"N/A")),"") -> N/A | CD17: =IFERROR(IF(COUNTIF(AF13:AF22,"")=10,"",IF(AF17="","",IF(AF17>=CMEMM1,1,0))),"") | CE17: =B13&"-0"&5 -> P02-05 | CF17: =IFERROR(INDEX('DESEMPATE Y DISCAPACIDAD'!$D$3:$D$450,MATCH(CE17,'DESEMPATE Y DISCAPACIDAD'!$C$3:$C$450,0)),"") -> 0 | CG17: =IF(OR(CE17="",CF17=""),"",SUMIF(D13:D22,CF17,CD13:CD22)) -> 0 | CH17: =IF(OR(CE17="",CF17="",CG17=""),"",IF(CG17>0,"CUMPLE","NO CUMPLE")) -> NO CUMPLE | CI17: =IF(CF17="","",IF(ISTEXT(CF17),1,0)) -> 0 | CL17: =IF(N17="","",IF(N17="SI",1,0)) | CM17: =IF(O17="","",IF(O17="SI",1,0)) | CN17: =IF(OR(CL17="",CM17=""),"",IF(AND(CL17=0,CM17=0),"N/A",IF(AND(CL17=1,CM17=0),"COND. A",IF(AND(CL17=0,CM17=1),"COND. B",IF(AND(CL17=1,CM17=1),"COND. A Y B",""))))) | CQ17: =IF(OR(AN17="",CB17=""),"",IF(AN17="NO",CB17,0)) | CR17: =IF(OR(AN17="",AF17=""),"",IF(AN17="NO",AF17,0))
D18: =+IFERROR(INDEX('DESEMPATE Y DISCAPACIDAD'!$D$3:$D$450,MATCH(C18,'DESEMPATE Y DISCAPACIDAD'!$C$3:$C$450,0)),"") | E18: =IFERROR(IF(D18="","",IF(VLOOKUP(D18,'DESEMPATE Y DISCAPACIDAD'!D$3:$E$450,2,FALSE)=1,"N/A",IF(VLOOKUP(D18,'DESEMPATE Y DISCAPACIDAD'!D$3:$F$450,3,FALSE)="X","SI","NO"))),"") | N18: =IFERROR(IF(OR(J18="",K18=""),"",IF(J18="NO","NO",K18)),"") | O18: =IFERROR(IF(OR(J18="",L18=""),"",IF(J18="NO","NO",L18)),"") | P18: =IFERROR(IF(OR(J18="",M18=""),"",IF(J18="NO","NO",M18)),"") | Q18: =IFERROR(IF(S18="","",IF(S18>=DATE(1900,1,1),"SI","NO")),"") | U18: =IFERROR(IF(T18="","",YEAR(T18)),"") | V18: =IF(U18=2023,1160000,IFERROR(INDEX(SMMLV!$B$2:$B$101,MATCH(U18,SMMLV!$A$2:$A$101,0)),"")) | AC18: =IFERROR(IF(Y18="","",IF(ISNUMBER(Y18),IF(COUNTIF(Z18,"SI")>0,"SI","NO"),Y18)),"") | AD18: =IF(W18="","",IF(W18="N/A","N/A",W18)) | AF18: =IFERROR(IF(OR(J18="",J18="NO"),"",IF(AND(J18="SI",Q18="SI"),IFERROR(AE18*R18,""),"")),"") | AI18: =IFERROR(IF(AF18="","",IF(AF18>=CMEMM1,"CUMPLE","NO CUMPLE")),"") | CB18: =IFERROR(IF(COUNTIF(AF13:AF22,"")=10,"",IF(COUNTIF(E13:E22,"N/A")>0,IF(AF18>=CMEMM1,AF18,0),"N/A")),"") -> N/A | CD18: =IFERROR(IF(COUNTIF(AF13:AF22,"")=10,"",IF(AF18="","",IF(AF18>=CMEMM1,1,0))),"") | CE18: =B13&"-0"&6 -> P02-06 | CF18: =IFERROR(INDEX('DESEMPATE Y DISCAPACIDAD'!$D$3:$D$450,MATCH(CE18,'DESEMPATE Y DISCAPACIDAD'!$C$3:$C$450,0)),"") -> 0 | CG18: =IF(OR(CE18="",CF18=""),"",SUMIF(D13:D22,CF18,CD13:CD22)) -> 0 | CH18: =IF(OR(CE18="",CF18="",CG18=""),"",IF(CG18>0,"CUMPLE","NO CUMPLE")) -> NO CUMPLE | CI18: =IF(CF18="","",IF(ISTEXT(CF18),1,0)) -> 0 | CL18: =IF(N18="","",IF(N18="SI",1,0)) | CM18: =IF(O18="","",IF(O18="SI",1,0)) | CN18: =IF(OR(CL18="",CM18=""),"",IF(AND(CL18=0,CM18=0),"N/A",IF(AND(CL18=1,CM18=0),"COND. A",IF(AND(CL18=0,CM18=1),"COND. B",IF(AND(CL18=1,CM18=1),"COND. A Y B",""))))) | CQ18: =IF(OR(AN18="",CB18=""),"",IF(AN18="NO",CB18,0)) | CR18: =IF(OR(AN18="",AF18=""),"",IF(AN18="NO",AF18,0))
D19: =+IFERROR(INDEX('DESEMPATE Y DISCAPACIDAD'!$D$3:$D$450,MATCH(C19,'DESEMPATE Y DISCAPACIDAD'!$C$3:$C$450,0)),"") | E19: =IFERROR(IF(D19="","",IF(VLOOKUP(D19,'DESEMPATE Y DISCAPACIDAD'!D$3:$E$450,2,FALSE)=1,"N/A",IF(VLOOKUP(D19,'DESEMPATE Y DISCAPACIDAD'!D$3:$F$450,3,FALSE)="X","SI","NO"))),"") | N19: =IFERROR(IF(OR(J19="",K19=""),"",IF(J19="NO","NO",K19)),"") | O19: =IFERROR(IF(OR(J19="",L19=""),"",IF(J19="NO","NO",L19)),"") | P19: =IFERROR(IF(OR(J19="",M19=""),"",IF(J19="NO","NO",M19)),"") | Q19: =IFERROR(IF(S19="","",IF(S19>=DATE(1900,1,1),"SI","NO")),"") | U19: =IFERROR(IF(T19="","",YEAR(T19)),"") | V19: =IF(U19=2023,1160000,IFERROR(INDEX(SMMLV!$B$2:$B$101,MATCH(U19,SMMLV!$A$2:$A$101,0)),"")) | AC19: =IFERROR(IF(Y19="","",IF(ISNUMBER(Y19),IF(COUNTIF(Z19,"SI")>0,"SI","NO"),Y19)),"") | AD19: =IF(W19="","",IF(W19="N/A","N/A",W19)) | AF19: =IFERROR(IF(OR(J19="",J19="NO"),"",IF(AND(J19="SI",Q19="SI"),IFERROR(AE19*R19,""),"")),"") | AI19: =IFERROR(IF(AF19="","",IF(AF19>=CMEMM1,"CUMPLE","NO CUMPLE")),"") | CB19: =IFERROR(IF(COUNTIF(AF13:AF22,"")=10,"",IF(COUNTIF(E13:E22,"N/A")>0,IF(AF19>=CMEMM1,AF19,0),"N/A")),"") -> N/A | CD19: =IFERROR(IF(COUNTIF(AF13:AF22,"")=10,"",IF(AF19="","",IF(AF19>=CMEMM1,1,0))),"") | CE19: =B13&"-0"&7 -> P02-07 | CF19: =IFERROR(INDEX('DESEMPATE Y DISCAPACIDAD'!$D$3:$D$450,MATCH(CE19,'DESEMPATE Y DISCAPACIDAD'!$C$3:$C$450,0)),"") | CG19: =IF(OR(CE19="",CF19=""),"",SUMIF(D13:D22,CF19,CD13:CD22)) | CH19: =IF(OR(CE19="",CF19="",CG19=""),"",IF(CG19>0,"CUMPLE","NO CUMPLE")) | CI19: =IF(CF19="","",IF(ISTEXT(CF19),1,0)) | CL19: =IF(N19="","",IF(N19="SI",1,0)) | CM19: =IF(O19="","",IF(O19="SI",1,0)) | CN19: =IF(OR(CL19="",CM19=""),"",IF(AND(CL19=0,CM19=0),"N/A",IF(AND(CL19=1,CM19=0),"COND. A",IF(AND(CL19=0,CM19=1),"COND. B",IF(AND(CL19=1,CM19=1),"COND. A Y B",""))))) | CQ19: =IF(OR(AN19="",CB19=""),"",IF(AN19="NO",CB19,0)) | CR19: =IF(OR(AN19="",AF19=""),"",IF(AN19="NO",AF19,0))
D20: =+IFERROR(INDEX('DESEMPATE Y DISCAPACIDAD'!$D$3:$D$450,MATCH(C20,'DESEMPATE Y DISCAPACIDAD'!$C$3:$C$450,0)),"") | E20: =IFERROR(IF(D20="","",IF(VLOOKUP(D20,'DESEMPATE Y DISCAPACIDAD'!D$3:$E$450,2,FALSE)=1,"N/A",IF(VLOOKUP(D20,'DESEMPATE Y DISCAPACIDAD'!D$3:$F$450,3,FALSE)="X","SI","NO"))),"") | N20: =IFERROR(IF(OR(J20="",K20=""),"",IF(J20="NO","NO",K20)),"") | O20: =IFERROR(IF(OR(J20="",L20=""),"",IF(J20="NO","NO",L20)),"") | P20: =IFERROR(IF(OR(J20="",M20=""),"",IF(J20="NO","NO",M20)),"") | Q20: =IFERROR(IF(S20="","",IF(S20>=DATE(1900,1,1),"SI","NO")),"") | U20: =IFERROR(IF(T20="","",YEAR(T20)),"") | V20: =IF(U20=2023,1160000,IFERROR(INDEX(SMMLV!$B$2:$B$101,MATCH(U20,SMMLV!$A$2:$A$101,0)),"")) | AC20: =IFERROR(IF(Y20="","",IF(ISNUMBER(Y20),IF(COUNTIF(Z20,"SI")>0,"SI","NO"),Y20)),"") | AD20: =IF(W20="","",IF(W20="N/A","N/A",W20)) | AF20: =IFERROR(IF(OR(J20="",J20="NO"),"",IF(AND(J20="SI",Q20="SI"),IFERROR(AE20*R20,""),"")),"") | AI20: =IFERROR(IF(AF20="","",IF(AF20>=CMEMM1,"CUMPLE","NO CUMPLE")),"") | CB20: =IFERROR(IF(COUNTIF(AF13:AF22,"")=10,"",IF(COUNTIF(E13:E22,"N/A")>0,IF(AF20>=CMEMM1,AF20,0),"N/A")),"") -> N/A | CD20: =IFERROR(IF(COUNTIF(AF13:AF22,"")=10,"",IF(AF20="","",IF(AF20>=CMEMM1,1,0))),"") | CE20: =B13&"-0"&8 -> P02-08 | CF20: =IFERROR(INDEX('DESEMPATE Y DISCAPACIDAD'!$D$3:$D$450,MATCH(CE20,'DESEMPATE Y DISCAPACIDAD'!$C$3:$C$450,0)),"") | CG20: =IF(OR(CE20="",CF20=""),"",SUMIF(D13:D22,CF20,CD13:CD22)) | CH20: =IF(OR(CE20="",CF20="",CG20=""),"",IF(CG20>0,"CUMPLE","NO CUMPLE")) | CI20: =IF(CF20="","",IF(ISTEXT(CF20),1,0)) | CL20: =IF(N20="","",IF(N20="SI",1,0)) | CM20: =IF(O20="","",IF(O20="SI",1,0)) | CN20: =IF(OR(CL20="",CM20=""),"",IF(AND(CL20=0,CM20=0),"N/A",IF(AND(CL20=1,CM20=0),"COND. A",IF(AND(CL20=0,CM20=1),"COND. B",IF(AND(CL20=1,CM20=1),"COND. A Y B",""))))) | CQ20: =IF(OR(AN20="",CB20=""),"",IF(AN20="NO",CB20,0)) | CR20: =IF(OR(AN20="",AF20=""),"",IF(AN20="NO",AF20,0))
D21: =+IFERROR(INDEX('DESEMPATE Y DISCAPACIDAD'!$D$3:$D$450,MATCH(C21,'DESEMPATE Y DISCAPACIDAD'!$C$3:$C$450,0)),"") | E21: =IFERROR(IF(D21="","",IF(VLOOKUP(D21,'DESEMPATE Y DISCAPACIDAD'!D$3:$E$450,2,FALSE)=1,"N/A",IF(VLOOKUP(D21,'DESEMPATE Y DISCAPACIDAD'!D$3:$F$450,3,FALSE)="X","SI","NO"))),"") | N21: =IFERROR(IF(OR(J21="",K21=""),"",IF(J21="NO","NO",K21)),"") | O21: =IFERROR(IF(OR(J21="",L21=""),"",IF(J21="NO","NO",L21)),"") | P21: =IFERROR(IF(OR(J21="",M21=""),"",IF(J21="NO","NO",M21)),"") | Q21: =IFERROR(IF(S21="","",IF(S21>=DATE(1900,1,1),"SI","NO")),"") | U21: =IFERROR(IF(T21="","",YEAR(T21)),"") | V21: =IF(U21=2023,1160000,IFERROR(INDEX(SMMLV!$B$2:$B$101,MATCH(U21,SMMLV!$A$2:$A$101,0)),"")) | AC21: =IFERROR(IF(Y21="","",IF(ISNUMBER(Y21),IF(COUNTIF(Z21,"SI")>0,"SI","NO"),Y21)),"") | AD21: =IF(W21="","",IF(W21="N/A","N/A",W21)) | AF21: =IFERROR(IF(OR(J21="",J21="NO"),"",IF(AND(J21="SI",Q21="SI"),IFERROR(AE21*R21,""),"")),"") | AI21: =IFERROR(IF(AF21="","",IF(AF21>=CMEMM1,"CUMPLE","NO CUMPLE")),"") | CB21: =IFERROR(IF(COUNTIF(AF13:AF22,"")=10,"",IF(COUNTIF(E13:E22,"N/A")>0,IF(AF21>=CMEMM1,AF21,0),"N/A")),"") -> N/A | CD21: =IFERROR(IF(COUNTIF(AF13:AF22,"")=10,"",IF(AF21="","",IF(AF21>=CMEMM1,1,0))),"") | CE21: =B13&"-0"&9 -> P02-09 | CF21: =IFERROR(INDEX('DESEMPATE Y DISCAPACIDAD'!$D$3:$D$450,MATCH(CE21,'DESEMPATE Y DISCAPACIDAD'!$C$3:$C$450,0)),"") | CG21: =IF(OR(CE21="",CF21=""),"",SUMIF(D13:D22,CF21,CD13:CD22)) | CH21: =IF(OR(CE21="",CF21="",CG21=""),"",IF(CG21>0,"CUMPLE","NO CUMPLE")) | CI21: =IF(CF21="","",IF(ISTEXT(CF21),1,0)) | CL21: =IF(N21="","",IF(N21="SI",1,0)) | CM21: =IF(O21="","",IF(O21="SI",1,0)) | CN21: =IF(OR(CL21="",CM21=""),"",IF(AND(CL21=0,CM21=0),"N/A",IF(AND(CL21=1,CM21=0),"COND. A",IF(AND(CL21=0,CM21=1),"COND. B",IF(AND(CL21=1,CM21=1),"COND. A Y B",""))))) | CQ21: =IF(OR(AN21="",CB21=""),"",IF(AN21="NO",CB21,0)) | CR21: =IF(OR(AN21="",AF21=""),"",IF(AN21="NO",AF21,0))
D22: =+IFERROR(INDEX('DESEMPATE Y DISCAPACIDAD'!$D$3:$D$450,MATCH(C22,'DESEMPATE Y DISCAPACIDAD'!$C$3:$C$450,0)),"") | E22: =IFERROR(IF(D22="","",IF(VLOOKUP(D22,'DESEMPATE Y DISCAPACIDAD'!D$3:$E$450,2,FALSE)=1,"N/A",IF(VLOOKUP(D22,'DESEMPATE Y DISCAPACIDAD'!D$3:$F$450,3,FALSE)="X","SI","NO"))),"") | N22: =IFERROR(IF(OR(J22="",K22=""),"",IF(J22="NO","NO",K22)),"") | O22: =IFERROR(IF(OR(J22="",L22=""),"",IF(J22="NO","NO",L22)),"") | P22: =IFERROR(IF(OR(J22="",M22=""),"",IF(J22="NO","NO",M22)),"") | Q22: =IFERROR(IF(S22="","",IF(S22>=DATE(1900,1,1),"SI","NO")),"") | U22: =IFERROR(IF(T22="","",YEAR(T22)),"") | V22: =IF(U22=2023,1160000,IFERROR(INDEX(SMMLV!$B$2:$B$101,MATCH(U22,SMMLV!$A$2:$A$101,0)),"")) | AC22: =IFERROR(IF(Y22="","",IF(ISNUMBER(Y22),IF(COUNTIF(Z22,"SI")>0,"SI","NO"),Y22)),"") | AD22: =IF(W22="","",IF(W22="N/A","N/A",W22)) | AF22: =IFERROR(IF(OR(J22="",J22="NO"),"",IF(AND(J22="SI",Q22="SI"),IFERROR(AE22*R22,""),"")),"") | AI22: =IFERROR(IF(AF22="","",IF(AF22>=CMEMM1,"CUMPLE","NO CUMPLE")),"") | CB22: =IFERROR(IF(COUNTIF(AF13:AF22,"")=10,"",IF(COUNTIF(E13:E22,"N/A")>0,IF(AF22>=CMEMM1,AF22,0),"N/A")),"") -> N/A | CD22: =IFERROR(IF(COUNTIF(AF13:AF22,"")=10,"",IF(AF22="","",IF(AF22>=CMEMM1,1,0))),"") | CE22: =B13&"-"&10 -> P02-10 | CF22: =IFERROR(INDEX('DESEMPATE Y DISCAPACIDAD'!$D$3:$D$450,MATCH(CE22,'DESEMPATE Y DISCAPACIDAD'!$C$3:$C$450,0)),"") | CG22: =IF(OR(CE22="",CF22=""),"",SUMIF(D13:D22,CF22,CD13:CD22)) | CH22: =IF(OR(CE22="",CF22="",CG22=""),"",IF(CG22>0,"CUMPLE","NO CUMPLE")) | CI22: =IF(CF22="","",IF(ISTEXT(CF22),1,0)) | CL22: =IF(N22="","",IF(N22="SI",1,0)) | CM22: =IF(O22="","",IF(O22="SI",1,0)) | CN22: =IF(OR(CL22="",CM22=""),"",IF(AND(CL22=0,CM22=0),"N/A",IF(AND(CL22=1,CM22=0),"COND. A",IF(AND(CL22=0,CM22=1),"COND. B",IF(AND(CL22=1,CM22=1),"COND. A Y B",""))))) | CQ22: =IF(OR(AN22="",CB22=""),"",IF(AN22="NO",CB22,0)) | CR22: =IF(OR(AN22="",AF22=""),"",IF(AN22="NO",AF22,0))
