Workbook

Sheet resumen
A1: FDLCH-CM-001-2020
A3: CONTRATAR LA INTERVENTORÍA TÉCNICA, ADMINISTRATIVA, LEGAL, FINANCIERA, SOCIAL Y AMBIENTAL DE LA CONSTRUCCIÓN DE UNA OBRA PARA LA MITIGACIÓN DE RIESGO EN LA LOCALIDAD DE CHAPINERO
A6: PROPONENTE | B6: RESULTADO VERIFICACIÓN
A7: 1. CONSORCIO TALUDES BIOPROYEC | B7: CUMPLE
A8: 2. 2L PROYECTOS SAS | B8: CUMPLE
A9: 3. CONSORCIO ECOD | B9: CUMPLE
A15: Cordialmente:
A18: JUAN FRANCISCO ALFONSO PLATA VARGAS
A19: Evaluador Técnico y económico

Sheet 1. CONSORCIO BIOPROYECT
A2: =+resumen!A1 -> FDLCH-CM-001-2020
A3: =+resumen!A3 -> CONTRATAR LA INTERVENTORÍA TÉCNICA, ADMINISTRATIVA, LEGAL, FINANCIERA, SOCIAL Y AMBIENTAL DE LA CONSTRUCCIÓN DE UNA OBRA PARA LA MITIGACIÓN DE RIESGO EN LA LOCALIDAD DE CHAPINERO
A4: COMITE TÉCNICO EVALUADOR | F4: DICIEMBRE 06 DE 2020
A5: PROPONENTE | F5: CONSORCIO TALUDES BIOPROYEC
F6: 1 | J6: 2
F7: CONSULTORES DESARROLLO Y AMBIENTE SAS. (65%). | J7: OBRAS Y PROYECTOS CIVILES Y AMBIENTALES LTDA (35%).
A9: RELACIÓN DE CONTRATOS PARA ACREDITAR EXPERIENCIA DEL PROPONENTE
B10: No. CONTRATO | C10: CONTRATANTE | D10: CONTRATISTA | E10: OBJETO | F10: INTEGRANTES | G10: PORCENTAJE PARTICIPACIÓN % | H10: INTEGRANTE DEL CONSORCIO QUE APORTA LA EXPERIENCIA | I10: PORCENTAJE DE EXPERIENCIA APORTADO (%) | J10: VR. INICIAL CONTRATO | K10: ADICIÓN | L10: VALOR FINAL EJECUTADO POR EL PROPONENTE | M10: VALOR EN SALARIOS MÍNIMOS FECHA DE TERMINACIÓN
A11: CONSORCIO TALUDES BIOPROYEC | B11: CTO 1445 DE 2015 | C11: CAR | D11: CONSORCIO CONTROL OBRAS GEOTECNICAS | E11: INTERVENTORÍA TÉCNICA, ADMINISTRATIVA, FINANCIERA Y AMBIENTAL PARA EL CONTRATO CUYO OBJETO ES LA “CONSTRUCCIÓN DE OBRAS PARA LA ESTABILIZACIÓN, PROTECCIÓN DE TALUDES Y CONTROL EROSIVO EN PUNTOS CRÍTICOS PRIORIZADOS EN ÁREAS DE RIESGO DE LA JURISDICCIÓN CAR, ACORDE A LOS ESTUDIOS Y DISEÑOS PRODUCTO DEL CONTRATO DE | F11: OBRAS Y PROYECTOS CIVILES Y AMBIENTALES LTDA | G11: 60 | H11: OBRAS Y PROYECTOS CIVILES Y AMBIENTALES LTDA | I11: 35 | J11: 1525722480 | K11: N/A | L11: =1525722480 -> 1525722480 | M11: =+L11/781242 -> 1952.9448 | N11: CUMPLE CON EL 100% DEL VALOR DEL PRESUPUESTO OFICIAL ($321.502.710) Y CON LAS ACTIVIDADES EXIGIDAS
K12: TOTAL PROPONENTE | L12: =L11*21/100 -> 3.2040172e+08 | M12: =M11*21/100 -> 410.1184
K13: PRESUPUESTO OFICIAL | L13: 57870487 | M13: =L13/877803 -> 65.926509
C14: =+F7 -> CONSULTORES DESARROLLO Y AMBIENTE SAS. (65%). | K14: CUMPLE
C15: GRUPOS RUP | K15: En consecuencia, se determina que cumple con el requisito de mínimo, el 100% del presupuesto oficial expresado en SMMLV
C16: CÓDIGO | D16: CONSECUTIVO | E16: ¿CUMPLE?
C17: 84111600 | D17: 73 | E17: CUMPLE
C23: EXPERIENCIA GENERAL CONTRATOS PRESENTADOS RUP
C24: CONTRATO | D24: CONSECUTIVO /PÁGINA | E24: CÓDIGO | F24: EXPERIENCIA RUP ACREDITADA POR | G24: CUMPLE? | H24: OBSERVACIONES
B25: =+F7 -> CONSULTORES DESARROLLO Y AMBIENTE SAS. (65%). | C25: =+B11 -> CTO 1445 DE 2015 | D25: =+D17 -> 73 | E25: =+C17 -> 84111600 | F25: =+C11 -> CAR | G25: CUMPLE | H25: =+K15 -> En consecuencia, se determina que cumple con el requisito de mínimo, el 100% del presupuesto oficial expresado en SMMLV
C29: EXPERIENCIA PERSONAL MÍNIMO REQUERIDO - HABILITANTE
D31: FORMACIÓN ACADÉMICA | E31: EXPERIENCIA | F31: OBSERVACIONES | G31: RESULTADO
C32: DIRECTOR DE INTERVENTORIA | D32: CUMPLE | E32: CUMPLE | F32: N/A | G32: CUMPLE
C33: RESIDENTE DE INTERVENTORIA | D33: CUMPLE | E33: CUMPLE | F33: N/A | G33: CUMPLE
C34: RESIDENTE SISOMA | D34: CUMPLE | E34: CUMPLE | F34: N/A | G34: CUMPLE
C35: RESULTADO TOTAL EXPERIENCIA PERSONAL MÍNIMO REQUERIDO - HABILITANTE | H35: CUMPLE

Sheet 2. 2L PROYECTOS SAS
A2: =+resumen!A1 -> FDLCH-CM-001-2020
A3: =+resumen!A3 -> CONTRATAR LA INTERVENTORÍA TÉCNICA, ADMINISTRATIVA, LEGAL, FINANCIERA, SOCIAL Y AMBIENTAL DE LA CONSTRUCCIÓN DE UNA OBRA PARA LA MITIGACIÓN DE RIESGO EN LA LOCALIDAD DE CHAPINERO
A4: COMITE TÉCNICO EVALUADOR | F4: DICIEMBRE 06 DE 2020
A5: PROPONENTE | F5: 2L PROYECTOS SAS
F6: 1
F7: 2L PROYECTOS SAS (100%)
A9: RELACIÓN DE CONTRATOS PARA ACREDITAR EXPERIENCIA DEL PROPONENTE
B10: No. CONTRATO | C10: CONTRATANTE | D10: CONTRATISTA | E10: OBJETO | F10: INTEGRANTES | G10: PORCENTAJE PARTICIPACIÓN % | H10: INTEGRANTE DEL CONSORCIO QUE APORTA LA EXPERIENCIA | I10: PORCENTAJE DE EXPERIENCIA APORTADO (%) | J10: VR. INICIAL CONTRATO | K10: ADICIÓN | L10: VALOR FINAL EJECUTADO POR EL PROPONENTE | M10: VALOR EN SALARIOS MÍNIMOS FECHA DE TERMINACIÓN
A11: 2L PROYECTOS SAS | B11: 213 de 2018 | C11: IDIGER | D11: =+A11 -> 2L PROYECTOS SAS | E11: "INTERVENTORÍA, ADMINISTRATIVA, TÉCNICA, FINANCIERA, CONTABLE Y JURÍDICO, SOCIAL Y AMBIENTAL PARA LA CONSTRUCCIÓN DE LAS OBRAS DE MITIGACIÓN EN EL POLÍGONO UBICADO ENTRE LA TRANSVERSAL 20F y TRANSVERSAL 20C Y LAS CALLES 68G BIS SUR Y LA CALLE 69 SUR, EN EL BARRIO JUAN JOSE RONDÓN EN LA LOCALIDAD DE CIUDAD BOLÍVAR EN BOGOTÁ D.C." | F11: 2L PROYECTOS SAS | G11: 100 | H11: =+A11 -> 2L PROYECTOS SAS | I11: 100 | J11: 365282803 | K11: N/A | L11: 365282803 | M11: =+L11/781242 -> 467.56678 | N11: CUMPLE CON EL 100% DEL VALOR DEL PRESUPUESTO OFICIAL ($321.502.710) Y CON LAS ACTIVIDADES EXIGIDAS
K13: TOTAL PROPONENTE | L13: =(L11+L12)*I11/100 -> 365282803 | M13: =M11*I11/100 -> 467.56678
K14: PRESUPUESTO OFICIAL | L14: 57870487 | M14: =L14/877803 -> 65.926509
C15: =+F7 -> 2L PROYECTOS SAS (100%) | K15: CUMPLE
C16: GRUPOS RUP | K16: En consecuencia, se determina que cumple con el requisito de mínimo, el 100% del presupuesto oficial expresado en SMMLV
C17: CÓDIGO | D17: CONSECUTIVO | E17: ¿CUMPLE?
C18: 84111600 | D18: 112 | E18: CUMPLE
C24: EXPERIENCIA GENERAL CONTRATOS PRESENTADOS RUP
C25: CONTRATO | D25: CONSECUTIVO /PÁGINA | E25: CÓDIGO | F25: EXPERIENCIA RUP ACREDITADA POR | G25: CUMPLE? | H25: OBSERVACIONES
B26: =+F7 -> 2L PROYECTOS SAS (100%) | C26: =+B11 -> 213 de 2018 | D26: =+D18 -> 112 | E26: =+C18 -> 84111600 | F26: =+C11 -> IDIGER | G26: CUMPLE | H26: =+K16 -> En consecuencia, se determina que cumple con el requisito de mínimo, el 100% del presupuesto oficial expresado en SMMLV
C30: EXPERIENCIA PERSONAL MÍNIMO REQUERIDO - HABILITANTE
D32: FORMACIÓN ACADÉMICA | E32: EXPERIENCIA | F32: OBSERVACIONES | G32: RESULTADO
C33: DIRECTOR DE INTERVENTORIA | D33: CUMPLE | E33: CUMPLE | F33: N/A | G33: CUMPLE
C34: RESIDENTE DE INTERVENTORIA | D34: CUMPLE | E34: CUMPLE | F34: N/A | G34: CUMPLE
C35: RESIDENTE SISOMA | D35: CUMPLE | E35: CUMPLE | F35: N/A | G35: CUMPLE
C36: RESULTADO TOTAL EXPERIENCIA PERSONAL MÍNIMO REQUERIDO - HABILITANTE | H36: CUMPLE

Sheet 3. CONSORCIO ECOD
A2: =+resumen!A1 -> FDLCH-CM-001-2020
A3: =+resumen!A3 -> CONTRATAR LA INTERVENTORÍA TÉCNICA, ADMINISTRATIVA, LEGAL, FINANCIERA, SOCIAL Y AMBIENTAL DE LA CONSTRUCCIÓN DE UNA OBRA PARA LA MITIGACIÓN DE RIESGO EN LA LOCALIDAD DE CHAPINERO
A4: COMITE TÉCNICO EVALUADOR | F4: DICIEMBRE 06 DE 2020
A5: PROPONENTE | F5: CONSORCIO ECOD
F6: 1
F7: EGS SAS (50%) | J7: ICOD SAS (50%)
A9: RELACIÓN DE CONTRATOS PARA ACREDITAR EXPERIENCIA DEL PROPONENTE
B10: No. CONTRATO | C10: CONTRATANTE | D10: CONTRATISTA | E10: OBJETO | F10: INTEGRANTES | G10: PORCENTAJE PARTICIPACIÓN % | H10: INTEGRANTE DEL CONSORCIO QUE APORTA LA EXPERIENCIA | I10: PORCENTAJE DE EXPERIENCIA APORTADO (%) | J10: VR. INICIAL CONTRATO | K10: ADICIÓN | L10: VALOR FINAL EJECUTADO POR EL PROPONENTE | M10: VALOR EN SALARIOS MÍNIMOS FECHA DE TERMINACIÓN
A11: CONSORCIO ECOD | B11: 216 DE 2017 | C11: ALCALDIA DE SAN CRISTOBAL | D11: =+A11 -> CONSORCIO ECOD | E11: INTERVENTORIA TECNICA,ADMINISTRATIVA,FINANCIERA,JURIDICA,SOCIAL,AMBIENTAL Y SISO AL CONTRATO CUYO OBJETO ES “CONTRATAR POR EL SISTEMA DE PRECIOS FIJOS SIN FORMULA DE REAJUSTE,LA CONSTRUCCION DE OBRAS DE MITIGACIONDE RIESGO POR PROCESOS DE REMOCION EN MASA,PARA LA URBANIZACION LA ROCA,Y PARA EL BARRIO GUACAMAYAS DE ACUERDO CON LOS POLIGONOS ANALIZADOS EN LOS ESTUDIOS Y DISEÑOS DERIVADOS DEL CONTRATO DE CONSULTORIA 148 DE 2016, ASI COMO LA CONSTRUCCION DE LAS OBRAS DE MITIGACION DE RIESGOS,POR PROCESOS DE REMOCION EN MASA,PARA EL BARRIO SANTA RITA SUR ORIENTAL,DE ACUERDO CON EL POLIGONO ANALIZADO EN LOS ESTUDIOS Y DISEÑOS DERIVADOS DEL CONTRATO DE CONSULTORIA UMV-438 DE 2014.OBRAS A DESARROLLAR EN LA LOCALIDAD DE SAN CRISTOBAL,BOGOTA D.C” | F11: EGS SAS | G11: 100 | H11: =+A11 -> CONSORCIO ECOD | I11: 50 | J11: 1251800000 | K11: N/A | L11: 1251800000 | M11: =+L11/781242 -> 1602.3204 | N11: CUMPLE CON EL 100% DEL VALOR DEL PRESUPUESTO OFICIAL ($321.502.710) Y CON LAS ACTIVIDADES EXIGIDAS
K13: TOTAL PROPONENTE | L13: =(L11+L12)*I11/100 -> 625900000 | M13: =M11*I11/100 -> 801.1602
K14: PRESUPUESTO OFICIAL | L14: 57870487 | M14: =L14/877803 -> 65.926509
C15: =+F7 -> EGS SAS (50%) | K15: CUMPLE
C16: GRUPOS RUP | K16: En consecuencia, se determina que cumple con el requisito de mínimo, el 100% del presupuesto oficial expresado en SMMLV
C17: CÓDIGO | D17: CONSECUTIVO | E17: ¿CUMPLE?
C18: 84111600 | D18: 20 | E18: CUMPLE
C24: EXPERIENCIA GENERAL CONTRATOS PRESENTADOS RUP
C25: CONTRATO | D25: CONSECUTIVO /PÁGINA | E25: CÓDIGO | F25: EXPERIENCIA RUP ACREDITADA POR | G25: CUMPLE? | H25: OBSERVACIONES
B26: =+F7 -> EGS SAS (50%) | C26: =+B11 -> 216 DE 2017 | D26: =+D18 -> 20 | E26: =+C18 -> 84111600 | F26: =+C11 -> ALCALDIA DE SAN CRISTOBAL | G26: CUMPLE | H26: =+K16 -> En consecuencia, se determina que cumple con el requisito de mínimo, el 100% del presupuesto oficial expresado en SMMLV
C30: EXPERIENCIA PERSONAL MÍNIMO REQUERIDO - HABILITANTE
D32: FORMACIÓN ACADÉMICA | E32: EXPERIENCIA | F32: OBSERVACIONES | G32: RESULTADO
C33: DIRECTOR DE INTERVENTORIA | D33: CUMPLE | E33: CUMPLE | F33: N/A | G33: CUMPLE
C34: RESIDENTE DE INTERVENTORIA | D34: CUMPLE | E34: CUMPLE | F34: N/A | G34: CUMPLE
C35: RESIDENTE SISOMA | D35: CUMPLE | E35: CUMPLE | F35: N/A | G35: CUMPLE
C36: RESULTADO TOTAL EXPERIENCIA PERSONAL MÍNIMO REQUERIDO - HABILITANTE | H36: CUMPLE
