Workbook

Sheet PTTO
C3: PRESUPUESTO MANTENIMIENTO, REPARACIÓN E IMPERMEABILIZACIÓN DE CUBIERTA DEL JUZGADO MUNICIPAL PROMISCUO DE GALAPA DIRECCIÓN SECCIONAL DE ADMINISTRACIÓN JUDICIAL BARRANQUILLA - ATLÁNTICO
C5: ITEM | D5: DESCRIPCIÓN | E5: UNIDAD | F5: CANTIDAD | G5: VLR. UNITARIO | H5: VLR. TOTAL
C6: 1 | D6: TELECOM
C7: 1.1 | D7: Desmonte de manto existente.
C8: 1.1.1 | D8: Desmonte y retiro de manto existente (incluye retiro de escombros) | E8: m2 | F8: 402 | G8: =+APU!$H$46 -> 7480 | H8: =+F8*G8 -> 3006960
C9: 1.1.2 | D9: Demolición de plantilla (incluye retiro de escombros) | E9: m2 | F9: =+ROUND(F8*60%,0) -> 241 | G9: =+APU!$H$92 -> 13568 | H9: =+F9*G9 -> 3269888
C10: 1.2 | D10: Impermeabilización.
C11: 1.2.1 | D11: Plantilla de direccionamiento en mortero 1:3 e=4cm. | E11: m2 | F11: =+F9 -> 241 | G11: =+APU!$H$138 -> 28297 | H11: =+F11*G11 -> 6819577
C12: 1.2.2 | D12: Imprimación con emulsión asfáltica (base acuosa). | E12: m2 | F12: =+F8 -> 402 | G12: =+APU!$H$184 -> 5952 | H12: =+F12*G12 -> 2392704
C13: 1.2.3 | D13: Impermeabilización con manto foil aluminio de 3mm. | E13: m2 | F13: =+F8 -> 402 | G13: =+APU!$H$230 -> 35953 | H13: =+F13*G13 -> 14453106
D14: SUB-TOTAL GALAPA | G14: =+SUM(H8:H13) -> 29942235
C15: SUB-TOTAL (1) | G15: =+G14 -> 29942235
C16: ADMINISTRACIÓN | F16: 0.1 | G16: =+G15*F16 -> 2994223.5
C17: IMPREVISTOS | F17: 0.05 | G17: =+G15*F17 -> 1497111.8
C18: UTILIDAD | F18: 0.05 | G18: =+G15*F18 -> 1497111.8
C19: SUB-TOTAL (2) | G19: =+G15+G16+G17+G18 -> 35930682
C20: CONTRIBUCIÓN ESTAMPILLA (PRO-UNIVERSIDAD NACIONAL Y DEMÁS UNIVERSIDADES ESTATALES DE COLOMBIA) | F20: 0.005 | G20: =+G19*F20 -> 179653.41
C21: CONTRIBUCIÓN CONTRATO DE OBRA | F21: 0.05 | G21: =+G19*F21 -> 1796534.1
C22: IVA/UTILIDAD | F22: 0.19 | G22: =+F22*G18 -> 284451.23
C23: TOTAL COSTO OBRA | G23: =ROUND(G19+G20+G21+G22,0) -> 38191321
H26: =+G23*0.4 -> 15276528
H27: =+G23*0.6 -> 22914793

Sheet APU
B2: DIRECCIÓN EJECUTIVA DE LA ADMINISTRACIÓN JUDICIAL - SECCIONAL BARRANQUILLA. ANÁLISIS DE PRECIOS UNITARIOS.
B4: ÁREA | C4: Mantenimiento y Soporte Tecnológico | F4: FECHA | G4: Mayo de 2020
B5: PROYECTO | C5: MENTENIMIENTO, REPARACIÓN E IMPERMEABILIZACIÓN DE CUBIERTAS DEL JUZGADO PROMISCUO MUNICIPAL DE GALAPA.
B7: ITEM | C7: DESCRIPCIÓN | G7: UND | H7: =+PTTO!E8 -> m2
B8: =++PTTO!C8 -> 1.1.1 | C8: =+PTTO!D8 -> Desmonte y retiro de manto existente (incluye retiro de escombros)
B10: I. EQUIPOS Y HERRAMIENTAS
B11: DESCRIPCIÓN | D11: UND | E11: V. UNITARIO | F11: RENDIM. | G11: V. TOTAL
B12: Herramientas menores (10%MO) | D12: % | G12: =+H43*0.1 -> 306
F17: Subtotal Equipo | H17: =+SUM(G12:G16) -> 306
B18: II. MATERIALES DE OBRA
B19: DESCRIPCIÓN | D19: UND | E19: CANTIDAD | F19: V. UNITARIO | G19: V. TOTAL
B20: Saco | D20: und | E20: 0.3 | F20: 963 | G20: =+E20*F20 -> 288.9
F26: Subtotal Materiales | H26: =+SUM(G20:G25) -> 288.9
B27: III. TRANSPORTE
B28: DESCRIPCIÓN | E28: Viaje | F28: Tarifa | G28: V. TOTAL
B29: Transporte de escombros | E29: 0.0065 | F29: 588500 | G29: =+E29*F29 -> 3825.25
F34: Subtotal Mano de Obra | H34: =+SUM(G29:G33) -> 3825.25
B36: IV. MANO DE OBRA
B37: DESCRIPCIÓN | E37: V. HH (Hora Hombre) | F37: HH | G37: V. TOTAL
B38: Cuadrilla AA (1 Oficial + 1 Ayudante) | E38: =+'[1]Calculo Cuadrillas 2020'!$C$30 -> 22106.242 | F38: =3060/E38 -> 0.13842244 | G38: =+E38*F38 -> 3060
F43: Subtotal Mano de Obra | H43: =+SUM(G38:G42) -> 3060
C45: TOTAL COSTO DIRECTO | H45: =+H43+H26+H17+H34 -> 7480.15
C46: AJUSTE AL PESO | H46: =+ROUND(H45,0) -> 7480
B48: DIRECCIÓN EJECUTIVA DE LA ADMINISTRACIÓN JUDICIAL - SECCIONAL BARRANQUILLA. ANÁLISIS DE PRECIOS UNITARIOS.
B50: ÁREA | C50: Mantenimiento y Soporte Tecnológico | F50: FECHA | G50: Mayo de 2020
B51: PROYECTO | C51: MENTENIMIENTO, REPARACIÓN E IMPERMEABILIZACIÓN DE CUBIERTAS DEL JUZGADO PROMISCUO MUNICIPAL DE GALAPA..
B53: ITEM | C53: DESCRIPCIÓN | G53: UND | H53: =+PTTO!E9 -> m2
B54: =+PTTO!C9 -> 1.1.2 | C54: =+PTTO!D9 -> Demolición de plantilla (incluye retiro de escombros)
B56: I. EQUIPOS Y HERRAMIENTAS
B57: DESCRIPCIÓN | D57: UND | E57: V. UNITARIO | F57: RENDIM. | G57: V. TOTAL
B58: Herramientas menores (10%MO) | D58: % | G58: =+H89*0.1 -> 510
B59: Martillo demoledor (incluye planta eléctrica) | D59: hr | E59: 26750 | F59: 0.1 | G59: =+E59*F59 -> 2675
F63: Subtotal Equipo | H63: =+SUM(G58:G62) -> 3185
B64: II. MATERIALES DE OBRA
B65: DESCRIPCIÓN | D65: UND | E65: CANTIDAD | F65: V. UNITARIO | G65: V. TOTAL
B66: Saco | D66: und | E66: 0.5 | F66: 963 | G66: =+E66*F66 -> 481.5
F72: Subtotal Materiales | H72: =+SUM(G66:G71) -> 481.5
B73: III. TRANSPORTE
B74: DESCRIPCIÓN | E74: Viaje | F74: Tarifa | G74: V. TOTAL
B75: Transporte de escombros | E75: =4801.75/F75 -> 0.0081593033 | F75: 588500 | G75: =+E75*F75 -> 4801.75
...
