Workbook

Sheet RESUMEN
E1: PRESUPUESTO
D3: PROYECTO: | E3: CONTRATAR EL MANTENIMIENTO PREVENTIVO Y CORRECTIVO DE LOS SISTEMAS SOLARES FOTOVOLTAICOS INSTALADOS DEL CENTRO PARA LA FORMACIÓN CAFETERA, CALDAS.
D4: UBICACIÓN DEL PROYECTO: | E4: CENTRO DE FORMACIÓN CAFETERA
C6: ITEM | D6: DESCRIPCION | E6: UM | F6: Cant. | G6: Valor unitario | H6: Valor Total | L6: Obs.
B7: CAPITULO No. 1 MANTENIMIENTO CORRECTIVO Y PREVENTIVO DE SISTEMA DE PANEL FOTOVOLTAICO | H7: =SUM(H8:H14) -> 0
C8: 1.01 | D8: Recorrido, inspección y diagnóstico general del sistema solar fotovoltaico (paneles, baterías del sistema , controladores, inversores y cableado), que incluye la medición y verificación de parámetros eléctricos como voltaje, corriente, continuidad y polaridad, identificación y análisis de alertas o errores registrados en los inversores, así como la toma de registros antes y después del mantenimiento, garantizando la correcta evaluación del estado y desempeño del sistema. | E8: m2 | F8: ='CAP 1'!G26 -> 567.85 | H8: =F8*G8 -> 0
C9: 1.02 | D9: Revisión, ajuste y mantenimiento de las al area de paneles en cuanto a conexiones eléctricas, conectores mc4 y de los soportes de montaje del sistema de paneles en un area de paneles (incluye inspección, reapriete y/o reemplazo de tornillería, perfiles, platinas, remplazo de cables dañados,protecciones, conectores, bornes, fusibles, breakers y demás dispositivos de protección, así como todos los elementos asociados al sistema, garantizando su correcto funcionamiento, seguridad y continuidad operativa). | E9: m2 | F9: ='CAP 1'!G26 -> 567.85 | H9: =F9*G9 -> 0
C10: 1.03 | D10: Limpieza y mantenimiento de paneles solares con productos especializados (agua desionizada, jabones especiales, utencilios especializados y demas necesarios para su adecuado mantenimiento) | E10: m2 | F10: ='CAP 1'!G26 -> 567.85 | H10: =F10*G10 -> 0
C11: 1.04 | D11: SISTEMA 01 : Mantenimiento preventivo y correctivo de : inspección, limpieza, ajuste, pruebas y reposición de elementos defectuosos, garantizando la correcta operación, seguridad y continuidad del servicio. Tablero de salida fotovoltaico 480 VAC: Limpieza interna, ajuste de conexiones, verificación de protecciones, revisión de barras, aislamiento y sistema de puesta a tierra. Transformador 480/280 V – 112.5 kVA: Inspección general, limpieza, verificación de conexiones, medición de aislamiento, revisión de temperatura y estado de operación. Inversor 1000 VDC – 480 VAC: Limpieza, revisión de alarmas, ventilación, conexiones DC/AC, actualización y diagnóstico de funcionamiento. Tableros de distribución eléctrica: Limpieza, ajuste de conexiones, revisión de interruptores, protecciones, barras y estado general. | E11: Global | F11: ='CAP 1'!G67 -> 1 | H11: =F11*G11 -> 0
C12: 1.05 | D12: SISTEMA 02 : Mantenimiento preventivo y correctivo de : inspección, limpieza, ajuste, pruebas y reposición de elementos defectuosos, garantizando la correcta operación, seguridad y continuidad del servicio. A - Controlador de Carga (OutBack Power): Limpieza general y verificación de ventilación, revisión y ajuste de conexiones DC, verificación de parámetros de operación y alarmas, revisión de configuración y actualización si aplica. B - Interruptor Termomagnético de Protección: Verificación de estado físico y funcionamiento, ajuste de conexiones, prueba de disparo, sustitución en caso de desgaste o falla. C - PLC / Controlador Lógico Programable: Limpieza y revisión visual, verificación de alimentación, respaldo y revisión del programa, comprobación de entradas y salidas. D - Fuente de Alimentación (DC): Medición de voltaje de salida, revisión y ajuste de conexiones, limpieza, sustitución en caso de inestabilidad. E - Monitor de Energía / Relé de Control: Verificación de mediciones eléctricas, revisión de configuración, prueba de actuación de protecciones, ajuste de conexiones. F - Borneras de Tierra / Neutro: Limpieza, ajuste de tornillos, verificación de continuidad a tierra. G - Bloques de Terminales (Bornes): Ajuste de conexiones, limpieza, verificación de identificación y organización del cableado. H - Tomacorriente y Adaptador: Verificación de funcionamiento, revisión de conexiones, limpieza y estado físico. I - Dispositivos de Protección (DPS y Breakers): Verificación del estado del DPS e indicador de operación, revisión de conexión a tierra, prueba de disparo de breakers, ajuste de conexiones, sustitución de elementos defectuosos. | E12: Global | F12: ='CAP 1'!G94 -> 1 | H12: =F12*G12 -> 0
C13: 1.06 | D13: Suministro y remplazo de Tipo de Batería: Plomo-Ácido Sellada con tecnología AGM (Absorbed Glass Mat) o GEL, de Ciclo Profundo (Deep Cycle). Es fundamental que sea de ciclo profundo para soportar descargas constantes en sistemas solares o de respaldo.Voltaje Nominal:12VOLTIOS .Capacidad de Almacenamiento: 255 (Amperios-hora) a una tasa de descarga de 10 o 20 horas .Configuración de Terminal: Terminal de cobre o aleación de plomo tipo perno (usualmente M8) para asegurar una baja resistencia de contacto.Construcción: Carcasa de alta resistencia (ABS retardante de llama preferiblemente) y libre de mantenimiento (VRLA - Valve Regulated Lead Acid) (Voltaje de Flotación: 13.5V a 13.8 V. Voltaje de Ciclo (Carga): 14.4 V a 14.7V.Corriente Máxima de Carga: Capacidad de aceptar al menos 75A de corriente inicial. | E13: unidad | F13: ='CAP 1'!G121 -> 2 | H13: =F13*G13 -> 0
C14: 1.07. | D14: Mantenimiento integral de los gabinetes del sistema (incluye limpieza, pintura anticorrosiva y electroestatica segun el color que defina la entidad, remoción de nivel de oxidación revisión interna y ajuste de cerraduras, bisagras y sellos, y todas las actividades necesarias para garantizar la protección, durabilidad y adecuado estado físico de los gabinetes). Gabinete de alto:2.10 x h: 1,88 x profundo 0,90 m Gabinete de alto:2.20 x h: 1,02 x profundo 0,50 m | E14: UND | F14: ='CAP 1'!G147 -> 2 | H14: =F14*G14 -> 0
C16: SUBTOTAL | G16: =+H7 -> 0
C17: IVA | F17: =19% -> 0.19 | G17: =G16*F17 -> 0
C18: TOTAL COSTO CONSTRUCCIÓN | G18: =+G16+G17 -> 0
C21: Elaboró: Arq. Luis Steven González Zapata - Contratista
C23: Revisó y Aprobó:
D24: Ing. Juan Camilo Hoyos Suarez – Contratista instructor Electricidad.

Sheet CAP 1
C1: MEMORIAS DE CANTIDADES
A3: CAPÍTULO | B3: =RESUMEN!B7 -> CAPITULO No. 1 MANTENIMIENTO CORRECTIVO Y PREVENTIVO DE SISTEMA DE PANEL FOTOVOLTAICO
A4: ITEM No. | B4: DESCRIPCIÓN | H4: UNIDAD | M4: ZONA O ÁREA DE UBICACIÓN | AB4: CORTE No.
A5: 1,01 Y 1,02 Y 1,03 | B5: =RESUMEN!D10 -> Limpieza y mantenimiento de paneles solares con productos especializados (agua desionizada, jabones especiales, utencilios especializados y demas necesarios para su adecuado mantenimiento) | H5: m2 | M5: =RESUMEN!E4 -> CENTRO DE FORMACIÓN CAFETERA | AB5: RESUMEN
A7: ÁREA O LUGAR ESPECIFICO | C7: DIMENSIONES | G7: MEDIDA TOTAL | H7: PLANO O REGISTRO GRÁFICO O ESQUEMA
C8: LARGO | D8: ANCHO | E8: ESPESOR | F8: CANT.
A9: LABORATORIOS CFC | F9: =201.03+344.48 -> 545.51 | G9: =F9 -> 545.51
A10: PANELES EN PTAR | F10: 18.58 | G10: =F10 -> 18.58
A11: PANELES EN PTAR 02 EN ALTURA | F11: 1.2 | G11: =F11 -> 1.2
A12: PANEL CONTIGUO A VIA EN GRANJA | F12: 2.56 | G12: =F12 -> 2.56
G14: =C14*D14*E14*F14 -> 0
G15: =C15*D15*E15*F15 -> 0
G16: =C16*D16*E16*F16 -> 0
G17: =C17*D17*E17*F17 -> 0
G18: =C18*D18*E18*F18 -> 0
G19: =C19*D19*E19*F19 -> 0
G20: =C20*D20*E20*F20 -> 0
G21: =C21*D21*E21*F21 -> 0
G22: =C22*D22*E22*F22 -> 0
F24: subtotal | G24: =SUM(G9:G23) -> 567.85
F25: vienen | G25: 0
F26: Total | G26: =G24+G25 -> 567.85
A27: ACERO 1/2" V-001C | E27: 16.8 | F27: 0.70836632 | G27: 0
A28: ACERO 5/8" V-001C | E28: 456.24821 | F28: 0.70836632 | G28: 0
A29: ACERO 3/4" V-001C | E29: 101.916 | F29: 0.70836632 | G29: 0
A30: ACERO 5/8" ZAPATA TIPO 1 | E30: 34.770769 | F30: 1 | G30: 0
A31: ACERO 3/4" ZAPATA TIPO 1 | E31: 58.11 | F31: 1 | G31: 0
A32: ACERO 1/2" ZAPATA TIPO 2 | E32: 36 | F32: 2 | G32: 0
A33: ACERO 1/2"ZAPATA TIPO 3 | E33: 44 | F33: 7 | G33: 0
A34: ACERO 1/2" ZAPATA TIPO 4 | E34: 50.4 | F34: 2 | G34: 0
F37: subtotal | G37: 0
F38: vienen
F39: Total | G39: 0
A41: OBSERVACIONES
A44: CAPÍTULO | B44: =B3 -> CAPITULO No. 1 MANTENIMIENTO CORRECTIVO Y PREVENTIVO DE SISTEMA DE PANEL FOTOVOLTAICO
A45: ITEM No. | B45: DESCRIPCIÓN | H45: UNIDAD | M45: ZONA O ÁREA DE UBICACIÓN | AB45: CORTE No.
A46: =RESUMEN!C11 -> 1.04 | B46: =RESUMEN!D11 -> SISTEMA 01 : Mantenimiento preventivo y correctivo de : inspección, limpieza, ajuste, pruebas y reposición de elementos defectuosos, garantizando la correcta operación, seguridad y continuidad del servicio. Tablero de salida fotovoltaico 480 VAC: Limpieza interna, ajuste de conexiones, verificación de protecciones, revisión de barras, aislamiento y sistema de puesta a tierra. Transformador 480/280 V – 112.5 kVA: Inspección general, limpieza, verificación de conexiones, medición de aislamiento, revisión de temperatura y estado de operación. Inversor 1000 VDC – 480 VAC: Limpieza, revisión de alarmas, ventilación, conexiones DC/AC, actualización y diagnóstico de funcionamiento. Tableros de distribución eléctrica: Limpieza, ajuste de conexiones, revisión de interruptores, protecciones, barras y estado general. | H46: =RESUMEN!E11 -> Global | M46: =M5 -> CENTRO DE FORMACIÓN CAFETERA | AB46: RESUMEN
A48: ÁREA O LUGAR ESPECIFICO | C48: DIMENSIONES | G48: MEDIDA TOTAL | H48: PLANO O REGISTRO GRÁFICO O ESQUEMA
C49: LARGO | D49: ANCHO | E49: ESPESOR | F49: CANT.
G51: =F51 -> 0
G52: =F52 -> 0
G53: =F53 -> 0
A55: Tablero de salida fotovoltaico 480 VAC: Transformador 480/280 V – 112.5 kVA: Inversor 1000 VDC – 480 VAC: Tableros de distribución eléctrica: | F55: 1 | G55: 1
G63: =C63*D63*E63*F63 -> 0
F65: subtotal | G65: =SUM(G50:G64) -> 1
F66: vienen | G66: 0
F67: Total | G67: =G65+G66 -> 1
A69: OBSERVACIONES
A71: CAPÍTULO | B71: =B44 -> CAPITULO No. 1 MANTENIMIENTO CORRECTIVO Y PREVENTIVO DE SISTEMA DE PANEL FOTOVOLTAICO
A72: ITEM No. | B72: DESCRIPCIÓN | H72: UNIDAD | M72: ZONA O ÁREA DE UBICACIÓN | AB72: CORTE No.
A73: =RESUMEN!C12 -> 1.05 | B73: =RESUMEN!D12 -> SISTEMA 02 : Mantenimiento preventivo y correctivo de : inspección, limpieza, ajuste, pruebas y reposición de elementos defectuosos, garantizando la correcta operación, seguridad y continuidad del servicio. A - Controlador de Carga (OutBack Power): Limpieza general y verificación de ventilación, revisión y ajuste de conexiones DC, verificación de parámetros de operación y alarmas, revisión de configuración y actualización si aplica. B - Interruptor Termomagnético de Protección: Verificación de estado físico y funcionamiento, ajuste de conexiones, prueba de disparo, sustitución en caso de desgaste o falla. C - PLC / Controlador Lógico Programable: Limpieza y revisión visual, verificación de alimentación, respaldo y revisión del programa, comprobación de entradas y salidas. D - Fuente de Alimentación (DC): Medición de voltaje de salida, revisión y ajuste de conexiones, limpieza, sustitución en caso de inestabilidad. E - Monitor de Energía / Relé de Control: Verificación de mediciones eléctricas, revisión de configuración, prueba de actuación de protecciones, ajuste de conexiones. F - Borneras de Tierra / Neutro: Limpieza, ajuste de tornillos, verificación de continuidad a tierra. G - Bloques de Terminales (Bornes): Ajuste de conexiones, limpieza, verificación de identificación y organización del cableado. H - Tomacorriente y Adaptador: Verificación de funcionamiento, revisión de conexiones, limpieza y estado físico. I - Dispositivos de Protección (DPS y Breakers): Verificación del estado del DPS e indicador de operación, revisión de conexión a tierra, prueba de disparo de breakers, ajuste de conexiones, sustitución de elementos defectuosos. | H73: =RESUMEN!E12 -> Global | M73: =M46 -> CENTRO DE FORMACIÓN CAFETERA | AB73: RESUMEN
A75: ÁREA O LUGAR ESPECIFICO | C75: DIMENSIONES | G75: MEDIDA TOTAL | H75: PLANO O REGISTRO GRÁFICO O ESQUEMA
C76: LARGO | D76: ANCHO | E76: ESPESOR | F76: CANT.
G78: =F78 -> 0
A79: A - Controlador de Carga (OutBack Power): B - Interruptor Termomagnético de Protección: C - PLC / Controlador Lógico Programable: D - Fuente de Alimentación (DC): E - Monitor de Energía / Relé de Control: F - Borneras de Tierra / Neutro: G - Bloques de Terminales (Bornes): H - Tomacorriente y Adaptador: I - Dispositivos de Protección (DPS y Breakers): | F79: 1 | G79: =F79 -> 1
F92: subtotal | G92: =SUM(G77:G91) -> 1
F93: vienen | G93: 0
F94: Total | G94: =G92+G93 -> 1
A96: OBSERVACIONES
A98: CAPÍTULO | B98: =B71 -> CAPITULO No. 1 MANTENIMIENTO CORRECTIVO Y PREVENTIVO DE SISTEMA DE PANEL FOTOVOLTAICO
A99: ITEM No. | B99: DESCRIPCIÓN | H99: UNIDAD | M99: ZONA O ÁREA DE UBICACIÓN | AB99: CORTE No.
A100: =RESUMEN!C13 -> 1.06 | B100: =RESUMEN!D13 -> Suministro y remplazo de Tipo de Batería: Plomo-Ácido Sellada con tecnología AGM (Absorbed Glass Mat) o GEL, de Ciclo Profundo (Deep Cycle). Es fundamental que sea de ciclo profundo para soportar descargas constantes en sistemas solares o de respaldo.Voltaje Nominal:12VOLTIOS .Capacidad de Almacenamiento: 255 (Amperios-hora) a una tasa de descarga de 10 o 20 horas .Configuración de Terminal: Terminal de cobre o aleación de plomo tipo perno (usualmente M8) para asegurar una baja resistencia de contacto.Construcción: Carcasa de alta resistencia (ABS retardante de llama preferiblemente) y libre de mantenimiento (VRLA - Valve Regulated Lead Acid) (Voltaje de Flotación: 13.5V a 13.8 V. Voltaje de Ciclo (Carga): 14.4 V a 14.7V.Corriente Máxima de Carga: Capacidad de aceptar al menos 75A de corriente inicial. | H100: =RESUMEN!E13 -> unidad | M100: =M73 -> CENTRO DE FORMACIÓN CAFETERA | AB100: RESUMEN
A102: ÁREA O LUGAR ESPECIFICO | C102: DIMENSIONES | G102: MEDIDA TOTAL | H102: PLANO O REGISTRO GRÁFICO O ESQUEMA
C103: LARGO | D103: ANCHO | E103: ESPESOR | F103: CANT.
F104: 2 | G104: =F104 -> 2
G105: =F105 -> 0
G106: =F106 -> 0
G107: =F107 -> 0
G109: =C109*D109*E109*F109 -> 0
G110: =C110*D110*E110*F110 -> 0
G111: =C111*D111*E111*F111 -> 0
G112: =C112*D112*E112*F112 -> 0
G113: =C113*D113*E113*F113 -> 0
G114: =C114*D114*E114*F114 -> 0
G115: =C115*D115*E115*F115 -> 0
G116: =C116*D116*E116*F116 -> 0
G117: =C117*D117*E117*F117 -> 0
F119: subtotal | G119: =SUM(G104:G118) -> 2
F120: vienen | G120: 0
F121: Total | G121: =G119+G120 -> 2
A124: CAPÍTULO | B124: =B98 -> CAPITULO No. 1 MANTENIMIENTO CORRECTIVO Y PREVENTIVO DE SISTEMA DE PANEL FOTOVOLTAICO
A125: ITEM No. | B125: DESCRIPCIÓN | H125: UNIDAD | M125: ZONA O ÁREA DE UBICACIÓN | AB125: CORTE No.
A126: =RESUMEN!C14 -> 1.07. | B126: =RESUMEN!D14 -> Mantenimiento integral de los gabinetes del sistema (incluye limpieza, pintura anticorrosiva y electroestatica segun el color que defina la entidad, remoción de nivel de oxidación revisión interna y ajuste de cerraduras, bisagras y sellos, y todas las actividades necesarias para garantizar la protección, durabilidad y adecuado estado físico de los gabinetes). Gabinete de alto:2.10 x h: 1,88 x profundo 0,90 m Gabinete de alto:2.20 x h: 1,02 x profundo 0,50 m | H126: =RESUMEN!E14 -> UND | M126: =M100 -> CENTRO DE FORMACIÓN CAFETERA | AB126: RESUMEN
A128: ÁREA O LUGAR ESPECIFICO | C128: DIMENSIONES | G128: MEDIDA TOTAL | H128: PLANO O REGISTRO GRÁFICO O ESQUEMA
C129: LARGO | D129: ANCHO | E129: ESPESOR | F129: CANT.
A130: Gabinete de alto:2.10 x h: 1,88 x profundo 0,90 m | F130: 1 | G130: =F130 -> 1
A131: Gabinete de alto:2.20 x h: 1,02 x profundo 0,50 m | F131: 1 | G131: =F131 -> 1
G135: =C135*D135*E135*F135 -> 0
G136: =C136*D136*E136*F136 -> 0
G137: =C137*D137*E137*F137 -> 0
G138: =C138*D138*E138*F138 -> 0
G139: =C139*D139*E139*F139 -> 0
G140: =C140*D140*E140*F140 -> 0
G141: =C141*D141*E141*F141 -> 0
G142: =C142*D142*E142*F142 -> 0
G143: =C143*D143*E143*F143 -> 0
F145: subtotal | G145: =SUM(G130:G144) -> 2
F146: vienen | G146: 0
F147: Total | G147: =G145+G146 -> 2
A149: CAPÍTULO | B149: =RESUMEN!B153 -> 0
...
