Workbook

Sheet RESUMEN
E1: PRESUPUESTO
D3: PROYECTO: | E3: CONTRATAR EL MANTENIMIENTO PREVENTIVO Y CORRECTIVO DE LOS SISTEMAS SOLARES FOTOVOLTAICOS INSTALADOS DEL CENTRO PARA LA FORMACIÓN CAFETERA, CALDAS.
D4: UBICACIÓN DEL PROYECTO: | E4: CENTRO DE FORMACIÓN CAFETERA
C6: ITEM | D6: DESCRIPCION | E6: UM | F6: Cant. | G6: Valor unitario | H6: Valor Total | L6: Obs.
B7: CAPITULO No. 1 MANTENIMIENTO CORRECTIVO Y PREVENTIVO DE SISTEMA DE PANEL FOTOVOLTAICO | H7: =SUM(H8:H14) -> 0
C8: 1.01 | D8: Recorrido, inspección y diagnóstico general del sistema solar fotovoltaico (paneles, baterías del sistema , controladores, inversores y cableado), que incluye la medición y verificación de parámetros eléctricos como voltaje, corriente, continuidad y polaridad, identificación y análisis de alertas o errores registrados en los inversores, así como la toma de registros antes y después del mantenimiento, garantizando la correcta evaluación del estado y desempeño del sistema. | E8: m2 | F8: ='CAP 1'!G26 -> 567.85 | H8: =F8*G8 -> 0
C9: 1.02 | D9: Revisión, ajuste y mantenimiento de las al area de paneles en cuanto a conexiones eléctricas, conectores mc4 y de los soportes de montaje del sistema de paneles en un area de paneles (incluye inspección, reapriete y/o reemplazo de tornillería, perfiles, platinas, remplazo de cables dañados,protecciones, conectores, bornes, fusibles, breakers y demás dispositivos de protección, así como todos los elementos asociados al sistema, garantizando su correcto funcionamiento, seguridad y continuidad operativa). | E9: m2 | F9: ='CAP 1'!G26 -> 567.85 | H9: =F9*G9 -> 0
C10: 1.03 | D10: Limpieza y mantenimiento de paneles solares con productos especializados (agua desionizada, jabones especiales, utencilios especializados y demas necesarios para su adecuado mantenimiento) | E10: m2 | F10: ='CAP 1'!G26 -> 567.85 | H10: =F10*G10 -> 0
C11: 1.04 | D11: SISTEMA 01 : Mantenimiento preventivo y correctivo de : inspección, limpieza, ajuste, pruebas y reposición de elementos defectuosos, garantizando la correcta operación, seguridad y continuidad del servicio. Tablero de salida fotovoltaico 480 VAC: Limpieza interna, ajuste de conexiones, verificación de protecciones, revisión de barras, aislamiento y sistema de puesta a tierra. Transformador 480/280 V – 112.5 kVA: Inspección general, limpieza, verificación de conexiones, medición de aislamiento, revisión de temperatura y estado de operación. Inversor 1000 VDC – 480 VAC: Limpieza, revisión de alarmas, ventilación, conexiones DC/AC, actualización y diagnóstico de funcionamiento. Tableros de distribución eléctrica: Limpieza, ajuste de conexiones, revisión de interruptores, protecciones, barras y estado general. | E11: Global | F11: ='CAP 1'!G67 -> 1 | H11: =F11*G11 -> 0
C12: 1.05 | D12: SISTEMA 02 : Mantenimiento preventivo y correctivo de : inspección, limpieza, ajuste, pruebas y reposición de elementos defectuosos, garantizando la correcta operación, seguridad y continuidad del servicio. A - Controlador de Carga (OutBack Power): Limpieza general y verificación de ventilación, revisión y ajuste de conexiones DC, verificación de parámetros de operación y alarmas, revisión de configuración y actualización si aplica. B - Interruptor Termomagnético de Protección: Verificación de estado físico y funcionamiento, ajuste de conexiones, prueba de disparo, sustitución en caso de desgaste o falla. C - PLC / Controlador Lógico Programable: Limpieza y revisión visual, verificación de alimentación, respaldo y revisión del programa, comprobación de entradas y salidas. D - Fuente de Alimentación (DC): Medición de voltaje de salida, revisión y ajuste de conexiones, limpieza, sustitución en caso de inestabilidad. E - Monitor de Energía / Relé de Control: Verificación de mediciones eléctricas, revisión de configuración, prueba de actuación de protecciones, ajuste de conexiones. F - Borneras de Tierra / Neutro: Limpieza, ajuste de tornillos, verificación de continuidad a tierra. G - Bloques de Terminales (Bornes): Ajuste de conexiones, limpieza, verificación de identificación y organización del cableado. H - Tomacorriente y Adaptador: Verificación de funcionamiento, revisión de conexiones, limpieza y estado físico. I - Dispositivos de Protección (DPS y Breakers): Verificación del estado del DPS e indicador de operación, revisión de conexión a tierra, prueba de disparo de breakers, ajuste de conexiones, sustitución de elementos defectuosos. | E12: Global | F12: ='CAP 1'!G94 -> 1 | H12: =F12*G12 -> 0
C13: 1.06 | D13: Suministro y remplazo de Tipo de Batería: Plomo-Ácido Sellada con tecnología AGM (Absorbed Glass Mat) o GEL, de Ciclo Profundo (Deep Cycle). Es fundamental que sea de ciclo profundo para soportar descargas constantes en sistemas solares o de respaldo.Voltaje Nominal:12VOLTIOS .Capacidad de Almacenamiento: 255 (Amperios-hora) a una tasa de descarga de 10 o 20 horas .Configuración de Terminal: Terminal de cobre o aleación de plomo tipo perno (usualmente M8) para asegurar una baja resistencia de contacto.Construcción: Carcasa de alta resistencia (ABS retardante de llama preferiblemente) y libre de mantenimiento (VRLA - Valve Regulated Lead Acid) (Voltaje de Flotación: 13.5V a 13.8 V. Voltaje de Ciclo (Carga): 14.4 V a 14.7V.Corriente Máxima de Carga: Capacidad de aceptar al menos 75A de corriente inicial. | E13: unidad | F13: ='CAP 1'!G121 -> 2 | H13: =F13*G13 -> 0
C14: 1.07. | D14: Mantenimiento integral de los gabinetes del sistema (incluye limpieza, pintura anticorrosiva y electroestatica segun el color que defina la entidad, remoción de nivel de oxidación revisión interna y ajuste de cerraduras, bisagras y sellos, y todas las actividades necesarias para garantizar la protección, durabilidad y adecuado estado físico de los gabinetes). Gabinete de alto:2.10 x h: 1,88 x profundo 0,90 m Gabinete de alto:2.20 x h: 1,02 x profundo 0,50 m | E14: UND | F14: ='CAP 1'!G147 -> 2 | H14: =F14*G14 -> 0
C16: SUBTOTAL | G16: =+H7 -> 0
C17: IVA | F17: =19% -> 0.19 | G17: =G16*F17 -> 0
C18: TOTAL COSTO CONSTRUCCIÓN | G18: =+G16+G17 -> 0
C21: Elaboró: Arq. Luis Steven González Zapata - Contratista
C23: Revisó y Aprobó:
D24: Ing. Juan Camilo Hoyos Suarez – Contratista instructor Electricidad.

Sheet CAP 1
C1: MEMORIAS DE CANTIDADES
A3: CAPÍTULO | B3: =RESUMEN!B7 -> CAPITULO No. 1 MANTENIMIENTO CORRECTIVO Y PREVENTIVO DE SISTEMA DE PANEL FOTOVOLTAICO
A4: ITEM No. | B4: DESCRIPCIÓN | H4: UNIDAD | M4: ZONA O ÁREA DE UBICACIÓN | AB4: CORTE No.
A5: 1,01 Y 1,02 Y 1,03 | B5: =RESUMEN!D10 -> Limpieza y mantenimiento de paneles solares con productos especializados (agua desionizada, jabones especiales, utencilios especializados y demas necesarios para su adecuado mantenimiento) | H5: m2 | M5: =RESUMEN!E4 -> CENTRO DE FORMACIÓN CAFETERA | AB5: RESUMEN
A7: ÁREA O LUGAR ESPECIFICO | C7: DIMENSIONES | G7: MEDIDA TOTAL | H7: PLANO O REGISTRO GRÁFICO O ESQUEMA
C8: LARGO | D8: ANCHO | E8: ESPESOR | F8: CANT.
A9: LABORATORIOS CFC | F9: =201.03+344.48 -> 545.51 | G9: =F9 -> 545.51
A10: PANELES EN PTAR | F10: 18.58 | G10: =F10 -> 18.58
A11: PANELES EN PTAR 02 EN ALTURA | F11: 1.2 | G11: =F11 -> 1.2
A12: PANEL CONTIGUO A VIA EN GRANJA | F12: 2.56 | G12: =F12 -> 2.56
G14: =C14*D14*E14*F14 -> 0
G15: =C15*D15*E15*F15 -> 0
G16: =C16*D16*E16*F16 -> 0
G17: =C17*D17*E17*F17 -> 0
G18: =C18*D18*E18*F18 -> 0
G19: =C19*D19*E19*F19 -> 0
G20: =C20*D20*E20*F20 -> 0
G21: =C21*D21*E21*F21 -> 0
G22: =C22*D22*E22*F22 -> 0
F24: subtotal | G24: =SUM(G9:G23) -> 567.85
F25: vienen | G25: 0
F26: Total | G26: =G24+G25 -> 567.85
A27: ACERO 1/2" V-001C | E27: 16.8 | F27: 0.70836632 | G27: 0
A28: ACERO 5/8" V-001C | E28: 456.24821 | F28: 0.70836632 | G28: 0
A29: ACERO 3/4" V-001C | E29: 101.916 | F29: 0.70836632 | G29: 0
A30: ACERO 5/8" ZAPATA TIPO 1 | E30: 34.770769 | F30: 1 | G30: 0
A31: ACERO 3/4" ZAPATA TIPO 1 | E31: 58.11 | F31: 1 | G31: 0
A32: ACERO 1/2" ZAPATA TIPO 2 | E32: 36 | F32: 2 | G32: 0
A33: ACERO 1/2"ZAPATA TIPO 3 | E33: 44 | F33: 7 | G33: 0
A34: ACERO 1/2" ZAPATA TIPO 4 | E34: 50.4 | F34: 2 | G34: 0
F37: subtotal | G37: 0
F38: vienen
F39: Total | G39: 0
A41: OBSERVACIONES
A44: CAPÍTULO | B44: =B3 -> CAPITULO No. 1 MANTENIMIENTO CORRECTIVO Y PREVENTIVO DE SISTEMA DE PANEL FOTOVOLTAICO
A45: ITEM No. | B45: DESCRIPCIÓN | H45: UNIDAD | M45: ZONA O ÁREA DE UBICACIÓN | AB45: CORTE No.
A46: =RESUMEN!C11 -> 1.04 | B46: =RESUMEN!D11 -> SISTEMA 01 : Mantenimiento preventivo y correctivo de : inspección, limpieza, ajuste, pruebas y reposición de elementos defectuosos, garantizando la correcta operación, seguridad y continuidad del servicio. Tablero de salida fotovoltaico 480 VAC: Limpieza interna, ajuste de conexiones, verificación de protecciones, revisión de barras, aislamiento y sistema de puesta a tierra. Transformador 480/280 V – 112.5 kVA: Inspección general, limpieza, verificación de conexiones, medición de aislamiento, revisión de temperatura y estado de operación. Inversor 1000 VDC – 480 VAC: Limpieza, revisión de alarmas, ventilación, conexiones DC/AC, actualización y diagnóstico de funcionamiento. Tableros de distribución eléctrica: Limpieza, ajuste de conexiones, revisión de interruptores, protecciones, barras y estado general. | H46: =RESUMEN!E11 -> Global | M46: =M5 -> CENTRO DE FORMACIÓN CAFETERA | AB46: RESUMEN
A48: ÁREA O LUGAR ESPECIFICO | C48: DIMENSIONES | G48: MEDIDA TOTAL | H48: PLANO O REGISTRO GRÁFICO O ESQUEMA
C49: LARGO | D49: ANCHO | E49: ESPESOR | F49: CANT.
G51: =F51 -> 0
...
