Workbook

Sheet Resumen
A1: ANEXO. CUADRO RESUMEN PRESUPUESTO OFICIAL - CALIBRACIÓN 2026
C3: COTIZACIÓN 1. RPM SUMINISTROS Y ASESORIAS S.A.S | D3: COTIZACIÓN 2. DICOING | E3: COTIZACIÓN 3. METROLOGICAL | F3: COTIZACIÓN 4. CONAMET S.A.S | H3: PROMEDIO VALORES UNITARIOS TOTALES
A4: 1 | B4: LDSP | C4: =+'1. LDSP'!O149 -> 170613248 | D4: =+'1. LDSP'!P149 -> 163761400 | E4: =+'1. LDSP'!Q149 -> 256496170 | F4: =+'1. LDSP'!R149 -> 155176357 | H4: =+'1. LDSP'!S149 -> 1.8651179e+08
A5: 2 | B5: Medicamentos | C5: =+'2. Medicamentos'!N13 -> 2028600 | D5: =+'2. Medicamentos'!O13 -> 2028600 | E5: =+'2. Medicamentos'!P13 -> 2238390 | F5: =+'2. Medicamentos'!Q13 -> 2461515 | H5: =+'2. Medicamentos'!R13 -> 2189276.2
A6: 3 | B6: PAI | C6: =+'3. PAI'!N25 -> 18901200 | D6: =+'3. PAI'!O25 -> 18001200 | E6: =+'3. PAI'!P25 -> 29243655 | F6: =+'3. PAI'!Q25 -> 38536246 | H6: =+'3. PAI'!R25 -> 26170575
A7: 4 | B7: Salud Ambiental | C7: =+'4. Salud Ambiental'!N26 -> 21745200 | D7: =+'4. Salud Ambiental'!O26 -> 20245200 | E7: =+'4. Salud Ambiental'!P26 -> 33540150 | F7: =+'4. Salud Ambiental'!Q26 -> 27339298 | H7: =+'4. Salud Ambiental'!R26 -> 25717462
B9: VALOR TOTAL | C9: =SUM(C4:C7) -> 213288248 | D9: =SUM(D4:D7) -> 204036400 | E9: =SUM(E4:E7) -> 321518365 | F9: =SUM(F4:F7) -> 223513416 | H9: =SUM(H4:H8) -> 2.4058911e+08

Sheet 1. LDSP
B2: ANEXO
B3: PRESUPUESTO OFICIAL
B5: 2. LDSP | O5: VALOR UNITARIO
B6: ITEM | D6: CODIGO INTERNO | E6: NOMBRE DE EQUIPO | F6: MARCA | G6: MODELO | H6: SERIE | I6: UBICACIÓN/AREA | J6: SERVICIO A CONTRATAR | K6: MAGNITUDES ASOCIADAS | L6: NUMERO DE PUNTOS A CALIBRAR | M6: ESPECIFICACIONES DE PUNTOS A CALIBRAR | N6: CANTIDAD UNITARIA | O6: COTIZACIÓN 1. RPM SUMINISTROS Y ASESORIAS S.A.S | P6: COTIZACIÓN 2. DICOING | Q6: COTIZACIÓN 3. METROLOGICAL | R6: COTIZACIÓN 4. CONAMET S.A.S | S6: PROMEDIO VALORES TOTALES
B9: 1 | D9: VC-00-FQ-106 | E9: COLORIMETRO | F9: ORBECO HELLIGE | G9: 711 | H9: 13678 | I9: FISICOQUIMICO | J9: CALIBRACION | K9: CANTIDAD DE SUSTANCIA | L9: 3 | M9: 0,1, 0,5 y 1,0 ABS | N9: 1 | O9: 2080000 | P9: 2000000 | Q9: 2454375 | R9: 1694084 | S9: =AVERAGE(O9:R9) -> 2057114.8
B10: 2 | D10: VC-00-FQ-55 | E10: BURETA DIGITAL | F10: BRAND | G10: EASY CALIBRATION | H10: 09F77521 | I10: FISICOQUIMICO | J10: CALIBRACION | K10: VOLUMEN | L10: 3 | M10: 1, 12.5 Y 25 | N10: 1 | O10: 757120 | P10: 728000 | Q10: 610470 | R10: 546091 | S10: =AVERAGE(O10:R10) -> 660420.25
B11: 3 | D11: VC-00-FQ-104 | E11: REFRACTOMETRO | F11: ATAGO | G11: DR-A1 | H11: 104637 | I11: FISICOQUIMICO | J11: CALIBRACION | K11: CANTIDAD DE SUSTANCIA | L11: 3 | M11: 5°, 10° y 20° | N11: 1 | O11: 2184000 | P11: 2100000 | Q11: 2748900 | R11: 2364530 | S11: =AVERAGE(O11:R11) -> 2349357.5
B12: 4 | D12: VC-00-FQ-51 | E12: PLANCHA DE CALENTAMIENTO | F12: FISCHER SCIENTIFIC | G12: ISOTEMP | H12: 1884080943442 | I12: FISICOQUIMICO | J12: CALIBRACION | K12: TEMPERATURA | L12: 3 | M12: 37, 100 y 150°C | N12: 1 | O12: 1697696 | P12: 1632400 | Q12: 2231250 | R12: 1244264 | S12: =AVERAGE(O12:R12) -> 1701402.5
B13: 5 | D13: VC-00-FQ-102 | E13: REFRIGERADOR | F13: SANYO | G13: MPR - 721 | H13: 10100272 | I13: FISICOQUIMICO | J13: CALIBRACION | K13: TEMPERATURA | L13: 3 | M13: 2, 5 Y 8°C | N13: 1 | O13: 1664000 | P13: 1600000 | Q13: 2159850 | R13: 1244264 | S13: =AVERAGE(O13:R13) -> 1667028.5
B14: 6 | D14: VC-00-FQ-94 | E14: BALANZA VIBRA | F14: VIBRA | G14: SJ-620E | H14: 09370006 | I14: FISICOQUIMICO | J14: CALIBRACION | K14: MASA | L14: 12 | M14: 0, 0,2, 50, 120, 150, 250, 300, 400, 450, 500, 600, 620(g) | N14: 1 | O14: 1062880 | P14: 1022000 | Q14: 1374450 | R14: 1244264 | S14: =AVERAGE(O14:R14) -> 1175898.5
B15: 7 | D15: VC-00-FQ-62 | E15: CENTRIFUGA | F15: BECTOM DICKINSON | G15: DYNAC | H15: 3180043 | I15: FISICOQUIMICO | J15: CALIBRACION | K15: TIEMPO Y FRECUENCIA | L15: 3 | M15: bajo, medio alto | N15: 1 | O15: 1019200 | P15: 980000 | Q15: 3534300 | R15: 2196621 | S15: =AVERAGE(O15:R15) -> 1932530.2
B16: 8 | D16: VC-00-FQ-111 | E16: MICROPIPETA | F16: BRAND | G16: TRANSFERPETTE 100-1000UL | H16: 08G04612 | I16: FISICOQUIMICO | J16: CALIBRACION | K16: VOLUMEN | L16: 3 | M16: Rango minimo, medio y maximo | N16: 1 | O16: 707616 | P16: 680400 | Q16: 571200 | R16: 546091 | S16: =AVERAGE(O16:R16) -> 626326.75
B17: 9 | D17: VC-00-FQ-117 | E17: MICROPIPETA | F17: BRAND | G17: TRANSFERPETTE 100-1000UL | H17: 10B8400 | I17: FISICOQUIMICO | J17: CALIBRACION | K17: VOLUMEN | L17: 3 | M17: Rango minimo, medio y maximo | N17: 1 | O17: 707616 | P17: 680400 | Q17: 571200 | R17: 546091 | S17: =AVERAGE(O17:R17) -> 626326.75
B18: 10 | D18: VC-00-FQ-114 | E18: MICROPIPETA | F18: BRAND | G18: TRANSFERPETTE 1-10ML | H18: 61D7214 | I18: FISICOQUIMICO | J18: CALIBRACION | K18: VOLUMEN | L18: 3 | M18: Rango minimo, medio y maximo | N18: 1 | O18: 707616 | P18: 680400 | Q18: 571200 | R18: 546091 | S18: =AVERAGE(O18:R18) -> 626326.75
B19: 11 | D19: VC-00-FQ-112 | E19: MICROPIPETA | F19: BRAND | G19: TRANSFERPETTE 10-100UL | H19: 04H02003 | I19: FISICOQUIMICO | J19: CALIBRACION | K19: VOLUMEN | L19: 3 | M19: Rango minimo, medio y maximo | N19: 1 | O19: 707616 | P19: 680400 | Q19: 571200 | R19: 546091 | S19: =AVERAGE(O19:R19) -> 626326.75
B20: 12 | D20: VC-00-FQ-96 | E20: MICROPIPETA | F20: BRAND | G20: TRANSFERPETTE | H20: 09D1592 | I20: FISICOQUIMICO | J20: CALIBRACION | K20: VOLUMEN | L20: 3 | M20: Rango minimo, medio y maximo | N20: 1 | O20: 707616 | P20: 680400 | Q20: 571200 | R20: 546091 | S20: =AVERAGE(O20:R20) -> 626326.75
B21: 13 | D21: VC-00-FQ-113 | E21: MICROPIPETA | F21: BRAND | G21: TRANSFERPETTE | H21: 04H02013 | I21: FISICOQUIMICO | J21: CALIBRACION | K21: VOLUMEN | L21: 3 | M21: Rango minimo, medio y maximo | N21: 1 | O21: 707616 | P21: 680400 | Q21: 571200 | R21: 546091 | S21: =AVERAGE(O21:R21) -> 626326.75
B22: 14 | D22: VC-00-FQ-124 | E22: MICROPIPETA | F22: BRAND | G22: TRANSFERPETTE | H22: 06J07231 | I22: FISICOQUIMICO | J22: CALIBRACION | K22: VOLUMEN | L22: 3 | M22: Rango minimo, medio y maximo | N22: 1 | O22: 707616 | P22: 680400 | Q22: 571200 | R22: 546091 | S22: =AVERAGE(O22:R22) -> 626326.75
B23: 15 | D23: EQU-14 | E23: REFRIGERADOR | F23: HAIER | G23: HYC-610 | H23: BE06PAE0U00QGG380005 | I23: MICROBIOLOGIA DE ALIMENTOS | J23: CALIBRACION | K23: TEMPERATURA | L23: 3 | M23: 2, 5 Y 8°C | N23: 1 | O23: 1664000 | P23: 1600000 | Q23: 2159850 | R23: 1244264 | S23: =AVERAGE(O23:R23) -> 1667028.5
B24: 16 | D24: VC-03-MO-31 | E24: INCUBADORA 22± 2°C | F24: BINDER | G24: BD 115 UL | H24: 16202 | I24: MICROBIOLOGIA DE ALIMENTOS | J24: CALIBRACION | K24: TEMPERATURA | L24: 1 | M24: 22°C | N24: 1 | O24: 1664000 | P24: 1600000 | Q24: 2103325 | R24: 1244264 | S24: =AVERAGE(O24:R24) -> 1652897.2
B25: 17 | D25: VC-03-MO-32 | E25: INCUBADORA | F25: LAB LINE | G25: IMPERIAL III 305 | H25: 1465071077566 | I25: MICROBIOLOGIA DE ALIMENTOS | J25: CALIBRACION | K25: TEMPERATURA | L25: 3 | M25: 41,5, 44 y 47°C | N25: 1 | O25: 1664000 | P25: 1600000 | Q25: 4712400 | R25: 1504160 | S25: =AVERAGE(O25:R25) -> 2370140
B26: 18 | D26: VC-03-MO-46 | E26: BALANZA DE PRECISION | F26: PIONER | G26: OHAUS | H26: 8329331545 | I26: MICROBIOLOGIA DE ALIMENTOS | J26: CALIBRACION | K26: MASA | L26: 12 | M26: 0, 0,2, 200, 500, 1000, 1200, 1500, 1700, 2000, 2500, 3000, 3100(g) | N26: 1 | O26: 1062880 | P26: 1022000 | Q26: 1374450 | R26: 1244264 | S26: =AVERAGE(O26:R26) -> 1175898.5
B27: 19 | D27: VP-010-BM-38 | E27: MICROPIPETA | F27: BRAND | G27: TRANSFERPETTE | H27: 07D2179 | I27: MICROBIOLOGIA DE ALIMENTOS | J27: CALIBRACION | K27: VOLUMEN | L27: 3 | M27: Rango minimo, medio y maximo | N27: 1 | O27: 707616 | P27: 680400 | Q27: 571200 | R27: 546091 | S27: =AVERAGE(O27:R27) -> 626326.75
B28: 20 | D28: EQU-130 | E28: MICROPIPETA | F28: BRAND | G28: TRANSFERPETTE | H28: 02Y5590 | I28: MICROBIOLOGIA DE ALIMENTOS | J28: CALIBRACION | K28: VOLUMEN | L28: 3 | M28: Rango minimo, medio y maximo | N28: 1 | O28: 707616 | P28: 680400 | Q28: 571200 | R28: 546091 | S28: =AVERAGE(O28:R28) -> 626326.75
B29: 21 | D29: VC-00-FQ-41 | E29: HORNO DE SECADO | F29: BINDER | G29: SD | H29: 05-87401 | I29: LAVADO DE FISICOQUIMICO | J29: CALIBRACION | K29: TEMPERATURA | L29: 1 | M29: -60°C | N29: 1 | O29: 1560000 | P29: 1500000 | Q29: 1335180 | R29: 1601383 | S29: =AVERAGE(O29:R29) -> 1499140.8
B30: 22 | D30: VP-09-MCR-51 | E30: ULTRACONGELADOR | F30: SANYO | G30: MDF-U538650 | H30: 60812873 | I30: CUARTO DE REFRIGERACION | J30: CALIBRACION | K30: TEMPERATURA | L30: 2 | M30: -70 Y -80°C | N30: 1 | O30: 2210208 | P30: 2125200 | Q30: 2909550 | R30: 1663620 | S30: =AVERAGE(O30:R30) -> 2227144.5
B31: 23 | D31: EQU-170 | E31: ULTRACONGELADOR | F31: HAIER | G31: DW-86L728J | H31: BE0GYPE1T00QGM130005 | I31: CUARTO DE REFRIGERACION | J31: CALIBRACION | K31: TEMPERATURA | L31: 2 | M31: -70 Y -80°C | N31: 1 | O31: 2210208 | P31: 2125200 | Q31: 2909550 | R31: 1663620 | S31: =AVERAGE(O31:R31) -> 2227144.5
B32: 24 | D32: VP-05-LCV-05 | E32: INCUBADORA | F32: BINDER | G32: BD | H32: 90100067 | I32: VIROLOGIA | J32: CALIBRACION | K32: TEMPERATURA | L32: 1 | M32: 37°C | N32: 1 | O32: 1664000 | P32: 1600000 | Q32: 2103325 | R32: 1244264 | S32: =AVERAGE(O32:R32) -> 1652897.2
B33: 25 | D33: EQU-132 | E33: MICROPIPETA | F33: ABM | G33: H100 | H33: 19013988 | I33: VIROLOGIA | J33: CALIBRACION | K33: VOLUMEN | L33: 3 | M33: Rango minimo, medio y maximo | N33: 1 | O33: 707616 | P33: 680400 | Q33: 571200 | R33: 546091 | S33: =AVERAGE(O33:R33) -> 626326.75
B34: 26 | D34: EQU-205 | E34: MICROPIPETA | F34: THERMO SCIENTIFIC | G34: FINNPIPETTE | H34: RU10211 | I34: VIROLOGIA | J34: CALIBRACION | K34: VOLUMEN | L34: 3 | M34: Rango minimo, medio y maximo | N34: 1 | O34: 707616 | P34: 680400 | Q34: 571200 | R34: 546091 | S34: =AVERAGE(O34:R34) -> 626326.75
B35: 27 | D35: EQU-271 | E35: MICROPIPETA | F35: BRAND | G35: TRANSFERPETTE | H35: 02F85081 | I35: VIROLOGIA | J35: CALIBRACION | K35: VOLUMEN | L35: 3 | M35: Rango minimo, medio y maximo | N35: 1 | O35: 707616 | P35: 680400 | Q35: 571200 | R35: 546091 | S35: =AVERAGE(O35:R35) -> 626326.75
B36: 28 | D36: VP-05-LCV-36 | E36: MICROPIPETA | F36: BRAND | G36: TRANSFERPETTE | H36: 09D3116 | I36: VIROLOGIA | J36: CALIBRACION | K36: VOLUMEN | L36: 3 | M36: Rango minimo, medio y maximo | N36: 1 | O36: 707616 | P36: 680400 | Q36: 571200 | R36: 546091 | S36: =AVERAGE(O36:R36) -> 626326.75
B37: 29 | D37: EQU-48 | E37: MICROPIPETA | F37: BRAND | G37: TRANSFERPETTE | H37: 16J36018 | I37: VIROLOGIA | J37: CALIBRACION | K37: VOLUMEN | L37: 3 | M37: Rango minimo, medio y maximo | N37: 1 | O37: 707616 | P37: 680400 | Q37: 571200 | R37: 546091 | S37: =AVERAGE(O37:R37) -> 626326.75
B38: 30 | D38: GA004779 | E38: MICROPIPETA | F38: KACIL | G38: NO REGISTRA | H38: 121268 | I38: VIROLOGIA | J38: CALIBRACION | K38: VOLUMEN | L38: 3 | M38: Rango minimo, medio y maximo | N38: 1 | O38: 707616 | P38: 680400 | Q38: 571200 | R38: 546091 | S38: =AVERAGE(O38:R38) -> 626326.75
B39: 31 | D39: VP-08-LZP-10 | E39: MICROPIPETA MULTICANAL | F39: BRAND | G39: TRANSFERPETTE 8´ | H39: 07R2058 | I39: VIROLOGIA | J39: CALIBRACION | K39: VOLUMEN | L39: 3 | M39: Rango minimo, medio y maximo | N39: 1 | O39: 707616 | P39: 680400 | Q39: 571200 | R39: 4508910 | S39: =AVERAGE(O39:R39) -> 1617031.5
B40: 32 | D40: VP-09-MCR-67 | E40: REFRIGERADOR | F40: PANASONIC | G40: MPR-721-PA | H40: 12120466 | I40: MICROBIOLOGIA DE AGUAS | J40: CALIBRACION | K40: TEMPERATURA | L40: 3 | M40: 2, 5 Y 8°C | N40: 1 | O40: 1664000 | P40: 1600000 | Q40: 2159850 | R40: 1244264 | S40: =AVERAGE(O40:R40) -> 1667028.5
B41: 33 | D41: EQU-34 | E41: REFRIGERADOR | F41: HAIER | G41: HYC-68A | H41: BE07T0E0N00QEG950023 | I41: COLERA | J41: CALIBRACION | K41: TEMPERATURA | L41: 3 | M41: 2, 5 Y 8°C | N41: 1 | O41: 1664000 | P41: 1600000 | Q41: 2159850 | R41: 1244264 | S41: =AVERAGE(O41:R41) -> 1667028.5
B42: 34 | D42: VP-06-MC-74 | E42: AUTOCLAVE | F42: SERCON | G42: HS80168 | H42: 110936 | I42: LAVADO DE AREA CLINICA | J42: CALIBRACION | K42: TEMPERATURA | L42: 3 | M42: 2, 5 Y 8°C | N42: 1 | O42: 1768000 | P42: 1700000 | Q42: 3602725 | R42: 1244264 | S42: =AVERAGE(O42:R42) -> 2078747.2
B43: 35 | D43: EQU-250 | E43: EQUIPO PURIFICADOR DE AGUA | F43: THERMO SCIENTIFIC | G43: SMART2PURE6 UV/UF | H43: 12322112003952 | I43: LAVADO DE AREA CLINICA | J43: CALIBRACION | K43: CONDUCTIVIDAD | L43: 5 | M43: 0,056, 0,5, 1(μS/cm) y 5, 10(MΩ·cm) | N43: 1 | O43: 2080000 | P43: 2000000 | Q43: 4069800 | R43: 1445850 | S43: =AVERAGE(O43:R43) -> 2398912.5
B44: 36 | D44: EQU-273 | E44: REFRIGERADOR | F44: PANASONIC | G44: MPR-721PA | H44: 12120467 | I44: MICROBIOLOGIA CLINICA | J44: CALIBRACION | K44: TEMPERATURA | L44: 3 | M44: 2, 5 Y 8°C | N44: 1 | O44: 1664000 | P44: 1600000 | Q44: 2159850 | R44: 1244264 | S44: =AVERAGE(O44:R44) -> 1667028.5
...

Sheet 2. Medicamentos
B2: ANEXO
B3: PRESUPUESTO OFICIAL
A5: 3. MEDICAMENTOS | N5: VALOR UNITARIO
B6: ITEM | C6: CODIGO INTERNO | D6: NOMBRE DE EQUIPO | E6: MARCA | F6: MODELO | G6: SERIE | H6: UBICACIÓN/AREA | I6: SERVICIO A CONTRATAR | J6: MAGNITUDES ASOCIADAS | K6: NUMERO DE PUNTOS A CALIBRAR | L6: ESPECIFICACIONES DE PUNTOS A CALIBRAR | M6: CANTIDAD UNITARIA | N6: COTIZACIÓN 1. RPM SUMINISTROS Y ASESORIAS S.A.S | O6: COTIZACIÓN 2. DICOING | P6: COTIZACIÓN 3. METROLOGICAL | Q6: COTIZACIÓN 4. CONAMET S.A.S | R6: PROMEDIO VALORES TOTALES
B9: 1 | C9: EQU-242 | D9: TERMOHIGROMETRO | E9: KEX GERMANY | F9: SH-109 | G9: NO REGISTRA | H9: BODEGA DE MEDICAMENTOS TUBERCULOSIS | I9: CALIBRACION | J9: TEMPERATURA Y HUMEDAD RELATIVA | K9: 6 | L9: 15-20-30 ° C Y 40-60-80% | M9: 1 | N9: 676200 | O9: 676200 | P9: 746130 | Q9: 820505 | R9: =AVERAGE(N9:Q9) -> 729758.75
B10: 2 | C10: EQU-262 | D10: TERMOHIGROMETRO | E10: PRO INSTRUMENTS | F10: HTC-2 | G10: NO REGISTRA | H10: BODEGA DE MEDICAMENTOS | I10: CALIBRACION | J10: TEMPERATURA Y HUMEDAD RELATIVA | K10: 6 | L10: 15-20-30 ° C Y 40-60-80% | M10: 1 | N10: 676200 | O10: 676200 | P10: 746130 | Q10: 820505 | R10: =AVERAGE(N10:Q10) -> 729758.75
B11: 3 | C11: EQU-263 | D11: TERMOHIGROMETRO | E11: PRO INSTRUMENTS | F11: HTC-2 | G11: NO REGISTRA | H11: BODEGA DE MEDICAMENTOS | I11: CALIBRACION | J11: TEMPERATURA Y HUMEDAD RELATIVA | K11: 6 | L11: 15-20-30 ° C Y 40-60-80% | M11: 1 | N11: 676200 | O11: 676200 | P11: 746130 | Q11: 820505 | R11: =AVERAGE(N11:Q11) -> 729758.75
N13: =SUM(N9:N11) -> 2028600 | O13: =SUM(O9:O11) -> 2028600 | P13: =SUM(P9:P11) -> 2238390 | Q13: =SUM(Q9:Q11) -> 2461515 | R13: =SUM(R9:R11) -> 2189276.2

Sheet 3. PAI
B2: ANEXO
B3: PRESUPUESTO OFICIAL
A4: 4. PAI
N5: VALOR UNITARIO
B6: ITEM | C6: CODIGO INTERNO | D6: NOMBRE DE EQUIPO | E6: MARCA | F6: MODELO | G6: SERIE | H6: UBICACIÓN/AREA | I6: SERVICIO A CONTRATAR | J6: MAGNITUDES ASOCIADAS | K6: NUMERO DE PUNTOS A CALIBRAR | L6: ESPECIFICACIONES DE PUNTOS A CALIBRAR | M6: CANTIDAD UNITARIA | N6: COTIZACIÓN 1. RPM SUMINISTROS Y ASESORIAS S.A.S | O6: COTIZACIÓN 2. DICOING | P6: COTIZACIÓN 3. METROLOGICAL | Q6: COTIZACIÓN 4. CONAMET S.A.S | R6: PROMEDIO VALORES TOTALES
B9: 1 | C9: EQU-206 | D9: REFRIGERADOR | E9: HAIER | F9: HBC-260 | G9: BE0G95EA500QEM8B0025 | H9: PROGRAMA AMPLIADO DE INMUNIZACION(PAI) | I9: CALIBRACION | J9: TEMPERATURA | K9: 3 | L9: 2, 5 Y 8°C | M9: 1 | N9: 1750000 | O9: 1600000 | P9: 2159850 | Q9: 2315264 | R9: =AVERAGE(N9:Q9) -> 1956278.5
B10: 2 | C10: EQU-159 | D10: ULTRACONGELADOR | E10: ACROSS INTERNATIONAL | F10: G20H | G10: BE0H1KE1T00QM1J0005 | H10: PROGRAMA AMPLIADO DE INMUNIZACION(PAI) | I10: CALIBRACION | J10: TEMPERATURA | K10: 2 | L10: -70 Y -80°C | M10: 1 | N10: =980000*1.4 -> 1372000 | O10: 1372000 | P10: 2909550 | Q10: 2315264 | R10: =AVERAGE(N10:Q10) -> 1992203.5
B11: 3 | C11: EQU-154 | D11: REFRIGERADOR | E11: VESTFROST | F11: MK 304 | G11: 20072311106 | H11: PROGRAMA AMPLIADO DE INMUNIZACION(PAI) | I11: CALIBRACION | J11: TEMPERATURA | K11: 3 | L11: 2, 5 Y 8°C | M11: 1 | N11: 1600000 | O11: 1600000 | P11: 2159850 | Q11: 2315264 | R11: =AVERAGE(N11:Q11) -> 1918778.5
B12: 4 | C12: EQU-153 | D12: REFRIGERADOR | E12: ULTRALAB | F12: ULTRALAB XX1-01-H/02 | G12: 020318HR | H12: PROGRAMA AMPLIADO DE INMUNIZACION(PAI) | I12: CALIBRACION | J12: TEMPERATURA | K12: 3 | L12: 2, 5 Y 8°C | M12: 1 | N12: 1750000 | O12: 1600000 | P12: 2159850 | Q12: 2315264 | R12: =AVERAGE(N12:Q12) -> 1956278.5
B13: 5 | C13: EQU-156 | D13: REFRIGERADOR | E13: VESTFROST | F13: VLS350A | G13: 20150766745 | H13: PROGRAMA AMPLIADO DE INMUNIZACION(PAI) | I13: CALIBRACION | J13: TEMPERATURA | K13: 3 | L13: 2, 5 Y 8°C | M13: 1 | N13: 1750000 | O13: 1600000 | P13: 2159850 | Q13: 2315264 | R13: =AVERAGE(N13:Q13) -> 1956278.5
B14: 6 | C14: EQU-155 | D14: REFRIGERADOR | E14: VESTFROST | F14: VLS350A | G14: 20150766739 | H14: PROGRAMA AMPLIADO DE INMUNIZACION(PAI) | I14: CALIBRACION | J14: TEMPERATURA | K14: 3 | L14: 2, 5 Y 8°C | M14: 1 | N14: 1750000 | O14: 1600000 | P14: 2159850 | Q14: 2315264 | R14: =AVERAGE(N14:Q14) -> 1956278.5
B15: 7 | C15: EQU-306 | D15: CUARTO FRIO | E15: ROJAS HERMANOS SA | F15: MODULAR | G15: 1300230121000329 | H15: PROGRAMA AMPLIADO DE INMUNIZACION(PAI) | I15: CALIBRACION | J15: TEMPERATURA | K15: 9 | L15: 2, 5 y 8°C(3 Controladores) | M15: 1 | N15: 1750000 | O15: 1600000 | P15: 6479550 | Q15: 3624264 | R15: =AVERAGE(N15:Q15) -> 3363453.5
B16: 8 | C16: EQU-158 | D16: CONGELADOR | E16: INDUFRIAL | F16: ICH-11 | G16: 1965735 | H16: PROGRAMA AMPLIADO DE INMUNIZACION(PAI) | I16: CALIBRACION | J16: TEMPERATURA | K16: 2 | L16: -20 Y -30 C | M16: 1 | N16: =980000*1.4 -> 1372000 | O16: 1372000 | P16: 2159850 | Q16: 2314550 | R16: =AVERAGE(N16:Q16) -> 1804600
B17: 9 | C17: EQU-307 | D17: COOLCLOUD | E17: NO IDENTIFICADO | F17: NO IDENTIFICADO | G17: NO IDENTIFICADO | H17: PROGRAMA AMPLIADO DE INMUNIZACION(PAI) | I17: CALIBRACION | J17: TEMPERATURA | K17: 4 | L17: 4°C(4 Sensores) | M17: 1 | N17: 1750000 | O17: 1600000 | P17: 2356200 | Q17: 4814264 | R17: =AVERAGE(N17:Q17) -> 2630116
B18: 10 | C18: EQU-291 | D18: TERMOMETRO DIGITAL | E18: KEX GERMANY | F18: RT-803E | G18: NO IDENTIFICADO | H18: PROGRAMA AMPLIADO DE INMUNIZACION(PAI) | I18: CALIBRACION | J18: TEMPERATURA | K18: 3 | L18: 2, 5 Y 8°C | M18: 1 | N18: =483000*1.4 -> 676200 | O18: 676200 | P18: 758625 | Q18: 2315264 | R18: =AVERAGE(N18:Q18) -> 1106572.2
B19: 11 | C19: EQU-248 | D19: TERMOMETRO DIGITAL | E19: KEX GERMANY | F19: RT-803E | G19: NO IDENTIFICADO | H19: PROGRAMA AMPLIADO DE INMUNIZACION(PAI) | I19: CALIBRACION | J19: TEMPERATURA | K19: 3 | L19: 2, 5 Y 8°C | M19: 1 | N19: =483000*1.4 -> 676200 | O19: 676200 | P19: 758625 | Q19: 2315264 | R19: =AVERAGE(N19:Q19) -> 1106572.2
B20: 12 | C20: EQU-247 | D20: TERMOMETRO DIGITAL | E20: KEX GERMANY | F20: RT-803E | G20: NO IDENTIFICADO | H20: PROGRAMA AMPLIADO DE INMUNIZACION(PAI) | I20: CALIBRACION | J20: TEMPERATURA | K20: 3 | L20: 2, 5 Y 8°C | M20: 1 | N20: =483000*1.4 -> 676200 | O20: 676200 | P20: 758625 | Q20: 2315264 | R20: =AVERAGE(N20:Q20) -> 1106572.2
B21: 13 | C21: EQU-246 | D21: TERMOMETRO DIGITAL | E21: KEX GERMANY | F21: RT-803E | G21: NO IDENTIFICADO | H21: PROGRAMA AMPLIADO DE INMUNIZACION(PAI) | I21: CALIBRACION | J21: TEMPERATURA | K21: 3 | L21: 2, 5 Y 8°C | M21: 1 | N21: =483000*1.4 -> 676200 | O21: 676200 | P21: 758625 | Q21: 2315264 | R21: =AVERAGE(N21:Q21) -> 1106572.2
B22: 14 | C22: EQU-245 | D22: TERMOMETRO DIGITAL | E22: KEX GERMANY | F22: RT-803E | G22: NO IDENTIFICADO | H22: PROGRAMA AMPLIADO DE INMUNIZACION(PAI) | I22: CALIBRACION | J22: TEMPERATURA | K22: 3 | L22: 2, 5 Y 8°C | M22: 1 | N22: =483000*1.4 -> 676200 | O22: 676200 | P22: 758625 | Q22: 2315264 | R22: =AVERAGE(N22:Q22) -> 1106572.2
B23: 15 | C23: EQU-351 | D23: TERMOHIGROMETRO | E23: KEX GERMANY | F23: SH-109 | G23: NO IDENTIFICADO | H23: PROGRAMA AMPLIADO DE INMUNIZACION(PAI) | I23: CALIBRACION | J23: TEMPERATURA | K23: 6 | L23: 15, 20, 30°C / 40, 60, 80% HR | M23: 1 | N23: =483000*1.4 -> 676200 | O23: 676200 | P23: 746130 | Q23: 2315264 | R23: =AVERAGE(N23:Q23) -> 1103448.5
N25: =SUM(N9:N23) -> 18901200 | O25: =SUM(O9:O23) -> 18001200 | P25: =SUM(P9:P23) -> 29243655 | Q25: =SUM(Q9:Q23) -> 38536246 | R25: =SUM(R9:R23) -> 26170575

Sheet 4. Salud Ambiental
B2: ANEXO
B3: PRESUPUESTO OFICIAL
A5: 5. SALUD AMBIENTAL | N5: VALOR UNITARIO
B6: ITEM | C6: CODIGO INTERNO | D6: NOMBRE DE EQUIPO | E6: MARCA | F6: MODELO | G6: SERIE | H6: UBICACIÓN/AREA | I6: SERVICIO A CONTRATAR | J6: MAGNITUDES ASOCIADAS | K6: NUMERO DE PUNTOS A CALIBRAR | L6: ESPECIFICACIONES DE PUNTOS A CALIBRAR | M6: CANTIDAD UNITARIA | N6: COTIZACIÓN 1. RPM SUMINISTROS Y ASESORIAS S.A.S | O6: COTIZACIÓN 2. DICOING | P6: COTIZACIÓN 3. METROLOGICAL | Q6: COTIZACIÓN 4. CONAMET S.A.S | R6: PROMEDIO VALORES TOTALES
B9: 1 | C9: EQU-269 | D9: MEDIDOR DE CLORO | E9: HANNA | F9: HI97710 | G9: 904350032111 | H9: AREA TECNICA SALUD AMBIENTAL | I9: CALIBRACION | J9: CANTIDAD DE SUSTANCIA | K9: 3 | L9: 0,20, 1 Y 2 (mg/L) | M9: 1 | N9: 1800000 | O9: 1500000 | P9: 4120375 | Q9: 3808000 | R9: =AVERAGE(N9:Q9) -> 2807093.8
B10: 2 | C10: EQU-268 | D10: MEDIDOR DE CLORO | E10: HANNA | F10: HI97710 | G10: 9043500331111 | H10: AREA TECNICA SALUD AMBIENTAL | I10: CALIBRACION | J10: CANTIDAD DE SUSTANCIA | K10: 3 | L10: 0,20, 1 Y 2 (mg/L) | M10: 1 | N10: 1800000 | O10: 1500000 | P10: 4120375 | Q10: 3808000 | R10: =AVERAGE(N10:Q10) -> 2807093.8
B11: 3 | C11: EQU-293 | D11: MEDIDOR DE CLORO | E11: HANNA | F11: HI97710 | G11: 9024200311111 | H11: AREA TECNICA SALUD AMBIENTAL | I11: CALIBRACION | J11: CANTIDAD DE SUSTANCIA | K11: 3 | L11: 0,20, 1 Y 2 (mg/L) | M11: 1 | N11: 1800000 | O11: 1500000 | P11: 4120375 | Q11: 3808000 | R11: =AVERAGE(N11:Q11) -> 2807093.8
B12: 4 | C12: EQU-297 | D12: TERMOMETRO INFRARROJO | E12: ETEKCITY | F12: LASERGRIP 1080 | G12: 211220416 | H12: AREA TECNICA SALUD AMBIENTAL | I12: CALIBRACION | J12: TEMPERATURA | K12: 3 | L12: (-15), 20, 60°C | M12: 1 | N12: =642000*1.4 -> 898800 | O12: 898800 | P12: 749700 | Q12: 768383 | R12: =AVERAGE(N12:Q12) -> 828920.75
B13: 5 | C13: EQU-298 | D13: TERMOMETRO INFRARROJO | E13: ETEKCITY | F13: LASERGRIP 1080 | G13: 211221501 | H13: AREA TECNICA SALUD AMBIENTAL | I13: CALIBRACION | J13: TEMPERATURA | K13: 3 | L13: (-15), 20, 60°C | M13: 1 | N13: =642000*1.4 -> 898800 | O13: 898800 | P13: 749700 | Q13: 768383 | R13: =AVERAGE(N13:Q13) -> 828920.75
B14: 6 | C14: EQU-308 | D14: COLORIMETRO COLOR DE AGUA | E14: HANNA | F14: HI 727 | G14: 9380020321 | H14: AREA TECNICA SALUD AMBIENTAL | I14: CALIBRACION | J14: CANTIDAD DE SUSTANCIA | K14: 3 | L14: 0, 10, 20 (PCU) | M14: 1 | N14: 1800000 | O14: 1500000 | P14: 2454375 | Q14: 1746920 | R14: =AVERAGE(N14:Q14) -> 1875323.8
B15: 7 | C15: EQU-309 | D15: COLORIMETRO COLOR DE AGUA | E15: HANNA | F15: HI 727 | G15: 9430079321 | H15: AREA TECNICA SALUD AMBIENTAL | I15: CALIBRACION | J15: CANTIDAD DE SUSTANCIA | K15: 3 | L15: 0, 10, 20 (PCU) | M15: 1 | N15: 1800000 | O15: 1500000 | P15: 2454375 | Q15: 1746920 | R15: =AVERAGE(N15:Q15) -> 1875323.8
B16: 8 | C16: EQU-312 | D16: TERMOMETRO DE INMERSION | E16: HANNA | F16: HI 985394 | G16: 316151 | H16: AREA TECNICA SALUD AMBIENTAL | I16: CALIBRACION | J16: TEMPERATURA | K16: 3 | L16: (-20),15, 40°C | M16: 1 | N16: =642000*1.4 -> 898800 | O16: 898800 | P16: 758625 | Q16: 768383 | R16: =AVERAGE(N16:Q16) -> 831152
B17: 9 | C17: EQU-313 | D17: TERMOMETRO DE INMERSION | E17: HANNA | F17: HI 985394 | G17: 486074 | H17: AREA TECNICA SALUD AMBIENTAL | I17: CALIBRACION | J17: TEMPERATURA | K17: 3 | L17: (-20),15, 40°C | M17: 1 | N17: =642000*1.4 -> 898800 | O17: 898800 | P17: 758625 | Q17: 768383 | R17: =AVERAGE(N17:Q17) -> 831152
B18: 10 | C18: EQU-314 | D18: TESTER DE TEMPERATURA | E18: HANNA | F18: HI98311 | G18: 9380269111 | H18: AREA TECNICA SALUD AMBIENTAL | I18: CALIBRACION | J18: TEMPERATURA | K18: 3 | L18: 100, 1000, 1413 (µs/cm) | M18: 1 | N18: =642000*1.4 -> 898800 | O18: 898800 | P18: 1695750 | Q18: 1445850 | R18: =AVERAGE(N18:Q18) -> 1234800
B19: 11 | C19: EQU-315 | D19: TESTER DE TEMPERATURA | E19: HANNA | F19: HI98311 | G19: 9380266111 | H19: AREA TECNICA SALUD AMBIENTAL | I19: CALIBRACION | J19: TEMPERATURA | K19: 3 | L19: 100, 1000, 1413 (µs/cm) | M19: 1 | N19: =642000*1.4 -> 898800 | O19: 898800 | P19: 1695750 | Q19: 1445850 | R19: =AVERAGE(N19:Q19) -> 1234800
B20: 12 | C20: EQU-317 | D20: TURBIDIMETRO PORTATIL | E20: HANNA | F20: HI 98703 | G20: 9440005111 | H20: AREA TECNICA SALUD AMBIENTAL | I20: CALIBRACION | J20: CANTIDAD DE SUSTANCIA | K20: 3 | L20: 0, 15, 100 (NTU) | M20: 1 | N20: 2000000 | O20: 2000000 | P20: 2781625 | Q20: 1639820 | R20: =AVERAGE(N20:Q20) -> 2105361.2
B21: 13 | C21: EQU-318 | D21: TURBIDIMETRO PORTATIL | E21: HANNA | F21: HI 98703 | G21: 9440023111 | H21: AREA TECNICA SALUD AMBIENTAL | I21: CALIBRACION | J21: CANTIDAD DE SUSTANCIA | K21: 3 | L21: 0, 15, 100 (NTU) | M21: 1 | N21: 2000000 | O21: 2000000 | P21: 2781625 | Q21: 1639820 | R21: =AVERAGE(N21:Q21) -> 2105361.2
B22: 14 | C22: EQU-319 | D22: TURBIDIMETRO PORTATIL | E22: HANNA | F22: HI 98703 | G22: 9440002111 | H22: AREA TECNICA SALUD AMBIENTAL | I22: CALIBRACION | J22: CANTIDAD DE SUSTANCIA | K22: 3 | L22: 0, 15, 100 (NTU) | M22: 1 | N22: 2000000 | O22: 2000000 | P22: 2781625 | Q22: 1639820 | R22: =AVERAGE(N22:Q22) -> 2105361.2
B23: 15 | C23: EQU-324 | D23: TERMOMETRO DIGITAL | E23: ALLA FRANCE | F23: DIGITAL | G23: NO IDENTIFICADO | H23: AREA TECNICA SALUD AMBIENTAL | I23: CALIBRACION | J23: TEMPERATURA | K23: 3 | L23: -25, 10 Y 40°C | M23: 1 | N23: =483000*1.4 -> 676200 | O23: 676200 | P23: 758625 | Q23: 768383 | R23: =AVERAGE(N23:Q23) -> 719852
B24: 16 | C24: EQU-325 | D24: TERMOMETRO DIGITAL | E24: ALLA FRANCE | F24: DIGITAL | G24: NO IDENTIFICADO | H24: AREA TECNICA SALUD AMBIENTAL | I24: CALIBRACION | J24: TEMPERATURA | K24: 3 | L24: -25, 10 Y 40°C | M24: 1 | N24: =483000*1.4 -> 676200 | O24: 676200 | P24: 758625 | Q24: 768383 | R24: =AVERAGE(N24:Q24) -> 719852
N26: =SUM(N9:N24) -> 21745200 | O26: =SUM(O9:O24) -> 20245200 | P26: =SUM(P9:P24) -> 33540150 | Q26: =SUM(Q9:Q24) -> 27339298 | R26: =SUM(R9:R24) -> 25717462
