Workbook

Sheet Resumen
A1: ANEXO. CUADRO RESUMEN PRESUPUESTO OFICIAL - CALIBRACIÓN 2026
C3: COTIZACIÓN 1. RPM SUMINISTROS Y ASESORIAS S.A.S | D3: COTIZACIÓN 2. DICOING | E3: COTIZACIÓN 3. METROLOGICAL | F3: COTIZACIÓN 4. CONAMET S.A.S | H3: PROMEDIO VALORES UNITARIOS TOTALES
A4: 1 | B4: LDSP | C4: =+'1. LDSP'!O149 -> 170613248 | D4: =+'1. LDSP'!P149 -> 163761400 | E4: =+'1. LDSP'!Q149 -> 256496170 | F4: =+'1. LDSP'!R149 -> 155176357 | H4: =+'1. LDSP'!S149 -> 1.8651179e+08
A5: 2 | B5: Medicamentos | C5: =+'2. Medicamentos'!N13 -> 2028600 | D5: =+'2. Medicamentos'!O13 -> 2028600 | E5: =+'2. Medicamentos'!P13 -> 2238390 | F5: =+'2. Medicamentos'!Q13 -> 2461515 | H5: =+'2. Medicamentos'!R13 -> 2189276.2
A6: 3 | B6: PAI | C6: =+'3. PAI'!N25 -> 18901200 | D6: =+'3. PAI'!O25 -> 18001200 | E6: =+'3. PAI'!P25 -> 29243655 | F6: =+'3. PAI'!Q25 -> 38536246 | H6: =+'3. PAI'!R25 -> 26170575
A7: 4 | B7: Salud Ambiental | C7: =+'4. Salud Ambiental'!N26 -> 21745200 | D7: =+'4. Salud Ambiental'!O26 -> 20245200 | E7: =+'4. Salud Ambiental'!P26 -> 33540150 | F7: =+'4. Salud Ambiental'!Q26 -> 27339298 | H7: =+'4. Salud Ambiental'!R26 -> 25717462
B9: VALOR TOTAL | C9: =SUM(C4:C7) -> 213288248 | D9: =SUM(D4:D7) -> 204036400 | E9: =SUM(E4:E7) -> 321518365 | F9: =SUM(F4:F7) -> 223513416 | H9: =SUM(H4:H8) -> 2.4058911e+08

Sheet 1. LDSP
B2: ANEXO
B3: PRESUPUESTO OFICIAL
B5: 2. LDSP | O5: VALOR UNITARIO
B6: ITEM | D6: CODIGO INTERNO | E6: NOMBRE DE EQUIPO | F6: MARCA | G6: MODELO | H6: SERIE | I6: UBICACIÓN/AREA | J6: SERVICIO A CONTRATAR | K6: MAGNITUDES ASOCIADAS | L6: NUMERO DE PUNTOS A CALIBRAR | M6: ESPECIFICACIONES DE PUNTOS A CALIBRAR | N6: CANTIDAD UNITARIA | O6: COTIZACIÓN 1. RPM SUMINISTROS Y ASESORIAS S.A.S | P6: COTIZACIÓN 2. DICOING | Q6: COTIZACIÓN 3. METROLOGICAL | R6: COTIZACIÓN 4. CONAMET S.A.S | S6: PROMEDIO VALORES TOTALES
B9: 1 | D9: VC-00-FQ-106 | E9: COLORIMETRO | F9: ORBECO HELLIGE | G9: 711 | H9: 13678 | I9: FISICOQUIMICO | J9: CALIBRACION | K9: CANTIDAD DE SUSTANCIA | L9: 3 | M9: 0,1, 0,5 y 1,0 ABS | N9: 1 | O9: 2080000 | P9: 2000000 | Q9: 2454375 | R9: 1694084 | S9: =AVERAGE(O9:R9) -> 2057114.8
B10: 2 | D10: VC-00-FQ-55 | E10: BURETA DIGITAL | F10: BRAND | G10: EASY CALIBRATION | H10: 09F77521 | I10: FISICOQUIMICO | J10: CALIBRACION | K10: VOLUMEN | L10: 3 | M10: 1, 12.5 Y 25 | N10: 1 | O10: 757120 | P10: 728000 | Q10: 610470 | R10: 546091 | S10: =AVERAGE(O10:R10) -> 660420.25
B11: 3 | D11: VC-00-FQ-104 | E11: REFRACTOMETRO | F11: ATAGO | G11: DR-A1 | H11: 104637 | I11: FISICOQUIMICO | J11: CALIBRACION | K11: CANTIDAD DE SUSTANCIA | L11: 3 | M11: 5°, 10° y 20° | N11: 1 | O11: 2184000 | P11: 2100000 | Q11: 2748900 | R11: 2364530 | S11: =AVERAGE(O11:R11) -> 2349357.5
B12: 4 | D12: VC-00-FQ-51 | E12: PLANCHA DE CALENTAMIENTO | F12: FISCHER SCIENTIFIC | G12: ISOTEMP | H12: 1884080943442 | I12: FISICOQUIMICO | J12: CALIBRACION | K12: TEMPERATURA | L12: 3 | M12: 37, 100 y 150°C | N12: 1 | O12: 1697696 | P12: 1632400 | Q12: 2231250 | R12: 1244264 | S12: =AVERAGE(O12:R12) -> 1701402.5
B13: 5 | D13: VC-00-FQ-102 | E13: REFRIGERADOR | F13: SANYO | G13: MPR - 721 | H13: 10100272 | I13: FISICOQUIMICO | J13: CALIBRACION | K13: TEMPERATURA | L13: 3 | M13: 2, 5 Y 8°C | N13: 1 | O13: 1664000 | P13: 1600000 | Q13: 2159850 | R13: 1244264 | S13: =AVERAGE(O13:R13) -> 1667028.5
B14: 6 | D14: VC-00-FQ-94 | E14: BALANZA VIBRA | F14: VIBRA | G14: SJ-620E | H14: 09370006 | I14: FISICOQUIMICO | J14: CALIBRACION | K14: MASA | L14: 12 | M14: 0, 0,2, 50, 120, 150, 250, 300, 400, 450, 500, 600, 620(g) | N14: 1 | O14: 1062880 | P14: 1022000 | Q14: 1374450 | R14: 1244264 | S14: =AVERAGE(O14:R14) -> 1175898.5
B15: 7 | D15: VC-00-FQ-62 | E15: CENTRIFUGA | F15: BECTOM DICKINSON | G15: DYNAC | H15: 3180043 | I15: FISICOQUIMICO | J15: CALIBRACION | K15: TIEMPO Y FRECUENCIA | L15: 3 | M15: bajo, medio alto | N15: 1 | O15: 1019200 | P15: 980000 | Q15: 3534300 | R15: 2196621 | S15: =AVERAGE(O15:R15) -> 1932530.2
B16: 8 | D16: VC-00-FQ-111 | E16: MICROPIPETA | F16: BRAND | G16: TRANSFERPETTE 100-1000UL | H16: 08G04612 | I16: FISICOQUIMICO | J16: CALIBRACION | K16: VOLUMEN | L16: 3 | M16: Rango minimo, medio y maximo | N16: 1 | O16: 707616 | P16: 680400 | Q16: 571200 | R16: 546091 | S16: =AVERAGE(O16:R16) -> 626326.75
B17: 9 | D17: VC-00-FQ-117 | E17: MICROPIPETA | F17: BRAND | G17: TRANSFERPETTE 100-1000UL | H17: 10B8400 | I17: FISICOQUIMICO | J17: CALIBRACION | K17: VOLUMEN | L17: 3 | M17: Rango minimo, medio y maximo | N17: 1 | O17: 707616 | P17: 680400 | Q17: 571200 | R17: 546091 | S17: =AVERAGE(O17:R17) -> 626326.75
B18: 10 | D18: VC-00-FQ-114 | E18: MICROPIPETA | F18: BRAND | G18: TRANSFERPETTE 1-10ML | H18: 61D7214 | I18: FISICOQUIMICO | J18: CALIBRACION | K18: VOLUMEN | L18: 3 | M18: Rango minimo, medio y maximo | N18: 1 | O18: 707616 | P18: 680400 | Q18: 571200 | R18: 546091 | S18: =AVERAGE(O18:R18) -> 626326.75
B19: 11 | D19: VC-00-FQ-112 | E19: MICROPIPETA | F19: BRAND | G19: TRANSFERPETTE 10-100UL | H19: 04H02003 | I19: FISICOQUIMICO | J19: CALIBRACION | K19: VOLUMEN | L19: 3 | M19: Rango minimo, medio y maximo | N19: 1 | O19: 707616 | P19: 680400 | Q19: 571200 | R19: 546091 | S19: =AVERAGE(O19:R19) -> 626326.75
B20: 12 | D20: VC-00-FQ-96 | E20: MICROPIPETA | F20: BRAND | G20: TRANSFERPETTE | H20: 09D1592 | I20: FISICOQUIMICO | J20: CALIBRACION | K20: VOLUMEN | L20: 3 | M20: Rango minimo, medio y maximo | N20: 1 | O20: 707616 | P20: 680400 | Q20: 571200 | R20: 546091 | S20: =AVERAGE(O20:R20) -> 626326.75
B21: 13 | D21: VC-00-FQ-113 | E21: MICROPIPETA | F21: BRAND | G21: TRANSFERPETTE | H21: 04H02013 | I21: FISICOQUIMICO | J21: CALIBRACION | K21: VOLUMEN | L21: 3 | M21: Rango minimo, medio y maximo | N21: 1 | O21: 707616 | P21: 680400 | Q21: 571200 | R21: 546091 | S21: =AVERAGE(O21:R21) -> 626326.75
B22: 14 | D22: VC-00-FQ-124 | E22: MICROPIPETA | F22: BRAND | G22: TRANSFERPETTE | H22: 06J07231 | I22: FISICOQUIMICO | J22: CALIBRACION | K22: VOLUMEN | L22: 3 | M22: Rango minimo, medio y maximo | N22: 1 | O22: 707616 | P22: 680400 | Q22: 571200 | R22: 546091 | S22: =AVERAGE(O22:R22) -> 626326.75
B23: 15 | D23: EQU-14 | E23: REFRIGERADOR | F23: HAIER | G23: HYC-610 | H23: BE06PAE0U00QGG380005 | I23: MICROBIOLOGIA DE ALIMENTOS | J23: CALIBRACION | K23: TEMPERATURA | L23: 3 | M23: 2, 5 Y 8°C | N23: 1 | O23: 1664000 | P23: 1600000 | Q23: 2159850 | R23: 1244264 | S23: =AVERAGE(O23:R23) -> 1667028.5
B24: 16 | D24: VC-03-MO-31 | E24: INCUBADORA 22± 2°C | F24: BINDER | G24: BD 115 UL | H24: 16202 | I24: MICROBIOLOGIA DE ALIMENTOS | J24: CALIBRACION | K24: TEMPERATURA | L24: 1 | M24: 22°C | N24: 1 | O24: 1664000 | P24: 1600000 | Q24: 2103325 | R24: 1244264 | S24: =AVERAGE(O24:R24) -> 1652897.2
B25: 17 | D25: VC-03-MO-32 | E25: INCUBADORA | F25: LAB LINE | G25: IMPERIAL III 305 | H25: 1465071077566 | I25: MICROBIOLOGIA DE ALIMENTOS | J25: CALIBRACION | K25: TEMPERATURA | L25: 3 | M25: 41,5, 44 y 47°C | N25: 1 | O25: 1664000 | P25: 1600000 | Q25: 4712400 | R25: 1504160 | S25: =AVERAGE(O25:R25) -> 2370140
B26: 18 | D26: VC-03-MO-46 | E26: BALANZA DE PRECISION | F26: PIONER | G26: OHAUS | H26: 8329331545 | I26: MICROBIOLOGIA DE ALIMENTOS | J26: CALIBRACION | K26: MASA | L26: 12 | M26: 0, 0,2, 200, 500, 1000, 1200, 1500, 1700, 2000, 2500, 3000, 3100(g) | N26: 1 | O26: 1062880 | P26: 1022000 | Q26: 1374450 | R26: 1244264 | S26: =AVERAGE(O26:R26) -> 1175898.5
B27: 19 | D27: VP-010-BM-38 | E27: MICROPIPETA | F27: BRAND | G27: TRANSFERPETTE | H27: 07D2179 | I27: MICROBIOLOGIA DE ALIMENTOS | J27: CALIBRACION | K27: VOLUMEN | L27: 3 | M27: Rango minimo, medio y maximo | N27: 1 | O27: 707616 | P27: 680400 | Q27: 571200 | R27: 546091 | S27: =AVERAGE(O27:R27) -> 626326.75
B28: 20 | D28: EQU-130 | E28: MICROPIPETA | F28: BRAND | G28: TRANSFERPETTE | H28: 02Y5590 | I28: MICROBIOLOGIA DE ALIMENTOS | J28: CALIBRACION | K28: VOLUMEN | L28: 3 | M28: Rango minimo, medio y maximo | N28: 1 | O28: 707616 | P28: 680400 | Q28: 571200 | R28: 546091 | S28: =AVERAGE(O28:R28) -> 626326.75
B29: 21 | D29: VC-00-FQ-41 | E29: HORNO DE SECADO | F29: BINDER | G29: SD | H29: 05-87401 | I29: LAVADO DE FISICOQUIMICO | J29: CALIBRACION | K29: TEMPERATURA | L29: 1 | M29: -60°C | N29: 1 | O29: 1560000 | P29: 1500000 | Q29: 1335180 | R29: 1601383 | S29: =AVERAGE(O29:R29) -> 1499140.8
B30: 22 | D30: VP-09-MCR-51 | E30: ULTRACONGELADOR | F30: SANYO | G30: MDF-U538650 | H30: 60812873 | I30: CUARTO DE REFRIGERACION | J30: CALIBRACION | K30: TEMPERATURA | L30: 2 | M30: -70 Y -80°C | N30: 1 | O30: 2210208 | P30: 2125200 | Q30: 2909550 | R30: 1663620 | S30: =AVERAGE(O30:R30) -> 2227144.5
B31: 23 | D31: EQU-170 | E31: ULTRACONGELADOR | F31: HAIER | G31: DW-86L728J | H31: BE0GYPE1T00QGM130005 | I31: CUARTO DE REFRIGERACION | J31: CALIBRACION | K31: TEMPERATURA | L31: 2 | M31: -70 Y -80°C | N31: 1 | O31: 2210208 | P31: 2125200 | Q31: 2909550 | R31: 1663620 | S31: =AVERAGE(O31:R31) -> 2227144.5
B32: 24 | D32: VP-05-LCV-05 | E32: INCUBADORA | F32: BINDER | G32: BD | H32: 90100067 | I32: VIROLOGIA | J32: CALIBRACION | K32: TEMPERATURA | L32: 1 | M32: 37°C | N32: 1 | O32: 1664000 | P32: 1600000 | Q32: 2103325 | R32: 1244264 | S32: =AVERAGE(O32:R32) -> 1652897.2
B33: 25 | D33: EQU-132 | E33: MICROPIPETA | F33: ABM | G33: H100 | H33: 19013988 | I33: VIROLOGIA | J33: CALIBRACION | K33: VOLUMEN | L33: 3 | M33: Rango minimo, medio y maximo | N33: 1 | O33: 707616 | P33: 680400 | Q33: 571200 | R33: 546091 | S33: =AVERAGE(O33:R33) -> 626326.75
B34: 26 | D34: EQU-205 | E34: MICROPIPETA | F34: THERMO SCIENTIFIC | G34: FINNPIPETTE | H34: RU10211 | I34: VIROLOGIA | J34: CALIBRACION | K34: VOLUMEN | L34: 3 | M34: Rango minimo, medio y maximo | N34: 1 | O34: 707616 | P34: 680400 | Q34: 571200 | R34: 546091 | S34: =AVERAGE(O34:R34) -> 626326.75
B35: 27 | D35: EQU-271 | E35: MICROPIPETA | F35: BRAND | G35: TRANSFERPETTE | H35: 02F85081 | I35: VIROLOGIA | J35: CALIBRACION | K35: VOLUMEN | L35: 3 | M35: Rango minimo, medio y maximo | N35: 1 | O35: 707616 | P35: 680400 | Q35: 571200 | R35: 546091 | S35: =AVERAGE(O35:R35) -> 626326.75
B36: 28 | D36: VP-05-LCV-36 | E36: MICROPIPETA | F36: BRAND | G36: TRANSFERPETTE | H36: 09D3116 | I36: VIROLOGIA | J36: CALIBRACION | K36: VOLUMEN | L36: 3 | M36: Rango minimo, medio y maximo | N36: 1 | O36: 707616 | P36: 680400 | Q36: 571200 | R36: 546091 | S36: =AVERAGE(O36:R36) -> 626326.75
B37: 29 | D37: EQU-48 | E37: MICROPIPETA | F37: BRAND | G37: TRANSFERPETTE | H37: 16J36018 | I37: VIROLOGIA | J37: CALIBRACION | K37: VOLUMEN | L37: 3 | M37: Rango minimo, medio y maximo | N37: 1 | O37: 707616 | P37: 680400 | Q37: 571200 | R37: 546091 | S37: =AVERAGE(O37:R37) -> 626326.75
B38: 30 | D38: GA004779 | E38: MICROPIPETA | F38: KACIL | G38: NO REGISTRA | H38: 121268 | I38: VIROLOGIA | J38: CALIBRACION | K38: VOLUMEN | L38: 3 | M38: Rango minimo, medio y maximo | N38: 1 | O38: 707616 | P38: 680400 | Q38: 571200 | R38: 546091 | S38: =AVERAGE(O38:R38) -> 626326.75
B39: 31 | D39: VP-08-LZP-10 | E39: MICROPIPETA MULTICANAL | F39: BRAND | G39: TRANSFERPETTE 8´ | H39: 07R2058 | I39: VIROLOGIA | J39: CALIBRACION | K39: VOLUMEN | L39: 3 | M39: Rango minimo, medio y maximo | N39: 1 | O39: 707616 | P39: 680400 | Q39: 571200 | R39: 4508910 | S39: =AVERAGE(O39:R39) -> 1617031.5
B40: 32 | D40: VP-09-MCR-67 | E40: REFRIGERADOR | F40: PANASONIC | G40: MPR-721-PA | H40: 12120466 | I40: MICROBIOLOGIA DE AGUAS | J40: CALIBRACION | K40: TEMPERATURA | L40: 3 | M40: 2, 5 Y 8°C | N40: 1 | O40: 1664000 | P40: 1600000 | Q40: 2159850 | R40: 1244264 | S40: =AVERAGE(O40:R40) -> 1667028.5
B41: 33 | D41: EQU-34 | E41: REFRIGERADOR | F41: HAIER | G41: HYC-68A | H41: BE07T0E0N00QEG950023 | I41: COLERA | J41: CALIBRACION | K41: TEMPERATURA | L41: 3 | M41: 2, 5 Y 8°C | N41: 1 | O41: 1664000 | P41: 1600000 | Q41: 2159850 | R41: 1244264 | S41: =AVERAGE(O41:R41) -> 1667028.5
B42: 34 | D42: VP-06-MC-74 | E42: AUTOCLAVE | F42: SERCON | G42: HS80168 | H42: 110936 | I42: LAVADO DE AREA CLINICA | J42: CALIBRACION | K42: TEMPERATURA | L42: 3 | M42: 2, 5 Y 8°C | N42: 1 | O42: 1768000 | P42: 1700000 | Q42: 3602725 | R42: 1244264 | S42: =AVERAGE(O42:R42) -> 2078747.2
B43: 35 | D43: EQU-250 | E43: EQUIPO PURIFICADOR DE AGUA | F43: THERMO SCIENTIFIC | G43: SMART2PURE6 UV/UF | H43: 12322112003952 | I43: LAVADO DE AREA CLINICA | J43: CALIBRACION | K43: CONDUCTIVIDAD | L43: 5 | M43: 0,056, 0,5, 1(μS/cm) y 5, 10(MΩ·cm) | N43: 1 | O43: 2080000 | P43: 2000000 | Q43: 4069800 | R43: 1445850 | S43: =AVERAGE(O43:R43) -> 2398912.5
B44: 36 | D44: EQU-273 | E44: REFRIGERADOR | F44: PANASONIC | G44: MPR-721PA | H44: 12120467 | I44: MICROBIOLOGIA CLINICA | J44: CALIBRACION | K44: TEMPERATURA | L44: 3 | M44: 2, 5 Y 8°C | N44: 1 | O44: 1664000 | P44: 1600000 | Q44: 2159850 | R44: 1244264 | S44: =AVERAGE(O44:R44) -> 1667028.5
B45: 37 | D45: EQU-35 | E45: REFRIGERADOR | F45: HAIER | G45: HYC-68A | H45: QEG950025 | I45: MICROBIOLOGIA CLINICA | J45: CALIBRACION | K45: TEMPERATURA | L45: 3 | M45: 2, 5 Y 8°C | N45: 1 | O45: 1664000 | P45: 1600000 | Q45: 2159850 | R45: 1244264 | S45: =AVERAGE(O45:R45) -> 1667028.5
B46: 38 | D46: EQU-190 | E46: REFRIGERADOR | F46: HAIER | G46: HYC-390 | H46: BE07C3EAQ00QJM3H0018 | I46: MICROBIOLOGIA CLINICA | J46: CALIBRACION | K46: TEMPERATURA | L46: 3 | M46: 2, 5 Y 8°C | N46: 1 | O46: 1664000 | P46: 1600000 | Q46: 2159850 | R46: 1244264 | S46: =AVERAGE(O46:R46) -> 1667028.5
B47: 39 | D47: VP-05-LCV-29 | E47: MICROPIPETA | F47: BRAND | G47: TRANSFERPETTE | H47: 01A0852 | I47: MICROBIOLOGIA CLINICA | J47: CALIBRACION | K47: VOLUMEN | L47: 3 | M47: Rango minimo, medio y maximo | N47: 1 | O47: 707616 | P47: 680400 | Q47: 571200 | R47: 546091 | S47: =AVERAGE(O47:R47) -> 626326.75
B48: 40 | D48: EQU-46 | E48: MICROPIPETA | F48: BRAND | G48: TRANSFERPETTE 0,5-10 | H48: 16M90328 | I48: MICROBIOLOGIA CLINICA | J48: CALIBRACION | K48: VOLUMEN | L48: 3 | M48: Rango minimo, medio y maximo | N48: 1 | O48: 707616 | P48: 680400 | Q48: 571200 | R48: 546091 | S48: =AVERAGE(O48:R48) -> 626326.75
B49: 41 | D49: EQU-203 | E49: MICROPIPETA 100-1000 | F49: THERMO SCIENTIFIC | G49: FINNPIPETTE | H49: RU20864 | I49: MICROBIOLOGIA CLINICA | J49: CALIBRACION | K49: VOLUMEN | L49: 3 | M49: Rango minimo, medio y maximo | N49: 1 | O49: 707616 | P49: 680400 | Q49: 571200 | R49: 546091 | S49: =AVERAGE(O49:R49) -> 626326.75
B50: 42 | D50: EQU-219 | E50: MICROPIPETA | F50: THERMO SCIENTIFIC | G50: FINNPIPETTE 1-10 | H50: RU00833 | I50: BIOLOGIA MOLECULAR DE VIROLOGIA | J50: CALIBRACION | K50: VOLUMEN | L50: 3 | M50: Rango minimo, medio y maximo | N50: 1 | O50: 707616 | P50: 680400 | Q50: 571200 | R50: 546091 | S50: =AVERAGE(O50:R50) -> 626326.75
B51: 43 | D51: EQU-212 | E51: MICROPIPETA | F51: THERMO SCIENTIFIC | G51: FINNPIPETTE 1-10 | H51: RU00828 | I51: BIOLOGIA MOLECULAR DE VIROLOGIA | J51: CALIBRACION | K51: VOLUMEN | L51: 3 | M51: Rango minimo, medio y maximo | N51: 1 | O51: 707616 | P51: 680400 | Q51: 571200 | R51: 546091 | S51: =AVERAGE(O51:R51) -> 626326.75
B52: 44 | D52: EQU-220 | E52: MICROPIPETA | F52: THERMO SCIENTIFIC | G52: FINNPIPETTE 10-100 | H52: RU00794 | I52: BIOLOGIA MOLECULAR DE VIROLOGIA | J52: CALIBRACION | K52: VOLUMEN | L52: 3 | M52: Rango minimo, medio y maximo | N52: 1 | O52: 707616 | P52: 680400 | Q52: 571200 | R52: 546091 | S52: =AVERAGE(O52:R52) -> 626326.75
B53: 45 | D53: EQU-134 | E53: MICROPIPETA | F53: THERMO SCIENTIFIC | G53: FINNPIPETTE 10-100 | H53: RU00799 | I53: BIOLOGIA MOLECULAR DE VIROLOGIA | J53: CALIBRACION | K53: VOLUMEN | L53: 3 | M53: Rango minimo, medio y maximo | N53: 1 | O53: 707616 | P53: 680400 | Q53: 571200 | R53: 546091 | S53: =AVERAGE(O53:R53) -> 626326.75
B54: 46 | D54: EQU-135 | E54: MICROPIPETA | F54: THERMO SCIENTIFIC | G54: FINNPIPETTE 10-100 | H54: RU00811 | I54: BIOLOGIA MOLECULAR DE VIROLOGIA | J54: CALIBRACION | K54: VOLUMEN | L54: 3 | M54: Rango minimo, medio y maximo | N54: 1 | O54: 707616 | P54: 680400 | Q54: 571200 | R54: 546091 | S54: =AVERAGE(O54:R54) -> 626326.75
B55: 47 | D55: EQU-136 | E55: MICROPIPETA | F55: THERMO SCIENTIFIC | G55: FINNPIPETTE 1-10 | H55: MU06238 | I55: BIOLOGIA MOLECULAR DE VIROLOGIA | J55: CALIBRACION | K55: VOLUMEN | L55: 3 | M55: Rango minimo, medio y maximo | N55: 1 | O55: 707616 | P55: 680400 | Q55: 571200 | R55: 546091 | S55: =AVERAGE(O55:R55) -> 626326.75
B56: 48 | D56: EQU-213 | E56: MICROPIPETA | F56: BRAND | G56: 10-100 | H56: 16F95080 | I56: BIOLOGIA MOLECULAR DE VIROLOGIA | J56: CALIBRACION | K56: VOLUMEN | L56: 3 | M56: Rango minimo, medio y maximo | N56: 1 | O56: 707616 | P56: 680400 | Q56: 571200 | R56: 546091 | S56: =AVERAGE(O56:R56) -> 626326.75
B57: 49 | D57: EQU-42 | E57: MICROPIPETA MULTICANAL | F57: BRAND | G57: 10-100 | H57: 16F95081 | I57: BIOLOGIA MOLECULAR DE VIROLOGIA | J57: CALIBRACION | K57: VOLUMEN | L57: 3 | M57: Rango minimo, medio y maximo | N57: 1 | O57: 707616 | P57: 680400 | Q57: 571200 | R57: 4508910 | S57: =AVERAGE(O57:R57) -> 1617031.5
B58: 50 | D58: EQU-215 | E58: MICROPIPETA | F58: THERMO SCIENTIFIC | G58: FINNPIPETTE 10-100 | H58: RU03786 | I58: BIOLOGIA MOLECULAR DE VIROLOGIA | J58: CALIBRACION | K58: VOLUMEN | L58: 3 | M58: Rango minimo, medio y maximo | N58: 1 | O58: 707616 | P58: 680400 | Q58: 571200 | R58: 546091 | S58: =AVERAGE(O58:R58) -> 626326.75
B59: 51 | D59: EQU-125 | E59: REFRIGERADOR | F59: HAIER | G59: HBC-70 | H59: BE07FDE0N00QF9C0002 | I59: BIOLOGIA MOLECULAR DE VIROLOGIA | J59: CALIBRACION | K59: TEMPERATURA | L59: 3 | M59: 2, 5 y 8°C | N59: 1 | O59: 1664000 | P59: 1600000 | Q59: 2159850 | R59: 1244264 | S59: =AVERAGE(O59:R59) -> 1667028.5
B60: 52 | D60: EQU-45 | E60: CONGELADOR | F60: HAIER | G60: DW-40L508 | H60: BE05T3B1T00QEF6Q0002 | I60: BIOLOGIA MOLECULAR DE VIROLOGIA | J60: CALIBRACION | K60: TEMPERATURA | L60: 2 | M60: -20 Y -40 C | N60: 1 | O60: 1426880 | P60: 1372000 | Q60: 2909550 | R60: 1476790 | S60: =AVERAGE(O60:R60) -> 1796305
B61: 53 | D61: VP-05-LCV-65 | E61: REFRIGERADOR | F61: PANASONIC | G61: MDF724 | H61: 12120449 | I61: RECEPCION DE BIOLOGIA MOLECULAR DE VIROLOGÍA | J61: CALIBRACION | K61: TEMPERATURA | L61: 3 | M61: 2, 5 Y 8°C | N61: 1 | O61: 1664000 | P61: 1600000 | Q61: 2159850 | R61: 1244264 | S61: =AVERAGE(O61:R61) -> 1667028.5
B62: 54 | D62: EQU-06 | E62: BASCULA | F62: OHAUS | G62: X06 | H62: 8028470085 | I62: CUARTO DE RESIDUOS | J62: CALIBRACION | K62: MASA | L62: 10 | M62: 1, 2, 5, 10, 20, 30, 50, 80, 100, 200 | N62: 1 | O62: 1019200 | P62: 980000 | Q62: 2356200 | R62: 1244264 | S62: =AVERAGE(O62:R62) -> 1399916
B63: 55 | D63: VC-03-MO-19 | E63: MICROPIPETA | F63: SOCOREX | G63: 100-1000 UL | H63: 17111309 | I63: TODAS LAS AREAS | J63: CALIBRACION | K63: VOLUMEN | L63: 3 | M63: Rango minimo, medio y maximo | N63: 1 | O63: 707616 | P63: 680400 | Q63: 571200 | R63: 546091 | S63: =AVERAGE(O63:R63) -> 626326.75
B64: 56 | D64: VP-010-BM-41 | E64: MICROPIPETA | F64: ACCUMAX | G64: ACCUMAX PRO | H64: 148667 | I64: TODAS LAS AREAS | J64: CALIBRACION | K64: VOLUMEN | L64: 3 | M64: Rango minimo, medio y maximo | N64: 1 | O64: 707616 | P64: 680400 | Q64: 571200 | R64: 546091 | S64: =AVERAGE(O64:R64) -> 626326.75
B65: 57 | D65: EQU-244 | E65: TERMOHIGROMETRO | F65: KEX GERMANY | G65: SH-109 | H65: NR | I65: BIOLOGIA MOLECULAR DE VIROLOGIA | J65: CALIBRACION | K65: TEMPERATURA Y HUMEDAD RELATIVA | L65: 6 | M65: 15, 20, 30℃ y 40, 60, 80% HR | N65: 1 | O65: 703248 | P65: 676200 | Q65: 746130 | R65: 820505 | S65: =AVERAGE(O65:R65) -> 736520.75
B66: 58 | D66: EQU-174 | E66: ULTRACONGELADOR | F66: HAIER | G66: DW-86L338J | H66: BE0H85E1T00QGM1G0020 | I66: CUARTO DE REFRIGERACION | J66: CALIBRACION | K66: TEMPERATURA | L66: 2 | M66: -70 Y -80°C | N66: 1 | O66: 2210208 | P66: 2125200 | Q66: 2909550 | R66: 1663620 | S66: =AVERAGE(O66:R66) -> 2227144.5
B67: 59 | D67: VC-00-FQ-100 | E67: PH-METRO | F67: METROHM | G67: 781PH | H67: 1781001011183 | I67: FISICOQUIMICO | J67: CALIBRACION | K67: MAGNITUD QUIMICA | L67: 3 | M67: 4, 7, 10 | N67: 1 | O67: 707616 | P67: 680400 | Q67: 1535100 | R67: 1220226 | S67: =AVERAGE(O67:R67) -> 1035835.5
B68: 60 | D68: EQU-140 | E68: TERMOCICLADOR | F68: THERMO SCIENTIFIC | G68: QUANT STUDIO 5 | H68: 272524035 | I68: BIOLOGIA MOLECULAR DE VIROLOGIA | J68: CALIBRACION | K68: TEMPERATURA | L68: 3 | M68: 22, 60, 72, 95°C | N68: 1 | O68: 1664000 | P68: 1600000 | Q68: 2788170 | R68: 1601502 | S68: =AVERAGE(O68:R68) -> 1913418
B69: 61 | D69: EQU-102 | E69: REFRIGERADOR | F69: HAIER | G69: HYC-290 | H69: BE06MNG1T00QEH2J0008 | I69: RECEPCION AMBIENTE | J69: CALIBRACION | K69: TEMPERATURA | L69: 3 | M69: 2, 5 y 8°C | N69: 1 | O69: 1664000 | P69: 1600000 | Q69: 2159850 | R69: 1244264 | S69: =AVERAGE(O69:R69) -> 1667028.5
B70: 62 | D70: VC-00-FQ-140 | E70: CONGELADOR | F70: SANYO | G70: MDF - U5312 | H70: 10120194 | I70: RECEPCION AMBIENTE | J70: CALIBRACION | K70: TEMPERATURA | L70: 2 | M70: -20 Y -30 C | N70: 1 | O70: 1426880 | P70: 1372000 | Q70: 2159850 | R70: 1476790 | S70: =AVERAGE(O70:R70) -> 1608880
B71: 63 | D71: EQU-194 | E71: TERMOHIGROMETRO | F71: KEX GERMANY | G71: SH-124B | H71: 2019-082 | I71: RECEPCION AMBIENTE | J71: CALIBRACION | K71: TEMPERATURA Y HUMEDAD RELATIVA | L71: 6 | M71: 18, 25 Y 30℃ y 40, 60, 80% HR | N71: 1 | O71: 703248 | P71: 676200 | Q71: 746130 | R71: 820505 | S71: =AVERAGE(O71:R71) -> 736520.75
B72: 64 | D72: EQU-116 | E72: TERMOHIGROMETRO | F72: KEX GERMANY | G72: SH-124B | H72: MC-005465 | I72: RECEPCION CLINICA | J72: CALIBRACION | K72: TEMPERATURA Y HUMEDAD RELATIVA | L72: 6 | M72: 18, 25 Y 30℃ y 40, 60, 80% HR | N72: 1 | O72: 703248 | P72: 676200 | Q72: 746130 | R72: 820505 | S72: =AVERAGE(O72:R72) -> 736520.75
B73: 65 | D73: EQU-226 | E73: TERMOHIGROMETRO | F73: CONTROL COMPANY | G73: NA | H73: 101794918 | I73: FISICOQUIMICO | J73: CALIBRACION | K73: TEMPERATURA Y HUMEDAD RELATIVA | L73: 6 | M73: 18, 25 Y 30℃ y 40, 60, 80% HR | N73: 1 | O73: 703248 | P73: 676200 | Q73: 746130 | R73: 820505 | S73: =AVERAGE(O73:R73) -> 736520.75
B74: 66 | D74: VC-00-FQ-34 | E74: BAÑO ULTRASONIDO | F74: ELMA | G74: S/S | H74: 914082 | I74: FISICOQUIMICO | J74: CALIBRACION | K74: TEMPERATURA | L74: 3 | M74: 15-30-55 ° C(± 2) | N74: 1 | O74: 1164800 | P74: 1120000 | Q74: 5268725 | R74: 1601502 | S74: =AVERAGE(O74:R74) -> 2288756.8
B75: 67 | D75: VC-00-FQ-65 | E75: MUFLA | F75: LIBER BLUE M | G75: M828 | H75: O18758 | I75: FISICOQUIMICO | J75: CALIBRACION | K75: TEMPERATURA | L75: 2 | M75: 500-550-900° C(±5°C) | N75: 1 | O75: 936000 | P75: 900000 | Q75: 2238390 | R75: 1704080 | S75: =AVERAGE(O75:R75) -> 1444617.5
B76: 68 | D76: EQU-168 | E76: CONGELADOR | F76: HAIER | G76: DW-40L278 | H76: BE0F15EAV00QJLCE0005 | I76: FISICOQUIMICO | J76: CALIBRACION | K76: TEMPERATURA | L76: 2 | M76: -20 Y -40 C | N76: 1 | O76: 1426880 | P76: 1372000 | Q76: 2909550 | R76: 1476790 | S76: =AVERAGE(O76:R76) -> 1796305
B77: 69 | D77: VC-00-FQ-69 | E77: TERMOHIGROMETRO | F77: CONTROL COMPANY | G77: TRACEABLE | H77: 111242225 | I77: FISICOQUIMICO | J77: CALIBRACION | K77: TEMPERATURA Y HUMEDAD RELATIVA | L77: 6 | M77: 18, 25 Y 30℃ y 40, 60, 80% HR | N77: 1 | O77: 703248 | P77: 676200 | Q77: 746130 | R77: 820505 | S77: =AVERAGE(O77:R77) -> 736520.75
B78: 70 | D78: VC-00-FQ-93 | E78: TERMOHIGROMETRO | F78: VWR | G78: TRACEABLE | H78: 101809165 | I78: FISICOQUIMICO | J78: CALIBRACION | K78: TEMPERATURA Y HUMEDAD RELATIVA | L78: 6 | M78: 18, 25 Y 30℃ y 40, 60, 80% HR | N78: 1 | O78: 703248 | P78: 676200 | Q78: 746130 | R78: 820505 | S78: =AVERAGE(O78:R78) -> 736520.75
B79: 71 | D79: VC-00-FQ-68 | E79: TERMOHIGROMETRO | F79: VWR | G79: TRACEABLE | H79: 101812387 | I79: FISICOQUIMICO | J79: CALIBRACION | K79: TEMPERATURA Y HUMEDAD RELATIVA | L79: 6 | M79: 18, 25 Y 30℃ y 40, 60, 80% HR | N79: 1 | O79: 703248 | P79: 676200 | Q79: 746130 | R79: 820505 | S79: =AVERAGE(O79:R79) -> 736520.75
B80: 72 | D80: VC-00-FQ-84 | E80: JUEGO DE PESAS | F80: TROEMNER | H80: 8345 | I80: FISICOQUIMICO | J80: CALIBRACION | K80: MASA | L80: 7 | M80: 1-5-10-20-50-100-200 g | N80: 1 | O80: 2038400 | P80: 1960000 | Q80: 1249500 | R80: 1244264 | S80: =AVERAGE(O80:R80) -> 1623041
B81: 73 | D81: EQU-101 | E81: REFRIGERADOR | F81: HAIER Biomedical | G81: HYC-290 | H81: BE06MNG1T00QEH8T0001 | I81: MICROBIOLOGIA DE ALIMENTOS | J81: CALIBRACION | K81: TEMPERATURA | L81: 3 | M81: 2, 5 y 8°C | N81: 1 | O81: 1664000 | P81: 1600000 | Q81: 2159850 | R81: 1244264 | S81: =AVERAGE(O81:R81) -> 1667028.5
B82: 74 | D82: EQU-16 | E82: REFRIGERADOR | F82: HAIER Biomedical | G82: HYC-390 | H82: BE06MFE1T00QEG2H0011 | I82: MICROBIOLOGIA DE ALIMENTOS | J82: CALIBRACION | K82: TEMPERATURA | L82: 3 | M82: 2, 5 y 8°C | N82: 1 | O82: 1664000 | P82: 1600000 | Q82: 2159850 | R82: 1244264 | S82: =AVERAGE(O82:R82) -> 1667028.5
B83: 75 | D83: VC-03-MO-76 | E83: REFRIGERADOR | F83: THERMO SCIENTIFIC | G83: KF6L23CA22 | H83: N14V-14543-MV | I83: MICROBIOLOGIA DE ALIMENTOS | J83: CALIBRACION | K83: TEMPERATURA | L83: 3 | M83: 2, 5 y 8°C | N83: 1 | O83: 1664000 | P83: 1600000 | Q83: 2159850 | R83: 1244264 | S83: =AVERAGE(O83:R83) -> 1667028.5
B84: 76 | D84: VC-00-PM-22 | E84: HORNO DE SECADO | F84: BINDER | G84: ED 240 | H84: 10-205-19 | I84: MICROBIOLOGIA DE ALIMENTOS | J84: CALIBRACION | K84: TEMPERATURA | L84: 1 | M84: 175°C ± 5 °C | N84: 1 | O84: 1560000 | P84: 1500000 | Q84: 1335180 | R84: 1220226 | S84: =AVERAGE(O84:R84) -> 1403851.5
B85: 77 | D85: VC-03-MO-78 | E85: INCUBADORA 55±1°C | F85: BINDER | G85: BD-115 UL | H85: 1017837 | I85: MICROBIOLOGIA DE ALIMENTOS | J85: CALIBRACION | K85: TEMPERATURA | L85: 3 | M85: 55±1°C , 44±1°C* Y 41,5±1°C* | N85: 1 | O85: 1664000 | P85: 1600000 | Q85: 4712400 | R85: 1664334 | S85: =AVERAGE(O85:R85) -> 2410183.5
B86: 78 | D86: VC-03-MO-23 | E86: INCUBADORA 44 .0.5 ±1°C | F86: BINDER | G86: BD 115 | H86: 16202 | I86: MICROBIOLOGIA DE ALIMENTOS | J86: CALIBRACION | K86: TEMPERATURA | L86: 3 | M86: 41,5 °C ±1°C , 44°C ±1°C* Y 55°C±1°C* | N86: 1 | O86: 1664000 | P86: 1600000 | Q86: 4712400 | R86: 1664334 | S86: =AVERAGE(O86:R86) -> 2410183.5
B87: 79 | D87: EQU-191 | E87: TERMOHIGROMETRO | F87: KEX-GERMANY | G87: SH-124B | H87: 2019-08 | I87: MICROBIOLOGIA DE ALIMENTOS | J87: CALIBRACION | K87: TEMPERATURA Y HUMEDAD RELATIVA | L87: 6 | M87: 18, 25 Y 30℃ y 30, 60, 80% HR | N87: 1 | O87: 803712 | P87: 676200 | Q87: 746130 | R87: 820505 | S87: =AVERAGE(O87:R87) -> 761636.75
B88: 80 | D88: EQU-193 | E88: TERMOHIGROMETRO | F88: KEX GERMANY | G88: SH-124B | H88: NO POSEE | I88: MICROBIOLOGIA DE ALIMENTOS | J88: CALIBRACION | K88: TEMPERATURA Y HUMEDAD RELATIVA | L88: 6 | M88: 18, 25 Y 30℃ y 30, 60, 80% HR | N88: 1 | O88: 803712 | P88: 676200 | Q88: 746130 | R88: 820505 | S88: =AVERAGE(O88:R88) -> 761636.75
B89: 81 | D89: VC-00-RM-05 | E89: TERMOHIGROMETRO | F89: WVR | G89: TRACEABLE | H89: SD | I89: MICROBIOLOGIA DE ALIMENTOS | J89: CALIBRACION | K89: TEMPERATURA Y HUMEDAD RELATIVA | L89: 6 | M89: 18, 25 Y 30℃ y 30, 60, 80% HR | N89: 1 | O89: 803712 | P89: 676200 | Q89: 746130 | R89: 820505 | S89: =AVERAGE(O89:R89) -> 761636.75
B90: 82 | D90: VC-00-PM-05 | E90: TERMOHIGROMETRO | F90: VWR | G90: SD | H90: 61958031 | I90: MICROBIOLOGIA DE ALIMENTOS | J90: CALIBRACION | K90: TEMPERATURA Y HUMEDAD RELATIVA | L90: 6 | M90: 18, 25 Y 30℃ y 30, 60, 80% HR | N90: 1 | O90: 703248 | P90: 676200 | Q90: 746130 | R90: 820505 | S90: =AVERAGE(O90:R90) -> 736520.75
B91: 83 | D91: VP-04-BM-52 | E91: CONGELADOR | F91: PANASONIC | G91: MDF-U334-PA | H91: 12110284 | I91: CUARTO DE REFRIGERACION | J91: CALIBRACION | K91: TEMPERATURA | L91: 2 | M91: -20 Y -30 C | N91: 1 | O91: 1426880 | P91: 1372000 | Q91: 2159850 | R91: 1476790 | S91: =AVERAGE(O91:R91) -> 1608880
B92: 84 | D92: EQU-19 | E92: REFRIGERADOR | F92: HAIER | G92: MDF-U538650 | H92: BE06PAE0U00QGG380004 | I92: VIROLOGIA | J92: CALIBRACION | K92: TEMPERATURA | L92: 3 | M92: 2° ,5° Y 8°C | N92: 1 | O92: 1664000 | P92: 1600000 | Q92: 2159850 | R92: 1244264 | S92: =AVERAGE(O92:R92) -> 1667028.5
B93: 85 | D93: EQU-15 | E93: REFRIGERADOR | F93: HAIER | G93: HYC-390 | H93: BE06MPG1T00UG5T0001 | I93: VIROLOGIA | J93: CALIBRACION | K93: TEMPERATURA | L93: 3 | M93: 2° ,5° Y 8°C | N93: 1 | O93: 1664000 | P93: 1600000 | Q93: 2159850 | R93: 1244264 | S93: =AVERAGE(O93:R93) -> 1667028.5
B94: 86 | D94: EQU-188 | E94: CONGELADOR | F94: HAIER | G94: DW-30L508 | H94: BE05T1EAU00QJM3N0002 | I94: VIROLOGIA | J94: CALIBRACION | K94: TEMPERATURA | L94: 2 | M94: -20 Y -30 C | N94: 1 | O94: 1426880 | P94: 1372000 | Q94: 2159850 | R94: 1476790 | S94: =AVERAGE(O94:R94) -> 1608880
B95: 87 | D95: VP-05-LCV-28 | E95: REFRIGERADOR | F95: THERMO SCIENTIFIC | G95: FRGL1204A22 | H95: 31204M0A0ZZDJ00A | I95: RECEPCION CLINICA | J95: CALIBRACION | K95: TEMPERATURA | L95: 3 | M95: 2, 5 Y 8 C | N95: 1 | O95: 1664000 | P95: 1600000 | Q95: 2159850 | R95: 1244264 | S95: =AVERAGE(O95:R95) -> 1667028.5
B96: 88 | D96: VP-010-BM-20 | E96: INCUBADORA | F96: LAB-LINE | G96: IMPERIAL III | H96: 21894 | I96: COLERA | J96: CALIBRACION | K96: TEMPERATURA | L96: 1 | M96: 37° C | N96: 1 | O96: 1664000 | P96: 1600000 | Q96: 2103325 | R96: 1244264 | S96: =AVERAGE(O96:R96) -> 1652897.2
B97: 89 | D97: EQU-128 | E97: INCUBADORA | F97: THERMO SCIENTIFIC | G97: HERATHERM IGS100 | H97: 42206930 | I97: COLERA | J97: CALIBRACION | K97: TEMPERATURA | L97: 1 | M97: 36° C | N97: 1 | O97: 1664000 | P97: 1600000 | Q97: 2103325 | R97: 1244264 | S97: =AVERAGE(O97:R97) -> 1652897.2
B98: 90 | D98: EQU-166 | E98: INCUBADORA | F98: BINDER | G98: BD-260 | H98: 20200000008311 | I98: MICROBIOLOGIA CLINICA | J98: CALIBRACION | K98: TEMPERATURA | L98: 2 | M98: 36 y 39°C +/- 1°C | N98: 1 | O98: 1664000 | P98: 1600000 | Q98: 4712400 | R98: 1504160 | S98: =AVERAGE(O98:R98) -> 2370140
B99: 91 | D99: EQU-04 | E99: TERMOMETRO INFRARROJO | F99: CEM | G99: DT-8863 | H99: 10056454 | I99: RECEPCION DE BIOLOGIA MOLECULAR DE VIROLOGÍA | J99: CALIBRACION | K99: TEMPERATURA | L99: 3 | M99: -15, 2 Y 8°C | N99: 1 | O99: 934752 | P99: 898800 | Q99: 749700 | R99: 820505 | S99: =AVERAGE(O99:R99) -> 850939.25
B100: 92 | D100: EQU-222 | E100: TERMOMETRO INFRARROJO | F100: ETEKCITY | G100: LASERGRIP 1080 | H100: NO IDENTIFICADO | I100: RECEPCION CLINICA | J100: CALIBRACION | K100: TEMPERATURA | L100: 3 | M100: 2, 5 Y 8° C | N100: 1 | O100: 934752 | P100: 898800 | Q100: 749700 | R100: 820505 | S100: =AVERAGE(O100:R100) -> 850939.25
B101: 93 | D101: EQU-221 | E101: TERMOMETRO INFRARROJO | F101: ETEKCITY | G101: LASERGRIP 1080 | H101: NO IDENTIFICADO | I101: RECEPCION AMBIENTE | J101: CALIBRACION | K101: TEMPERATURA | L101: 3 | M101: -15, 2 Y 8°C | N101: 1 | O101: 934752 | P101: 898800 | Q101: 749700 | R101: 820505 | S101: =AVERAGE(O101:R101) -> 850939.25
B102: 94 | D102: EQU-223 | E102: TERMOMETRO INFRARROJO | F102: ETEKCITY | G102: LASERGRIP 1080 | H102: NO IDENTIFICADO | I102: TODAS LAS AREAS | J102: CALIBRACION | K102: TEMPERATURA | L102: 3 | M102: -15, 2 Y 8°C | N102: 1 | O102: 934752 | P102: 898800 | Q102: 749700 | R102: 820505 | S102: =AVERAGE(O102:R102) -> 850939.25
B103: 95 | D103: EQU-278 | E103: MICROPIPETA | F103: NO REGISTA | G103: GRAM POS (+) | H103: 15503607 | I103: MICROBIOLOGIA CLINICA | J103: CALIBRACION | K103: VOLUMEN | L103: 1 | M103: 280ul | N103: 1 | O103: 707616 | P103: 680400 | Q103: 571200 | R103: 546091 | S103: =AVERAGE(O103:R103) -> 626326.75
B104: 96 | D104: EQU-279 | E104: MICROPIPETA | F104: NO REGISTA | G104: GRAM NEG (-) | H104: 14637504 | I104: MICROBIOLOGIA CLINICA | J104: CALIBRACION | K104: VOLUMEN | L104: 1 | M104: 145ul | N104: 1 | O104: 707616 | P104: 680400 | Q104: 571200 | R104: 546091 | S104: =AVERAGE(O104:R104) -> 626326.75
...

Sheet 2. Medicamentos
B2: ANEXO
B3: PRESUPUESTO OFICIAL
A5: 3. MEDICAMENTOS | N5: VALOR UNITARIO
B6: ITEM | C6: CODIGO INTERNO | D6: NOMBRE DE EQUIPO | E6: MARCA | F6: MODELO | G6: SERIE | H6: UBICACIÓN/AREA | I6: SERVICIO A CONTRATAR | J6: MAGNITUDES ASOCIADAS | K6: NUMERO DE PUNTOS A CALIBRAR | L6: ESPECIFICACIONES DE PUNTOS A CALIBRAR | M6: CANTIDAD UNITARIA | N6: COTIZACIÓN 1. RPM SUMINISTROS Y ASESORIAS S.A.S | O6: COTIZACIÓN 2. DICOING | P6: COTIZACIÓN 3. METROLOGICAL | Q6: COTIZACIÓN 4. CONAMET S.A.S | R6: PROMEDIO VALORES TOTALES
B9: 1 | C9: EQU-242 | D9: TERMOHIGROMETRO | E9: KEX GERMANY | F9: SH-109 | G9: NO REGISTRA | H9: BODEGA DE MEDICAMENTOS TUBERCULOSIS | I9: CALIBRACION | J9: TEMPERATURA Y HUMEDAD RELATIVA | K9: 6 | L9: 15-20-30 ° C Y 40-60-80% | M9: 1 | N9: 676200 | O9: 676200 | P9: 746130 | Q9: 820505 | R9: =AVERAGE(N9:Q9) -> 729758.75
B10: 2 | C10: EQU-262 | D10: TERMOHIGROMETRO | E10: PRO INSTRUMENTS | F10: HTC-2 | G10: NO REGISTRA | H10: BODEGA DE MEDICAMENTOS | I10: CALIBRACION | J10: TEMPERATURA Y HUMEDAD RELATIVA | K10: 6 | L10: 15-20-30 ° C Y 40-60-80% | M10: 1 | N10: 676200 | O10: 676200 | P10: 746130 | Q10: 820505 | R10: =AVERAGE(N10:Q10) -> 729758.75
B11: 3 | C11: EQU-263 | D11: TERMOHIGROMETRO | E11: PRO INSTRUMENTS | F11: HTC-2 | G11: NO REGISTRA | H11: BODEGA DE MEDICAMENTOS | I11: CALIBRACION | J11: TEMPERATURA Y HUMEDAD RELATIVA | K11: 6 | L11: 15-20-30 ° C Y 40-60-80% | M11: 1 | N11: 676200 | O11: 676200 | P11: 746130 | Q11: 820505 | R11: =AVERAGE(N11:Q11) -> 729758.75
N13: =SUM(N9:N11) -> 2028600 | O13: =SUM(O9:O11) -> 2028600 | P13: =SUM(P9:P11) -> 2238390 | Q13: =SUM(Q9:Q11) -> 2461515 | R13: =SUM(R9:R11) -> 2189276.2

Sheet 3. PAI
B2: ANEXO
B3: PRESUPUESTO OFICIAL
A4: 4. PAI
N5: VALOR UNITARIO
B6: ITEM | C6: CODIGO INTERNO | D6: NOMBRE DE EQUIPO | E6: MARCA | F6: MODELO | G6: SERIE | H6: UBICACIÓN/AREA | I6: SERVICIO A CONTRATAR | J6: MAGNITUDES ASOCIADAS | K6: NUMERO DE PUNTOS A CALIBRAR | L6: ESPECIFICACIONES DE PUNTOS A CALIBRAR | M6: CANTIDAD UNITARIA | N6: COTIZACIÓN 1. RPM SUMINISTROS Y ASESORIAS S.A.S | O6: COTIZACIÓN 2. DICOING | P6: COTIZACIÓN 3. METROLOGICAL | Q6: COTIZACIÓN 4. CONAMET S.A.S | R6: PROMEDIO VALORES TOTALES
B9: 1 | C9: EQU-206 | D9: REFRIGERADOR | E9: HAIER | F9: HBC-260 | G9: BE0G95EA500QEM8B0025 | H9: PROGRAMA AMPLIADO DE INMUNIZACION(PAI) | I9: CALIBRACION | J9: TEMPERATURA | K9: 3 | L9: 2, 5 Y 8°C | M9: 1 | N9: 1750000 | O9: 1600000 | P9: 2159850 | Q9: 2315264 | R9: =AVERAGE(N9:Q9) -> 1956278.5
B10: 2 | C10: EQU-159 | D10: ULTRACONGELADOR | E10: ACROSS INTERNATIONAL | F10: G20H | G10: BE0H1KE1T00QM1J0005 | H10: PROGRAMA AMPLIADO DE INMUNIZACION(PAI) | I10: CALIBRACION | J10: TEMPERATURA | K10: 2 | L10: -70 Y -80°C | M10: 1 | N10: =980000*1.4 -> 1372000 | O10: 1372000 | P10: 2909550 | Q10: 2315264 | R10: =AVERAGE(N10:Q10) -> 1992203.5
B11: 3 | C11: EQU-154 | D11: REFRIGERADOR | E11: VESTFROST | F11: MK 304 | G11: 20072311106 | H11: PROGRAMA AMPLIADO DE INMUNIZACION(PAI) | I11: CALIBRACION | J11: TEMPERATURA | K11: 3 | L11: 2, 5 Y 8°C | M11: 1 | N11: 1600000 | O11: 1600000 | P11: 2159850 | Q11: 2315264 | R11: =AVERAGE(N11:Q11) -> 1918778.5
B12: 4 | C12: EQU-153 | D12: REFRIGERADOR | E12: ULTRALAB | F12: ULTRALAB XX1-01-H/02 | G12: 020318HR | H12: PROGRAMA AMPLIADO DE INMUNIZACION(PAI) | I12: CALIBRACION | J12: TEMPERATURA | K12: 3 | L12: 2, 5 Y 8°C | M12: 1 | N12: 1750000 | O12: 1600000 | P12: 2159850 | Q12: 2315264 | R12: =AVERAGE(N12:Q12) -> 1956278.5
B13: 5 | C13: EQU-156 | D13: REFRIGERADOR | E13: VESTFROST | F13: VLS350A | G13: 20150766745 | H13: PROGRAMA AMPLIADO DE INMUNIZACION(PAI) | I13: CALIBRACION | J13: TEMPERATURA | K13: 3 | L13: 2, 5 Y 8°C | M13: 1 | N13: 1750000 | O13: 1600000 | P13: 2159850 | Q13: 2315264 | R13: =AVERAGE(N13:Q13) -> 1956278.5
B14: 6 | C14: EQU-155 | D14: REFRIGERADOR | E14: VESTFROST | F14: VLS350A | G14: 20150766739 | H14: PROGRAMA AMPLIADO DE INMUNIZACION(PAI) | I14: CALIBRACION | J14: TEMPERATURA | K14: 3 | L14: 2, 5 Y 8°C | M14: 1 | N14: 1750000 | O14: 1600000 | P14: 2159850 | Q14: 2315264 | R14: =AVERAGE(N14:Q14) -> 1956278.5
B15: 7 | C15: EQU-306 | D15: CUARTO FRIO | E15: ROJAS HERMANOS SA | F15: MODULAR | G15: 1300230121000329 | H15: PROGRAMA AMPLIADO DE INMUNIZACION(PAI) | I15: CALIBRACION | J15: TEMPERATURA | K15: 9 | L15: 2, 5 y 8°C(3 Controladores) | M15: 1 | N15: 1750000 | O15: 1600000 | P15: 6479550 | Q15: 3624264 | R15: =AVERAGE(N15:Q15) -> 3363453.5
B16: 8 | C16: EQU-158 | D16: CONGELADOR | E16: INDUFRIAL | F16: ICH-11 | G16: 1965735 | H16: PROGRAMA AMPLIADO DE INMUNIZACION(PAI) | I16: CALIBRACION | J16: TEMPERATURA | K16: 2 | L16: -20 Y -30 C | M16: 1 | N16: =980000*1.4 -> 1372000 | O16: 1372000 | P16: 2159850 | Q16: 2314550 | R16: =AVERAGE(N16:Q16) -> 1804600
B17: 9 | C17: EQU-307 | D17: COOLCLOUD | E17: NO IDENTIFICADO | F17: NO IDENTIFICADO | G17: NO IDENTIFICADO | H17: PROGRAMA AMPLIADO DE INMUNIZACION(PAI) | I17: CALIBRACION | J17: TEMPERATURA | K17: 4 | L17: 4°C(4 Sensores) | M17: 1 | N17: 1750000 | O17: 1600000 | P17: 2356200 | Q17: 4814264 | R17: =AVERAGE(N17:Q17) -> 2630116
B18: 10 | C18: EQU-291 | D18: TERMOMETRO DIGITAL | E18: KEX GERMANY | F18: RT-803E | G18: NO IDENTIFICADO | H18: PROGRAMA AMPLIADO DE INMUNIZACION(PAI) | I18: CALIBRACION | J18: TEMPERATURA | K18: 3 | L18: 2, 5 Y 8°C | M18: 1 | N18: =483000*1.4 -> 676200 | O18: 676200 | P18: 758625 | Q18: 2315264 | R18: =AVERAGE(N18:Q18) -> 1106572.2
B19: 11 | C19: EQU-248 | D19: TERMOMETRO DIGITAL | E19: KEX GERMANY | F19: RT-803E | G19: NO IDENTIFICADO | H19: PROGRAMA AMPLIADO DE INMUNIZACION(PAI) | I19: CALIBRACION | J19: TEMPERATURA | K19: 3 | L19: 2, 5 Y 8°C | M19: 1 | N19: =483000*1.4 -> 676200 | O19: 676200 | P19: 758625 | Q19: 2315264 | R19: =AVERAGE(N19:Q19) -> 1106572.2
B20: 12 | C20: EQU-247 | D20: TERMOMETRO DIGITAL | E20: KEX GERMANY | F20: RT-803E | G20: NO IDENTIFICADO | H20: PROGRAMA AMPLIADO DE INMUNIZACION(PAI) | I20: CALIBRACION | J20: TEMPERATURA | K20: 3 | L20: 2, 5 Y 8°C | M20: 1 | N20: =483000*1.4 -> 676200 | O20: 676200 | P20: 758625 | Q20: 2315264 | R20: =AVERAGE(N20:Q20) -> 1106572.2
B21: 13 | C21: EQU-246 | D21: TERMOMETRO DIGITAL | E21: KEX GERMANY | F21: RT-803E | G21: NO IDENTIFICADO | H21: PROGRAMA AMPLIADO DE INMUNIZACION(PAI) | I21: CALIBRACION | J21: TEMPERATURA | K21: 3 | L21: 2, 5 Y 8°C | M21: 1 | N21: =483000*1.4 -> 676200 | O21: 676200 | P21: 758625 | Q21: 2315264 | R21: =AVERAGE(N21:Q21) -> 1106572.2
B22: 14 | C22: EQU-245 | D22: TERMOMETRO DIGITAL | E22: KEX GERMANY | F22: RT-803E | G22: NO IDENTIFICADO | H22: PROGRAMA AMPLIADO DE INMUNIZACION(PAI) | I22: CALIBRACION | J22: TEMPERATURA | K22: 3 | L22: 2, 5 Y 8°C | M22: 1 | N22: =483000*1.4 -> 676200 | O22: 676200 | P22: 758625 | Q22: 2315264 | R22: =AVERAGE(N22:Q22) -> 1106572.2
B23: 15 | C23: EQU-351 | D23: TERMOHIGROMETRO | E23: KEX GERMANY | F23: SH-109 | G23: NO IDENTIFICADO | H23: PROGRAMA AMPLIADO DE INMUNIZACION(PAI) | I23: CALIBRACION | J23: TEMPERATURA | K23: 6 | L23: 15, 20, 30°C / 40, 60, 80% HR | M23: 1 | N23: =483000*1.4 -> 676200 | O23: 676200 | P23: 746130 | Q23: 2315264 | R23: =AVERAGE(N23:Q23) -> 1103448.5
N25: =SUM(N9:N23) -> 18901200 | O25: =SUM(O9:O23) -> 18001200 | P25: =SUM(P9:P23) -> 29243655 | Q25: =SUM(Q9:Q23) -> 38536246 | R25: =SUM(R9:R23) -> 26170575

Sheet 4. Salud Ambiental
B2: ANEXO
B3: PRESUPUESTO OFICIAL
A5: 5. SALUD AMBIENTAL | N5: VALOR UNITARIO
B6: ITEM | C6: CODIGO INTERNO | D6: NOMBRE DE EQUIPO | E6: MARCA | F6: MODELO | G6: SERIE | H6: UBICACIÓN/AREA | I6: SERVICIO A CONTRATAR | J6: MAGNITUDES ASOCIADAS | K6: NUMERO DE PUNTOS A CALIBRAR | L6: ESPECIFICACIONES DE PUNTOS A CALIBRAR | M6: CANTIDAD UNITARIA | N6: COTIZACIÓN 1. RPM SUMINISTROS Y ASESORIAS S.A.S | O6: COTIZACIÓN 2. DICOING | P6: COTIZACIÓN 3. METROLOGICAL | Q6: COTIZACIÓN 4. CONAMET S.A.S | R6: PROMEDIO VALORES TOTALES
B9: 1 | C9: EQU-269 | D9: MEDIDOR DE CLORO | E9: HANNA | F9: HI97710 | G9: 904350032111 | H9: AREA TECNICA SALUD AMBIENTAL | I9: CALIBRACION | J9: CANTIDAD DE SUSTANCIA | K9: 3 | L9: 0,20, 1 Y 2 (mg/L) | M9: 1 | N9: 1800000 | O9: 1500000 | P9: 4120375 | Q9: 3808000 | R9: =AVERAGE(N9:Q9) -> 2807093.8
B10: 2 | C10: EQU-268 | D10: MEDIDOR DE CLORO | E10: HANNA | F10: HI97710 | G10: 9043500331111 | H10: AREA TECNICA SALUD AMBIENTAL | I10: CALIBRACION | J10: CANTIDAD DE SUSTANCIA | K10: 3 | L10: 0,20, 1 Y 2 (mg/L) | M10: 1 | N10: 1800000 | O10: 1500000 | P10: 4120375 | Q10: 3808000 | R10: =AVERAGE(N10:Q10) -> 2807093.8
B11: 3 | C11: EQU-293 | D11: MEDIDOR DE CLORO | E11: HANNA | F11: HI97710 | G11: 9024200311111 | H11: AREA TECNICA SALUD AMBIENTAL | I11: CALIBRACION | J11: CANTIDAD DE SUSTANCIA | K11: 3 | L11: 0,20, 1 Y 2 (mg/L) | M11: 1 | N11: 1800000 | O11: 1500000 | P11: 4120375 | Q11: 3808000 | R11: =AVERAGE(N11:Q11) -> 2807093.8
B12: 4 | C12: EQU-297 | D12: TERMOMETRO INFRARROJO | E12: ETEKCITY | F12: LASERGRIP 1080 | G12: 211220416 | H12: AREA TECNICA SALUD AMBIENTAL | I12: CALIBRACION | J12: TEMPERATURA | K12: 3 | L12: (-15), 20, 60°C | M12: 1 | N12: =642000*1.4 -> 898800 | O12: 898800 | P12: 749700 | Q12: 768383 | R12: =AVERAGE(N12:Q12) -> 828920.75
B13: 5 | C13: EQU-298 | D13: TERMOMETRO INFRARROJO | E13: ETEKCITY | F13: LASERGRIP 1080 | G13: 211221501 | H13: AREA TECNICA SALUD AMBIENTAL | I13: CALIBRACION | J13: TEMPERATURA | K13: 3 | L13: (-15), 20, 60°C | M13: 1 | N13: =642000*1.4 -> 898800 | O13: 898800 | P13: 749700 | Q13: 768383 | R13: =AVERAGE(N13:Q13) -> 828920.75
B14: 6 | C14: EQU-308 | D14: COLORIMETRO COLOR DE AGUA | E14: HANNA | F14: HI 727 | G14: 9380020321 | H14: AREA TECNICA SALUD AMBIENTAL | I14: CALIBRACION | J14: CANTIDAD DE SUSTANCIA | K14: 3 | L14: 0, 10, 20 (PCU) | M14: 1 | N14: 1800000 | O14: 1500000 | P14: 2454375 | Q14: 1746920 | R14: =AVERAGE(N14:Q14) -> 1875323.8
B15: 7 | C15: EQU-309 | D15: COLORIMETRO COLOR DE AGUA | E15: HANNA | F15: HI 727 | G15: 9430079321 | H15: AREA TECNICA SALUD AMBIENTAL | I15: CALIBRACION | J15: CANTIDAD DE SUSTANCIA | K15: 3 | L15: 0, 10, 20 (PCU) | M15: 1 | N15: 1800000 | O15: 1500000 | P15: 2454375 | Q15: 1746920 | R15: =AVERAGE(N15:Q15) -> 1875323.8
B16: 8 | C16: EQU-312 | D16: TERMOMETRO DE INMERSION | E16: HANNA | F16: HI 985394 | G16: 316151 | H16: AREA TECNICA SALUD AMBIENTAL | I16: CALIBRACION | J16: TEMPERATURA | K16: 3 | L16: (-20),15, 40°C | M16: 1 | N16: =642000*1.4 -> 898800 | O16: 898800 | P16: 758625 | Q16: 768383 | R16: =AVERAGE(N16:Q16) -> 831152
B17: 9 | C17: EQU-313 | D17: TERMOMETRO DE INMERSION | E17: HANNA | F17: HI 985394 | G17: 486074 | H17: AREA TECNICA SALUD AMBIENTAL | I17: CALIBRACION | J17: TEMPERATURA | K17: 3 | L17: (-20),15, 40°C | M17: 1 | N17: =642000*1.4 -> 898800 | O17: 898800 | P17: 758625 | Q17: 768383 | R17: =AVERAGE(N17:Q17) -> 831152
B18: 10 | C18: EQU-314 | D18: TESTER DE TEMPERATURA | E18: HANNA | F18: HI98311 | G18: 9380269111 | H18: AREA TECNICA SALUD AMBIENTAL | I18: CALIBRACION | J18: TEMPERATURA | K18: 3 | L18: 100, 1000, 1413 (µs/cm) | M18: 1 | N18: =642000*1.4 -> 898800 | O18: 898800 | P18: 1695750 | Q18: 1445850 | R18: =AVERAGE(N18:Q18) -> 1234800
B19: 11 | C19: EQU-315 | D19: TESTER DE TEMPERATURA | E19: HANNA | F19: HI98311 | G19: 9380266111 | H19: AREA TECNICA SALUD AMBIENTAL | I19: CALIBRACION | J19: TEMPERATURA | K19: 3 | L19: 100, 1000, 1413 (µs/cm) | M19: 1 | N19: =642000*1.4 -> 898800 | O19: 898800 | P19: 1695750 | Q19: 1445850 | R19: =AVERAGE(N19:Q19) -> 1234800
B20: 12 | C20: EQU-317 | D20: TURBIDIMETRO PORTATIL | E20: HANNA | F20: HI 98703 | G20: 9440005111 | H20: AREA TECNICA SALUD AMBIENTAL | I20: CALIBRACION | J20: CANTIDAD DE SUSTANCIA | K20: 3 | L20: 0, 15, 100 (NTU) | M20: 1 | N20: 2000000 | O20: 2000000 | P20: 2781625 | Q20: 1639820 | R20: =AVERAGE(N20:Q20) -> 2105361.2
B21: 13 | C21: EQU-318 | D21: TURBIDIMETRO PORTATIL | E21: HANNA | F21: HI 98703 | G21: 9440023111 | H21: AREA TECNICA SALUD AMBIENTAL | I21: CALIBRACION | J21: CANTIDAD DE SUSTANCIA | K21: 3 | L21: 0, 15, 100 (NTU) | M21: 1 | N21: 2000000 | O21: 2000000 | P21: 2781625 | Q21: 1639820 | R21: =AVERAGE(N21:Q21) -> 2105361.2
B22: 14 | C22: EQU-319 | D22: TURBIDIMETRO PORTATIL | E22: HANNA | F22: HI 98703 | G22: 9440002111 | H22: AREA TECNICA SALUD AMBIENTAL | I22: CALIBRACION | J22: CANTIDAD DE SUSTANCIA | K22: 3 | L22: 0, 15, 100 (NTU) | M22: 1 | N22: 2000000 | O22: 2000000 | P22: 2781625 | Q22: 1639820 | R22: =AVERAGE(N22:Q22) -> 2105361.2
B23: 15 | C23: EQU-324 | D23: TERMOMETRO DIGITAL | E23: ALLA FRANCE | F23: DIGITAL | G23: NO IDENTIFICADO | H23: AREA TECNICA SALUD AMBIENTAL | I23: CALIBRACION | J23: TEMPERATURA | K23: 3 | L23: -25, 10 Y 40°C | M23: 1 | N23: =483000*1.4 -> 676200 | O23: 676200 | P23: 758625 | Q23: 768383 | R23: =AVERAGE(N23:Q23) -> 719852
B24: 16 | C24: EQU-325 | D24: TERMOMETRO DIGITAL | E24: ALLA FRANCE | F24: DIGITAL | G24: NO IDENTIFICADO | H24: AREA TECNICA SALUD AMBIENTAL | I24: CALIBRACION | J24: TEMPERATURA | K24: 3 | L24: -25, 10 Y 40°C | M24: 1 | N24: =483000*1.4 -> 676200 | O24: 676200 | P24: 758625 | Q24: 768383 | R24: =AVERAGE(N24:Q24) -> 719852
N26: =SUM(N9:N24) -> 21745200 | O26: =SUM(O9:O24) -> 20245200 | P26: =SUM(P9:P24) -> 33540150 | Q26: =SUM(Q9:Q24) -> 27339298 | R26: =SUM(R9:R24) -> 25717462
