Workbook
Name _Toc142041533: 'PPTO INTERV'!$A$750
Name _Toc143694497: 'PPTO INTERV'!$A$210
Name _Toc143694537: 'PPTO INTERV'!$A$238
Name _Toc143694561: 'PPTO INTERV'!$A$424
Name _Toc144106979: 'PPTO INTERV'!$A$14
Name _Toc144106980: 'PPTO INTERV'!$A$58
Name _Toc144106982: 'PPTO INTERV'!$A$66
Name _Toc144106983: 'PPTO INTERV'!$A$69
Name _Toc144106984: 'PPTO INTERV'!$A$71
Name _Toc144106985: 'PPTO INTERV'!$A$73
Name _Toc144106986: 'PPTO INTERV'!$A$75
Name _Toc144106987: 'PPTO INTERV'!$A$94
Name _Toc144106988: 'PPTO INTERV'!$A$96
Name _Toc144106989: 'PPTO INTERV'!$A$101
Name _Toc144106990: 'PPTO INTERV'!$A$121
Name _Toc144106991: 'PPTO INTERV'!$A$125
Name _Toc144106992: 'PPTO INTERV'!$A$129
Name _Toc144106993: 'PPTO INTERV'!$A$134
Name _Toc144106994: 'PPTO INTERV'!$A$140
Name _Toc144106995: 'PPTO INTERV'!$A$146
Name _Toc144106996: 'PPTO INTERV'!$A$155
Name _Toc144106997: 'PPTO INTERV'!$A$161
Name _Toc144106998: 'PPTO INTERV'!$A$167
Name _Toc144106999: 'PPTO INTERV'!$A$171
Name _Toc144107000: 'PPTO INTERV'!$A$180
Name _Toc144107001: 'PPTO INTERV'!$A$188
Name _Toc144107002: 'PPTO INTERV'!$A$193
Name _Toc144107003: 'PPTO INTERV'!$A$195
Name _Toc144107004: 'PPTO INTERV'!$A$197
Name _Toc144107005: 'PPTO INTERV'!$A$201
Name _Toc144107006: 'PPTO INTERV'!$A$211
Name _Toc144107007: 'PPTO INTERV'!$A$226
Name _Toc144107008: 'PPTO INTERV'!$A$229
Name _Toc144107009: 'PPTO INTERV'!$A$237
Name _Toc144107010: 'PPTO INTERV'!$A$239
Name _Toc144107011: 'PPTO INTERV'!$A$241
Name _Toc144107012: 'PPTO INTERV'!$A$244
Name _Toc144107013: 'PPTO INTERV'!$A$246
Name _Toc144107014: 'PPTO INTERV'!$A$248
Name _Toc144107015: 'PPTO INTERV'!$A$250
Name _Toc144107016: 'PPTO INTERV'!$A$252
Name _Toc144107017: 'PPTO INTERV'!$A$254
Name _Toc144107018: 'PPTO INTERV'!$A$256
Name _Toc144107019: 'PPTO INTERV'!$A$258
Name _Toc144107020: 'PPTO INTERV'!$A$260
Name _Toc144107021: 'PPTO INTERV'!$A$262
Name _Toc144107022: 'PPTO INTERV'!$A$264
Name _Toc144107023: 'PPTO INTERV'!$A$266
Name _Toc144107024: 'PPTO INTERV'!$A$268
Name _Toc144107025: 'PPTO INTERV'!$A$270
Name _Toc144107026: 'PPTO INTERV'!$A$272
Name _Toc144107027: 'PPTO INTERV'!$A$274
Name _Toc144107028: 'PPTO INTERV'!$A$277
Name _Toc144107029: 'PPTO INTERV'!$A$279
Name _Toc144107030: 'PPTO INTERV'!$A$281
Name _Toc144107031: 'PPTO INTERV'!$A$283
Name _Toc144107032: 'PPTO INTERV'!$A$310
Name _Toc144107033: 'PPTO INTERV'!$A$315
Name _Toc144107034: 'PPTO INTERV'!$A$346
Name _Toc144107035: 'PPTO INTERV'!$A$348

Sheet PPTO INTERV
A2: =+'FACTOR MULTIPLICADOR'!A2 -> “INTERVENTORÍA TÉCNICA, ADMINISTRATIVA, FINANCIERA Y JURÍDICA A LOS CONTRATOS DE OBRA PARA MANTENIMIENTO Y REHABILITACIÓN DE LA INFRAESTRUCTURA VIAL URBANA, MEDIANTE LA REPARACIÓN Y CONSTRUCCIÓN DE PAVIMENTOS Y PEATONALES, EN LAS COMUNAS ATARDECERES, SAN JOSÉ, CUMANDAY, LA ESTACIÓN Y PALOGRANDE (ANTES COMUNAS 1, 2, 3, 4 Y 8), EN LA CIUDAD DE MANIZALES POR MONTO AGOTABLE”
A3: PLAZO | I3: 4.5
A4: CANTIDADES ORIGINALES CONTRATO DE INTERVENTORÍA
A5: PERSONAL PROFESIONAL (1)
A6: CONCEPTO | B6: a | C6: A | D6: B | F6: C | G6: D | H6: E | I6: F
A7: Personal Profesional | B7: CANTIDAD | C7: | | D7: % DEDICACIÓN | F7: FACTOR MULT. | G7: VALOR MES (axAxBxC) | H7: No DE MESES | I7: TOTAL (DxE)
A8: Director de Interventoría | B8: 1 | C8: 6700000 | D8: 0.3 | F8: =+'FACTOR MULTIPLICADOR'!$I$52 -> 2.18 | G8: =ROUND(C8*D8*F8*B8,0) -> 4381800 | H8: =+$I$3 -> 4.5 | I8: =ROUND(G8*H8,0) -> 19718100
A9: Ingeniero Residente Comuna 1 | B9: 1 | C9: 4500000 | D9: 1 | F9: =+'FACTOR MULTIPLICADOR'!$I$52 -> 2.18 | G9: =ROUND(C9*D9*F9*B9,0) -> 9810000 | H9: 4.5 | I9: =ROUND(G9*H9,0) -> 44145000
A10: Ingeniero Residente Comuna 2 y 3 | B10: 1 | C10: 4500000 | D10: 1 | F10: =+'FACTOR MULTIPLICADOR'!$I$52 -> 2.18 | G10: =ROUND(C10*D10*F10*B10,0) -> 9810000 | H10: 2.5 | I10: =ROUND(G10*H10,0) -> 24525000
A11: Ingeniero Residente Comuna 4 | B11: 1 | C11: 4500000 | D11: 1 | F11: =+'FACTOR MULTIPLICADOR'!$I$52 -> 2.18 | G11: =ROUND(C11*D11*F11*B11,0) -> 9810000 | H11: 3.5 | I11: =ROUND(G11*H11,0) -> 34335000
A12: Ingeniero Residente Comuna 8 | B12: 1 | C12: 4500000 | D12: 1 | F12: =+$F$8 -> 2.18 | G12: =ROUND(C12*D12*F12*B12,0) -> 9810000 | H12: 2 | I12: =ROUND(G12*H12,0) -> 19620000
A13: Ingeniero Ambiental | B13: 1 | C13: 3600000 | D13: 0.3 | F13: =+$F$8 -> 2.18 | G13: =ROUND(C13*D13*F13*B13,0) -> 2354400 | H13: 4.5 | I13: =ROUND(G13*H13,0) -> 10594800
A14: SUBTOTAL COSTO PERSONAL PROFESIONAL (1) | I14: =SUM(I8:I13) -> 152937900
A16: PERSONAL TÉCNICO (2)
A17: Personal técnico | B17: CANTIDAD | C17: SUELDOS BÁSICOS | D17: % DEDICACIÓN | F17: FACTOR MULT. | G17: VALOR MES (axAxBxC) | H17: No DE MESES | I17: TOTAL (DxE)
A18: Inspector Comuna 1 | B18: 1 | C18: 3600000 | D18: 1 | F18: =+$F$8 -> 2.18 | G18: =ROUND(C18*D18*F18*B18,0) -> 7848000 | H18: =+$I$3 -> 4.5 | I18: =ROUND(G18*H18,0) -> 35316000
A19: Inspector Comuna 2 y 3 | B19: 1 | C19: 3600000 | D19: 1 | F19: =+$F$8 -> 2.18 | G19: =ROUND(C19*D19*F19*B19,0) -> 7848000 | H19: 2.5 | I19: =ROUND(G19*H19,0) -> 19620000
A20: Inspector Comuna 4 | B20: 1 | C20: 3600000 | D20: 1 | F20: =+$F$8 -> 2.18 | G20: =ROUND(C20*D20*F20*B20,0) -> 7848000 | H20: 3.5 | I20: =ROUND(G20*H20,0) -> 27468000
A21: Inspector Comuna 8 | B21: 1 | C21: 3600000 | D21: 1 | F21: =+$F$8 -> 2.18 | G21: =ROUND(C21*D21*F21*B21,0) -> 7848000 | H21: 2 | I21: =ROUND(G21*H21,0) -> 15696000
A22: Trabajador social - Recursos Humanos | B22: 1 | C22: 3600000 | D22: 0.5 | F22: =+$F$8 -> 2.18 | G22: =ROUND(C22*D22*F22*B22,0) -> 3924000 | H22: =+$I$3 -> 4.5 | I22: =ROUND(G22*H22,0) -> 17658000
A23: Profesional SISO - SG-SST. | B23: 1 | C23: 3600000 | D23: 1 | F23: =+$F$8 -> 2.18 | G23: =ROUND(C23*D23*F23*B23,0) -> 7848000 | H23: =+$I$3 -> 4.5 | I23: =ROUND(G23*H23,0) -> 35316000
A24: SUBTOTAL COSTO PERSONAL TECNICO (2) | I24: =+SUM(I18:I23) -> 151074000
A26: PERSONAL ADMINISTRATIVO (3)
A27: Personal administrativo | B27: CANTIDAD | C27: SUELDOS BÁSICOS | D27: % DEDICACIÓN | F27: FACTOR MULT. | G27: VALOR MES (axAxBxC) | H27: No DE MESES | I27: TOTAL (DxE)
A28: Secretaria | B28: 0 | C28: 1750000 | D28: 0 | F28: =+$F$8 -> 2.18 | G28: =ROUND(C28*D28*F28*B28,0) -> 0 | H28: =+$I$3 -> 4.5 | I28: =ROUND(G28*H28,0) -> 0
A29: SUBTOTAL COSTO ADMINISTRATIVO (3) | I29: =+SUM(I28:I28) -> 0
A31: OTROS COSTOS DIRECTOS (4)
A32: Otros Costos Directos | B32: FM2 | E32: No DE MESES | H32: VR UNITARIO | I32: VALOR TOTAL
A33: Oficina/Campamento en la zona del proyecto (incluye dotación y servicios públicos) | B33: 1.28 | E33: =+$I$3 -> 4.5 | H33: 800000 | I33: =ROUND(B33*E33*H33,0) -> 4608000
A34: Ensayos de Laboratorio | B34: 1.28 | E34: =+$I$3 -> 4.5 | H34: 800000 | I34: =ROUND(B34*E34*H34,0) -> 4608000
A35: Auxilio de Transporte mensual para desplazamiento (Residentes e inspectores, tope máximo cuyo reconocimiento se hará según los comprobantes aportados y validados por el supervisor) | B35: 1.28 | E35: =+$I$3 -> 4.5 | H35: 6400000 | I35: =ROUND(B35*E35*H35,0) -> 36864000
A36: Apoyo jurídico a la interventoría Servicios profesionales en derecho para el acompañamiento jurídico del contrato de obra y de la interventoría, conforme a las necesidades del proyecto y previa autorización de la supervisión (ver Nota 2.4). | B36: 1.28 | E36: =+$I$3 -> 4.5 | H36: 2000000 | I36: =ROUND(B36*E36*H36,0) -> 11520000
A37: Edición de informes, papelería, reproducción de documentos, planos, fotografías, videos, etc. | B37: 1.28 | E37: =+$I$3 -> 4.5 | H37: 400000 | I37: =ROUND(B37*E37*H37,0) -> 2304000
A38: Comunicaciones (telefonía fija y/o celular, fax,correo, internet, etc.) | B38: 1.28 | E38: =+$I$3 -> 4.5 | H38: 800000 | I38: =ROUND(B38*E38*H38,0) -> 4608000
A39: SUBTOTAL COSTOS DIRECTOS VARIABLES (4) | I39: =SUM(I33:I38) -> 64512000
A41: RESUMEN GENERAL
A42: COSTO BASICO (1 + 2 + 3+ 4) | I42: =+I14+I24+I39+I29 -> 368523900
A43: IVA 19% | I43: =ROUND(I42*0.19,0) -> 70019541
A44: VALOR TOTAL | I44: =+I42+I43 -> 438543441
A45: NOTAS
...

Sheet FACTOR MULTIPLICADOR
A1: FACTOR MULTIPLICADOR
A2: “INTERVENTORÍA TÉCNICA, ADMINISTRATIVA, FINANCIERA Y JURÍDICA A LOS CONTRATOS DE OBRA PARA MANTENIMIENTO Y REHABILITACIÓN DE LA INFRAESTRUCTURA VIAL URBANA, MEDIANTE LA REPARACIÓN Y CONSTRUCCIÓN DE PAVIMENTOS Y PEATONALES, EN LAS COMUNAS ATARDECERES, SAN JOSÉ, CUMANDAY, LA ESTACIÓN Y PALOGRANDE (ANTES COMUNAS 1, 2, 3, 4 Y 8), EN LA CIUDAD DE MANIZALES POR MONTO AGOTABLE”
A3: 1. | B3: Salarios y Prestaciones Sociales de Personal Facturable
A4: 1.1. | B4: Salarios | I4: 1
A5: 1.2. | B5: Prima anual (legal) | I5: =1/12 -> 0.083333333
A6: 1.3. | B6: Cesantías | I6: =1/12 -> 0.083333333
A7: 1.4. | B7: Intereses de las cesantías | I7: 0.01
A8: 1.5. | B8: Vacaciones | I8: =+I6/2 -> 0.041666667 | S8: 12,5 salud y pension 16
A9: 1.6. | B9: Seguridad Social (salud + pensión) | I9: 0.12 | S9: 8,5 salud y pensión 12
A10: 1.7. | B10: Caja de Compensación Familiar | I10: 0.04
A11: 1.8. | B11: ARL | I11: 0.0696
A12: 1.9. | B12: ICBF | I12: 0
A13: 1.10. | B13: Otros (Auxilios varios, prestaciones extralegales, Indemnización por despido, Incapacidades no cubiertas, examenes de ingreso y egreso) | I13: 0.0226
A14: 1.11. | B14: Dotación | I14: 0.06
F15: Sub-total | I15: =SUM(I4:I14) -> 1.5305333
A17: 2 | B17: Gastos Generales
A18: 2.1 | B18: Equipos y mantenimiento Oficina | I18: 0.02
A19: 2.2 | B19: Gastos de vehículo | I19: 0.01
A20: 2.3 | B20: Seguros de robo e incendio | I20: 0.005
A21: 2.4 | B21: Costos de personal Administrativo no facturable | I21: 0.01
A22: 2.5 | B22: Asesorias Profesionales en otras areas, no facturable | I22: 0.01
A23: 2.6 | B23: Depreciación de muebles y equipos | I23: 0.005
A24: 2.7 | B24: Actualización tecnologica (Sofware, correo electronico, etc). | I24: 0.02
A25: 2.8 | B25: Gastos bancarios | I25: 0.0048
A26: 2.9 | B26: Gastos de Representación | I26: 0.01
A27: 2.1 | B27: Asesoria Contable Tributaria y Juridica | I27: 0.035
F28: Sub-total | I28: =SUM(I18:I27) -> 0.1298
A30: 3 | B30: Costos Directos no Reembolsables
A31: 3.01 | B31: Garantia de seriedad | I31: 0.0004
A32: 3.02 | B32: Poliza de Calidad | I32: =0.5*1.21% -> 0.00605 | J32: =20%*10%*12 -> 0.24
A33: 3.03 | B33: Póliza Cumplimiento | I33: 0.0121
A34: 3.04 | B34: Póliza Salarios y prestaciones Sociales | I34: =2.5*1.21% -> 0.03025
A35: 3.05 | B35: Póliza buen manejo y correcta inversión del anticipo | I35: 0
A36: 3.06 | B36: Estampillas Pro Universidad | I36: 0.02
A37: 3.07 | B37: Estampillas Pro Adulto Mayor | I37: 0.02
A38: 3.08 | B38: Estampilla pro cultura | I38: 0.02
A39: 3.09 | B39: Tasa pro deporte y recreación | I39: 0.005
A40: 3.10. | B40: Estampilla Pro justicia familiar (Acuerdo No 1156 30/01/2024) | I40: 0.02
A41: 3.11 | B41: Impuesto de industria y comercio | I41: 0.0035
A42: 3.12 | B42: Impuesto de Timbre (Decreto 1075 de 2025) | I42: 0
...

Sheet FACTOR MULTI 2 COSTOS DTOS
A1: FACTOR MULTIPLICADOR
A2: “INTERVENTORÍA TÉCNICA, ADMINISTRATIVA, FINANCIERA Y JURÍDICA A LOS CONTRATOS DE OBRA PARA MANTENIMIENTO Y REHABILITACIÓN DE LA INFRAESTRUCTURA VIAL URBANA, MEDIANTE LA REPARACIÓN Y CONSTRUCCIÓN DE PAVIMENTOS Y PEATONALES, EN LAS COMUNAS ATARDECERES, SAN JOSÉ, CUMANDAY, LA ESTACIÓN Y PALOGRANDE (ANTES COMUNAS 1, 2, 3, 4 Y 8), EN LA CIUDAD DE MANIZALES POR MONTO AGOTABLE”
A3: 1. | B3: Salarios y Prestaciones Sociales de Personal Facturable
A4: 1.1. | B4: Salarios | I4: 1
A5: 1.2. | B5: Prima anual (legal)
A6: 1.3. | B6: Cesantías
A7: 1.4. | B7: Intereses de las cesantías
A8: 1.5. | B8: Vacaciones | S8: 12,5 salud y pension 16
A9: 1.6. | B9: Seguridad Social (salud + pensión) | S9: 8,5 salud y pensión 12
A10: 1.7. | B10: Caja de Compensación Familiar
A11: 1.8. | B11: ARL
A12: 1.9. | B12: ICBF
A13: 1.10. | B13: Otros (Auxilios varios, prestaciones extralegales, Indemnización por despido, Incapacidades no cubiertas, examenes de ingreso y egreso)
A14: 1.11. | B14: Dotación
F15: Sub-total | I15: =SUM(I4:I14) -> 1
A17: 2 | B17: Gastos Generales
A18: 2.1 | B18: Equipos y mantenimiento Oficina
A19: 2.2 | B19: Gastos de vehículo
A20: 2.3 | B20: Seguros de robo e incendio
A21: 2.4 | B21: Costos de personal Administrativo no facturable
A22: 2.5 | B22: Asesorias Profesionales en otras areas, no facturable
A23: 2.6 | B23: Depreciación de muebles y equipos
A24: 2.7 | B24: Actualización tecnologica (Sofware, correo electronico, etc).
A25: 2.8 | B25: Gastos bancarios | I25: 0.004
A26: 2.9 | B26: Gastos de Representación | I26: 0
A27: 2.1 | B27: Asesoria Contable Tributaria y Juridica | I27: 0.035
F28: Sub-total | I28: =SUM(I18:I27) -> 0.039
A30: 3 | B30: Costos Directos no Reembolsables
A31: 3.01 | B31: Garantia de seriedad | I31: 0.0004
A32: 3.02 | B32: Poliza de Calidad | I32: =0.5*1.21% -> 0.00605 | J32: =20%*10%*12 -> 0.24
A33: 3.03 | B33: Póliza Cumplimiento | I33: 0.0121
A34: 3.04 | B34: Póliza Salarios y prestaciones Sociales | I34: =2.5*1.21% -> 0.03025
A35: 3.05 | B35: Póliza buen manejo y correcta inversión del anticipo | I35: 0
A36: 3.06 | B36: Estampillas Pro Universidad | I36: 0.02
A37: 3.07 | B37: Estampillas Pro Adulto Mayor | I37: 0.02
A38: 3.08 | B38: Estampilla pro cultura | I38: 0.02
A39: 3.09 | B39: Tasa pro deporte y recreación | I39: 0.005
A40: 3.10. | B40: Estampilla Pro justicia familiar (Acuerdo No 1156 30/01/2024) | I40: 0.02
A41: 3.11 | B41: Impuesto de industria y comercio | I41: 0.0035
A42: 3.12 | B42: Impuesto de Timbre (Decreto 1075 de 2025)
...
