Workbook

Sheet H1
B7: PROYECTO: “MEJORAMIENTO DEL SERVICIO DE ENERGÍA ELÉCTRICA EN LA ZONA RURAL MEDIANTE EL SUMINISTRO, REPARACIÓN E INSTALACIÓN DE TRANSFORMADORES Y MATERIALES ELÉCTRICOS EN EL MUNICIPIO DE LA PAZ CESAR
B8: ALCALDIA MUNICIPAL DE LA PAZ - CESAR
B9: SECRETARIA DE PLANEACION Y DESARROLLO TERRIRORIAL
A21: CRONOGRAMA DE ACTIVIDADES

Sheet CRONOGRAMA
B1: ='H1'!B7:E7 -> PROYECTO: “MEJORAMIENTO DEL SERVICIO DE ENERGÍA ELÉCTRICA EN LA ZONA RURAL MEDIANTE EL SUMINISTRO, REPARACIÓN E INSTALACIÓN DE TRANSFORMADORES Y MATERIALES ELÉCTRICOS EN EL MUNICIPIO DE LA PAZ CESAR
B2: ALCALDIA MUNICIPAL DE LA PAZ - CESAR
B3: SECRETARIA DE PLANEACION Y DESARROLLO TERRIRORIAL
B4: CONTIENE: CRONOGRAMA DE ACTIVIDADES
A6: ITEM | B6: DESCRIPCION | C6: VR. TOTAL | D6: PERIODO DE TIEMPO
D7: MES 1 | E7: MES 2 | F7: MES 3 | G7: MES 4 | H7: MES 5 | I7: MES 6 | J7: MES 7 | K7: MES 8 | L7: MES 9
A8: item | B8: DESCRIPCION DE OBJETO | C8: Valor Total
A9: ETAPA PRECONTRACTUAL
A10: 1 | B10: =PRESUPUESTO!B6 -> COMPONENTE A: SUMINISTRO DE MATERIALES
A11: 1.1 | B11: TRANSFORMADOR MONOFASICO DE 5 KVA TP:13200 VOLTIOS TS: 240/120 VOLTIOS TIPO POSTE EN ACEITE | C11: =PRESUPUESTO!F8+(PRESUPUESTO!F8*18%) -> 11776400 | F11: =C11/8 -> 1472050
A12: 1.2 | B12: TRANSFORMADOR MONOFASICO DE 15 KVA TP:13200 VOLTIOS TS: 240/120 VOLTIOS TIPO POSTE EN ACEITE | C12: =PRESUPUESTO!F9+(PRESUPUESTO!F9*18%) -> 8864160 | F12: =C12/8 -> 1108020
A13: 1.3 | B13: TRANSFORMADOR MONOFASICO DE 25 KVA TP:13200 VOLTIOS TS: 240/120 VOLTIOS TIPO POSTE EN ACEITE | C13: =PRESUPUESTO!F10+(PRESUPUESTO!F10*18%) -> 10844200 | F13: =C13/8 -> 1355525
A14: 1.4 | B14: TRANSFORMADOR MONOFASICO DE 50 KVA TP:13200 VOLTIOS TS: 240/120 VOLTIOS TIPO POSTE EN ACEITE | C14: =PRESUPUESTO!F11+(PRESUPUESTO!F11*18%) -> 16909400 | F14: =C14/8 -> 2113675
A15: 1.5 | B15: TRANSFORMADOR MONOFASICO DE 75 KVA TP:13200 VOLTIOS TS: 240/120 VOLTIOS TIPO POSTE EN ACEITE | C15: =PRESUPUESTO!F12+(PRESUPUESTO!F12*18%) -> 23659000 | F15: =C15/8 -> 2957375
A16: 1.6 | B16: POSTE DE CONCRETO 12 METROS X 750 KILOGRAMOS ENTREGADOS EN EL BARRIO LA PISTA DEL CASCO URBANO. | C16: =PRESUPUESTO!F13+(PRESUPUESTO!F13*18%) -> 2183000 | F16: =C16/8 -> 272875
A17: 1.7 | B17: POSTE DE CONCRETO 12 METROS X 750 KILOGRAMOS ENTREGADOS EN LA VEREDA NUEVO ORIENTE | C17: =PRESUPUESTO!F14+(PRESUPUESTO!F14*18%) -> 2360000 | F17: =C17/8 -> 295000
A18: 1.8 | B18: DIAGONAL EN ANGULO TIPO BANDERA DE 1-1/2 X 3-16X 2,14 METROS GALVANIZADA EN CALIENTE | C18: =PRESUPUESTO!F15+(PRESUPUESTO!F15*18%) -> 771720 | F18: =C18/8 -> 96465
A19: 1.9 | B19: CABLE ALUMINIO DESNUDO ACSR # 4 | C19: =PRESUPUESTO!F16+(PRESUPUESTO!F16*18%) -> 10030000 | F19: =C19/8 -> 1253750
A20: 1.10 | B20: ABRAZADERA O COLLARIN PARA TRANSFORMADOR DE 7 A 8" 1 SALIDA BAJO SILICIO 180 MM | C20: =PRESUPUESTO!F17+(PRESUPUESTO!F17*18%) -> 556370 | F20: =C20/8 -> 69546.25
A21: 1.11 | B21: CORTACIRCUITOS 27KV - 125 KV - 100 AMPERIOS | C21: =PRESUPUESTO!F18+(PRESUPUESTO!F18*18%) -> 5616800 | F21: =C21/8 -> 702100
A22: 1.12 | B22: CRUCETA METALICA AUTOSOPORTADA GALVANIZADO EN CALIENTE 1/4X3X2,40 MTS | C22: =PRESUPUESTO!F19+(PRESUPUESTO!F19*18%) -> 3304000 | F22: =C22/8 -> 413000
... A29: 1.19 | B29: KIT SPT MONOFASICO EN ACERO INOXIDABLE PARA TRANSFORMADOR Y PARARRAYOS 15 KV. | C29: =PRESUPUESTO!F26+(PRESUPUESTO!F26*18%) -> 1864400 | F29: =C29/8 -> 233050
A30: SUBTOTAL | C30: =SUM(C11:C29) -> 110558566
A31: =PRESUPUESTO!A29 -> 2 | B31: =PRESUPUESTO!B29 -> COMPONENTE B: REPARACION, SUMINISTRO E INSTALACION
A32: 2.1 | B32: REPARACION DE TRANSFORMADOR MONOFASICO DE 5 KVA TP:13200 VOLTIOS TS: 240/120 VOLTIOS TIPO POSTE EN ACEITE | C32: =PRESUPUESTO!F31+(PRESUPUESTO!F31*29%) -> 2238150 | G32: =$C32/4 -> 559537.5 | H32: =$C32/4 -> 559537.5 | I32: =$C32/4 -> 559537.5 | J32: =$C32/4 -> 559537.5
A33: 2.2 | B33: REPARACION DE TRANSFORMADOR MONOFASICO DE 25 KVA TP:13200 VOLTIOS TS: 240/120 VOLTIOS TIPO POSTE EN ACEITE | C33: =PRESUPUESTO!F32+(PRESUPUESTO!F32*29%) -> 3557820 | G33: =$C33/4 -> 889455 | H33: =$C33/4 -> 889455 | I33: =$C33/4 -> 889455 | J33: =$C33/4 -> 889455
A34: 2.3 | B34: REPARACION DE TRANSFORMADOR MONOFASICO DE 15 KVA TP:13200 VOLTIOS TS: 240/120 VOLTIOS TIPO POSTE EN ACEITE | C34: =PRESUPUESTO!F33+(PRESUPUESTO!F33*29%) -> 3196620 | G34: =$C34/4 -> 799155 | H34: =$C34/4 -> 799155 | I34: =$C34/4 -> 799155 | J34: =$C34/4 -> 799155
A35: 2.4 | B35: ELABORACION DE POLO A TIERRA PARA TRANSFORMADOR Y PARARRAYOS | C35: =PRESUPUESTO!F34+(PRESUPUESTO!F34*29%) -> 626940 | G35: =$C35/4 -> 156735 | H35: =$C35/4 -> 156735 | I35: =$C35/4 -> 156735 | J35: =$C35/4 -> 156735
A36: 2.5 | B36: ELABORACION DE ESTRUCTURA DE PROTECCION Y SECCIONAMIENTO MONOFASICA A NIVEL 13200 VOLTIOS | C36: =PRESUPUESTO!F35+(PRESUPUESTO!F35*29%) -> 1283550 | G36: =$C36/4 -> 320887.5 | H36: =$C36/4 -> 320887.5 | I36: =$C36/4 -> 320887.5 | J36: =$C36/4 -> 320887.5
A37: 2.6 | B37: SUMINISTRO E INSTALACION DE TRANSFORMADOR MONOFASICO DE 25 KVA, TP: 13200 VOLTIOS, TS: 240/120 VOLTIOS, TIPO POSTE EN ACEITE | C37: =PRESUPUESTO!F36+(PRESUPUESTO!F36*29%) -> 13100918 | G37: =$C37/4 -> 3275229.4 | H37: =$C37/4 -> 3275229.4 | I37: =$C37/4 -> 3275229.4 | J37: =$C37/4 -> 3275229.4
A38: 2.7 | B38: SUMINISTRO E INSTALACION DE TRANSFORMADOR MONOFASICO DE 15 KVA, TP: 13200 VOLTIOS, TS: 240/120 VOLTIOS, TIPO POSTE EN ACEITE | C38: =PRESUPUESTO!F37+(PRESUPUESTO!F37*29%) -> 10528980 | G38: =$C38/4 -> 2632245 | H38: =$C38/4 -> 2632245 | I38: =$C38/4 -> 2632245 | J38: =$C38/4 -> 2632245
A39: 2.8 | B39: SUMINISTRO E INSTALACION DE TRANSFORMADOR MONOFASICO DE 5 KVA, TP: 13200 VOLTIOS, TS: 240/120 VOLTIOS, TIPO POSTE EN ACEITE | C39: =PRESUPUESTO!F38+(PRESUPUESTO!F38*29%) -> 6991800 | G39: =$C39/4 -> 1747950 | H39: =$C39/4 -> 1747950 | I39: =$C39/4 -> 1747950 | J39: =$C39/4 -> 1747950
A40: 2.9 | B40: SUMINISTRO E INSTALACION DE TRANSFORMADOR MONOFASICO DE 50 KVA, TP: 13200 VOLTIOS, TS: 240/120 VOLTIOS, TIPO POSTE EN ACEITE | C40: =PRESUPUESTO!F39+(PRESUPUESTO!F39*29%) -> 19788600 | G40: =$C40/4 -> 4947150 | H40: =$C40/4 -> 4947150 | I40: =$C40/4 -> 4947150 | J40: =$C40/4 -> 4947150
A41: 2.10 | B41: SUMINISTRO E INSTALACION DE TRANSFORMADOR MONOFASICO DE 75 KVA, TP: 13200 VOLTIOS, TS: 240/120 VOLTIOS, TIPO POSTE EN ACEITE | C41: =PRESUPUESTO!F40+(PRESUPUESTO!F40*29%) -> 28122000 | G41: =$C41/4 -> 7030500 | H41: =$C41/4 -> 7030500 | I41: =$C41/4 -> 7030500 | J41: =$C41/4 -> 7030500
A42: SUBTOTAL | C42: =SUM(C32:C41) -> 89435378
A43: CIERRE CONTRACTUAL
A45: =PRESUPUESTO!A52 -> VALOR TOTAL | C45: =C42+C30 -> 1.9999394e+08
B49: LEONARDO IVÁN OÑATE LÓPEZ
B50: INGENIERO CIVIL
B51: M.P 20202-36795656 CES
...

Sheet H2
B7: =CRONOGRAMA!B1 -> PROYECTO: “MEJORAMIENTO DEL SERVICIO DE ENERGÍA ELÉCTRICA EN LA ZONA RURAL MEDIANTE EL SUMINISTRO, REPARACIÓN E INSTALACIÓN DE TRANSFORMADORES Y MATERIALES ELÉCTRICOS EN EL MUNICIPIO DE LA PAZ CESAR
B8: ALCALDIA MUNICIPAL DE LA PAZ - CESAR
B9: SECRETARIA DE PLANEACION Y DESARROLLO TERRIRORIAL
A20: PRESUPUESTO DE OBRA

Sheet PRESUPUESTO
B1: ='H2'!B7:E7 -> PROYECTO: “MEJORAMIENTO DEL SERVICIO DE ENERGÍA ELÉCTRICA EN LA ZONA RURAL MEDIANTE EL SUMINISTRO, REPARACIÓN E INSTALACIÓN DE TRANSFORMADORES Y MATERIALES ELÉCTRICOS EN EL MUNICIPIO DE LA PAZ CESAR
B2: ALCALDIA MUNICIPAL DE LA PAZ, DEPARTAMENTO DEL CESAR
B3: CONTIENE: PRESUPUESTO OFICIAL
A6: 1 | B6: COMPONENTE A: SUMINISTRO DE MATERIALES
A7: ITEM | B7: DESCRIPCION | C7: UNID | D7: CANT. | E7: VALOR UNITARIO | F7: VALOR TOTAL
A8: 1.1 | B8: TRANSFORMADOR MONOFASICO DE 5 KVA TP:13200 VOLTIOS TS: 240/120 VOLTIOS TIPO POSTE EN ACEITE | C8: UND | D8: 2 | E8: 4990000 | F8: =D8*E8 -> 9980000
A9: 1.2 | B9: TRANSFORMADOR MONOFASICO DE 15 KVA TP:13200 VOLTIOS TS: 240/120 VOLTIOS TIPO POSTE EN ACEITE | C9: UND | D9: 1 | E9: 7512000 | F9: =D9*E9 -> 7512000
A10: 1.3 | B10: TRANSFORMADOR MONOFASICO DE 25 KVA TP:13200 VOLTIOS TS: 240/120 VOLTIOS TIPO POSTE EN ACEITE | C10: UND | D10: 1 | E10: 9190000 | F10: =D10*E10 -> 9190000
A11: 1.4 | B11: TRANSFORMADOR MONOFASICO DE 50 KVA TP:13200 VOLTIOS TS: 240/120 VOLTIOS TIPO POSTE EN ACEITE | C11: UND | D11: 1 | E11: 14330000 | F11: =D11*E11 -> 14330000
A12: 1.5 | B12: TRANSFORMADOR MONOFASICO DE 75 KVA TP:13200 VOLTIOS TS: 240/120 VOLTIOS TIPO POSTE EN ACEITE | C12: UND | D12: 1 | E12: 20050000 | F12: =D12*E12 -> 20050000
A13: 1.6 | B13: POSTE DE CONCRETO 12 METROS X 750 KILOGRAMOS ENTREGADOS EN EL BARRIO LA PISTA DEL CASCO URBANO. | C13: UND | D13: 1 | E13: 1850000 | F13: =D13*E13 -> 1850000
A14: 1.7 | B14: POSTE DE CONCRETO 12 METROS X 750 KILOGRAMOS ENTREGADOS EN LA VEREDA NUEVO ORIENTE | C14: UND | D14: 1 | E14: 2000000 | F14: =D14*E14 -> 2000000
A15: 1.8 | B15: DIAGONAL EN ANGULO TIPO BANDERA DE 1-1/2 X 3-16X 2,14 METROS GALVANIZADA EN CALIENTE | C15: UND | D15: 6 | E15: 109000 | F15: =D15*E15 -> 654000
A16: 1.9 | B16: CABLE ALUMINIO DESNUDO ACSR # 4 | C16: MTS | D16: 2500 | E16: 3400 | F16: =D16*E16 -> 8500000
A17: 1.10 | B17: ABRAZADERA O COLLARIN PARA TRANSFORMADOR DE 7 A 8" 1 SALIDA BAJO SILICIO 180 MM | C17: UND | D17: 10 | E17: 47150 | F17: =D17*E17 -> 471500
A18: 1.11 | B18: CORTACIRCUITOS 27KV - 125 KV - 100 AMPERIOS | C18: UND | D18: 14 | E18: 340000 | F18: =D18*E18 -> 4760000
A19: 1.12 | B19: CRUCETA METALICA AUTOSOPORTADA GALVANIZADO EN CALIENTE 1/4X3X2,40 MTS | C19: UND | D19: 10 | E19: 280000 | F19: =D19*E19 -> 2800000
... A26: 1.19 | B26: KIT SPT MONOFASICO EN ACERO INOXIDABLE PARA TRANSFORMADOR Y PARARRAYOS 15 KV. | C26: UND | D26: 4 | E26: 395000 | F26: =D26*E26 -> 1580000
B27: SUBTOTAL COMPONENTE A: | F27: =SUM(F8:F26) -> 93693700
A29: 2 | B29: COMPONENTE B: REPARACION, SUMINISTRO E INSTALACION
A30: ITEM | B30: DESCRIPCION | C30: UNID | D30: CANT | E30: VALOR UNITARIO | F30: VALOR TOTAL
A31: 2.1 | B31: REPARACION DE TRANSFORMADOR MONOFASICO DE 5 KVA TP:13200 VOLTIOS TS: 240/120 VOLTIOS TIPO POSTE EN ACEITE | C31: UNID | D31: 1 | E31: 1735000 | F31: =D31*E31 -> 1735000
A32: 2.2 | B32: REPARACION DE TRANSFORMADOR MONOFASICO DE 25 KVA TP:13200 VOLTIOS TS: 240/120 VOLTIOS TIPO POSTE EN ACEITE | C32: UNID | D32: 1 | E32: 2758000 | F32: =D32*E32 -> 2758000
A33: 2.3 | B33: REPARACION DE TRANSFORMADOR MONOFASICO DE 15 KVA TP:13200 VOLTIOS TS: 240/120 VOLTIOS TIPO POSTE EN ACEITE | C33: UNID | D33: 1 | E33: 2478000 | F33: =D33*E33 -> 2478000
A34: 2.4 | B34: ELABORACION DE POLO A TIERRA PARA TRANSFORMADOR Y PARARRAYOS | C34: UNID | D34: 2 | E34: 243000 | F34: =D34*E34 -> 486000
A35: 2.5 | B35: ELABORACION DE ESTRUCTURA DE PROTECCION Y SECCIONAMIENTO MONOFASICA A NIVEL 13200 VOLTIOS | C35: UNID | D35: 1 | E35: 995000 | F35: =D35*E35 -> 995000
A36: 2.6 | B36: SUMINISTRO E INSTALACION DE TRANSFORMADOR MONOFASICO DE 25 KVA, TP: 13200 VOLTIOS, TS: 240/120 VOLTIOS, TIPO POSTE EN ACEITE | C36: UNID | D36: 1 | E36: 10155750 | F36: =D36*E36 -> 10155750
A37: 2.7 | B37: SUMINISTRO E INSTALACION DE TRANSFORMADOR MONOFASICO DE 15 KVA, TP: 13200 VOLTIOS, TS: 240/120 VOLTIOS, TIPO POSTE EN ACEITE | C37: UNID | D37: 1 | E37: 8162000 | F37: =D37*E37 -> 8162000
A38: 2.8 | B38: SUMINISTRO E INSTALACION DE TRANSFORMADOR MONOFASICO DE 5 KVA, TP: 13200 VOLTIOS, TS: 240/120 VOLTIOS, TIPO POSTE EN ACEITE | C38: UNID | D38: 1 | E38: 5420000 | F38: =D38*E38 -> 5420000
A39: 2.9 | B39: SUMINISTRO E INSTALACION DE TRANSFORMADOR MONOFASICO DE 50 KVA, TP: 13200 VOLTIOS, TS: 240/120 VOLTIOS, TIPO POSTE EN ACEITE | C39: UNID | D39: 1 | E39: 15340000 | F39: =D39*E39 -> 15340000
A40: 2.10 | B40: SUMINISTRO E INSTALACION DE TRANSFORMADOR MONOFASICO DE 75 KVA, TP: 13200 VOLTIOS, TS: 240/120 VOLTIOS, TIPO POSTE EN ACEITE | C40: UNID | D40: 1 | E40: 21800000 | F40: =D40*E40 -> 21800000
A41: SUBTOTAL COMPONENTE B: | F41: =SUM(F31:F40) -> 69329750
A43: COSTOS DIRECTOR COMPONENTE A: | F43: =F27 -> 93693700
A44: ADMINISTRACIÓN | E44: 0.18 | F44: =F43*E44 -> 16864866
A46: COSTOS DIRECTOR COMPONENTE B: | F46: =F41 -> 69329750
A47: ADMINISTRACION | E47: 0.24 | F47: =F46*E47 -> 16639140
A48: IMPREVISTOS | E48: 0.01 | F48: =F46*E48 -> 693297.5
A49: UTILIDAD | E49: 0.04 | F49: =F46*E49 -> 2773190
A50: AIU 29% | F50: =+F47+F48+F49 -> 20105628
A52: VALOR TOTAL | F52: =F43+F44+F46+F50 -> 1.9999394e+08
...

Sheet H3
B6: =PRESUPUESTO!B1 -> PROYECTO: “MEJORAMIENTO DEL SERVICIO DE ENERGÍA ELÉCTRICA EN LA ZONA RURAL MEDIANTE EL SUMINISTRO, REPARACIÓN E INSTALACIÓN DE TRANSFORMADORES Y MATERIALES ELÉCTRICOS EN EL MUNICIPIO DE LA PAZ CESAR
B7: ALCALDIA MUNICIPAL DE LA PAZ - CESAR
B8: SECRETARIA DE PLANEACION Y DESARROLLO TERRIRORIAL
A16: CALCULO DE ADMINISTRACIÓN DE SUMINISTRO

Sheet ADMINISTRACIÓN SUMINISTRO
C1: =PRESUPUESTO!B1 -> PROYECTO: “MEJORAMIENTO DEL SERVICIO DE ENERGÍA ELÉCTRICA EN LA ZONA RURAL MEDIANTE EL SUMINISTRO, REPARACIÓN E INSTALACIÓN DE TRANSFORMADORES Y MATERIALES ELÉCTRICOS EN EL MUNICIPIO DE LA PAZ CESAR
C2: ALCALDIA MUNICIPAL DE LA PAZ, DEPARTAMENTO DEL CESAR
C3: CONTIENE: CALCULO DE AIU
A6: VALOR COSTOS DIRECTOS | C6: =PRESUPUESTO!F43 -> 93693700
A7: TIEMPO DE EJECUCION FISICA DE LA OBRA | C7: 5 MESES
A8: ADMINISTRACIÓN CALCULADA | C8: =G30 -> 16864866
A11: ITEM | B11: DESCRIPCION | C11: UNIDAD | D11: CANTIDAD | E11: % DE PARTICIPACIÓN | F11: VALOR UNITARIO ($) | G11: FACTOR % PRESTACIONAL | H11: VALOR CON PRESTACIONES ($) | I11: MESES | J11: VALOR TOTAL ($)
A12: 1. PERSONAL DE OBRA (incluye prestaciones sociales) SE CONTEMPLAN
A13: 1.1 | B13: Tecnico electricista | C13: mes | D13: 1 | E13: 75 | F13: 3150000 | G13: ='FACTOR PRESTACIONAL'!K37 -> 71.102 | H13: =(E13*F13/100)*(100+G13)/100 -> 4042284.8 | I13: 1 | J13: =H13*I13*D13 -> 4042284.8
A14: 1. TOTAL PERSONAL DE OBRA | J14: =SUM(J13:J13) -> 4042284.8
B16: 2. OFICINA, PAPELERIA Y OTROS
A17: 2.3 | B17: Papeleria, impresiones | C17: mes | D17: 1 | F17: 33453.181 | I17: 8 | J17: =F17*I17*D17 -> 267625.45
A18: 2. TOTAL OFICINA, PAPELERIA Y OTROS | J18: =SUM(J17:J17) -> 267625.45
A20: 3. OTROS - GASTOS GENERALES
A22: 3. TOTAL OTROS - GASTOS GENERALES: | J22: =SUM(J21:J21) -> 0
A24: 4. COSTOS DE LEGALIZACION DEL CONTRATO
A25: 4.1 | B25: Pólizas | C25: un | D25: 1 | E25: 0.9 | F25: =C6*E25/100 -> 843243.3 | J25: =+D25*F25 -> 843243.3
A26: 4.2 | B26: Estampilla pro cultura 2% sobre el valor del contrato. Estampilla pro adulto mayor 4% sobre el valor del contrato. Estampilla pro fronterizo, 1,5% sobre el valor del contrato. Tasa pro deporte 2,5% Estampilla pro universidad, 0,5% sobre el valor del contrato Estampilla justicia familiar 2% | C26: un | D26: 1 | E26: =2+4+1.5+2.5+0.5+2 -> 12.5 | F26: =C6*E26/100 -> 11711712 | J26: =+F26 -> 11711712
A27: 4. TOTAL COSTOS DE LEGALIZACION DEL CONTRATO: | J27: =SUM(J25:J26) -> 12554956
B30: TOTAL ADMINISTRACION | F30: 0.18 | G30: =J27+J22+J18+J14 -> 16864866
B33: LEONARDO IVÁN OÑATE LÓPEZ
B34: INGENIERO CIVIL
B35: M.P 20202-36795656 CES
B36: C.C 1.067.815.106

Sheet H4
B6: =PRESUPUESTO!B1 -> PROYECTO: “MEJORAMIENTO DEL SERVICIO DE ENERGÍA ELÉCTRICA EN LA ZONA RURAL MEDIANTE EL SUMINISTRO, REPARACIÓN E INSTALACIÓN DE TRANSFORMADORES Y MATERIALES ELÉCTRICOS EN EL MUNICIPIO DE LA PAZ CESAR
B7: ALCALDIA MUNICIPAL DE LA PAZ - CESAR
B8: SECRETARIA DE PLANEACION Y DESARROLLO TERRIRORIAL
A16: CALCULO DE AIU DE OBRA

Sheet AIU OBRA
C1: =PRESUPUESTO!B1 -> PROYECTO: “MEJORAMIENTO DEL SERVICIO DE ENERGÍA ELÉCTRICA EN LA ZONA RURAL MEDIANTE EL SUMINISTRO, REPARACIÓN E INSTALACIÓN DE TRANSFORMADORES Y MATERIALES ELÉCTRICOS EN EL MUNICIPIO DE LA PAZ CESAR
C2: ALCALDIA MUNICIPAL DE LA PAZ, DEPARTAMENTO DEL CESAR
C3: CONTIENE: CALCULO DE AIU
A6: VALOR COSTOS DIRECTOS | C6: =PRESUPUESTO!F46 -> 69329750
A7: TIEMPO DE EJECUCION FISICA DE LA OBRA | C7: 5 MESES
A8: AIU CALCULADO | C8: =G37 -> 20105628
A11: ITEM | B11: DESCRIPCION | C11: UNIDAD | D11: CANTIDAD | E11: % DE PARTICIPACIÓN | F11: VALOR UNITARIO ($) | G11: FACTOR % PRESTACIONAL | H11: VALOR CON PRESTACIONES ($) | I11: MESES | J11: VALOR TOTAL ($)
A12: 1. PERSONAL DE OBRA (incluye prestaciones sociales) SE CONTEMPLAN
A13: 1.1 | B13: Tecnico electricista | C13: mes | D13: 1 | E13: 17 | F13: 3150000 | G13: ='FACTOR PRESTACIONAL'!K37 -> 71.102 | H13: =(E13*F13/100)*(100+G13)/100 -> 916251.21 | I13: 4 | J13: =H13*I13*D13 -> 3665004.8
A14: 1. TOTAL PERSONAL DE OBRA | J14: =SUM(J13:J13) -> 3665004.8
B16: 2. OFICINA, PAPELERIA Y OTROS
A17: 2.3 | B17: Papeleria, impresiones, campamento | C17: mes | D17: 1 | F17: 43492.232 | I17: 5 | J17: =F17*I17*D17 -> 217461.16
A19: 2. TOTAL OFICINA, PAPELERIA Y OTROS | J19: =SUM(J17:J18) -> 217461.16
A21: 3. OTROS - GASTOS GENERALES
A23: 3. TOTAL OTROS - GASTOS GENERALES: | J23: =SUM(J22:J22) -> 0
A25: 4. COSTOS DE LEGALIZACION DEL CONTRATO
A26: 4.1 | B26: Pólizas | C26: un | D26: 1 | E26: 0.9 | F26: =C6*E26/100 -> 623967.75 | J26: =+D26*F26 -> 623967.75
A27: 4.2 | B27: Estampilla pro cultura 2% sobre el valor del contrato. Estampilla pro adulto mayor 4% sobre el valor del contrato. Estampilla pro fronterizo, 1,5% sobre el valor del contrato. Fondo de seguridad ciudadana 5% sobre el valor del contrato. Tasa pro deporte 2,5% Estampilla pro universidad, 0,5% sobre el valor del contrato Estampilla justicia familiar 2% | C27: un | D27: 1 | E27: =2+4+1.5+5+2.5+0.5+2 -> 17.5 | F27: =C6*E27/100 -> 12132706 | J27: =+F27 -> 12132706
A28: 4. TOTAL COSTOS DE LEGALIZACION DEL CONTRATO: | J28: =SUM(J26:J27) -> 12756674
B31: TOTAL ADMINISTRACION | F31: 0.24 | G31: =J28+J23+J19+J14 -> 16639140 | L31: 16639140
B33: IMPREVISTOS | F33: 0.01 | G33: =ROUND((F33*C6),0) -> 693298
B35: UTILIDAD | F35: 0.04 | G35: =ROUND((F35*C6),0) -> 2773190
B37: TOTAL AIU | F37: =F31+F33+F35 -> 0.29 | G37: =+G31+G33+G35 -> 20105628
B40: LEONARDO IVÁN OÑATE LÓPEZ
B41: INGENIERO CIVIL
B42: M.P 20202-36795656 CES
B43: C.C 1.067.815.106

Sheet H5
B7: =PRESUPUESTO!B1 -> PROYECTO: “MEJORAMIENTO DEL SERVICIO DE ENERGÍA ELÉCTRICA EN LA ZONA RURAL MEDIANTE EL SUMINISTRO, REPARACIÓN E INSTALACIÓN DE TRANSFORMADORES Y MATERIALES ELÉCTRICOS EN EL MUNICIPIO DE LA PAZ CESAR
B8: ALCALDIA MUNICIPAL DE LA PAZ - CESAR
B9: SECRETARIA DE PLANEACION Y DESARROLLO TERRIRORIAL
A17: ANALISIS FACTOR PRESTACIONAL

Sheet FACTOR PRESTACIONAL
E1: =PRESUPUESTO!B1 -> PROYECTO: “MEJORAMIENTO DEL SERVICIO DE ENERGÍA ELÉCTRICA EN LA ZONA RURAL MEDIANTE EL SUMINISTRO, REPARACIÓN E INSTALACIÓN DE TRANSFORMADORES Y MATERIALES ELÉCTRICOS EN EL MUNICIPIO DE LA PAZ CESAR
E2: ALCALDIA MUNICIPAL DE LA PAZ, DEPARTAMENTO DEL CESAR
E3: CONTIENE: ANALISIS FACTOR PRESTACIONAL
A8: FACTOR PRESTACIONAL < 2SMMLV | M8: FACTOR PRESTACIONAL > 2 SMMLV
A9: DESCRIPCIÓN | M9: DESCRIPCIÓN
A11: A. SALARIO | K11: 1 | M11: A. SALARIO | W11: 1
A13: B. PRESTACIONES SOCIALES Y APORTES PARAFISCALES | M13: B. PRESTACIONES SOCIALES Y APORTES PARAFISCALES
C15: Subsidio de transporte | K15: 11.96 | O15: Subsidio de transporte
C16: Cesantía | K16: 8.33 | O16: Cesantía | W16: 8.33
C17: Intereses Cesantía | K17: 1 | O17: Intereses Cesantía | W17: 1
C18: Prima Legal | K18: 8.33 | O18: Prima Legal | W18: 8.33
C19: Vacaciones | K19: 4.16 | O19: Vacaciones | W19: 4.16
C20: Salud | K20: 8.5 | O20: Salud | W20: 8.5
C21: Pensiones | K21: 12 | O21: Pensiones | W21: 12
C22: Riesgos Profesionales | K22: 0.522 | O22: Riesgos Profesionales | W22: 6.96
C23: Dotacion | K23: 3 | O23: Dotacion
C24: Exámenes de ingreso y egreso | K24: 1.3 | O24: Exámenes de ingreso y egreso | W24: 1.3
C25: FIC | K25: 1 | O25: FIC | W25: 1
C26: Otros (ausencias justificadas, Indemnizaciones, etc. ) | K26: 1 | O26: Otros (ausencias justificadas, Indemnizaciones, etc. ) | W26: 1
C28: PARAFISCALES | O28: PARAFISCALES
C29: Caja de compensacion Familiar | K29: 4 | O29: Caja de compensacion Familiar | W29: 4
C30: Sena | K30: 2 | O30: Sena | W30: 2
C31: ICBF | K31: 3 | O31: ICBF | W31: 3
E33: SUB-TOTAL B | K33: =SUM(K15:K31) -> 70.102 | Q33: SUB-TOTAL B | W33: =SUM(W15:W31) -> 61.58
A37: FACTOR PRESTACIONAL ADOPTADO | K37: =+K33+K11 -> 71.102 | M37: FACTOR PRESTACIONAL ADOPTADO | W37: =+W33+W11 -> 62.58
A43: LEONARDO IVÁN OÑATE LÓPEZ
A44: INGENIERO CIVIL
A45: M.P 20202-36795656 CES
A46: C.C 1.067.815.106
A48: Revisó y Aprobó:
A49: EDGARDO JESUS AROCA MINDIOLA
A50: Secretario de Planeación y Desarrollo Territorial Municipal

Sheet H6
B7: =PRESUPUESTO!B1 -> PROYECTO: “MEJORAMIENTO DEL SERVICIO DE ENERGÍA ELÉCTRICA EN LA ZONA RURAL MEDIANTE EL SUMINISTRO, REPARACIÓN E INSTALACIÓN DE TRANSFORMADORES Y MATERIALES ELÉCTRICOS EN EL MUNICIPIO DE LA PAZ CESAR
B8: ALCALDIA MUNICIPAL DE LA PAZ - CESAR
B9: SECRETARIA DE PLANEACION Y DESARROLLO TERRIRORIAL
A19: ANALISIS DE PRECIOS UNITARIOS

Sheet APU
B1: =PRESUPUESTO!B1 -> PROYECTO: “MEJORAMIENTO DEL SERVICIO DE ENERGÍA ELÉCTRICA EN LA ZONA RURAL MEDIANTE EL SUMINISTRO, REPARACIÓN E INSTALACIÓN DE TRANSFORMADORES Y MATERIALES ELÉCTRICOS EN EL MUNICIPIO DE LA PAZ CESAR
B2: ALCALDIA MUNICIPAL DE LA PAZ, DEPARTAMENTO DEL CESAR
B3: CONTIENE: PANALISIS DE PRECIOS UNITARIOS
A5: TRANSFORMADOR MONOFASICO DE 5 KVA TP:13200 VOLTIOS TS: 240/120 VOLTIOS TIPO POSTE EN ACEITE | G5: APU | H5: 1.1
G6: UNIDAD | H6: UND
A7: MATERIALES.
A8: ITEM | B8: DESCRIPCION | D8: UN. | E8: HORA | F8: CANT. | G8: V/UNITARIO | H8: V/PARCIAL
A9: 1 | B9: TRANSFORMADOR MONOFASICO DE 5 KVA TP:13200 VOLTIOS TS: 240/120 VOLTIOS TIPO POSTE EN ACEITE | D9: Und | F9: 1 | G9: 4840000 | H9: 4840000
A10: Subtotal Materiales | H10: 4840000
A11: TRANSPORTE.
A12: ITEM | B12: DESCRIPCION | D12: CANT. | E12: HORA | F12: REND. | G12: V/JORNAL | H12: V/PARCIAL
A13: 1 | B13: Camioneta ford doble cabina 4X4 | D13: Und | E13: 1 | F13: 1 | G13: 150000 | H13: 150000
A14: Subtotal Transporte | H14: 150000
A15: MAQUINARIA Y EQUIPOS.
A16: ITEM | B16: DESCRIPCION | C16: UN. | D16: CANT. | E16: HORA | F16: REND. | G16: V/JORNAL | H16: V/PARCIAL
A17: 1 | B17: Herramienta menor. | C17: GLB | F17: 1 | G17: 18000 | H17: 0
A18: Subtotal Maquinaria y Equipos | H18: 0
A19: MANO DE OBRA.
A20: ITEM | B20: DESCRIPCION | D20: CANT. | E20: HORA | F20: REND. | G20: V/JORNAL | H20: V/PARCIAL
A21: 1 | B21: Oficial | D21: 1 | F21: 1 | G21: 85000 | H21: 0
A22: 2 | B22: Ayudante | D22: 1 | F22: 1 | G22: 40000 | H22: 0
H23: 0
A25: TOTAL VALOR UNITARIO | H25: 4990000
A27: TRANSFORMADOR MONOFASICO DE 15 KVA TP:13200 VOLTIOS TS: 240/120 VOLTIOS TIPO POSTE EN ACEITE | G27: APU | H27: 1.2
G28: UNIDAD | H28: UND
A29: MATERIALES.
A30: ITEM | B30: DESCRIPCION | D30: UN. | E30: HORA | F30: CANT. | G30: V/UNITARIO | H30: V/PARCIAL
A31: 1 | B31: TRANSFORMADOR MONOFASICO DE 15 KVA TP:13200 VOLTIOS TS: 240/120 VOLTIOS TIPO POSTE EN ACEITE | D31: Und | F31: 1 | G31: 7362000 | H31: 7362000
A32: Subtotal Materiales | H32: 7362000
A33: TRANSPORTE.
A34: ITEM | B34: DESCRIPCION | D34: CANT. | E34: HORA | F34: REND. | G34: V/JORNAL | H34: V/PARCIAL
A35: 1 | B35: Camioneta ford doble cabina 4X4 | D35: Und | E35: 1 | F35: 1 | G35: 150000 | H35: 150000
A36: Subtotal Transporte | H36: 150000
A37: MAQUINARIA Y EQUIPOS.
A38: ITEM | B38: DESCRIPCION | C38: UN. | D38: CANT. | E38: HORA | F38: REND. | G38: V/JORNAL | H38: V/PARCIAL
A39: 1 | B39: Herramienta menor. | C39: GLB | F39: 1 | G39: 18000 | H39: 0
A40: Subtotal Maquinaria y Equipos | H40: 0
A41: MANO DE OBRA.
A42: ITEM | B42: DESCRIPCION | D42: CANT. | E42: HORA | F42: REND. | G42: V/JORNAL | H42: V/PARCIAL
A43: 1 | B43: Oficial | D43: 1 | F43: 1 | G43: 85000 | H43: 0
...
