Workbook

Sheet Hoja
B2: FORMATO ANALISIS DE COSTOS - ESTUDIO DE MERCADO
AO3: 0.2
B6: DATOS DE INGRESO | Z6: Valores unitarios por cotización | AI6: FUMIGACIÓN | AS6: Valores unitarios seleccionados y Calculo del POE
B8: No. | C8: ITEM | D8: SEDE | E8: CIUDAD | F8: DIRECCION | G8: UND | H8: CANT. | I8: VALOR HISTORICO 2024 CTO 835-2024 | K8: VALOR IPC 2024 - (5.20%) CTO 835-2024 | M8: VALOR IPC 2025 ( 5.10%) CTO 835-2024 | O8: VALOR HISTORICO 2025 CTO 536-2025 | Q8: VALOR IPC 2025 5.10% CTO 536-2025 | S8: PROVEEDOR 1 IGNER SAS | U8: PROVEEDOR 2 SOID SAS | W8: PROVEEDOR 3 TECNICONTROL FUMIGACIONES SAS | Z8: =+I8 -> VALOR HISTORICO 2024 CTO 835-2024 | AA8: =+K8 -> VALOR IPC 2024 - (5.20%) CTO 835-2024 | AB8: =+M8 -> VALOR IPC 2025 ( 5.10%) CTO 835-2024 | AC8: =+O8 -> VALOR HISTORICO 2025 CTO 536-2025 | AD8: =+Q8 -> VALOR IPC 2025 5.10% CTO 536-2025 | AE8: =+S8 -> PROVEEDOR 1 IGNER SAS | AF8: =+U8 -> PROVEEDOR 2 SOID SAS | AG8: =+W8 -> PROVEEDOR 3 TECNICONTROL FUMIGACIONES SAS | AI8: MIN | AJ8: MAX | AK8: Promedio | AL8: Media aritmetica baja | AM8: Mediana estadística | AN8: Media Geométrica | AO8: Media Acotada | AP8: Media Armónica | AQ8: s Stdr | AS8: Medida de tendencia seleccionada | AT8: Valor Unitario | AU8: Valor Por un servicio | AV8: Valor Tres servicios
I9: VR. UNITARIO | J9: VR. TOTAL | K9: VR. UNITARIO | L9: VR. TOTAL | M9: VR. UNITARIO | N9: VR. TOTAL | O9: VR. UNITARIO | P9: VR. TOTAL | Q9: VR. UNITARIO | R9: VR. TOTAL | S9: VR. UNITARIO | T9: VR. TOTAL | U9: VR. UNITARIO | V9: VR. TOTAL | W9: VR. UNITARIO | X9: VR. TOTAL
B10: 1 | C10: Desinfeccion, fumigacion | D10: DT ANTIOQUIA | E10: MEDELLIN - ANTIOQUIA | F10: CRA 64 C Nº 78-580 Local 245N, 246N, 247N, 248N, 249N, 250N– TERMINAL DE TRANSPORTE NORTE OFIC.250 | G10: M2 | H10: 490 | I10: 616 | J10: =+H10*I10 -> 301840 | K10: =+I10+(I10*5.2%) -> 648.032 | L10: =+H10*K10 -> 317535.68 | M10: =+K10+(K10*5.1%) -> 681.08163 | N10: =+H10*M10 -> 333730 | O10: 760 | P10: =+H10*O10 -> 372400 | Q10: =+O10+(O10*5.1%) -> 798.76 | R10: =+H10*Q10 -> 391392.4 | S10: 6420 | T10: =+H10*S10 -> 3145800 | U10: 7000 | V10: =+H10*U10 -> 3430000 | W10: 6000 | X10: =+H10*W10 -> 2940000 | Z10: =+I10 -> 616 | AA10: =+K10 -> 648.032 | AB10: =+M10 -> 681.08163 | AC10: =+O10 -> 760 | AD10: =+Q10 -> 798.76 | AE10: =+S10 -> 6420 | AF10: =+U10 -> 7000 | AG10: =+W10 -> 6000 | AI10: {=+MIN(IF(Z10:AG10>0,Z10:AG10))} -> 616 | AJ10: {=MAX(IF(Z10:AG10>0,Z10:AG10))} -> 7000 | AK10: {=ROUND(AVERAGE(IF(Z10:AG10>0,Z10:AG10)),0)} -> 2865 | AL10: =+AVERAGE(AI10,AK10) -> 1740.5 | AM10: =ROUND(MEDIAN(Z10,AA10,AB10,AC10,AD10,AE10,AF10,AG10),0) -> 779 | AN10: =ROUND(GEOMEAN(Z10,AA10,AB10,AC10,AD10,AE10,AF10,AG10),0) -> 1607 | AO10: =ROUND(TRIMMEAN(Z10:AG10,$AO$3),0) -> 2865 | AP10: =ROUND(HARMEAN(Z10:AG10),0) -> 1043 | AQ10: {=STDEVA(IF(Z10:AG10>0,Z10:AG10))} -> 3000.1736 | AS10: =_xlfn.XLOOKUP(AT10,AK10:AQ10,$AK$8:$AQ$8,0) -> Mediana estadística | AT10: =+MIN(AK10:AP10) -> 779 | AU10: =+AT10*H10 -> 381710 | AV10: =+AU10*3 -> 1145130 | AW10: 490 | AX10: =+AW10-H10 -> 0
B11: 2 | C11: Desinfeccion, fumigacion | D11: DT ATLANTICO | E11: BARRANQUILLA - ATLANTICO | F11: CARRERA 57 No.75-42 BARRANQUILLA | G11: M2 | H11: 1114 | I11: 616 | J11: =+H11*I11 -> 686224 | K11: =+I11+(I11*5.2%) -> 648.032 | L11: =+H11*K11 -> 721907.65 | M11: =+K11+(K11*5.1%) -> 681.08163 | N11: =+H11*M11 -> 758724.94 | O11: 760 | P11: =+H11*O11 -> 846640 | Q11: =+O11+(O11*5.1%) -> 798.76 | R11: =+H11*Q11 -> 889818.64 | S11: 5120 | T11: =+H11*S11 -> 5703680 | U11: 5000 | V11: =+H11*U11 -> 5570000 | W11: 4000 | X11: =+H11*W11 -> 4456000 | Z11: =+I11 -> 616 | AA11: =+K11 -> 648.032 | AB11: =+M11 -> 681.08163 | AC11: =+O11 -> 760 | AD11: =+Q11 -> 798.76 | AE11: =+S11 -> 5120 | AF11: =+U11 -> 5000 | AG11: =+W11 -> 4000 | AI11: {=+MIN(IF(Z11:AG11>0,Z11:AG11))} -> 616 | AJ11: {=MAX(IF(Z11:AG11>0,Z11:AG11))} -> 5120 | AK11: {=ROUND(AVERAGE(IF(Z11:AG11>0,Z11:AG11)),0)} -> 2203 | AL11: =+AVERAGE(AI11,AK11) -> 1409.5 | AM11: =ROUND(MEDIAN(Z11,AD11,AE11,AF11,AG11),0) -> 4000 | AN11: =ROUND(GEOMEAN(Z11,AD11,AE11,AF11,AG11),0) -> 2190 | AO11: =ROUND(TRIMMEAN(Z11:AG11,$AO$3),0) -> 2203 | AP11: =ROUND(HARMEAN(Z11:AG11),0) -> 1019 | AQ11: {=STDEVA(IF(Z11:AG11>0,Z11:AG11))} -> 2099.938 | AS11: =_xlfn.XLOOKUP(AT11,AK11:AQ11,$AK$8:$AQ$8,0) -> Media Armónica | AT11: =+MIN(AK11:AP11) -> 1019 | AU11: =+AT11*H11 -> 1135166 | AV11: =+AU11*3 -> 3405498 | AW11: 1114 | AX11: =+AW11-H11 -> 0
B12: 3 | C12: Desinfeccion, fumigacion | D12: DT BOLIVAR | E12: CARTAGENA - BOLIVAR | F12: Calle Candilejo y Román No. 33-41/43/47/49/57/63 (Cra. 6 No. 33-63) 3er piso | G12: M2 | H12: 835 | I12: 616 | J12: =+H12*I12 -> 514360 | K12: =+I12+(I12*5.2%) -> 648.032 | L12: =+H12*K12 -> 541106.72 | M12: =+K12+(K12*5.1%) -> 681.08163 | N12: =+H12*M12 -> 568703.16 | O12: 760 | P12: =+H12*O12 -> 634600 | Q12: =+O12+(O12*5.1%) -> 798.76 | R12: =+H12*Q12 -> 666964.6 | S12: 6420 | T12: =+H12*S12 -> 5360700 | U12: 7000 | V12: =+H12*U12 -> 5845000 | W12: 6000 | X12: =+H12*W12 -> 5010000 | Z12: =+I12 -> 616 | AA12: =+K12 -> 648.032 | AB12: =+M12 -> 681.08163 | AC12: =+O12 -> 760 | AD12: =+Q12 -> 798.76 | AE12: =+S12 -> 6420 | AF12: =+U12 -> 7000 | AG12: =+W12 -> 6000 | AI12: {=+MIN(IF(Z12:AG12>0,Z12:AG12))} -> 616 | AJ12: {=MAX(IF(Z12:AG12>0,Z12:AG12))} -> 7000 | AK12: {=ROUND(AVERAGE(IF(Z12:AG12>0,Z12:AG12)),0)} -> 2865 | AL12: =+AVERAGE(AI12,AK12) -> 1740.5 | AM12: =ROUND(MEDIAN(Z12,AD12,AE12,AF12,AG12),0) -> 6000 | AN12: =ROUND(GEOMEAN(Z12,AD12,AE12,AF12,AG12),0) -> 2658 | AO12: =ROUND(TRIMMEAN(Z12:AG12,$AO$3),0) -> 2865 | AP12: =ROUND(HARMEAN(Z12:AG12),0) -> 1043 | AQ12: {=STDEVA(IF(Z12:AG12>0,Z12:AG12))} -> 3000.1736 | AS12: =_xlfn.XLOOKUP(AT12,AK12:AQ12,$AK$8:$AQ$8,0) -> Media Armónica | AT12: =+MIN(AK12:AP12) -> 1043 | AU12: =+AT12*H12 -> 870905 | AV12: =+AU12*3 -> 2612715 | AW12: 835 | AX12: =+AW12-H12 -> 0
B13: 4 | C13: Desinfeccion, fumigacion | D13: DT BOYACA | E13: DUITAMA - BOYACA | F13: Calle 16 No.14-68 Oficina 401-402 DUITAMA | G13: M2 | H13: 437 | I13: 616 | J13: =+H13*I13 -> 269192 | K13: =+I13+(I13*5.2%) -> 648.032 | L13: =+H13*K13 -> 283189.98 | M13: =+K13+(K13*5.1%) -> 681.08163 | N13: =+H13*M13 -> 297632.67 | O13: 760 | P13: =+H13*O13 -> 332120 | Q13: =+O13+(O13*5.1%) -> 798.76 | R13: =+H13*Q13 -> 349058.12 | S13: 7490 | T13: =+H13*S13 -> 3273130 | U13: 8000 | V13: =+H13*U13 -> 3496000 | W13: 7000 | X13: =+H13*W13 -> 3059000 | Z13: =+I13 -> 616 | AA13: =+K13 -> 648.032 | AB13: =+M13 -> 681.08163 | AC13: =+O13 -> 760 | AD13: =+Q13 -> 798.76 | AE13: =+S13 -> 7490 | AF13: =+U13 -> 8000 | AG13: =+W13 -> 7000 | AI13: {=+MIN(IF(Z13:AG13>0,Z13:AG13))} -> 616 | AJ13: {=MAX(IF(Z13:AG13>0,Z13:AG13))} -> 8000 | AK13: {=ROUND(AVERAGE(IF(Z13:AG13>0,Z13:AG13)),0)} -> 3249 | AL13: =+AVERAGE(AI13,AK13) -> 1932.5 | AM13: =ROUND(MEDIAN(Z13,AD13,AE13,AF13,AG13),0) -> 7000 | AN13: =ROUND(GEOMEAN(Z13,AD13,AE13,AF13,AG13),0) -> 2904 | AO13: =ROUND(TRIMMEAN(Z13:AG13,$AO$3),0) -> 3249 | AP13: =ROUND(HARMEAN(Z13:AG13),0) -> 1052 | AQ13: {=STDEVA(IF(Z13:AG13>0,Z13:AG13))} -> 3527.8243 | AS13: =_xlfn.XLOOKUP(AT13,AK13:AQ13,$AK$8:$AQ$8,0) -> Media Armónica | AT13: =+MIN(AK13:AP13) -> 1052 | AU13: =+AT13*H13 -> 459724 | AV13: =+AU13*3 -> 1379172 | AW13: 437 | AX13: =+AW13-H13 -> 0
B14: 5 | C14: Desinfeccion, fumigacion | D14: DT CALDAS | E14: MANIZALES - CALDAS | F14: Calle 21 No.21- 45 Edif. Millan y Asociados Piso 9 Manizales | G14: M2 | H14: 166 | I14: 616 | J14: =+H14*I14 -> 102256 | K14: =+I14+(I14*5.2%) -> 648.032 | L14: =+H14*K14 -> 107573.31 | M14: =+K14+(K14*5.1%) -> 681.08163 | N14: =+H14*M14 -> 113059.55 | O14: 760 | P14: =+H14*O14 -> 126160 | Q14: =+O14+(O14*5.1%) -> 798.76 | R14: =+H14*Q14 -> 132594.16 | S14: 8560 | T14: =+H14*S14 -> 1420960 | U14: 9000 | V14: =+H14*U14 -> 1494000 | W14: 8000 | X14: =+H14*W14 -> 1328000 | Z14: =+I14 -> 616 | AA14: =+K14 -> 648.032 | AB14: =+M14 -> 681.08163 | AC14: =+O14 -> 760 | AD14: =+Q14 -> 798.76 | AE14: =+S14 -> 8560 | AF14: =+U14 -> 9000 | AG14: =+W14 -> 8000 | AI14: {=+MIN(IF(Z14:AG14>0,Z14:AG14))} -> 616 | AJ14: {=MAX(IF(Z14:AG14>0,Z14:AG14))} -> 9000 | AK14: {=ROUND(AVERAGE(IF(Z14:AG14>0,Z14:AG14)),0)} -> 3633 | AL14: =+AVERAGE(AI14,AK14) -> 2124.5 | AM14: =ROUND(MEDIAN(Z14,AD14,AE14,AF14,AG14),0) -> 8000 | AN14: =ROUND(GEOMEAN(Z14,AD14,AE14,AF14,AG14),0) -> 3136 | AO14: =ROUND(TRIMMEAN(Z14:AG14,$AO$3),0) -> 3633 | AP14: =ROUND(HARMEAN(Z14:AG14),0) -> 1059 | AQ14: {=STDEVA(IF(Z14:AG14>0,Z14:AG14))} -> 4056.1047 | AS14: =_xlfn.XLOOKUP(AT14,AK14:AQ14,$AK$8:$AQ$8,0) -> Media Armónica | AT14: =+MIN(AK14:AP14) -> 1059 | AU14: =+AT14*H14 -> 175794 | AV14: =+AU14*3 -> 527382 | AW14: 166 | AX14: =+AW14-H14 -> 0
B15: 6 | C15: Desinfeccion, fumigacion | D15: DT CAUCA | E15: POPAYAN - CAUCA | F15: Calle 25N Nº 11 – 96 1º piso | G15: M2 | H15: 390 | I15: 616 | J15: =+H15*I15 -> 240240 | K15: =+I15+(I15*5.2%) -> 648.032 | L15: =+H15*K15 -> 252732.48 | M15: =+K15+(K15*5.1%) -> 681.08163 | N15: =+H15*M15 -> 265621.84 | O15: 760 | P15: =+H15*O15 -> 296400 | Q15: =+O15+(O15*5.1%) -> 798.76 | R15: =+H15*Q15 -> 311516.4 | S15: 7490 | T15: =+H15*S15 -> 2921100 | U15: 8000 | V15: =+H15*U15 -> 3120000 | W15: 7000 | X15: =+H15*W15 -> 2730000 | Z15: =+I15 -> 616 | AA15: =+K15 -> 648.032 | AB15: =+M15 -> 681.08163 | AC15: =+O15 -> 760 | AD15: =+Q15 -> 798.76 | AE15: =+S15 -> 7490 | AF15: =+U15 -> 8000 | AG15: =+W15 -> 7000 | AI15: {=+MIN(IF(Z15:AG15>0,Z15:AG15))} -> 616 | AJ15: {=MAX(IF(Z15:AG15>0,Z15:AG15))} -> 8000 | AK15: {=ROUND(AVERAGE(IF(Z15:AG15>0,Z15:AG15)),0)} -> 3249 | AL15: =+AVERAGE(AI15,AK15) -> 1932.5 | AM15: =ROUND(MEDIAN(Z15,AD15,AE15,AF15,AG15),0) -> 7000 | AN15: =ROUND(GEOMEAN(Z15,AD15,AE15,AF15,AG15),0) -> 2904 | AO15: =ROUND(TRIMMEAN(Z15:AG15,$AO$3),0) -> 3249 | AP15: =ROUND(HARMEAN(Z15:AG15),0) -> 1052 | AQ15: {=STDEVA(IF(Z15:AG15>0,Z15:AG15))} -> 3527.8243 | AS15: =_xlfn.XLOOKUP(AT15,AK15:AQ15,$AK$8:$AQ$8,0) -> Media Armónica | AT15: =+MIN(AK15:AP15) -> 1052 | AU15: =+AT15*H15 -> 410280 | AV15: =+AU15*3 -> 1230840 | AW15: 390 | AX15: =+AW15-H15 -> 0
B16: 7 | C16: Desinfeccion, fumigacion | D16: DT CESAR | E16: VALLEDUPAR - CESAR | F16: Calle 16 A No. 12-89 Valledupar - Cesar | G16: M2 | H16: 248 | I16: 616 | J16: =+H16*I16 -> 152768 | K16: =+I16+(I16*5.2%) -> 648.032 | L16: =+H16*K16 -> 160711.94 | M16: =+K16+(K16*5.1%) -> 681.08163 | N16: =+H16*M16 -> 168908.24 | O16: 760 | P16: =+H16*O16 -> 188480 | Q16: =+O16+(O16*5.1%) -> 798.76 | R16: =+H16*Q16 -> 198092.48 | S16: 8560 | T16: =+H16*S16 -> 2122880 | U16: 9000 | V16: =+H16*U16 -> 2232000 | W16: 8000 | X16: =+H16*W16 -> 1984000 | Z16: =+I16 -> 616 | AA16: =+K16 -> 648.032 | AB16: =+M16 -> 681.08163 | AC16: =+O16 -> 760 | AD16: =+Q16 -> 798.76 | AE16: =+S16 -> 8560 | AF16: =+U16 -> 9000 | AG16: =+W16 -> 8000 | AI16: {=+MIN(IF(Z16:AG16>0,Z16:AG16))} -> 616 | AJ16: {=MAX(IF(Z16:AG16>0,Z16:AG16))} -> 9000 | AK16: {=ROUND(AVERAGE(IF(Z16:AG16>0,Z16:AG16)),0)} -> 3633 | AL16: =+AVERAGE(AI16,AK16) -> 2124.5 | AM16: =ROUND(MEDIAN(Z16,AD16,AE16,AF16,AG16),0) -> 8000 | AN16: =ROUND(GEOMEAN(Z16,AD16,AE16,AF16,AG16),0) -> 3136 | AO16: =ROUND(TRIMMEAN(Z16:AG16,$AO$3),0) -> 3633 | AP16: =ROUND(HARMEAN(Z16:AG16),0) -> 1059 | AQ16: {=STDEVA(IF(Z16:AG16>0,Z16:AG16))} -> 4056.1047 | AS16: =_xlfn.XLOOKUP(AT16,AK16:AQ16,$AK$8:$AQ$8,0) -> Media Armónica | AT16: =+MIN(AK16:AP16) -> 1059 | AU16: =+AT16*H16 -> 262632 | AV16: =+AU16*3 -> 787896 | AW16: 248 | AX16: =+AW16-H16 -> 0
B17: 8 | C17: Desinfeccion, fumigacion | D17: DT CORDOBA | E17: MONTERIA - CORDOBA | F17: CALLE 55 nº 6- 1-95 Barrio Castellana | G17: M2 | H17: 772 | I17: 616 | J17: =+H17*I17 -> 475552 | K17: =+I17+(I17*5.2%) -> 648.032 | L17: =+H17*K17 -> 500280.7 | M17: =+K17+(K17*5.1%) -> 681.08163 | N17: =+H17*M17 -> 525795.02 | O17: 760 | P17: =+H17*O17 -> 586720 | Q17: =+O17+(O17*5.1%) -> 798.76 | R17: =+H17*Q17 -> 616642.72 | S17: 6420 | T17: =+H17*S17 -> 4956240 | U17: 7000 | V17: =+H17*U17 -> 5404000 | W17: 6000 | X17: =+H17*W17 -> 4632000 | Z17: =+I17 -> 616 | AA17: =+K17 -> 648.032 | AB17: =+M17 -> 681.08163 | AC17: =+O17 -> 760 | AD17: =+Q17 -> 798.76 | AE17: =+S17 -> 6420 | AF17: =+U17 -> 7000 | AG17: =+W17 -> 6000 | AI17: {=+MIN(IF(Z17:AG17>0,Z17:AG17))} -> 616 | AJ17: {=MAX(IF(Z17:AG17>0,Z17:AG17))} -> 7000 | AK17: {=ROUND(AVERAGE(IF(Z17:AG17>0,Z17:AG17)),0)} -> 2865 | AL17: =+AVERAGE(AI17,AK17) -> 1740.5 | AM17: =ROUND(MEDIAN(Z17,AD17,AE17,AF17,AG17),0) -> 6000 | AN17: =ROUND(GEOMEAN(Z17,AD17,AE17,AF17,AG17),0) -> 2658 | AO17: =ROUND(TRIMMEAN(Z17:AG17,$AO$3),0) -> 2865 | AP17: =ROUND(HARMEAN(Z17:AG17),0) -> 1043 | AQ17: {=STDEVA(IF(Z17:AG17>0,Z17:AG17))} -> 3000.1736 | AS17: =_xlfn.XLOOKUP(AT17,AK17:AQ17,$AK$8:$AQ$8,0) -> Media Armónica | AT17: =+MIN(AK17:AP17) -> 1043 | AU17: =+AT17*H17 -> 805196 | AV17: =+AU17*3 -> 2415588 | AW17: 772 | AX17: =+AW17-H17 -> 0
B18: 9 | C18: Desinfeccion, fumigacion | D18: DT CUNDINAMARCA | F18: Centro Comercial Gran Estacion II - 9no y 10mo piso | G18: M2 | H18: 9490 | I18: 616 | J18: =+H18*I18 -> 5845840 | K18: =+I18+(I18*5.2%) -> 648.032 | L18: =+H18*K18 -> 6149823.7 | M18: =+K18+(K18*5.1%) -> 681.08163 | N18: =+H18*M18 -> 6463464.7 | O18: 760 | P18: =+H18*O18 -> 7212400 | Q18: =+O18+(O18*5.1%) -> 798.76 | R18: =+H18*Q18 -> 7580232.4 | S18: 2140 | T18: =+H18*S18 -> 20308600 | U18: 4000 | V18: =+H18*U18 -> 37960000 | W18: 2000 | X18: =+H18*W18 -> 18980000 | Z18: =+I18 -> 616 | AA18: =+K18 -> 648.032 | AB18: =+M18 -> 681.08163 | AC18: =+O18 -> 760 | AD18: =+Q18 -> 798.76 | AE18: =+S18 -> 2140 | AF18: =+U18 -> 4000 | AG18: =+W18 -> 2000 | AI18: {=+MIN(IF(Z18:AG18>0,Z18:AG18))} -> 616 | AJ18: {=MAX(IF(Z18:AG18>0,Z18:AG18))} -> 4000 | AK18: {=ROUND(AVERAGE(IF(Z18:AG18>0,Z18:AG18)),0)} -> 1455 | AL18: =+AVERAGE(AI18,AK18) -> 1035.5 | AM18: =ROUND(MEDIAN(Z18,AD18,AE18,AF18,AG18),0) -> 2000 | AN18: =ROUND(GEOMEAN(Z18,AD18,AE18,AF18,AG18),0) -> 1531 | AO18: =ROUND(TRIMMEAN(Z18:AG18,$AO$3),0) -> 1455 | AP18: =ROUND(HARMEAN(Z18:AG18),0) -> 950 | AQ18: {=STDEVA(IF(Z18:AG18>0,Z18:AG18))} -> 1201.8448 | AS18: =_xlfn.XLOOKUP(AT18,AK18:AQ18,$AK$8:$AQ$8,0) -> Media Armónica | AT18: =+MIN(AK18:AP18) -> 950 | AU18: =+AT18*H18 -> 9015500 | AV18: =+AU18*3 -> 27046500 | AW18: 9490 | AX18: =+AW18-H18 -> 0
B19: 10 | C19: Desinfeccion, fumigacion | D19: DT CUNDINAMARCA | F19: Carrera 128 #17-15, Archivo Central | G19: M2 | H19: 2312 | I19: 616 | J19: =+H19*I19 -> 1424192 | K19: =+I19+(I19*5.2%) -> 648.032 | L19: =+H19*K19 -> 1498250 | M19: =+K19+(K19*5.1%) -> 681.08163 | N19: =+H19*M19 -> 1574660.7 | O19: 760 | P19: =+H19*O19 -> 1757120 | Q19: =+O19+(O19*5.1%) -> 798.76 | R19: =+H19*Q19 -> 1846733.1 | S19: 2140 | T19: =+H19*S19 -> 4947680 | U19: 4000 | V19: =+H19*U19 -> 9248000 | W19: 2000 | X19: =+H19*W19 -> 4624000 | Z19: =+I19 -> 616 | AA19: =+K19 -> 648.032 | AB19: =+M19 -> 681.08163 | AC19: =+O19 -> 760 | AD19: =+Q19 -> 798.76 | AE19: =+S19 -> 2140 | AF19: =+U19 -> 4000 | AG19: =+W19 -> 2000 | AI19: {=+MIN(IF(Z19:AG19>0,Z19:AG19))} -> 616 | AJ19: {=MAX(IF(Z19:AG19>0,Z19:AG19))} -> 4000 | AK19: {=ROUND(AVERAGE(IF(Z19:AG19>0,Z19:AG19)),0)} -> 1455 | AL19: =+AVERAGE(AI19,AK19) -> 1035.5 | AM19: =ROUND(MEDIAN(Z19,AD19,AE19,AF19,AG19),0) -> 2000 | AN19: =ROUND(GEOMEAN(Z19,AD19,AE19,AF19,AG19),0) -> 1531 | AO19: =ROUND(TRIMMEAN(Z19:AG19,$AO$3),0) -> 1455 | AP19: =ROUND(HARMEAN(Z19:AG19),0) -> 950 | AQ19: {=STDEVA(IF(Z19:AG19>0,Z19:AG19))} -> 1201.8448 | AS19: =_xlfn.XLOOKUP(AT19,AK19:AQ19,$AK$8:$AQ$8,0) -> Media Armónica | AT19: =+MIN(AK19:AP19) -> 950 | AU19: =+AT19*H19 -> 2196400 | AV19: =+AU19*3 -> 6589200 | AW19: 2312 | AX19: =+AW19-H19 -> 0
B20: 11 | C20: Desinfeccion, fumigacion | D20: DT CUNDINAMARCA | F20: Centro empresarial Dorado Plaza, Av. Calle 26 No.85-D-55, 2do piso | G20: M2 | H20: 222 | I20: 616 | J20: =+H20*I20 -> 136752 | K20: =+I20+(I20*5.2%) -> 648.032 | L20: =+H20*K20 -> 143863.1 | M20: =+K20+(K20*5.1%) -> 681.08163 | N20: =+H20*M20 -> 151200.12 | O20: 760 | P20: =+H20*O20 -> 168720 | Q20: =+O20+(O20*5.1%) -> 798.76 | R20: =+H20*Q20 -> 177324.72 | S20: 8560 | T20: =+H20*S20 -> 1900320 | U20: 9000 | V20: =+H20*U20 -> 1998000 | W20: 8000 | X20: =+H20*W20 -> 1776000 | Z20: =+I20 -> 616 | AA20: =+K20 -> 648.032 | AB20: =+M20 -> 681.08163 | AC20: =+O20 -> 760 | AD20: =+Q20 -> 798.76 | AE20: =+S20 -> 8560 | AF20: =+U20 -> 9000 | AG20: =+W20 -> 8000 | AI20: {=+MIN(IF(Z20:AG20>0,Z20:AG20))} -> 616 | AJ20: {=MAX(IF(Z20:AG20>0,Z20:AG20))} -> 9000 | AK20: {=ROUND(AVERAGE(IF(Z20:AG20>0,Z20:AG20)),0)} -> 3633 | AL20: =+AVERAGE(AI20,AK20) -> 2124.5 | AM20: =ROUND(MEDIAN(Z20,AD20,AE20,AF20,AG20),0) -> 8000 | AN20: =ROUND(GEOMEAN(Z20,AD20,AE20,AF20,AG20),0) -> 3136 | AO20: =ROUND(TRIMMEAN(Z20:AG20,$AO$3),0) -> 3633 | AP20: =ROUND(HARMEAN(Z20:AG20),0) -> 1059 | AQ20: {=STDEVA(IF(Z20:AG20>0,Z20:AG20))} -> 4056.1047 | AS20: =_xlfn.XLOOKUP(AT20,AK20:AQ20,$AK$8:$AQ$8,0) -> Media Armónica | AT20: =+MIN(AK20:AP20) -> 1059 | AU20: =+AT20*H20 -> 235098 | AV20: =+AU20*3 -> 705294 | AW20: 222 | AX20: =+AW20-H20 -> 0
B21: 12 | C21: Desinfeccion, fumigacion | D21: DT CUNDINAMARCA | F21: Carrera 45 #26-61, Unidad Deportiva | G21: M2 | H21: 3662 | I21: 616 | J21: =+H21*I21 -> 2255792 | K21: =+I21+(I21*5.2%) -> 648.032 | L21: =+H21*K21 -> 2373093.2 | M21: =+K21+(K21*5.1%) -> 681.08163 | N21: =+H21*M21 -> 2494120.9 | O21: 760 | P21: =+H21*O21 -> 2783120 | Q21: =+O21+(O21*5.1%) -> 798.76 | R21: =+H21*Q21 -> 2925059.1 | S21: 2140 | T21: =+H21*S21 -> 7836680 | U21: 4000 | V21: =+H21*U21 -> 14648000 | W21: 2000 | X21: =+H21*W21 -> 7324000 | Z21: =+I21 -> 616 | AA21: =+K21 -> 648.032 | AB21: =+M21 -> 681.08163 | AC21: =+O21 -> 760 | AD21: =+Q21 -> 798.76 | AE21: =+S21 -> 2140 | AF21: =+U21 -> 4000 | AG21: =+W21 -> 2000 | AI21: {=+MIN(IF(Z21:AG21>0,Z21:AG21))} -> 616 | AJ21: {=MAX(IF(Z21:AG21>0,Z21:AG21))} -> 4000 | AK21: {=ROUND(AVERAGE(IF(Z21:AG21>0,Z21:AG21)),0)} -> 1455 | AL21: =+AVERAGE(AI21,AK21) -> 1035.5 | AM21: =ROUND(MEDIAN(Z21,AD21,AE21,AF21,AG21),0) -> 2000 | AN21: =ROUND(GEOMEAN(Z21,AD21,AE21,AF21,AG21),0) -> 1531 | AO21: =ROUND(TRIMMEAN(Z21:AG21,$AO$3),0) -> 1455 | AP21: =ROUND(HARMEAN(Z21:AG21),0) -> 950 | AQ21: {=STDEVA(IF(Z21:AG21>0,Z21:AG21))} -> 1201.8448 | AS21: =_xlfn.XLOOKUP(AT21,AK21:AQ21,$AK$8:$AQ$8,0) -> Media Armónica | AT21: =+MIN(AK21:AP21) -> 950 | AU21: =+AT21*H21 -> 3478900 | AV21: =+AU21*3 -> 10436700 | AW21: 3662 | AX21: =+AW21-H21 -> 0
B22: 13 | C22: Desinfeccion, fumigacion | D22: DT GUAJIRA | E22: NEIVA - HUILA | F22: CARRERA 5 No. 18-19 Centro NEIVA | G22: M2 | H22: 113 | I22: 616 | J22: =+H22*I22 -> 69608 | K22: =+I22+(I22*5.2%) -> 648.032 | L22: =+H22*K22 -> 73227.616 | M22: =+K22+(K22*5.1%) -> 681.08163 | N22: =+H22*M22 -> 76962.224 | O22: 760 | P22: =+H22*O22 -> 85880 | Q22: =+O22+(O22*5.1%) -> 798.76 | R22: =+H22*Q22 -> 90259.88 | S22: 8560 | T22: =+H22*S22 -> 967280 | U22: 9000 | V22: =+H22*U22 -> 1017000 | W22: 8000 | X22: =+H22*W22 -> 904000 | Z22: =+I22 -> 616 | AA22: =+K22 -> 648.032 | AB22: =+M22 -> 681.08163 | AC22: =+O22 -> 760 | AD22: =+Q22 -> 798.76 | AE22: =+S22 -> 8560 | AF22: =+U22 -> 9000 | AG22: =+W22 -> 8000 | AI22: {=+MIN(IF(Z22:AG22>0,Z22:AG22))} -> 616 | AJ22: {=MAX(IF(Z22:AG22>0,Z22:AG22))} -> 9000 | AK22: {=ROUND(AVERAGE(IF(Z22:AG22>0,Z22:AG22)),0)} -> 3633 | AL22: =+AVERAGE(AI22,AK22) -> 2124.5 | AM22: =ROUND(MEDIAN(Z22,AD22,AE22,AF22,AG22),0) -> 8000 | AN22: =ROUND(GEOMEAN(Z22,AD22,AE22,AF22,AG22),0) -> 3136 | AO22: =ROUND(TRIMMEAN(Z22:AG22,$AO$3),0) -> 3633 | AP22: =ROUND(HARMEAN(Z22:AG22),0) -> 1059 | AQ22: {=STDEVA(IF(Z22:AG22>0,Z22:AG22))} -> 4056.1047 | AS22: =_xlfn.XLOOKUP(AT22,AK22:AQ22,$AK$8:$AQ$8,0) -> Media Armónica | AT22: =+MIN(AK22:AP22) -> 1059 | AU22: =+AT22*H22 -> 119667 | AV22: =+AU22*3 -> 359001 | AW22: 113 | AX22: =+AW22-H22 -> 0
B23: 14 | C23: Desinfeccion, fumigacion | D23: DT HUILA | E23: VILLAVICENCIO - META | F23: Transversal 28 No 41 - 101 Barrio La Grama | G23: M2 | H23: 812 | I23: 616 | J23: =+H23*I23 -> 500192 | K23: =+I23+(I23*5.2%) -> 648.032 | L23: =+H23*K23 -> 526201.98 | M23: =+K23+(K23*5.1%) -> 681.08163 | N23: =+H23*M23 -> 553038.29 | O23: 760 | P23: =+H23*O23 -> 617120 | Q23: =+O23+(O23*5.1%) -> 798.76 | R23: =+H23*Q23 -> 648593.12 | S23: 6420 | T23: =+H23*S23 -> 5213040 | U23: 7000 | V23: =+H23*U23 -> 5684000 | W23: 6000 | X23: =+H23*W23 -> 4872000 | Z23: =+I23 -> 616 | AA23: =+K23 -> 648.032 | AB23: =+M23 -> 681.08163 | AC23: =+O23 -> 760 | AD23: =+Q23 -> 798.76 | AE23: =+S23 -> 6420 | AF23: =+U23 -> 7000 | AG23: =+W23 -> 6000 | AI23: {=+MIN(IF(Z23:AG23>0,Z23:AG23))} -> 616 | AJ23: {=MAX(IF(Z23:AG23>0,Z23:AG23))} -> 7000 | AK23: {=ROUND(AVERAGE(IF(Z23:AG23>0,Z23:AG23)),0)} -> 2865 | AL23: =+AVERAGE(AI23,AK23) -> 1740.5 | AM23: =ROUND(MEDIAN(Z23,AD23,AE23,AF23,AG23),0) -> 6000 | AN23: =ROUND(GEOMEAN(Z23,AD23,AE23,AF23,AG23),0) -> 2658 | AO23: =ROUND(TRIMMEAN(Z23:AG23,$AO$3),0) -> 2865 | AP23: =ROUND(HARMEAN(Z23:AG23),0) -> 1043 | AQ23: {=STDEVA(IF(Z23:AG23>0,Z23:AG23))} -> 3000.1736 | AS23: =_xlfn.XLOOKUP(AT23,AK23:AQ23,$AK$8:$AQ$8,0) -> Media Armónica | AT23: =+MIN(AK23:AP23) -> 1043 | AU23: =+AT23*H23 -> 846916 | AV23: =+AU23*3 -> 2540748 | AW23: 812 | AX23: =+AW23-H23 -> 0
B24: 15 | C24: Desinfeccion, fumigacion | D24: DT MAGDALENA | F24: Carrera 4 No. 26-40 Ciudad Comercial Prado Plaza 401 | G24: M2 | H24: 120 | I24: 616 | J24: =+H24*I24 -> 73920 | K24: =+I24+(I24*5.2%) -> 648.032 | L24: =+H24*K24 -> 77763.84 | M24: =+K24+(K24*5.1%) -> 681.08163 | N24: =+H24*M24 -> 81729.796 | O24: 760 | P24: =+H24*O24 -> 91200 | Q24: =+O24+(O24*5.1%) -> 798.76 | R24: =+H24*Q24 -> 95851.2 | S24: 8560 | T24: =+H24*S24 -> 1027200 | U24: 9000 | V24: =+H24*U24 -> 1080000 | W24: 8000 | X24: =+H24*W24 -> 960000 | Z24: =+I24 -> 616 | AA24: =+K24 -> 648.032 | AB24: =+M24 -> 681.08163 | AC24: =+O24 -> 760 | AD24: =+Q24 -> 798.76 | AE24: =+S24 -> 8560 | AF24: =+U24 -> 9000 | AG24: =+W24 -> 8000 | AI24: {=+MIN(IF(Z24:AG24>0,Z24:AG24))} -> 616 | AJ24: {=MAX(IF(Z24:AG24>0,Z24:AG24))} -> 9000 | AK24: {=ROUND(AVERAGE(IF(Z24:AG24>0,Z24:AG24)),0)} -> 3633 | AL24: =+AVERAGE(AI24,AK24) -> 2124.5 | AM24: =ROUND(MEDIAN(Z24,AD24,AE24,AF24,AG24),0) -> 8000 | AN24: =ROUND(GEOMEAN(Z24,AD24,AE24,AF24,AG24),0) -> 3136 | AO24: =ROUND(TRIMMEAN(Z24:AG24,$AO$3),0) -> 3633 | AP24: =ROUND(HARMEAN(Z24:AG24),0) -> 1059 | AQ24: {=STDEVA(IF(Z24:AG24>0,Z24:AG24))} -> 4056.1047 | AS24: =_xlfn.XLOOKUP(AT24,AK24:AQ24,$AK$8:$AQ$8,0) -> Media Armónica | AT24: =+MIN(AK24:AP24) -> 1059 | AU24: =+AT24*H24 -> 127080 | AV24: =+AU24*3 -> 381240 | AW24: 120 | AX24: =+AW24-H24 -> 0
B25: 16 | C25: Desinfeccion, fumigacion | D25: DT META | E25: PASTO - NARIÑO | F25: LOS ROSALES II - ANGANOY-EDIFICIO INVIAS-PASTO-NARIÑO | G25: M2 | H25: 1120 | I25: 616 | J25: =+H25*I25 -> 689920 | K25: =+I25+(I25*5.2%) -> 648.032 | L25: =+H25*K25 -> 725795.84 | M25: =+K25+(K25*5.1%) -> 681.08163 | N25: =+H25*M25 -> 762811.43 | O25: 760 | P25: =+H25*O25 -> 851200 | Q25: =+O25+(O25*5.1%) -> 798.76 | R25: =+H25*Q25 -> 894611.2 | S25: 5120 | T25: =+H25*S25 -> 5734400 | U25: 5000 | V25: =+H25*U25 -> 5600000 | W25: 4000 | X25: =+H25*W25 -> 4480000 | Z25: =+I25 -> 616 | AA25: =+K25 -> 648.032 | AB25: =+M25 -> 681.08163 | AC25: =+O25 -> 760 | AD25: =+Q25 -> 798.76 | AE25: =+S25 -> 5120 | AF25: =+U25 -> 5000 | AG25: =+W25 -> 4000 | AI25: {=+MIN(IF(Z25:AG25>0,Z25:AG25))} -> 616 | AJ25: {=MAX(IF(Z25:AG25>0,Z25:AG25))} -> 5120 | AK25: {=ROUND(AVERAGE(IF(Z25:AG25>0,Z25:AG25)),0)} -> 2203 | AL25: =+AVERAGE(AI25,AK25) -> 1409.5 | AM25: =ROUND(MEDIAN(Z25,AD25,AE25,AF25,AG25),0) -> 4000 | AN25: =ROUND(GEOMEAN(Z25,AD25,AE25,AF25,AG25),0) -> 2190 | AO25: =ROUND(TRIMMEAN(Z25:AG25,$AO$3),0) -> 2203 | AP25: =ROUND(HARMEAN(Z25:AG25),0) -> 1019 | AQ25: {=STDEVA(IF(Z25:AG25>0,Z25:AG25))} -> 2099.938 | AS25: =_xlfn.XLOOKUP(AT25,AK25:AQ25,$AK$8:$AQ$8,0) -> Media Armónica | AT25: =+MIN(AK25:AP25) -> 1019 | AU25: =+AT25*H25 -> 1141280 | AV25: =+AU25*3 -> 3423840 | AW25: 1120 | AX25: =+AW25-H25 -> 0
B26: 17 | C26: Desinfeccion, fumigacion | D26: DT NARIÑO | E26: CUCUTA - NTE. SANTANDER | F26: AV.DEMETRIO MENDOZA- ANTIGUA SEDE M.O.P.T. BARRIO SAN LUIS -CÚCUTA | G26: M2 | H26: 200 | I26: 616 | J26: =+H26*I26 -> 123200 | K26: =+I26+(I26*5.2%) -> 648.032 | L26: =+H26*K26 -> 129606.4 | M26: =+K26+(K26*5.1%) -> 681.08163 | N26: =+H26*M26 -> 136216.33 | O26: 760 | P26: =+H26*O26 -> 152000 | Q26: =+O26+(O26*5.1%) -> 798.76 | R26: =+H26*Q26 -> 159752 | S26: 8560 | T26: =+H26*S26 -> 1712000 | U26: 9000 | V26: =+H26*U26 -> 1800000 | W26: 8000 | X26: =+H26*W26 -> 1600000 | Z26: =+I26 -> 616 | AA26: =+K26 -> 648.032 | AB26: =+M26 -> 681.08163 | AC26: =+O26 -> 760 | AD26: =+Q26 -> 798.76 | AE26: =+S26 -> 8560 | AF26: =+U26 -> 9000 | AG26: =+W26 -> 8000 | AI26: {=+MIN(IF(Z26:AG26>0,Z26:AG26))} -> 616 | AJ26: {=MAX(IF(Z26:AG26>0,Z26:AG26))} -> 9000 | AK26: {=ROUND(AVERAGE(IF(Z26:AG26>0,Z26:AG26)),0)} -> 3633 | AL26: =+AVERAGE(AI26,AK26) -> 2124.5 | AM26: =ROUND(MEDIAN(Z26,AD26,AE26,AF26,AG26),0) -> 8000 | AN26: =ROUND(GEOMEAN(Z26,AD26,AE26,AF26,AG26),0) -> 3136 | AO26: =ROUND(TRIMMEAN(Z26:AG26,$AO$3),0) -> 3633 | AP26: =ROUND(HARMEAN(Z26:AG26),0) -> 1059 | AQ26: {=STDEVA(IF(Z26:AG26>0,Z26:AG26))} -> 4056.1047 | AS26: =_xlfn.XLOOKUP(AT26,AK26:AQ26,$AK$8:$AQ$8,0) -> Media Armónica | AT26: =+MIN(AK26:AP26) -> 1059 | AU26: =+AT26*H26 -> 211800 | AV26: =+AU26*3 -> 635400 | AW26: 200 | AX26: =+AW26-H26 -> 0
B27: 18 | C27: Desinfeccion, fumigacion | D27: DT NORTE DE SANTANDER | E27: ARMENIA - QUINDIO | F27: Carrera 14 No.1-333 Local 10 - C.Comercial Baleraes | G27: M2 | H27: 3000 | I27: 616 | J27: =+H27*I27 -> 1848000 | K27: =+I27+(I27*5.2%) -> 648.032 | L27: =+H27*K27 -> 1944096 | M27: =+K27+(K27*5.1%) -> 681.08163 | N27: =+H27*M27 -> 2043244.9 | O27: 760 | P27: =+H27*O27 -> 2280000 | Q27: =+O27+(O27*5.1%) -> 798.76 | R27: =+H27*Q27 -> 2396280 | S27: 2140 | T27: =+H27*S27 -> 6420000 | U27: 4000 | V27: =+H27*U27 -> 12000000 | W27: 2000 | X27: =+H27*W27 -> 6000000 | Z27: =+I27 -> 616 | AA27: =+K27 -> 648.032 | AB27: =+M27 -> 681.08163 | AC27: =+O27 -> 760 | AD27: =+Q27 -> 798.76 | AE27: =+S27 -> 2140 | AF27: =+U27 -> 4000 | AG27: =+W27 -> 2000 | AI27: {=+MIN(IF(Z27:AG27>0,Z27:AG27))} -> 616 | AJ27: {=MAX(IF(Z27:AG27>0,Z27:AG27))} -> 4000 | AK27: {=ROUND(AVERAGE(IF(Z27:AG27>0,Z27:AG27)),0)} -> 1455 | AL27: =+AVERAGE(AI27,AK27) -> 1035.5 | AM27: =ROUND(MEDIAN(Z27,AD27,AE27,AF27,AG27),0) -> 2000 | AN27: =ROUND(GEOMEAN(Z27,AD27,AE27,AF27,AG27),0) -> 1531 | AO27: =ROUND(TRIMMEAN(Z27:AG27,$AO$3),0) -> 1455 | AP27: =ROUND(HARMEAN(Z27:AG27),0) -> 950 | AQ27: {=STDEVA(IF(Z27:AG27>0,Z27:AG27))} -> 1201.8448 | AS27: =_xlfn.XLOOKUP(AT27,AK27:AQ27,$AK$8:$AQ$8,0) -> Media Armónica | AT27: =+MIN(AK27:AP27) -> 950 | AU27: =+AT27*H27 -> 2850000 | AV27: =+AU27*3 -> 8550000 | AW27: 3000 | AX27: =+AW27-H27 -> 0
B28: 19 | C28: Desinfeccion, fumigacion | D28: DT QUINDIO | E28: PEREIRA - RISARALDA | F28: VIA MERCASA AVENIDA DE LAS AMERICAS | G28: M2 | H28: 286 | I28: 616 | J28: =+H28*I28 -> 176176 | K28: =+I28+(I28*5.2%) -> 648.032 | L28: =+H28*K28 -> 185337.15 | M28: =+K28+(K28*5.1%) -> 681.08163 | N28: =+H28*M28 -> 194789.35 | O28: 760 | P28: =+H28*O28 -> 217360 | Q28: =+O28+(O28*5.1%) -> 798.76 | R28: =+H28*Q28 -> 228445.36 | S28: 8560 | T28: =+H28*S28 -> 2448160 | U28: 9000 | V28: =+H28*U28 -> 2574000 | W28: 8000 | X28: =+H28*W28 -> 2288000 | Z28: =+I28 -> 616 | AA28: =+K28 -> 648.032 | AB28: =+M28 -> 681.08163 | AC28: =+O28 -> 760 | AD28: =+Q28 -> 798.76 | AE28: =+S28 -> 8560 | AF28: =+U28 -> 9000 | AG28: =+W28 -> 8000 | AI28: {=+MIN(IF(Z28:AG28>0,Z28:AG28))} -> 616 | AJ28: {=MAX(IF(Z28:AG28>0,Z28:AG28))} -> 9000 | AK28: {=ROUND(AVERAGE(IF(Z28:AG28>0,Z28:AG28)),0)} -> 3633 | AL28: =+AVERAGE(AI28,AK28) -> 2124.5 | AM28: =ROUND(MEDIAN(Z28,AD28,AE28,AF28,AG28),0) -> 8000 | AN28: =ROUND(GEOMEAN(Z28,AD28,AE28,AF28,AG28),0) -> 3136 | AO28: =ROUND(TRIMMEAN(Z28:AG28,$AO$3),0) -> 3633 | AP28: =ROUND(HARMEAN(Z28:AG28),0) -> 1059 | AQ28: {=STDEVA(IF(Z28:AG28>0,Z28:AG28))} -> 4056.1047 | AS28: =_xlfn.XLOOKUP(AT28,AK28:AQ28,$AK$8:$AQ$8,0) -> Media Armónica | AT28: =+MIN(AK28:AP28) -> 1059 | AU28: =+AT28*H28 -> 302874 | AV28: =+AU28*3 -> 908622 | AW28: 286 | AX28: =+AW28-H28 -> 0
B29: 20 | C29: Desinfeccion, fumigacion | D29: DT RISARALDA | E29: BUCARAMANGA - SANTANDER | F29: KILÓMETRO 1. RUITOQUE ANTIGUO DISTRITO 15- FLORIDA BLANCA | G29: M2 | H29: 238 | I29: 616 | J29: =+H29*I29 -> 146608 | K29: =+I29+(I29*5.2%) -> 648.032 | L29: =+H29*K29 -> 154231.62 | M29: =+K29+(K29*5.1%) -> 681.08163 | N29: =+H29*M29 -> 162097.43 | O29: 760 | P29: =+H29*O29 -> 180880 | Q29: =+O29+(O29*5.1%) -> 798.76 | R29: =+H29*Q29 -> 190104.88 | S29: 8560 | T29: =+H29*S29 -> 2037280 | U29: 9000 | V29: =+H29*U29 -> 2142000 | W29: 8000 | X29: =+H29*W29 -> 1904000 | Z29: =+I29 -> 616 | AA29: =+K29 -> 648.032 | AB29: =+M29 -> 681.08163 | AC29: =+O29 -> 760 | AD29: =+Q29 -> 798.76 | AE29: =+S29 -> 8560 | AF29: =+U29 -> 9000 | AG29: =+W29 -> 8000 | AI29: {=+MIN(IF(Z29:AG29>0,Z29:AG29))} -> 616 | AJ29: {=MAX(IF(Z29:AG29>0,Z29:AG29))} -> 9000 | AK29: {=ROUND(AVERAGE(IF(Z29:AG29>0,Z29:AG29)),0)} -> 3633 | AL29: =+AVERAGE(AI29,AK29) -> 2124.5 | AM29: =ROUND(MEDIAN(Z29,AD29,AE29,AF29,AG29),0) -> 8000 | AN29: =ROUND(GEOMEAN(Z29,AD29,AE29,AF29,AG29),0) -> 3136 | AO29: =ROUND(TRIMMEAN(Z29:AG29,$AO$3),0) -> 3633 | AP29: =ROUND(HARMEAN(Z29:AG29),0) -> 1059 | AQ29: {=STDEVA(IF(Z29:AG29>0,Z29:AG29))} -> 4056.1047 | AS29: =_xlfn.XLOOKUP(AT29,AK29:AQ29,$AK$8:$AQ$8,0) -> Media Armónica | AT29: =+MIN(AK29:AP29) -> 1059 | AU29: =+AT29*H29 -> 252042 | AV29: =+AU29*3 -> 756126 | AW29: 238 | AX29: =+AW29-H29 -> 0
B30: 21 | C30: Desinfeccion, fumigacion | D30: DT SANTANDER | E30: IBAGUE - TOLIMA | F30: Carrera 5ª Calle 60 Barrio El Jordan 1ª etapa | G30: M2 | H30: 4800 | I30: 616 | J30: =+H30*I30 -> 2956800 | K30: =+I30+(I30*5.2%) -> 648.032 | L30: =+H30*K30 -> 3110553.6 | M30: =+K30+(K30*5.1%) -> 681.08163 | N30: =+H30*M30 -> 3269191.8 | O30: 760 | P30: =+H30*O30 -> 3648000 | Q30: =+O30+(O30*5.1%) -> 798.76 | R30: =+H30*Q30 -> 3834048 | S30: 2140 | T30: =+H30*S30 -> 10272000 | U30: 5000 | V30: =+H30*U30 -> 24000000 | W30: 2000 | X30: =+H30*W30 -> 9600000 | Z30: =+I30 -> 616 | AA30: =+K30 -> 648.032 | AB30: =+M30 -> 681.08163 | AC30: =+O30 -> 760 | AD30: =+Q30 -> 798.76 | AE30: =+S30 -> 2140 | AF30: =+U30 -> 5000 | AG30: =+W30 -> 2000 | AI30: {=+MIN(IF(Z30:AG30>0,Z30:AG30))} -> 616 | AJ30: {=MAX(IF(Z30:AG30>0,Z30:AG30))} -> 5000 | AK30: {=ROUND(AVERAGE(IF(Z30:AG30>0,Z30:AG30)),0)} -> 1580 | AL30: =+AVERAGE(AI30,AK30) -> 1098 | AM30: =ROUND(MEDIAN(Z30,AD30,AE30,AF30,AG30),0) -> 2000 | AN30: =ROUND(GEOMEAN(Z30,AD30,AE30,AF30,AG30),0) -> 1601 | AO30: =ROUND(TRIMMEAN(Z30:AG30,$AO$3),0) -> 1580 | AP30: =ROUND(HARMEAN(Z30:AG30),0) -> 956 | AQ30: {=STDEVA(IF(Z30:AG30>0,Z30:AG30))} -> 1515.3995 | AS30: =_xlfn.XLOOKUP(AT30,AK30:AQ30,$AK$8:$AQ$8,0) -> Media Armónica | AT30: =+MIN(AK30:AP30) -> 956 | AU30: =+AT30*H30 -> 4588800 | AV30: =+AU30*3 -> 13766400 | AW30: 4800 | AX30: =+AW30-H30 -> 0
B31: 22 | C31: Desinfeccion, fumigacion | D31: DT TOLIMA | E31: CALI - VALLE DEL CAUCA | F31: Carrera 39 A No. 5D-10 Barrio Tequendama | G31: M2 | H31: 1318 | I31: 616 | J31: =+H31*I31 -> 811888 | K31: =+I31+(I31*5.2%) -> 648.032 | L31: =+H31*K31 -> 854106.18 | M31: =+K31+(K31*5.1%) -> 681.08163 | N31: =+H31*M31 -> 897665.59 | O31: 760 | P31: =+H31*O31 -> 1001680 | Q31: =+O31+(O31*5.1%) -> 798.76 | R31: =+H31*Q31 -> 1052765.7 | S31: 5120 | T31: =+H31*S31 -> 6748160 | U31: 5000 | V31: =+H31*U31 -> 6590000 | W31: 4000 | X31: =+H31*W31 -> 5272000 | Z31: =+I31 -> 616 | AA31: =+K31 -> 648.032 | AB31: =+M31 -> 681.08163 | AC31: =+O31 -> 760 | AD31: =+Q31 -> 798.76 | AE31: =+S31 -> 5120 | AF31: =+U31 -> 5000 | AG31: =+W31 -> 4000 | AI31: {=+MIN(IF(Z31:AG31>0,Z31:AG31))} -> 616 | AJ31: {=MAX(IF(Z31:AG31>0,Z31:AG31))} -> 5120 | AK31: {=ROUND(AVERAGE(IF(Z31:AG31>0,Z31:AG31)),0)} -> 2203 | AL31: =+AVERAGE(AI31,AK31) -> 1409.5 | AM31: =ROUND(MEDIAN(Z31,AD31,AE31,AF31,AG31),0) -> 4000 | AN31: =ROUND(GEOMEAN(Z31,AD31,AE31,AF31,AG31),0) -> 2190 | AO31: =ROUND(TRIMMEAN(Z31:AG31,$AO$3),0) -> 2203 | AP31: =ROUND(HARMEAN(Z31:AG31),0) -> 1019 | AQ31: {=STDEVA(IF(Z31:AG31>0,Z31:AG31))} -> 2099.938 | AS31: =_xlfn.XLOOKUP(AT31,AK31:AQ31,$AK$8:$AQ$8,0) -> Media Armónica | AT31: =+MIN(AK31:AP31) -> 1019 | AU31: =+AT31*H31 -> 1343042 | AV31: =+AU31*3 -> 4029126 | AW31: 1318 | AX31: =+AW31-H31 -> 0
B32: 23 | C32: Desinfeccion, fumigacion | D32: DT VALLE DEL CAUCA | E32: ARAUCA - ARAUCA | F32: Calle 23 No. 26-17 – Municipio de Arauca | G32: M2 | H32: 546 | I32: 616 | J32: =+H32*I32 -> 336336 | K32: =+I32+(I32*5.2%) -> 648.032 | L32: =+H32*K32 -> 353825.47 | M32: =+K32+(K32*5.1%) -> 681.08163 | N32: =+H32*M32 -> 371870.57 | O32: 760 | P32: =+H32*O32 -> 414960 | Q32: =+O32+(O32*5.1%) -> 798.76 | R32: =+H32*Q32 -> 436122.96 | S32: 7490 | T32: =+H32*S32 -> 4089540 | U32: 8000 | V32: =+H32*U32 -> 4368000 | W32: 7000 | X32: =+H32*W32 -> 3822000 | Z32: =+I32 -> 616 | AA32: =+K32 -> 648.032 | AB32: =+M32 -> 681.08163 | AC32: =+O32 -> 760 | AD32: =+Q32 -> 798.76 | AE32: =+S32 -> 7490 | AF32: =+U32 -> 8000 | AG32: =+W32 -> 7000 | AI32: {=+MIN(IF(Z32:AG32>0,Z32:AG32))} -> 616 | AJ32: {=MAX(IF(Z32:AG32>0,Z32:AG32))} -> 8000 | AK32: {=ROUND(AVERAGE(IF(Z32:AG32>0,Z32:AG32)),0)} -> 3249 | AL32: =+AVERAGE(AI32,AK32) -> 1932.5 | AM32: =ROUND(MEDIAN(Z32,AD32,AE32,AF32,AG32),0) -> 7000 | AN32: =ROUND(GEOMEAN(Z32,AD32,AE32,AF32,AG32),0) -> 2904 | AO32: =ROUND(TRIMMEAN(Z32:AG32,$AO$3),0) -> 3249 | AP32: =ROUND(HARMEAN(Z32:AG32),0) -> 1052 | AQ32: {=STDEVA(IF(Z32:AG32>0,Z32:AG32))} -> 3527.8243 | AS32: =_xlfn.XLOOKUP(AT32,AK32:AQ32,$AK$8:$AQ$8,0) -> Media Armónica | AT32: =+MIN(AK32:AP32) -> 1052 | AU32: =+AT32*H32 -> 574392 | AV32: =+AU32*3 -> 1723176 | AW32: 546 | AX32: =+AW32-H32 -> 0
B33: 24 | C33: Desinfeccion, fumigacion | D33: OFICINA SUCRE | E33: SUCRE SINCELEJO | F33: Cl. 38 No. 8-159 Carrera Troncal (Calle 1a del Comercio) | G33: M2 | H33: 117 | I33: 616 | J33: =+H33*I33 -> 72072 | K33: =+I33+(I33*5.2%) -> 648.032 | L33: =+H33*K33 -> 75819.744 | M33: =+K33+(K33*5.1%) -> 681.08163 | N33: =+H33*M33 -> 79686.551 | O33: 760 | P33: =+H33*O33 -> 88920 | Q33: =+O33+(O33*5.1%) -> 798.76 | R33: =+H33*Q33 -> 93454.92 | S33: 8560 | T33: =+H33*S33 -> 1001520 | U33: 9000 | V33: =+H33*U33 -> 1053000 | W33: 8000 | X33: =+H33*W33 -> 936000 | Z33: =+I33 -> 616 | AA33: =+K33 -> 648.032 | AB33: =+M33 -> 681.08163 | AC33: =+O33 -> 760 | AD33: =+Q33 -> 798.76 | AE33: =+S33 -> 8560 | AF33: =+U33 -> 9000 | AG33: =+W33 -> 8000 | AI33: {=+MIN(IF(Z33:AG33>0,Z33:AG33))} -> 616 | AJ33: {=MAX(IF(Z33:AG33>0,Z33:AG33))} -> 9000 | AK33: {=ROUND(AVERAGE(IF(Z33:AG33>0,Z33:AG33)),0)} -> 3633 | AL33: =+AVERAGE(AI33,AK33) -> 2124.5 | AM33: =ROUND(MEDIAN(Z33,AD33,AE33,AF33,AG33),0) -> 8000 | AN33: =ROUND(GEOMEAN(Z33,AD33,AE33,AF33,AG33),0) -> 3136 | AO33: =ROUND(TRIMMEAN(Z33:AG33,$AO$3),0) -> 3633 | AP33: =ROUND(HARMEAN(Z33:AG33),0) -> 1059 | AQ33: {=STDEVA(IF(Z33:AG33>0,Z33:AG33))} -> 4056.1047 | AS33: =_xlfn.XLOOKUP(AT33,AK33:AQ33,$AK$8:$AQ$8,0) -> Media Armónica | AT33: =+MIN(AK33:AP33) -> 1059 | AU33: =+AT33*H33 -> 123903 | AV33: =+AU33*3 -> 371709 | AW33: 117 | AX33: =+AW33-H33 -> 0
B34: 25 | C34: Desinfeccion, fumigacion | D34: OFICINA YOPAL | E34: YOPAL | F34: Calle 40 No. 21 - 75 Instalaciones del INVIAS - Yopal, Casanare | G34: M2 | H34: 100 | I34: 616 | J34: =+H34*I34 -> 61600 | K34: =+I34+(I34*5.2%) -> 648.032 | L34: =+H34*K34 -> 64803.2 | M34: =+K34+(K34*5.1%) -> 681.08163 | N34: =+H34*M34 -> 68108.163 | O34: 760 | P34: =+H34*O34 -> 76000 | Q34: =+O34+(O34*5.1%) -> 798.76 | R34: =+H34*Q34 -> 79876 | S34: 8560 | T34: =+H34*S34 -> 856000 | U34: 9000 | V34: =+H34*U34 -> 900000 | W34: 8000 | X34: =+H34*W34 -> 800000 | Z34: =+I34 -> 616 | AA34: =+K34 -> 648.032 | AB34: =+M34 -> 681.08163 | AC34: =+O34 -> 760 | AD34: =+Q34 -> 798.76 | AE34: =+S34 -> 8560 | AF34: =+U34 -> 9000 | AG34: =+W34 -> 8000 | AI34: {=+MIN(IF(Z34:AG34>0,Z34:AG34))} -> 616 | AJ34: {=MAX(IF(Z34:AG34>0,Z34:AG34))} -> 9000 | AK34: {=ROUND(AVERAGE(IF(Z34:AG34>0,Z34:AG34)),0)} -> 3633 | AL34: =+AVERAGE(AI34,AK34) -> 2124.5 | AM34: =ROUND(MEDIAN(Z34,AD34,AE34,AF34,AG34),0) -> 8000 | AN34: =ROUND(GEOMEAN(Z34,AD34,AE34,AF34,AG34),0) -> 3136 | AO34: =ROUND(TRIMMEAN(Z34:AG34,$AO$3),0) -> 3633 | AP34: =ROUND(HARMEAN(Z34:AG34),0) -> 1059 | AQ34: {=STDEVA(IF(Z34:AG34>0,Z34:AG34))} -> 4056.1047 | AS34: =_xlfn.XLOOKUP(AT34,AK34:AQ34,$AK$8:$AQ$8,0) -> Media Armónica | AT34: =+MIN(AK34:AP34) -> 1059 | AU34: =+AT34*H34 -> 105900 | AV34: =+AU34*3 -> 317700 | AW34: 100 | AX34: =+AW34-H34 -> 0
B35: 26 | C35: Desinfeccion, fumigacion | D35: IF ARAUCA | E35: ARAUCA | F35: Carrera 1 Calle 53 Esquina Terminal Fluvial Yuma | G35: M2 | H35: 125 | I35: 616 | J35: =+H35*I35 -> 77000 | K35: =+I35+(I35*5.2%) -> 648.032 | L35: =+H35*K35 -> 81004 | M35: =+K35+(K35*5.1%) -> 681.08163 | N35: =+H35*M35 -> 85135.204 | O35: 760 | P35: =+H35*O35 -> 95000 | Q35: =+O35+(O35*5.1%) -> 798.76 | R35: =+H35*Q35 -> 99845 | S35: 8560 | T35: =+H35*S35 -> 1070000 | U35: 9000 | V35: =+H35*U35 -> 1125000 | W35: 8000 | X35: =+H35*W35 -> 1000000 | Z35: =+I35 -> 616 | AA35: =+K35 -> 648.032 | AB35: =+M35 -> 681.08163 | AC35: =+O35 -> 760 | AD35: =+Q35 -> 798.76 | AE35: =+S35 -> 8560 | AF35: =+U35 -> 9000 | AG35: =+W35 -> 8000 | AI35: {=+MIN(IF(Z35:AG35>0,Z35:AG35))} -> 616 | AJ35: {=MAX(IF(Z35:AG35>0,Z35:AG35))} -> 9000 | AK35: {=ROUND(AVERAGE(IF(Z35:AG35>0,Z35:AG35)),0)} -> 3633 | AL35: =+AVERAGE(AI35,AK35) -> 2124.5 | AM35: =ROUND(MEDIAN(Z35,AD35,AE35,AF35,AG35),0) -> 8000 | AN35: =ROUND(GEOMEAN(Z35,AD35,AE35,AF35,AG35),0) -> 3136 | AO35: =ROUND(TRIMMEAN(Z35:AG35,$AO$3),0) -> 3633 | AP35: =ROUND(HARMEAN(Z35:AG35),0) -> 1059 | AQ35: {=STDEVA(IF(Z35:AG35>0,Z35:AG35))} -> 4056.1047 | AS35: =_xlfn.XLOOKUP(AT35,AK35:AQ35,$AK$8:$AQ$8,0) -> Media Armónica | AT35: =+MIN(AK35:AP35) -> 1059 | AU35: =+AT35*H35 -> 132375 | AV35: =+AU35*3 -> 397125 | AW35: 125 | AX35: =+AW35-H35 -> 0
B36: 27 | C36: Desinfeccion, fumigacion | D36: IF BETANIA | E36: BETANIA | F36: Carrera 1 No. 24-4 en el municipio de Calamar- Bolívar | G36: M2 | H36: 65 | I36: 616 | J36: =+H36*I36 -> 40040 | K36: =+I36+(I36*5.2%) -> 648.032 | L36: =+H36*K36 -> 42122.08 | M36: =+K36+(K36*5.1%) -> 681.08163 | N36: =+H36*M36 -> 44270.306 | O36: 760 | P36: =+H36*O36 -> 49400 | Q36: =+O36+(O36*5.1%) -> 798.76 | R36: =+H36*Q36 -> 51919.4 | S36: 10700 | T36: =+H36*S36 -> 695500 | U36: 11000 | V36: =+H36*U36 -> 715000 | W36: 10000 | X36: =+H36*W36 -> 650000 | Z36: =+I36 -> 616 | AA36: =+K36 -> 648.032 | AB36: =+M36 -> 681.08163 | AC36: =+O36 -> 760 | AD36: =+Q36 -> 798.76 | AE36: =+S36 -> 10700 | AF36: =+U36 -> 11000 | AG36: =+W36 -> 10000 | AI36: {=+MIN(IF(Z36:AG36>0,Z36:AG36))} -> 616 | AJ36: {=MAX(IF(Z36:AG36>0,Z36:AG36))} -> 11000 | AK36: {=ROUND(AVERAGE(IF(Z36:AG36>0,Z36:AG36)),0)} -> 4400 | AL36: =+AVERAGE(AI36,AK36) -> 2508 | AM36: =ROUND(MEDIAN(Z36,AD36,AE36,AF36,AG36),0) -> 10000 | AN36: =ROUND(GEOMEAN(Z36,AD36,AE36,AF36,AG36),0) -> 3569 | AO36: =ROUND(TRIMMEAN(Z36:AG36,$AO$3),0) -> 4400 | AP36: =ROUND(HARMEAN(Z36:AG36),0) -> 1069 | AQ36: {=STDEVA(IF(Z36:AG36>0,Z36:AG36))} -> 5113.7741 | AS36: =_xlfn.XLOOKUP(AT36,AK36:AQ36,$AK$8:$AQ$8,0) -> Media Armónica | AT36: =+MIN(AK36:AP36) -> 1069 | AU36: =+AT36*H36 -> 69485 | AV36: =+AU36*3 -> 208455 | AW36: 65 | AX36: =+AW36-H36 -> 0
... B51: 42 | C51: Desinfeccion, fumigacion | D51: IF MAGANGUE | E51: MAGANGUÉ - BOLIVAR | F51: Calle 55 No. 6 - 195 | G51: M2 | H51: 700 | I51: 616 | J51: =+H51*I51 -> 431200 | K51: =+I51+(I51*5.2%) -> 648.032 | L51: =+H51*K51 -> 453622.4 | M51: =+K51+(K51*5.1%) -> 681.08163 | N51: =+H51*M51 -> 476757.14 | O51: 760 | P51: =+H51*O51 -> 532000 | Q51: =+O51+(O51*5.1%) -> 798.76 | R51: =+H51*Q51 -> 559132 | S51: 6420 | T51: =+H51*S51 -> 4494000 | U51: 7000 | V51: =+H51*U51 -> 4900000 | W51: 6000 | X51: =+H51*W51 -> 4200000 | Z51: =+I51 -> 616 | AA51: =+K51 -> 648.032 | AB51: =+M51 -> 681.08163 | AC51: =+O51 -> 760 | AD51: =+Q51 -> 798.76 | AE51: =+S51 -> 6420 | AF51: =+U51 -> 7000 | AG51: =+W51 -> 6000 | AI51: {=+MIN(IF(Z51:AG51>0,Z51:AG51))} -> 616 | AJ51: {=MAX(IF(Z51:AG51>0,Z51:AG51))} -> 7000 | AK51: {=ROUND(AVERAGE(IF(Z51:AG51>0,Z51:AG51)),0)} -> 2865 | AL51: =+AVERAGE(AI51,AK51) -> 1740.5 | AM51: =ROUND(MEDIAN(Z51,AD51,AE51,AF51,AG51),0) -> 6000 | AN51: =ROUND(GEOMEAN(Z51,AD51,AE51,AF51,AG51),0) -> 2658 | AO51: =ROUND(TRIMMEAN(Z51:AG51,$AO$3),0) -> 2865 | AP51: =ROUND(HARMEAN(Z51:AG51),0) -> 1043 | AQ51: {=STDEVA(IF(Z51:AG51>0,Z51:AG51))} -> 3000.1736 | AS51: =_xlfn.XLOOKUP(AT51,AK51:AQ51,$AK$8:$AQ$8,0) -> Media Armónica | AT51: =+MIN(AK51:AP51) -> 1043 | AU51: =+AT51*H51 -> 730100 | AV51: =+AU51*3 -> 2190300 | AW51: 700 | AX51: =+AW51-H51 -> 0
B52: 43 | C52: Desinfeccion, fumigacion | D52: IF PUERTO ASIS | F52: Carrera 1ª No. 50 -02 | G52: M2 | H52: 967 | I52: 616 | J52: =+H52*I52 -> 595672 | K52: =+I52+(I52*5.2%) -> 648.032 | L52: =+H52*K52 -> 626646.94 | M52: =+K52+(K52*5.1%) -> 681.08163 | N52: =+H52*M52 -> 658605.94 | O52: 760 | P52: =+H52*O52 -> 734920 | Q52: =+O52+(O52*5.1%) -> 798.76 | R52: =+H52*Q52 -> 772400.92 | S52: 6420 | T52: =+H52*S52 -> 6208140 | U52: 7000 | V52: =+H52*U52 -> 6769000 | W52: 6000 | X52: =+H52*W52 -> 5802000 | Z52: =+I52 -> 616 | AA52: =+K52 -> 648.032 | AB52: =+M52 -> 681.08163 | AC52: =+O52 -> 760 | AD52: =+Q52 -> 798.76 | AE52: =+S52 -> 6420 | AF52: =+U52 -> 7000 | AG52: =+W52 -> 6000 | AI52: {=+MIN(IF(Z52:AG52>0,Z52:AG52))} -> 616 | AJ52: {=MAX(IF(Z52:AG52>0,Z52:AG52))} -> 7000 | AK52: {=ROUND(AVERAGE(IF(Z52:AG52>0,Z52:AG52)),0)} -> 2865 | AL52: =+AVERAGE(AI52,AK52) -> 1740.5 | AM52: =ROUND(MEDIAN(Z52,AD52,AE52,AF52,AG52),0) -> 6000 | AN52: =ROUND(GEOMEAN(Z52,AD52,AE52,AF52,AG52),0) -> 2658 | AO52: =ROUND(TRIMMEAN(Z52:AG52,$AO$3),0) -> 2865 | AP52: =ROUND(HARMEAN(Z52:AG52),0) -> 1043 | AQ52: {=STDEVA(IF(Z52:AG52>0,Z52:AG52))} -> 3000.1736 | AS52: =_xlfn.XLOOKUP(AT52,AK52:AQ52,$AK$8:$AQ$8,0) -> Media Armónica | AT52: =+MIN(AK52:AP52) -> 1043 | AU52: =+AT52*H52 -> 1008581 | AV52: =+AU52*3 -> 3025743 | AW52: 967 | AX52: =+AW52-H52 -> 0
B53: 44 | C53: Desinfeccion, fumigacion | D53: IF PUERTO BERRIO | E53: PUERTO BERRIO - ANTIOQUIA | F53: Carrera 1ª No.7-137 - Muelle Fluvial - | G53: M2 | H53: 20 | I53: 616 | J53: =+H53*I53 -> 12320 | K53: =+I53+(I53*5.2%) -> 648.032 | L53: =+H53*K53 -> 12960.64 | M53: =+K53+(K53*5.1%) -> 681.08163 | N53: =+H53*M53 -> 13621.633 | O53: 760 | P53: =+H53*O53 -> 15200 | Q53: =+O53+(O53*5.1%) -> 798.76 | R53: =+H53*Q53 -> 15975.2 | S53: 8560 | T53: =+H53*S53 -> 171200 | U53: 9000 | V53: =+H53*U53 -> 180000 | W53: 8000 | X53: =+H53*W53 -> 160000 | Z53: =+I53 -> 616 | AA53: =+K53 -> 648.032 | AB53: =+M53 -> 681.08163 | AC53: =+O53 -> 760 | AD53: =+Q53 -> 798.76 | AE53: =+S53 -> 8560 | AF53: =+U53 -> 9000 | AG53: =+W53 -> 8000 | AI53: {=+MIN(IF(Z53:AG53>0,Z53:AG53))} -> 616 | AJ53: {=MAX(IF(Z53:AG53>0,Z53:AG53))} -> 9000 | AK53: {=ROUND(AVERAGE(IF(Z53:AG53>0,Z53:AG53)),0)} -> 3633 | AL53: =+AVERAGE(AI53,AK53) -> 2124.5 | AM53: =ROUND(MEDIAN(Z53,AD53,AE53,AF53,AG53),0) -> 8000 | AN53: =ROUND(GEOMEAN(Z53,AD53,AE53,AF53,AG53),0) -> 3136 | AO53: =ROUND(TRIMMEAN(Z53:AG53,$AO$3),0) -> 3633 | AP53: =ROUND(HARMEAN(Z53:AG53),0) -> 1059 | AQ53: {=STDEVA(IF(Z53:AG53>0,Z53:AG53))} -> 4056.1047 | AS53: =_xlfn.XLOOKUP(AT53,AK53:AQ53,$AK$8:$AQ$8,0) -> Media Armónica | AT53: =+MIN(AK53:AP53) -> 1059 | AU53: =+AT53*H53 -> 21180 | AV53: =+AU53*3 -> 63540 | AW53: 20 | AX53: =+AW53-H53 -> 0
B54: 45 | C54: Desinfeccion, fumigacion | D54: IF PUERTO CARREÑO | E54: PUERTO CARREÑO - VICHADA | F54: Carrera 2 N° 11 -53 | G54: M2 | H54: 260 | I54: 616 | J54: =+H54*I54 -> 160160 | K54: =+I54+(I54*5.2%) -> 648.032 | L54: =+H54*K54 -> 168488.32 | M54: =+K54+(K54*5.1%) -> 681.08163 | N54: =+H54*M54 -> 177081.22 | O54: 760 | P54: =+H54*O54 -> 197600 | Q54: =+O54+(O54*5.1%) -> 798.76 | R54: =+H54*Q54 -> 207677.6 | S54: 8560 | T54: =+H54*S54 -> 2225600 | U54: 9000 | V54: =+H54*U54 -> 2340000 | W54: 8000 | X54: =+H54*W54 -> 2080000 | Z54: =+I54 -> 616 | AA54: =+K54 -> 648.032 | AB54: =+M54 -> 681.08163 | AC54: =+O54 -> 760 | AD54: =+Q54 -> 798.76 | AE54: =+S54 -> 8560 | AF54: =+U54 -> 9000 | AG54: =+W54 -> 8000 | AI54: {=+MIN(IF(Z54:AG54>0,Z54:AG54))} -> 616 | AJ54: {=MAX(IF(Z54:AG54>0,Z54:AG54))} -> 9000 | AK54: {=ROUND(AVERAGE(IF(Z54:AG54>0,Z54:AG54)),0)} -> 3633 | AL54: =+AVERAGE(AI54,AK54) -> 2124.5 | AM54: =ROUND(MEDIAN(Z54,AD54,AE54,AF54,AG54),0) -> 8000 | AN54: =ROUND(GEOMEAN(Z54,AD54,AE54,AF54,AG54),0) -> 3136 | AO54: =ROUND(TRIMMEAN(Z54:AG54,$AO$3),0) -> 3633 | AP54: =ROUND(HARMEAN(Z54:AG54),0) -> 1059 | AQ54: {=STDEVA(IF(Z54:AG54>0,Z54:AG54))} -> 4056.1047 | AS54: =_xlfn.XLOOKUP(AT54,AK54:AQ54,$AK$8:$AQ$8,0) -> Media Armónica | AT54: =+MIN(AK54:AP54) -> 1059 | AU54: =+AT54*H54 -> 275340 | AV54: =+AU54*3 -> 826020 | AW54: 260 | AX54: =+AW54-H54 -> 0
B55: 46 | C55: Desinfeccion, fumigacion | D55: IF PUERTO GAITÁN | E55: PUERTO GAITÁN - META | F55: Muelle Fluvial | G55: M2 | H55: 250 | I55: 616 | J55: =+H55*I55 -> 154000 | K55: =+I55+(I55*5.2%) -> 648.032 | L55: =+H55*K55 -> 162008 | M55: =+K55+(K55*5.1%) -> 681.08163 | N55: =+H55*M55 -> 170270.41 | O55: 760 | P55: =+H55*O55 -> 190000 | Q55: =+O55+(O55*5.1%) -> 798.76 | R55: =+H55*Q55 -> 199690 | S55: 8560 | T55: =+H55*S55 -> 2140000 | U55: 9000 | V55: =+H55*U55 -> 2250000 | W55: 8000 | X55: =+H55*W55 -> 2000000 | Z55: =+I55 -> 616 | AA55: =+K55 -> 648.032 | AB55: =+M55 -> 681.08163 | AC55: =+O55 -> 760 | AD55: =+Q55 -> 798.76 | AE55: =+S55 -> 8560 | AF55: =+U55 -> 9000 | AG55: =+W55 -> 8000 | AI55: {=+MIN(IF(Z55:AG55>0,Z55:AG55))} -> 616 | AJ55: {=MAX(IF(Z55:AG55>0,Z55:AG55))} -> 9000 | AK55: {=ROUND(AVERAGE(IF(Z55:AG55>0,Z55:AG55)),0)} -> 3633 | AL55: =+AVERAGE(AI55,AK55) -> 2124.5 | AM55: =ROUND(MEDIAN(Z55,AD55,AE55,AF55,AG55),0) -> 8000 | AN55: =ROUND(GEOMEAN(Z55,AD55,AE55,AF55,AG55),0) -> 3136 | AO55: =ROUND(TRIMMEAN(Z55:AG55,$AO$3),0) -> 3633 | AP55: =ROUND(HARMEAN(Z55:AG55),0) -> 1059 | AQ55: {=STDEVA(IF(Z55:AG55>0,Z55:AG55))} -> 4056.1047 | AS55: =_xlfn.XLOOKUP(AT55,AK55:AQ55,$AK$8:$AQ$8,0) -> Media Armónica | AT55: =+MIN(AK55:AP55) -> 1059 | AU55: =+AT55*H55 -> 264750 | AV55: =+AU55*3 -> 794250 | AW55: 250 | AX55: =+AW55-H55 -> 0
B56: 47 | C56: Desinfeccion, fumigacion | D56: IF PUERTO INÍRIDA | E56: PUERTO INÍRIDA - GUAINIA | F56: Carrera 3 #3-57, Barrio Centro del municipio de Puerto Leguizamo | G56: M2 | H56: 125 | I56: 616 | J56: =+H56*I56 -> 77000 | K56: =+I56+(I56*5.2%) -> 648.032 | L56: =+H56*K56 -> 81004 | M56: =+K56+(K56*5.1%) -> 681.08163 | N56: =+H56*M56 -> 85135.204 | O56: 760 | P56: =+H56*O56 -> 95000 | Q56: =+O56+(O56*5.1%) -> 798.76 | R56: =+H56*Q56 -> 99845 | S56: 8560 | T56: =+H56*S56 -> 1070000 | U56: 9000 | V56: =+H56*U56 -> 1125000 | W56: 8000 | X56: =+H56*W56 -> 1000000 | Z56: =+I56 -> 616 | AA56: =+K56 -> 648.032 | AB56: =+M56 -> 681.08163 | AC56: =+O56 -> 760 | AD56: =+Q56 -> 798.76 | AE56: =+S56 -> 8560 | AF56: =+U56 -> 9000 | AG56: =+W56 -> 8000 | AI56: {=+MIN(IF(Z56:AG56>0,Z56:AG56))} -> 616 | AJ56: {=MAX(IF(Z56:AG56>0,Z56:AG56))} -> 9000 | AK56: {=ROUND(AVERAGE(IF(Z56:AG56>0,Z56:AG56)),0)} -> 3633 | AL56: =+AVERAGE(AI56,AK56) -> 2124.5 | AM56: =ROUND(MEDIAN(Z56,AD56,AE56,AF56,AG56),0) -> 8000 | AN56: =ROUND(GEOMEAN(Z56,AD56,AE56,AF56,AG56),0) -> 3136 | AO56: =ROUND(TRIMMEAN(Z56:AG56,$AO$3),0) -> 3633 | AP56: =ROUND(HARMEAN(Z56:AG56),0) -> 1059 | AQ56: {=STDEVA(IF(Z56:AG56>0,Z56:AG56))} -> 4056.1047 | AS56: =_xlfn.XLOOKUP(AT56,AK56:AQ56,$AK$8:$AQ$8,0) -> Media Armónica | AT56: =+MIN(AK56:AP56) -> 1059 | AU56: =+AT56*H56 -> 132375 | AV56: =+AU56*3 -> 397125 | AW56: 125 | AX56: =+AW56-H56 -> 0
B57: 48 | C57: Desinfeccion, fumigacion | D57: IF PUERTO LEGUIZAMO | E57: PUERTO LEGUIZAMO - PUTUMAYO | F57: Carrera 3 No. 6 - 32 | G57: M2 | H57: 146 | I57: 616 | J57: =+H57*I57 -> 89936 | K57: =+I57+(I57*5.2%) -> 648.032 | L57: =+H57*K57 -> 94612.672 | M57: =+K57+(K57*5.1%) -> 681.08163 | N57: =+H57*M57 -> 99437.918 | O57: 760 | P57: =+H57*O57 -> 110960 | Q57: =+O57+(O57*5.1%) -> 798.76 | R57: =+H57*Q57 -> 116618.96 | S57: 8560 | T57: =+H57*S57 -> 1249760 | U57: 9000 | V57: =+H57*U57 -> 1314000 | W57: 8000 | X57: =+H57*W57 -> 1168000 | Z57: =+I57 -> 616 | AA57: =+K57 -> 648.032 | AB57: =+M57 -> 681.08163 | AC57: =+O57 -> 760 | AD57: =+Q57 -> 798.76 | AE57: =+S57 -> 8560 | AF57: =+U57 -> 9000 | AG57: =+W57 -> 8000 | AI57: {=+MIN(IF(Z57:AG57>0,Z57:AG57))} -> 616 | AJ57: {=MAX(IF(Z57:AG57>0,Z57:AG57))} -> 9000 | AK57: {=ROUND(AVERAGE(IF(Z57:AG57>0,Z57:AG57)),0)} -> 3633 | AL57: =+AVERAGE(AI57,AK57) -> 2124.5 | AM57: =ROUND(MEDIAN(Z57,AD57,AE57,AF57,AG57),0) -> 8000 | AN57: =ROUND(GEOMEAN(Z57,AD57,AE57,AF57,AG57),0) -> 3136 | AO57: =ROUND(TRIMMEAN(Z57:AG57,$AO$3),0) -> 3633 | AP57: =ROUND(HARMEAN(Z57:AG57),0) -> 1059 | AQ57: {=STDEVA(IF(Z57:AG57>0,Z57:AG57))} -> 4056.1047 | AS57: =_xlfn.XLOOKUP(AT57,AK57:AQ57,$AK$8:$AQ$8,0) -> Media Armónica | AT57: =+MIN(AK57:AP57) -> 1059 | AU57: =+AT57*H57 -> 154614 | AV57: =+AU57*3 -> 463842 | AW57: 146 | AX57: =+AW57-H57 -> 0
B58: 49 | C58: Desinfeccion, fumigacion | D58: IF PUERTO LOPEZ | E58: PUERTO LOPEZ - META | F58: Cra. 14 No. 17B-275 Barrio Primero de Mayo | G58: M2 | H58: 1100 | I58: 616 | J58: =+H58*I58 -> 677600 | K58: =+I58+(I58*5.2%) -> 648.032 | L58: =+H58*K58 -> 712835.2 | M58: =+K58+(K58*5.1%) -> 681.08163 | N58: =+H58*M58 -> 749189.8 | O58: 760 | P58: =+H58*O58 -> 836000 | Q58: =+O58+(O58*5.1%) -> 798.76 | R58: =+H58*Q58 -> 878636 | S58: 5120 | T58: =+H58*S58 -> 5632000 | U58: 5000 | V58: =+H58*U58 -> 5500000 | W58: 4000 | X58: =+H58*W58 -> 4400000 | Z58: =+I58 -> 616 | AA58: =+K58 -> 648.032 | AB58: =+M58 -> 681.08163 | AC58: =+O58 -> 760 | AD58: =+Q58 -> 798.76 | AE58: =+S58 -> 5120 | AF58: =+U58 -> 5000 | AG58: =+W58 -> 4000 | AI58: {=+MIN(IF(Z58:AG58>0,Z58:AG58))} -> 616 | AJ58: {=MAX(IF(Z58:AG58>0,Z58:AG58))} -> 5120 | AK58: {=ROUND(AVERAGE(IF(Z58:AG58>0,Z58:AG58)),0)} -> 2203 | AL58: =+AVERAGE(AI58,AK58) -> 1409.5 | AM58: =ROUND(MEDIAN(Z58,AD58,AE58,AF58,AG58),0) -> 4000 | AN58: =ROUND(GEOMEAN(Z58,AD58,AE58,AF58,AG58),0) -> 2190 | AO58: =ROUND(TRIMMEAN(Z58:AG58,$AO$3),0) -> 2203 | AP58: =ROUND(HARMEAN(Z58:AG58),0) -> 1019 | AQ58: {=STDEVA(IF(Z58:AG58>0,Z58:AG58))} -> 2099.938 | AS58: =_xlfn.XLOOKUP(AT58,AK58:AQ58,$AK$8:$AQ$8,0) -> Media Armónica | AT58: =+MIN(AK58:AP58) -> 1019 | AU58: =+AT58*H58 -> 1120900 | AV58: =+AU58*3 -> 3362700 | AW58: 1100 | AX58: =+AW58-H58 -> 0
...

Sheet Historicos
B2: FORMATO ANALISIS DE COSTOS - ESTUDIO DE MERCADO
AB3: 0.2
B6: DATOS DE INGRESO | T6: VALORES CONTRATOS HISTORICOS INDEXADOS | W6: MEDIAS ESTADISTICAS CALCULADAS | AF6: Valores unitarios Historico
B8: No. | C8: ITEM | D8: SEDE | E8: CIUDAD | F8: DIRECCION | G8: UND | H8: CANT. | I8: VALOR HISTORICO 2024 CTO 835-2024 | K8: VALOR IPC 2024 - (5.20%) CTO 835-2024 | M8: VALOR IPC 2025 ( 5.10%) CTO 835-2024 | O8: VALOR HISTORICO 2025 CTO 536-2025 | Q8: VALOR IPC 2025 5.10% CTO 536-2025 | T8: VALOR INDEXADO CTO 835-2024 | U8: VALOR INDEXADO CTO 536-2025 | W8: MIN | X8: MAX | Y8: Promedio | Z8: Mediana estadística | AA8: Media Geométrica | AB8: Media Acotada | AC8: Media Armónica | AD8: s Stdr | AF8: Medida de tendencia seleccionada | AG8: Valor Unitario
I9: VR. UNITARIO | J9: VR. TOTAL | K9: VR. UNITARIO | L9: VR. TOTAL | M9: VR. UNITARIO | N9: VR. TOTAL | O9: VR. UNITARIO | P9: VR. TOTAL | Q9: VR. UNITARIO | R9: VR. TOTAL
B10: 1 | C10: Desinfeccion, fumigacion | D10: DT ANTIOQUIA | E10: MEDELLIN - ANTIOQUIA | F10: CRA 64 C Nº 78-580 Local 245N, 246N, 247N, 248N, 249N, 250N– TERMINAL DE TRANSPORTE NORTE OFIC.250 | G10: M2 | H10: 490 | I10: 616 | J10: =+H10*I10 -> 301840 | K10: =ROUND(I10+(I10*5.2%),0) -> 648 | L10: =+H10*K10 -> 317520 | M10: =ROUND(K10+(K10*5.1%),0) -> 681 | N10: =+H10*M10 -> 333690 | O10: 760 | P10: =+H10*O10 -> 372400 | Q10: =ROUND(O10+(O10*5.1%),0) -> 799 | R10: =+H10*Q10 -> 391510 | S10: =+O10*23% -> 174.8 | T10: =+M10 -> 681 | U10: =+Q10 -> 799 | W10: {=+MIN(IF(T10:U10>0,T10:U10))} -> 681 | X10: {=MAX(IF(T10:U10>0,T10:U10))} -> 799 | Y10: {=ROUND(AVERAGE(IF(T10:U10>0,T10:U10)),0)} -> 740 | Z10: =ROUND(MEDIAN(T10,U10),0) -> 740 | AA10: =ROUND(GEOMEAN(T10,U10),0) -> 738 | AB10: =ROUND(TRIMMEAN(T10:U10,$AB$3),0) -> 740 | AC10: =ROUND(HARMEAN(T10:U10),0) -> 735 | AD10: {=STDEVA(IF(T10:U10>0,T10:U10))} -> 83.4386 | AF10: =_xlfn.XLOOKUP(AG10,X10:AD10,$X$8:$AD$8,0) -> MAX | AG10: =+MAX(X10:AC10) -> 799
B11: 2 | C11: Desinfeccion, fumigacion | D11: DT ATLANTICO | E11: BARRANQUILLA - ATLANTICO | F11: CARRERA 57 No.75-42 BARRANQUILLA | G11: M2 | H11: 1114 | I11: 616 | J11: =+H11*I11 -> 686224 | K11: =ROUND(I11+(I11*5.2%),0) -> 648 | L11: =+H11*K11 -> 721872 | M11: =ROUND(K11+(K11*5.1%),0) -> 681 | N11: =+H11*M11 -> 758634 | O11: 760 | P11: =+H11*O11 -> 846640 | Q11: =ROUND(O11+(O11*5.1%),0) -> 799 | R11: =+H11*Q11 -> 890086 | T11: =+M11 -> 681 | U11: =+Q11 -> 799 | W11: {=+MIN(IF(T11:U11>0,T11:U11))} -> 681 | X11: {=MAX(IF(T11:U11>0,T11:U11))} -> 799 | Y11: {=ROUND(AVERAGE(IF(T11:U11>0,T11:U11)),0)} -> 740 | Z11: =ROUND(MEDIAN(T11,U11),0) -> 740 | AA11: =ROUND(GEOMEAN(T11,U11),0) -> 738 | AB11: =ROUND(TRIMMEAN(T11:U11,$AB$3),0) -> 740 | AC11: =ROUND(HARMEAN(T11:U11),0) -> 735 | AD11: {=STDEVA(IF(T11:U11>0,T11:U11))} -> 83.4386 | AF11: =_xlfn.XLOOKUP(AG11,X11:AD11,$X$8:$AD$8,0) -> MAX | AG11: =+MAX(X11:AC11) -> 799
B12: 3 | C12: Desinfeccion, fumigacion | D12: DT BOLIVAR | E12: CARTAGENA - BOLIVAR | F12: Calle Candilejo y Román No. 33-41/43/47/49/57/63 (Cra. 6 No. 33-63) 3er piso | G12: M2 | H12: 835 | I12: 616 | J12: =+H12*I12 -> 514360 | K12: =ROUND(I12+(I12*5.2%),0) -> 648 | L12: =+H12*K12 -> 541080 | M12: =ROUND(K12+(K12*5.1%),0) -> 681 | N12: =+H12*M12 -> 568635 | O12: 760 | P12: =+H12*O12 -> 634600 | Q12: =ROUND(O12+(O12*5.1%),0) -> 799 | R12: =+H12*Q12 -> 667165 | T12: =+M12 -> 681 | U12: =+Q12 -> 799 | W12: {=+MIN(IF(T12:U12>0,T12:U12))} -> 681 | X12: {=MAX(IF(T12:U12>0,T12:U12))} -> 799 | Y12: {=ROUND(AVERAGE(IF(T12:U12>0,T12:U12)),0)} -> 740 | Z12: =ROUND(MEDIAN(T12,U12),0) -> 740 | AA12: =ROUND(GEOMEAN(T12,U12),0) -> 738 | AB12: =ROUND(TRIMMEAN(T12:U12,$AB$3),0) -> 740 | AC12: =ROUND(HARMEAN(T12:U12),0) -> 735 | AD12: {=STDEVA(IF(T12:U12>0,T12:U12))} -> 83.4386 | AF12: =_xlfn.XLOOKUP(AG12,X12:AD12,$X$8:$AD$8,0) -> MAX | AG12: =+MAX(X12:AC12) -> 799
B13: 4 | C13: Desinfeccion, fumigacion | D13: DT BOYACA | E13: DUITAMA - BOYACA | F13: Calle 16 No.14-68 Oficina 401-402 DUITAMA | G13: M2 | H13: 437 | I13: 616 | J13: =+H13*I13 -> 269192 | K13: =ROUND(I13+(I13*5.2%),0) -> 648 | L13: =+H13*K13 -> 283176 | M13: =ROUND(K13+(K13*5.1%),0) -> 681 | N13: =+H13*M13 -> 297597 | O13: 760 | P13: =+H13*O13 -> 332120 | Q13: =ROUND(O13+(O13*5.1%),0) -> 799 | R13: =+H13*Q13 -> 349163 | T13: =+M13 -> 681 | U13: =+Q13 -> 799 | W13: {=+MIN(IF(T13:U13>0,T13:U13))} -> 681 | X13: {=MAX(IF(T13:U13>0,T13:U13))} -> 799 | Y13: {=ROUND(AVERAGE(IF(T13:U13>0,T13:U13)),0)} -> 740 | Z13: =ROUND(MEDIAN(T13,U13),0) -> 740 | AA13: =ROUND(GEOMEAN(T13,U13),0) -> 738 | AB13: =ROUND(TRIMMEAN(T13:U13,$AB$3),0) -> 740 | AC13: =ROUND(HARMEAN(T13:U13),0) -> 735 | AD13: {=STDEVA(IF(T13:U13>0,T13:U13))} -> 83.4386 | AF13: =_xlfn.XLOOKUP(AG13,X13:AD13,$X$8:$AD$8,0) -> MAX | AG13: =+MAX(X13:AC13) -> 799
B14: 5 | C14: Desinfeccion, fumigacion | D14: DT CALDAS | E14: MANIZALES - CALDAS | F14: Calle 21 No.21- 45 Edif. Millan y Asociados Piso 9 Manizales | G14: M2 | H14: 166 | I14: 616 | J14: =+H14*I14 -> 102256 | K14: =ROUND(I14+(I14*5.2%),0) -> 648 | L14: =+H14*K14 -> 107568 | M14: =ROUND(K14+(K14*5.1%),0) -> 681 | N14: =+H14*M14 -> 113046 | O14: 760 | P14: =+H14*O14 -> 126160 | Q14: =ROUND(O14+(O14*5.1%),0) -> 799 | R14: =+H14*Q14 -> 132634 | T14: =+M14 -> 681 | U14: =+Q14 -> 799 | W14: {=+MIN(IF(T14:U14>0,T14:U14))} -> 681 | X14: {=MAX(IF(T14:U14>0,T14:U14))} -> 799 | Y14: {=ROUND(AVERAGE(IF(T14:U14>0,T14:U14)),0)} -> 740 | Z14: =ROUND(MEDIAN(T14,U14),0) -> 740 | AA14: =ROUND(GEOMEAN(T14,U14),0) -> 738 | AB14: =ROUND(TRIMMEAN(T14:U14,$AB$3),0) -> 740 | AC14: =ROUND(HARMEAN(T14:U14),0) -> 735 | AD14: {=STDEVA(IF(T14:U14>0,T14:U14))} -> 83.4386 | AF14: =_xlfn.XLOOKUP(AG14,X14:AD14,$X$8:$AD$8,0) -> MAX | AG14: =+MAX(X14:AC14) -> 799
B15: 6 | C15: Desinfeccion, fumigacion | D15: DT CAUCA | E15: POPAYAN - CAUCA | F15: Calle 25N Nº 11 – 96 1º piso | G15: M2 | H15: 390 | I15: 616 | J15: =+H15*I15 -> 240240 | K15: =ROUND(I15+(I15*5.2%),0) -> 648 | L15: =+H15*K15 -> 252720 | M15: =ROUND(K15+(K15*5.1%),0) -> 681 | N15: =+H15*M15 -> 265590 | O15: 760 | P15: =+H15*O15 -> 296400 | Q15: =ROUND(O15+(O15*5.1%),0) -> 799 | R15: =+H15*Q15 -> 311610 | T15: =+M15 -> 681 | U15: =+Q15 -> 799 | W15: {=+MIN(IF(T15:U15>0,T15:U15))} -> 681 | X15: {=MAX(IF(T15:U15>0,T15:U15))} -> 799 | Y15: {=ROUND(AVERAGE(IF(T15:U15>0,T15:U15)),0)} -> 740 | Z15: =ROUND(MEDIAN(T15,U15),0) -> 740 | AA15: =ROUND(GEOMEAN(T15,U15),0) -> 738 | AB15: =ROUND(TRIMMEAN(T15:U15,$AB$3),0) -> 740 | AC15: =ROUND(HARMEAN(T15:U15),0) -> 735 | AD15: {=STDEVA(IF(T15:U15>0,T15:U15))} -> 83.4386 | AF15: =_xlfn.XLOOKUP(AG15,X15:AD15,$X$8:$AD$8,0) -> MAX | AG15: =+MAX(X15:AC15) -> 799
B16: 7 | C16: Desinfeccion, fumigacion | D16: DT CESAR | E16: VALLEDUPAR - CESAR | F16: Calle 16 A No. 12-89 Valledupar - Cesar | G16: M2 | H16: 248 | I16: 616 | J16: =+H16*I16 -> 152768 | K16: =ROUND(I16+(I16*5.2%),0) -> 648 | L16: =+H16*K16 -> 160704 | M16: =ROUND(K16+(K16*5.1%),0) -> 681 | N16: =+H16*M16 -> 168888 | O16: 760 | P16: =+H16*O16 -> 188480 | Q16: =ROUND(O16+(O16*5.1%),0) -> 799 | R16: =+H16*Q16 -> 198152 | T16: =+M16 -> 681 | U16: =+Q16 -> 799 | W16: {=+MIN(IF(T16:U16>0,T16:U16))} -> 681 | X16: {=MAX(IF(T16:U16>0,T16:U16))} -> 799 | Y16: {=ROUND(AVERAGE(IF(T16:U16>0,T16:U16)),0)} -> 740 | Z16: =ROUND(MEDIAN(T16,U16),0) -> 740 | AA16: =ROUND(GEOMEAN(T16,U16),0) -> 738 | AB16: =ROUND(TRIMMEAN(T16:U16,$AB$3),0) -> 740 | AC16: =ROUND(HARMEAN(T16:U16),0) -> 735 | AD16: {=STDEVA(IF(T16:U16>0,T16:U16))} -> 83.4386 | AF16: =_xlfn.XLOOKUP(AG16,X16:AD16,$X$8:$AD$8,0) -> MAX | AG16: =+MAX(X16:AC16) -> 799
B17: 8 | C17: Desinfeccion, fumigacion | D17: DT CORDOBA | E17: MONTERIA - CORDOBA | F17: CALLE 55 nº 6- 1-95 Barrio Castellana | G17: M2 | H17: 772 | I17: 616 | J17: =+H17*I17 -> 475552 | K17: =ROUND(I17+(I17*5.2%),0) -> 648 | L17: =+H17*K17 -> 500256 | M17: =ROUND(K17+(K17*5.1%),0) -> 681 | N17: =+H17*M17 -> 525732 | O17: 760 | P17: =+H17*O17 -> 586720 | Q17: =ROUND(O17+(O17*5.1%),0) -> 799 | R17: =+H17*Q17 -> 616828 | T17: =+M17 -> 681 | U17: =+Q17 -> 799 | W17: {=+MIN(IF(T17:U17>0,T17:U17))} -> 681 | X17: {=MAX(IF(T17:U17>0,T17:U17))} -> 799 | Y17: {=ROUND(AVERAGE(IF(T17:U17>0,T17:U17)),0)} -> 740 | Z17: =ROUND(MEDIAN(T17,U17),0) -> 740 | AA17: =ROUND(GEOMEAN(T17,U17),0) -> 738 | AB17: =ROUND(TRIMMEAN(T17:U17,$AB$3),0) -> 740 | AC17: =ROUND(HARMEAN(T17:U17),0) -> 735 | AD17: {=STDEVA(IF(T17:U17>0,T17:U17))} -> 83.4386 | AF17: =_xlfn.XLOOKUP(AG17,X17:AD17,$X$8:$AD$8,0) -> MAX | AG17: =+MAX(X17:AC17) -> 799
B18: 9 | C18: Desinfeccion, fumigacion | D18: DT CUNDINAMARCA | F18: Centro Comercial Gran Estacion II - 9no y 10mo piso | G18: M2 | H18: 9490 | I18: 616 | J18: =+H18*I18 -> 5845840 | K18: =ROUND(I18+(I18*5.2%),0) -> 648 | L18: =+H18*K18 -> 6149520 | M18: =ROUND(K18+(K18*5.1%),0) -> 681 | N18: =+H18*M18 -> 6462690 | O18: 760 | P18: =+H18*O18 -> 7212400 | Q18: =ROUND(O18+(O18*5.1%),0) -> 799 | R18: =+H18*Q18 -> 7582510 | T18: =+M18 -> 681 | U18: =+Q18 -> 799 | W18: {=+MIN(IF(T18:U18>0,T18:U18))} -> 681 | X18: {=MAX(IF(T18:U18>0,T18:U18))} -> 799 | Y18: {=ROUND(AVERAGE(IF(T18:U18>0,T18:U18)),0)} -> 740 | Z18: =ROUND(MEDIAN(T18,U18),0) -> 740 | AA18: =ROUND(GEOMEAN(T18,U18),0) -> 738 | AB18: =ROUND(TRIMMEAN(T18:U18,$AB$3),0) -> 740 | AC18: =ROUND(HARMEAN(T18:U18),0) -> 735 | AD18: {=STDEVA(IF(T18:U18>0,T18:U18))} -> 83.4386 | AF18: =_xlfn.XLOOKUP(AG18,X18:AD18,$X$8:$AD$8,0) -> MAX | AG18: =+MAX(X18:AC18) -> 799
