Workbook
Name \a: #REF!
Name \L: #REF!
Name \P: #REF!
Name _____________________________dot1: #REF!
Name _____________________________err2: #REF!
Name _____________________________err4: #REF!
Name _____________________________inf2: #REF!
Name ___________________________dot1: #REF!
Name ___________________________err2: #REF!
Name ___________________________err4: #REF!
Name ___________________________inf2: #REF!
Name __________________________dot1: #REF!
Name __________________________err2: #REF!
Name __________________________err4: #REF!
Name __________________________inf2: #REF!
Name _________________________dot1: #REF!
Name _________________________err2: #REF!
Name _________________________err4: #REF!
Name _________________________inf2: #REF!
Name _______________________dot1: #REF!
Name _______________________err2: #REF!
Name _______________________err4: #REF!
Name _______________________inf2: #REF!
Name _____________________dot1: #REF!
Name _____________________err2: #REF!
Name _____________________err4: #REF!
Name _____________________inf2: #REF!
Name ____________________dot1: #REF!
Name ____________________err2: #REF!
Name ____________________err4: #REF!
Name ____________________inf2: #REF!
Name ___________________dot1: #REF!
Name ___________________err2: #REF!
Name ___________________err4: #REF!
Name ___________________inf2: #REF!
Name __________________dot1: #REF!
Name __________________err2: #REF!
Name __________________err4: #REF!
Name __________________inf2: #REF!
Name _________________dot1: #REF!
Name _________________err2: #REF!
Name _________________err4: #REF!
Name _________________inf2: #REF!
Name ________________dot1: #REF!
Name ________________err2: #REF!
Name ________________err4: #REF!
Name ________________inf2: #REF!
Name _______________dot1: #REF!
Name _______________err2: #REF!
Name _______________err4: #REF!
Name _______________inf2: #REF!
Name _____________dot1: #REF!
Name _____________err2: #REF!
Name _____________err4: #REF!
Name _____________inf2: #REF!
Name ____________dot1: #REF!
Name ____________err2: #REF!
Name ____________err4: #REF!
Name ____________inf2: #REF!
Name ___________dot1: #REF!

Sheet PP
B1: PRESUPUESTO CONSOLIDADO | G1: #VALUE!
B2: SUMINISTRO E INSTALACIÓN DE TRANSFORMADORES Y MATERIALES ELÉCTRICOS REQUERIDOS EN DIFERENTES VEREDAS DEL MUNICIPIO DE PLATO, MAGDALENA
B4: OBRA CIVIL
B5: ITEM | C5: DESCRIPCIÓN | D5: UND | E5: CANT | F5: VR. UNITARIO | G5: VR. TOTAL
B7: 1 | C7: SUMINISTRO E INSTALACION - SAN ANTONIO
B8: =B7+0.01 -> 1.01 | C8: POSTE DE FIBRA 12X750 DAN | D8: und | E8: 1
B9: =B8+0.01 -> 1.02 | C9: POSTE DE FIBRA DE 12X1030 MTS | D9: und | E9: 1
B10: =B9+0.01 -> 1.03 | C10: TRANSFORMADOR 75 KVA | D10: und | E10: 1
B11: =B10+0.01 -> 1.04 | C11: CORTACIRCUITO 27 KV | D11: und | E11: 4
B12: =B11+0.01 -> 1.05 | C12: FUSIBLE DE 5 AMP | D12: und | E12: 2
B13: =B12+0.01 -> 1.06 | C13: FUSIBLE 1 AMP | D13: und | E13: 2
B14: =B13+0.01 -> 1.07 | C14: CRUCETA 2,40 AUTOSOPORTADA | D14: und | E14: 5
B15: =B14+0.01 -> 1.08 | C15: CRUCETAS AUTOSOPORTADA 1,80 M | D15: und | E15: 2
B16: =B15+0.01 -> 1.09 | C16: AISLADOR DE SUSPENSION | D16: und | E16: 4
B17: =B16+0.01 -> 1.1 | C17: AISLADOR LINE POST | D17: und | E17: 2
B18: =B17+0.01 -> 1.11 | C18: SPT AUTENISTICA 12 MTS | D18: und | E18: 1
B19: =B18+0.01 -> 1.12 | C19: ACERO 3/8 | D19: m | E19: 30
... B44: =B43+0.01 -> 1.37 | C44: TRANSPORTE DE MATERIAL | D44: und | E44: 1
B45: SUBTOTAL MATERIALES SAN ANTONIO | G45: =SUM(G8:G44) -> 0
B46: =B44+0.01 -> 1.38 | C46: MANO DE OBRA - SAN ANTONIO | D46: glb | E46: 1
B47: ="TOTAL "&C7 -> TOTAL SUMINISTRO E INSTALACION - SAN ANTONIO | G47: =G45+G46 -> 0
B49: 2 | C49: SUMINISTRO E INSTALACION - LOS POZOS
B50: =B49+0.01 -> 2.01 | C50: TRANSFORMADOR 75 KVA | D50: und | E50: 1
B51: =B50+0.01 -> 2.02 | C51: Poste de fibra 1050 kg (Ref: 12x1030) | D51: und | E51: 1
B52: =B51+0.01 -> 2.03 | C52: Poste de fibra 750 kg | D52: und | E52: 3
B53: =B52+0.01 -> 2.04 | C53: Crucetas auto soportadas de 240 cm | D53: und | E53: 7
B54: =B53+0.01 -> 2.05 | C54: Crucetas auto soportadas de 160 cm | D54: und | E54: 2
B55: =B54+0.01 -> 2.06 | C55: Pernos de 5/8 x 12" | D55: und | E55: 20
B56: =B55+0.01 -> 2.07 | C56: Pernos rosca corrida 5/8 x 12" | D56: und | E56: 6
B57: =B56+0.01 -> 2.08 | C57: Grilletes 3/8" | D57: und | E57: 5
B58: =B57+0.01 -> 2.09 | C58: Cajas cortacircuitos de 27 kV | D58: und | E58: 4
B59: =B58+0.01 -> 2.1 | C59: L cortas (para cortacircuitos) | D59: und | E59: 4
B60: =B59+0.01 -> 2.11 | C60: L curvas (para pararrayos) | D60: und | E60: 2
B61: =B60+0.01 -> 2.12 | C61: Pararrayos de 15 kV | D61: und | E61: 2
... B89: =B88+0.01 -> 2.4 | C89: Transporte de material | D89: und | E89: 1
B90: SUBTOTAL MATERIALES LOS POZOS | G90: =SUM(G50:G89) -> 0
B91: =B89+0.01 -> 2.41 | C91: MANO DE OBRA - LOS POZOS | D91: glb | E91: 1
B92: ="TOTAL "&C49 -> TOTAL SUMINISTRO E INSTALACION - LOS POZOS
B94: 3 | C94: SUMINISTRO E INSTALACION - SAN JOSÉ DEL PURGATORIO
B95: =B94+0.01 -> 3.01 | C95: TRANSFORMADOR 75 KVA | D95: und | E95: 1
...

Sheet AIU
B1: DESGLOSADO DE LA ADMINISTRACIÓN, IMPREVISTO Y UTILIDAD DE OBRA | I1: =PP!$G$1 -> #VALUE!
B2: =PP!$B$2 -> SUMINISTRO E INSTALACIÓN DE TRANSFORMADORES Y MATERIALES ELÉCTRICOS REQUERIDOS EN DIFERENTES VEREDAS DEL MUNICIPIO DE PLATO, MAGDALENA
B4: COSTO DIRECTO DE OBRA (CD) | E4: =PP!G133 -> 0
B5: TERMINO DE EJECUCIÓN DE OBRA ( MESES ) | E5: 1
B6: FACTOR PRESTACIONAL PERSONAL | E6: =MO!$F$39 -> 1.68
B7: A. ADMINISTRACIÓN
B9: CANTIDAD | D9: DESCRIPCION DEL CARGO | E9: DEDICACIÓN MES | F9: SALARIO MENSUAL | G9: FACTOR PRESTACIONAL | H9: PLAZO CONSTRUCCION | I9: SALARIO PRESTACIONAL
B10: A | E10: C | F10: D | G10: E | H10: D | I10: F = A * B * C * D * E
B11: 1. PERSONAL PROFESIONAL Y ESPECIALISTAS
B12: 1 | D12: Inspector técnico de proyecto | E12: 1 | F12: =MO!E10 -> 1623500 | G12: =$E$6 -> 1.68 | H12: =$E$5 -> 1 | I12: =ROUND(+E12*F12*H12*G12,0) -> 2727480
B13: Funciones: | D13: (Planear, coordinar, verificar la correcta ejecución de todas las actividades de obras en los plazos requeridos por el contratante, de acuerdo con lo establecido en los terminos de referencia, dejar constancia de la correcta ejecución de las obras mediante registro fotográfico. Estará bajo la supervisión . Debe ser un Tegnologo de construcción (o electrico), con los conocimientos técnicos mínimos necesarios para velar por la adecuada ejecución de la obra en concordancia con los Planos de Proyecto, con las normas Técnicas de Construcción vigentes, con la Planificación estipulada para la ejecución y, en general, con las condiciones acordadas legalmente con el Contratante de la obra.)
B14: SUBTOTAL COSTOS DE PERSONAL | I14: =SUM(I12:I13) -> 2727480
B16: 2. GASTOS OPERACIONALES
B17: CAMPAMENTO
B18: DESCRIPCION | E18: AREA (M2) | F18: COSTO ($/M2.MES) | G18: COSTO MES | H18: DURACION MESES | I18: VALOR ($)
B19: Alquiler de baños portatiles 1 unidades. | E19: 6 | F19: 10676.833 | G19: =E19*F19 -> 64061 | H19: =$E$5 -> 1 | I19: =+G19*H19 -> 64061
B20: Campamento de obra para depósito de materiales, equipos, personal, exclusivo para obra, incluye servicios públicos provisionales | E20: 0 | F20: 8000 | G20: =E20*F20 -> 0 | H20: =$E$5 -> 1 | I20: =+G20*H20 -> 0
B21: OTROS GASTOS
B22: DESCRIPCION | G22: COSTO MES | H22: DURACION MESES | I22: VALOR ($)
B23: Mantenimientos, Equipos | G23: =I14*0.05/4 -> 34093.5 | H23: =$E$5 -> 1 | I23: =+G23*H23 -> 34093.5
B24: Gastos de mobiliario, papelería, fotocopias, etc | G24: =G23 -> 34093.5 | H24: =$E$5 -> 1 | I24: =+G24*H24 -> 34093.5
B25: Sotfware/Hardware para obra | G25: =G23 -> 34093.5 | H25: =$E$5 -> 1 | I25: =+G25*H25 -> 34093.5
B26: SUBTOTAL GASTOS OPERACIONALES MENSUALES | I26: =ROUND(SUM(I19:I25),0) -> 166342 | K26: =I26-K27 -> 2893822
K27: =K28-I14 -> -2727480
B28: TOTAL COSTOS PERSONAL + GASTOS OPERACIONALES POR EL TÉRMINO DE EJECUCIÓN | I28: =ROUND((I14+I26),0) -> 2893822 | K28: =E4*0.0705 -> 0
B29: TOTAL COSTOS PERSONAL + GASTOS OPERACIONALES POR EL TÉRMINO DE EJECUCIÓN EN PORCENTAJE DEL COSTO DIRECTO | I29: =ROUND(+I28/E4,4) -> #DIV/0!
B31: 3. IMPUESTOS Y GARANTÍAS
B32: 3.1 IMPUESTOS
B33: DESCRIPCIÓN ( Debe estar certificado por la secretaria de Hacienda Municipal) | G33: VR. BASE | H33: IMPUESTO % | I33: VALOR ($)
G34: =ROUND(E4,0) -> 0
B35: INPUESTO DE INDUSTRIA Y COMERCIO | G35: =G34 -> 0 | H35: 0.007 | I35: =ROUND(G35*H35,0) -> 0
B36: EST. PRO DEPORTE | G36: =G34 -> 0 | H36: 0.015 | I36: =ROUND(G36*H36,0) -> 0
B37: EST. ADULTO MAYOR | G37: =G34 -> 0 | H37: 0.04 | I37: =ROUND(G37*H37,0) -> 0
B38: EST. PRO CULTURA | G38: =G34 -> 0 | H38: 0.02 | I38: =ROUND(G38*H38,0) -> 0
B39: FONDO DE SEGURIDAD CIUDADANA | G39: =G34 -> 0 | H39: 0.05 | I39: =ROUND(G39*H39,0) -> 0
B40: EST. PRO UNIVERSIDAD | G40: =G34 -> 0 | H40: 0.02 | I40: =ROUND(G40*H40,0) -> 0
B41: EST. PRO HOSPITAL | G41: =G34 -> 0 | H41: 0.02 | I41: =ROUND(G41*H41,0) -> 0
B42: RETE FUENTE | G42: =G34 -> 0 | H42: 0.02 | I42: =ROUND(G42*H42,0) -> 0
B43: SUBTOTAL IMPUESTOS | I43: =ROUND(SUM(I35:I42),0) -> 0
B44: 3.2 GARANTIAS
...

Sheet MO
A1: REMUNERACIÓN DE LA MANO DE OBRA | F1: =PP!$G$1 -> #VALUE!
A2: =PP!$B$2 -> SUMINISTRO E INSTALACIÓN DE TRANSFORMADORES Y MATERIALES ELÉCTRICOS REQUERIDOS EN DIFERENTES VEREDAS DEL MUNICIPIO DE PLATO, MAGDALENA
A4: TARIFAS MANO DE OBRA Y PRESTACIONES SOCIALES 2025
B6: DESCRIPCIÓN | C6: BASE
A7: 1 | B7: SALARIOS DE MANO DE OBRA
A8: A | B8: Salario Minimo Legal Mensual Vigente | C8: mes | E8: 1423500
A9: B | B9: Auxilio de Transporte | C9: mes | E9: 200000
A10: C | B10: Salario Minimo Legal Mensual Vigente + Subsidio de transporte | C10: mes | E10: =SUM(E8:E9) -> 1623500 | F10: 1
A11: D | B11: Jornal + Subsidio de transporte | C11: dia | E11: =(ROUND(E10/30,0)) -> 54117
A12: E | B12: Anual (A/30x365) | C12: año | E12: =ROUND((E8/30)*365,0) -> 17319250
A13: F | B13: Subsidio de Transporte Anual | C13: año | E13: =E9*12 -> 2400000
A14: G | B14: Anual con Subsidio de Transporte | C14: año | E14: =E12+E13 -> 19719250
A16: 2 | B16: PRESTACIONES
B17: Cesantias | C17: G | E17: =ROUND(E14/360,0) -> 54776 | F17: =E17/$E$14 -> 0.0027777933
B18: Intereses de Cesantia | C18: =+B17 -> Cesantias | D18: 0.12 | E18: =ROUND(E17*D18,0) -> 6573 | F18: =E18/$E$14 -> 0.00033332911
B19: Vacaciones 15 Dias | C19: A | D19: 0.5 | E19: =E8/2 -> 711750 | F19: =E19/$E$14 -> 0.036094172
B20: Primas 30 Dias | C20: C | D20: 1 | E20: =E10 -> 1623500 | F20: =E20/$E$14 -> 0.082330717
A22: 3 | B22: DOTACION
B23: Botas y Overol | C23: 120000 | D23: 3 | E23: =+C23*D23 -> 360000 | F23: =E23/$E$14 -> 0.018256272
B24: Seguro Colectivo | C24: E | D24: 0.005 | E24: =ROUND($E$14*D24,0) -> 98596 | F24: =E24/$E$14 -> 0.0049999873
A26: 4 | B26: SEGURIDAD SOCIAL
B27: Pensiones | C27: E | D27: 0.12 | E27: =ROUND($E$14*D27,0) -> 2366310 | F27: =E27/$E$14 -> 0.12
B28: Medicina Familiar | C28: E | D28: 0.085 | E28: =ROUND($E$14*D28,0) -> 1676136 | F28: =E28/$E$14 -> 0.084999987
B29: Riesgos Profesionales | C29: E | D29: 0.056 | E29: =ROUND($E$14*D29,0) -> 1104278 | F29: =E29/$E$14 -> 0.056
A31: 5 | B31: APORTES SENA
B32: Aporte Ordinario | C32: E | D32: 0.02 | E32: =ROUND($E$14*D32,0) -> 394385 | F32: =E32/$E$14 -> 0.02
B33: F.I.C | C33: Nota 4 | D33: 0.18 | E33: =ROUND($E$14*D33,0) -> 3549465 | F33: =E33/$E$14 -> 0.18
A35: 6 | B35: OTROS APORTES
B36: I.C.B.F | C36: E | D36: 0.03 | E36: =ROUND($E$14*D36,0) -> 591578 | F36: =E36/$E$14 -> 0.030000025
B37: Subsidio Familiar | C37: E | D37: 0.04 | E37: =ROUND($E$14*D37,0) -> 788770 | F37: =E37/$E$14 -> 0.04
B39: VALOR REAL DEL SALARIO | E39: =SUM(E17:E38)+E14 -> 33045367 | F39: =ROUND(SUM(F8:F15)+SUM(F17:F38),2) -> 1.68
A41: NOTAS:
A42: 1 | B42: Subsidio de transporte solo se paga hasta sueldos de 2 salarios minimos mensules legales vigentes.
A43: 2 | B43: Subsidio de transporte anual = Subsidio mensual / 30 x (365 dias-18 fiestas - 3 permisos- 15 dias vacaciones).
A44: 3 | B44: Porcentajes solo son validos para actividades de construccion. Para otros empleados se debe utilizar 30 dias de cesantia y 2.2% (promedio para empresas de bajo riesgo).
A45: 4 | B45: Un salario minimo por cada 40 trabajadores. El valor se obtiene asi: (Salario minimo x 12 / 40) / Salario anual estudiado.
A46: 5 | B46: El crecimiento promedio del PIB entre 2005 y 2006 fue superior al 4%y por ello la cotizacion a pensiones por parte del patrono durante 2009 debe aumentar al 12%, segun lo dispuesto por la ley 297 del 2003.
A47: * | B47: Todos los porcentajes estan relacionados con el salario para 365 dias.
A48: * | B48: Los 18 feriados hacen referencia a los dias feriados que de lunes a viernes .
A50: COD | B50: DESCRIPCIÓN | C50: UND | D50: FACTOR DE JORNAL | E50: JORNAL BASICO | F50: PRESTACIONES | G50: TARIFA / JORNAL
...
