Workbook
Name _ftn1: '1. VIA ELEVADORES'!#REF!
Name _ftn1: '2. JAV GROUP'!#REF!
Name _ftn1: '3. IMATIC '!#REF!
Name _ftn1: '4. INSEREL'!#REF!
Name _ftn1: '5. CYRA'!#REF!
Name _ftnref1: '1. VIA ELEVADORES'!#REF!
Name _ftnref1: '2. JAV GROUP'!#REF!
Name _ftnref1: '3. IMATIC '!#REF!
Name _ftnref1: '4. INSEREL'!#REF!
Name _ftnref1: '5. CYRA'!#REF!
Name SMMLV: [1]SMMLV!$A$3:$B$42

Sheet SMMLV
B3: PERIODO | C3: MONTO MENSUAL | D3: SMMLV
A4: 2001 | B4: Enero 1 de 2001 a Dic. 31 de 2001 | C4: 286000
A5: 2002 | B5: Enero 1 de 2002 a Dic. 31 de 2002 | C5: 309000
A6: 2003 | B6: Enero 1 de 2003 a Dic. 31 de 2003 | C6: 332000
A7: 2004 | B7: Enero 1 de 2004 a Dic. 31 de 2004 | C7: 358000
A8: 2005 | B8: Enero 1 de 2005 a Dic. 31 de 2005 | C8: 399600
A9: 2006 | B9: Enero 1 de 2006 a Dic. 31 de 2006 | C9: 426000
A10: 2007 | B10: Enero 1 de 2007 a Dic. 31 de 2007 | C10: 455700
A11: 2008 | B11: Enero 1 de 2008 a Dic. 31 de 2008 | C11: 461500
A12: 2009 | B12: Enero 1 de 2009 a Dic. 31 de 2009 | C12: 496900
A13: 2010 | B13: Enero 1 de 2010 a Dic. 31 de 2010 | C13: 515000
A14: 2011 | B14: Enero 1 de 2011 a Dic. 31 de 2011 | C14: 535600
A15: 2012 | B15: Enero 1 de 2012 a Dic. 31 de 2012 | C15: 566700
... A22: 2019 | B22: Enero 1 de 2019 a Dic. 31 de 2019 | C22: 828116
A23: 2020 | B23: Enero 1 de 2020 En adelnate | C23: 877803 | D23: =+C25/C23 -> 410.1148
B25: Presupuesto oficial en pesos COP | C25: 360000000

Sheet Resumen Evaluaciones
A1: RESUMEN EVALUACIÓN TÉCNICA SELECCIÓN ABREVIADA DE MENOR CUANTÍA N° SIF-SCJ-CMA-002-2020
A2: "MANTENIMIENTO PREVENTIVO Y CORRECTIVO DE LOS ASCENSORES QUE FUNCIONAN EN EQUIPAMIENTOS DE PROPIEDAD Y/O A CARGO DE LA SDSCJ HASTA LA HOMOLOGACION DE LOS MISMOS ANTE ENTE CERTIFICADOR (INLCUIDO C4)".
B3: PROPONENTE | C3: REQUISITOS HABILITANTES PROPONENTE | D3: FORMATO ACEPTACIÓN DE FICHA TÉCNICA | E3: PONDERACION CALIDAD | F3: RESULTADO EVALUACIÓN TÉCNICA | G3: OBSERVACIONES
A4: 1 | B4: =+'1. VIA ELEVADORES'!B8:F8 -> VIA ELEVADORES S.A.S. | C4: =+'1. VIA ELEVADORES'!F87 -> NO CUMPLE | D4: =+'1. VIA ELEVADORES'!F97 -> CUMPLE | E4: =+'1. VIA ELEVADORES'!E117 -> 42.631579 | F4: NO HABILITADO | G4: Ver observaciones evaluación
A5: 2 | B5: =+'2. JAV GROUP'!B8:F8 -> JAV GROUP INGENIERIA Y SOLUCIONES AMBIENTALES S A S | C5: =+'2. JAV GROUP'!F84 -> NO CUMPLE | D5: =+'2. JAV GROUP'!F97 -> NO CUMPLE | E5: =+'2. JAV GROUP'!E117 -> 32.105263 | F5: NO HABILITADO | G5: Ver observaciones evaluación
A6: 3 | B6: =+'3. IMATIC '!B8:F8 -> IMATIC INGENIERIA SAS | C6: =+'3. IMATIC '!F87 -> NO CUMPLE | D6: =+'3. IMATIC '!F97 -> CUMPLE | E6: =+'3. IMATIC '!E117 -> 31.052632 | F6: NO HABILITADO | G6: Ver observaciones evaluación
A7: 4 | B7: =+'Consolidación de Ponderación'!B8 -> INSEREL INGENIERIA EN SERVICIOS ELÉCTRICOS DE COMUNICACIÓN Y DE GAS LTDA | C7: =+'4. INSEREL'!F87 -> CUMPLE | D7: =+'4. INSEREL'!F97 -> CUMPLE | E7: =+'4. INSEREL'!E117 -> 50 | F7: HABILITADO
A8: 5 | B8: =+'Consolidación de Ponderación'!B9 -> CYRA INGENIERIA SAS | C8: =+'5. CYRA'!F87 -> NO CUMPLE | D8: =+'5. CYRA'!F97 -> CUMPLE | E8: =+'5. CYRA'!E117 -> 31.578947 | F8: NO HABILITADO | G8: Ver observaciones evaluación
B10: Firmas Comité Evaluador:
B13: ISABEL JULIANA PEREIRA VELASQUEZ
C14: Firma
B18: LUIS HERNANDO CEDIEL MEJIA
C19: Firma

Sheet Consolidación de Ponderación
A1: CONSOLIDADO DE PONDERACIÓN PROCESO DE SELECCIÓN ABREVIADA DE MENOR CUANTÍA - SIF-SCJ-CMA-002-2020
A2: =+'Resumen Evaluaciones'!A2:F2 -> "MANTENIMIENTO PREVENTIVO Y CORRECTIVO DE LOS ASCENSORES QUE FUNCIONAN EN EQUIPAMIENTOS DE PROPIEDAD Y/O A CARGO DE LA SDSCJ HASTA LA HOMOLOGACION DE LOS MISMOS ANTE ENTE CERTIFICADOR (INLCUIDO C4)".
B4: PROPONENTE | C4: A | D4: B | E4: C | F4: TOTAL
A5: 1 | B5: =+'1. VIA ELEVADORES'!B8:F8 -> VIA ELEVADORES S.A.S. | C5: =+'1. VIA ELEVADORES'!D104 -> 12.631579 | D5: =+'1. VIA ELEVADORES'!D105 -> 20 | E5: =+'1. VIA ELEVADORES'!E112 -> 10 | F5: =SUM(C5:E5) -> 42.631579
A6: 2 | B6: =+'2. JAV GROUP'!B8:F8 -> JAV GROUP INGENIERIA Y SOLUCIONES AMBIENTALES S A S | C6: =+'2. JAV GROUP'!D104 -> 2.1052632 | D6: =+'2. JAV GROUP'!D105 -> 20 | E6: =+'2. JAV GROUP'!E112 -> 10 | F6: =SUM(C6:E6) -> 32.105263
A7: 3 | B7: =+'3. IMATIC '!B8:F8 -> IMATIC INGENIERIA SAS | C7: =+'3. IMATIC '!D104 -> 1.0526316 | D7: =+'3. IMATIC '!D105 -> 20 | E7: =+'3. IMATIC '!E112 -> 10 | F7: =SUM(C7:E7) -> 31.052632
A8: 4 | B8: =+'4. INSEREL'!B8:F8 -> INSEREL INGENIERIA EN SERVICIOS ELÉCTRICOS DE COMUNICACIÓN Y DE GAS LTDA | C8: =+'4. INSEREL'!D104 -> 20 | D8: =+'4. INSEREL'!D105 -> 20 | E8: =+'4. INSEREL'!E112 -> 10 | F8: =SUM(C8:E8) -> 50
A9: 5 | B9: =+'5. CYRA'!B8:F8 -> CYRA INGENIERIA SAS | C9: =+'5. CYRA'!D104 -> 1.5789474 | D9: =+'5. CYRA'!D105 -> 20 | E9: =+'5. CYRA'!E112 -> 10 | F9: =SUM(C9:E9) -> 31.578947
B11: Para la calificación de las ofertas se tendrá en cuenta el siguiente criterio, evaluando sobre un total de 100 puntos:
B12: Criterio / Factor
B13: A. Ponderación de Calidad | C13: 40
B14: B. Ponderación Economica | C14: 50
B15: C. Estímulo a la Industria Nacional Colombiana | C15: 10
B16: TOTAL | C16: 100
A17: En caso de empate en el puntaje total de dos o más ofertas, la SDSCJ escogerá el oferente ganador así: 1. Preferir al proponente que tenga mayor calificación en el puntaje de Ponderación Económica. 2. Si persiste el empate, se escogerá al oferente que tenga mayor calificación en el puntaje de Ponderación de calidad. Si persiste el empate, la SDSCJ escogerá el Proponente aplicando los criterios de desempate previstos en el artículo 2.2.1.1.2.2.9 del Decreto 1082 de 2015.

Sheet Oferta Económica
A1: OFERTA ECONÓMICA PROCESO DE SELECCIÓN ABREVIADA DE MENOR CUANTÍA - SIF-SCJ-SAMC-002-2020
A2: =+'Consolidación de Ponderación'!A2:D2 -> "MANTENIMIENTO PREVENTIVO Y CORRECTIVO DE LOS ASCENSORES QUE FUNCIONAN EN EQUIPAMIENTOS DE PROPIEDAD Y/O A CARGO DE LA SDSCJ HASTA LA HOMOLOGACION DE LOS MISMOS ANTE ENTE CERTIFICADOR (INLCUIDO C4)".
A3: O F E R T A E C O N Ó M I C A D E L O S P R O P O N E N T E S
A4: N° | B4: Descripción | C4: Valores de referencia | D4: Proponente 1 | E4: Proponente 2 | F4: Proponente 3 | G4: Proponente 4 | H4: Proponente 5 | I4: PROPONENTE 1 | J4: PROPONENTE 2 | K4: PROPONENTE 3 | L4: PROPONENTE 4 | M4: PROPONENTE 5
A5: 1.1 | B5: Ascensor dos paradas | C5: 399840 | D5: 359856 | E5: 270000 | F5: 382200 | G5: 394642 | H5: 319100 | I5: =IF(D5>=C5,"excedido","correcto") -> correcto | J5: =IF(E5>=C5,"EXCEDIDO","CORRECTO") -> CORRECTO | K5: =IF(F5>=C5,"EXCEDIDO","CORRECTO") -> CORRECTO | L5: =IF(F5>=C5,"EXCEDIDO","CORRECTO") -> CORRECTO | M5: =IF(H5>=C5,"EXCEDIDO","CORRECTO") -> CORRECTO
A6: 1.2 | B6: Ascensor tres paradas | C6: 416500 | D6: 374850 | E6: 350000 | F6: 398125 | G6: 411085 | H6: 335500 | I6: =IF(D6>=C6,"excedido","correcto") -> correcto | J6: =IF(E6>=C6,"EXCEDIDO","CORRECTO") -> CORRECTO | K6: =IF(F6>=C6,"EXCEDIDO","CORRECTO") -> CORRECTO | L6: =IF(F6>=C6,"EXCEDIDO","CORRECTO") -> CORRECTO | M6: =IF(H6>=C6,"EXCEDIDO","CORRECTO") -> CORRECTO
A7: 1.3 | B7: Ascensor cuatro paradas | C7: 434350 | D7: 390915 | E7: 370000 | F7: 415188 | G7: 428703 | H7: 347800 | I7: =IF(D7>=C7,"excedido","correcto") -> correcto | J7: =IF(E7>=C7,"EXCEDIDO","CORRECTO") -> CORRECTO | K7: =IF(F7>=C7,"EXCEDIDO","CORRECTO") -> CORRECTO | L7: =IF(F7>=C7,"EXCEDIDO","CORRECTO") -> CORRECTO | M7: =IF(H7>=C7,"EXCEDIDO","CORRECTO") -> CORRECTO
A8: 1.4 | B8: Ascensor cinco paradas | C8: 445750.2 | D8: 401175 | E8: 380000 | F8: 426085 | G8: 439955 | H8: 355300 | I8: =IF(D8>=C8,"excedido","correcto") -> correcto | J8: =IF(E8>=C8,"EXCEDIDO","CORRECTO") -> CORRECTO | K8: =IF(F8>=C8,"EXCEDIDO","CORRECTO") -> CORRECTO | L8: =IF(F8>=C8,"EXCEDIDO","CORRECTO") -> CORRECTO | M8: =IF(H8>=C8,"EXCEDIDO","CORRECTO") -> CORRECTO
A9: 1.5 | B9: Ascensor seis paradas | C9: 460940.55 | D9: 414846 | E9: 390000 | F9: 440606 | G9: 454948 | H9: 368900 | I9: =IF(D9>=C9,"excedido","correcto") -> correcto | J9: =IF(E9>=C9,"EXCEDIDO","CORRECTO") -> CORRECTO | K9: =IF(F9>=C9,"EXCEDIDO","CORRECTO") -> CORRECTO | L9: =IF(F9>=C9,"EXCEDIDO","CORRECTO") -> CORRECTO | M9: =IF(H9>=C9,"EXCEDIDO","CORRECTO") -> CORRECTO
A10: 2.1 | B10: Suministro e instalación Barrera detectora electrónica infrarroja para puerta de cabina | C10: 2380000 | D10: 2142000 | E10: 1200000 | F10: 2275000 | G10: 2349060 | H10: 2000000 | I10: =IF(D10>=C10,"excedido","correcto") -> correcto | J10: =IF(E10>=C10,"EXCEDIDO","CORRECTO") -> CORRECTO | K10: =IF(F10>=C10,"EXCEDIDO","CORRECTO") -> CORRECTO | L10: =IF(F10>=C10,"EXCEDIDO","CORRECTO") -> CORRECTO | M10: =IF(H10>=C10,"EXCEDIDO","CORRECTO") -> CORRECTO
A11: 2.2 | B11: Suministro e instalación contactos eléctricos para puerta de cabina Contacto de puerta, parte fija de la cerradura. | C11: 297500 | D11: 267750 | E11: 160000 | F11: 284375 | G11: 293632 | H11: 238850 | I11: =IF(D11>=C11,"excedido","correcto") -> correcto | J11: =IF(E11>=C11,"EXCEDIDO","CORRECTO") -> CORRECTO | K11: =IF(F11>=C11,"EXCEDIDO","CORRECTO") -> CORRECTO | L11: =IF(F11>=C11,"EXCEDIDO","CORRECTO") -> CORRECTO | M11: =IF(H11>=C11,"EXCEDIDO","CORRECTO") -> CORRECTO
A12: 2.3 | B12: Suministro e instalación de botones para botonera de cabina (interna ) | C12: 214200 | D12: 192780 | E12: 200000 | F12: 204750 | G12: 211415 | H12: 184200 | I12: =IF(D12>=C12,"excedido","correcto") -> correcto | J12: =IF(E12>=C12,"EXCEDIDO","CORRECTO") -> CORRECTO | K12: =IF(F12>=C12,"EXCEDIDO","CORRECTO") -> CORRECTO | L12: =IF(F12>=C12,"EXCEDIDO","CORRECTO") -> CORRECTO | M12: =IF(H12>=C12,"EXCEDIDO","CORRECTO") -> CORRECTO
A13: 2.4 | B13: Suministro e instalación de botones para botonera de hall (externa) | C13: 214000 | D13: 192600 | E13: 200000 | F13: 204559 | G13: 211218 | H13: 184200 | I13: =IF(D13>=C13,"excedido","correcto") -> correcto | J13: =IF(E13>=C13,"EXCEDIDO","CORRECTO") -> CORRECTO | K13: =IF(F13>=C13,"EXCEDIDO","CORRECTO") -> CORRECTO | L13: =IF(F13>=C13,"EXCEDIDO","CORRECTO") -> CORRECTO | M13: =IF(H13>=C13,"EXCEDIDO","CORRECTO") -> CORRECTO
A14: 2.5 | B14: Suministro e instalaciones deslizaderas de puertas de hall | C14: 71400 | D14: 64260 | E14: 60000 | F14: 68250 | G14: 70471 | H14: 61400 | I14: =IF(D14>=C14,"excedido","correcto") -> correcto | J14: =IF(E14>=C14,"EXCEDIDO","CORRECTO") -> CORRECTO | K14: =IF(F14>=C14,"EXCEDIDO","CORRECTO") -> CORRECTO | L14: =IF(F14>=C14,"EXCEDIDO","CORRECTO") -> CORRECTO | M14: =IF(H14>=C14,"EXCEDIDO","CORRECTO") -> CORRECTO
A15: 2.6 | B15: Suministro y Cambio de caja de inspección, | C15: 624750 | D15: 562275 | E15: 500000 | F15: 597188 | G15: 616628 | H15: 520500 | I15: =IF(D15>=C15,"excedido","correcto") -> correcto | J15: =IF(E15>=C15,"EXCEDIDO","CORRECTO") -> CORRECTO | K15: =IF(F15>=C15,"EXCEDIDO","CORRECTO") -> CORRECTO | L15: =IF(F15>=C15,"EXCEDIDO","CORRECTO") -> CORRECTO | M15: =IF(H15>=C15,"EXCEDIDO","CORRECTO") -> CORRECTO
A16: 2.7 | B16: Suministro y Cambio de micro del regulador de velocidad | C16: 120000 | D16: 108000 | E16: 90000 | F16: 114706 | G16: 118440 | H16: 103200 | I16: =IF(D16>=C16,"excedido","correcto") -> correcto | J16: =IF(E16>=C16,"EXCEDIDO","CORRECTO") -> CORRECTO | K16: =IF(F16>=C16,"EXCEDIDO","CORRECTO") -> CORRECTO | L16: =IF(F16>=C16,"EXCEDIDO","CORRECTO") -> CORRECTO | M16: =IF(H16>=C16,"EXCEDIDO","CORRECTO") -> CORRECTO
... A27: 3.1 | B27: HOMOLOGACIÓN Y CERTIFICACIÓN | C27: 446250 | D27: 401625 | E27: 380000 | F27: 426563 | G27: 440448 | H27: 345500 | I27: =IF(D27>=C27,"excedido","correcto") -> correcto | J27: =IF(E27>=C27,"EXCEDIDO","CORRECTO") -> CORRECTO | K27: =IF(F27>=C27,"EXCEDIDO","CORRECTO") -> CORRECTO | L27: =IF(F27>=C27,"EXCEDIDO","CORRECTO") -> CORRECTO | M27: =IF(H27>=C27,"EXCEDIDO","CORRECTO") -> CORRECTO
C28: =SUM(C5:C27) -> 31652068 | D28: =SUM(D5:D27) -> 28486862 | E28: =SUM(E5:E27) -> 25896000 | F28: =SUM(F5:F27) -> 30255659 | G28: =SUM(G5:G27) -> 31240484 | H28: =SUM(H5:H27) -> 26795850 | I28: =SUM(D28:H28) -> 142674855

Sheet Propuesta Económica
A1: EVALUACIÓN PROPUESTA ECONÓMICA PROCESO DE SELECCIÓN ABREVIADA DE MENOR CUANTÍA - SIF-SCJ-SAMC-002-2020
A2: =+'Oferta Económica'!A2:F2 -> "MANTENIMIENTO PREVENTIVO Y CORRECTIVO DE LOS ASCENSORES QUE FUNCIONAN EN EQUIPAMIENTOS DE PROPIEDAD Y/O A CARGO DE LA SDSCJ HASTA LA HOMOLOGACION DE LOS MISMOS ANTE ENTE CERTIFICADOR (INLCUIDO C4)".
A3: EVALUACIÓN PROPUESTA ECONOMICA
B4: PROPONENTE | C4: TOTAL | D4: VALOR MINIMO | E4: =MIN(E5:E9) -> 25896000 | F4: PUNTAJE
A5: 1 | B5: =+'1. VIA ELEVADORES'!B8:F8 -> VIA ELEVADORES S.A.S. | C5: 0 | D5: VIA ELEVADORES S.A.S. | E5: 28486862
A6: 2 | B6: =+'2. JAV GROUP'!B8:F8 -> JAV GROUP INGENIERIA Y SOLUCIONES AMBIENTALES S A S | C6: 0 | D6: JAV GROUP INGENIERIA Y SOLUCIONES AMBIENTALES S A S | E6: 25896000
A7: 3 | B7: =+'3. IMATIC '!B8:F8 -> IMATIC INGENIERIA SAS | C7: 0 | D7: IMATIC INGENIERIA SAS | E7: 30255659
A8: 4 | B8: =+'4. INSEREL'!B8:F8 -> INSEREL INGENIERIA EN SERVICIOS ELÉCTRICOS DE COMUNICACIÓN Y DE GAS LTDA | C8: =+'Oferta Económica'!G28 -> 31240484 | D8: INSEREL INGENIERIA EN SERVICIOS ELÉCTRICOS DE COMUNICACIÓN Y DE GAS LTDA | E8: 31240484 | F8: 50
A9: 5 | B9: =+'5. CYRA'!B8:F8 -> CYRA INGENIERIA SAS | C9: 0 | D9: CYRA INGENIERIA SAS | E9: 26795850
A10: De acuerdo con lo establecido por el pliego de condiciones, numeral 3.7.1.2, ponderacion economica, en caso de que solo se habilite una propuesta se procedera a revisar los criterios habilitantes y se verificara el cumplimiento de las condiciones establecidas en el pliego de codiciones y si cumple con ellas se le asignara el maximo puntaje estipulado.
A11: Dando cumplimento al numeral 3.7.1.2, El método de ponderación se determinará de acuerdo con los rangos del siguientes rangos:
A12: Teniendo en cuenta que la tasa representativa. Para el dia 15 de diciembre fue: 3.426,97, la formula a utilizar es el menor valor.
B13: Para la calificación de las ofertas se tendrá en cuenta el siguiente criterio, evaluando sobre un total de 100 puntos:
B14: Criterio / Factor | C14: Puntaje
B15: A. Ponderación de Calidad | C15: 40
B16: B. Ponderación Economica | C16: 50
B17: C. Estímulo a la Industria Nacional Colombiana | C17: 10
B18: TOTAL | C18: 100
A19: En caso de empate en el puntaje total de dos o más ofertas, la SDSCJ escogerá el oferente ganador así: 1. Preferir al proponente que tenga mayor calificación en el puntaje de Ponderación Económica. 2. Si persiste el empate, se escogerá al oferente que tenga mayor calificación en el puntaje de Ponderación de calidad. Si persiste el empate, la SDSCJ escogerá el Proponente aplicando los criterios de desempate previstos en el artículo 2.2.1.1.2.2.9 del Decreto 1082 de 2015.

Sheet Ponderación de Garantías
A1: PONDERACIÓN DE GARANTÍAS PROCESO DE SELECCIÓN ABREVIADA DE MENOR CUANTÍA - SIF-SCJ-SAMC-002-2020
A2: =+'Propuesta Económica'!A2:B2 -> "MANTENIMIENTO PREVENTIVO Y CORRECTIVO DE LOS ASCENSORES QUE FUNCIONAN EN EQUIPAMIENTOS DE PROPIEDAD Y/O A CARGO DE LA SDSCJ HASTA LA HOMOLOGACION DE LOS MISMOS ANTE ENTE CERTIFICADOR (INLCUIDO C4)".
B4: PROPONENTE | C4: MESES | D4: PUNTAJE
A5: 1 | B5: =+'1. VIA ELEVADORES'!B8:F8 -> VIA ELEVADORES S.A.S. | C5: 24 | D5: =+$E$6+(C5-$E$5)*($E$6/$E$5) -> 12.631579 | E5: =+MAX(C5:C9) -> 38
A6: 2 | B6: =+'2. JAV GROUP'!B8:F8 -> JAV GROUP INGENIERIA Y SOLUCIONES AMBIENTALES S A S | C6: 4 | D6: =+$E$6+(C6-$E$5)*($E$6/$E$5) -> 2.1052632 | E6: 20
A7: 3 | B7: =+'3. IMATIC '!B8:F8 -> IMATIC INGENIERIA SAS | C7: 2 | D7: =+$E$6+(C7-$E$5)*($E$6/$E$5) -> 1.0526316
A8: 4 | B8: =+'4. INSEREL'!B8:F8 -> INSEREL INGENIERIA EN SERVICIOS ELÉCTRICOS DE COMUNICACIÓN Y DE GAS LTDA | C8: 38 | D8: =+$E$6+(C8-$E$5)*($E$6/$E$5) -> 20
A9: 5 | B9: =+'5. CYRA'!B8:F8 -> CYRA INGENIERIA SAS | C9: 3 | D9: =+$E$6+(C9-$E$5)*($E$6/$E$5) -> 1.5789474
B11: Para la calificación de las ofertas se tendrá en cuenta el siguiente criterio, evaluando sobre un total de 100 puntos:
B12: Criterio / Factor | D12: PUNTAJE
B13: A. Ponderación de Calidad | D13: 40
B14: B. Ponderación Economica | D14: 50
B15: C. Estímulo a la Industria Nacional Colombiana | D15: 10
B16: TOTAL | D16: 100
A17: En caso de empate en el puntaje total de dos o más ofertas, la SDSCJ escogerá el oferente ganador así: 1. Preferir al proponente que tenga mayor calificación en el puntaje de Ponderación Económica. 2. Si persiste el empate, se escogerá al oferente que tenga mayor calificación en el puntaje de Ponderación de calidad. Si persiste el empate, la SDSCJ escogerá el Proponente aplicando los criterios de desempate previstos en el artículo 2.2.1.1.2.2.9 del Decreto 1082 de 2015.

Sheet 1. VIA ELEVADORES
A1: EVALUACION TÉCNICA PROCESO CONCURSO DE MÉRITOS SCJ-SIF-SAMC-002-2020
A2: OBJETO | B2: "MANTENIMIENTO PREVENTIVO Y CORRECTIVO DE LOS ASCENSORES QUE FUNCIONAN EN EQUIPAMIENTOS DE PROPIEDAD Y/O A CARGO DE LA SDSCJ HASTA LA HOMOLOGACION DE LOS MISMOS ANTE ENTE CERTIFICADOR (INLCUIDO C4)".
F3: =NOW() -> 44188.698
A4: FECHA DE CIERRE DE PROCESO | B4: 44176
A5: VALOR PRESUPUESTO OFICIAL | B5: =B6/877803 -> 410.1148
B6: 360000000
A8: NOMBRE DEL PROPONENTE | B8: VIA ELEVADORES S.A.S.
A9: 3.6. REQUISITOS TÉCNICOS HABILITANTES
A10: 3.6.1. EXPERIENCIA DEL PROPONENTE
A11: Las personas jurídicas, naturales, consorcios o uniones temporales interesadas en participar en el presente proceso de selección, deberán acreditar experiencia en la ejecución de mínimo dos (2) y máximo cinco (5) contratos ejecutados y terminados, cuyo objeto o alcance haya contemplado el mantenimiento preventivo y/o correctivo y/o predictivo de ascensores, en las condiciones que se exponen a continuación: 1) Como mínimo dos (2) de los contratos presentados para acreditar la “EXPERIENCIA DEL PROPONENTE” (relacionados en el párrafo anterior), deberán corresponder a mantenimiento preventivo y/o correctivo y/o predictivo de ascensores multimarca, que incluyan dentro de su objeto, alcance o actividades ejecutadas el suministro de repuestos y certificación de los ascensores. 2) La sumatoria de los valores de los contratos presentados en cumplimiento de la experiencia solicitada, deberá ser igual o superior al 100% del valor del presupuesto oficial expresado en SMMLV, y cada uno de los contratos deberán estar debidamente registrados en el Registro Único de Proponentes (RUP) en al menos uno (1) de los códigos de las clasificaciones de Bienes y Servicios de Naciones Unidas (UNSPSC) que se indican en la siguiente tabla:
A12: Contrato 1 -
A13: Objeto: | B13: Readecuación y modernización de los ascensores 1 y 2 marcaSchindler de la ESE HUEM.
A14: Contratante:
A15: Porcentaje de Participación Consorcios /UT:
B16: Requisito | C16: Acreditado | D16: Folio RUP | E16: Cumple/No cumple | F16: Observaciones
A17: Códigos del Clasificador de Bienes y Servicios | B17: 72101500 | E17: =IF(AND(C17="",C18=""),"PENDIENTE",IF(B18=C18,"CUMPLE",IF(B17=C17,"CUMPLE","NO CUMPLE"))) -> PENDIENTE
B18: 72154000
A19: Fecha de suscripción del contrato (inicio de contrato) | C19: 41852 | E19: =IF(C19="","PENDIENTE","") | F19: NO CUMPLE CON EL NUMERAL 3,6,1 EXPERIENCIA DEL PROPONENTE, POR CUANTO EL OBJETO DEL CONTRATO NO CONTEMPLA ACTIVIDADES DE MANTENIMIENTO Y REVISANDO LA CERTIFICACION ANEXA, NO SE EVIDENCIAN ACTIVIDADES RELACIONADAS CON LA EXPERIENCIA ESPECIFICA SOLICITADA (SUMINISTRO DE REPUESTOS, CERTIFICACION DE ASCENSORES Y MANTENIMIENTO DE ASCENSORES MULTIMARCA). | G19: =YEAR(C19) -> 2014
A20: Valor del proyecto o contrato | C20: 171564000 | E20: =IF(C20="","PENDIENTE","")
A21: SMMLV - a la fecha de suscripción del contrato | C21: =+(C20)/VLOOKUP(YEAR(C19),[2]SMMLV!$A$4:$C$23,3,0) -> 278.51299 | E21: =IF(C21="PENDIENTE","PENDIENTE",IF(C21>=0,"CUMPLE","NO CUMPLE")) -> CUMPLE
A22: Fecha de terminación del contrato | C22: 41974 | E22: =IF(C22="","PENDIENTE",IF(C22="","",IF(C22>$B$4,"NO CUMPLE","CUMPLE"))) -> CUMPLE
A23: Experiencia Específica: | B23: Mantenimiento preventivo y/o correctivo y/o predictivo de ascensores multimarca, que incluyan dentro de su objeto, alcance o actividades ejecutadas el suministro de repuestos y certificación de los ascensores. | C23: NO | E23: =IF(C23="","PENDIENTE",IF(C23="SI","CUMPLE","NO CUMPLE CON LA EXPERIENCIA ESPECÍFICA/PENDIENTE")) -> NO CUMPLE CON LA EXPERIENCIA ESPECÍFICA/PENDIENTE | G23: SI | H23: =IF(C23="SI",1,0) -> 0
A24: Valoración de la experiencia acreditada mediante el contrato | E24: =IF(E17="PENDIENTE","NO HABILITADO",IF(E21="PENDIENTE","NO HABILITADO",IF(E22="PENDIENTE","NO HABILITADO",IF(#REF!="PENDIENTE","NO HABILITADO",IF(E23="PENDIENTE","NO HABILITADO","HABILITADO"))))) -> NO HABILITADO | G24: NO
A26: Contrato 2 -
A27: Objeto: | B27: El departamento Norte de Santander, a través del despacho de la secretaria general requiere contratar el servicio de Mantenimiento del ascensor marca Schindler, ubicado en el antiguo Edificio del Banco de la República, Av. 5 calle 11 esquina y de la plataforma.
A28: Contratante:
A29: Porcentaje de Participación Consorcios /UT:
B30: Requisito | C30: Acreditado | D30: Folio RUP | E30: Cumple/No cumple | F30: Observaciones
A31: Códigos del Clasificador de Bienes y Servicios | B31: 72101500 | C31: 72101500 | D31: 8 | E31: =IF(AND(C31="",C32=""),"PENDIENTE",IF(B32=C32,"CUMPLE",IF(B31=C31,"CUMPLE","NO CUMPLE"))) -> CUMPLE
B32: 72154000 | C32: 72154000 | D32: 8
A33: Fecha de suscripción del contrato (inicio de contrato) | C33: 42064 | E33: =IF(C33="","PENDIENTE","") | G33: =YEAR(C33) -> 2015
A34: Valor del proyecto o contrato | C34: 35920000 | E34: =IF(C34="","PENDIENTE","")
A35: SMMLV - a la fecha de suscripción del contrato | C35: =+(C34)/VLOOKUP(YEAR(C33),[2]SMMLV!$A$4:$C$23,3,0) -> 55.746101 | E35: =IF(C35="PENDIENTE","PENDIENTE",IF(C35>=0,"CUMPLE","NO CUMPLE")) -> CUMPLE
A36: Fecha de terminación del contrato | C36: 42339 | E36: =IF(C36="","PENDIENTE",IF(C36="","",IF(C36>$B$4,"NO CUMPLE","CUMPLE"))) -> CUMPLE
A37: Experiencia Específica: | B37: =+B23 -> Mantenimiento preventivo y/o correctivo y/o predictivo de ascensores multimarca, que incluyan dentro de su objeto, alcance o actividades ejecutadas el suministro de repuestos y certificación de los ascensores. | C37: NO | E37: =IF(C37="","PENDIENTE",IF(C37="SI","CUMPLE","NO CUMPLE CON LA EXPERIENCIA ESPECÍFICA/PENDIENTE")) -> NO CUMPLE CON LA EXPERIENCIA ESPECÍFICA/PENDIENTE | G37: SI | H37: =IF(C37="SI",1,0) -> 0
A38: Valoración de la experiencia acreditada mediante el contrato | E38: =IF(E31="PENDIENTE","NO HABILITADO",IF(E35="PENDIENTE","NO HABILITADO",IF(E36="PENDIENTE","NO HABILITADO",IF(E37="PENDIENTE","NO HABILITADO","HABILITADO")))) -> HABILITADO | G38: NO
A40: Contrato 3 -
A41: Objeto: | B41: Prestación de servicio de Mantenimiento preventivo y correctivo de cuatro 4 ascensores de la ESE HUEM.
A42: Contratante:
A43: Porcentaje de Participación Consorcios /UT:
B44: Requisito | C44: Acreditado | D44: Folio RUP | E44: Cumple/No cumple | F44: Observaciones
A45: Códigos del Clasificador de Bienes y Servicios | B45: 72101500 | C45: 72101500 | D45: 9 | E45: =IF(AND(C45="",C46=""),"PENDIENTE",IF(B46=C46,"CUMPLE",IF(B45=C45,"CUMPLE","NO CUMPLE"))) -> CUMPLE
B46: 72154000 | C46: 72154000 | D46: 9
A47: Fecha de suscripción del contrato (inicio de contrato) | C47: 42370 | E47: =IF(C47="","PENDIENTE","") | G47: =YEAR(C47) -> 2016
A48: Valor del proyecto o contrato | C48: 20868252 | E48: =IF(C48="","PENDIENTE","")
A49: SMMLV - a la fecha de suscripción del contrato | C49: =+(C48)/VLOOKUP(YEAR(C47),[2]SMMLV!$A$4:$C$23,3,0) -> 30.267751 | E49: =IF(C49="PENDIENTE","PENDIENTE",IF(C49>=0,"CUMPLE","NO CUMPLE")) -> CUMPLE
A50: Fecha de terminación del contrato | C50: 42705 | E50: =IF(C50="","PENDIENTE",IF(C50="","",IF(C50>$B$4,"NO CUMPLE","CUMPLE"))) -> CUMPLE
A51: Experiencia Específica: | B51: =+B37 -> Mantenimiento preventivo y/o correctivo y/o predictivo de ascensores multimarca, que incluyan dentro de su objeto, alcance o actividades ejecutadas el suministro de repuestos y certificación de los ascensores. | C51: NO | E51: =IF(C51="","PENDIENTE",IF(C51="SI","CUMPLE","NO CUMPLE CON LA EXPERIENCIA ESPECÍFICA/PENDIENTE")) -> NO CUMPLE CON LA EXPERIENCIA ESPECÍFICA/PENDIENTE | G51: SI | H51: =IF(C51="SI",1,0) -> 0
A52: Valoración de la experiencia acreditada mediante el contrato | E52: =IF(E45="PENDIENTE","NO HABILITADO",IF(E49="PENDIENTE","NO HABILITADO",IF(E50="PENDIENTE","NO HABILITADO",IF(E51="PENDIENTE","NO HABILITADO","HABILITADO")))) -> HABILITADO | G52: NO
A54: Contrato 4 -
A55: Objeto: | B55: Desmontaje de escalera electrica actual, el suministro e instalación y puesta en funcionamiento de una escalera mecanica especial para exteriores.
A56: Contratante:
A57: Porcentaje de Participación Consorcios /UT:
B58: Requisito | C58: Acreditado | D58: Folio RUP | E58: Cumple/No cumple | F58: Observaciones
A59: Códigos del Clasificador de Bienes y Servicios | B59: 72101500 | E59: =IF(AND(C59="",C60=""),"PENDIENTE",IF(B60=C60,"CUMPLE",IF(B59=C59,"CUMPLE","NO CUMPLE"))) -> PENDIENTE | F59: EL FORMATO 2 NO ESPECIFICA CONSECUTIVO DEL RUP
B60: 72154000
A61: Fecha de suscripción del contrato (inicio de contrato) | C61: 43221 | E61: =IF(C61="","PENDIENTE","") | F61: NO CUMPLE CON EL NUMERAL 3,6,1 EXPERIENCIA DEL PROPONENTE, POR CUANTO EL OBJETO DEL CONTRATO NO CONTEMPLA ACTIVIDADES DE MANTENIMIENTO Y REVISANDO LA CERTIFICACION ANEXA, NO SE EVIDENCIAN ACTIVIDADES RELACIONADAS CON LA EXPERIENCIA ESPECIFICA SOLICITADA (SUMINISTRO DE REPUESTOS, CERTIFICACION DE ASCENSORES Y MANTENIMIENTO DE ASCENSORES MULTIMARCA). | G61: =YEAR(C61) -> 2018
A62: Valor del proyecto o contrato | C62: 208200000 | E62: =IF(C62="","PENDIENTE","")
A63: SMMLV - a la fecha de suscripción del contrato | C63: =+(C62)/VLOOKUP(YEAR(C61),[2]SMMLV!$A$4:$C$23,3,0) -> 266.49873 | E63: =IF(C63="PENDIENTE","PENDIENTE",IF(C63>=0,"CUMPLE","NO CUMPLE")) -> CUMPLE
A64: Fecha de terminación del contrato | C64: 43405 | E64: =IF(C64="","PENDIENTE",IF(C64="","",IF(C64>$B$4,"NO CUMPLE","CUMPLE"))) -> CUMPLE
A65: Experiencia Específica: | B65: =+B51 -> Mantenimiento preventivo y/o correctivo y/o predictivo de ascensores multimarca, que incluyan dentro de su objeto, alcance o actividades ejecutadas el suministro de repuestos y certificación de los ascensores. | C65: NO | E65: =IF(C65="","PENDIENTE",IF(C65="SI","CUMPLE","NO CUMPLE CON LA EXPERIENCIA ESPECÍFICA/PENDIENTE")) -> NO CUMPLE CON LA EXPERIENCIA ESPECÍFICA/PENDIENTE | G65: SI | H65: =IF(C65="SI",1,0) -> 0
A66: Valoración de la experiencia acreditada mediante el contrato | E66: =IF(E59="PENDIENTE","NO HABILITADO",IF(E63="PENDIENTE","NO HABILITADO",IF(E64="PENDIENTE","NO HABILITADO",IF(#REF!="PENDIENTE","NO HABILITADO",IF(E65="PENDIENTE","NO HABILITADO","HABILITADO"))))) -> NO HABILITADO | G66: NO
A68: Contrato 5 -
A69: Objeto: | B69: Adecuación de la infraestructura mediante el suministro, la Modernización, instalación y funcionamiento de dos elevadores de pasajeros marca KOYO.
A70: Contratante:
A71: Porcentaje de Participación Consorcios /UT:
B72: Requisito | C72: Acreditado | D72: Folio RUP | E72: Cumple/No cumple | F72: Observaciones
A73: Códigos del Clasificador de Bienes y Servicios | B73: 72101500 | E73: =IF(AND(C73="",C74=""),"PENDIENTE",IF(B74=C74,"CUMPLE",IF(B73=C73,"CUMPLE","NO CUMPLE"))) -> PENDIENTE | F73: EL FORMATO 2 NO ESPECIFICA CONSECUTIVO DEL RUP
B74: 72154000
A75: Fecha de suscripción del contrato (inicio de contrato) | C75: 42979 | E75: =IF(C75="","PENDIENTE","") | F75: NO CUMPLE CON EL NUMERAL 3,6,1 EXPERIENCIA DEL PROPONENTE, POR CUANTO EL OBJETO DEL CONTRATO NO CONTEMPLA ACTIVIDADES DE MANTENIMIENTO Y REVISANDO LA CERTIFICACION ANEXA, NO SE EVIDENCIAN ACTIVIDADES RELACIONADAS CON LA EXPERIENCIA ESPECIFICA SOLICITADA (SUMINISTRO DE REPUESTOS, CERTIFICACION DE ASCENSORES Y MANTENIMIENTO DE ASCENSORES MULTIMARCA). | G75: =YEAR(C75) -> 2017
A76: Valor del proyecto o contrato | C76: 178000000 | E76: =IF(C76="","PENDIENTE","")
A77: SMMLV - a la fecha de suscripción del contrato | C77: =+(C76)/VLOOKUP(YEAR(C75),[2]SMMLV!$A$4:$C$23,3,0) -> 241.28494 | E77: =IF(C77="PENDIENTE","PENDIENTE",IF(C77>=0,"CUMPLE","NO CUMPLE")) -> CUMPLE
A78: Fecha de terminación del contrato | C78: 43070 | E78: =IF(C78="","PENDIENTE",IF(C78="","",IF(C78>$B$4,"NO CUMPLE","CUMPLE"))) -> CUMPLE
A79: Experiencia Específica: | B79: =+B65 -> Mantenimiento preventivo y/o correctivo y/o predictivo de ascensores multimarca, que incluyan dentro de su objeto, alcance o actividades ejecutadas el suministro de repuestos y certificación de los ascensores. | C79: NO | E79: =IF(C79="","PENDIENTE",IF(C79="SI","CUMPLE","NO CUMPLE CON LA EXPERIENCIA ESPECÍFICA/PENDIENTE")) -> NO CUMPLE CON LA EXPERIENCIA ESPECÍFICA/PENDIENTE | G79: SI | H79: =IF(C79="SI",1,0) -> 0
A80: Valoración de la experiencia acreditada mediante el contrato | E80: =IF(E73="PENDIENTE","NO HABILITADO",IF(E77="PENDIENTE","NO HABILITADO",IF(E78="PENDIENTE","NO HABILITADO",IF(#REF!="PENDIENTE","NO HABILITADO",IF(E79="PENDIENTE","NO HABILITADO","HABILITADO"))))) -> NO HABILITADO | G80: NO
A83: Deberá acreditar experiencia específica mantenimiento preventivo y/o correctivo y/o predictivo de ascensores multimarca, que incluyan dentro de su objeto, alcance o actividades ejecutadas el suministro de repuestos y certificación de los ascensores. | F83: =SUM(H23,H37,H51,H65,H79) -> 0 | G83: v1 | H83: =SUM(#REF!,#REF!) -> #REF!
F84: =IF(F83="","",IF(F83>=2,"CUMPLE","NO CUMPLE")) -> NO CUMPLE
A86: La sumatoria de los valores de los contratos presentados en cumplimiento de la experiencia solicitada, deberá ser igual o superior al 100% del valor del presupuesto oficial expresado en SMMLV | F86: =+C35+C49 -> 86.013851 | G86: v2 | H86: =SUM(#REF!,#REF!) -> #REF!
F87: =IF(F86="","",IF(F86>=B5,"CUMPLE","NO CUMPLE")) -> NO CUMPLE
A89: De acuerdo con la experiencia del proponente acreditada para los requisitos técnicos habilitantes, el proponente se encuentra: | F89: =IF(F83<2,"NO HABILITADO",IF(F87="NO CUMPLE","NO HABILITADO",IF(F86>=B5,"HABILITADO","NO HABILITADO"))) -> NO HABILITADO
A92: 3.6.2. ACEPTACIÓN ANEXO Nro. 1 FICHA TÉCNICA (Formato Nro. 12)
A94: ACEPTACIÓN FICHA TECNICA
A95: El proponente deberá declarar que conoce, entiende y acepta dar estricto cumplimiento a las especificaciones técnicas contempladas en el Estudio Previo, Pliego de Condiciones y demás documentos que hacen parte integral del proceso y que son requeridos en el desarrollo de la ejecución del contrato resultante del presente proceso.
A96: ANEXO DECLARACION DE CONOCIMIENTO Y ACEPTACIÓN. | E96: Adjunta Carta de aceptación | F96: Puntaje por experiencia adicional
A97: Por tal motivo, el proponente deberá anexar junto a su propuesta un oficio donde declare que conoce, entiende y acepta dar estricto cumplimiento a las especificaciones técnicas contempladas en el Estudio Previo, Pliego de Condiciones y demás documentos que hacen parte integral del proceso y que son requeridos en el desarrollo de ejecución del contrato resultante del presente proceso, el cual deberá venir firmado por el proponente o su representante legal o por el apoderado debidamente facultado y con las formalidades del caso. | E97: SI | F97: =+IF(E97="SI","CUMPLE",IF(E97="NO","NO CUMPLE","PENDIENTE")) -> CUMPLE
A99: 3.7.1.1. PONDERACIÓN DE CALIDAD: HASTA CUARENTA (40) PUNTOS
A101: A. 3.7.1.1.1. Garantía sobre repuestos electrónicos (MÁXIMO VEINTE (20) PUNTOS) B. 3.7.1.1.2. Capacitación de tipo técnico en el mantenimiento y funcionamiento (MÁXIMO VEINTE (20) PUNTOS)
A103: CRITERIO DE PONDERACION | B103: FORMATO A CALIFICAR | D103: PUNTAJE MÁXIMO | E103: ADJUNTA FORMATO | F103: PUNTAJE
A104: Sin perjuicio de la Garantía Legal y suplementaria definida y que sea exigible de acuerdo con el Decreto 735 de 2013 “Por el cual se reglamenta la efectividad de la garantía prevista en los artículos 7 y siguientes de la Ley 1480 de 2011” y el manual de “Protección al Consumidor en Colombia” expedido por la Superintendencia de Industria y Comercio, la ENTIDAD otorgará VEINTE (20) PUNTOS, a quien ofrezca el mayor tiempo de garantía expresada en MESES contados a partir del suministro e instalación sobre los componentes electrónicos que suministre y sean requeridos para el correcto funcionamiento de los ascensores. A los demás oferentes se les otorgará de forma proporcional. | B104: Para la evaluación, el oferente deberá diligenciar y presentar junto con la propuesta, el “FORMATO No. 13. PONDERACIÓN DE CALIDAD – GARANTÍA SOBRE REPUESTOS ELECTRÓNICOS”, establecido por la ENTIDAD para efectuar el ofrecimiento, so pena de no ser ponderado. | D104: =+'Ponderación de Garantías'!D5 -> 12.631579 | E104: SI | F104: =+IF(E104="si",D104,0)+IF(E105="si",D105,0) -> 32.631579 | H104: 1
A105: La SDSCJ otorgará veinte (20) puntos al proponente que ofrezca en su propuesta, sin costo adicional, una (1) capacitación de tipo técnico en el mantenimiento y funcionamiento de los ascensores, para los funcionarios que asigne el supervisor del contrato. | B105: Para el efecto, los proponentes deberán diligenciar el FORMATO No. 14 - “PONDERACIÓN DE CALIDAD. CAPACITACIÓN DE TIPO TÉCNICO EN EL MANTENIMIENTO Y FUNCIONAMIENTO”. De no allegarlo diligenciado, no obtendrá puntaje alguno. | D105: 20 | E105: SI | H105: 2
A109: 3.7.1.3. PROTECCIÓN A LA INDUSTRIA NACIONAL (LEY 816 DE 2003) – DIEZ (10) PUNTOS (FORMATO Nro. 15)
A111: DESCRIPCIÓN | B111: OFRECIMIENTO | E111: VALIDACIÓN | F111: OBSERVACIÓN
A112: Se otorgaran diez (10) puntos al proponente que acredite el origen nacional de la oferta. | B112: 10 Puntos | E112: 10 | G112: 10
A113: Cuando se presenten ofertas de origen extranjero sin derecho a trato nacional, que ofrezcan el cien (100%) de servicios de origen colombiano. | B113: 5 Puntos | G113: 5
A114: Cuando se presenten ofertas de origen extranjero sin derecho a trato nacional, que ofrezcan servicios de origen extranjero. | B114: 0 Puntos | G114: 0
A117: TOTAL PUNTAJE ACUMULADO | E117: =+E112+F104 -> 42.631579

Sheet 2. JAV GROUP
A1: EVALUACION TÉCNICA PROCESO CONCURSO DE MÉRITOS SCJ-SIF-SAMC-002-2020
A2: OBJETO | B2: "MANTENIMIENTO PREVENTIVO Y CORRECTIVO DE LOS ASCENSORES QUE FUNCIONAN EN EQUIPAMIENTOS DE PROPIEDAD Y/O A CARGO DE LA SDSCJ HASTA LA HOMOLOGACION DE LOS MISMOS ANTE ENTE CERTIFICADOR (INLCUIDO C4)".
F3: =NOW() -> 44188.698
A4: FECHA DE CIERRE DE PROCESO | B4: 44176
A5: VALOR PRESUPUESTO OFICIAL | B5: =B6/877803 -> 410.1148
B6: 360000000
A8: NOMBRE DEL PROPONENTE | B8: JAV GROUP INGENIERIA Y SOLUCIONES AMBIENTALES S A S
A9: 3.6. REQUISITOS TÉCNICOS HABILITANTES
A10: 3.6.1. EXPERIENCIA DEL PROPONENTE
A11: Las personas jurídicas, naturales, consorcios o uniones temporales interesadas en participar en el presente proceso de selección, deberán acreditar experiencia en la ejecución de mínimo dos (2) y máximo cinco (5) contratos ejecutados y terminados, cuyo objeto o alcance haya contemplado el mantenimiento preventivo y/o correctivo y/o predictivo de ascensores, en las condiciones que se exponen a continuación: 1) Como mínimo dos (2) de los contratos presentados para acreditar la “EXPERIENCIA DEL PROPONENTE” (relacionados en el párrafo anterior), deberán corresponder a mantenimiento preventivo y/o correctivo y/o predictivo de ascensores multimarca, que incluyan dentro de su objeto, alcance o actividades ejecutadas el suministro de repuestos y certificación de los ascensores. 2) La sumatoria de los valores de los contratos presentados en cumplimiento de la experiencia solicitada, deberá ser igual o superior al 100% del valor del presupuesto oficial expresado en SMMLV, y cada uno de los contratos deberán estar debidamente registrados en el Registro Único de Proponentes (RUP) en al menos uno (1) de los códigos de las clasificaciones de Bienes y Servicios de Naciones Unidas (UNSPSC) que se indican en la siguiente tabla:
A12: Contrato 1 - 214
A13: Objeto: | B13: MANTENIMIENTO PREVENTIVO Y CORRECTIVO A TODO COSTO DE LOS ASCENSORES QUE SE ENCUENTRAN INSTALADOS EN LOS DIFERENTES EDIFICIOS DE CASAS FISCALES DEL EJERCITO EN LA CIUDAD DE BOGOTA
A14: Contratante: | B14: EJERCITO NACIONAL
A15: Porcentaje de Participación Consorcios /UT: | B15: 1
B16: Requisito | C16: Acreditado | D16: Folio RUP | E16: Cumple/No cumple | F16: Observaciones
A17: Códigos del Clasificador de Bienes y Servicios | B17: 72101500 | C17: 72101500 | D17: 25 | E17: =IF(AND(C17="",C18=""),"PENDIENTE",IF(B18=C18,"CUMPLE",IF(B17=C17,"CUMPLE","NO CUMPLE"))) -> CUMPLE
B18: 72154000 | C18: 72154000 | D18: 25
A19: Fecha de suscripción del contrato (inicio de contrato) | C19: 43431 | E19: =IF(C19="","PENDIENTE","") | G19: =YEAR(C19) -> 2018
A20: Valor del proyecto o contrato | C20: 190353630 | E20: =IF(C20="","PENDIENTE","")
A21: SMMLV - a la fecha de suscripción del contrato | C21: =+(C20)/VLOOKUP(YEAR(C19),[2]SMMLV!$A$4:$C$23,3,0) -> 243.65514 | E21: =IF(C21="PENDIENTE","PENDIENTE",IF(C21>=0,"CUMPLE","NO CUMPLE")) -> CUMPLE
A22: Fecha de terminación del contrato | C22: 43731 | E22: =IF(C22="","PENDIENTE",IF(C22="","",IF(C22>$B$4,"NO CUMPLE","CUMPLE"))) -> CUMPLE
A23: Experiencia Específica: | B23: Mantenimiento preventivo y/o correctivo y/o predictivo de ascensores multimarca, que incluyan dentro de su objeto, alcance o actividades ejecutadas el suministro de repuestos y certificación de los ascensores. | C23: SI | E23: =IF(C23="","PENDIENTE",IF(C23="SI","CUMPLE","NO CUMPLE CON LA EXPERIENCIA ESPECÍFICA/PENDIENTE")) -> CUMPLE | G23: SI | H23: =IF(C23="SI",1,0) -> 1
A24: Valoración de la experiencia acreditada mediante el contrato | E24: =IF(E17="PENDIENTE","NO HABILITADO",IF(E21="PENDIENTE","NO HABILITADO",IF(E22="PENDIENTE","NO HABILITADO",IF(E23="PENDIENTE","NO HABILITADO","HABILITADO")))) -> HABILITADO | G24: NO
A26: Contrato 2 - 115
A27: Objeto: | B27: MANTENIMIENTO PREVENTIVO Y CORRECTIVO A TODO COSTO DE DIECISIETE (17) ASCENSORES QUE SE ENCUENTRAN ISNTALADOS EN LOS DIFERENTES EDIFICIOS DE CASAS FISCALES DEL EJERCITO DE LOS CONJUNTOS DE SANTA ANA, BRIGADA 13, CANTON OCCIDENTE (EDIFICIO PUYANA GARCIA) UBICADOS EN LA GUARNICION DE BOGOTA, DE ACUERDO A ESPECIFICACIONES TECNICAS.
A28: Contratante:
A29: Porcentaje de Participación Consorcios /UT: | B29: 1
B30: Requisito | C30: Acreditado | D30: Folio RUP | E30: Cumple/No cumple | F30: Observaciones
A31: Códigos del Clasificador de Bienes y Servicios | B31: 72101500 | C31: 72101500 | D31: 34 | E31: =IF(AND(C31="",C32=""),"PENDIENTE",IF(B32=C32,"CUMPLE",IF(B31=C31,"CUMPLE","NO CUMPLE"))) -> CUMPLE
B32: 72154000 | C32: 72154000 | D32: 34
A33: Fecha de suscripción del contrato (inicio de contrato) | C33: 43434 | E33: =IF(C33="","PENDIENTE","") | G33: =YEAR(C33) -> 2018
A34: Valor del proyecto o contrato | C34: 146873520 | E34: =IF(C34="","PENDIENTE","")
A35: SMMLV - a la fecha de suscripción del contrato | C35: =+(C34)/VLOOKUP(YEAR(C33),[2]SMMLV!$A$4:$C$23,3,0) -> 188.00003 | E35: =IF(C35="PENDIENTE","PENDIENTE",IF(C35>=0,"CUMPLE","NO CUMPLE")) -> CUMPLE
A36: Fecha de terminación del contrato | C36: 43738 | E36: =IF(C36="","PENDIENTE",IF(C36="","",IF(C36>$B$4,"NO CUMPLE","CUMPLE"))) -> CUMPLE
A37: Experiencia Específica: | B37: =+B23 -> Mantenimiento preventivo y/o correctivo y/o predictivo de ascensores multimarca, que incluyan dentro de su objeto, alcance o actividades ejecutadas el suministro de repuestos y certificación de los ascensores. | C37: NO | E37: =IF(C37="","PENDIENTE",IF(C37="SI","CUMPLE","NO CUMPLE CON LA EXPERIENCIA ESPECÍFICA/PENDIENTE")) -> NO CUMPLE CON LA EXPERIENCIA ESPECÍFICA/PENDIENTE | G37: SI | H37: =IF(C37="SI",1,0) -> 0
A38: Valoración de la experiencia acreditada mediante el contrato | E38: =IF(E31="PENDIENTE","NO HABILITADO",IF(E35="PENDIENTE","NO HABILITADO",IF(E36="PENDIENTE","NO HABILITADO",IF(E37="PENDIENTE","NO HABILITADO","HABILITADO")))) -> HABILITADO | G38: NO
A40: Contrato 3 - 11-0924-2019
A41: Objeto: | B41: PRESTAR EL SERVICIO INTEGRAL PARA EL MANTENIMIENTO PREVENTIVO Y CORRECTIVO DE LOS ASCENSORES Y/O ELEVADORES DE PROPIEDAD DEL ICBF REGIONAL BOGOTA, A TODO COSTO INCLUYENDO MANO DE OBRA Y SUMINISTRO DE REPUESTOS Y LUBRICANTES
A42: Contratante: | B42: ICBF
A43: Porcentaje de Participación Consorcios /UT: | B43: 1
B44: Requisito | C44: Acreditado | D44: Folio RUP | E44: Cumple/No cumple | F44: Observaciones
A45: Códigos del Clasificador de Bienes y Servicios | B45: 72101500 | C45: 72101500 | D45: 39 | E45: =IF(AND(C45="",C46=""),"PENDIENTE",IF(B46=C46,"CUMPLE",IF(B45=C45,"CUMPLE","NO CUMPLE"))) -> CUMPLE
B46: 72154000 | C46: 72154000 | D46: 39
A47: Fecha de suscripción del contrato (inicio de contrato) | C47: 43741 | E47: =IF(C47="","PENDIENTE","") | G47: =YEAR(C47) -> 2019
A48: Valor del proyecto o contrato | C48: 85000000 | E48: =IF(C48="","PENDIENTE","")
A49: SMMLV - a la fecha de suscripción del contrato | C49: =+(C48)/VLOOKUP(YEAR(C47),[2]SMMLV!$A$4:$C$23,3,0) -> 102.64262 | E49: =IF(C49="PENDIENTE","PENDIENTE",IF(C49>=0,"CUMPLE","NO CUMPLE")) -> CUMPLE
A50: Fecha de terminación del contrato | C50: 43830 | E50: =IF(C50="","PENDIENTE",IF(C50="","",IF(C50>$B$4,"NO CUMPLE","CUMPLE"))) -> CUMPLE
A51: Experiencia Específica: | B51: =+B37 -> Mantenimiento preventivo y/o correctivo y/o predictivo de ascensores multimarca, que incluyan dentro de su objeto, alcance o actividades ejecutadas el suministro de repuestos y certificación de los ascensores. | C51: NO | E51: =IF(C51="","PENDIENTE",IF(C51="SI","CUMPLE","NO CUMPLE CON LA EXPERIENCIA ESPECÍFICA/PENDIENTE")) -> NO CUMPLE CON LA EXPERIENCIA ESPECÍFICA/PENDIENTE | G51: SI | H51: =IF(C51="SI",1,0) -> 0
A52: Valoración de la experiencia acreditada mediante el contrato | E52: =IF(E45="PENDIENTE","NO HABILITADO",IF(E49="PENDIENTE","NO HABILITADO",IF(E50="PENDIENTE","NO HABILITADO",IF(E51="PENDIENTE","NO HABILITADO","HABILITADO")))) -> HABILITADO | G52: NO
A54: Contrato 4 -
A55: Objeto: | B55: PRESTAR AL BANCO LOS SERIVICIOS TECNICOS ESPECIALIZADOS DE MANTENIMIENTO CON EL OBJETO DE CONSERVAR EN OPTIMAS CONDICIONES DE FUNCIONAMIENTO DE LOS ASCENSORES, LAS PLATAFORMAS SALVAESCALERAS Y DISCAPACITADO HIFRAULICO DE PROPIEDAD DEL BANCO.
A56: Contratante: | B56: BANCO DE BOGOTA
A57: Porcentaje de Participación Consorcios /UT: | B57: 1
B58: Requisito | C58: Acreditado | D58: Folio RUP | E58: Cumple/No cumple | F58: Observaciones
A59: Códigos del Clasificador de Bienes y Servicios | B59: 72101500 | C59: 72101500 | D59: 26 | E59: =IF(AND(C59="",C60=""),"PENDIENTE",IF(B60=C60,"CUMPLE",IF(B59=C59,"CUMPLE","NO CUMPLE"))) -> CUMPLE
B60: 72154000 | C60: 72154000 | D60: 26
A61: Fecha de suscripción del contrato (inicio de contrato) | C61: 42401 | E61: =IF(C61="","PENDIENTE","") | G61: =YEAR(C61) -> 2016
A62: Valor del proyecto o contrato | C62: 1.2726388e+08 | E62: =IF(C62="","PENDIENTE","")
A63: SMMLV - a la fecha de suscripción del contrato | C63: =+(C62)/VLOOKUP(YEAR(C61),[2]SMMLV!$A$4:$C$23,3,0) -> 184.5862 | E63: =IF(C63="PENDIENTE","PENDIENTE",IF(C63>=0,"CUMPLE","NO CUMPLE")) -> CUMPLE
A64: Fecha de terminación del contrato | E64: =IF(C64="","PENDIENTE",IF(C64="","",IF(C64>$B$4,"NO CUMPLE","CUMPLE"))) -> PENDIENTE
A65: Experiencia Específica: | B65: =+B51 -> Mantenimiento preventivo y/o correctivo y/o predictivo de ascensores multimarca, que incluyan dentro de su objeto, alcance o actividades ejecutadas el suministro de repuestos y certificación de los ascensores. | C65: NO | E65: =IF(C65="","PENDIENTE",IF(C65="SI","CUMPLE","NO CUMPLE CON LA EXPERIENCIA ESPECÍFICA/PENDIENTE")) -> NO CUMPLE CON LA EXPERIENCIA ESPECÍFICA/PENDIENTE | G65: SI | H65: =IF(C65="SI",1,0) -> 0
A66: Valoración de la experiencia acreditada mediante el contrato | E66: =IF(E59="PENDIENTE","NO HABILITADO",IF(E63="PENDIENTE","NO HABILITADO",IF(E64="PENDIENTE","NO HABILITADO",IF(E65="PENDIENTE","NO HABILITADO","HABILITADO")))) -> NO HABILITADO | G66: NO
A68: Contrato 5 -
A69: Objeto:
A70: Contratante:
A71: Porcentaje de Participación Consorcios /UT:
B72: Requisito | C72: Acreditado | D72: Folio RUP | E72: Cumple/No cumple | F72: Observaciones
A73: Códigos del Clasificador de Bienes y Servicios | B73: 72101500 | E73: =IF(AND(C73="",C74=""),"PENDIENTE",IF(B74=C74,"CUMPLE",IF(B73=C73,"CUMPLE","NO CUMPLE"))) -> PENDIENTE
B74: 72154000
A75: Fecha de suscripción del contrato (inicio de contrato) | E75: =IF(C75="","PENDIENTE","") -> PENDIENTE | G75: =YEAR(C75) -> 1900
A76: Valor del proyecto o contrato | E76: =IF(C76="","PENDIENTE","") -> PENDIENTE
A77: SMMLV - a la fecha de suscripción del contrato | C77: =+(C76)/VLOOKUP(YEAR(C75),[2]SMMLV!$A$4:$C$23,3,0) -> #N/A | E77: =IF(C77="PENDIENTE","PENDIENTE",IF(C77>=0,"CUMPLE","NO CUMPLE")) -> #N/A
A78: Fecha de terminación del contrato | E78: =IF(C78="","PENDIENTE",IF(C78="","",IF(C78>$B$4,"NO CUMPLE","CUMPLE"))) -> PENDIENTE
A79: Experiencia Específica: | B79: =+B65 -> Mantenimiento preventivo y/o correctivo y/o predictivo de ascensores multimarca, que incluyan dentro de su objeto, alcance o actividades ejecutadas el suministro de repuestos y certificación de los ascensores. | C79: NO | E79: =IF(C79="","PENDIENTE",IF(C79="SI","CUMPLE","NO CUMPLE CON LA EXPERIENCIA ESPECÍFICA/PENDIENTE")) -> NO CUMPLE CON LA EXPERIENCIA ESPECÍFICA/PENDIENTE | G79: SI | H79: =IF(C79="SI",1,0) -> 0
A80: Valoración de la experiencia acreditada mediante el contrato | E80: =IF(E73="PENDIENTE","NO HABILITADO",IF(E77="PENDIENTE","NO HABILITADO",IF(E78="PENDIENTE","NO HABILITADO",IF(E79="PENDIENTE","NO HABILITADO","HABILITADO")))) -> NO HABILITADO | G80: NO
A83: Deberá acreditar experiencia específica mantenimiento preventivo y/o correctivo y/o predictivo de ascensores multimarca, que incluyan dentro de su objeto, alcance o actividades ejecutadas el suministro de repuestos y certificación de los ascensores. | F83: =SUM(H23,H37,H51,H65,H79) -> 1 | G83: v1 | H83: =SUM(#REF!,#REF!) -> #REF!
F84: =IF(F83="","",IF(F83>=2,"CUMPLE","NO CUMPLE")) -> NO CUMPLE
A86: La sumatoria de los valores de los contratos presentados en cumplimiento de la experiencia solicitada, deberá ser igual o superior al 100% del valor del presupuesto oficial expresado en SMMLV | F86: =+(C21+C35+C49+C63) -> 718.884 | G86: v2 | H86: =SUM(#REF!,#REF!) -> #REF!
F87: =IF(F86="","",IF(F86>=B5,"CUMPLE","NO CUMPLE")) -> CUMPLE
A89: De acuerdo con la experiencia del proponente acreditada para los requisitos técnicos habilitantes, el proponente se encuentra: | F89: =IF(F83<2,"NO HABILITADO",IF(F87="NO CUMPLE","NO HABILITADO",IF(F86>=B5,"HABILITADO","NO HABILITADO"))) -> NO HABILITADO
A92: 3.6.2. ACEPTACIÓN ANEXO Nro. 1 FICHA TÉCNICA (Formato Nro. 12)
A94: ACEPTACIÓN FICHA TECNICA
A95: El proponente deberá declarar que conoce, entiende y acepta dar estricto cumplimiento a las especificaciones técnicas contempladas en el Estudio Previo, Pliego de Condiciones y demás documentos que hacen parte integral del proceso y que son requeridos en el desarrollo de la ejecución del contrato resultante del presente proceso.
A96: ANEXO DECLARACION DE CONOCIMIENTO Y ACEPTACIÓN. | E96: Adjunta Carta de aceptación | F96: Puntaje por experiencia adicional
A97: Por tal motivo, el proponente deberá anexar junto a su propuesta un oficio donde declare que conoce, entiende y acepta dar estricto cumplimiento a las especificaciones técnicas contempladas en el Estudio Previo, Pliego de Condiciones y demás documentos que hacen parte integral del proceso y que son requeridos en el desarrollo de ejecución del contrato resultante del presente proceso, el cual deberá venir firmado por el proponente o su representante legal o por el apoderado debidamente facultado y con las formalidades del caso. | E97: NO | F97: =+IF(E97="SI","CUMPLE",IF(E97="NO","NO CUMPLE","PENDIENTE")) -> NO CUMPLE
F98: REVISADOS LOS DOCUMENTOS DE SUBSANANCIÓN, NO SE EVIDENCIA EL FORMATO 12 (ACEPTACION FICHA TECNICA)
A99: 3.7.1.1. PONDERACIÓN DE CALIDAD: HASTA CUARENTA (40) PUNTOS
A101: 3.7.1.1.1. Garantía sobre repuestos electrónicos (MÁXIMO VEINTE (20) PUNTOS) / 3.7.1.1.2. Capacitación de tipo técnico en el mantenimiento y funcionamiento (MÁXIMO VEINTE (20) PUNTOS)
A103: CRITERIO DE PONDERACION | B103: FORMATO A CALIFICAR | D103: PUNTAJE MÁXIMO | E103: ADJUNTA FORMATO | F103: PUNTAJE
A104: Sin perjuicio de la Garantía Legal y suplementaria definida y que sea exigible de acuerdo con el Decreto 735 de 2013 “Por el cual se reglamenta la efectividad de la garantía prevista en los artículos 7 y siguientes de la Ley 1480 de 2011” y el manual de “Protección al Consumidor en Colombia” expedido por la Superintendencia de Industria y Comercio, la ENTIDAD otorgará VEINTE (20) PUNTOS, a quien ofrezca el mayor tiempo de garantía expresada en MESES contados a partir del suministro e instalación sobre los componentes electrónicos que suministre y sean requeridos para el correcto funcionamiento de los ascensores. A los demás oferentes se les otorgará de forma proporcional. | B104: Para la evaluación, el oferente deberá diligenciar y presentar junto con la propuesta, el “FORMATO No. 13. PONDERACIÓN DE CALIDAD – GARANTÍA SOBRE REPUESTOS ELECTRÓNICOS”, establecido por la ENTIDAD para efectuar el ofrecimiento, so pena de no ser ponderado. | D104: =+'Ponderación de Garantías'!D6 -> 2.1052632 | E104: SI | F104: =+IF(E104="si",D104,0)+IF(E105="si",D105,0) -> 22.105263 | H104: 1
A105: La SDSCJ otorgará veinte (20) puntos al proponente que ofrezca en su propuesta, sin costo adicional, una (1) capacitación de tipo técnico en el mantenimiento y funcionamiento de los ascensores, para los funcionarios que asigne el supervisor del contrato. | B105: Para el efecto, los proponentes deberán diligenciar el FORMATO No. 14 - “PONDERACIÓN DE CALIDAD. CAPACITACIÓN DE TIPO TÉCNICO EN EL MANTENIMIENTO Y FUNCIONAMIENTO”. De no allegarlo diligenciado, no obtendrá puntaje alguno. | D105: 20 | E105: SI | H105: 2
A109: 3.7.1.3. PROTECCIÓN A LA INDUSTRIA NACIONAL (LEY 816 DE 2003) – DIEZ (10) PUNTOS (FORMATO Nro. 15)
A111: DESCRIPCIÓN | B111: OFRECIMIENTO | E111: VALIDACIÓN | F111: OBSERVACIÓN
A112: Se otorgaran diez (10) puntos al proponente que acredite el origen nacional de la oferta. | B112: 10 Puntos | E112: 10 | G112: 10
A113: Cuando se presenten ofertas de origen extranjero sin derecho a trato nacional, que ofrezcan el cien (100%) de servicios de origen colombiano. | B113: 5 Puntos | G113: 5
A114: Cuando se presenten ofertas de origen extranjero sin derecho a trato nacional, que ofrezcan servicios de origen extranjero. | B114: 0 Puntos | G114: 0
A117: TOTAL PUNTAJE ACUMULADO | E117: =+E112+F104 -> 32.105263

Sheet 3. IMATIC 
A1: EVALUACION TÉCNICA PROCESO SELECCIÓN ABREVIADA DE MENOR CUANTIA - SCJ-SIF-SAMC-002-2020
A2: OBJETO | B2: "MANTENIMIENTO PREVENTIVO Y CORRECTIVO DE LOS ASCENSORES QUE FUNCIONAN EN EQUIPAMIENTOS DE PROPIEDAD Y/O A CARGO DE LA SDSCJ HASTA LA HOMOLOGACION DE LOS MISMOS ANTE ENTE CERTIFICADOR (INLCUIDO C4)".
F3: =NOW() -> 44188.698
A4: FECHA DE CIERRE DE PROCESO | B4: 44176
A5: VALOR PRESUPUESTO OFICIAL | B5: =B6/877803 -> 410.1148
B6: 360000000
A8: NOMBRE DEL PROPONENTE | B8: IMATIC INGENIERIA SAS
A9: 3.6. REQUISITOS TÉCNICOS HABILITANTES
A10: 3.6.1. EXPERIENCIA DEL PROPONENTE
A11: Las personas jurídicas, naturales, consorcios o uniones temporales interesadas en participar en el presente proceso de selección, deberán acreditar experiencia en la ejecución de mínimo dos (2) y máximo cinco (5) contratos ejecutados y terminados, cuyo objeto o alcance haya contemplado el mantenimiento preventivo y/o correctivo y/o predictivo de ascensores, en las condiciones que se exponen a continuación: 1) Como mínimo dos (2) de los contratos presentados para acreditar la “EXPERIENCIA DEL PROPONENTE” (relacionados en el párrafo anterior), deberán corresponder a mantenimiento preventivo y/o correctivo y/o predictivo de ascensores multimarca, que incluyan dentro de su objeto, alcance o actividades ejecutadas el suministro de repuestos y certificación de los ascensores. 2) La sumatoria de los valores de los contratos presentados en cumplimiento de la experiencia solicitada, deberá ser igual o superior al 100% del valor del presupuesto oficial expresado en SMMLV, y cada uno de los contratos deberán estar debidamente registrados en el Registro Único de Proponentes (RUP) en al menos uno (1) de los códigos de las clasificaciones de Bienes y Servicios de Naciones Unidas (UNSPSC) que se indican en la siguiente tabla:
A12: Contrato 1 -
A13: Objeto: | B13: "PRESTAR EL SERVICIOS DE MANTENIMIENTO CORRECTIVO Y PREVENTIVO INTEGRAL A TODO COSTO (INCLUIDO REPUESTOS Y ACCESORIOS) DEL ASCENSOR MARCA EUROLIFT UBICACO EN EL EDIFICIO AGENTES DE TRANSITO DE LAS INSTALACIONES DE LA SECRETARIA DE MOVILIDAD DE SANTIAGO DE CALI"
A14: Contratante: | B14: CENTRO DE DIAGNOSTICO AUTOMOTRIZ DEL VALLE LTDA - CDAV
A15: Porcentaje de Participación Consorcios /UT: | B15: 1
B16: Requisito | C16: Acreditado | D16: Folio RUP | E16: Cumple/No cumple | F16: Observaciones
A17: Códigos del Clasificador de Bienes y Servicios | B17: 72101500 | C17: 72101500 | D17: 94-95 | E17: =IF(AND(C17="",C18=""),"PENDIENTE",IF(B18=C18,"CUMPLE",IF(B17=C17,"CUMPLE","NO CUMPLE"))) -> CUMPLE | F17: N/A
B18: 72154000 | C18: 72154000 | D18: 94-95
A19: Fecha de suscripción del contrato (inicio de contrato) | C19: 43544 | E19: =IF(C19="","PENDIENTE","") | F19: DEBE SUBSANAR: NO CUMPLE NUMERAL 3.6.1 EXPERIENCIA DEL PROPONENTE, PUNTO 1: "…ASCENSORES MULTIMARCA, QUE INCLUYA … CERTIFICACION DE LOS ASCENSORES" | G19: =YEAR(C19) -> 2019
A20: Valor del proyecto o contrato | C20: 29995934 | E20: =IF(C20="","PENDIENTE","")
A21: SMMLV - a la fecha de suscripción del contrato | C21: =+(C20)/VLOOKUP(YEAR(C19),[3]SMMLV!$A$4:$C$23,3,0) -> 36.221899 | E21: =IF(C21="PENDIENTE","PENDIENTE",IF(C21>=0,"CUMPLE","NO CUMPLE")) -> CUMPLE
A22: Fecha de terminación del contrato | C22: 43830 | E22: =IF(C22="","PENDIENTE",IF(C22="","",IF(C22>$B$4,"NO CUMPLE","CUMPLE"))) -> CUMPLE
A23: Experiencia Específica: | B23: Mantenimiento preventivo y/o correctivo y/o predictivo de ascensores multimarca, que incluyan dentro de su objeto, alcance o actividades ejecutadas el suministro de repuestos y certificación de los ascensores. | C23: NO | E23: =IF(C23="","PENDIENTE",IF(C23="SI","CUMPLE","NO CUMPLE CON LA EXPERIENCIA ESPECÍFICA/PENDIENTE")) -> NO CUMPLE CON LA EXPERIENCIA ESPECÍFICA/PENDIENTE | G23: SI | H23: =IF(C23="SI",1,0) -> 0
A24: Valoración de la experiencia acreditada mediante el contrato | E24: =IF(E17="PENDIENTE","NO HABILITADO",IF(E21="PENDIENTE","NO HABILITADO",IF(E22="PENDIENTE","NO HABILITADO",IF(E23="PENDIENTE","NO HABILITADO","HABILITADO")))) -> HABILITADO | G24: NO
A26: Contrato 2 -
A27: Objeto: | B27: Mantenimiento preventivo y correctivo a todo costo (incluida mano de obra, repuestos y accesorios) de un (1) ascensor marca Eurolift ubicado en el edificio agentes de transito de las instalaciones de la secretaria de movilidad
A28: Contratante: | B28: CENTRO DE DIAGNOSTICO AUTOMOTRIZ DEL VALLE LTDA - CDAV
A29: Porcentaje de Participación Consorcios /UT: | B29: 1
B30: Requisito | C30: Acreditado | D30: Folio RUP | E30: Cumple/No cumple | F30: Observaciones
A31: Códigos del Clasificador de Bienes y Servicios | B31: 72101500 | C31: 72101500 | D31: 95 | E31: =IF(AND(C31="",C32=""),"PENDIENTE",IF(B32=C32,"CUMPLE",IF(B31=C31,"CUMPLE","NO CUMPLE"))) -> CUMPLE
B32: 72154000
A33: Fecha de suscripción del contrato (inicio de contrato) | C33: 43277 | E33: =IF(C33="","PENDIENTE","") | F33: DEBE SUBSANAR: NO CUMPLE NUMERAL 3.6.1 EXPERIENCIA DEL PROPONENTE, PUNTO 1: "…ASCENSORES MULTIMARCA, QUE INCLUYA … CERTIFICACION DE LOS ASCENSORES" | G33: =YEAR(C33) -> 2018
A34: Valor del proyecto o contrato | C34: 3706850 | E34: =IF(C34="","PENDIENTE","")
A35: SMMLV - a la fecha de suscripción del contrato | C35: =+(C34)/VLOOKUP(YEAR(C33),[3]SMMLV!$A$4:$C$23,3,0) -> 4.7448166 | E35: =IF(C35="PENDIENTE","PENDIENTE",IF(C35>=0,"CUMPLE","NO CUMPLE")) -> CUMPLE
A36: Fecha de terminación del contrato | C36: 43462 | E36: =IF(C36="","PENDIENTE",IF(C36="","",IF(C36>$B$4,"NO CUMPLE","CUMPLE"))) -> CUMPLE
A37: Experiencia Específica: | B37: =+B23 -> Mantenimiento preventivo y/o correctivo y/o predictivo de ascensores multimarca, que incluyan dentro de su objeto, alcance o actividades ejecutadas el suministro de repuestos y certificación de los ascensores. | C37: NO | E37: =IF(C37="","PENDIENTE",IF(C37="SI","CUMPLE","NO CUMPLE CON LA EXPERIENCIA ESPECÍFICA/PENDIENTE")) -> NO CUMPLE CON LA EXPERIENCIA ESPECÍFICA/PENDIENTE | G37: SI | H37: =IF(C37="SI",1,0) -> 0
A38: Valoración de la experiencia acreditada mediante el contrato | E38: =IF(E31="PENDIENTE","NO HABILITADO",IF(E35="PENDIENTE","NO HABILITADO",IF(E36="PENDIENTE","NO HABILITADO",IF(E37="PENDIENTE","NO HABILITADO","HABILITADO")))) -> HABILITADO | G38: NO
A40: Contrato 3 -
A41: Objeto: | B41: Desmontar puertas manuales y montar las puertas automáticas con suministro de consumibles del ascensor de carga para 7 pisos instalado en la planta de detergentes, ubicada de la ciudad de Cali.
A42: Contratante: | B42: COLGATE PALMOLIVE
A43: Porcentaje de Participación Consorcios /UT: | B43: 1
B44: Requisito | C44: Acreditado | D44: Folio RUP | E44: Cumple/No cumple | F44: Observaciones
A45: Códigos del Clasificador de Bienes y Servicios | B45: 72101500 | C45: 72101500 | D45: 79 | E45: =IF(AND(C45="",C46=""),"PENDIENTE",IF(B46=C46,"CUMPLE",IF(B45=C45,"CUMPLE","NO CUMPLE"))) -> CUMPLE
B46: 72154000 | C46: 72154000 | D46: 79
A47: Fecha de suscripción del contrato (inicio de contrato) | E47: =IF(C47="","PENDIENTE","") -> PENDIENTE | F47: DEBE SUBSANAR: NUMERAL 3.6.1 EXPERIENCIA DEL PROPONENTE - Literal I: (iii) Numero del contrato (cuando aplique), (v) Fecha de suscripcion. DEBE SUBSANAR: NO CUMPLE NUMERAL 3.6.1 EXPERIENCIA DEL PROPONENTE, PUNTO 1: "…ASCENSORES MULTIMARCA, QUE INCLUYA … CERTIFICACION DE LOS ASCENSORES" | G47: =YEAR(C47) -> 1900
A48: Valor del proyecto o contrato | C48: 225383752 | E48: =IF(C48="","PENDIENTE","")
A49: SMMLV - a la fecha de suscripción del contrato | C49: =+(C48)/VLOOKUP(YEAR(C47),[3]SMMLV!$A$4:$C$23,3,0) -> #N/A | E49: =IF(C49="PENDIENTE","PENDIENTE",IF(C49>=0,"CUMPLE","NO CUMPLE")) -> #N/A
A50: Fecha de terminación del contrato | C50: 41919 | E50: =IF(C50="","PENDIENTE",IF(C50="","",IF(C50>$B$4,"NO CUMPLE","CUMPLE"))) -> CUMPLE
A51: Experiencia Específica: | B51: =+B37 -> Mantenimiento preventivo y/o correctivo y/o predictivo de ascensores multimarca, que incluyan dentro de su objeto, alcance o actividades ejecutadas el suministro de repuestos y certificación de los ascensores. | C51: NO | E51: =IF(C51="","PENDIENTE",IF(C51="SI","CUMPLE","NO CUMPLE CON LA EXPERIENCIA ESPECÍFICA/PENDIENTE")) -> NO CUMPLE CON LA EXPERIENCIA ESPECÍFICA/PENDIENTE | G51: SI | H51: =IF(C51="SI",1,0) -> 0
A52: Valoración de la experiencia acreditada mediante el contrato | E52: =IF(E45="PENDIENTE","NO HABILITADO",IF(E49="PENDIENTE","NO HABILITADO",IF(E50="PENDIENTE","NO HABILITADO",IF(E51="PENDIENTE","NO HABILITADO","HABILITADO")))) -> #N/A | G52: NO
A54: Contrato 4 -
A55: Objeto: | B55: Actualización tecnológica de los 2 equipos de control de los ascensores del edificio calle 16 - 11 pisos, B) Servicio de obra para montaje de equipos eléctricos, civiles, suministro de Productos eléctricos para tablero de control y de potencia, C) Realizar la adecuación de las instalaciones eléctricas internas zonas comunes del edificio calle 16 y D) incluye SUMINISTROS de obra civil para las adecuaciones generales.
A56: Contratante: | B56: EDIFICIO CALLE 16 PH
A57: Porcentaje de Participación Consorcios /UT: | B57: 1
B58: Requisito | C58: Acreditado | D58: Folio RUP | E58: Cumple/No cumple | F58: Observaciones
A59: Códigos del Clasificador de Bienes y Servicios | B59: 72101500 | C59: 72101500 | D59: 81 | E59: =IF(AND(C59="",C60=""),"PENDIENTE",IF(B60=C60,"CUMPLE",IF(B59=C59,"CUMPLE","NO CUMPLE"))) -> CUMPLE
B60: 72154000 | C60: 72154000 | D60: 81
A61: Fecha de suscripción del contrato (inicio de contrato) | C61: 43100 | E61: =IF(C61="","PENDIENTE","") | F61: DEBE SUBSANAR: NO CUMPLE NUMERAL 3.6.1 EXPERIENCIA DEL PROPONENTE, PUNTO 1: "…ASCENSORES MULTIMARCA, QUE INCLUYA … CERTIFICACION DE LOS ASCENSORES" | G61: =YEAR(C61) -> 2017
A62: Valor del proyecto o contrato | C62: 188036077 | E62: =IF(C62="","PENDIENTE","")
A63: SMMLV - a la fecha de suscripción del contrato | C63: =+(C62)/VLOOKUP(YEAR(C61),[3]SMMLV!$A$4:$C$23,3,0) -> 254.88917 | E63: =IF(C63="PENDIENTE","PENDIENTE",IF(C63>=0,"CUMPLE","NO CUMPLE")) -> CUMPLE
A64: Fecha de terminación del contrato | C64: SI | E64: =IF(C64="PENDIENTE","PENDIENTE",IF(C64>=0,"CUMPLE","NO CUMPLE")) -> CUMPLE
A65: Experiencia Específica: | B65: =+B51 -> Mantenimiento preventivo y/o correctivo y/o predictivo de ascensores multimarca, que incluyan dentro de su objeto, alcance o actividades ejecutadas el suministro de repuestos y certificación de los ascensores. | C65: NO | E65: =IF(C65="","PENDIENTE",IF(C65="SI","CUMPLE","NO CUMPLE CON LA EXPERIENCIA ESPECÍFICA/PENDIENTE")) -> NO CUMPLE CON LA EXPERIENCIA ESPECÍFICA/PENDIENTE | G65: SI | H65: =IF(C65="SI",1,0) -> 0
A66: Valoración de la experiencia acreditada mediante el contrato | E66: =IF(E59="PENDIENTE","NO HABILITADO",IF(E63="PENDIENTE","NO HABILITADO",IF(E64="PENDIENTE","NO HABILITADO",IF(E65="PENDIENTE","NO HABILITADO","HABILITADO")))) -> HABILITADO | G66: NO
A68: Contrato 5 -
A69: Objeto:
A70: Contratante:
A71: Porcentaje de Participación Consorcios /UT:
B72: Requisito | C72: Acreditado | D72: Folio RUP | E72: Cumple/No cumple | F72: Observaciones
A73: Códigos del Clasificador de Bienes y Servicios | B73: 72101500 | E73: =IF(AND(C73="",C74=""),"PENDIENTE",IF(B74=C74,"CUMPLE",IF(B73=C73,"CUMPLE","NO CUMPLE"))) -> PENDIENTE
B74: 72154000
A75: Fecha de suscripción del contrato (inicio de contrato) | E75: =IF(C75="","PENDIENTE","") -> PENDIENTE | G75: =YEAR(C75) -> 1900
A76: Valor del proyecto o contrato | E76: =IF(C76="","PENDIENTE","") -> PENDIENTE
A77: SMMLV - a la fecha de suscripción del contrato | C77: =+(C76)/VLOOKUP(YEAR(C75),[3]SMMLV!$A$4:$C$23,3,0) -> #N/A | E77: =IF(C77="PENDIENTE","PENDIENTE",IF(C77>=0,"CUMPLE","NO CUMPLE")) -> #N/A
A78: Fecha de terminación del contrato | E78: =IF(C78="","PENDIENTE",IF(C78="","",IF(C78>$B$4,"NO CUMPLE","CUMPLE"))) -> PENDIENTE
A79: Experiencia Específica: | B79: =+B65 -> Mantenimiento preventivo y/o correctivo y/o predictivo de ascensores multimarca, que incluyan dentro de su objeto, alcance o actividades ejecutadas el suministro de repuestos y certificación de los ascensores. | C79: NO | E79: =IF(C79="","PENDIENTE",IF(C79="SI","CUMPLE","NO CUMPLE CON LA EXPERIENCIA ESPECÍFICA/PENDIENTE")) -> NO CUMPLE CON LA EXPERIENCIA ESPECÍFICA/PENDIENTE | G79: SI | H79: =IF(C79="SI",1,0) -> 0
A80: Valoración de la experiencia acreditada mediante el contrato | E80: =IF(E73="PENDIENTE","NO HABILITADO",IF(E77="PENDIENTE","NO HABILITADO",IF(E78="PENDIENTE","NO HABILITADO",IF(#REF!="PENDIENTE","NO HABILITADO",IF(E79="PENDIENTE","NO HABILITADO","HABILITADO"))))) -> NO HABILITADO | G80: NO
A83: Deberá acreditar experiencia específica mantenimiento preventivo y/o correctivo y/o predictivo de ascensores multimarca, que incluyan dentro de su objeto, alcance o actividades ejecutadas el suministro de repuestos y certificación de los ascensores. | F83: =SUM(H23,H37,H51,H65,H79) -> 0 | G83: v1 | H83: =SUM(#REF!,#REF!) -> #REF!
F84: =IF(F83="","",IF(F83>=2,"CUMPLE","NO CUMPLE")) -> NO CUMPLE
A86: La sumatoria de los valores de los contratos presentados en cumplimiento de la experiencia solicitada, deberá ser igual o superior al 100% del valor del presupuesto oficial expresado en SMMLV | F86: =+C21+C35+C63 -> 295.85589 | G86: v2 | H86: =SUM(#REF!,#REF!) -> #REF!
F87: =IF(F86="","",IF(F86>=B5,"CUMPLE","NO CUMPLE")) -> NO CUMPLE
A89: De acuerdo con la experiencia del proponente acreditada para los requisitos técnicos habilitantes, el proponente se encuentra: | F89: =IF(F83<2,"NO HABILITADO",IF(F87="NO CUMPLE","NO HABILITADO",IF(F86>=B5,"HABILITADO","NO HABILITADO"))) -> NO HABILITADO
A92: 3.6.2. ACEPTACIÓN ANEXO Nro. 1 FICHA TÉCNICA (Formato Nro. 12)
A94: ACEPTACIÓN FICHA TECNICA
A95: El proponente deberá declarar que conoce, entiende y acepta dar estricto cumplimiento a las especificaciones técnicas contempladas en el Estudio Previo, Pliego de Condiciones y demás documentos que hacen parte integral del proceso y que son requeridos en el desarrollo de la ejecución del contrato resultante del presente proceso.
A96: ANEXO DECLARACION DE CONOCIMIENTO Y ACEPTACIÓN. | E96: Adjunta Carta de aceptación | F96: Puntaje por experiencia adicional
A97: Por tal motivo, el proponente deberá anexar junto a su propuesta un oficio donde declare que conoce, entiende y acepta dar estricto cumplimiento a las especificaciones técnicas contempladas en el Estudio Previo, Pliego de Condiciones y demás documentos que hacen parte integral del proceso y que son requeridos en el desarrollo de ejecución del contrato resultante del presente proceso, el cual deberá venir firmado por el proponente o su representante legal o por el apoderado debidamente facultado y con las formalidades del caso. | E97: SI | F97: =+IF(E97="SI","CUMPLE",IF(E97="NO","NO CUMPLE","PENDIENTE")) -> CUMPLE
A99: 3.7.1.1. PONDERACIÓN DE CALIDAD: HASTA CUARENTA (40) PUNTOS
A101: A. 3.7.1.1.1. Garantía sobre repuestos electrónicos (MÁXIMO VEINTE (20) PUNTOS) - B. 3.7.1.1.2. Capacitación de tipo técnico en el mantenimiento y funcionamiento (MÁXIMO VEINTE (20) PUNTOS)
A103: CRITERIO DE PONDERACION | B103: FORMATO A CALIFICAR | D103: PUNTAJE MÁXIMO | E103: ADJUNTA FORMATO | F103: PUNTAJE
A104: Sin perjuicio de la Garantía Legal y suplementaria definida y que sea exigible de acuerdo con el Decreto 735 de 2013 “Por el cual se reglamenta la efectividad de la garantía prevista en los artículos 7 y siguientes de la Ley 1480 de 2011” y el manual de “Protección al Consumidor en Colombia” expedido por la Superintendencia de Industria y Comercio, la ENTIDAD otorgará VEINTE (20) PUNTOS, a quien ofrezca el mayor tiempo de garantía expresada en MESES contados a partir del suministro e instalación sobre los componentes electrónicos que suministre y sean requeridos para el correcto funcionamiento de los ascensores. A los demás oferentes se les otorgará de forma proporcional. | B104: Para la evaluación, el oferente deberá diligenciar y presentar junto con la propuesta, el “FORMATO No. 13. PONDERACIÓN DE CALIDAD – GARANTÍA SOBRE REPUESTOS ELECTRÓNICOS”, establecido por la ENTIDAD para efectuar el ofrecimiento, so pena de no ser ponderado. | D104: =+'Ponderación de Garantías'!D7 -> 1.0526316 | E104: SI | F104: =+IF(E104="si",D104,0)+IF(E105="si",D105,0) -> 21.052632 | H104: DOS MESES
A105: La SDSCJ otorgará veinte (20) puntos al proponente que ofrezca en su propuesta, sin costo adicional, una (1) capacitación de tipo técnico en el mantenimiento y funcionamiento de los ascensores, para los funcionarios que asigne el supervisor del contrato. | B105: Para el efecto, los proponentes deberán diligenciar el FORMATO No. 14 - “PONDERACIÓN DE CALIDAD. CAPACITACIÓN DE TIPO TÉCNICO EN EL MANTENIMIENTO Y FUNCIONAMIENTO”. De no allegarlo diligenciado, no obtendrá puntaje alguno. | D105: 20 | E105: SI | H105: 2
A109: C. 3.7.1.3. PROTECCIÓN A LA INDUSTRIA NACIONAL (LEY 816 DE 2003) – DIEZ (10) PUNTOS (FORMATO Nro. 15)
A111: DESCRIPCIÓN | B111: OFRECIMIENTO | E111: VALIDACIÓN | F111: OBSERVACIÓN
A112: Se otorgaran diez (10) puntos al proponente que acredite el origen nacional de la oferta. | B112: 10 Puntos | E112: 10 | G112: 10
A113: Cuando se presenten ofertas de origen extranjero sin derecho a trato nacional, que ofrezcan el cien (100%) de servicios de origen colombiano. | B113: 5 Puntos | G113: 5
A114: Cuando se presenten ofertas de origen extranjero sin derecho a trato nacional, que ofrezcan servicios de origen extranjero. | B114: 0 Puntos | G114: 0
A117: TOTAL PUNTAJE ACUMULADO | E117: =+E112+F104 -> 31.052632

Sheet 4. INSEREL
A1: =+'3. IMATIC '!A1:F1 -> EVALUACION TÉCNICA PROCESO SELECCIÓN ABREVIADA DE MENOR CUANTIA - SCJ-SIF-SAMC-002-2020
A2: OBJETO | B2: "MANTENIMIENTO PREVENTIVO Y CORRECTIVO DE LOS ASCENSORES QUE FUNCIONAN EN EQUIPAMIENTOS DE PROPIEDAD Y/O A CARGO DE LA SDSCJ HASTA LA HOMOLOGACION DE LOS MISMOS ANTE ENTE CERTIFICADOR (INLCUIDO C4)".
F3: =NOW() -> 44188.698
A4: FECHA DE CIERRE DE PROCESO | B4: 44176
A5: VALOR PRESUPUESTO OFICIAL | B5: =B6/877803 -> 410.1148
B6: 360000000
A8: NOMBRE DEL PROPONENTE | B8: INSEREL INGENIERIA EN SERVICIOS ELÉCTRICOS DE COMUNICACIÓN Y DE GAS LTDA
A9: 3.6. REQUISITOS TÉCNICOS HABILITANTES
A10: 3.6.1. EXPERIENCIA DEL PROPONENTE
A11: Las personas jurídicas, naturales, consorcios o uniones temporales interesadas en participar en el presente proceso de selección, deberán acreditar experiencia en la ejecución de mínimo dos (2) y máximo cinco (5) contratos ejecutados y terminados, cuyo objeto o alcance haya contemplado el mantenimiento preventivo y/o correctivo y/o predictivo de ascensores, en las condiciones que se exponen a continuación: 1) Como mínimo dos (2) de los contratos presentados para acreditar la “EXPERIENCIA DEL PROPONENTE” (relacionados en el párrafo anterior), deberán corresponder a mantenimiento preventivo y/o correctivo y/o predictivo de ascensores multimarca, que incluyan dentro de su objeto, alcance o actividades ejecutadas el suministro de repuestos y certificación de los ascensores. 2) La sumatoria de los valores de los contratos presentados en cumplimiento de la experiencia solicitada, deberá ser igual o superior al 100% del valor del presupuesto oficial expresado en SMMLV, y cada uno de los contratos deberán estar debidamente registrados en el Registro Único de Proponentes (RUP) en al menos uno (1) de los códigos de las clasificaciones de Bienes y Servicios de Naciones Unidas (UNSPSC) que se indican en la siguiente tabla:
A12: Contrato 1 - 4600060799/2015
A13: Objeto: | B13: MANTENIMIENTO PREVENTIVO Y CORRECTIVO DE ASCENSORES EN DIFERENTES INSTITUCIONES EDUCATIVAS Y SEDES DE LA SECRETARIA DE EDUCACION DEL MUNICIPIO DE MEDELLIN
A14: Contratante: | B14: SECRETARIA DE EDUCACION DE MEDELLIN
A15: Porcentaje de Participación Consorcios /UT: | B15: 1
B16: Requisito | C16: Acreditado | D16: Folio RUP | E16: Cumple/No cumple | F16: Observaciones
A17: Códigos del Clasificador de Bienes y Servicios | B17: 72101500 | C17: 72101500 | D17: 168 | E17: =IF(AND(C17="",C18=""),"PENDIENTE",IF(B18=C18,"CUMPLE",IF(B17=C17,"CUMPLE","NO CUMPLE"))) -> CUMPLE
B18: 72154000 | C18: 72154000 | D18: 169
A19: Fecha de suscripción del contrato (inicio de contrato) | C19: 42181 | E19: =IF(C19="","PENDIENTE","") | G19: =YEAR(C19) -> 2015
A20: Valor del proyecto o contrato | C20: 228807680 | E20: =IF(C20="","PENDIENTE","")
A21: SMMLV - a la fecha de suscripción del contrato | C21: =+(C20)/VLOOKUP(YEAR(C19),SMMLV!$A$4:$C$23,3,0) -> 355.09844 | E21: =IF(C21="PENDIENTE","PENDIENTE",IF(C21>=0,"CUMPLE","NO CUMPLE")) -> CUMPLE
A22: Fecha de terminación del contrato | C22: 42341 | E22: =IF(C22="","PENDIENTE",IF(C22="","",IF(C22>$B$4,"NO CUMPLE","CUMPLE"))) -> CUMPLE
A23: Experiencia Específica: | B23: Mantenimiento preventivo y/o correctivo y/o predictivo de ascensores multimarca, que incluyan dentro de su objeto, alcance o actividades ejecutadas el suministro de repuestos y certificación de los ascensores. | C23: SI | E23: =IF(C23="","PENDIENTE",IF(C23="SI","CUMPLE","NO CUMPLE CON LA EXPERIENCIA ESPECÍFICA/PENDIENTE")) -> CUMPLE | G23: SI | H23: =IF(C23="SI",1,0) -> 1
A24: Valoración de la experiencia acreditada mediante el contrato | E24: =IF(E17="PENDIENTE","NO HABILITADO",IF(E21="PENDIENTE","NO HABILITADO",IF(E22="PENDIENTE","NO HABILITADO",IF(E23="PENDIENTE","NO HABILITADO","HABILITADO")))) -> HABILITADO | G24: NO
A26: Contrato 2 - GUSTAVO GONZALEZ DE LA PAVA
A27: Objeto: | B27: MANTENIMIENTO Y RENOVACION CON EL SUMINISTRO DE REPUESTOS, DEL SISITEMA DE ASCENSORES PARA EL TRANSPORTE DE PERSONAS PARA LOS EDIFICIOS PIETRA SANTA 1, PIETRA SANTA 2 Y NUEVA ORQUIDEA EN MEDELLLIN, CON INCLUSION DE LA CERTIFICACION ANTE LA ONAC, CON FINES DE ACEPTACION POR LA ASEGURADORA PARA LA TRAMITACIÓN DE LA RESPECTIVA GARANTIA
A28: Contratante: | B28: GUSTAVO GONZALEZ DE LA PAVA
A29: Porcentaje de Participación Consorcios /UT: | B29: 1
B30: Requisito | C30: Acreditado | D30: Folio RUP | E30: Cumple/No cumple | F30: Observaciones
A31: Códigos del Clasificador de Bienes y Servicios | B31: 72101500 | C31: 72101500 | D31: 181 | E31: =IF(AND(C31="",C32=""),"PENDIENTE",IF(B32=C32,"CUMPLE",IF(B31=C31,"CUMPLE","NO CUMPLE"))) -> CUMPLE
B32: 72154000 | C32: 72154000 | D32: 182
A33: Fecha de suscripción del contrato (inicio de contrato) | C33: 40745 | E33: =IF(C33="","PENDIENTE","") | G33: =YEAR(C33) -> 2011
A34: Valor del proyecto o contrato | C34: 92358000 | E34: =IF(C34="","PENDIENTE","")
A35: SMMLV - a la fecha de suscripción del contrato | C35: =+(C34)/VLOOKUP(YEAR(C33),SMMLV!$A$4:$C$23,3,0) -> 172.43839 | E35: =IF(C35="PENDIENTE","PENDIENTE",IF(C35>=0,"CUMPLE","NO CUMPLE")) -> CUMPLE
A36: Fecha de terminación del contrato | C36: 40836 | E36: =IF(C36="","PENDIENTE",IF(C36="","",IF(C36>$B$4,"NO CUMPLE","CUMPLE"))) -> CUMPLE
A37: Experiencia Específica: | B37: =+B23 -> Mantenimiento preventivo y/o correctivo y/o predictivo de ascensores multimarca, que incluyan dentro de su objeto, alcance o actividades ejecutadas el suministro de repuestos y certificación de los ascensores. | C37: SI | E37: =IF(C37="","PENDIENTE",IF(C37="SI","CUMPLE","NO CUMPLE CON LA EXPERIENCIA ESPECÍFICA/PENDIENTE")) -> CUMPLE | G37: SI | H37: =IF(C37="SI",1,0) -> 1
A38: Valoración de la experiencia acreditada mediante el contrato | E38: =IF(E31="PENDIENTE","NO HABILITADO",IF(E35="PENDIENTE","NO HABILITADO",IF(E36="PENDIENTE","NO HABILITADO",IF(E37="PENDIENTE","NO HABILITADO","HABILITADO")))) -> HABILITADO | G38: NO
A40: Contrato 3 -
A41: Objeto:
A42: Contratante:
A43: Porcentaje de Participación Consorcios /UT:
B44: Requisito | C44: Acreditado | D44: Folio RUP | E44: Cumple/No cumple | F44: Observaciones
A45: Códigos del Clasificador de Bienes y Servicios | B45: 72101500 | E45: =IF(AND(C45="",C46=""),"PENDIENTE",IF(B46=C46,"CUMPLE",IF(B45=C45,"CUMPLE","NO CUMPLE"))) -> PENDIENTE
B46: 72154000
A47: Fecha de suscripción del contrato (inicio de contrato) | E47: =IF(C47="","PENDIENTE","") -> PENDIENTE | G47: =YEAR(C47) -> 1900
A48: Valor del proyecto o contrato | E48: =IF(C48="","PENDIENTE","") -> PENDIENTE
A49: SMMLV - a la fecha de suscripción del contrato | C49: =+(C48)/VLOOKUP(YEAR(C47),SMMLV!$A$4:$C$23,3,0) -> #N/A | E49: =IF(C49="PENDIENTE","PENDIENTE",IF(C49>=0,"CUMPLE","NO CUMPLE")) -> #N/A
A50: Fecha de terminación del contrato | E50: =IF(C50="","PENDIENTE",IF(C50="","",IF(C50>$B$4,"NO CUMPLE","CUMPLE"))) -> PENDIENTE
A51: Experiencia Específica: | B51: =+B37 -> Mantenimiento preventivo y/o correctivo y/o predictivo de ascensores multimarca, que incluyan dentro de su objeto, alcance o actividades ejecutadas el suministro de repuestos y certificación de los ascensores. | C51: NO | E51: =IF(C51="","PENDIENTE",IF(C51="SI","CUMPLE","NO CUMPLE CON LA EXPERIENCIA ESPECÍFICA/PENDIENTE")) -> NO CUMPLE CON LA EXPERIENCIA ESPECÍFICA/PENDIENTE | G51: SI | H51: =IF(C51="SI",1,0) -> 0
A52: Valoración de la experiencia acreditada mediante el contrato | E52: =IF(E45="PENDIENTE","NO HABILITADO",IF(E49="PENDIENTE","NO HABILITADO",IF(E50="PENDIENTE","NO HABILITADO",IF(E51="PENDIENTE","NO HABILITADO","HABILITADO")))) -> NO HABILITADO | G52: NO
A54: Contrato 4 -
A55: Objeto:
A56: Contratante:
A57: Porcentaje de Participación Consorcios /UT:
B58: Requisito | C58: Acreditado | D58: Folio RUP | E58: Cumple/No cumple | F58: Observaciones
A59: Códigos del Clasificador de Bienes y Servicios | B59: 72101500 | E59: =IF(AND(C59="",C60=""),"PENDIENTE",IF(B60=C60,"CUMPLE",IF(B59=C59,"CUMPLE","NO CUMPLE"))) -> PENDIENTE
B60: 72154000
A61: Fecha de suscripción del contrato (inicio de contrato) | E61: =IF(C61="","PENDIENTE","") -> PENDIENTE | G61: =YEAR(C61) -> 1900
A62: Valor del proyecto o contrato | E62: =IF(C62="","PENDIENTE","") -> PENDIENTE
A63: SMMLV - a la fecha de suscripción del contrato | C63: =+(C62)/VLOOKUP(YEAR(C61),SMMLV!$A$4:$C$23,3,0) -> #N/A | E63: =IF(C63="PENDIENTE","PENDIENTE",IF(C63>=0,"CUMPLE","NO CUMPLE")) -> #N/A
A64: Fecha de terminación del contrato | E64: =IF(C64="","PENDIENTE",IF(C64="","",IF(C64>$B$4,"NO CUMPLE","CUMPLE"))) -> PENDIENTE
A65: Experiencia Específica: | B65: =+B51 -> Mantenimiento preventivo y/o correctivo y/o predictivo de ascensores multimarca, que incluyan dentro de su objeto, alcance o actividades ejecutadas el suministro de repuestos y certificación de los ascensores. | C65: NO | E65: =IF(C65="","PENDIENTE",IF(C65="SI","CUMPLE","NO CUMPLE CON LA EXPERIENCIA ESPECÍFICA/PENDIENTE")) -> NO CUMPLE CON LA EXPERIENCIA ESPECÍFICA/PENDIENTE | G65: SI | H65: =IF(C65="SI",1,0) -> 0
A66: Valoración de la experiencia acreditada mediante el contrato | E66: =IF(E59="PENDIENTE","NO HABILITADO",IF(E63="PENDIENTE","NO HABILITADO",IF(E64="PENDIENTE","NO HABILITADO",IF(E65="PENDIENTE","NO HABILITADO","HABILITADO")))) -> NO HABILITADO | G66: NO
A68: Contrato 5 -
A69: Objeto:
A70: Contratante:
A71: Porcentaje de Participación Consorcios /UT:
B72: Requisito | C72: Acreditado | D72: Folio RUP | E72: Cumple/No cumple | F72: Observaciones
A73: Códigos del Clasificador de Bienes y Servicios | B73: 72101500 | E73: =IF(AND(C73="",C74=""),"PENDIENTE",IF(B74=C74,"CUMPLE",IF(B73=C73,"CUMPLE","NO CUMPLE"))) -> PENDIENTE
B74: 72154000
A75: Fecha de suscripción del contrato (inicio de contrato) | E75: =IF(C75="","PENDIENTE","") -> PENDIENTE | G75: =YEAR(C75) -> 1900
A76: Valor del proyecto o contrato | E76: =IF(C76="","PENDIENTE","") -> PENDIENTE
A77: SMMLV - a la fecha de suscripción del contrato | C77: =+(C76)/VLOOKUP(YEAR(C75),SMMLV!$A$4:$C$23,3,0) -> #N/A | E77: =IF(C77="PENDIENTE","PENDIENTE",IF(C77>=0,"CUMPLE","NO CUMPLE")) -> #N/A
A78: Fecha de terminación del contrato | E78: =IF(C78="","PENDIENTE",IF(C78="","",IF(C78>$B$4,"NO CUMPLE","CUMPLE"))) -> PENDIENTE
A79: Experiencia Específica: | B79: =+B65 -> Mantenimiento preventivo y/o correctivo y/o predictivo de ascensores multimarca, que incluyan dentro de su objeto, alcance o actividades ejecutadas el suministro de repuestos y certificación de los ascensores. | C79: NO | E79: =IF(C79="","PENDIENTE",IF(C79="SI","CUMPLE","NO CUMPLE CON LA EXPERIENCIA ESPECÍFICA/PENDIENTE")) -> NO CUMPLE CON LA EXPERIENCIA ESPECÍFICA/PENDIENTE | G79: SI | H79: =IF(C79="SI",1,0) -> 0
A80: Valoración de la experiencia acreditada mediante el contrato | E80: =IF(E73="PENDIENTE","NO HABILITADO",IF(E77="PENDIENTE","NO HABILITADO",IF(E78="PENDIENTE","NO HABILITADO",IF(E79="PENDIENTE","NO HABILITADO","HABILITADO")))) -> NO HABILITADO | G80: NO
A83: Deberá acreditar experiencia específica mantenimiento preventivo y/o correctivo y/o predictivo de ascensores multimarca, que incluyan dentro de su objeto, alcance o actividades ejecutadas el suministro de repuestos y certificación de los ascensores. | F83: =SUM(H23,H37,H51,H65,H79) -> 2 | G83: v1 | H83: =SUM(#REF!,#REF!) -> #REF!
F84: =IF(F83="","",IF(F83>=2,"CUMPLE","NO CUMPLE")) -> CUMPLE
A86: La sumatoria de los valores de los contratos presentados en cumplimiento de la experiencia solicitada, deberá ser igual o superior al 100% del valor del presupuesto oficial expresado en SMMLV | F86: =+C21+(C35) -> 527.53683 | G86: v2 | H86: =SUM(#REF!,#REF!) -> #REF!
F87: =IF(F86="","",IF(F86>=B5,"CUMPLE","NO CUMPLE")) -> CUMPLE
A89: De acuerdo con la experiencia del proponente acreditada para los requisitos técnicos habilitantes, el proponente se encuentra: | F89: =IF(F83<2,"NO HABILITADO",IF(F87="NO CUMPLE","NO HABILITADO",IF(F86>=B5,"HABILITADO","NO HABILITADO"))) -> HABILITADO
A92: 3.6.2. ACEPTACIÓN ANEXO Nro. 1 FICHA TÉCNICA (Formato Nro. 12)
A94: ACEPTACIÓN FICHA TECNICA
A95: El proponente deberá declarar que conoce, entiende y acepta dar estricto cumplimiento a las especificaciones técnicas contempladas en el Estudio Previo, Pliego de Condiciones y demás documentos que hacen parte integral del proceso y que son requeridos en el desarrollo de la ejecución del contrato resultante del presente proceso.
A96: ANEXO DECLARACION DE CONOCIMIENTO Y ACEPTACIÓN. | E96: Adjunta Carta de aceptación | F96: Puntaje por experiencia adicional
A97: Por tal motivo, el proponente deberá anexar junto a su propuesta un oficio donde declare que conoce, entiende y acepta dar estricto cumplimiento a las especificaciones técnicas contempladas en el Estudio Previo, Pliego de Condiciones y demás documentos que hacen parte integral del proceso y que son requeridos en el desarrollo de ejecución del contrato resultante del presente proceso, el cual deberá venir firmado por el proponente o su representante legal o por el apoderado debidamente facultado y con las formalidades del caso. | E97: SI | F97: =+IF(E97="SI","CUMPLE",IF(E97="NO","NO CUMPLE","PENDIENTE")) -> CUMPLE
A99: 3.7.1.1. PONDERACIÓN DE CALIDAD: HASTA CUARENTA (40) PUNTOS
A101: A. 3.7.1.1.1. Garantía sobre repuestos electrónicos (MÁXIMO VEINTE (20) PUNTOS) - B. 3.7.1.1.2. Capacitación de tipo técnico en el mantenimiento y funcionamiento (MÁXIMO VEINTE (20) PUNTOS)
A103: CRITERIO DE PONDERACION | B103: FORMATO A CALIFICAR | D103: PUNTAJE MÁXIMO | E103: ADJUNTA FORMATO | F103: PUNTAJE
A104: Sin perjuicio de la Garantía Legal y suplementaria definida y que sea exigible de acuerdo con el Decreto 735 de 2013 “Por el cual se reglamenta la efectividad de la garantía prevista en los artículos 7 y siguientes de la Ley 1480 de 2011” y el manual de “Protección al Consumidor en Colombia” expedido por la Superintendencia de Industria y Comercio, la ENTIDAD otorgará VEINTE (20) PUNTOS, a quien ofrezca el mayor tiempo de garantía expresada en MESES contados a partir del suministro e instalación sobre los componentes electrónicos que suministre y sean requeridos para el correcto funcionamiento de los ascensores. A los demás oferentes se les otorgará de forma proporcional. | B104: Para la evaluación, el oferente deberá diligenciar y presentar junto con la propuesta, el “FORMATO No. 13. PONDERACIÓN DE CALIDAD – GARANTÍA SOBRE REPUESTOS ELECTRÓNICOS”, establecido por la ENTIDAD para efectuar el ofrecimiento, so pena de no ser ponderado. | D104: =+'Ponderación de Garantías'!D8 -> 20 | E104: SI | F104: =+IF(E104="si",D104,0)+IF(E105="si",D105,0) -> 40 | H104: 1
A105: La SDSCJ otorgará veinte (20) puntos al proponente que ofrezca en su propuesta, sin costo adicional, una (1) capacitación de tipo técnico en el mantenimiento y funcionamiento de los ascensores, para los funcionarios que asigne el supervisor del contrato. | B105: Para el efecto, los proponentes deberán diligenciar el FORMATO No. 14 - “PONDERACIÓN DE CALIDAD. CAPACITACIÓN DE TIPO TÉCNICO EN EL MANTENIMIENTO Y FUNCIONAMIENTO”. De no allegarlo diligenciado, no obtendrá puntaje alguno. | D105: 20 | E105: SI | H105: 2
A109: C. 3.7.1.3. PROTECCIÓN A LA INDUSTRIA NACIONAL (LEY 816 DE 2003) – DIEZ (10) PUNTOS (FORMATO Nro. 15)
A111: DESCRIPCIÓN | B111: OFRECIMIENTO | E111: VALIDACIÓN | F111: OBSERVACIÓN
A112: Se otorgaran diez (10) puntos al proponente que acredite el origen nacional de la oferta. | B112: 10 Puntos | E112: 10 | G112: 10
A113: Cuando se presenten ofertas de origen extranjero sin derecho a trato nacional, que ofrezcan el cien (100%) de servicios de origen colombiano. | B113: 5 Puntos | G113: 5
A114: Cuando se presenten ofertas de origen extranjero sin derecho a trato nacional, que ofrezcan servicios de origen extranjero. | B114: 0 Puntos | G114: 0
A117: TOTAL PUNTAJE ACUMULADO | E117: =+E112+F104 -> 50

Sheet 5. CYRA
A1: =+'3. IMATIC '!A1:F1 -> EVALUACION TÉCNICA PROCESO SELECCIÓN ABREVIADA DE MENOR CUANTIA - SCJ-SIF-SAMC-002-2020
A2: OBJETO | B2: "MANTENIMIENTO PREVENTIVO Y CORRECTIVO DE LOS ASCENSORES QUE FUNCIONAN EN EQUIPAMIENTOS DE PROPIEDAD Y/O A CARGO DE LA SDSCJ HASTA LA HOMOLOGACION DE LOS MISMOS ANTE ENTE CERTIFICADOR (INLCUIDO C4)".
F3: =NOW() -> 44188.698
A4: FECHA DE CIERRE DE PROCESO | B4: 44176
A5: VALOR PRESUPUESTO OFICIAL | B5: =B6/877803 -> 410.1148
B6: 360000000
A8: NOMBRE DEL PROPONENTE | B8: CYRA INGENIERIA SAS
A9: 3.6. REQUISITOS TÉCNICOS HABILITANTES
A10: 3.6.1. EXPERIENCIA DEL PROPONENTE
A11: Las personas jurídicas, naturales, consorcios o uniones temporales interesadas en participar en el presente proceso de selección, deberán acreditar experiencia en la ejecución de mínimo dos (2) y máximo cinco (5) contratos ejecutados y terminados, cuyo objeto o alcance haya contemplado el mantenimiento preventivo y/o correctivo y/o predictivo de ascensores, en las condiciones que se exponen a continuación: 1) Como mínimo dos (2) de los contratos presentados para acreditar la “EXPERIENCIA DEL PROPONENTE” (relacionados en el párrafo anterior), deberán corresponder a mantenimiento preventivo y/o correctivo y/o predictivo de ascensores multimarca, que incluyan dentro de su objeto, alcance o actividades ejecutadas el suministro de repuestos y certificación de los ascensores. 2) La sumatoria de los valores de los contratos presentados en cumplimiento de la experiencia solicitada, deberá ser igual o superior al 100% del valor del presupuesto oficial expresado en SMMLV, y cada uno de los contratos deberán estar debidamente registrados en el Registro Único de Proponentes (RUP) en al menos uno (1) de los códigos de las clasificaciones de Bienes y Servicios de Naciones Unidas (UNSPSC) que se indican en la siguiente tabla:
A12: Contrato 1 - CONTRATO DE OBRA 075 DE 2016
A13: Objeto: | B13: SUMINISTRO E NSTALACION DE UN ASCENSOR TIPO PASAJEROS, CON SU ESTRUCTURA AUTOPORTANTE, OBRA CIVIL Y ELETRICA EN LA CIUDAD DE BOGOTA
A14: Contratante: | B14: HIJAS DE CLARIDAD SNA VICENTE DE PAUL
A15: Porcentaje de Participación Consorcios /UT: | B15: 1
B16: Requisito | C16: Acreditado | D16: Folio RUP | E16: Cumple/No cumple | F16: Observaciones
A17: Códigos del Clasificador de Bienes y Servicios | B17: 72101500 | C17: 72101500 | D17: 7 | E17: =IF(AND(C17="",C18=""),"PENDIENTE",IF(B18=C18,"CUMPLE",IF(B17=C17,"CUMPLE","NO CUMPLE"))) -> CUMPLE
B18: 72154000 | C18: 72154000 | D18: 7
A19: Fecha de suscripción del contrato (inicio de contrato) | C19: 42668 | E19: =IF(C19="","PENDIENTE","") | F19: DEBE SUBSANANR - NO CUMPLE: LA CERTIFICACION APORTADA NO CUMPLE CON LO REQUERIDO EN EL NUMERAL 3.6.1 EXPERIENCIA DEL PROPONENTE "cuyo objeto o alcance haya contemplado el mantenimiento preventivo y/o correctivo y/o predictivo de ascensores". | G19: =YEAR(C19) -> 2016
A20: Valor del proyecto o contrato | C20: 136862600 | E20: =IF(C20="","PENDIENTE","")
A21: SMMLV - a la fecha de suscripción del contrato | C21: =+(C20)/VLOOKUP(YEAR(C19),SMMLV!$A$4:$C$23,3,0) -> 198.50839 | E21: =IF(C21="PENDIENTE","PENDIENTE",IF(C21>=0,"CUMPLE","NO CUMPLE")) -> CUMPLE
A22: Fecha de terminación del contrato | E22: =IF(C22="","PENDIENTE",IF(C22="","",IF(C22>$B$4,"NO CUMPLE","CUMPLE"))) -> PENDIENTE
A23: Experiencia Específica: | B23: Mantenimiento preventivo y/o correctivo y/o predictivo de ascensores multimarca, que incluyan dentro de su objeto, alcance o actividades ejecutadas el suministro de repuestos y certificación de los ascensores. | C23: NO | E23: =IF(C23="","PENDIENTE",IF(C23="SI","CUMPLE","NO CUMPLE CON LA EXPERIENCIA ESPECÍFICA/PENDIENTE")) -> NO CUMPLE CON LA EXPERIENCIA ESPECÍFICA/PENDIENTE | G23: SI | H23: =IF(C23="SI",1,0) -> 0
A24: Valoración de la experiencia acreditada mediante el contrato | E24: =IF(E17="PENDIENTE","NO HABILITADO",IF(E21="PENDIENTE","NO HABILITADO",IF(E22="PENDIENTE","NO HABILITADO",IF(#REF!="PENDIENTE","NO HABILITADO",IF(E23="PENDIENTE","NO HABILITADO","HABILITADO"))))) -> NO HABILITADO | G24: NO
A26: Contrato 2 - CONTRATO SIA 0022 2017
A27: Objeto: | B27: SUMINISTRO E INSTALACION DE UN ASECENSOR PASAJEROS
A28: Contratante: | B28: ACADEMIA NACIONAL DE APRENDIZAJE
A29: Porcentaje de Participación Consorcios /UT: | B29: 1
B30: Requisito | C30: Acreditado | D30: Folio RUP | E30: Cumple/No cumple | F30: Observaciones
A31: Códigos del Clasificador de Bienes y Servicios | B31: 72101500 | C31: 72101500 | D31: 7 | E31: =IF(AND(C31="",C32=""),"PENDIENTE",IF(B32=C32,"CUMPLE",IF(B31=C31,"CUMPLE","NO CUMPLE"))) -> CUMPLE
B32: 72154000 | C32: 72154000 | D32: 7
A33: Fecha de suscripción del contrato (inicio de contrato) | C33: 43235 | E33: =IF(C33="","PENDIENTE","") | F33: DEBE SUBSANANR - NO CUMPLE: LA CERTIFICACION APORTADA NO CUMPLE CON LO REQUERIDO EN EL NUMERAL 3.6.1 EXPERIENCIA DEL PROPONENTE "cuyo objeto o alcance haya contemplado el mantenimiento preventivo y/o correctivo y/o predictivo de ascensores". | G33: =YEAR(C33) -> 2018
A34: Valor del proyecto o contrato | C34: 160000000 | E34: =IF(C34="","PENDIENTE","")
A35: SMMLV - a la fecha de suscripción del contrato | C35: =+(C34)/VLOOKUP(YEAR(C33),SMMLV!$A$4:$C$23,3,0) -> 204.8021 | E35: =IF(C35="PENDIENTE","PENDIENTE",IF(C35>=0,"CUMPLE","NO CUMPLE")) -> CUMPLE
A36: Fecha de terminación del contrato | E36: =IF(C36="","PENDIENTE",IF(C36="","",IF(C36>$B$4,"NO CUMPLE","CUMPLE"))) -> PENDIENTE
A37: Experiencia Específica: | B37: =+B23 -> Mantenimiento preventivo y/o correctivo y/o predictivo de ascensores multimarca, que incluyan dentro de su objeto, alcance o actividades ejecutadas el suministro de repuestos y certificación de los ascensores. | C37: NO | E37: =IF(C37="","PENDIENTE",IF(C37="SI","CUMPLE","NO CUMPLE CON LA EXPERIENCIA ESPECÍFICA/PENDIENTE")) -> NO CUMPLE CON LA EXPERIENCIA ESPECÍFICA/PENDIENTE | G37: SI | H37: =IF(C37="SI",1,0) -> 0
A38: Valoración de la experiencia acreditada mediante el contrato | E38: =IF(E31="PENDIENTE","NO HABILITADO",IF(E35="PENDIENTE","NO HABILITADO",IF(E36="PENDIENTE","NO HABILITADO",IF(#REF!="PENDIENTE","NO HABILITADO",IF(E37="PENDIENTE","NO HABILITADO","HABILITADO"))))) -> NO HABILITADO | G38: NO
A40: Contrato 3 - CONTRATO SERVICIO NUMERO SIA 20 2017
A41: Objeto: | B41: ACTUALIZACION TECNOLOGICA DE UN ASENSOR
A42: Contratante: | B42: EDIFICIO KOJI II
A43: Porcentaje de Participación Consorcios /UT: | B43: 1
B44: Requisito | C44: Acreditado | D44: Folio RUP | E44: Cumple/No cumple | F44: Observaciones
A45: Códigos del Clasificador de Bienes y Servicios | B45: 72101500 | C45: 72101500 | D45: 7 | E45: =IF(AND(C45="",C46=""),"PENDIENTE",IF(B46=C46,"CUMPLE",IF(B45=C45,"CUMPLE","NO CUMPLE"))) -> CUMPLE
B46: 72154000 | C46: 72154000 | D46: 7
A47: Fecha de suscripción del contrato (inicio de contrato) | C47: 42832 | E47: =IF(C47="","PENDIENTE","") | F47: DEBE SUBSANANR - NO CUMPLE: LA CERTIFICACION APORTADA NO CUMPLE CON LO REQUERIDO EN EL NUMERAL 3.6.1 EXPERIENCIA DEL PROPONENTE "cuyo objeto o alcance haya contemplado el mantenimiento preventivo y/o correctivo y/o predictivo de ascensores". | G47: =YEAR(C47) -> 2017
A48: Valor del proyecto o contrato | C48: 32130000 | E48: =IF(C48="","PENDIENTE","")
A49: SMMLV - a la fecha de suscripción del contrato | C49: =+(C48)/VLOOKUP(YEAR(C47),SMMLV!$A$4:$C$23,3,0) -> 43.553287 | E49: =IF(C49="PENDIENTE","PENDIENTE",IF(C49>=0,"CUMPLE","NO CUMPLE")) -> CUMPLE
A50: Fecha de terminación del contrato | E50: =IF(C50="","PENDIENTE",IF(C50="","",IF(C50>$B$4,"NO CUMPLE","CUMPLE"))) -> PENDIENTE
A51: Experiencia Específica: | B51: =+B37 -> Mantenimiento preventivo y/o correctivo y/o predictivo de ascensores multimarca, que incluyan dentro de su objeto, alcance o actividades ejecutadas el suministro de repuestos y certificación de los ascensores. | C51: NO | E51: =IF(C51="","PENDIENTE",IF(C51="SI","CUMPLE","NO CUMPLE CON LA EXPERIENCIA ESPECÍFICA/PENDIENTE")) -> NO CUMPLE CON LA EXPERIENCIA ESPECÍFICA/PENDIENTE | G51: SI | H51: =IF(C51="SI",1,0) -> 0
A52: Valoración de la experiencia acreditada mediante el contrato | E52: =IF(E45="PENDIENTE","NO HABILITADO",IF(E49="PENDIENTE","NO HABILITADO",IF(E50="PENDIENTE","NO HABILITADO",IF(#REF!="PENDIENTE","NO HABILITADO",IF(E51="PENDIENTE","NO HABILITADO","HABILITADO"))))) -> NO HABILITADO | G52: NO
A54: Contrato 4 - EDIFICIO BALMORAL SIA - 024 - 2017
A55: Objeto: | B55: ACUALIZACION TECNOLOGICA Y MODERNIZACION DE DOS ASCENSORES PASAJEROS
A56: Contratante: | B56: EDIFICIO BALMORAL
A57: Porcentaje de Participación Consorcios /UT: | B57: 1
B58: Requisito | C58: Acreditado | D58: Folio RUP | E58: Cumple/No cumple | F58: Observaciones
A59: Códigos del Clasificador de Bienes y Servicios | B59: 72101500 | C59: 72101500 | D59: 7 | E59: =IF(AND(C59="",C60=""),"PENDIENTE",IF(B60=C60,"CUMPLE",IF(B59=C59,"CUMPLE","NO CUMPLE"))) -> CUMPLE
B60: 72154000 | C60: 72154000 | D60: 7
A61: Fecha de suscripción del contrato (inicio de contrato) | C61: 42969 | E61: =IF(C61="","PENDIENTE","") | F61: DEBE SUBSANANR - NO CUMPLE: LA CERTIFICACION APORTADA NO CUMPLE CON LO REQUERIDO EN EL NUMERAL 3.6.1 EXPERIENCIA DEL PROPONENTE "cuyo objeto o alcance haya contemplado el mantenimiento preventivo y/o correctivo y/o predictivo de ascensores" | G61: =YEAR(C61) -> 2017
A62: Valor del proyecto o contrato | C62: 150000000 | E62: =IF(C62="","PENDIENTE","")
A63: SMMLV - a la fecha de suscripción del contrato | C63: =+(C62)/VLOOKUP(YEAR(C61),SMMLV!$A$4:$C$23,3,0) -> 203.33 | E63: =IF(C63="PENDIENTE","PENDIENTE",IF(C63>=0,"CUMPLE","NO CUMPLE")) -> CUMPLE
A64: Fecha de terminación del contrato | E64: =IF(C64="","PENDIENTE",IF(C64="","",IF(C64>$B$4,"NO CUMPLE","CUMPLE"))) -> PENDIENTE
A65: Experiencia Específica: | B65: =+B51 -> Mantenimiento preventivo y/o correctivo y/o predictivo de ascensores multimarca, que incluyan dentro de su objeto, alcance o actividades ejecutadas el suministro de repuestos y certificación de los ascensores. | C65: NO | E65: =IF(C65="","PENDIENTE",IF(C65="SI","CUMPLE","NO CUMPLE CON LA EXPERIENCIA ESPECÍFICA/PENDIENTE")) -> NO CUMPLE CON LA EXPERIENCIA ESPECÍFICA/PENDIENTE | G65: SI | H65: =IF(C65="SI",1,0) -> 0
A66: Valoración de la experiencia acreditada mediante el contrato | E66: =IF(E59="PENDIENTE","NO HABILITADO",IF(E63="PENDIENTE","NO HABILITADO",IF(E64="PENDIENTE","NO HABILITADO",IF(#REF!="PENDIENTE","NO HABILITADO",IF(E65="PENDIENTE","NO HABILITADO","HABILITADO"))))) -> NO HABILITADO | G66: NO
A68: Contrato 5 - SIA 025 - 2017
A69: Objeto: | B69: ASCENSOR TIPO PASAJEROS
A70: Contratante: | B70: EDIFICIO LOURDES 65 P.H.
A71: Porcentaje de Participación Consorcios /UT: | B71: 1
B72: Requisito | C72: Acreditado | D72: Folio RUP | E72: Cumple/No cumple | F72: Observaciones
A73: Códigos del Clasificador de Bienes y Servicios | B73: 72101500 | C73: 72101500 | D73: 7 | E73: =IF(AND(C73="",C74=""),"PENDIENTE",IF(B74=C74,"CUMPLE",IF(B73=C73,"CUMPLE","NO CUMPLE"))) -> CUMPLE
B74: 72154000 | C74: 72154000 | D74: 7
A75: Fecha de suscripción del contrato (inicio de contrato) | C75: 42928 | E75: =IF(C75="","PENDIENTE","") | F75: DEBE SUBSANANR - NO CUMPLE: LA CERTIFICACION APORTADA NO CUMPLE CON LO REQUERIDO EN EL NUMERAL 3.6.1 EXPERIENCIA DEL PROPONENTE "cuyo objeto o alcance haya contemplado el mantenimiento preventivo y/o correctivo y/o predictivo de ascensores" | G75: =YEAR(C75) -> 2017
A76: Valor del proyecto o contrato | C76: 31416000 | E76: =IF(C76="","PENDIENTE","")
A77: SMMLV - a la fecha de suscripción del contrato | C77: =+(C76)/VLOOKUP(YEAR(C75),SMMLV!$A$4:$C$23,3,0) -> 42.585436 | E77: =IF(C77="PENDIENTE","PENDIENTE",IF(C77>=0,"CUMPLE","NO CUMPLE")) -> CUMPLE
A78: Fecha de terminación del contrato | E78: =IF(C78="","PENDIENTE",IF(C78="","",IF(C78>$B$4,"NO CUMPLE","CUMPLE"))) -> PENDIENTE
A79: Experiencia Específica: | B79: =+B65 -> Mantenimiento preventivo y/o correctivo y/o predictivo de ascensores multimarca, que incluyan dentro de su objeto, alcance o actividades ejecutadas el suministro de repuestos y certificación de los ascensores. | C79: NO | E79: =IF(C79="","PENDIENTE",IF(C79="SI","CUMPLE","NO CUMPLE CON LA EXPERIENCIA ESPECÍFICA/PENDIENTE")) -> NO CUMPLE CON LA EXPERIENCIA ESPECÍFICA/PENDIENTE | G79: SI | H79: =IF(C79="SI",1,0) -> 0
A80: Valoración de la experiencia acreditada mediante el contrato | E80: =IF(E73="PENDIENTE","NO HABILITADO",IF(E77="PENDIENTE","NO HABILITADO",IF(E78="PENDIENTE","NO HABILITADO",IF(#REF!="PENDIENTE","NO HABILITADO",IF(E79="PENDIENTE","NO HABILITADO","HABILITADO"))))) -> NO HABILITADO | G80: NO
A83: Deberá acreditar experiencia específica mantenimiento preventivo y/o correctivo y/o predictivo de ascensores multimarca, que incluyan dentro de su objeto, alcance o actividades ejecutadas el suministro de repuestos y certificación de los ascensores. | F83: =SUM(H23,H37,H51,H65,H79) -> 0 | G83: v1 | H83: =SUM(#REF!,#REF!) -> #REF!
F84: =IF(F83="","",IF(F83>=2,"CUMPLE","NO CUMPLE")) -> NO CUMPLE
A86: La sumatoria de los valores de los contratos presentados en cumplimiento de la experiencia solicitada, deberá ser igual o superior al 100% del valor del presupuesto oficial expresado en SMMLV | F86: =+(C21+C35+C49+C63+C77)*0 -> 0 | G86: v2 | H86: =SUM(#REF!,#REF!) -> #REF!
F87: =IF(F86="","",IF(F86>=B5,"CUMPLE","NO CUMPLE")) -> NO CUMPLE
A89: De acuerdo con la experiencia del proponente acreditada para los requisitos técnicos habilitantes, el proponente se encuentra: | F89: =IF(F83<2,"NO HABILITADO",IF(F87="NO CUMPLE","NO HABILITADO",IF(F86>=B5,"HABILITADO","NO HABILITADO"))) -> NO HABILITADO
A92: 3.6.2. ACEPTACIÓN ANEXO Nro. 1 FICHA TÉCNICA (Formato Nro. 12)
A94: ACEPTACIÓN FICHA TECNICA
A95: El proponente deberá declarar que conoce, entiende y acepta dar estricto cumplimiento a las especificaciones técnicas contempladas en el Estudio Previo, Pliego de Condiciones y demás documentos que hacen parte integral del proceso y que son requeridos en el desarrollo de la ejecución del contrato resultante del presente proceso.
A96: ANEXO DECLARACION DE CONOCIMIENTO Y ACEPTACIÓN. | E96: Adjunta Carta de aceptación | F96: Puntaje por experiencia adicional
A97: Por tal motivo, el proponente deberá anexar junto a su propuesta un oficio donde declare que conoce, entiende y acepta dar estricto cumplimiento a las especificaciones técnicas contempladas en el Estudio Previo, Pliego de Condiciones y demás documentos que hacen parte integral del proceso y que son requeridos en el desarrollo de ejecución del contrato resultante del presente proceso, el cual deberá venir firmado por el proponente o su representante legal o por el apoderado debidamente facultado y con las formalidades del caso. | E97: SI | F97: =+IF(E97="SI","CUMPLE",IF(E97="NO","NO CUMPLE","PENDIENTE")) -> CUMPLE
A99: 3.7.1.1. PONDERACIÓN DE CALIDAD: HASTA CUARENTA (40) PUNTOS
A101: A. 3.7.1.1.1. Garantía sobre repuestos electrónicos (MÁXIMO VEINTE (20) PUNTOS) - B. 3.7.1.1.2. Capacitación de tipo técnico en el mantenimiento y funcionamiento (MÁXIMO VEINTE (20) PUNTOS)
A103: CRITERIO DE PONDERACION | B103: FORMATO A CALIFICAR | D103: PUNTAJE MÁXIMO | E103: ADJUNTA FORMATO | F103: PUNTAJE
A104: Sin perjuicio de la Garantía Legal y suplementaria definida y que sea exigible de acuerdo con el Decreto 735 de 2013 “Por el cual se reglamenta la efectividad de la garantía prevista en los artículos 7 y siguientes de la Ley 1480 de 2011” y el manual de “Protección al Consumidor en Colombia” expedido por la Superintendencia de Industria y Comercio, la ENTIDAD otorgará VEINTE (20) PUNTOS, a quien ofrezca el mayor tiempo de garantía expresada en MESES contados a partir del suministro e instalación sobre los componentes electrónicos que suministre y sean requeridos para el correcto funcionamiento de los ascensores. A los demás oferentes se les otorgará de forma proporcional. | B104: Para la evaluación, el oferente deberá diligenciar y presentar junto con la propuesta, el “FORMATO No. 13. PONDERACIÓN DE CALIDAD – GARANTÍA SOBRE REPUESTOS ELECTRÓNICOS”, establecido por la ENTIDAD para efectuar el ofrecimiento, so pena de no ser ponderado. | D104: =+'Ponderación de Garantías'!D9 -> 1.5789474 | E104: SI | F104: =+IF(E104="si",D104,0)+IF(E105="si",D105,0) -> 21.578947 | H104: 1
A105: La SDSCJ otorgará veinte (20) puntos al proponente que ofrezca en su propuesta, sin costo adicional, una (1) capacitación de tipo técnico en el mantenimiento y funcionamiento de los ascensores, para los funcionarios que asigne el supervisor del contrato. | B105: Para el efecto, los proponentes deberán diligenciar el FORMATO No. 14 - “PONDERACIÓN DE CALIDAD. CAPACITACIÓN DE TIPO TÉCNICO EN EL MANTENIMIENTO Y FUNCIONAMIENTO”. De no allegarlo diligenciado, no obtendrá puntaje alguno. | D105: 20 | E105: SI | H105: 2
A109: C. 3.7.1.3. PROTECCIÓN A LA INDUSTRIA NACIONAL (LEY 816 DE 2003) – DIEZ (10) PUNTOS (FORMATO Nro. 15)
A111: DESCRIPCIÓN | B111: OFRECIMIENTO | E111: VALIDACIÓN | F111: OBSERVACIÓN
A112: Se otorgaran diez (10) puntos al proponente que acredite el origen nacional de la oferta. | B112: 10 Puntos | E112: 10 | G112: 10
A113: Cuando se presenten ofertas de origen extranjero sin derecho a trato nacional, que ofrezcan el cien (100%) de servicios de origen colombiano. | B113: 5 Puntos | G113: 5
A114: Cuando se presenten ofertas de origen extranjero sin derecho a trato nacional, que ofrezcan servicios de origen extranjero. | B114: 0 Puntos | G114: 0
A117: TOTAL PUNTAJE ACUMULADO | E117: =+E112+F104 -> 31.578947
