Workbook

Sheet ANEXO 1
B1: ANEXO 1
D2: ANÁLISIS DE COTIZACIONES
D3: PRESTAR EL SERVICIO DE MANTENIMIENTO PREVENTIVO Y SOPORTE TÉCNICO PARA LOS EQUIPOS DE LA FISCALÍA GENERAL DE LA NACIÓN, NIVEL CENTRAL. GRUPO 1: MICROSCOPIO ELECTRÓNICO DE BARRIDO, MARCA ZEISS, MODELO EVO 50. GRUPO 2: MICROSCOPIO ELECTRÓNICO DE BARRIDO, MARCA ZEISS, MODELO MA15. GRUPO 3: MICROSCOPIO ELECTRÓNICO DE BARRIDO MARCA ZEISS MODELO SIGMA 500. GRUPO 4: RECUBRIDOR MARCA EDWARDS MODELO S150B, Y RECUBRIDOR MARCA CRESSINGTON MODELO 108 CARBÓN/A
K5: ANÁLISIS DE VARIABLES
K6: VALORES SIN IVA
K7: VALOR UNITARIO SIN IVA | L7: VALOR UNITARIO SIN IVA | M7: VALOR UNITARIO SIN IVA | N7: VALOR UNITARIO SIN IVA
B8: NECESIDAD | G8: COTIZACIÓN 1 | I8: COTIZACIÓN 2 | P8: VALOR SELECCIONADO
B9: ITEM | C9: DESCRIPCIÓN DEL BIEN | D9: UNIDAD DE MEDIDA | E9: CANTIDAD | G9: VALOR UNITARIO SIN IVA | I9: VALOR UNITARIO SIN IVA | K9: COTIZACIÓN MÁS BAJA | L9: COTIZACIÓN MÁS ALTA | M9: PROMEDIO | N9: MEDIA ARITMÉTICA BAJA | P9: VALOR UNITARIO SIN IVA | Q9: IVA UNITARIO | R9: VALOR UNITARIO INCLUIDO IVA | S9: VALOR TOTAL INCLUIDO IVA
B10: 1 | C10: MANTENIMIENTO PREVENTIVO Y SOPORTE TECNICOpara Microscopio Electrónico de Barrido marca ZEISSmodelo SIGMA 500, acoplado a Microsonda de EnergíaDispersiva de Rayos X marca OXFORD INSTRUMENTS,Modelo ULTIM MAX 100, incluye Software Aztec version6.0 SP2. De acuerdo con el anexo técnico | D10: EQUIPO | E10: 1 | G10: 70110000 | I10: 50886000 | K10: =ROUND(MIN(G10,I10),2) -> 50886000 | L10: =ROUND(MAX(G10,I10),2) -> 70110000 | M10: =ROUND(AVERAGE(G10,I10),2) -> 60498000 | N10: =ROUND(AVERAGE(K10,M10),2) -> 55692000 | P10: =N10 -> 55692000 | Q10: =ROUND(P10*19%,2) -> 10581480 | R10: =ROUND(P10+Q10,2) -> 66273480 | S10: =ROUND(R10*$E10,2) -> 66273480
B11: 2 | C11: MANTENIMIENTO PREVENTIVO Y SOPORTE TECNICO para Microscopio Electrónico de Barrido marca ZEISS modelo EVO 50 EP, acoplado a Microsonda de Energía Dispersiva de Rayos X marca OXFORD INSTRUMENTS, modelo X-Max 20 mm2, incluye Software INCA GSR Suite, versión 4.15. De acuerdo con el anexo técnico | D11: EQUIPO | E11: 1 | G11: 59655000 | I11: 50886000 | K11: =ROUND(MIN(G11,I11),2) -> 50886000 | L11: =ROUND(MAX(G11,I11),2) -> 59655000 | M11: =ROUND(AVERAGE(G11,I11),2) -> 55270500 | N11: =ROUND(AVERAGE(K11,M11),2) -> 53078250 | P11: =M11 -> 55270500 | Q11: =ROUND(P11*19%,2) -> 10501395 | R11: =ROUND(P11+Q11,2) -> 65771895 | S11: =ROUND(R11*$E11,2) -> 65771895
B12: 3 | C12: MANTENIMIENTO PREVENTIVO Y SOPORTE TECNICO para Microscopio Electrónico de Barrido marca ZEISS modelo EVO MA 15, acoplado a Microsonda de Energía Dispersiva de Rayos X marca OXFORD INSTRUMENTS, Modelo X Max 80 mm2, incluye Software INCA GSR Suite versión 5.04. De acuerdo con el anexo técnico | D12: EQUIPO | E12: 1 | G12: 59655000 | I12: 50886000 | K12: =ROUND(MIN(G12,I12),2) -> 50886000 | L12: =ROUND(MAX(G12,I12),2) -> 59655000 | M12: =ROUND(AVERAGE(G12,I12),2) -> 55270500 | N12: =ROUND(AVERAGE(K12,M12),2) -> 53078250 | P12: =M12 -> 55270500 | Q12: =ROUND(P12*19%,2) -> 10501395 | R12: =ROUND(P12+Q12,2) -> 65771895 | S12: =ROUND(R12*$E12,2) -> 65771895
B13: 4 | C13: Mantenimiento preventivo y soporte técnico para un Recubridor Marca Edwards Modelo S150B. De acuerdo con el anexo técnico | D13: EQUIPO | E13: 1 | G13: 14391000 | I13: 12132000 | K13: =ROUND(MIN(G13,I13),2) -> 12132000 | L13: =ROUND(MAX(G13,I13),2) -> 14391000 | M13: =ROUND(AVERAGE(G13,I13),2) -> 13261500 | N13: =ROUND(AVERAGE(K13,M13),2) -> 12696750 | P13: =M13 -> 13261500 | Q13: =ROUND(P13*19%,2) -> 2519685 | R13: =ROUND(P13+Q13,2) -> 15781185 | S13: =ROUND(R13*$E13,2) -> 15781185
B14: 5 | C14: Mantenimiento preventivo y soporte técnico para un Recubridor Marca Cressington Modelo 108 Carbón/A y sus accesorios. De acuerdo con el anexo técnico | D14: EQUIPO | E14: 1 | G14: 12792000 | I14: 10418000 | K14: =ROUND(MIN(G14,I14),2) -> 10418000 | L14: =ROUND(MAX(G14,I14),2) -> 12792000 | M14: =ROUND(AVERAGE(G14,I14),2) -> 11605000 | N14: =ROUND(AVERAGE(K14,M14),2) -> 11011500 | P14: =M14 -> 11605000 | Q14: =ROUND(P14*19%,2) -> 2204950 | R14: =ROUND(P14+Q14,2) -> 13809950 | S14: =ROUND(R14*$E14,2) -> 13809950
B16: TOTAL | G16: =SUM(G10:G15) -> 216603000 | I16: =SUM(I10:I15) -> 175208000 | S16: =ROUND(SUM(S10:S15),2) -> 227408405
V17: ,
B19: Estudio del Sector 244 - 2026
B20: Fecha de elaboración: 05/03/2026

Sheet ANEXO 2
A1: ANEXO 2
C2: ANÁLISIS DE COSTOS HISTÓRICOS
C3: PRESTAR EL SERVICIO DE MANTENIMIENTO PREVENTIVO Y SOPORTE TÉCNICO PARA LOS EQUIPOS DE LA FISCALÍA GENERAL DE LA NACIÓN, NIVEL CENTRAL. GRUPO 1: MICROSCOPIO ELECTRÓNICO DE BARRIDO, MARCA ZEISS, MODELO EVO 50. GRUPO 2: MICROSCOPIO ELECTRÓNICO DE BARRIDO, MARCA ZEISS, MODELO MA15. GRUPO 3: MICROSCOPIO ELECTRÓNICO DE BARRIDO MARCA ZEISS MODELO SIGMA 500. GRUPO 4: RECUBRIDOR MARCA EDWARDS MODELO S150B, Y RECUBRIDOR MARCA CRESSINGTON MODELO 108 CARBÓN/A
A5: NECESIDAD | F5: CONTRATO FGN-NC-136-2025 | H5: Junio 2025 | I5: Marzo 2026 | K5: ANÁLISIS PROYECCIÓN COSTOS HISTÓRICOS (IPC / Indices - Serie de empalme)
A6: ITEM | B6: DESCRIPCIÓN DEL BIEN | C6: UNIDAD DE MEDIDA | D6: CANTIDAD AÑO 2025 | F6: VALOR UNITARIO SIN IVA | H6: 1.503 | I6: 1.5573 | K6: VALOR UNITARIO SIN IVA | L6: IVA | M6: VALOR TOTAL INCLUIDO IVA
A7: 1 | B7: MANTENIMIENTO PREVENTIVO Y SOPORTE TECNICOpara Microscopio Electrónico de Barrido marca ZEISSmodelo SIGMA 500, acoplado a Microsonda de EnergíaDispersiva de Rayos X marca OXFORD INSTRUMENTS,Modelo ULTIM MAX 100, incluye Software Aztec version6.0 SP2. De acuerdo con el anexo técnico | C7: EQUIPO | D7: 1 | F7: =23109243.7*2 -> 46218487 | H7: =ROUND(($I$6/$H$6)*F7,2) -> 47888257 | K7: =H7 -> 47888257 | L7: =ROUND(K7*19%,2) -> 9098768.8 | M7: =ROUND(K7+L7*D7,2) -> 56987026
A8: 2 | B8: MANTENIMIENTO PREVENTIVO Y SOPORTE TECNICO para Microscopio Electrónico de Barrido marca ZEISS modelo EVO 50 EP, acoplado a Microsonda de Energía Dispersiva de Rayos X marca OXFORD INSTRUMENTS, modelo X-Max 20 mm2, incluye Software INCA GSR Suite, versión 4.15. De acuerdo con el anexo técnico | C8: EQUIPO | D8: 1 | F8: =23109243.7*2 -> 46218487 | H8: =ROUND(($I$6/$H$6)*F8,2) -> 47888257 | K8: =H8 -> 47888257 | L8: =ROUND(K8*19%,2) -> 9098768.8 | M8: =ROUND(K8+L8*D8,2) -> 56987026
A9: 3 | B9: MANTENIMIENTO PREVENTIVO Y SOPORTE TECNICO para Microscopio Electrónico de Barrido marca ZEISS modelo EVO MA 15, acoplado a Microsonda de Energía Dispersiva de Rayos X marca OXFORD INSTRUMENTS, Modelo X Max 80 mm2, incluye Software INCA GSR Suite versión 5.04. De acuerdo con el anexo técnico | C9: EQUIPO | D9: 1 | F9: =23109243.7*2 -> 46218487 | H9: =ROUND(($I$6/$H$6)*F9,2) -> 47888257 | K9: =H9 -> 47888257 | L9: =ROUND(K9*19%,2) -> 9098768.8 | M9: =ROUND(K9+L9*D9,2) -> 56987026
A10: 4 | B10: Mantenimiento preventivo y soporte técnico para un Recubridor Marca Edwards Modelo S150B. De acuerdo con el anexo técnico | C10: EQUIPO | D10: 1 | F10: =5546218.49*2 -> 11092437 | H10: =ROUND(($I$6/$H$6)*F10,2) -> 11493182 | K10: =H10 -> 11493182 | L10: =ROUND(K10*19%,2) -> 2183704.5 | M10: =ROUND(K10+L10*D10,2) -> 13676886
A11: 5 | B11: Mantenimiento preventivo y soporte técnico para un Recubridor Marca Cressington Modelo 108 Carbón/A y sus accesorios. De acuerdo con el anexo técnico | C11: EQUIPO | D11: 1 | F11: =4705882.35*2 -> 9411764.7 | H11: =ROUND(($I$6/$H$6)*F11,2) -> 9751790.5 | K11: =H11 -> 9751790.5 | L11: =ROUND(K11*19%,2) -> 1852840.2 | M11: =ROUND(K11+L11*D11,2) -> 11604631
B14: Estudio del Sector 244 - 2026
B15: Fecha de elaboración: 05/03/2026

Sheet ANEXO 3
A1: ANEXO 3
C2: ANÁLISIS PARA ESTABLECER EL VALOR FINAL
C3: PRESTAR EL SERVICIO DE MANTENIMIENTO PREVENTIVO Y SOPORTE TÉCNICO PARA LOS EQUIPOS DE LA FISCALÍA GENERAL DE LA NACIÓN, NIVEL CENTRAL. GRUPO 1: MICROSCOPIO ELECTRÓNICO DE BARRIDO, MARCA ZEISS, MODELO EVO 50. GRUPO 2: MICROSCOPIO ELECTRÓNICO DE BARRIDO, MARCA ZEISS, MODELO MA15. GRUPO 3: MICROSCOPIO ELECTRÓNICO DE BARRIDO MARCA ZEISS MODELO SIGMA 500. GRUPO 4: RECUBRIDOR MARCA EDWARDS MODELO S150B, Y RECUBRIDOR MARCA CRESSINGTON MODELO 108 CARBÓN/A
A5: NECESIDAD | F5: ANÁLISIS DE COTIZACIONES | H5: ANÁLISIS DE COSTOS HISTÓRICOS | J5: VALOR SELECCIONADO
A6: ITEM | B6: DESCRIPCIÓN DEL BIEN | C6: UNIDAD DE MEDIDA | D6: CANTIDAD | F6: VALOR UNITARIO SIN IVA | H6: VALOR UNITARIO SIN IVA | J6: VALOR UNITARIO SIN IVA | K6: IVA UNITARIO | L6: VALOR UNITARIO INCLUIDO IVA | M6: VALOR TOTAL INCLUIDO IVA
A7: 1 | B7: MANTENIMIENTO PREVENTIVO Y SOPORTE TECNICOpara Microscopio Electrónico de Barrido marca ZEISSmodelo SIGMA 500, acoplado a Microsonda de EnergíaDispersiva de Rayos X marca OXFORD INSTRUMENTS,Modelo ULTIM MAX 100, incluye Software Aztec version6.0 SP2. De acuerdo con el anexo técnico | C7: EQUIPO | D7: 1 | F7: 55692000 | H7: 47888257 | J7: =ROUND(AVERAGE(F7,H7),2) -> 51790129 | K7: =ROUND(J7*19%,2) -> 9840124.4 | L7: =ROUND(J7+K7,2) -> 61630253 | M7: =ROUND(L7*D7,2) -> 61630253
A8: 2 | B8: MANTENIMIENTO PREVENTIVO Y SOPORTE TECNICO para Microscopio Electrónico de Barrido marca ZEISS modelo EVO 50 EP, acoplado a Microsonda de Energía Dispersiva de Rayos X marca OXFORD INSTRUMENTS, modelo X-Max 20 mm2, incluye Software INCA GSR Suite, versión 4.15. De acuerdo con el anexo técnico | C8: EQUIPO | D8: 1 | F8: 55270500 | H8: 47888257 | J8: =ROUND(AVERAGE(F8,H8),2) -> 51579379 | K8: =ROUND(J8*19%,2) -> 9800081.9 | L8: =ROUND(J8+K8,2) -> 61379460 | M8: =ROUND(L8*D8,2) -> 61379460
A9: 3 | B9: MANTENIMIENTO PREVENTIVO Y SOPORTE TECNICO para Microscopio Electrónico de Barrido marca ZEISS modelo EVO MA 15, acoplado a Microsonda de Energía Dispersiva de Rayos X marca OXFORD INSTRUMENTS, Modelo X Max 80 mm2, incluye Software INCA GSR Suite versión 5.04. De acuerdo con el anexo técnico | C9: EQUIPO | D9: 1 | F9: 55270500 | H9: 47888257 | J9: =ROUND(AVERAGE(F9,H9),2) -> 51579379 | K9: =ROUND(J9*19%,2) -> 9800081.9 | L9: =ROUND(J9+K9,2) -> 61379460 | M9: =ROUND(L9*D9,2) -> 61379460
A10: 4 | B10: Mantenimiento preventivo y soporte técnico para un Recubridor Marca Edwards Modelo S150B. De acuerdo con el anexo técnico | C10: EQUIPO | D10: 1 | F10: 13261500 | H10: 11493182 | J10: =ROUND(AVERAGE(F10,H10),2) -> 12377341 | K10: =ROUND(J10*19%,2) -> 2351694.8 | L10: =ROUND(J10+K10,2) -> 14729036 | M10: =ROUND(L10*D10,2) -> 14729036
A11: 5 | B11: Mantenimiento preventivo y soporte técnico para un Recubridor Marca Cressington Modelo 108 Carbón/A y sus accesorios. De acuerdo con el anexo técnico | C11: EQUIPO | D11: 1 | F11: 11605000 | H11: 9751790.5 | J11: =ROUND(AVERAGE(F11,H11),2) -> 10678395 | K11: =ROUND(J11*19%,2) -> 2028895.1 | L11: =ROUND(J11+K11,2) -> 12707290 | M11: =ROUND(L11*D11,2) -> 12707290
A13: TOTAL | M13: =ROUND(SUM(M7:M11),2) -> 2.118255e+08
B16: Estudio del Sector 244 - 2026
B17: Fecha de elaboración: 05/03/2026

Sheet ANEXO 4
A1: ANEXO 4
C2: ESTUDIO DE MERCADO DEFINITIVO
C3: PRESTAR EL SERVICIO DE MANTENIMIENTO PREVENTIVO Y SOPORTE TÉCNICO PARA LOS EQUIPOS DE LA FISCALÍA GENERAL DE LA NACIÓN, NIVEL CENTRAL. GRUPO 1: MICROSCOPIO ELECTRÓNICO DE BARRIDO, MARCA ZEISS, MODELO EVO 50. GRUPO 2: MICROSCOPIO ELECTRÓNICO DE BARRIDO, MARCA ZEISS, MODELO MA15. GRUPO 3: MICROSCOPIO ELECTRÓNICO DE BARRIDO MARCA ZEISS MODELO SIGMA 500. GRUPO 4: RECUBRIDOR MARCA EDWARDS MODELO S150B, Y RECUBRIDOR MARCA CRESSINGTON MODELO 108 CARBÓN/A
A5: NECESIDAD | F5: VALOR SELECCIONADO
A6: ITEM | B6: DESCRIPCIÓN DEL BIEN | C6: UNIDAD DE MEDIDA | D6: CANTIDAD | F6: VALOR UNITARIO SIN IVA | G6: IVA UNITARIO | H6: VALOR UNITARIO INCLUIDO IVA | I6: VALOR TOTAL INCLUIDO IVA
A7: GRUPO 1
A8: 1 | B8: MANTENIMIENTO PREVENTIVO Y SOPORTE TECNICOpara Microscopio Electrónico de Barrido marca ZEISSmodelo SIGMA 500, acoplado a Microsonda de EnergíaDispersiva de Rayos X marca OXFORD INSTRUMENTS,Modelo ULTIM MAX 100, incluye Software Aztec version6.0 SP2. De acuerdo con el anexo técnico | C8: EQUIPO | D8: 1 | F8: ='ANEXO 3'!J7 -> 51790129 | G8: =ROUND(F8*19%,2) -> 9840124.4 | H8: =ROUND(F8+G8,2) -> 61630253 | I8: =ROUND(H8*D8,2) -> 61630253
A9: GRUPO 2
A10: 2 | B10: MANTENIMIENTO PREVENTIVO Y SOPORTE TECNICO para Microscopio Electrónico de Barrido marca ZEISS modelo EVO 50 EP, acoplado a Microsonda de Energía Dispersiva de Rayos X marca OXFORD INSTRUMENTS, modelo X-Max 20 mm2, incluye Software INCA GSR Suite, versión 4.15. De acuerdo con el anexo técnico | C10: EQUIPO | D10: 1 | F10: ='ANEXO 3'!J8 -> 51579379 | G10: =ROUND(F10*19%,2) -> 9800081.9 | H10: =ROUND(F10+G10,2) -> 61379460 | I10: =ROUND(H10*D10,2) -> 61379460
A11: GRUPO 3
A12: 3 | B12: MANTENIMIENTO PREVENTIVO Y SOPORTE TECNICO para Microscopio Electrónico de Barrido marca ZEISS modelo EVO MA 15, acoplado a Microsonda de Energía Dispersiva de Rayos X marca OXFORD INSTRUMENTS, Modelo X Max 80 mm2, incluye Software INCA GSR Suite versión 5.04. De acuerdo con el anexo técnico | C12: EQUIPO | D12: 1 | F12: ='ANEXO 3'!J9 -> 51579379 | G12: =ROUND(F12*19%,2) -> 9800081.9 | H12: =ROUND(F12+G12,2) -> 61379460 | I12: =ROUND(H12*D12,2) -> 61379460
A13: GRUPO 4
A14: 4 | B14: Mantenimiento preventivo y soporte técnico para un Recubridor Marca Edwards Modelo S150B. De acuerdo con el anexo técnico | C14: EQUIPO | D14: 1 | F14: ='ANEXO 3'!J10 -> 12377341 | G14: =ROUND(F14*19%,2) -> 2351694.8 | H14: =ROUND(F14+G14,2) -> 14729036 | I14: =ROUND(H14*D14,2) -> 14729036
A15: 5 | B15: Mantenimiento preventivo y soporte técnico para un Recubridor Marca Cressington Modelo 108 Carbón/A y sus accesorios. De acuerdo con el anexo técnico | C15: EQUIPO | D15: 1 | F15: ='ANEXO 3'!J11 -> 10678395 | G15: =ROUND(F15*19%,2) -> 2028895.1 | H15: =ROUND(F15+G15,2) -> 12707290 | I15: =ROUND(H15*D15,2) -> 12707290
A17: TOTAL | I17: =SUM(I8:I16) -> 2.118255e+08
B20: Estudio del Sector 244 - 2026
B21: Fecha de elaboración: 05/03/2026
