Workbook
Name _Hlk92525671: 'CÓDIGOS UNSPSC'!$A$3

Sheet CÓDIGOS UNSPSC
A3: CLASIFICACIÓN UNSPSC | B3: DESCRIPCIÓN
A4: 49161500 | B4: Equipos para deportes de campo
A5: 49211800 | B5: Equipo de clase de educación física
A6: 49201600 | B6: Equipo de entrenamiento de pesas y resistencia
A7: 49221500 | B7: Accesorios para deporte
A8: 49161600 | B8: Equipos para deportes de raqueta y pista

Sheet Cotización 1
A2: COTIZACIÓN 1 ANGEL DE MURANO ZOMAC S.A.S
A3: ITEM | B3: DESCRIPCIÓN | C3: CANT | D3: V/UNI | E3: V/TOTAL
A4: 1 | B4: BALON DE BALONCESTO NRO 6 REF B6G4500 PROFESIONAL, PESO 72 A 74 CMS, PESO 500 A 540 GRS, DISEÑO DOCE PANLES, CUERO, LAMINADOR INDOOR, COLOR NARANJA CON AMARILLO, APROBADO FIBA | C4: 2 | D4: 490000 | E4: =D4*C4 -> 980000
A5: 2 | B5: BALON DE BALONCESTO NRO 3 REF K500R, COLOR AZUL Y ROJO CON REVESTIMIENTO DE CAUCHO ESPONJOSO, CON 16 PANELES Y CÁMARA TOTALMENTE REVISTADA DE POLIÉSTER | C5: 10 | D5: 235000 | E5: =D5*C5 -> 2350000
A6: 3 | B6: LAMINA DE ACRÍLICO DE 10mm PARA TABLERO REGLAMENTARIO CON DEMARCACIÓN INCLUIDA Y ARO HIDRÁULICO CON MALLA DE NYLON Y EMPAQUE | C6: 1 | D6: 1800000 | E6: =D6*C6 -> 1800000
A7: 4 | B7: MARCADOR MULTISPORT PORTATIL, INLAMBRICO CON CONSOLA Y BATERIA DE RESPALDO, PANTALLA MATRIZ LED Y PARLANTES INTERNOS DIMENSIONES: ALTO 51CM, ANCHO 64CM Y GROSOR 5CM ALIMENTADOR POR ADAPTADOR DE CORRIENTE, COMPATIBLE CON APLICACIÓN MOVIL PARA CONTROLAR EL MERCADOR | C7: 1 | D7: 5200000 | E7: =D7*C7 -> 5200000
A8: 5 | B8: CAJÓN PLIOMETRICO EN MADERA, DE MEDIDAS: ANCHO: 50CM ALTO: 60CM LARGO: 75CM | C8: 2 | D8: 645000 | E8: =D8*C8 -> 1290000
A11: 6 | B11: ADAPTACIÓN TRICEPS CON AGARRE EN ACERO DE ALTA RESISTENCIA CROMADO, MEDIDAS DE: ANCHO: 35CM ALTO: 18CM | C11: 2 | D11: 127000 | E11: =D11*C11 -> 254000
A14: 7 | B14: ARNES DE MANO SENCILLO EN ACERO DE ALTA RESISTENCIA, MEDIDAS DE: ANCHO: 14.8CM ALTO: 12CM | C14: 2 | D14: 126000 | E14: =D14*C14 -> 252000
A17: 8 | B17: ADAPTACIÓN LAZO TRICEPS EN NYLON DE ALTA RESISTENCIA, MEDIDAS DE: LARGO: 68CM GROSOR: 3CM | C17: 1 | D17: 126000 | E17: =D17*C17 -> 126000
A20: 9 | B20: MOSQUETÓN CON SEGURO DE GANCHO, EN ACERO, PARA CARGA DE 100KG, DE 51MM APROXIMADAMENTE | C20: 6 | D20: 28000 | E20: =D20*C20 -> 168000
A21: 10 | B21: SOPORTE PARA SENTADILLA BULGARA, ALTURA AJUSTABLE EN 8 POSICIONES, EN MATERIAL DE ACERO REFORZADO, COJÍN ACOLCHADO, PATAS CON PROTECTORES DE GOMA, MEDIDAS: ALTURA: 62CM ANCHO: 63CM PROFUNDIDAD: 54CM | C21: 1 | D21: 726800 | E21: =D21*C21 -> 726800
A25: 11 | B25: BARRA PARA POLEA, CON ESTRIBOS, SEMICURVA CON AGARRE DORSAL, 69CM DE LARGO, EN ACERO CROMADO Y ANTIDESLIZANTE, CON ENGANCHE GIRATORIO | C25: 1 | D25: 306000 | E25: =D25*C25 -> 306000
A26: 12 | B26: BALON DE VOLEIBOL NUMERO 4, REFERENCIA V4M4000, RECUBRIMIENTO PU, LAMINADO A COLOR VERDE, ROJO Y BLANCO | C26: 8 | D26: 230000 | E26: =D26*C26 -> 1840000
... A55: 41 | B55: PAR MALLA DE FÚTBOL PROFESIONAL TIPO CABAÑA, ESTADIO | C55: 1 | D55: 1750000 | E55: =D55*C55 -> 1750000
A56: TOTAL | E56: =SUM(E4:E55) -> 49207000

Sheet Cotización 2
A2: COTIZACIÓN 1 ANGEL DE MURANO ZOMAC S.A.S
A3: ITEM | B3: DESCRIPCIÓN | C3: CANT | D3: V/UNI | E3: V/TOTAL
A4: 1 | B4: BALON DE BALONCESTO NRO 6 REF B6G4500 PROFESIONAL, PESO 72 A 74 CMS, PESO 500 A 540 GRS, DISEÑO DOCE PANLES, CUERO, LAMINADOR INDOOR, COLOR NARANJA CON AMARILLO, APROBADO FIBA | C4: 2 | D4: 490000 | E4: =D4*C4 -> 980000
A5: 2 | B5: BALON DE BALONCESTO NRO 3 REF K500R, COLOR AZUL Y ROJO CON REVESTIMIENTO DE CAUCHO ESPONJOSO, CON 16 PANELES Y CÁMARA TOTALMENTE REVISTADA DE POLIÉSTER | C5: 10 | D5: 240000 | E5: =D5*C5 -> 2400000
A6: 3 | B6: LAMINA DE ACRÍLICO DE 10mm PARA TABLERO REGLAMENTARIO CON DEMARCACIÓN INCLUIDA Y ARO HIDRÁULICO CON MALLA DE NYLON Y EMPAQUE | C6: 1 | D6: 1700000 | E6: =D6*C6 -> 1700000
A7: 4 | B7: MARCADOR MULTISPORT PORTATIL, INLAMBRICO CON CONSOLA Y BATERIA DE RESPALDO, PANTALLA MATRIZ LED Y PARLANTES INTERNOS DIMENSIONES: ALTO 51CM, ANCHO 64CM Y GROSOR 5CM ALIMENTADOR POR ADAPTADOR DE CORRIENTE, COMPATIBLE CON APLICACIÓN MOVIL PARA CONTROLAR EL MERCADOR | C7: 1 | D7: 5000000 | E7: =D7*C7 -> 5000000
A8: 5 | B8: CAJÓN PLIOMETRICO EN MADERA, DE MEDIDAS: ANCHO: 50CM ALTO: 60CM LARGO: 75CM | C8: 2 | D8: 652000 | E8: =D8*C8 -> 1304000
A11: 6 | B11: ADAPTACIÓN TRICEPS CON AGARRE EN ACERO DE ALTA RESISTENCIA CROMADO, MEDIDAS DE: ANCHO: 35CM ALTO: 18CM | C11: 2 | D11: 125000 | E11: =D11*C11 -> 250000
A14: 7 | B14: ARNES DE MANO SENCILLO EN ACERO DE ALTA RESISTENCIA, MEDIDAS DE: ANCHO: 14.8CM ALTO: 12CM | C14: 2 | D14: 124000 | E14: =D14*C14 -> 248000
A17: 8 | B17: ADAPTACIÓN LAZO TRICEPS EN NYLON DE ALTA RESISTENCIA, MEDIDAS DE: LARGO: 68CM GROSOR: 3CM | C17: 1 | D17: 124500 | E17: =D17*C17 -> 124500
A20: 9 | B20: MOSQUETÓN CON SEGURO DE GANCHO, EN ACERO, PARA CARGA DE 100KG, DE 51MM APROXIMADAMENTE | C20: 6 | D20: 26000 | E20: =D20*C20 -> 156000
A21: 10 | B21: SOPORTE PARA SENTADILLA BULGARA, ALTURA AJUSTABLE EN 8 POSICIONES, EN MATERIAL DE ACERO REFORZADO, COJÍN ACOLCHADO, PATAS CON PROTECTORES DE GOMA, MEDIDAS: ALTURA: 62CM ANCHO: 63CM PROFUNDIDAD: 54CM | C21: 1 | D21: 726000 | E21: =D21*C21 -> 726000
A25: 11 | B25: BARRA PARA POLEA, CON ESTRIBOS, SEMICURVA CON AGARRE DORSAL, 69CM DE LARGO, EN ACERO CROMADO Y ANTIDESLIZANTE, CON ENGANCHE GIRATORIO | C25: 1 | D25: 304000 | E25: =D25*C25 -> 304000
A26: 12 | B26: BALON DE VOLEIBOL NUMERO 4, REFERENCIA V4M4000, RECUBRIMIENTO PU, LAMINADO A COLOR VERDE, ROJO Y BLANCO | C26: 8 | D26: 225000 | E26: =D26*C26 -> 1800000
... A55: 41 | B55: PAR MALLA DE FÚTBOL PROFESIONAL TIPO CABAÑA, ESTADIO | C55: 1 | D55: 1765000 | E55: =D55*C55 -> 1765000
A56: TOTAL | E56: =SUM(E4:E55) -> 48793000

Sheet Consolidado
A2: CONSOLIDADO
A3: ITEM | B3: DESCRIPCIÓN | C3: CANT | D3: V/UNI | E3: V/TOTAL
A4: 1 | B4: BALON DE BALONCESTO NRO 6 REF B6G4500 PROFESIONAL, PESO 72 A 74 CMS, PESO 500 A 540 GRS, DISEÑO DOCE PANLES, CUERO, LAMINADOR INDOOR, COLOR NARANJA CON AMARILLO, APROBADO FIBA | C4: 2 | D4: =AVERAGE('Cotización 1'!D4,'Cotización 2'!D4) -> 490000 | E4: =AVERAGE('Cotización 1'!E4,'Cotización 2'!E4) -> 980000
A5: 2 | B5: BALON DE BALONCESTO NRO 3 REF K500R, COLOR AZUL Y ROJO CON REVESTIMIENTO DE CAUCHO ESPONJOSO, CON 16 PANELES Y CÁMARA TOTALMENTE REVISTADA DE POLIÉSTER | C5: 10 | D5: =AVERAGE('Cotización 1'!D5,'Cotización 2'!D5) -> 237500 | E5: =AVERAGE('Cotización 1'!E5,'Cotización 2'!E5) -> 2375000
A6: 3 | B6: LAMINA DE ACRÍLICO DE 10mm PARA TABLERO REGLAMENTARIO CON DEMARCACIÓN INCLUIDA Y ARO HIDRÁULICO CON MALLA DE NYLON Y EMPAQUE | C6: 1 | D6: =AVERAGE('Cotización 1'!D6,'Cotización 2'!D6) -> 1750000 | E6: =AVERAGE('Cotización 1'!E6,'Cotización 2'!E6) -> 1750000
A7: 4 | B7: MARCADOR MULTISPORT PORTATIL, INLAMBRICO CON CONSOLA Y BATERIA DE RESPALDO, PANTALLA MATRIZ LED Y PARLANTES INTERNOS DIMENSIONES: ALTO 51CM, ANCHO 64CM Y GROSOR 5CM ALIMENTADOR POR ADAPTADOR DE CORRIENTE, COMPATIBLE CON APLICACIÓN MOVIL PARA CONTROLAR EL MERCADOR | C7: 1 | D7: =AVERAGE('Cotización 1'!D7,'Cotización 2'!D7) -> 5100000 | E7: =AVERAGE('Cotización 1'!E7,'Cotización 2'!E7) -> 5100000
A8: 5 | B8: CAJÓN PLIOMETRICO EN MADERA, DE MEDIDAS: ANCHO: 50CM ALTO: 60CM LARGO: 75CM | C8: 2 | D8: =AVERAGE('Cotización 1'!D8,'Cotización 2'!D8) -> 648500 | E8: =AVERAGE('Cotización 1'!E8,'Cotización 2'!E8) -> 1297000
A11: 6 | B11: ADAPTACIÓN TRICEPS CON AGARRE EN ACERO DE ALTA RESISTENCIA CROMADO, MEDIDAS DE: ANCHO: 35CM ALTO: 18CM | C11: 2 | D11: =AVERAGE('Cotización 1'!D11,'Cotización 2'!D11) -> 126000 | E11: =AVERAGE('Cotización 1'!E11,'Cotización 2'!E11) -> 252000
A14: 7 | B14: ARNES DE MANO SENCILLO EN ACERO DE ALTA RESISTENCIA, MEDIDAS DE: ANCHO: 14.8CM ALTO: 12CM | C14: 2 | D14: =AVERAGE('Cotización 1'!D14,'Cotización 2'!D14) -> 125000 | E14: =AVERAGE('Cotización 1'!E14,'Cotización 2'!E14) -> 250000
A17: 8 | B17: ADAPTACIÓN LAZO TRICEPS EN NYLON DE ALTA RESISTENCIA, MEDIDAS DE: LARGO: 68CM GROSOR: 3CM | C17: 1 | D17: =AVERAGE('Cotización 1'!D17,'Cotización 2'!D17) -> 125250 | E17: =AVERAGE('Cotización 1'!E17,'Cotización 2'!E17) -> 125250
A20: 9 | B20: MOSQUETÓN CON SEGURO DE GANCHO, EN ACERO, PARA CARGA DE 100KG, DE 51MM APROXIMADAMENTE | C20: 6 | D20: =AVERAGE('Cotización 1'!D20,'Cotización 2'!D20) -> 27000 | E20: =AVERAGE('Cotización 1'!D20,'Cotización 2'!E20) -> 92000
A21: 10 | B21: SOPORTE PARA SENTADILLA BULGARA, ALTURA AJUSTABLE EN 8 POSICIONES, EN MATERIAL DE ACERO REFORZADO, COJÍN ACOLCHADO, PATAS CON PROTECTORES DE GOMA, MEDIDAS: ALTURA: 62CM ANCHO: 63CM PROFUNDIDAD: 54CM | C21: 1 | D21: =AVERAGE('Cotización 1'!D21,'Cotización 2'!D21) -> 726400 | E21: =AVERAGE('Cotización 1'!D21,'Cotización 2'!E21) -> 726400
A25: 11 | B25: BARRA PARA POLEA, CON ESTRIBOS, SEMICURVA CON AGARRE DORSAL, 69CM DE LARGO, EN ACERO CROMADO Y ANTIDESLIZANTE, CON ENGANCHE GIRATORIO | C25: 1 | D25: =AVERAGE('Cotización 1'!D25,'Cotización 2'!D25) -> 305000 | E25: =AVERAGE('Cotización 1'!E25,'Cotización 2'!E25) -> 305000
A26: 12 | B26: BALON DE VOLEIBOL NUMERO 4, REFERENCIA V4M4000, RECUBRIMIENTO PU, LAMINADO A COLOR VERDE, ROJO Y BLANCO | C26: 8 | D26: =AVERAGE('Cotización 1'!D26,'Cotización 2'!D26) -> 227500 | E26: =AVERAGE('Cotización 1'!E26,'Cotización 2'!E26) -> 1820000
A27: 13 | B27: BALON DE VOLEIBOL NUMERO 5, REFERENCIA V330W, CUBIERTA CON PIEL SINTETICA Y LISA | C27: 4 | D27: =AVERAGE('Cotización 1'!D27,'Cotización 2'!D27) -> 258000 | E27: =AVERAGE('Cotización 1'!E27,'Cotización 2'!E27) -> 1032000
A28: 14 | B28: BALON DE FUTBOL NUMERO 3, CON CÁMARA EN CAUCHO DE BUTILO, CUBIERTA EN PVC, LAMINADO, CUERO PU, CIRCUNFERENCIA DE 58 A 60CM | C28: 10 | D28: =AVERAGE('Cotización 1'!D28,'Cotización 2'!D28) -> 102000 | E28: =AVERAGE('Cotización 1'!E28,'Cotización 2'!E28) -> 1020000
A29: 15 | B29: ESCALERA DE COORDINACIÓN AGILIDAD DE 5 METROS | C29: 6 | D29: =AVERAGE('Cotización 1'!D29,'Cotización 2'!D29) -> 92000 | E29: =AVERAGE('Cotización 1'!E29,'Cotización 2'!E29) -> 552000
A30: 16 | B30: MINI ARQUERIA PORTERIA CON MALLA, DE 60CM DE ANCHO POR 75CM DE ALTO, MATERIAL EN TUBERIA DE PVC Y DESARMABLES | C30: 4 | D30: =AVERAGE('Cotización 1'!D30,'Cotización 2'!D30) -> 117000 | E30: =AVERAGE('Cotización 1'!E30,'Cotización 2'!E30) -> 468000
A31: 17 | B31: VALLA DE SALTO PARA ENTRENAMIENTO DE PLIOMETRIA Y AGILIDAD DE 3 ALTURAS (15, 25 Y 30CM EN MATERIAL DE POLIPROPILENO | C31: 12 | D31: =AVERAGE('Cotización 1'!D31,'Cotización 2'!D31) -> 88000 | E31: =AVERAGE('Cotización 1'!E31,'Cotización 2'!E31) -> 1056000
A32: 18 | B32: CASCO DE BICICLETA PARA RUTA GRADUABLE, DE COLOR NEGRO, CERTIFICADO, DISEÑO MTB, MATERIAL EPS (poliestireno expandido) DE ALTO IMPACTO, CON PERFORACIONES DE VENTILACIÓN, TALLEJE VARIADO | C32: 8 | D32: =AVERAGE('Cotización 1'!D32,'Cotización 2'!D32) -> 100900 | E32: =AVERAGE('Cotización 1'!E32,'Cotización 2'!E32) -> 807200
A33: 19 | B33: CARAMAÑOLA CICLISMO, BOTELLA DE 500 APROXIMADAMENTE, BOQUILLA FLEXIBLE, MATERIAL DE PLASTICO NEUTRO EN POLIPROPILENO | C33: 15 | D33: =AVERAGE('Cotización 1'!D33,'Cotización 2'!D33) -> 51000 | E33: =AVERAGE('Cotización 1'!E33,'Cotización 2'!E33) -> 765000
A34: 20 | B34: TULA MALLA BALONERA PARA BALONES, CON FONDO IMPERMEABLE, GANCHO INOXIDABLE, PARA 12 BALONES APROXIMADAMENTE. | C34: 3 | D34: =AVERAGE('Cotización 1'!D34,'Cotización 2'!D34) -> 175000 | E34: =AVERAGE('Cotización 1'!E34,'Cotización 2'!E34) -> 525000
A35: 21 | B35: BALON DE MICROFUTBOL PROFESIONAL NUMERO 5 TAMAÑO 60-62, CUBIERTA MATERIAL SINTETICO TPU POLIURETANO TERMOPLASTICO, SUPERFICIE LISA LAMINADA | C35: 15 | D35: =AVERAGE('Cotización 1'!D35,'Cotización 2'!D35) -> 175000 | E35: =AVERAGE('Cotización 1'!E35,'Cotización 2'!E35) -> 2625000
A36: 22 | B36: BALON DE FUTBOL SALA PROFESIONAL NUMERO 5 TAMAÑO 62-64 CUBIERTA MATERIAL SINTETICO TPU POLIURETANO TERMOPLASTICO, SUPERFICIE LISA LAMINADA | C36: 15 | D36: =AVERAGE('Cotización 1'!D36,'Cotización 2'!D36) -> 145000 | E36: =AVERAGE('Cotización 1'!E36,'Cotización 2'!E36) -> 2175000
... A55: 41 | B55: PAR MALLA DE FÚTBOL PROFESIONAL TIPO CABAÑA, ESTADIO | C55: 1 | D55: =AVERAGE('Cotización 1'!D55,'Cotización 2'!D55) -> 1757500 | E55: =AVERAGE('Cotización 1'!E55,'Cotización 2'!E55) -> 1757500
A56: TOTAL | E56: =AVERAGE('Cotización 1'!E56,'Cotización 2'!E56) -> 49000000
