Workbook

Sheet FF
A1: CRONOGRAMA DE OBRA
A2: CONSTRUCCIÓN CENTRO DE CONVENCIONES VIRGILIO BARCO VARGAS, VILLA DEL ROSARIO, NORTE DE SANTANDER EN EJECUCIÓN DEL CONTRATO CI – SPDT – 04152 – 2024 CELEBRADO ENTRE EL DEPARTAMENTO DE NORTE DE SANTANDER Y LA UNIVERSIDAD DE PAMPLONA.
A4: Fecha de Inicio mes evaluado:
A5: Fecha de Terminacion mes evaluado: | CI5: 45986 | CJ5: 46531 | CK5: =CJ5-CI5 -> 545 | CL5: =CK5/7 -> 77.857143
A6: 1
G7: M-01 | H7: M-02 | M7: M-02 | Q7: M-03 | U7: M-04 | X7: M-05 | AB7: M-06 | AF7: M-07 | AK7: M-08 | AO7: M-09 | AS7: M-10 | AX7: M-11 | BB7: M-12 | BG7: M-13 | BK7: M-14 | BO7: M-15 | BS7: M-16 | BX7: M-17 | CB7: M-18 | CN7: PLAZO INICIAL
A9: Fecha de Inicio semana evaluada: | CN9: Fecha de inicio | CO9: Fecha fin | CP9: Dias totales
A10: Fecha de Terminacion semana evaluada: | CN10: 45986 | CO10: 46531 | CP10: =CO10-CN10+1 -> 546
A12: Ítem* | B12: Descripción* | C12: Und | D12: Cant | E12: Valor unitario | F12: Valor total | G12: SEM-1 | H12: SEM-2 | I12: SEM-3 | J12: SEM-4 | K12: SEM-5 | L12: SEM-6 | M12: SEM-7 | N12: SEM-8 | O12: SEM-9 | P12: SEM-10 | Q12: SEM-11 | R12: SEM-12 | S12: SEM-13 | T12: SEM-14 | U12: SEM-15 | V12: SEM-16 | W12: SEM-17 | X12: SEM-18 | Y12: SEM-19 | Z12: SEM-20 | AA12: SEM-21 | AB12: SEM-22 | AC12: SEM-23 | AD12: SEM-24 | AE12: SEM-25 | AF12: SEM-26 | AG12: SEM-27 | AH12: SEM-28 | AI12: SEM-29 | AJ12: SEM-30 | AK12: SEM-31 | AL12: SEM-32 | AM12: SEM-33 | AN12: SEM-34 | AO12: SEM-35 | AP12: SEM-36 | AQ12: SEM-37 | AR12: SEM-38 | AS12: SEM-39 | AT12: SEM-40 | AU12: SEM-41 | AV12: SEM-42 | AW12: SEM-43 | AX12: SEM-44 | AY12: SEM-45 | AZ12: SEM-46 | BA12: SEM-47 | BB12: SEM-48 | BC12: SEM-49 | BD12: SEM-50 | BE12: SEM-51 | BF12: SEM-52 | BG12: SEM-53 | BH12: SEM-54 | BI12: SEM-55 | BJ12: SEM-56 | BK12: SEM-57 | BL12: SEM-58 | BM12: SEM-59 | BN12: SEM-60 | BO12: SEM-61 | BP12: SEM-62 | BQ12: SEM-63 | BR12: SEM-64 | BS12: SEM-65 | BT12: SEM-66 | BU12: SEM-67 | BV12: SEM-68 | BW12: SEM-69 | BX12: SEM-70 | BY12: SEM-71 | BZ12: SEM-72 | CA12: SEM-73 | CB12: SEM-74 | CC12: SEM-75 | CD12: SEM-76 | CE12: SEM-77 | CF12: SEM-78 | CG12: SEM-79 | CH12: POR EJECUTAR | CI12: SUMA | CJ12: RECTIFICACION | CN12: PLAZO AJUSTADO
A13: 1 | B13: ACTIVIDADES PRELIMINARES | CH13: =IF(C13="","",F13-SUM(G13:CG13)) | CI13: =IF(C13="","",SUM(G13:CG13)) | CJ13: =IF(C13="","",F13=CI13) | CN13: Fecha de inicio | CO13: Fecha suspension | CP13: Dias transcurridos | CR13: Dias restantes
A14: 1.1 | B14: PRELIMINARES | F14: =SUM(F15:F29) -> 409697802 | G14: =G15+G18+G21+G24+G27 -> 0 | H14: =H15+H18+H21+H24+H27 -> 55508322 | I14: =I15+I18+I21+I24+I27 -> 55508322 | J14: =J15+J18+J21+J24+J27 -> 55508322 | K14: =K15+K18+K21+K24+K27 -> 55508322 | L14: =L15+L18+L21+L24+L27 -> 55508321 | M14: =M15+M18+M21+M24+M27 -> 0 | N14: =N15+N18+N21+N24+N27 -> 0 | ... CG14: =CG15+CG18+CG21+CG24+CG27 -> 313725 | CH14: =F14-SUM(G14:CG14) -> 0 | CI14: =IF(C14="","",SUM(G14:CG14)) | CJ14: =IF(C14="","",F14=CI14) | CN14: 45986 | CO14: 46080 | CP14: =CO14-CN14+1 -> 95 | CR14: =CP10-CP14 -> 451
A15: 1.1.1 | B15: CONSTRUCCION PATIO DE ALMACENAMIENTO DE MATERIALES. INCLUYE DEMONTAJE AL CIERRE DEL PROYECTO | C15: M2 | D15: 600 | E15: 136821 | F15: =ROUND(E15*D15,0) -> 82092600 | AF15: =ROUND($F$15/3,0) -> 27364200 | AG15: =ROUND($F$15/3,0) -> 27364200 | AH15: =ROUND($F$15/3,0) -> 27364200 | CH15: =IF(C15="","",F15-SUM(G15:CG15)) -> 0 | CI15: =IF(C15="","",SUM(G15:CG15)) -> 82092600 | CJ15: =IF(C15="","",F15=CI15) -> TRUE
U16: =ROUND(U15/$E15,2) -> 0 | V16: =ROUND(V15/$E15,2) -> 0 | W16: =ROUND(W15/$E15,2) -> 0 | X16: =ROUND(X15/$E15,2) -> 0 | Y16: =ROUND(Y15/$E15,2) -> 0 | Z16: =ROUND(Z15/$E15,2) -> 0 | AA16: =ROUND(AA15/$E15,2) -> 0 | AB16: =ROUND(AB15/$E15,2) -> 0 | ... CD16: =ROUND(CD15/$E15,2) -> 0 | CF16: =ROUND(CF15/$E15,2) -> 0 | CG16: =ROUND(CG15/$E15,2) -> 0 | CH16: =IF(C15="","",D15-SUM(G16:CG16)) -> 0 | CI16: =IF(C15="","",SUM(G16:CG16)) -> 600 | CJ16: =IF(C15="","",D15=CI16) -> TRUE | CN16: Fecha reinicio | CO16: Fecha fin
U17: =U15/$F15 -> 0 | V17: =V15/$F15 -> 0 | W17: =W15/$F15 -> 0 | X17: =X15/$F15 -> 0 | Y17: =Y15/$F15 -> 0 | Z17: =Z15/$F15 -> 0 | AA17: =AA15/$F15 -> 0 | AB17: =AB15/$F15 -> 0 | ... CD17: =CD15/$F15 -> 0 | CF17: =CF15/$F15 -> 0 | CG17: =CG15/$F15 -> 0 | CH17: =IF(C15="","",100%-SUM(G17:CG17)) -> 0 | CI17: =IF(C15="","",SUM(G17:CG17)) -> 1 | CJ17: =IF(C15="","",SUM(G17:CG17)=CI17) -> TRUE | CN17: 46125 | CO17: =CN17+CR14 -> 46576
A18: 1.1.2 | B18: LOCALIZACIÓN Y REPLANTEO | C18: M2 | D18: 74076 | E18: 4022 | F18: =ROUND(E18*D18,0) -> 297933672 | H18: =ROUND(277541609/5,0) -> 55508322 | I18: =ROUND(277541609/5,0) -> 55508322 | J18: =ROUND(277541609/5,0) -> 55508322 | K18: =ROUND(277541609/5,0) -> 55508322 | L18: =ROUNDDOWN(277541609/5,0) -> 55508321 | U18: =ROUND(($F18-SUM($H$18:$L$18))/65,0) -> 313724 | V18: =ROUND(($F18-SUM($H$18:$L$18))/65,0) -> 313724 | W18: =ROUND(($F18-SUM($H$18:$L$18))/65,0) -> 313724 | X18: =ROUND(($F18-SUM($H$18:$L$18))/65,0) -> 313724 | Y18: =ROUND(($F18-SUM($H$18:$L$18))/65,0) -> 313724 | Z18: =ROUND(($F18-SUM($H$18:$L$18))/65,0) -> 313724 | AA18: =ROUND(($F18-SUM($H$18:$L$18))/65,0) -> 313724 | AB18: =ROUND(($F18-SUM($H$18:$L$18))/65,0) -> 313724 | ... CD18: =ROUND(($F18-SUM($H$18:$L$18))/65,0) -> 313724 | CE18: =ROUNDUP(($F18-SUM($H$18:$L$18))/65,0) -> 313725 | CF18: =ROUNDUP(($F18-SUM($H$18:$L$18))/65,0) -> 313725 | CG18: =ROUNDUP(($F18-SUM($H$18:$L$18))/65,0) -> 313725 | CH18: =IF(C18="","",F18-SUM(G18:CG18)) -> 0 | CI18: =IF(C18="","",SUM(G18:CG18)) -> 297933672 | CJ18: =IF(C18="","",F18=CI18) -> TRUE
H19: =ROUND(H18/$E18,2) -> 13801.17 | I19: =ROUND(I18/$E18,2) -> 13801.17 | J19: =ROUND(J18/$E18,2) -> 13801.17 | K19: =ROUNDUP(K18/$E18,2) -> 13801.18 | L19: =ROUNDUP(L18/$E18,2) -> 13801.18 | U19: =ROUND(U18/$E18,2) -> 78 | V19: =ROUND(V18/$E18,2) -> 78 | W19: =ROUND(W18/$E18,2) -> 78 | X19: =ROUND(X18/$E18,2) -> 78 | Y19: =ROUND(Y18/$E18,2) -> 78 | Z19: =ROUND(Z18/$E18,2) -> 78 | AA19: =ROUND(AA18/$E18,2) -> 78 | AB19: =ROUND(AB18/$E18,2) -> 78 | ... BT19: =ROUND(BT18/$E18,2) -> 78 | BU19: =ROUNDUP(BU18/$E18,2) -> 78.01 | BV19: =ROUNDUP(BV18/$E18,2) -> 78.01 | BW19: =ROUNDUP(BW18/$E18,2) -> 78.01 | BX19: =ROUNDUP(BX18/$E18,2) -> 78.01 | BY19: =ROUNDUP(BY18/$E18,2) -> 78.01 | BZ19: =ROUNDUP(BZ18/$E18,2) -> 78.01 | CA19: =ROUNDUP(CA18/$E18,2) -> 78.01 | CB19: =ROUNDUP(CB18/$E18,2) -> 78.01 | ... CG19: =ROUNDUP(CG18/$E18,2) -> 78.01 | CH19: =IF(C18="","",D18-SUM(G19:CG19)) -> 7.2759576e-11 | CI19: =IF(C18="","",SUM(G19:CG19)) -> 74076 | CJ19: =IF(C18="","",D18=CI19) -> FALSE | CK19: ERROR DE EXCEL
G20: =G18/$F18 -> 0 | H20: =H18/$F18 -> 0.18631101 | I20: =I18/$F18 -> 0.18631101 | J20: =J18/$F18 -> 0.18631101 | K20: =K18/$F18 -> 0.18631101 | L20: =L18/$F18 -> 0.186311 | U20: =U18/$F18 -> 0.0010529995 | V20: =V18/$F18 -> 0.0010529995 | W20: =W18/$F18 -> 0.0010529995 | X20: =X18/$F18 -> 0.0010529995 | Y20: =Y18/$F18 -> 0.0010529995 | Z20: =Z18/$F18 -> 0.0010529995 | AA20: =AA18/$F18 -> 0.0010529995 | AB20: =AB18/$F18 -> 0.0010529995 | ... CG20: =CG18/$F18 -> 0.0010530028 | CH20: =IF(C18="","",100%-SUM(G20:CG20)) -> 2.553513e-15 | CI20: =IF(C18="","",SUM(G20:CG20)) -> 1 | CJ20: =IF(C18="","",SUM(G20:CG20)=CI20) -> TRUE
A21: 1.1.3 | B21: SUMINISTRO E INSTALACIÓN DE CERRAMIENTO EN POLISOMBRA BLANCA H=2.10 M. INCLUYE ELEMENTOS DE SOPORTE VERTICAL, INCLUYE DESMONTE | C21: ML | D21: 756.22 | E21: 19881 | F21: =ROUND(E21*D21,0) -> 15034410 | AF21: =ROUND($F$21/2,0) -> 7517205 | AG21: =ROUND($F$21/2,0) -> 7517205 | CH21: =IF(C21="","",F21-SUM(G21:CG21)) -> 0 | CI21: =IF(C21="","",SUM(G21:CG21)) -> 15034410 | CJ21: =IF(C21="","",F21=CI21) -> TRUE
U22: =ROUND(U21/$E21,2) -> 0 | V22: =ROUND(V21/$E21,2) -> 0 | W22: =ROUND(W21/$E21,2) -> 0 | X22: =ROUND(X21/$E21,2) -> 0 | Y22: =ROUND(Y21/$E21,2) -> 0 | Z22: =ROUND(Z21/$E21,2) -> 0 | AA22: =ROUND(AA21/$E21,2) -> 0 | AB22: =ROUND(AB21/$E21,2) -> 0 | ... CD22: =ROUND(CD21/$E21,2) -> 0 | CF22: =ROUND(CF21/$E21,2) -> 0 | CG22: =ROUND(CG21/$E21,2) -> 0 | CH22: =IF(C21="","",D21-SUM(G22:CG22)) -> 0 | CI22: =IF(C21="","",SUM(G22:CG22)) -> 756.22 | CJ22: =IF(C21="","",D21=CI22) -> TRUE
U23: =U21/$F21 -> 0 | V23: =V21/$F21 -> 0 | W23: =W21/$F21 -> 0 | X23: =X21/$F21 -> 0 | Y23: =Y21/$F21 -> 0 | Z23: =Z21/$F21 -> 0 | AA23: =AA21/$F21 -> 0 | AB23: =AB21/$F21 -> 0 | ... AH23: =AH21/$F21 -> 0 | AJ23: =AJ21/$F21 -> 0 | AK23: =AK21/$F21 -> 0 | AL23: =AL21/$F21 -> 0 | AM23: =AM21/$F21 -> 0 | AN23: =AN21/$F21 -> 0 | AO23: =AO21/$F21 -> 0 | AP23: =AP21/$F21 -> 0 | AQ23: =AQ21/$F21 -> 0 | ... CD23: =CD21/$F21 -> 0 | CF23: =CF21/$F21 -> 0 | CG23: =CG21/$F21 -> 0 | CH23: =IF(C21="","",100%-SUM(G23:CG23)) -> 0 | CI23: =IF(C21="","",SUM(G23:CG23)) -> 1 | CJ23: =IF(C21="","",SUM(G23:CG23)=CI23) -> TRUE
A24: 1.1.4 | B24: VIA POR AFIRMADO DE RECEBO | C24: M2 | D24: 360 | E24: 31989 | F24: =ROUND(E24*D24,0) -> 11516040 | AF24: =ROUND($F$24/3,0) -> 3838680 | AG24: =ROUND($F$24/3,0) -> 3838680 | AH24: =ROUND($F$24/3,0) -> 3838680 | CH24: =IF(C24="","",F24-SUM(G24:CG24)) -> 0 | CI24: =IF(C24="","",SUM(G24:CG24)) -> 11516040 | CJ24: =IF(C24="","",F24=CI24) -> TRUE
U25: =ROUND(U24/$E24,2) -> 0 | V25: =ROUND(V24/$E24,2) -> 0 | W25: =ROUND(W24/$E24,2) -> 0 | X25: =ROUND(X24/$E24,2) -> 0 | Y25: =ROUND(Y24/$E24,2) -> 0 | Z25: =ROUND(Z24/$E24,2) -> 0 | AA25: =ROUND(AA24/$E24,2) -> 0 | AB25: =ROUND(AB24/$E24,2) -> 0 | ... CG25: =ROUND(CG24/$E24,2) -> 0 | CH25: =IF(C24="","",D24-SUM(G25:CG25)) -> 0 | CI25: =IF(C24="","",SUM(G25:CG25)) -> 360 | CJ25: =IF(C24="","",D24=CI25) -> TRUE
U26: =U24/$F24 -> 0 | V26: =V24/$F24 -> 0 | W26: =W24/$F24 -> 0 | X26: =X24/$F24 -> 0 | Y26: =Y24/$F24 -> 0 | Z26: =Z24/$F24 -> 0 | AA26: =AA24/$F24 -> 0 | AB26: =AB24/$F24 -> 0 | ... CG26: =CG24/$F24 -> 0 | CH26: =IF(C24="","",100%-SUM(G26:CG26)) -> 0 | CI26: =IF(C24="","",SUM(G26:CG26)) -> 1 | CJ26: =IF(C24="","",SUM(G26:CG26)=CI26) -> TRUE
A27: 1.1.5 | B27: ADECUACION DE PASO PEATONAL | C27: M2 | D27: 120 | E27: 26009 | F27: =ROUND(E27*D27,0) -> 3121080 | AF27: =ROUND($F$27/2,0) -> 1560540 | AG27: =ROUND($F$27/2,0) -> 1560540 | CH27: =IF(C27="","",F27-SUM(G27:CG27)) -> 0 | CI27: =IF(C27="","",SUM(G27:CG27)) -> 3121080 | CJ27: =IF(C27="","",F27=CI27) -> TRUE
U28: =ROUND(U27/$E27,2) -> 0 | V28: =ROUND(V27/$E27,2) -> 0 | W28: =ROUND(W27/$E27,2) -> 0 | X28: =ROUND(X27/$E27,2) -> 0 | Y28: =ROUND(Y27/$E27,2) -> 0 | Z28: =ROUND(Z27/$E27,2) -> 0 | AA28: =ROUND(AA27/$E27,2) -> 0 | AB28: =ROUND(AB27/$E27,2) -> 0 | ... CD28: =ROUND(CD27/$E27,2) -> 0 | CF28: =ROUND(CF27/$E27,2) -> 0 | CG28: =ROUND(CG27/$E27,2) -> 0 | CH28: =IF(C27="","",D27-SUM(G28:CG28)) -> 0 | CI28: =IF(C27="","",SUM(G28:CG28)) -> 120 | CJ28: =IF(C27="","",D27=CI28) -> TRUE
U29: =U27/$F27 -> 0 | V29: =V27/$F27 -> 0 | W29: =W27/$F27 -> 0 | X29: =X27/$F27 -> 0 | Y29: =Y27/$F27 -> 0 | Z29: =Z27/$F27 -> 0 | AA29: =AA27/$F27 -> 0 | AB29: =AB27/$F27 -> 0 | ... CD29: =CD27/$F27 -> 0 | CF29: =CF27/$F27 -> 0 | CG29: =CG27/$F27 -> 0 | CH29: =IF(C27="","",100%-SUM(G29:CG29)) -> 0 | CI29: =IF(C27="","",SUM(G29:CG29)) -> 1 | CJ29: =IF(C27="","",SUM(G29:CG29)=CI29) -> TRUE
A30: 1.2 | B30: EXCAVACIONES Y RELLENOS | F30: =SUM(F31:F63) -> 2156954915 | G30: =G31+G34+G37+G40+G43+G46+G49+G52+G55+G58+G61 -> 0 | H30: =H31+H34+H37+H40+H43+H46+H49+H52+H55+H58+H61 -> 0 | I30: =I31+I34+I37+I40+I43+I46+I49+I52+I55+I58+I61 -> 0 | J30: =J31+J34+J37+J40+J43+J46+J49+J52+J55+J58+J61 -> 0 | K30: =K31+K34+K37+K40+K43+K46+K49+K52+K55+K58+K61 -> 0 | L30: =L31+L34+L37+L40+L43+L46+L49+L52+L55+L58+L61 -> 0 | M30: =M31+M34+M37+M40+M43+M46+M49+M52+M55+M58+M61 -> 0 | N30: =N31+N34+N37+N40+N43+N46+N49+N52+N55+N58+N61 -> 0 | ... CG30: =CG31+CG34+CG37+CG40+CG43+CG46+CG49+CG52+CG55+CG58+CG61 -> 0 | CH30: =F30-SUM(G30:CG30) -> 0 | CI30: =IF(C30="","",SUM(G30:CG30)) | CJ30: =IF(C30="","",F30=CI30)
A31: 1.2.1 | B31: DESCAPOTE MECANICO. INCLUYE TRASIEGO INTERNO. NO INCLUYE CARGUE Y RETIRO A ZONA FINAL DE DISPOSICIÓN PROFUNDIDAD MAXIMA 30 CM | C31: M2 | D31: 41456.73 | E31: 1329 | F31: =ROUND(E31*D31,0) -> 55095994 | AF31: =ROUND($F$31/3,0) -> 18365331 | AG31: =ROUND($F$31/3,0) -> 18365331 | AH31: =ROUNDUP($F$31/3,0) -> 18365332 | CH31: =IF(C31="","",F31-SUM(G31:CG31)) -> 0 | CI31: =IF(C31="","",SUM(G31:CG31)) -> 55095994 | CJ31: =IF(C31="","",F31=CI31) -> TRUE
AF32: =ROUND(AF31/$E31,2) -> 13818.91 | AG32: =ROUND(AG31/$E31,2) -> 13818.91 | AH32: =ROUND(AH31/$E31,2) -> 13818.91 | AI32: =ROUNDUP(AI31/$E31,2) -> 0 | AJ32: =ROUND(AJ31/$E31,2) -> 0 | AK32: =ROUND(AK31/$E31,2) -> 0 | AL32: =ROUND(AL31/$E31,2) -> 0 | AM32: =ROUND(AM31/$E31,2) -> 0 | AN32: =ROUND(AN31/$E31,2) -> 0 | AO32: =ROUND(AO31/$E31,2) -> 0 | AP32: =ROUND(AP31/$E31,2) -> 0 | AQ32: =ROUND(AQ31/$E31,2) -> 0 | ... CD32: =ROUND(CD31/$E31,2) -> 0 | CF32: =ROUND(CF31/$E31,2) -> 0 | CG32: =ROUND(CG31/$E31,2) -> 0 | CH32: =IF(C31="","",D31-SUM(G32:CG32)) -> 7.2759576e-12 | CI32: =IF(C31="","",SUM(G32:CG32)) -> 41456.73 | CJ32: =IF(C31="","",D31=CI32) -> TRUE
AF33: =AF31/$F31 -> 0.33333333 | AG33: =AG31/$F31 -> 0.33333333 | AH33: =AH31/$F31 -> 0.33333335 | AI33: =AI31/$F31 -> 0 | AJ33: =AJ31/$F31 -> 0 | AK33: =AK31/$F31 -> 0 | AL33: =AL31/$F31 -> 0 | AM33: =AM31/$F31 -> 0 | ... CD33: =CD31/$F31 -> 0 | CF33: =CF31/$F31 -> 0 | CG33: =CG31/$F31 -> 0 | CH33: =IF(C31="","",100%-SUM(G33:CG33)) -> 0 | CI33: =IF(C31="","",SUM(G33:CG33)) -> 1 | CJ33: =IF(C31="","",SUM(G33:CG33)=CI33) -> TRUE
A34: 1.2.2 | B34: EXCAVACIÓN MANUAL H MAX = 2,00 M EN MATERIAL COMÚN. INCLUYE TRASIEGO INTERNO. NO INCLUYE CARGUE Y RETIRO A ZONA FINAL DE DISPOSICIÓN | C34: M3 | D34: 6844.8 | E34: 25537 | F34: =ROUND(E34*D34,0) -> 174795658 | AI34: =ROUND($F$34/(3+3+14),0) -> 8739783 | AJ34: =ROUND($F$34/(3+3+14),0) -> 8739783 | AK34: =ROUND($F$34/(3+3+14),0) -> 8739783 | AX34: =ROUND($F$34/(3+3+14),0) -> 8739783 | AY34: =ROUND($F$34/(3+3+14),0) -> 8739783 | AZ34: =ROUND($F$34/(3+3+14),0) -> 8739783 | BD34: =ROUND($F$34/(3+3+14),0) -> 8739783 | BE34: =ROUND($F$34/(3+3+14),0) -> 8739783 | BF34: =ROUND($F$34/(3+3+14),0) -> 8739783 | BG34: =ROUND($F$34/(3+3+14),0) -> 8739783 | BH34: =ROUND($F$34/(3+3+14),0) -> 8739783 | BI34: =ROUND($F$34/(3+3+14),0) -> 8739783 | BJ34: =ROUND($F$34/(3+3+14),0) -> 8739783 | BK34: =ROUND($F$34/(3+3+14),0) -> 8739783 | ... BO34: =ROUND($F$34/(3+3+14),0) -> 8739783 | BP34: =ROUNDDOWN($F$34/(3+3+14),0) -> 8739782 | BQ34: =ROUNDDOWN($F$34/(3+3+14),0) -> 8739782 | CH34: =IF(C34="","",F34-SUM(G34:CG34)) -> 0 | CI34: =IF(C34="","",SUM(G34:CG34)) -> 174795658 | CJ34: =IF(C34="","",F34=CI34) -> TRUE
AF35: =ROUNDDOWN(AF34/$E34,2) -> 0 | AG35: =ROUND(AG34/$E34,2) -> 0 | AH35: =ROUND(AH34/$E34,2) -> 0 | AI35: =ROUND(AI34/$E34,2) -> 342.24 | AJ35: =ROUND(AJ34/$E34,2) -> 342.24 | AK35: =ROUND(AK34/$E34,2) -> 342.24 | AL35: =ROUND(AL34/$E34,2) -> 0 | AM35: =ROUND(AM34/$E34,2) -> 0 | AN35: =ROUND(AN34/$E34,2) -> 0 | ... CD35: =ROUND(CD34/$E34,2) -> 0 | CF35: =ROUND(CF34/$E34,2) -> 0 | CG35: =ROUND(CG34/$E34,2) -> 0 | CH35: =IF(C34="","",D34-SUM(G35:CG35)) -> 2.7284841e-12 | CI35: =IF(C34="","",SUM(G35:CG35)) -> 6844.8 | CJ35: =IF(C34="","",D34=CI35) -> TRUE
AF36: =AF34/$F34 -> 0 | AG36: =AG34/$F34 -> 0 | AH36: =AH34/$F34 -> 0 | AI36: =AI34/$F34 -> 0.050000001 | AJ36: =AJ34/$F34 -> 0.050000001 | AK36: =AK34/$F34 -> 0.050000001 | AL36: =AL34/$F34 -> 0 | AM36: =AM34/$F34 -> 0 | ... CD36: =CD34/$F34 -> 0 | CF36: =CF34/$F34 -> 0 | CG36: =CG34/$F34 -> 0 | CH36: =IF(C34="","",100%-SUM(G36:CG36)) -> -4.4408921e-16 | CI36: =IF(C34="","",SUM(G36:CG36)) -> 1 | CJ36: =IF(C34="","",SUM(G36:CG36)=CI36) -> TRUE
A37: 1.2.3 | B37: EXCAVACIÓN MECÁNICA EN MATERIAL COMÚN. INCLUYE TRASIEGO INTERNO. NO INCLUYE CARGUE Y RETIRO A ZONA FINAL DE DISPOSICIÓN | C37: M3 | D37: 17458.34 | E37: 9345 | F37: =ROUND(E37*D37,0) -> 163148187 | AG37: =ROUND($F$37/7,0) -> 23306884 | AH37: =ROUND($F$37/7,0) -> 23306884 | AI37: =ROUND($F$37/7,0) -> 23306884 | AW37: =ROUND($F$37/7,0) -> 23306884 | AX37: =ROUND($F$37/7,0) -> 23306884 | BD37: =ROUND($F$37/7,0) -> 23306884 | BE37: =ROUNDDOWN($F$37/7,0) -> 23306883 | CH37: =IF(C37="","",F37-SUM(G37:CG37)) -> 0 | CI37: =IF(C37="","",SUM(G37:CG37)) -> 163148187 | CJ37: =IF(C37="","",F37=CI37) -> TRUE
AF38: =ROUNDDOWN(AF37/$E37,2) -> 0 | AG38: =ROUND(AG37/$E37,2) -> 2494.05 | AH38: =ROUND(AH37/$E37,2) -> 2494.05 | AI38: =ROUND(AI37/$E37,2) -> 2494.05 | AJ38: =ROUND(AJ37/$E37,2) -> 0 | AK38: =ROUND(AK37/$E37,2) -> 0 | AL38: =ROUND(AL37/$E37,2) -> 0 | AM38: =ROUND(AM37/$E37,2) -> 0 | AN38: =ROUND(AN37/$E37,2) -> 0 | ... BC38: =ROUND(BC37/$E37,2) -> 0 | BD38: =ROUNDDOWN(BD37/$E37,2) -> 2494.04 | BE38: =ROUND(BE37/$E37,2) -> 2494.05 | BF38: =ROUND(BF37/$E37,2) -> 0 | BG38: =ROUND(BG37/$E37,2) -> 0 | BH38: =ROUND(BH37/$E37,2) -> 0 | BI38: =ROUND(BI37/$E37,2) -> 0 | BJ38: =ROUND(BJ37/$E37,2) -> 0 | BK38: =ROUND(BK37/$E37,2) -> 0 | BL38: =ROUND(BL37/$E37,2) -> 0 | ... CD38: =ROUND(CD37/$E37,2) -> 0 | CF38: =ROUND(CF37/$E37,2) -> 0 | CG38: =ROUND(CG37/$E37,2) -> 0 | CH38: =IF(C37="","",D37-SUM(G38:CG38)) -> 0 | CI38: =IF(C37="","",SUM(G38:CG38)) -> 17458.34 | CJ38: =IF(C37="","",D37=CI38) -> TRUE
AF39: =AF37/$F37 -> 0 | AG39: =AG37/$F37 -> 0.14285714 | AH39: =AH37/$F37 -> 0.14285714 | AI39: =AI37/$F37 -> 0.14285714 | AJ39: =AJ37/$F37 -> 0 | AK39: =AK37/$F37 -> 0 | AL39: =AL37/$F37 -> 0 | AM39: =AM37/$F37 -> 0 | ... CD39: =CD37/$F37 -> 0 | CF39: =CF37/$F37 -> 0 | CG39: =CG37/$F37 -> 0 | CH39: =IF(C37="","",100%-SUM(G39:CG39)) -> 0 | CI39: =IF(C37="","",SUM(G39:CG39)) -> 1 | CJ39: =IF(C37="","",SUM(G39:CG39)=CI39) -> TRUE
A40: 1.2.4 | B40: SUMINISTRO E INSTALACIÓN RELLENO CON RECEBO COMÚN. INCLUYE COMPACTACIÓN | C40: M3 | D40: 15.85 | E40: 153062 | F40: =ROUND(E40*D40,0) -> 2426033 | BF40: =ROUND($F$40/4,0) -> 606508 | BG40: =ROUND($F$40/4,0) -> 606508 | BH40: =ROUNDDOWN($F$40/4,0) -> 606508 | BI40: =ROUNDUP($F$40/4,0) -> 606509 | CH40: =IF(C40="","",F40-SUM(G40:CG40)) -> 0 | CI40: =IF(C40="","",SUM(G40:CG40)) -> 2426033 | CJ40: =IF(C40="","",F40=CI40) -> TRUE
AF41: =ROUND(AF40/$E40,2) -> 0 | AG41: =ROUND(AG40/$E40,2) -> 0 | AH41: =ROUND(AH40/$E40,2) -> 0 | AI41: =ROUND(AI40/$E40,2) -> 0 | AJ41: =ROUND(AJ40/$E40,2) -> 0 | AK41: =ROUND(AK40/$E40,2) -> 0 | AL41: =ROUND(AL40/$E40,2) -> 0 | AM41: =ROUND(AM40/$E40,2) -> 0 | ... BH41: =ROUND(BH40/$E40,2) -> 3.96 | BI41: =ROUNDUP(BI40/$E40,2) -> 3.97 | BJ41: =ROUND(BJ40/$E40,2) -> 0 | BK41: =ROUND(BK40/$E40,2) -> 0 | BL41: =ROUND(BL40/$E40,2) -> 0 | BM41: =ROUND(BM40/$E40,2) -> 0 | BN41: =ROUND(BN40/$E40,2) -> 0 | BO41: =ROUND(BO40/$E40,2) -> 0 | BP41: =ROUND(BP40/$E40,2) -> 0 | BQ41: =ROUND(BQ40/$E40,2) -> 0 | ... CG41: =ROUND(CG40/$E40,2) -> 0 | CH41: =IF(C40="","",D40-SUM(G41:CG41)) -> 1.7763568e-15 | CI41: =IF(C40="","",SUM(G41:CG41)) -> 15.85 | CJ41: =IF(C40="","",D40=CI41) -> TRUE
AF42: =AF40/$F40 -> 0 | AG42: =AG40/$F40 -> 0 | AH42: =AH40/$F40 -> 0 | AI42: =AI40/$F40 -> 0 | AJ42: =AJ40/$F40 -> 0 | AK42: =AK40/$F40 -> 0 | AL42: =AL40/$F40 -> 0 | AM42: =AM40/$F40 -> 0 | ... CG42: =CG40/$F40 -> 0 | CH42: =IF(C40="","",100%-SUM(G42:CG42)) -> 0 | CI42: =IF(C40="","",SUM(G42:CG42)) -> 1 | CJ42: =IF(C40="","",SUM(G42:CG42)=CI42) -> TRUE
A43: 1.2.5 | B43: SUMINISTRO E INSTALACIÓN DE RELLENO CON MATERIAL PROVENIENTE DE LA EXCAVACIÓN | C43: M3 | D43: 3784.93 | E43: 30869 | F43: =ROUND(E43*D43,0) -> 116837004 | AX43: =ROUND($F$43/(16),0) -> 7302313 | AY43: =ROUND($F$43/(16),0) -> 7302313 | BF43: =ROUND($F$43/(16),0) -> 7302313 | BG43: =ROUND($F$43/(16),0) -> 7302313 | BH43: =ROUND($F$43/(16),0) -> 7302313 | BI43: =ROUND($F$43/(16),0) -> 7302313 | BJ43: =ROUND($F$43/(16),0) -> 7302313 | BK43: =ROUND($F$43/(16),0) -> 7302313 | BL43: =ROUND($F$43/(16),0) -> 7302313 | BM43: =ROUND($F$43/(16),0) -> 7302313 | ... BO43: =ROUND($F$43/(16),0) -> 7302313 | BP43: =ROUNDDOWN($F$43/(16),0) -> 7302312 | BQ43: =ROUNDDOWN($F$43/(16),0) -> 7302312 | BR43: =ROUNDDOWN($F$43/(16),0) -> 7302312 | BS43: =ROUNDDOWN($F$43/(16),0) -> 7302312 | CH43: =IF(C43="","",F43-SUM(G43:CG43)) -> 0 | CI43: =IF(C43="","",SUM(G43:CG43)) -> 116837004 | CJ43: =IF(C43="","",F43=CI43) -> TRUE
...

Sheet Hoja1
B2: a | C2: a | D2: a | E2: a | F2: a | G2: a | H2: A | I2: A
B3: 1.1.1 | C3: =IF(B3="","",VLOOKUP(B3,FF!$A$1:$D$2516,3,FALSE)) -> M2 | D3: =IF(C3="","",VLOOKUP(B3,FF!$A$1:$D$2516,4,FALSE)) -> 600 | E3: 600 | F3: =IF(C3="","",E3=D3) -> TRUE | G3: =IF(C3="","",VLOOKUP(B3,FF!$A$1:$F$2516,6,FALSE)) -> 82092600 | H3: 82092600 | I3: =IF(C3="","",H3=G3) -> TRUE
C4: =IF(B4="","",VLOOKUP(B4,FF!$A$1:$D$2516,3,FALSE)) | D4: =IF(C4="","",VLOOKUP(B4,FF!$A$1:$D$2516,4,FALSE)) | F4: =IF(C4="","",E4=D4) | G4: =IF(C4="","",VLOOKUP(B4,FF!$A$1:$F$2516,6,FALSE)) | I4: =IF(C4="","",H4=G4)
C5: =IF(B5="","",VLOOKUP(B5,FF!$A$1:$D$2516,3,FALSE)) | D5: =IF(C5="","",VLOOKUP(B5,FF!$A$1:$D$2516,4,FALSE)) | F5: =IF(C5="","",E5=D5) | G5: =IF(C5="","",VLOOKUP(B5,FF!$A$1:$F$2516,6,FALSE)) | I5: =IF(C5="","",H5=G5)
B6: 1.1.2 | C6: =IF(B6="","",VLOOKUP(B6,FF!$A$1:$D$2516,3,FALSE)) -> M2 | D6: =IF(C6="","",VLOOKUP(B6,FF!$A$1:$D$2516,4,FALSE)) -> 74076 | E6: 74076 | F6: =IF(C6="","",E6=D6) -> TRUE | G6: =IF(C6="","",VLOOKUP(B6,FF!$A$1:$F$2516,6,FALSE)) -> 297933672 | H6: 297933672 | I6: =IF(C6="","",H6=G6) -> TRUE
C7: =IF(B7="","",VLOOKUP(B7,FF!$A$1:$D$2516,3,FALSE)) | D7: =IF(C7="","",VLOOKUP(B7,FF!$A$1:$D$2516,4,FALSE)) | F7: =IF(C7="","",E7=D7) | G7: =IF(C7="","",VLOOKUP(B7,FF!$A$1:$F$2516,6,FALSE)) | I7: =IF(C7="","",H7=G7)
C8: =IF(B8="","",VLOOKUP(B8,FF!$A$1:$D$2516,3,FALSE)) | D8: =IF(C8="","",VLOOKUP(B8,FF!$A$1:$D$2516,4,FALSE)) | F8: =IF(C8="","",E8=D8) | G8: =IF(C8="","",VLOOKUP(B8,FF!$A$1:$F$2516,6,FALSE)) | I8: =IF(C8="","",H8=G8)
B9: 1.1.3 | C9: =IF(B9="","",VLOOKUP(B9,FF!$A$1:$D$2516,3,FALSE)) -> ML | D9: =IF(C9="","",VLOOKUP(B9,FF!$A$1:$D$2516,4,FALSE)) -> 756.22 | E9: 756.22 | F9: =IF(C9="","",E9=D9) -> TRUE | G9: =IF(C9="","",VLOOKUP(B9,FF!$A$1:$F$2516,6,FALSE)) -> 15034410 | H9: 15034410 | I9: =IF(C9="","",H9=G9) -> TRUE
C10: =IF(B10="","",VLOOKUP(B10,FF!$A$1:$D$2516,3,FALSE)) | D10: =IF(C10="","",VLOOKUP(B10,FF!$A$1:$D$2516,4,FALSE)) | F10: =IF(C10="","",E10=D10) | G10: =IF(C10="","",VLOOKUP(B10,FF!$A$1:$F$2516,6,FALSE)) | I10: =IF(C10="","",H10=G10)
C11: =IF(B11="","",VLOOKUP(B11,FF!$A$1:$D$2516,3,FALSE)) | D11: =IF(C11="","",VLOOKUP(B11,FF!$A$1:$D$2516,4,FALSE)) | F11: =IF(C11="","",E11=D11) | G11: =IF(C11="","",VLOOKUP(B11,FF!$A$1:$F$2516,6,FALSE)) | I11: =IF(C11="","",H11=G11)
B12: 1.1.4 | C12: =IF(B12="","",VLOOKUP(B12,FF!$A$1:$D$2516,3,FALSE)) -> M2 | D12: =IF(C12="","",VLOOKUP(B12,FF!$A$1:$D$2516,4,FALSE)) -> 360 | E12: 360 | F12: =IF(C12="","",E12=D12) -> TRUE | G12: =IF(C12="","",VLOOKUP(B12,FF!$A$1:$F$2516,6,FALSE)) -> 11516040 | H12: 11516040 | I12: =IF(C12="","",H12=G12) -> TRUE
C13: =IF(B13="","",VLOOKUP(B13,FF!$A$1:$D$2516,3,FALSE)) | D13: =IF(C13="","",VLOOKUP(B13,FF!$A$1:$D$2516,4,FALSE)) | F13: =IF(C13="","",E13=D13) | G13: =IF(C13="","",VLOOKUP(B13,FF!$A$1:$F$2516,6,FALSE)) | I13: =IF(C13="","",H13=G13)
C14: =IF(B14="","",VLOOKUP(B14,FF!$A$1:$D$2516,3,FALSE)) | D14: =IF(C14="","",VLOOKUP(B14,FF!$A$1:$D$2516,4,FALSE)) | F14: =IF(C14="","",E14=D14) | G14: =IF(C14="","",VLOOKUP(B14,FF!$A$1:$F$2516,6,FALSE)) | I14: =IF(C14="","",H14=G14)
B15: 1.1.5 | C15: =IF(B15="","",VLOOKUP(B15,FF!$A$1:$D$2516,3,FALSE)) -> M2 | D15: =IF(C15="","",VLOOKUP(B15,FF!$A$1:$D$2516,4,FALSE)) -> 120 | E15: 120 | F15: =IF(C15="","",E15=D15) -> TRUE | G15: =IF(C15="","",VLOOKUP(B15,FF!$A$1:$F$2516,6,FALSE)) -> 3121080 | H15: 3121080 | I15: =IF(C15="","",H15=G15) -> TRUE
C16: =IF(B16="","",VLOOKUP(B16,FF!$A$1:$D$2516,3,FALSE)) | D16: =IF(C16="","",VLOOKUP(B16,FF!$A$1:$D$2516,4,FALSE)) | F16: =IF(C16="","",E16=D16) | G16: =IF(C16="","",VLOOKUP(B16,FF!$A$1:$F$2516,6,FALSE)) | I16: =IF(C16="","",H16=G16)
C17: =IF(B17="","",VLOOKUP(B17,FF!$A$1:$D$2516,3,FALSE)) | D17: =IF(C17="","",VLOOKUP(B17,FF!$A$1:$D$2516,4,FALSE)) | F17: =IF(C17="","",E17=D17) | G17: =IF(C17="","",VLOOKUP(B17,FF!$A$1:$F$2516,6,FALSE)) | I17: =IF(C17="","",H17=G17)
B18: 1.2 | D18: =IF(C18="","",VLOOKUP(B18,FF!$A$1:$D$2516,4,FALSE)) | F18: =IF(C18="","",E18=D18) | G18: =IF(C18="","",VLOOKUP(B18,FF!$A$1:$F$2516,6,FALSE)) | I18: =IF(C18="","",H18=G18)
B19: 1.2.1 | C19: =IF(B19="","",VLOOKUP(B19,FF!$A$1:$D$2516,3,FALSE)) -> M2 | D19: =IF(C19="","",VLOOKUP(B19,FF!$A$1:$D$2516,4,FALSE)) -> 41456.73 | E19: 41456.73 | F19: =IF(C19="","",E19=D19) -> TRUE | G19: =IF(C19="","",VLOOKUP(B19,FF!$A$1:$F$2516,6,FALSE)) -> 55095994 | H19: 55095994 | I19: =IF(C19="","",H19=G19) -> TRUE
C20: =IF(B20="","",VLOOKUP(B20,FF!$A$1:$D$2516,3,FALSE)) | D20: =IF(C20="","",VLOOKUP(B20,FF!$A$1:$D$2516,4,FALSE)) | F20: =IF(C20="","",E20=D20) | G20: =IF(C20="","",VLOOKUP(B20,FF!$A$1:$F$2516,6,FALSE)) | I20: =IF(C20="","",H20=G20)
C21: =IF(B21="","",VLOOKUP(B21,FF!$A$1:$D$2516,3,FALSE)) | D21: =IF(C21="","",VLOOKUP(B21,FF!$A$1:$D$2516,4,FALSE)) | F21: =IF(C21="","",E21=D21) | G21: =IF(C21="","",VLOOKUP(B21,FF!$A$1:$F$2516,6,FALSE)) | I21: =IF(C21="","",H21=G21)
B22: 1.2.2 | C22: =IF(B22="","",VLOOKUP(B22,FF!$A$1:$D$2516,3,FALSE)) -> M3 | D22: =IF(C22="","",VLOOKUP(B22,FF!$A$1:$D$2516,4,FALSE)) -> 6844.8 | E22: 6844.8 | F22: =IF(C22="","",E22=D22) -> TRUE | G22: =IF(C22="","",VLOOKUP(B22,FF!$A$1:$F$2516,6,FALSE)) -> 174795658 | H22: 174795658 | I22: =IF(C22="","",H22=G22) -> TRUE
C23: =IF(B23="","",VLOOKUP(B23,FF!$A$1:$D$2516,3,FALSE)) | D23: =IF(C23="","",VLOOKUP(B23,FF!$A$1:$D$2516,4,FALSE)) | F23: =IF(C23="","",E23=D23) | G23: =IF(C23="","",VLOOKUP(B23,FF!$A$1:$F$2516,6,FALSE)) | I23: =IF(C23="","",H23=G23)
C24: =IF(B24="","",VLOOKUP(B24,FF!$A$1:$D$2516,3,FALSE)) | D24: =IF(C24="","",VLOOKUP(B24,FF!$A$1:$D$2516,4,FALSE)) | F24: =IF(C24="","",E24=D24) | G24: =IF(C24="","",VLOOKUP(B24,FF!$A$1:$F$2516,6,FALSE)) | I24: =IF(C24="","",H24=G24)
B25: 1.2.3 | C25: =IF(B25="","",VLOOKUP(B25,FF!$A$1:$D$2516,3,FALSE)) -> M3 | D25: =IF(C25="","",VLOOKUP(B25,FF!$A$1:$D$2516,4,FALSE)) -> 17458.34 | E25: 17458.34 | F25: =IF(C25="","",E25=D25) -> TRUE | G25: =IF(C25="","",VLOOKUP(B25,FF!$A$1:$F$2516,6,FALSE)) -> 163148187 | H25: 163148187 | I25: =IF(C25="","",H25=G25) -> TRUE
C26: =IF(B26="","",VLOOKUP(B26,FF!$A$1:$D$2516,3,FALSE)) | D26: =IF(C26="","",VLOOKUP(B26,FF!$A$1:$D$2516,4,FALSE)) | F26: =IF(C26="","",E26=D26) | G26: =IF(C26="","",VLOOKUP(B26,FF!$A$1:$F$2516,6,FALSE)) | I26: =IF(C26="","",H26=G26)
C27: =IF(B27="","",VLOOKUP(B27,FF!$A$1:$D$2516,3,FALSE)) | D27: =IF(C27="","",VLOOKUP(B27,FF!$A$1:$D$2516,4,FALSE)) | F27: =IF(C27="","",E27=D27) | G27: =IF(C27="","",VLOOKUP(B27,FF!$A$1:$F$2516,6,FALSE)) | I27: =IF(C27="","",H27=G27)
B28: 1.2.4 | C28: =IF(B28="","",VLOOKUP(B28,FF!$A$1:$D$2516,3,FALSE)) -> M3 | D28: =IF(C28="","",VLOOKUP(B28,FF!$A$1:$D$2516,4,FALSE)) -> 15.85 | E28: 15.85 | F28: =IF(C28="","",E28=D28) -> TRUE | G28: =IF(C28="","",VLOOKUP(B28,FF!$A$1:$F$2516,6,FALSE)) -> 2426033 | H28: 2426033 | I28: =IF(C28="","",H28=G28) -> TRUE
C29: =IF(B29="","",VLOOKUP(B29,FF!$A$1:$D$2516,3,FALSE)) | D29: =IF(C29="","",VLOOKUP(B29,FF!$A$1:$D$2516,4,FALSE)) | F29: =IF(C29="","",E29=D29) | G29: =IF(C29="","",VLOOKUP(B29,FF!$A$1:$F$2516,6,FALSE)) | I29: =IF(C29="","",H29=G29)
C30: =IF(B30="","",VLOOKUP(B30,FF!$A$1:$D$2516,3,FALSE)) | D30: =IF(C30="","",VLOOKUP(B30,FF!$A$1:$D$2516,4,FALSE)) | F30: =IF(C30="","",E30=D30) | G30: =IF(C30="","",VLOOKUP(B30,FF!$A$1:$F$2516,6,FALSE)) | I30: =IF(C30="","",H30=G30)
B31: 1.2.5 | C31: =IF(B31="","",VLOOKUP(B31,FF!$A$1:$D$2516,3,FALSE)) -> M3 | D31: =IF(C31="","",VLOOKUP(B31,FF!$A$1:$D$2516,4,FALSE)) -> 3784.93 | E31: 3784.93 | F31: =IF(C31="","",E31=D31) -> TRUE | G31: =IF(C31="","",VLOOKUP(B31,FF!$A$1:$F$2516,6,FALSE)) -> 116837004 | H31: 116837004 | I31: =IF(C31="","",H31=G31) -> TRUE
C32: =IF(B32="","",VLOOKUP(B32,FF!$A$1:$D$2516,3,FALSE)) | D32: =IF(C32="","",VLOOKUP(B32,FF!$A$1:$D$2516,4,FALSE)) | F32: =IF(C32="","",E32=D32) | G32: =IF(C32="","",VLOOKUP(B32,FF!$A$1:$F$2516,6,FALSE)) | I32: =IF(C32="","",H32=G32)
C33: =IF(B33="","",VLOOKUP(B33,FF!$A$1:$D$2516,3,FALSE)) | D33: =IF(C33="","",VLOOKUP(B33,FF!$A$1:$D$2516,4,FALSE)) | F33: =IF(C33="","",E33=D33) | G33: =IF(C33="","",VLOOKUP(B33,FF!$A$1:$F$2516,6,FALSE)) | I33: =IF(C33="","",H33=G33)
B34: 1.2.6 | C34: =IF(B34="","",VLOOKUP(B34,FF!$A$1:$D$2516,3,FALSE)) -> M3 | D34: =IF(C34="","",VLOOKUP(B34,FF!$A$1:$D$2516,4,FALSE)) -> 1475.35 | E34: 1475.35 | F34: =IF(C34="","",E34=D34) -> TRUE | G34: =IF(C34="","",VLOOKUP(B34,FF!$A$1:$F$2516,6,FALSE)) -> 390874803 | H34: 390874803 | I34: =IF(C34="","",H34=G34) -> TRUE
C35: =IF(B35="","",VLOOKUP(B35,FF!$A$1:$D$2516,3,FALSE)) | D35: =IF(C35="","",VLOOKUP(B35,FF!$A$1:$D$2516,4,FALSE)) | F35: =IF(C35="","",E35=D35) | G35: =IF(C35="","",VLOOKUP(B35,FF!$A$1:$F$2516,6,FALSE)) | I35: =IF(C35="","",H35=G35)
C36: =IF(B36="","",VLOOKUP(B36,FF!$A$1:$D$2516,3,FALSE)) | D36: =IF(C36="","",VLOOKUP(B36,FF!$A$1:$D$2516,4,FALSE)) | F36: =IF(C36="","",E36=D36) | G36: =IF(C36="","",VLOOKUP(B36,FF!$A$1:$F$2516,6,FALSE)) | I36: =IF(C36="","",H36=G36)
B37: 1.2.7 | C37: =IF(B37="","",VLOOKUP(B37,FF!$A$1:$D$2516,3,FALSE)) -> M3 | D37: =IF(C37="","",VLOOKUP(B37,FF!$A$1:$D$2516,4,FALSE)) -> 6991.39 | E37: 6991.39 | F37: =IF(C37="","",E37=D37) -> TRUE | G37: =IF(C37="","",VLOOKUP(B37,FF!$A$1:$F$2516,6,FALSE)) -> 295644909 | H37: 295644909 | I37: =IF(C37="","",H37=G37) -> TRUE
C38: =IF(B38="","",VLOOKUP(B38,FF!$A$1:$D$2516,3,FALSE)) | D38: =IF(C38="","",VLOOKUP(B38,FF!$A$1:$D$2516,4,FALSE)) | F38: =IF(C38="","",E38=D38) | G38: =IF(C38="","",VLOOKUP(B38,FF!$A$1:$F$2516,6,FALSE)) | I38: =IF(C38="","",H38=G38)
C39: =IF(B39="","",VLOOKUP(B39,FF!$A$1:$D$2516,3,FALSE)) | D39: =IF(C39="","",VLOOKUP(B39,FF!$A$1:$D$2516,4,FALSE)) | F39: =IF(C39="","",E39=D39) | G39: =IF(C39="","",VLOOKUP(B39,FF!$A$1:$F$2516,6,FALSE)) | I39: =IF(C39="","",H39=G39)
B40: 1.2.8 | C40: =IF(B40="","",VLOOKUP(B40,FF!$A$1:$D$2516,3,FALSE)) -> M3 | D40: =IF(C40="","",VLOOKUP(B40,FF!$A$1:$D$2516,4,FALSE)) -> 1089.56 | E40: 1089.56 | F40: =IF(C40="","",E40=D40) -> TRUE | G40: =IF(C40="","",VLOOKUP(B40,FF!$A$1:$F$2516,6,FALSE)) -> 16799926 | H40: 16799926 | I40: =IF(C40="","",H40=G40) -> TRUE
C41: =IF(B41="","",VLOOKUP(B41,FF!$A$1:$D$2516,3,FALSE)) | D41: =IF(C41="","",VLOOKUP(B41,FF!$A$1:$D$2516,4,FALSE)) | F41: =IF(C41="","",E41=D41) | G41: =IF(C41="","",VLOOKUP(B41,FF!$A$1:$F$2516,6,FALSE)) | I41: =IF(C41="","",H41=G41)
...
