Workbook

Sheet Instrucciones
M1: Versión: 03
M2: Código: GCON-F-038
B3: PROCESO
B4: GESTIÓN CONTRACTUAL
B5: NOMBRE DEL FORMATO
B6: EVALUACIÓN JURÍDICA
B7: CLASIFICACIÓN DE LA INFORMACIÓN
B8: Pública | F8: Pública clasificada | J8: Pública reservada
C10: Generalidades
C11: 1) Este formato tiene por objetivo dar a conocer el resultado de la evaluación jurídica de las ofertas presentadas en los procesos de selección de la entidad.
C12: 2) El formato está asociado al Manual de Contratación (GCCON-M-001) y al Manual Supervisión e Interventoría (GCCON-M-002), así como a los procedimientos que rigen la gestión contractual de la entidad.
C13: 3) Este formato es diligenciado por el evaluador jurídico del proceso de selección, cada vez que se requiera evaluar jurídicamente un proceso de selección.
C14: 4) Este formato no requiere ser impreso. Una vez diligenciado, deberá archivarse de conformidad con lo establecidos en las tablas de retención documental de la entidad.
C15: 5) El contenido que se encuentra en color diferente a negro, entre paréntesis o con el signo “/” son orientaciones para el diligenciamiento del formato.
C16: 6) El formato puede ser modificado en aquellos apartados en que así se indique. No modifique el formato más allá de lo que se requiera para así mantener la uniformidad e integridad del mismo. Recuerde siempre descargarlo desde la plataforma CompromISO para evitar un formato reciclado que pueda contener errores.
C17: 7) Una vez se realice la evaluación de cada proponente se debe validar la redacción y ortografía del documento (presionar "F7"). Posteriormente se debe imprimir en PDF el documento completo para así publicarlo en las diferentes plataformas.
C18: 8) El documento permite: (i) aplicar formato a celdas, (ii) eliminar filas, (iii) eliminar y agregar hojas. Los requisitos habilitantes (del 1 al 17) de la página de evaluación no se deben eliminar. Su eliminación, así como la eliminación de algunas de las filas referidas, puede suponer una afectación a las fórmulas del documento y, por ende, a la calificación. Revise muy bien lo que quiera eliminar.
C19: 9) Las celdas que no requieren edición se encuentran bloqueadas.
C20: 10) Elimine esta hoja, previa publicación de la evaluación del proceso.
C21: 11) Si se detectan fallas o errores en este archivo, los mismos se debe reportar a la Dirección jurídica para realizar los ajustes correspondientes.
... C42: 13) Si el texto incluido en las celdas editables (Requisitos o NOTA) no es visible del todo, amplíe el alto de la fila para que el mismo pueda ser visualizado de forma integral.

Sheet Resumen - Evaluación jurídica
C2: SERVICIO NACIONAL DE APRENDIZAJE - SENA | D2: Código: GCCON-F-038
C4: CONSOLIDADO | D4: V.03 | J4: G153 | K4: F13
C5: EVALUACIÓN JURÍDICA - PROCESO NRO. MC-DG-DAF-005-2026
I6: ="='P-"&J6&"'!"&$J$4 -> ='P-1'!G153 | J6: 1 | K6: ="='P-"&J6&"'!"&$K$4 -> ='P-1'!F13
B7: OBJETO | C7: CONTRATAR LA IMPERMEABILIZACIÓN DE TERRAZAS, CUBIERTAS Y MUROS DEL EDIFICIO DE SERVICIOS COMPLEMENTARIOS DE LA DIRECCIÓN GENERAL DEL SENA | I7: ="='P-"&J7&"'!"&$J$4 -> ='P-2'!G153 | J7: 2 | K7: ="='P-"&J7&"'!"&$K$4 -> ='P-2'!F13
I8: ="='P-"&J8&"'!"&$J$4 -> ='P-3'!G153 | J8: 3 | K8: ="='P-"&J8&"'!"&$K$4 -> ='P-3'!F13
I9: ="='P-"&J9&"'!"&$J$4 -> ='P-4'!G153 | J9: 4 | K9: ="='P-"&J9&"'!"&$K$4 -> ='P-4'!F13
I10: ="='P-"&J10&"'!"&$J$4 -> ='P-5'!G153 | J10: 5 | K10: ="='P-"&J10&"'!"&$K$4 -> ='P-5'!F13
B11: NRO. | C11: NOMBRE PROPONENTE | D11: CALIFICACIÓN | I11: ="='P-"&J11&"'!"&$J$4 -> ='P-6'!G153 | J11: 6 | K11: ="='P-"&J11&"'!"&$K$4 -> ='P-6'!F13
B12: P-1 | C12: ='P-1'!F13 -> CONSTRUCTORA LA DIANA LTDA NIT 800196349-8 | D12: RECHAZADO | I12: ="='P-"&J12&"'!"&$J$4 -> ='P-7'!G153 | J12: 7 | K12: ="='P-"&J12&"'!"&$K$4 -> ='P-7'!F13
B13: P-2 | C13: EQUISERVICIOS INDUSTRIALES S.A.S. | D13: RECHAZADO | I13: ="='P-"&J13&"'!"&$J$4 -> ='P-8'!G153 | J13: 8 | K13: ="='P-"&J13&"'!"&$K$4 -> ='P-8'!F13
B14: P-3 | C14: SICCEI SAS ZOMAC | D14: RECHAZADO | I14: ="='P-"&J14&"'!"&$J$4 -> ='P-9'!G153 | J14: 9 | K14: ="='P-"&J14&"'!"&$K$4 -> ='P-9'!F13
B15: P-4 | C15: CONSTRUPISOS T.M . SAS | D15: CUMPLE | I15: ="='P-"&J15&"'!"&$J$4 -> ='P-10'!G153 | J15: 10 | K15: ="='P-"&J15&"'!"&$K$4 -> ='P-10'!F13
B16: P-5 | C16: PROCOM PROYECTOS Y CONSTRUCCIONES SAS | D16: RECHAZADO | I16: ="='P-"&J16&"'!"&$J$4 -> ='P-11'!G153 | J16: 11 | K16: ="='P-"&J16&"'!"&$K$4 -> ='P-11'!F13
B17: P-6 | C17: OBRAS INSIGNIA SAS | D17: CUMPLE | I17: ="='P-"&J17&"'!"&$J$4 -> ='P-12'!G153 | J17: 12 | K17: ="='P-"&J17&"'!"&$K$4 -> ='P-12'!F13
B18: P-7 | C18: INNOVACION COLOMBIA SAS | D18: RECHAZADO | I18: ="='P-"&J18&"'!"&$J$4 -> ='P-13'!G153 | J18: 13 | K18: ="='P-"&J18&"'!"&$K$4 -> ='P-13'!F13
B19: P-8 | C19: FGD | D19: CUMPLE | I19: ="='P-"&J19&"'!"&$J$4 -> ='P-14'!G153 | J19: 14 | K19: ="='P-"&J19&"'!"&$K$4 -> ='P-14'!F13
B20: P-9 | C20: INDUTECHOS SAS | D20: RECHAZADO | I20: ="='P-"&J20&"'!"&$J$4 -> ='P-15'!G153 | J20: 15 | K20: ="='P-"&J20&"'!"&$K$4 -> ='P-15'!F13
B21: P-10 | C21: UNAMERICA SAS | D21: RECHAZADO | I21: ="='P-"&J21&"'!"&$J$4 -> ='P-16'!G153 | J21: 16 | K21: ="='P-"&J21&"'!"&$K$4 -> ='P-16'!F13
B22: P-11 | C22: CONSORCIO CUBIERTA SENA 2026 2 | D22: RECHAZADO | I22: ="='P-"&J22&"'!"&$J$4 -> ='P-17'!G153 | J22: 17 | K22: ="='P-"&J22&"'!"&$K$4 -> ='P-17'!F13
B23: P-12 | C23: ANDRÉS GARCÍA A | D23: CUMPLE | I23: ="='P-"&J23&"'!"&$J$4 -> ='P-18'!G153 | J23: 18 | K23: ="='P-"&J23&"'!"&$K$4 -> ='P-18'!F13
B24: P-13 | C24: GEDICCON S.A.S. | D24: RECHAZADO | I24: ="='P-"&J24&"'!"&$J$4 -> ='P-19'!G153 | J24: 19 | K24: ="='P-"&J24&"'!"&$K$4 -> ='P-19'!F13
B25: P-14 | C25: SOLTEC PROYECTOS DE INGENIERÍA S.A.S | D25: CUMPLE | I25: ="='P-"&J25&"'!"&$J$4 -> ='P-20'!G153 | J25: 20 | K25: ="='P-"&J25&"'!"&$K$4 -> ='P-20'!F13
B26: P-15 | C26: ='[1]P-15'!F13 -> #REF! | D26: ='[1]P-15'!G153 -> #REF! | I26: ="='P-"&J26&"'!"&$J$4 -> ='P-21'!G153 | J26: 21 | K26: ="='P-"&J26&"'!"&$K$4 -> ='P-21'!F13
B27: P-16 | C27: ='[2]P-16'!F13 -> #REF! | D27: ='[2]P-16'!G153 -> #REF! | I27: ="='P-"&J27&"'!"&$J$4 -> ='P-22'!G153 | J27: 22 | K27: ="='P-"&J27&"'!"&$K$4 -> ='P-22'!F13
B28: P-17 | C28: ='[3]P-17'!F13 -> #REF! | D28: ='[3]P-17'!G153 -> #REF! | I28: ="='P-"&J28&"'!"&$J$4 -> ='P-23'!G153 | J28: 23 | K28: ="='P-"&J28&"'!"&$K$4 -> ='P-23'!F13
B29: P-18 | C29: ='[4]P-18'!F13 -> #REF! | D29: ='[4]P-18'!G153 -> #REF! | I29: ="='P-"&J29&"'!"&$J$4 -> ='P-24'!G153 | J29: 24 | K29: ="='P-"&J29&"'!"&$K$4 -> ='P-24'!F13
B30: P-19 | C30: ='[5]P-19'!F13 -> #REF! | D30: ='[5]P-19'!G153 -> #REF! | I30: ="='P-"&J30&"'!"&$J$4 -> ='P-25'!G153 | J30: 25 | K30: ="='P-"&J30&"'!"&$K$4 -> ='P-25'!F13
B31: P-20 | C31: ='[6]P-20'!F13 -> #REF! | D31: ='[6]P-20'!G153 -> #REF! | I31: ="='P-"&J31&"'!"&$J$4 -> ='P-26'!G153 | J31: 26 | K31: ="='P-"&J31&"'!"&$K$4 -> ='P-26'!F13
I32: ="='P-"&J32&"'!"&$J$4 -> ='P-27'!G153 | J32: 27 | K32: ="='P-"&J32&"'!"&$K$4 -> ='P-27'!F13
I33: ="='P-"&J33&"'!"&$J$4 -> ='P-28'!G153 | J33: 28 | K33: ="='P-"&J33&"'!"&$K$4 -> ='P-28'!F13
B34: NOTA 1. Si el resultado de la evaluación es "NO CUMPLE", el oferente deberá subsanar la propuesta durante el término establecido en el cronograma del proceso o la ley, según el caso. Por regla general, la subsanación solo se permite para la evaluación preliminar. | I34: ="='P-"&J34&"'!"&$J$4 -> ='P-29'!G153 | J34: 29 | K34: ="='P-"&J34&"'!"&$K$4 -> ='P-29'!F13
I36: ="='P-"&J36&"'!"&$J$4 -> ='P-30'!G153 | J36: 30 | K36: ="='P-"&J36&"'!"&$K$4 -> ='P-30'!F13
B38: NOTA 2. Si el oferente, durante el término del traslado no subsanó o subsanó incorrectamente su oferta, el resultado de la evaluación es "RECHAZADO". Tal calificación se podra observar en el Informe consolidado.
B42: OBSERVACIONES
B48: CUMPLE | D48: =COUNTIF(D12:D31,F126) -> 5
B49: NO CUMPLE | D49: =COUNTIF(D12:D31,F127) -> 0
B50: RECHAZADO | D50: =COUNTIF(D12:D31,F128) -> 9
B51: TOTAL | D51: =SUM(D48:D50) -> 14
C56: MARIA FERNANDA SOTO O
...

Sheet P-1
E2: SERVICIO NACIONAL DE APRENDIZAJE - SENA | L2: Código: GCCON-F-038
E4: ='Resumen - Evaluación jurídica'!C5 -> EVALUACIÓN JURÍDICA - PROCESO NRO. MC-DG-DAF-005-2026 | L4: V.03
C6: OBJETO | E6: ='Resumen - Evaluación jurídica'!C7 -> CONTRATAR LA IMPERMEABILIZACIÓN DE TERRAZAS, CUBIERTAS Y MUROS DEL EDIFICIO DE SERVICIOS COMPLEMENTARIOS DE LA DIRECCIÓN GENERAL DEL SENA
D11: Proponente nro. | E11: 1 | I11: Lotes | J11: N.A. | K11: Número(s)
D13: Nombre del proponente: | F13: CONSTRUCTORA LA DIANA LTDA NIT 800196349-8
D15: Integrante 1: | L15: %Participación
D17: Integrante 2: | L17: %Participación
D19: Integrante 3: | L19: %Participación
D21: Integrante 4: | L21: %Participación
Q23: SÍ
Q24: NO
D25: REQUISITO | M25: CUMPLE | Q25: N.A.
C27: 1 | D27: Documento de proponente plural | L27: N.A.
C28: 1.1 | D28: Forma de unión | M28: N.A. | Q28: N.A.
C29: 1.2 | D29: Objeto | M29: N.A. | Q29: Unión Temporal
C30: 1.3 | D30: Vigencia | M30: N.A. | Q30: Consorcio
C31: 1.4 | D31: Participación | M31: N.A. | Q31: Promesa de sociedad futura
C32: 1.5 | D32: Otros | M32: N.A.
D34: NOTA
C36: 2 | D36: Carta de presentación de la propuesta en el formato de la entidad | M36: SÍ
C37: 2.1 | D37: Aval de la propuesta y consulta de antecedentes del profesional (COPNIA o similares) | M37: SÍ
D39: NOTA | E39: Se presenta aval de la propuesta por el Ing. Hugo Morán, no obstante, no se allega Certificado de Vigencia y Antecedentes Disciplinarios
C41: 3 | D41: Documento de identificación del Representante legal o Persona natural (PN) | M41: SÍ
D43: NOTA | E43: RL Hernan Sepulveda Orrego 16347755
C45: 4 | D45: Documento que acredite la situación militar definida | M45: N.A.
D47: NOTA | E47: N/A por tratarse de mayor de 50 años
C49: 5 | D49: Certificado de existencia y representación legal (CERL) o Registro mercantil (RM) | M49: SÍ
D51: NOTA | E51: Se aporta documento
C53: 6 | D53: Validación de la información del CERL o del RM
C54: 6.1 | D54: Expedición | M54: SÍ
C55: 6.2 | D55: Objeto social relacionado | M55: SÍ
C56: 6.3 | D56: Facultades | M56: SÍ
C57: 6.4 | D57: Constitución y vigencia | M57: SÍ
C58: 6.5 | D58: Tamaño | M58: SÍ
C59: 6.6 | D59: Domicilio | M59: SÍ
C60: 6.7 | D60: Otros | M60: N.A.
D62: NOTA | E62: Registra un embargo - Tamaño microempresa
C64: 7 | D64: Registro Único de Proponentes – RUP | M64: N.A.
D66: NOTA | E66: No se requiere
C68: 8 | D68: Validación de la información del RUP
...

Sheet P-2
E2: SERVICIO NACIONAL DE APRENDIZAJE - SENA | L2: Código: GCCON-F-038
E4: ='Resumen - Evaluación jurídica'!C5 -> EVALUACIÓN JURÍDICA - PROCESO NRO. MC-DG-DAF-005-2026 | L4: V.03
C6: OBJETO | E6: ='Resumen - Evaluación jurídica'!C7 -> CONTRATAR LA IMPERMEABILIZACIÓN DE TERRAZAS, CUBIERTAS Y MUROS DEL EDIFICIO DE SERVICIOS COMPLEMENTARIOS DE LA DIRECCIÓN GENERAL DEL SENA
D11: Proponente nro. | E11: 2 | I11: Lotes | J11: N.A. | K11: Número(s)
D13: Nombre del proponente: | F13: EQUISERVICIOS INDUSTRIALES S.A.S.
D15: Integrante 1: | L15: %Participación
D17: Integrante 2: | L17: %Participación
D19: Integrante 3: | L19: %Participación
D21: Integrante 4: | L21: %Participación
Q23: SÍ
Q24: NO
D25: REQUISITO | M25: CUMPLE | Q25: N.A.
C27: 1 | D27: Documento de proponente plural | L27: N.A.
C28: 1.1 | D28: Forma de unión | M28: N.A. | Q28: N.A.
C29: 1.2 | D29: Objeto | M29: N.A. | Q29: Unión Temporal
C30: 1.3 | D30: Vigencia | M30: N.A. | Q30: Consorcio
C31: 1.4 | D31: Participación | M31: N.A. | Q31: Promesa de sociedad futura
C32: 1.5 | D32: Otros | M32: N.A.
D34: NOTA | E34: No se aporto documento por lo cual no se puede determinar la información
C36: 2 | D36: Carta de presentación de la propuesta en el formato de la entidad | M36: NO
C37: 2.1 | D37: Aval de la propuesta y consulta de antecedentes del profesional (COPNIA o similares) | M37: NO
D39: NOTA | E39: No se aporto documento durante el tiempo otorgado para subsanación, por lo que se rechaza en razón de la causal 18 del numeral 3.10.1
C41: 3 | D41: Documento de identificación del Representante legal o Persona natural (PN) | M41: NO
D43: NOTA | E43: No se aporto documento durante el tiempo otorgado para subsanación, por lo que se rechaza en razón de la causal 18 del numeral 3.10.1
C45: 4 | D45: Documento que acredite la situación militar definida | M45: NO
D47: NOTA | E47: No se aporto documento durante el tiempo otorgado para subsanación, por lo que se rechaza en razón de la causal 18 del numeral 3.10.1
C49: 5 | D49: Certificado de existencia y representación legal (CERL) o Registro mercantil (RM) | M49: NO
D51: NOTA | E51: No se aporto documento durante el tiempo otorgado para subsanación, por lo que se rechaza en razón de la causal 18 del numeral 3.10.1
C53: 6 | D53: Validación de la información del CERL o del RM
C54: 6.1 | D54: Expedición | M54: NO
C55: 6.2 | D55: Objeto social relacionado | M55: NO
C56: 6.3 | D56: Facultades | M56: NO
C57: 6.4 | D57: Constitución y vigencia | M57: NO
C58: 6.5 | D58: Tamaño | M58: NO
C59: 6.6 | D59: Domicilio | M59: NO
C60: 6.7 | D60: Otros | M60: NO
D62: NOTA | E62: No se aporto documento durante el tiempo otorgado para subsanación, por lo que se rechaza en razón de la causal 18 del numeral 3.10.1
C64: 7 | D64: Registro Único de Proponentes – RUP | M64: N.A.
D66: NOTA | E66: No se requiere
C68: 8 | D68: Validación de la información del RUP
...

Sheet P-3
E2: SERVICIO NACIONAL DE APRENDIZAJE - SENA | L2: Código: GCCON-F-038
E4: ='Resumen - Evaluación jurídica'!C5 -> EVALUACIÓN JURÍDICA - PROCESO NRO. MC-DG-DAF-005-2026 | L4: V.02
C6: OBJETO | E6: ='Resumen - Evaluación jurídica'!C7 -> CONTRATAR LA IMPERMEABILIZACIÓN DE TERRAZAS, CUBIERTAS Y MUROS DEL EDIFICIO DE SERVICIOS COMPLEMENTARIOS DE LA DIRECCIÓN GENERAL DEL SENA
D11: Proponente nro. | E11: 3 | I11: Lotes | J11: N.A. | K11: Número(s)
D13: Nombre del proponente: | F13: SICCEI SAS ZOMAC
D15: Integrante 1: | L15: %Participación
D17: Integrante 2: | L17: %Participación
D19: Integrante 3: | L19: %Participación
D21: Integrante 4: | L21: %Participación
Q23: SÍ
Q24: NO
D25: REQUISITO | M25: CUMPLE | Q25: N.A.
C27: 1 | D27: Documento de proponente plural | L27: N.A.
C28: 1.1 | D28: Forma de unión | M28: N.A. | Q28: N.A.
C29: 1.2 | D29: Objeto | M29: N.A. | Q29: Unión Temporal
C30: 1.3 | D30: Vigencia | M30: N.A. | Q30: Consorcio
C31: 1.4 | D31: Participación | M31: N.A. | Q31: Promesa de sociedad futura
C32: 1.5 | D32: Otros | M32: N.A.
D34: NOTA | E34: No se aporto documento durante el tiempo otorgado para subsanación, por lo que se rechaza en razón de la causal 18 del numeral 3.10.1
C36: 2 | D36: Carta de presentación de la propuesta en el formato de la entidad | M36: NO
C37: 2.1 | D37: Aval de la propuesta y consulta de antecedentes del profesional (COPNIA o similares) | M37: NO
D39: NOTA | E39: No se aporto documento durante el tiempo otorgado para subsanación, por lo que se rechaza en razón de la causal 18 del numeral 3.10.1
C41: 3 | D41: Documento de identificación del Representante legal o Persona natural (PN) | M41: NO
D43: NOTA | E43: No se aporto documento durante el tiempo otorgado para subsanación, por lo que se rechaza en razón de la causal 18 del numeral 3.10.1
C45: 4 | D45: Documento que acredite la situación militar definida | M45: NO
D47: NOTA | E47: No se aporto documento durante el tiempo otorgado para subsanación, por lo que se rechaza en razón de la causal 18 del numeral 3.10.1
C49: 5 | D49: Certificado de existencia y representación legal (CERL) o Registro mercantil (RM) | M49: NO
D51: NOTA | E51: No se aporto documento durante el tiempo otorgado para subsanación, por lo que se rechaza en razón de la causal 18 del numeral 3.10.1
C53: 6 | D53: Validación de la información del CERL o del RM
C54: 6.1 | D54: Expedición | M54: NO
C55: 6.2 | D55: Objeto social relacionado | M55: NO
C56: 6.3 | D56: Facultades | M56: NO
C57: 6.4 | D57: Constitución y vigencia | M57: NO
C58: 6.5 | D58: Tamaño | M58: NO
C59: 6.6 | D59: Domicilio | M59: NO
C60: 6.7 | D60: Otros | M60: N.A.
D62: NOTA | E62: No se aporto documento durante el tiempo otorgado para subsanación, por lo que se rechaza en razón de la causal 18 del numeral 3.10.1
C64: 7 | D64: Registro Único de Proponentes – RUP | M64: N.A.
D66: NOTA | E66: No se requiere
C68: 8 | D68: Validación de la información del RUP
...

Sheet P-4
E2: SERVICIO NACIONAL DE APRENDIZAJE - SENA | L2: Código: GCCON-F-038
E4: ='Resumen - Evaluación jurídica'!C5 -> EVALUACIÓN JURÍDICA - PROCESO NRO. MC-DG-DAF-005-2026 | L4: V.03
C6: OBJETO | E6: ='Resumen - Evaluación jurídica'!C7 -> CONTRATAR LA IMPERMEABILIZACIÓN DE TERRAZAS, CUBIERTAS Y MUROS DEL EDIFICIO DE SERVICIOS COMPLEMENTARIOS DE LA DIRECCIÓN GENERAL DEL SENA
D11: Proponente nro. | E11: 4 | I11: Lotes | J11: N.A. | K11: Número(s)
D13: Nombre del proponente: | F13: CONSTRUPISOS T.M . SAS
D15: Integrante 1: | L15: %Participación
D17: Integrante 2: | L17: %Participación
D19: Integrante 3: | L19: %Participación
D21: Integrante 4: | L21: %Participación
Q23: SÍ
Q24: NO
D25: REQUISITO | M25: CUMPLE | Q25: N.A.
C27: 1 | D27: Documento de proponente plural | L27: N.A.
C28: 1.1 | D28: Forma de unión | M28: N.A. | Q28: N.A.
C29: 1.2 | D29: Objeto | M29: N.A. | Q29: Unión Temporal
C30: 1.3 | D30: Vigencia | M30: N.A. | Q30: Consorcio
C31: 1.4 | D31: Participación | M31: N.A. | Q31: Promesa de sociedad futura
C32: 1.5 | D32: Otros | M32: N.A.
D34: NOTA
C36: 2 | D36: Carta de presentación de la propuesta en el formato de la entidad | M36: SÍ
C37: 2.1 | D37: Aval de la propuesta y consulta de antecedentes del profesional (COPNIA o similares) | M37: SÍ
D39: NOTA | E39: SI bien inicialmente No se aportaron los documentos, en el plazo de subsanación se aportan
C41: 3 | D41: Documento de identificación del Representante legal o Persona natural (PN) | M41: SÍ
D43: NOTA | E43: Inicialmente no se aporta documento, dentro del plazo de subsanación se aporta RL CC 7729393
C45: 4 | D45: Documento que acredite la situación militar definida | M45: SÍ
D47: NOTA | E47: En el plazo de subsanación se aporta el certificado
C49: 5 | D49: Certificado de existencia y representación legal (CERL) o Registro mercantil (RM) | M49: SÍ
D51: NOTA | E51: SI bien inicialmente No se aportaron los documentos, en el plazo de subsanación se aportan
C53: 6 | D53: Validación de la información del CERL o del RM
C54: 6.1 | D54: Expedición | M54: SÍ
C55: 6.2 | D55: Objeto social relacionado | M55: SÍ
C56: 6.3 | D56: Facultades | M56: SÍ
C57: 6.4 | D57: Constitución y vigencia | M57: SÍ
C58: 6.5 | D58: Tamaño | M58: SÍ
C59: 6.6 | D59: Domicilio | M59: SÍ
C60: 6.7 | D60: Otros | M60: N.A.
D62: NOTA | E62: Se aportan documentos
C64: 7 | D64: Registro Único de Proponentes – RUP | M64: N.A.
D66: NOTA | E66: No se requiere
C68: 8 | D68: Validación de la información del RUP
...

Sheet P-5
E2: SERVICIO NACIONAL DE APRENDIZAJE - SENA | L2: Código: GCCON-F-038
E4: ='Resumen - Evaluación jurídica'!C5 -> EVALUACIÓN JURÍDICA - PROCESO NRO. MC-DG-DAF-005-2026 | L4: V.03
C6: OBJETO | E6: ='Resumen - Evaluación jurídica'!C7 -> CONTRATAR LA IMPERMEABILIZACIÓN DE TERRAZAS, CUBIERTAS Y MUROS DEL EDIFICIO DE SERVICIOS COMPLEMENTARIOS DE LA DIRECCIÓN GENERAL DEL SENA
D11: Proponente nro. | E11: 5 | I11: Lotes | J11: N.A. | K11: Número(s)
D13: Nombre del proponente: | F13: PROCOM PROYECTOS Y CONSTRUCCIONES SAS NIT 901826674-8
D15: Integrante 1: | L15: %Participación
D17: Integrante 2: | L17: %Participación
D19: Integrante 3: | L19: %Participación
D21: Integrante 4: | L21: %Participación
Q23: SÍ
Q24: NO
D25: REQUISITO | M25: CUMPLE | Q25: N.A.
C27: 1 | D27: Documento de proponente plural | L27: N.A.
C28: 1.1 | D28: Forma de unión | M28: N.A. | Q28: N.A.
C29: 1.2 | D29: Objeto | M29: N.A. | Q29: Unión Temporal
C30: 1.3 | D30: Vigencia | M30: N.A. | Q30: Consorcio
C31: 1.4 | D31: Participación | M31: N.A. | Q31: Promesa de sociedad futura
C32: 1.5 | D32: Otros | M32: N.A.
D34: NOTA
C36: 2 | D36: Carta de presentación de la propuesta en el formato de la entidad | M36: SÍ
C37: 2.1 | D37: Aval de la propuesta y consulta de antecedentes del profesional (COPNIA o similares) | M37: NO
D39: NOTA | E39: Si bien se suscribe aval por DANIEL RICARDO HERNANDEZ VANEGAS no se aportan certificados de antecedentes. No se aporto documento durante el tiempo otorgado para subsanación, por lo que se rechaza en razón de la causal 18 del numeral 3.10.1
C41: 3 | D41: Documento de identificación del Representante legal o Persona natural (PN) | M41: SÍ
D43: NOTA | E43: Se aporta documento OSCAR MAURICIO CASTRO DIAZ 1094896180
C45: 4 | D45: Documento que acredite la situación militar definida | M45: SÍ
D47: NOTA | E47: Se aporta documento
C49: 5 | D49: Certificado de existencia y representación legal (CERL) o Registro mercantil (RM) | M49: SÍ
D51: NOTA | E51: Se aporta documento
C53: 6 | D53: Validación de la información del CERL o del RM
C54: 6.1 | D54: Expedición | M54: SÍ
C55: 6.2 | D55: Objeto social relacionado | M55: SÍ
C56: 6.3 | D56: Facultades | M56: SÍ
C57: 6.4 | D57: Constitución y vigencia | M57: SÍ
C58: 6.5 | D58: Tamaño | M58: SÍ
C59: 6.6 | D59: Domicilio | M59: SÍ
C60: 6.7 | D60: Otros | E60: Objeto social, cualquier actividad licita | M60: N.A.
D62: NOTA | E62: Se aporta documento- Tamaño micro empresa
C64: 7 | D64: Registro Único de Proponentes – RUP | M64: N.A.
D66: NOTA | E66: No se requiere
C68: 8 | D68: Validación de la información del RUP
...

Sheet P-6
E2: SERVICIO NACIONAL DE APRENDIZAJE - SENA | L2: Código: GCCON-F-038
E4: ='Resumen - Evaluación jurídica'!C5 -> EVALUACIÓN JURÍDICA - PROCESO NRO. MC-DG-DAF-005-2026 | L4: V.03
C6: OBJETO | E6: ='Resumen - Evaluación jurídica'!C7 -> CONTRATAR LA IMPERMEABILIZACIÓN DE TERRAZAS, CUBIERTAS Y MUROS DEL EDIFICIO DE SERVICIOS COMPLEMENTARIOS DE LA DIRECCIÓN GENERAL DEL SENA
D11: Proponente nro. | E11: 6 | I11: Lotes | J11: N.A. | K11: Número(s)
D13: Nombre del proponente: | F13: OBRAS INSIGNIA SAS
D15: Integrante 1: | L15: %Participación
D17: Integrante 2: | L17: %Participación
D19: Integrante 3: | L19: %Participación
D21: Integrante 4: | L21: %Participación
Q23: SÍ
Q24: NO
D25: REQUISITO | M25: CUMPLE | Q25: N.A.
C27: 1 | D27: Documento de proponente plural | L27: N.A.
C28: 1.1 | D28: Forma de unión | M28: N.A. | Q28: N.A.
C29: 1.2 | D29: Objeto | M29: N.A. | Q29: Unión Temporal
C30: 1.3 | D30: Vigencia | M30: N.A. | Q30: Consorcio
C31: 1.4 | D31: Participación | M31: N.A. | Q31: Promesa de sociedad futura
C32: 1.5 | D32: Otros | M32: N.A.
D34: NOTA
C36: 2 | D36: Carta de presentación de la propuesta en el formato de la entidad | M36: SÍ
C37: 2.1 | D37: Aval de la propuesta y consulta de antecedentes del profesional (COPNIA o similares) | M37: SÍ
D39: NOTA | E39: Se presento aval de la propuesta dentro de los términos de la subsanación
C41: 3 | D41: Documento de identificación del Representante legal o Persona natural (PN) | M41: SÍ
D43: NOTA | E43: Se aporta documento Nicolas Fricano 1019112140
C45: 4 | D45: Documento que acredite la situación militar definida | M45: SÍ
D47: NOTA | E47: Se aporta documento
C49: 5 | D49: Certificado de existencia y representación legal (CERL) o Registro mercantil (RM) | M49: SÍ
D51: NOTA | E51: Si bien inicialmente se aporto documento desactualizado, dentro del termino de subsanación se presento el documento actualizado correspondiente
C53: 6 | D53: Validación de la información del CERL o del RM
C54: 6.1 | D54: Expedición | M54: SÍ
C55: 6.2 | D55: Objeto social relacionado | M55: SÍ
C56: 6.3 | D56: Facultades | M56: SÍ
C57: 6.4 | D57: Constitución y vigencia | M57: SÍ
C58: 6.5 | D58: Tamaño | M58: SÍ
C59: 6.6 | D59: Domicilio | M59: SÍ
C60: 6.7 | D60: Otros | M60: N.A.
D62: NOTA | E62: Tamaño microempresa
C64: 7 | D64: Registro Único de Proponentes – RUP | M64: N.A.
D66: NOTA | E66: DE ACUERDO A EP NO APLICA
C68: 8 | D68: Validación de la información del RUP
...

Sheet P-7
E2: SERVICIO NACIONAL DE APRENDIZAJE - SENA | L2: Código: GCCON-F-038
E4: ='Resumen - Evaluación jurídica'!C5 -> EVALUACIÓN JURÍDICA - PROCESO NRO. MC-DG-DAF-005-2026 | L4: V.03
C6: OBJETO | E6: ='Resumen - Evaluación jurídica'!C7 -> CONTRATAR LA IMPERMEABILIZACIÓN DE TERRAZAS, CUBIERTAS Y MUROS DEL EDIFICIO DE SERVICIOS COMPLEMENTARIOS DE LA DIRECCIÓN GENERAL DEL SENA
D11: Proponente nro. | E11: 7 | I11: Lotes | J11: N.A. | K11: Número(s)
D13: Nombre del proponente: | F13: INNOVACION COLOMBIA SAS
D15: Integrante 1: | L15: %Participación
D17: Integrante 2: | L17: %Participación
D19: Integrante 3: | L19: %Participación
D21: Integrante 4: | L21: %Participación
Q23: SÍ
Q24: NO
D25: REQUISITO | M25: CUMPLE | Q25: N.A.
C27: 1 | D27: Documento de proponente plural | L27: N.A.
C28: 1.1 | D28: Forma de unión | M28: N.A. | Q28: N.A.
C29: 1.2 | D29: Objeto | M29: N.A. | Q29: Unión Temporal
C30: 1.3 | D30: Vigencia | M30: N.A. | Q30: Consorcio
C31: 1.4 | D31: Participación | M31: N.A. | Q31: Promesa de sociedad futura
C32: 1.5 | D32: Otros | M32: N.A.
D34: NOTA
C36: 2 | D36: Carta de presentación de la propuesta en el formato de la entidad | M36: SÍ
C37: 2.1 | D37: Aval de la propuesta y consulta de antecedentes del profesional (COPNIA o similares) | M37: SÍ
D39: NOTA | E39: Se aportan documentos
C41: 3 | D41: Documento de identificación del Representante legal o Persona natural (PN) | M41: SÍ
D43: NOTA | E43: Se aporta documento Maria alejandra martinez 1054561956
C45: 4 | D45: Documento que acredite la situación militar definida | M45: N.A.
D47: NOTA | E47: N/A
C49: 5 | D49: Certificado de existencia y representación legal (CERL) o Registro mercantil (RM) | M49: SÍ
D51: NOTA | E51: Se aporta documento
C53: 6 | D53: Validación de la información del CERL o del RM
C54: 6.1 | D54: Expedición | M54: SÍ
C55: 6.2 | D55: Objeto social relacionado | M55: SÍ
C56: 6.3 | D56: Facultades | M56: SÍ
C57: 6.4 | D57: Constitución y vigencia | M57: SÍ
C58: 6.5 | D58: Tamaño | M58: SÍ
C59: 6.6 | D59: Domicilio | M59: SÍ
C60: 6.7 | D60: Otros | M60: N.A.
D62: NOTA | E62: Tamaño pequeña empresa
C64: 7 | D64: Registro Único de Proponentes – RUP | M64: N.A.
D66: NOTA | E66: DE ACUERDO A EP NO APLICA
C68: 8 | D68: Validación de la información del RUP
...

Sheet P-8
E2: SERVICIO NACIONAL DE APRENDIZAJE - SENA | L2: Código: GCCON-F-038
E4: ='Resumen - Evaluación jurídica'!C5 -> EVALUACIÓN JURÍDICA - PROCESO NRO. MC-DG-DAF-005-2026 | L4: V.03
C6: OBJETO | E6: ='Resumen - Evaluación jurídica'!C7 -> CONTRATAR LA IMPERMEABILIZACIÓN DE TERRAZAS, CUBIERTAS Y MUROS DEL EDIFICIO DE SERVICIOS COMPLEMENTARIOS DE LA DIRECCIÓN GENERAL DEL SENA
D11: Proponente nro. | E11: 8 | I11: Lotes | J11: N.A. | K11: Número(s)
D13: Nombre del proponente: | F13: FGD
D15: Integrante 1: | L15: %Participación
D17: Integrante 2: | L17: %Participación
D19: Integrante 3: | L19: %Participación
D21: Integrante 4: | L21: %Participación
Q23: SÍ
Q24: NO
D25: REQUISITO | M25: CUMPLE | Q25: N.A.
C27: 1 | D27: Documento de proponente plural | L27: N.A.
C28: 1.1 | D28: Forma de unión | M28: N.A. | Q28: N.A.
C29: 1.2 | D29: Objeto | M29: N.A. | Q29: Unión Temporal
C30: 1.3 | D30: Vigencia | M30: N.A. | Q30: Consorcio
C31: 1.4 | D31: Participación | M31: N.A. | Q31: Promesa de sociedad futura
C32: 1.5 | D32: Otros | M32: N.A.
D34: NOTA
C36: 2 | D36: Carta de presentación de la propuesta en el formato de la entidad | M36: SÍ
C37: 2.1 | D37: Aval de la propuesta y consulta de antecedentes del profesional (COPNIA o similares) | M37: SÍ
D39: NOTA | E39: Si bien inicialmente no se aportaron soportes del profesional que avala la propuesta, en el plazo de subsanación se aportan
C41: 3 | D41: Documento de identificación del Representante legal o Persona natural (PN) | M41: SÍ
D43: NOTA | E43: Se aporta documento Fabio Garzon Daza 19336660
C45: 4 | D45: Documento que acredite la situación militar definida | M45: SÍ
D47: NOTA | E47: Se aporta documento
C49: 5 | D49: Certificado de existencia y representación legal (CERL) o Registro mercantil (RM) | M49: N.A.
D51: NOTA
C53: 6 | D53: Validación de la información del CERL o del RM
C54: 6.1 | D54: Expedición | M54: N.A.
C55: 6.2 | D55: Objeto social relacionado | M55: N.A.
C56: 6.3 | D56: Facultades | M56: N.A.
C57: 6.4 | D57: Constitución y vigencia | M57: N.A.
C58: 6.5 | D58: Tamaño | M58: N.A.
C59: 6.6 | D59: Domicilio | M59: N.A.
C60: 6.7 | D60: Otros | M60: N.A.
D62: NOTA
C64: 7 | D64: Registro Único de Proponentes – RUP | M64: N.A.
D66: NOTA | E66: N/A
C68: 8 | D68: Validación de la información del RUP
...

Sheet P-9
E2: SERVICIO NACIONAL DE APRENDIZAJE - SENA | L2: Código: GCCON-F-038
E4: ='Resumen - Evaluación jurídica'!C5 -> EVALUACIÓN JURÍDICA - PROCESO NRO. MC-DG-DAF-005-2026 | L4: V.03
C6: OBJETO | E6: ='Resumen - Evaluación jurídica'!C7 -> CONTRATAR LA IMPERMEABILIZACIÓN DE TERRAZAS, CUBIERTAS Y MUROS DEL EDIFICIO DE SERVICIOS COMPLEMENTARIOS DE LA DIRECCIÓN GENERAL DEL SENA
D11: Proponente nro. | E11: 9 | I11: Lotes | J11: N.A. | K11: Número(s)
D13: Nombre del proponente: | F13: INDUTECHOS SAS
D15: Integrante 1: | L15: %Participación
D17: Integrante 2: | L17: %Participación
D19: Integrante 3: | L19: %Participación
D21: Integrante 4: | L21: %Participación
Q23: SÍ
Q24: NO
D25: REQUISITO | M25: CUMPLE | Q25: N.A.
C27: 1 | D27: Documento de proponente plural | L27: N.A.
C28: 1.1 | D28: Forma de unión | M28: N.A. | Q28: N.A.
C29: 1.2 | D29: Objeto | M29: N.A. | Q29: Unión Temporal
C30: 1.3 | D30: Vigencia | M30: N.A. | Q30: Consorcio
C31: 1.4 | D31: Participación | M31: N.A. | Q31: Promesa de sociedad futura
C32: 1.5 | D32: Otros | M32: N.A.
D34: NOTA
C36: 2 | D36: Carta de presentación de la propuesta en el formato de la entidad | M36: SÍ
C37: 2.1 | D37: Aval de la propuesta y consulta de antecedentes del profesional (COPNIA o similares) | M37: SÍ
D39: NOTA
C41: 3 | D41: Documento de identificación del Representante legal o Persona natural (PN) | M41: SÍ
D43: NOTA | E43: Se aporta documento de JHON EDWAR ARAGON OYOLA 1.110.232.752
C45: 4 | D45: Documento que acredite la situación militar definida | M45: SÍ
D47: NOTA | E47: Se aporta documento
C49: 5 | D49: Certificado de existencia y representación legal (CERL) o Registro mercantil (RM) | M49: SÍ
D51: NOTA | E51: Se aporta documento
C53: 6 | D53: Validación de la información del CERL o del RM
C54: 6.1 | D54: Expedición | M54: SÍ
C55: 6.2 | D55: Objeto social relacionado | M55: SÍ
C56: 6.3 | D56: Facultades | M56: SÍ
C57: 6.4 | D57: Constitución y vigencia | M57: SÍ
C58: 6.5 | D58: Tamaño | M58: SÍ
C59: 6.6 | D59: Domicilio | M59: SÍ
C60: 6.7 | D60: Otros | M60: N.A.
D62: NOTA | E62: Tamaño de empresa micro
C64: 7 | D64: Registro Único de Proponentes – RUP | M64: N.A.
D66: NOTA | E66: No se requiere
C68: 8 | D68: Validación de la información del RUP
...

Sheet P-10
E2: SERVICIO NACIONAL DE APRENDIZAJE - SENA | L2: Código: GCCON-F-038
E4: ='Resumen - Evaluación jurídica'!C5 -> EVALUACIÓN JURÍDICA - PROCESO NRO. MC-DG-DAF-005-2026 | L4: V.03
C6: OBJETO | E6: ='Resumen - Evaluación jurídica'!C7 -> CONTRATAR LA IMPERMEABILIZACIÓN DE TERRAZAS, CUBIERTAS Y MUROS DEL EDIFICIO DE SERVICIOS COMPLEMENTARIOS DE LA DIRECCIÓN GENERAL DEL SENA
D11: Proponente nro. | E11: 10 | I11: Lotes | J11: N.A. | K11: Número(s)
D13: Nombre del proponente: | F13: UNAMERICA SAS
D15: Integrante 1: | L15: %Participación
D17: Integrante 2: | L17: %Participación
D19: Integrante 3: | L19: %Participación
D21: Integrante 4: | L21: %Participación
Q23: SÍ
Q24: NO
D25: REQUISITO | M25: CUMPLE | Q25: N.A.
C27: 1 | D27: Documento de proponente plural | L27: N.A.
C28: 1.1 | D28: Forma de unión | M28: N.A. | Q28: N.A.
C29: 1.2 | D29: Objeto | M29: N.A. | Q29: Unión Temporal
C30: 1.3 | D30: Vigencia | M30: N.A. | Q30: Consorcio
C31: 1.4 | D31: Participación | M31: N.A. | Q31: Promesa de sociedad futura
C32: 1.5 | D32: Otros | M32: N.A.
D34: NOTA
C36: 2 | D36: Carta de presentación de la propuesta en el formato de la entidad | M36: NO
C37: 2.1 | D37: Aval de la propuesta y consulta de antecedentes del profesional (COPNIA o similares) | M37: NO
D39: NOTA | E39: La carta de presentación de propuesta no fue diligencia correctamente en tanto no se identifica aval de la propuesta, tampoco se allegan soportes de aval. No se aporto documento durante el tiempo otorgado para subsanación, por lo que se rechaza en razón de la causal 18 del numeral 3.10.1
C41: 3 | D41: Documento de identificación del Representante legal o Persona natural (PN) | M41: SÍ
D43: NOTA | E43: Se aporta documento William Torres 7939754
C45: 4 | D45: Documento que acredite la situación militar definida | M45: NO
D47: NOTA | E47: No se aporta documento. No se aporto documento durante el tiempo otorgado para subsanación, por lo que se rechaza en razón de la causal 18 del numeral 3.10.1
C49: 5 | D49: Certificado de existencia y representación legal (CERL) o Registro mercantil (RM) | M49: SÍ
D51: NOTA | E51: Se aporta documento
C53: 6 | D53: Validación de la información del CERL o del RM
C54: 6.1 | D54: Expedición | M54: SÍ
C55: 6.2 | D55: Objeto social relacionado | M55: SÍ
C56: 6.3 | D56: Facultades | M56: SÍ
C57: 6.4 | D57: Constitución y vigencia | M57: SÍ
C58: 6.5 | D58: Tamaño | M58: SÍ
C59: 6.6 | D59: Domicilio | M59: SÍ
C60: 6.7 | D60: Otros | M60: N.A.
D62: NOTA
C64: 7 | D64: Registro Único de Proponentes – RUP | M64: N.A.
D66: NOTA | E66: No se requiere
C68: 8 | D68: Validación de la información del RUP
...

Sheet P-11 
E2: SERVICIO NACIONAL DE APRENDIZAJE - SENA | L2: Código: GCCON-F-038
E4: ='Resumen - Evaluación jurídica'!C5 -> EVALUACIÓN JURÍDICA - PROCESO NRO. MC-DG-DAF-005-2026 | L4: V.03
C6: OBJETO | E6: ='Resumen - Evaluación jurídica'!C7 -> CONTRATAR LA IMPERMEABILIZACIÓN DE TERRAZAS, CUBIERTAS Y MUROS DEL EDIFICIO DE SERVICIOS COMPLEMENTARIOS DE LA DIRECCIÓN GENERAL DEL SENA
D11: Proponente nro. | E11: 11 | I11: Lotes | J11: N.A. | K11: Número(s)
D13: Nombre del proponente: | F13: CONSORCIO CUBIERTA SENA 2026 2
D15: Integrante 1: | E15: YT CONSTRUCCIONES CIVILES S.A.S | L15: %Participación | M15: 0.5
D17: Integrante 2: | E17: GRUPO EMPRESARIAL LAURUS S.A.S | L17: %Participación | M17: 0.5
D19: Integrante 3: | L19: %Participación
D21: Integrante 4: | L21: %Participación
Q23: SÍ
Q24: NO
D25: REQUISITO | M25: CUMPLE | Q25: N.A.
C27: 1 | D27: Documento de proponente plural | L27: N.A.
C28: 1.1 | D28: Forma de unión | M28: N.A. | Q28: N.A.
C29: 1.2 | D29: Objeto | M29: N.A. | Q29: Unión Temporal
C30: 1.3 | D30: Vigencia | M30: N.A. | Q30: Consorcio
C31: 1.4 | D31: Participación | M31: N.A. | Q31: Promesa de sociedad futura
C32: 1.5 | D32: Otros | M32: N.A.
D34: NOTA
C36: 2 | D36: Carta de presentación de la propuesta en el formato de la entidad | M36: SÍ
C37: 2.1 | D37: Aval de la propuesta y consulta de antecedentes del profesional (COPNIA o similares) | M37: SÍ
D39: NOTA
C41: 3 | D41: Documento de identificación del Representante legal o Persona natural (PN) | M41: SÍ
D43: NOTA
C45: 4 | D45: Documento que acredite la situación militar definida | M45: NO
D47: NOTA | E47: NO SE APORTA
C49: 5 | D49: Certificado de existencia y representación legal (CERL) o Registro mercantil (RM) | M49: SÍ
D51: NOTA | E51: Se aporta documento
C53: 6 | D53: Validación de la información del CERL o del RM
C54: 6.1 | D54: Expedición | M54: SÍ
C55: 6.2 | D55: Objeto social relacionado | M55: SÍ
C56: 6.3 | D56: Facultades | M56: SÍ
C57: 6.4 | D57: Constitución y vigencia | M57: SÍ
C58: 6.5 | D58: Tamaño | M58: SÍ
C59: 6.6 | D59: Domicilio | M59: SÍ
C60: 6.7 | D60: Otros | M60: N.A.
D62: NOTA | E62: Se aporta CERL de los consorciados
C64: 7 | D64: Registro Único de Proponentes – RUP | M64: N.A.
D66: NOTA | E66: No se requiere conforme EP
C68: 8 | D68: Validación de la información del RUP
...

Sheet P-12
E2: SERVICIO NACIONAL DE APRENDIZAJE - SENA | L2: Código: GCCON-F-038
E4: ='Resumen - Evaluación jurídica'!C5 -> EVALUACIÓN JURÍDICA - PROCESO NRO. MC-DG-DAF-005-2026 | L4: V.03
C6: OBJETO | E6: ='Resumen - Evaluación jurídica'!C7 -> CONTRATAR LA IMPERMEABILIZACIÓN DE TERRAZAS, CUBIERTAS Y MUROS DEL EDIFICIO DE SERVICIOS COMPLEMENTARIOS DE LA DIRECCIÓN GENERAL DEL SENA
D11: Proponente nro. | E11: 11 | I11: Lotes | J11: N.A. | K11: Número(s)
D13: Nombre del proponente: | F13: Andrés García A
D15: Integrante 1: | L15: %Participación
D17: Integrante 2: | L17: %Participación
D19: Integrante 3: | L19: %Participación
D21: Integrante 4: | L21: %Participación
Q23: SÍ
Q24: NO
D25: REQUISITO | M25: CUMPLE | Q25: N.A.
C27: 1 | D27: Documento de proponente plural | L27: N.A.
C28: 1.1 | D28: Forma de unión | M28: N.A. | Q28: N.A.
C29: 1.2 | D29: Objeto | M29: N.A. | Q29: Unión Temporal
C30: 1.3 | D30: Vigencia | M30: N.A. | Q30: Consorcio
C31: 1.4 | D31: Participación | M31: N.A. | Q31: Promesa de sociedad futura
C32: 1.5 | D32: Otros | M32: N.A.
D34: NOTA
C36: 2 | D36: Carta de presentación de la propuesta en el formato de la entidad | M36: SÍ
C37: 2.1 | D37: Aval de la propuesta y consulta de antecedentes del profesional (COPNIA o similares) | M37: SÍ
D39: NOTA
C41: 3 | D41: Documento de identificación del Representante legal o Persona natural (PN) | M41: SÍ
D43: NOTA
C45: 4 | D45: Documento que acredite la situación militar definida | M45: SÍ
D47: NOTA
C49: 5 | D49: Certificado de existencia y representación legal (CERL) o Registro mercantil (RM) | M49: SÍ
D51: NOTA | E51: Se aporta documento
C53: 6 | D53: Validación de la información del CERL o del RM
C54: 6.1 | D54: Expedición | M54: N.A.
C55: 6.2 | D55: Objeto social relacionado | M55: N.A.
C56: 6.3 | D56: Facultades | M56: N.A.
C57: 6.4 | D57: Constitución y vigencia | M57: N.A.
C58: 6.5 | D58: Tamaño | M58: N.A.
C59: 6.6 | D59: Domicilio | M59: N.A.
C60: 6.7 | D60: Otros | M60: N.A.
D62: NOTA
C64: 7 | D64: Registro Único de Proponentes – RUP | M64: N.A.
D66: NOTA | E66: No se requiere
C68: 8 | D68: Validación de la información del RUP
...

Sheet P-13
E2: SERVICIO NACIONAL DE APRENDIZAJE - SENA | L2: Código: GCCON-F-038
E4: ='Resumen - Evaluación jurídica'!C5 -> EVALUACIÓN JURÍDICA - PROCESO NRO. MC-DG-DAF-005-2026 | L4: V.03
C6: OBJETO | E6: ='Resumen - Evaluación jurídica'!C7 -> CONTRATAR LA IMPERMEABILIZACIÓN DE TERRAZAS, CUBIERTAS Y MUROS DEL EDIFICIO DE SERVICIOS COMPLEMENTARIOS DE LA DIRECCIÓN GENERAL DEL SENA
D11: Proponente nro. | E11: 12 | I11: Lotes | J11: N.A. | K11: Número(s)
D13: Nombre del proponente: | F13: GEDICCON S.A.S
D15: Integrante 1: | L15: %Participación
D17: Integrante 2: | L17: %Participación
D19: Integrante 3: | L19: %Participación
D21: Integrante 4: | L21: %Participación
Q23: SÍ
Q24: NO
D25: REQUISITO | M25: CUMPLE | Q25: N.A.
C27: 1 | D27: Documento de proponente plural | L27: N.A.
C28: 1.1 | D28: Forma de unión | M28: N.A. | Q28: N.A.
C29: 1.2 | D29: Objeto | M29: N.A. | Q29: Unión Temporal
C30: 1.3 | D30: Vigencia | M30: N.A. | Q30: Consorcio
C31: 1.4 | D31: Participación | M31: N.A. | Q31: Promesa de sociedad futura
C32: 1.5 | D32: Otros | M32: N.A.
D34: NOTA
C36: 2 | D36: Carta de presentación de la propuesta en el formato de la entidad | M36: SÍ
C37: 2.1 | D37: Aval de la propuesta y consulta de antecedentes del profesional (COPNIA o similares) | M37: NO
D39: NOTA | E39: RL avala la propuesta, sin embargo, no se adjunta copia de la tarjeta profesional del mismo y certificado de vigencia COPNIA no cuenta con su firma
C41: 3 | D41: Documento de identificación del Representante legal o Persona natural (PN) | M41: SÍ
D43: NOTA
C45: 4 | D45: Documento que acredite la situación militar definida | M45: NO
D47: NOTA | E47: NO SE APORTA
C49: 5 | D49: Certificado de existencia y representación legal (CERL) o Registro mercantil (RM) | M49: SÍ
D51: NOTA | E51: Se aporta documento
C53: 6 | D53: Validación de la información del CERL o del RM
C54: 6.1 | D54: Expedición | M54: SÍ
C55: 6.2 | D55: Objeto social relacionado | M55: SÍ
C56: 6.3 | D56: Facultades | M56: SÍ
C57: 6.4 | D57: Constitución y vigencia | M57: SÍ
C58: 6.5 | D58: Tamaño | M58: SÍ
C59: 6.6 | D59: Domicilio | M59: SÍ
C60: 6.7 | D60: Otros | M60: N.A.
D62: NOTA
C64: 7 | D64: Registro Único de Proponentes – RUP | M64: N.A.
D66: NOTA | E66: No se requiere
C68: 8 | D68: Validación de la información del RUP
...

Sheet P-14
E2: SERVICIO NACIONAL DE APRENDIZAJE - SENA | L2: Código: GCCON-F-038
E4: ='Resumen - Evaluación jurídica'!C5 -> EVALUACIÓN JURÍDICA - PROCESO NRO. MC-DG-DAF-005-2026 | L4: V.03
C6: OBJETO | E6: ='Resumen - Evaluación jurídica'!C7 -> CONTRATAR LA IMPERMEABILIZACIÓN DE TERRAZAS, CUBIERTAS Y MUROS DEL EDIFICIO DE SERVICIOS COMPLEMENTARIOS DE LA DIRECCIÓN GENERAL DEL SENA
D11: Proponente nro. | E11: 13 | I11: Lotes | J11: N.A. | K11: Número(s)
D13: Nombre del proponente: | F13: SOLTEC PROYECTOS DE INGENIERÍA S.A.S
D15: Integrante 1: | L15: %Participación
D17: Integrante 2: | L17: %Participación
D19: Integrante 3: | L19: %Participación
D21: Integrante 4: | L21: %Participación
Q23: SÍ
Q24: NO
D25: REQUISITO | M25: CUMPLE | Q25: N.A.
C27: 1 | D27: Documento de proponente plural | L27: N.A.
C28: 1.1 | D28: Forma de unión | M28: N.A. | Q28: N.A.
C29: 1.2 | D29: Objeto | M29: N.A. | Q29: Unión Temporal
C30: 1.3 | D30: Vigencia | M30: N.A. | Q30: Consorcio
C31: 1.4 | D31: Participación | M31: N.A. | Q31: Promesa de sociedad futura
C32: 1.5 | D32: Otros | M32: N.A.
D34: NOTA
C36: 2 | D36: Carta de presentación de la propuesta en el formato de la entidad | M36: SÍ
C37: 2.1 | D37: Aval de la propuesta y consulta de antecedentes del profesional (COPNIA o similares) | M37: SÍ
D39: NOTA
C41: 3 | D41: Documento de identificación del Representante legal o Persona natural (PN) | M41: SÍ
D43: NOTA
C45: 4 | D45: Documento que acredite la situación militar definida | M45: SÍ
D47: NOTA
C49: 5 | D49: Certificado de existencia y representación legal (CERL) o Registro mercantil (RM) | M49: SÍ
D51: NOTA | E51: Se aporta documento
C53: 6 | D53: Validación de la información del CERL o del RM
C54: 6.1 | D54: Expedición | M54: SÍ
C55: 6.2 | D55: Objeto social relacionado | M55: SÍ
C56: 6.3 | D56: Facultades | M56: SÍ
C57: 6.4 | D57: Constitución y vigencia | M57: SÍ
C58: 6.5 | D58: Tamaño | M58: SÍ
C59: 6.6 | D59: Domicilio | M59: SÍ
C60: 6.7 | D60: Otros | M60: N.A.
D62: NOTA
C64: 7 | D64: Registro Único de Proponentes – RUP | M64: N.A.
D66: NOTA | E66: No se requiere conforme EP
C68: 8 | D68: Validación de la información del RUP
...
