Workbook

Sheet Instrucciones
M1: Versión: 03
M2: Código: GCON-F-038
B3: PROCESO
B4: GESTIÓN CONTRACTUAL
B5: NOMBRE DEL FORMATO
B6: EVALUACIÓN JURÍDICA
B7: CLASIFICACIÓN DE LA INFORMACIÓN
B8: Pública | F8: Pública clasificada | J8: Pública reservada
C10: Generalidades
C11: 1) Este formato tiene por objetivo dar a conocer el resultado de la evaluación jurídica de las ofertas presentadas en los procesos de selección de la entidad.
C12: 2) El formato está asociado al Manual de Contratación (GCCON-M-001) y al Manual Supervisión e Interventoría (GCCON-M-002), así como a los procedimientos que rigen la gestión contractual de la entidad.
C13: 3) Este formato es diligenciado por el evaluador jurídico del proceso de selección, cada vez que se requiera evaluar jurídicamente un proceso de selección.
C14: 4) Este formato no requiere ser impreso. Una vez diligenciado, deberá archivarse de conformidad con lo establecidos en las tablas de retención documental de la entidad.
C15: 5) El contenido que se encuentra en color diferente a negro, entre paréntesis o con el signo “/” son orientaciones para el diligenciamiento del formato.
C16: 6) El formato puede ser modificado en aquellos apartados en que así se indique. No modifique el formato más allá de lo que se requiera para así mantener la uniformidad e integridad del mismo. Recuerde siempre descargarlo desde la plataforma CompromISO para evitar un formato reciclado que pueda contener errores.
C17: 7) Una vez se realice la evaluación de cada proponente se debe validar la redacción y ortografía del documento (presionar "F7"). Posteriormente se debe imprimir en PDF el documento completo para así publicarlo en las diferentes plataformas.
C18: 8) El documento permite: (i) aplicar formato a celdas, (ii) eliminar filas, (iii) eliminar y agregar hojas. Los requisitos habilitantes (del 1 al 17) de la página de evaluación no se deben eliminar. Su eliminación, así como la eliminación de algunas de las filas referidas, puede suponer una afectación a las fórmulas del documento y, por ende, a la calificación. Revise muy bien lo que quiera eliminar.
C19: 9) Las celdas que no requieren edición se encuentran bloqueadas.
C20: 10) Elimine esta hoja, previa publicación de la evaluación del proceso.
C21: 11) Si se detectan fallas o errores en este archivo, los mismos se debe reportar a la Dirección jurídica para realizar los ajustes correspondientes.
... C42: 13) Si el texto incluido en las celdas editables (Requisitos o NOTA) no es visible del todo, amplíe el alto de la fila para que el mismo pueda ser visualizado de forma integral.

Sheet Resumen - Evaluación jurídica
C2: SERVICIO NACIONAL DE APRENDIZAJE - SENA | D2: Código: GCCON-F-038
C4: CONSOLIDADO | D4: V.03 | J4: G153 | K4: F13
C5: EVALUACIÓN JURÍDICA - PROCESO NRO. MC-DG-DAF-005-2026
I6: ="='P-"&J6&"'!"&$J$4 -> ='P-1'!G153 | J6: 1 | K6: ="='P-"&J6&"'!"&$K$4 -> ='P-1'!F13
B7: OBJETO | C7: CONTRATAR LA IMPERMEABILIZACIÓN DE TERRAZAS, CUBIERTAS Y MUROS DEL EDIFICIO DE SERVICIOS COMPLEMENTARIOS DE LA DIRECCIÓN GENERAL DEL SENA | I7: ="='P-"&J7&"'!"&$J$4 -> ='P-2'!G153 | J7: 2 | K7: ="='P-"&J7&"'!"&$K$4 -> ='P-2'!F13
I8: ="='P-"&J8&"'!"&$J$4 -> ='P-3'!G153 | J8: 3 | K8: ="='P-"&J8&"'!"&$K$4 -> ='P-3'!F13
I9: ="='P-"&J9&"'!"&$J$4 -> ='P-4'!G153 | J9: 4 | K9: ="='P-"&J9&"'!"&$K$4 -> ='P-4'!F13
I10: ="='P-"&J10&"'!"&$J$4 -> ='P-5'!G153 | J10: 5 | K10: ="='P-"&J10&"'!"&$K$4 -> ='P-5'!F13
B11: NRO. | C11: NOMBRE PROPONENTE | D11: CALIFICACIÓN | I11: ="='P-"&J11&"'!"&$J$4 -> ='P-6'!G153 | J11: 6 | K11: ="='P-"&J11&"'!"&$K$4 -> ='P-6'!F13
B12: P-1 | C12: ='P-1'!F13 -> CONSTRUCTORA LA DIANA LTDA NIT 800196349-8 | D12: RECHAZADO | I12: ="='P-"&J12&"'!"&$J$4 -> ='P-7'!G153 | J12: 7 | K12: ="='P-"&J12&"'!"&$K$4 -> ='P-7'!F13
B13: P-2 | C13: EQUISERVICIOS INDUSTRIALES S.A.S. | D13: RECHAZADO | I13: ="='P-"&J13&"'!"&$J$4 -> ='P-8'!G153 | J13: 8 | K13: ="='P-"&J13&"'!"&$K$4 -> ='P-8'!F13
B14: P-3 | C14: SICCEI SAS ZOMAC | D14: RECHAZADO | I14: ="='P-"&J14&"'!"&$J$4 -> ='P-9'!G153 | J14: 9 | K14: ="='P-"&J14&"'!"&$K$4 -> ='P-9'!F13
B15: P-4 | C15: CONSTRUPISOS T.M . SAS | D15: CUMPLE | I15: ="='P-"&J15&"'!"&$J$4 -> ='P-10'!G153 | J15: 10 | K15: ="='P-"&J15&"'!"&$K$4 -> ='P-10'!F13
B16: P-5 | C16: PROCOM PROYECTOS Y CONSTRUCCIONES SAS | D16: RECHAZADO | I16: ="='P-"&J16&"'!"&$J$4 -> ='P-11'!G153 | J16: 11 | K16: ="='P-"&J16&"'!"&$K$4 -> ='P-11'!F13
B17: P-6 | C17: OBRAS INSIGNIA SAS | D17: CUMPLE | I17: ="='P-"&J17&"'!"&$J$4 -> ='P-12'!G153 | J17: 12 | K17: ="='P-"&J17&"'!"&$K$4 -> ='P-12'!F13
B18: P-7 | C18: INNOVACION COLOMBIA SAS | D18: RECHAZADO | I18: ="='P-"&J18&"'!"&$J$4 -> ='P-13'!G153 | J18: 13 | K18: ="='P-"&J18&"'!"&$K$4 -> ='P-13'!F13
B19: P-8 | C19: FGD | D19: CUMPLE | I19: ="='P-"&J19&"'!"&$J$4 -> ='P-14'!G153 | J19: 14 | K19: ="='P-"&J19&"'!"&$K$4 -> ='P-14'!F13
B20: P-9 | C20: INDUTECHOS SAS | D20: RECHAZADO | I20: ="='P-"&J20&"'!"&$J$4 -> ='P-15'!G153 | J20: 15 | K20: ="='P-"&J20&"'!"&$K$4 -> ='P-15'!F13
B21: P-10 | C21: UNAMERICA SAS | D21: RECHAZADO | I21: ="='P-"&J21&"'!"&$J$4 -> ='P-16'!G153 | J21: 16 | K21: ="='P-"&J21&"'!"&$K$4 -> ='P-16'!F13
B22: P-11 | C22: CONSORCIO CUBIERTA SENA 2026 2 | D22: RECHAZADO | I22: ="='P-"&J22&"'!"&$J$4 -> ='P-17'!G153 | J22: 17 | K22: ="='P-"&J22&"'!"&$K$4 -> ='P-17'!F13
B23: P-12 | C23: ANDRÉS GARCÍA A | D23: CUMPLE | I23: ="='P-"&J23&"'!"&$J$4 -> ='P-18'!G153 | J23: 18 | K23: ="='P-"&J23&"'!"&$K$4 -> ='P-18'!F13
B24: P-13 | C24: GEDICCON S.A.S. | D24: RECHAZADO | I24: ="='P-"&J24&"'!"&$J$4 -> ='P-19'!G153 | J24: 19 | K24: ="='P-"&J24&"'!"&$K$4 -> ='P-19'!F13
B25: P-14 | C25: SOLTEC PROYECTOS DE INGENIERÍA S.A.S | D25: CUMPLE | I25: ="='P-"&J25&"'!"&$J$4 -> ='P-20'!G153 | J25: 20 | K25: ="='P-"&J25&"'!"&$K$4 -> ='P-20'!F13
B26: P-15 | C26: ='[1]P-15'!F13 -> #REF! | D26: ='[1]P-15'!G153 -> #REF! | I26: ="='P-"&J26&"'!"&$J$4 -> ='P-21'!G153 | J26: 21 | K26: ="='P-"&J26&"'!"&$K$4 -> ='P-21'!F13
B27: P-16 | C27: ='[2]P-16'!F13 -> #REF! | D27: ='[2]P-16'!G153 -> #REF! | I27: ="='P-"&J27&"'!"&$J$4 -> ='P-22'!G153 | J27: 22 | K27: ="='P-"&J27&"'!"&$K$4 -> ='P-22'!F13
B28: P-17 | C28: ='[3]P-17'!F13 -> #REF! | D28: ='[3]P-17'!G153 -> #REF! | I28: ="='P-"&J28&"'!"&$J$4 -> ='P-23'!G153 | J28: 23 | K28: ="='P-"&J28&"'!"&$K$4 -> ='P-23'!F13
B29: P-18 | C29: ='[4]P-18'!F13 -> #REF! | D29: ='[4]P-18'!G153 -> #REF! | I29: ="='P-"&J29&"'!"&$J$4 -> ='P-24'!G153 | J29: 24 | K29: ="='P-"&J29&"'!"&$K$4 -> ='P-24'!F13
B30: P-19 | C30: ='[5]P-19'!F13 -> #REF! | D30: ='[5]P-19'!G153 -> #REF! | I30: ="='P-"&J30&"'!"&$J$4 -> ='P-25'!G153 | J30: 25 | K30: ="='P-"&J30&"'!"&$K$4 -> ='P-25'!F13
B31: P-20 | C31: ='[6]P-20'!F13 -> #REF! | D31: ='[6]P-20'!G153 -> #REF! | I31: ="='P-"&J31&"'!"&$J$4 -> ='P-26'!G153 | J31: 26 | K31: ="='P-"&J31&"'!"&$K$4 -> ='P-26'!F13
I32: ="='P-"&J32&"'!"&$J$4 -> ='P-27'!G153 | J32: 27 | K32: ="='P-"&J32&"'!"&$K$4 -> ='P-27'!F13
I33: ="='P-"&J33&"'!"&$J$4 -> ='P-28'!G153 | J33: 28 | K33: ="='P-"&J33&"'!"&$K$4 -> ='P-28'!F13
B34: NOTA 1. Si el resultado de la evaluación es "NO CUMPLE", el oferente deberá subsanar la propuesta durante el término establecido en el cronograma del proceso o la ley, según el caso. Por regla general, la subsanación solo se permite para la evaluación preliminar. | I34: ="='P-"&J34&"'!"&$J$4 -> ='P-29'!G153 | J34: 29 | K34: ="='P-"&J34&"'!"&$K$4 -> ='P-29'!F13
I36: ="='P-"&J36&"'!"&$J$4 -> ='P-30'!G153 | J36: 30 | K36: ="='P-"&J36&"'!"&$K$4 -> ='P-30'!F13
B38: NOTA 2. Si el oferente, durante el término del traslado no subsanó o subsanó incorrectamente su oferta, el resultado de la evaluación es "RECHAZADO". Tal calificación se podra observar en el Informe consolidado.
B42: OBSERVACIONES
B48: CUMPLE | D48: =COUNTIF(D12:D31,F126) -> 5
B49: NO CUMPLE | D49: =COUNTIF(D12:D31,F127) -> 0
B50: RECHAZADO | D50: =COUNTIF(D12:D31,F128) -> 9
B51: TOTAL | D51: =SUM(D48:D50) -> 14
C56: MARIA FERNANDA SOTO O
C57: CONTRATISTA- GIGC
C62: [NOMBRE Y FIRMA DEL EVALUADOR JURÍDICO]
I99: ="='P-"&J99&"'!"&$J$4 -> ='P-75'!G153 | J99: 75 | K99: ="='P-"&J99&"'!"&$K$4 -> ='P-75'!F13
I100: ="='P-"&J100&"'!"&$J$4 -> ='P-76'!G153 | J100: 76 | K100: ="='P-"&J100&"'!"&$K$4 -> ='P-76'!F13
I101: ="='P-"&J101&"'!"&$J$4 -> ='P-77'!G153 | J101: 77 | K101: ="='P-"&J101&"'!"&$K$4 -> ='P-77'!F13
I102: ="='P-"&J102&"'!"&$J$4 -> ='P-78'!G153 | J102: 78 | K102: ="='P-"&J102&"'!"&$K$4 -> ='P-78'!F13
I103: ="='P-"&J103&"'!"&$J$4 -> ='P-79'!G153 | J103: 79 | K103: ="='P-"&J103&"'!"&$K$4 -> ='P-79'!F13
I104: ="='P-"&J104&"'!"&$J$4 -> ='P-80'!G153 | J104: 80 | K104: ="='P-"&J104&"'!"&$K$4 -> ='P-80'!F13
F121: APLICA
F122: NO APLICA
F126: CUMPLE
F127: NO CUMPLE
F128: RECHAZADO
F129: X
L131: ="='P-"&#REF!&"'!"&#REF! -> #REF!

Sheet P-1
E2: SERVICIO NACIONAL DE APRENDIZAJE - SENA | L2: Código: GCCON-F-038
E4: ='Resumen - Evaluación jurídica'!C5 -> EVALUACIÓN JURÍDICA - PROCESO NRO. MC-DG-DAF-005-2026 | L4: V.03
C6: OBJETO | E6: ='Resumen - Evaluación jurídica'!C7 -> CONTRATAR LA IMPERMEABILIZACIÓN DE TERRAZAS, CUBIERTAS Y MUROS DEL EDIFICIO DE SERVICIOS COMPLEMENTARIOS DE LA DIRECCIÓN GENERAL DEL SENA
D11: Proponente nro. | E11: 1 | I11: Lotes | J11: N.A. | K11: Número(s)
D13: Nombre del proponente: | F13: CONSTRUCTORA LA DIANA LTDA NIT 800196349-8
D15: Integrante 1: | L15: %Participación
D17: Integrante 2: | L17: %Participación
D19: Integrante 3: | L19: %Participación
D21: Integrante 4: | L21: %Participación
Q23: SÍ
Q24: NO
D25: REQUISITO | M25: CUMPLE | Q25: N.A.
C27: 1 | D27: Documento de proponente plural | L27: N.A.
C28: 1.1 | D28: Forma de unión | M28: N.A. | Q28: N.A.
C29: 1.2 | D29: Objeto | M29: N.A. | Q29: Unión Temporal
C30: 1.3 | D30: Vigencia | M30: N.A. | Q30: Consorcio
C31: 1.4 | D31: Participación | M31: N.A. | Q31: Promesa de sociedad futura
C32: 1.5 | D32: Otros | M32: N.A.
D34: NOTA
C36: 2 | D36: Carta de presentación de la propuesta en el formato de la entidad | M36: SÍ
C37: 2.1 | D37: Aval de la propuesta y consulta de antecedentes del profesional (COPNIA o similares) | M37: SÍ
D39: NOTA | E39: Se presenta aval de la propuesta por el Ing. Hugo Morán, no obstante, no se allega Certificado de Vigencia y Antecedentes Disciplinarios
C41: 3 | D41: Documento de identificación del Representante legal o Persona natural (PN) | M41: SÍ
D43: NOTA | E43: RL Hernan Sepulveda Orrego 16347755
C45: 4 | D45: Documento que acredite la situación militar definida | M45: N.A.
D47: NOTA | E47: N/A por tratarse de mayor de 50 años
C49: 5 | D49: Certificado de existencia y representación legal (CERL) o Registro mercantil (RM) | M49: SÍ
D51: NOTA | E51: Se aporta documento
C53: 6 | D53: Validación de la información del CERL o del RM
C54: 6.1 | D54: Expedición | M54: SÍ
C55: 6.2 | D55: Objeto social relacionado | M55: SÍ
C56: 6.3 | D56: Facultades | M56: SÍ
C57: 6.4 | D57: Constitución y vigencia | M57: SÍ
C58: 6.5 | D58: Tamaño | M58: SÍ
C59: 6.6 | D59: Domicilio | M59: SÍ
C60: 6.7 | D60: Otros | M60: N.A.
D62: NOTA | E62: Registra un embargo - Tamaño microempresa
C64: 7 | D64: Registro Único de Proponentes – RUP | M64: N.A.
D66: NOTA | E66: No se requiere
C68: 8 | D68: Validación de la información del RUP
C69: 8.1 | D69: Expedición | M69: N.A.
C70: 8.2 | D70: Renovación | M70: N.A.
C71: 8.3 | D71: Firmeza | M71: N.A.
C72: 8.4 | D72: Multas y declaratorias de incumplimiento | M72: N.A.
D74: NOTA | E74: No se requiere
C76: 9 | D76: Registro Único Tributario - RUT | M76: SÍ
D78: NOTA
C80: 10 | D80: Certificación de aportes al Sistema de seguridad social y parafiscales | M80: SÍ
D82: NOTA | E82: Se aporta documento
C84: 11 | D84: Validación de aportes al Sistema de seguridad social y parafiscales (Aplica para Persona jurídica) | M84: SÍ
C85: 11.1. | D85: Revisor fiscal (RF) | M85: N.A.
C86: 11.2 | D86: Documento de identificación del RF | M86: N.A.
C87: 11.3 | D87: Tarjeta profesional del RF | M87: N.A.
C88: 11.4 | D88: Antecedentes Junta Central de Contadores del RF | M88: N.A.
D90: NOTA | E90: Documento bajo gravedad de juramento Representante legal y contador
C92: 12 | D92: Garantía de seriedad de la oferta | M92: N.A.
C93: 12.1 | D93: Expedición | M93: N.A.
C94: 12.2 | D94: Tomador | M94: N.A.
C95: 12.3 | D95: Asegurado | M95: N.A.
C96: 12.4 | D96: Objeto del proceso | M96: N.A.
C97: 12.5 | D97: Valor amparado | M97: N.A.
C98: 12.6 | D98: Vigencia | M98: N.A.
C99: 12.7 | D99: Incluidos los integrantes de la forma asociativa | M99: N.A.
C100: 12.8 | D100: Validación de autenticidad | M100: N.A.
D102: NOTA | E102: No se requiere
C104: 13 | D104: Certificado de antecedentes fiscales - CGR | M104: SÍ
D106: NOTA | E106: Verificado por la entidad
C108: 14 | D108: Certificado de antecedentes disciplinarios - PGN | M108: SÍ
D110: NOTA | E110: Verificado por la entidad
C112: 15 | D112: Antecedentes Judiciales Policía Nacional | M112: SÍ
D114: NOTA | E114: Verificado por la entidad
C116: 16 | D116: Consulta en el RNMC | M116: SÍ
D118: NOTA | E118: Verificado por la entidad
C120: 17 | D120: Certificado de Registro de inhabilidades por delitos sexuales | M120: SÍ
D122: NOTA | E122: Se aporta documento
C124: 18 | D124: Certificado REDAM | M124: NO
D126: NOTA | E126: Se aporta certificado, sin embargo, al validar código de verificación en la página de REDAM, el buscador arroja que no existe, asimismo, se evidencian discrepancias en la información del certificado remitido, toda vez que tiene una validez de un mes y este se expide por 3 meses, por lo que se rechaza la oferta en atención del numeral 14 del numeral 3.10.1 de la invitación
C128: 19 | D128: [Requisito habilitante adicional 1] | M128: N.A.
D130: NOTA
C132: 20 | D132: [Requisito habilitante adicional 2] | M132: N.A.
D134: NOTA
C136: 21 | D136: [Requisito habilitante adicional 3] | M136: N.A.
D138: NOTA
C140: 22 | D140: [Requisito habilitante adicional 4] | M140: N.A.
D142: NOTA
C144: 23 | D144: [Requisito habilitante adicional 5] | M144: N.A.
D146: NOTA
C151: RESULTADO DE LA EVALUACIÓN
G153: =+IF(L27="","",IF(OR(L27="NO",M28="NO",M29="NO",M30="NO",M31="NO",M32="NO",M36="NO",M37="NO",M41="NO",M45="NO",M49="NO",M54="NO",M55="NO",M56="NO",M57="NO",M58="NO",M59="NO",M60,M64="NO",M69="NO",M70="NO",M71="NO",M72="NO",M76="NO",M80="NO",M84="NO",M85="NO",M86="NO",M87="NO",M88="NO",M92="NO",M93="NO",M94="NO",M95="NO",M96="NO",M97="NO",M98="NO",M99="NO",M100="NO",M104="NO",M108="NO",M112="NO",M116="NO",M120="NO",M124="NO",M128="NO",M132="NO",M136="NO",M140="NO",M144="NO"),"NO CUMPLE","CUMPLE")) -> NO CUMPLE
C155: NOTA. Si el resultado de la evaluación es "NO CUMPLE", el oferente deberá subsanar la propuesta durante el término establecido en el cronograma del proceso o la ley, según el caso.

Sheet P-2
E2: SERVICIO NACIONAL DE APRENDIZAJE - SENA | L2: Código: GCCON-F-038
E4: ='Resumen - Evaluación jurídica'!C5 -> EVALUACIÓN JURÍDICA - PROCESO NRO. MC-DG-DAF-005-2026 | L4: V.03
C6: OBJETO | E6: ='Resumen - Evaluación jurídica'!C7 -> CONTRATAR LA IMPERMEABILIZACIÓN DE TERRAZAS, CUBIERTAS Y MUROS DEL EDIFICIO DE SERVICIOS COMPLEMENTARIOS DE LA DIRECCIÓN GENERAL DEL SENA
D11: Proponente nro. | E11: 2 | I11: Lotes | J11: N.A. | K11: Número(s)
D13: Nombre del proponente: | F13: EQUISERVICIOS INDUSTRIALES S.A.S.
D15: Integrante 1: | L15: %Participación
D17: Integrante 2: | L17: %Participación
D19: Integrante 3: | L19: %Participación
D21: Integrante 4: | L21: %Participación
Q23: SÍ
Q24: NO
D25: REQUISITO | M25: CUMPLE | Q25: N.A.
C27: 1 | D27: Documento de proponente plural | L27: N.A.
C28: 1.1 | D28: Forma de unión | M28: N.A. | Q28: N.A.
C29: 1.2 | D29: Objeto | M29: N.A. | Q29: Unión Temporal
C30: 1.3 | D30: Vigencia | M30: N.A. | Q30: Consorcio
C31: 1.4 | D31: Participación | M31: N.A. | Q31: Promesa de sociedad futura
C32: 1.5 | D32: Otros | M32: N.A.
D34: NOTA | E34: No se aporto documento por lo cual no se puede determinar la información
C36: 2 | D36: Carta de presentación de la propuesta en el formato de la entidad | M36: NO
C37: 2.1 | D37: Aval de la propuesta y consulta de antecedentes del profesional (COPNIA o similares) | M37: NO
D39: NOTA | E39: No se aporto documento durante el tiempo otorgado para subsanación, por lo que se rechaza en razón de la causal 18 del numeral 3.10.1
C41: 3 | D41: Documento de identificación del Representante legal o Persona natural (PN) | M41: NO
D43: NOTA | E43: No se aporto documento durante el tiempo otorgado para subsanación, por lo que se rechaza en razón de la causal 18 del numeral 3.10.1
C45: 4 | D45: Documento que acredite la situación militar definida | M45: NO
D47: NOTA | E47: No se aporto documento durante el tiempo otorgado para subsanación, por lo que se rechaza en razón de la causal 18 del numeral 3.10.1
C49: 5 | D49: Certificado de existencia y representación legal (CERL) o Registro mercantil (RM) | M49: NO
D51: NOTA | E51: No se aporto documento durante el tiempo otorgado para subsanación, por lo que se rechaza en razón de la causal 18 del numeral 3.10.1
C53: 6 | D53: Validación de la información del CERL o del RM
C54: 6.1 | D54: Expedición | M54: NO
C55: 6.2 | D55: Objeto social relacionado | M55: NO
C56: 6.3 | D56: Facultades | M56: NO
C57: 6.4 | D57: Constitución y vigencia | M57: NO
C58: 6.5 | D58: Tamaño | M58: NO
C59: 6.6 | D59: Domicilio | M59: NO
C60: 6.7 | D60: Otros | M60: NO
D62: NOTA | E62: No se aporto documento durante el tiempo otorgado para subsanación, por lo que se rechaza en razón de la causal 18 del numeral 3.10.1
C64: 7 | D64: Registro Único de Proponentes – RUP | M64: N.A.
D66: NOTA | E66: No se requiere
C68: 8 | D68: Validación de la información del RUP
C69: 8.1 | D69: Expedición | M69: N.A.
C70: 8.2 | D70: Renovación | M70: N.A.
C71: 8.3 | D71: Firmeza | M71: N.A.
C72: 8.4 | D72: Multas y declaratorias de incumplimiento | M72: N.A.
D74: NOTA
C76: 9 | D76: Registro Único Tributario - RUT | M76: NO
D78: NOTA | E78: No se aporto documento durante el tiempo otorgado para subsanación, por lo que se rechaza en razón de la causal 18 del numeral 3.10.1
C80: 10 | D80: Certificación de aportes al Sistema de seguridad social y parafiscales | M80: NO
D82: NOTA | E82: No se aporto documento durante el tiempo otorgado para subsanación, por lo que se rechaza en razón de la causal 18 del numeral 3.10.1
C84: 11 | D84: Validación de aportes al Sistema de seguridad social y parafiscales (Aplica para Persona jurídica) | M84: NO
C85: 11.1. | D85: Revisor fiscal (RF) | M85: N.A.
C86: 11.2 | D86: Documento de identificación del RF | M86: N.A.
C87: 11.3 | D87: Tarjeta profesional del RF | M87: N.A.
C88: 11.4 | D88: Antecedentes Junta Central de Contadores del RF | M88: N.A.
D90: NOTA | E90: No se aporto documento durante el tiempo otorgado para subsanación, por lo que se rechaza en razón de la causal 18 del numeral 3.10.1
C92: 12 | D92: Garantía de seriedad de la oferta | M92: N.A.
C93: 12.1 | D93: Expedición | M93: N.A.
C94: 12.2 | D94: Tomador | M94: N.A.
C95: 12.3 | D95: Asegurado | M95: N.A.
C96: 12.4 | D96: Objeto del proceso | M96: N.A.
C97: 12.5 | D97: Valor amparado | M97: N.A.
C98: 12.6 | D98: Vigencia | M98: N.A.
C99: 12.7 | D99: Incluidos los integrantes de la forma asociativa | M99: N.A.
C100: 12.8 | D100: Validación de autenticidad | M100: N.A.
D102: NOTA | E102: No se requiere
C104: 13 | D104: Certificado de antecedentes fiscales - CGR | M104: SÍ
D106: NOTA | E106: consultado por la Entidad
C108: 14 | D108: Certificado de antecedentes disciplinarios - PGN | M108: SÍ
D110: NOTA | E110: consultado por la Entidad
C112: 15 | D112: Antecedentes Judiciales Policía Nacional | M112: SÍ
D114: NOTA | E114: consultado por la Entidad
C116: 16 | D116: Consulta en el RNMC | M116: SÍ
D118: NOTA | E118: consultado por la Entidad
C120: 17 | D120: Certificado de Registro de inhabilidades por delitos sexuales | M120: SÍ
D122: NOTA | E122: No se aporto documento
C124: 18 | D124: Certificado REDAM | M124: NO
D126: NOTA | E126: No se aporto documento durante el tiempo otorgado para subsanación, por lo que se rechaza en razón de la causal 18 del numeral 3.10.1
C128: 19 | D128: [Requisito habilitante adicional 1] | M128: N.A.
D130: NOTA
C132: 20 | D132: [Requisito habilitante adicional 2] | M132: N.A.
D134: NOTA
C136: 21 | D136: [Requisito habilitante adicional 3] | M136: N.A.
D138: NOTA
C140: 22 | D140: [Requisito habilitante adicional 4] | M140: N.A.
D142: NOTA
C144: 23 | D144: [Requisito habilitante adicional 5] | M144: N.A.
D146: NOTA
C151: RESULTADO DE LA EVALUACIÓN
G153: =+IF(L27="","",IF(OR(L27="NO",M28="NO",M29="NO",M30="NO",M31="NO",M32="NO",M36="NO",M37="NO",M41="NO",M45="NO",M49="NO",M54="NO",M55="NO",M56="NO",M57="NO",M58="NO",M59="NO",M60,M64="NO",M69="NO",M70="NO",M71="NO",M72="NO",M76="NO",M80="NO",M84="NO",M85="NO",M86="NO",M87="NO",M88="NO",M92="NO",M93="NO",M94="NO",M95="NO",M96="NO",M97="NO",M98="NO",M99="NO",M100="NO",M104="NO",M108="NO",M112="NO",M116="NO",M120="NO",M124="NO",M128="NO",M132="NO",M136="NO",M140="NO",M144="NO"),"NO CUMPLE","CUMPLE")) -> NO CUMPLE
C155: NOTA. Si el resultado de la evaluación es "NO CUMPLE", el oferente deberá subsanar la propuesta durante el término establecido en el cronograma del proceso o la ley, según el caso.

Sheet P-3
E2: SERVICIO NACIONAL DE APRENDIZAJE - SENA | L2: Código: GCCON-F-038
E4: ='Resumen - Evaluación jurídica'!C5 -> EVALUACIÓN JURÍDICA - PROCESO NRO. MC-DG-DAF-005-2026 | L4: V.02
C6: OBJETO | E6: ='Resumen - Evaluación jurídica'!C7 -> CONTRATAR LA IMPERMEABILIZACIÓN DE TERRAZAS, CUBIERTAS Y MUROS DEL EDIFICIO DE SERVICIOS COMPLEMENTARIOS DE LA DIRECCIÓN GENERAL DEL SENA
D11: Proponente nro. | E11: 3 | I11: Lotes | J11: N.A. | K11: Número(s)
D13: Nombre del proponente: | F13: SICCEI SAS ZOMAC
D15: Integrante 1: | L15: %Participación
D17: Integrante 2: | L17: %Participación
D19: Integrante 3: | L19: %Participación
D21: Integrante 4: | L21: %Participación
Q23: SÍ
Q24: NO
D25: REQUISITO | M25: CUMPLE | Q25: N.A.
C27: 1 | D27: Documento de proponente plural | L27: N.A.
C28: 1.1 | D28: Forma de unión | M28: N.A. | Q28: N.A.
C29: 1.2 | D29: Objeto | M29: N.A. | Q29: Unión Temporal
C30: 1.3 | D30: Vigencia | M30: N.A. | Q30: Consorcio
C31: 1.4 | D31: Participación | M31: N.A. | Q31: Promesa de sociedad futura
C32: 1.5 | D32: Otros | M32: N.A.
D34: NOTA | E34: No se aporto documento durante el tiempo otorgado para subsanación, por lo que se rechaza en razón de la causal 18 del numeral 3.10.1
C36: 2 | D36: Carta de presentación de la propuesta en el formato de la entidad | M36: NO
C37: 2.1 | D37: Aval de la propuesta y consulta de antecedentes del profesional (COPNIA o similares) | M37: NO
D39: NOTA | E39: No se aporto documento durante el tiempo otorgado para subsanación, por lo que se rechaza en razón de la causal 18 del numeral 3.10.1
C41: 3 | D41: Documento de identificación del Representante legal o Persona natural (PN) | M41: NO
D43: NOTA | E43: No se aporto documento durante el tiempo otorgado para subsanación, por lo que se rechaza en razón de la causal 18 del numeral 3.10.1
C45: 4 | D45: Documento que acredite la situación militar definida | M45: NO
D47: NOTA | E47: No se aporto documento durante el tiempo otorgado para subsanación, por lo que se rechaza en razón de la causal 18 del numeral 3.10.1
C49: 5 | D49: Certificado de existencia y representación legal (CERL) o Registro mercantil (RM) | M49: NO
D51: NOTA | E51: No se aporto documento durante el tiempo otorgado para subsanación, por lo que se rechaza en razón de la causal 18 del numeral 3.10.1
C53: 6 | D53: Validación de la información del CERL o del RM
C54: 6.1 | D54: Expedición | M54: NO
C55: 6.2 | D55: Objeto social relacionado | M55: NO
C56: 6.3 | D56: Facultades | M56: NO
C57: 6.4 | D57: Constitución y vigencia | M57: NO
C58: 6.5 | D58: Tamaño | M58: NO
C59: 6.6 | D59: Domicilio | M59: NO
C60: 6.7 | D60: Otros | M60: N.A.
D62: NOTA | E62: No se aporto documento durante el tiempo otorgado para subsanación, por lo que se rechaza en razón de la causal 18 del numeral 3.10.1
C64: 7 | D64: Registro Único de Proponentes – RUP | M64: N.A.
D66: NOTA | E66: No se requiere
C68: 8 | D68: Validación de la información del RUP
C69: 8.1 | D69: Expedición | M69: N.A.
C70: 8.2 | D70: Renovación | M70: N.A.
C71: 8.3 | D71: Firmeza | M71: N.A.
C72: 8.4 | D72: Multas y declaratorias de incumplimiento | M72: N.A.
D74: NOTA | E74: No se requiere
C76: 9 | D76: Registro Único Tributario - RUT | M76: NO
D78: NOTA | E78: No se aporto documento durante el tiempo otorgado para subsanación, por lo que se rechaza en razón de la causal 18 del numeral 3.10.1
C80: 10 | D80: Certificación de aportes al Sistema de seguridad social y parafiscales | M80: NO
D82: NOTA | E82: No se aporto documento durante el tiempo otorgado para subsanación, por lo que se rechaza en razón de la causal 18 del numeral 3.10.1
C84: 11 | D84: Validación de aportes al Sistema de seguridad social y parafiscales (Aplica para Persona jurídica) | M84: NO
C85: 11.1. | D85: Revisor fiscal (RF) | M85: N.A.
C86: 11.2 | D86: Documento de identificación del RF | M86: N.A.
C87: 11.3 | D87: Tarjeta profesional del RF | M87: N.A.
C88: 11.4 | D88: Antecedentes Junta Central de Contadores del RF | M88: N.A.
D90: NOTA | E90: No se aporto documento durante el tiempo otorgado para subsanación, por lo que se rechaza en razón de la causal 18 del numeral 3.10.1
C92: 12 | D92: Garantía de seriedad de la oferta | M92: N.A.
C93: 12.1 | D93: Expedición | M93: N.A.
C94: 12.2 | D94: Tomador | M94: N.A.
C95: 12.3 | D95: Asegurado | M95: N.A.
C96: 12.4 | D96: Objeto del proceso | M96: N.A.
C97: 12.5 | D97: Valor amparado | M97: N.A.
C98: 12.6 | D98: Vigencia | M98: N.A.
C99: 12.7 | D99: Incluidos los integrantes de la forma asociativa | M99: N.A.
C100: 12.8 | D100: Validación de autenticidad | M100: N.A.
D102: NOTA | E102: No se requiere
C104: 13 | D104: Certificado de antecedentes fiscales - CGR | M104: NO
D106: NOTA | E106: consultado por la Entidad
C108: 14 | D108: Certificado de antecedentes disciplinarios - PGN | M108: NO
D110: NOTA | E110: consultado por la Entidad
C112: 15 | D112: Antecedentes Judiciales Policía Nacional | M112: NO
D114: NOTA | E114: consultado por la Entidad
C116: 16 | D116: Consulta en el RNMC | M116: NO
D118: NOTA | E118: consultado por la Entidad
C120: 17 | D120: Certificado de Registro de inhabilidades por delitos sexuales | M120: NO
D122: NOTA | E122: consultado por la Entidad
C124: 18 | D124: Certificado REDAM | M124: NO
D126: NOTA | E126: No se aporto documento durante el tiempo otorgado para subsanación, por lo que se rechaza en razón de la causal 18 del numeral 3.10.1
C128: 19 | D128: [Requisito habilitante adicional 1] | M128: N.A.
D130: NOTA
C132: 20 | D132: [Requisito habilitante adicional 2] | M132: N.A.
D134: NOTA
C136: 21 | D136: [Requisito habilitante adicional 3] | M136: N.A.
D138: NOTA
C140: 22 | D140: [Requisito habilitante adicional 4] | M140: N.A.
D142: NOTA
C144: 23 | D144: [Requisito habilitante adicional 5] | M144: N.A.
D146: NOTA
C151: RESULTADO DE LA EVALUACIÓN
G153: =+IF(L27="","",IF(OR(L27="NO",M28="NO",M29="NO",M30="NO",M31="NO",M32="NO",M36="NO",M37="NO",M41="NO",M45="NO",M49="NO",M54="NO",M55="NO",M56="NO",M57="NO",M58="NO",M59="NO",M60,M64="NO",M69="NO",M70="NO",M71="NO",M72="NO",M76="NO",M80="NO",M84="NO",M85="NO",M86="NO",M87="NO",M88="NO",M92="NO",M93="NO",M94="NO",M95="NO",M96="NO",M97="NO",M98="NO",M99="NO",M100="NO",M104="NO",M108="NO",M112="NO",M116="NO",M120="NO",M124="NO",M128="NO",M132="NO",M136="NO",M140="NO",M144="NO"),"NO CUMPLE","CUMPLE")) -> NO CUMPLE
C155: NOTA. Si el resultado de la evaluación es "NO CUMPLE", el oferente deberá subsanar la propuesta durante el término establecido en el cronograma del proceso o la ley, según el caso.

Sheet P-4
E2: SERVICIO NACIONAL DE APRENDIZAJE - SENA | L2: Código: GCCON-F-038
E4: ='Resumen - Evaluación jurídica'!C5 -> EVALUACIÓN JURÍDICA - PROCESO NRO. MC-DG-DAF-005-2026 | L4: V.03
C6: OBJETO | E6: ='Resumen - Evaluación jurídica'!C7 -> CONTRATAR LA IMPERMEABILIZACIÓN DE TERRAZAS, CUBIERTAS Y MUROS DEL EDIFICIO DE SERVICIOS COMPLEMENTARIOS DE LA DIRECCIÓN GENERAL DEL SENA
D11: Proponente nro. | E11: 4 | I11: Lotes | J11: N.A. | K11: Número(s)
D13: Nombre del proponente: | F13: CONSTRUPISOS T.M . SAS
D15: Integrante 1: | L15: %Participación
D17: Integrante 2: | L17: %Participación
D19: Integrante 3: | L19: %Participación
D21: Integrante 4: | L21: %Participación
Q23: SÍ
Q24: NO
D25: REQUISITO | M25: CUMPLE | Q25: N.A.
C27: 1 | D27: Documento de proponente plural | L27: N.A.
C28: 1.1 | D28: Forma de unión | M28: N.A. | Q28: N.A.
C29: 1.2 | D29: Objeto | M29: N.A. | Q29: Unión Temporal
C30: 1.3 | D30: Vigencia | M30: N.A. | Q30: Consorcio
C31: 1.4 | D31: Participación | M31: N.A. | Q31: Promesa de sociedad futura
C32: 1.5 | D32: Otros | M32: N.A.
D34: NOTA
C36: 2 | D36: Carta de presentación de la propuesta en el formato de la entidad | M36: SÍ
C37: 2.1 | D37: Aval de la propuesta y consulta de antecedentes del profesional (COPNIA o similares) | M37: SÍ
D39: NOTA | E39: SI bien inicialmente No se aportaron los documentos, en el plazo de subsanación se aportan
C41: 3 | D41: Documento de identificación del Representante legal o Persona natural (PN) | M41: SÍ
D43: NOTA | E43: Inicialmente no se aporta documento, dentro del plazo de subsanación se aporta RL CC 7729393
C45: 4 | D45: Documento que acredite la situación militar definida | M45: SÍ
D47: NOTA | E47: En el plazo de subsanación se aporta el certificado
C49: 5 | D49: Certificado de existencia y representación legal (CERL) o Registro mercantil (RM) | M49: SÍ
D51: NOTA | E51: SI bien inicialmente No se aportaron los documentos, en el plazo de subsanación se aportan
C53: 6 | D53: Validación de la información del CERL o del RM
C54: 6.1 | D54: Expedición | M54: SÍ
C55: 6.2 | D55: Objeto social relacionado | M55: SÍ
C56: 6.3 | D56: Facultades | M56: SÍ
C57: 6.4 | D57: Constitución y vigencia | M57: SÍ
C58: 6.5 | D58: Tamaño | M58: SÍ
C59: 6.6 | D59: Domicilio | M59: SÍ
C60: 6.7 | D60: Otros | M60: N.A.
D62: NOTA | E62: Se aportan documentos
C64: 7 | D64: Registro Único de Proponentes – RUP | M64: N.A.
D66: NOTA | E66: No se requiere
C68: 8 | D68: Validación de la información del RUP
C69: 8.1 | D69: Expedición | M69: N.A.
C70: 8.2 | D70: Renovación | M70: N.A.
C71: 8.3 | D71: Firmeza | M71: N.A.
C72: 8.4 | D72: Multas y declaratorias de incumplimiento | M72: N.A.
D74: NOTA | E74: No se requiere
C76: 9 | D76: Registro Único Tributario - RUT | M76: SÍ
D78: NOTA | E78: Inicialmente no se aporta documento, durante el plazo de subsanación de aporta el documento
C80: 10 | D80: Certificación de aportes al Sistema de seguridad social y parafiscales | M80: SÍ
D82: NOTA | E82: No se aporto documento inicialmente, sin embargo, durante el plazo de subsanación se aportaron los soportes respectivo
C84: 11 | D84: Validación de aportes al Sistema de seguridad social y parafiscales (Aplica para Persona jurídica) | M84: SÍ
C85: 11.1. | D85: Revisor fiscal (RF) | M85: SÍ
C86: 11.2 | D86: Documento de identificación del RF | M86: SÍ
C87: 11.3 | D87: Tarjeta profesional del RF | M87: SÍ
C88: 11.4 | D88: Antecedentes Junta Central de Contadores del RF | M88: SÍ
D90: NOTA | E90: Se aportan los soportes durante la subsanación
C92: 12 | D92: Garantía de seriedad de la oferta | M92: N.A.
C93: 12.1 | D93: Expedición | M93: N.A.
C94: 12.2 | D94: Tomador | M94: N.A.
C95: 12.3 | D95: Asegurado | M95: N.A.
C96: 12.4 | D96: Objeto del proceso | M96: N.A.
C97: 12.5 | D97: Valor amparado | M97: N.A.
C98: 12.6 | D98: Vigencia | M98: N.A.
C99: 12.7 | D99: Incluidos los integrantes de la forma asociativa | M99: N.A.
C100: 12.8 | D100: Validación de autenticidad | M100: N.A.
D102: NOTA | E102: No se requiere
C104: 13 | D104: Certificado de antecedentes fiscales - CGR | M104: SÍ
D106: NOTA | E106: Se aporta documento en la subsanación, Verificado por la entidad
C108: 14 | D108: Certificado de antecedentes disciplinarios - PGN | M108: SÍ
D110: NOTA | E110: Verificado por la entidad
C112: 15 | D112: Antecedentes Judiciales Policía Nacional | M112: SÍ
D114: NOTA | E114: Se aporta documento en la subsanación, Verificado por la entidad
C116: 16 | D116: Consulta en el RNMC | M116: SÍ
D118: NOTA | E118: Se aporta documento en la subsanación, Verificado por la entidad
C120: 17 | D120: Certificado de Registro de inhabilidades por delitos sexuales | M120: SÍ
D122: NOTA | E122: Se aporta documento en la subsanación
C124: 18 | D124: Certificado REDAM | M124: SÍ
D126: NOTA | E126: Se aporta documento en la subsanación
C128: 19 | D128: [Requisito habilitante adicional 1] | M128: N.A.
D130: NOTA
C132: 20 | D132: [Requisito habilitante adicional 2] | M132: N.A.
D134: NOTA
C136: 21 | D136: [Requisito habilitante adicional 3] | M136: N.A.
D138: NOTA
C140: 22 | D140: [Requisito habilitante adicional 4] | M140: N.A.
D142: NOTA
C144: 23 | D144: [Requisito habilitante adicional 5] | M144: N.A.
D146: NOTA
C151: RESULTADO DE LA EVALUACIÓN
G153: =+IF(L27="","",IF(OR(L27="NO",M28="NO",M29="NO",M30="NO",M31="NO",M32="NO",M36="NO",M37="NO",M41="NO",M45="NO",M49="NO",M54="NO",M55="NO",M56="NO",M57="NO",M58="NO",M59="NO",M60,M64="NO",M69="NO",M70="NO",M71="NO",M72="NO",M76="NO",M80="NO",M84="NO",M85="NO",M86="NO",M87="NO",M88="NO",M92="NO",M93="NO",M94="NO",M95="NO",M96="NO",M97="NO",M98="NO",M99="NO",M100="NO",M104="NO",M108="NO",M112="NO",M116="NO",M120="NO",M124="NO",M128="NO",M132="NO",M136="NO",M140="NO",M144="NO"),"NO CUMPLE","CUMPLE")) -> CUMPLE
C155: NOTA. Si el resultado de la evaluación es "NO CUMPLE", el oferente deberá subsanar la propuesta durante el término establecido en el cronograma del proceso o la ley, según el caso.

Sheet P-5
E2: SERVICIO NACIONAL DE APRENDIZAJE - SENA | L2: Código: GCCON-F-038
E4: ='Resumen - Evaluación jurídica'!C5 -> EVALUACIÓN JURÍDICA - PROCESO NRO. MC-DG-DAF-005-2026 | L4: V.03
C6: OBJETO | E6: ='Resumen - Evaluación jurídica'!C7 -> CONTRATAR LA IMPERMEABILIZACIÓN DE TERRAZAS, CUBIERTAS Y MUROS DEL EDIFICIO DE SERVICIOS COMPLEMENTARIOS DE LA DIRECCIÓN GENERAL DEL SENA
D11: Proponente nro. | E11: 5 | I11: Lotes | J11: N.A. | K11: Número(s)
D13: Nombre del proponente: | F13: PROCOM PROYECTOS Y CONSTRUCCIONES SAS NIT 901826674-8
D15: Integrante 1: | L15: %Participación
D17: Integrante 2: | L17: %Participación
D19: Integrante 3: | L19: %Participación
D21: Integrante 4: | L21: %Participación
Q23: SÍ
Q24: NO
D25: REQUISITO | M25: CUMPLE | Q25: N.A.
C27: 1 | D27: Documento de proponente plural | L27: N.A.
C28: 1.1 | D28: Forma de unión | M28: N.A. | Q28: N.A.
C29: 1.2 | D29: Objeto | M29: N.A. | Q29: Unión Temporal
C30: 1.3 | D30: Vigencia | M30: N.A. | Q30: Consorcio
C31: 1.4 | D31: Participación | M31: N.A. | Q31: Promesa de sociedad futura
C32: 1.5 | D32: Otros | M32: N.A.
D34: NOTA
C36: 2 | D36: Carta de presentación de la propuesta en el formato de la entidad | M36: SÍ
C37: 2.1 | D37: Aval de la propuesta y consulta de antecedentes del profesional (COPNIA o similares) | M37: NO
D39: NOTA | E39: Si bien se suscribe aval por DANIEL RICARDO HERNANDEZ VANEGAS no se aportan certificados de antecedentes. No se aporto documento durante el tiempo otorgado para subsanación, por lo que se rechaza en razón de la causal 18 del numeral 3.10.1
C41: 3 | D41: Documento de identificación del Representante legal o Persona natural (PN) | M41: SÍ
D43: NOTA | E43: Se aporta documento OSCAR MAURICIO CASTRO DIAZ 1094896180
C45: 4 | D45: Documento que acredite la situación militar definida | M45: SÍ
D47: NOTA | E47: Se aporta documento
C49: 5 | D49: Certificado de existencia y representación legal (CERL) o Registro mercantil (RM) | M49: SÍ
D51: NOTA | E51: Se aporta documento
C53: 6 | D53: Validación de la información del CERL o del RM
C54: 6.1 | D54: Expedición | M54: SÍ
C55: 6.2 | D55: Objeto social relacionado | M55: SÍ
C56: 6.3 | D56: Facultades | M56: SÍ
C57: 6.4 | D57: Constitución y vigencia | M57: SÍ
C58: 6.5 | D58: Tamaño | M58: SÍ
C59: 6.6 | D59: Domicilio | M59: SÍ
C60: 6.7 | D60: Otros | E60: Objeto social, cualquier actividad licita | M60: N.A.
D62: NOTA | E62: Se aporta documento- Tamaño micro empresa
C64: 7 | D64: Registro Único de Proponentes – RUP | M64: N.A.
D66: NOTA | E66: No se requiere
C68: 8 | D68: Validación de la información del RUP
C69: 8.1 | D69: Expedición | M69: N.A.
C70: 8.2 | D70: Renovación | M70: N.A.
C71: 8.3 | D71: Firmeza | M71: N.A.
C72: 8.4 | D72: Multas y declaratorias de incumplimiento | M72: N.A.
D74: NOTA | E74: No se requiere
C76: 9 | D76: Registro Único Tributario - RUT | M76: SÍ
D78: NOTA | E78: Se aporta documento
C80: 10 | D80: Certificación de aportes al Sistema de seguridad social y parafiscales | M80: NO
D82: NOTA | E82: No se aporto documento durante el tiempo otorgado para subsanación, por lo que se rechaza en razón de la causal 18 del numeral 3.10.1
C84: 11 | D84: Validación de aportes al Sistema de seguridad social y parafiscales (Aplica para Persona jurídica) | M84: NO
C85: 11.1. | D85: Revisor fiscal (RF) | M85: N.A.
C86: 11.2 | D86: Documento de identificación del RF | M86: N.A.
C87: 11.3 | D87: Tarjeta profesional del RF | M87: N.A.
C88: 11.4 | D88: Antecedentes Junta Central de Contadores del RF | M88: N.A.
D90: NOTA | E90: No se aporta documento
C92: 12 | D92: Garantía de seriedad de la oferta | M92: N.A.
C93: 12.1 | D93: Expedición | M93: N.A.
C94: 12.2 | D94: Tomador | M94: N.A.
C95: 12.3 | D95: Asegurado | M95: N.A.
C96: 12.4 | D96: Objeto del proceso | M96: N.A.
C97: 12.5 | D97: Valor amparado | M97: N.A.
C98: 12.6 | D98: Vigencia | M98: N.A.
C99: 12.7 | D99: Incluidos los integrantes de la forma asociativa | M99: N.A.
C100: 12.8 | D100: Validación de autenticidad | M100: N.A.
D102: NOTA | E102: No se requiere
C104: 13 | D104: Certificado de antecedentes fiscales - CGR | M104: SÍ
D106: NOTA | E106: Verificado por la entidad
C108: 14 | D108: Certificado de antecedentes disciplinarios - PGN | M108: NO
D110: NOTA | E110: el certificado del RL. Fue verificado por la entidad, sin embargo respecto a PROCOM no se permite validar indicando otra entidad ( LYCON CIVIL S.A.S.) con el NIT aportado
C112: 15 | D112: Antecedentes Judiciales Policía Nacional | M112: SÍ
D114: NOTA | E114: Verificado por la entidad
C116: 16 | D116: Consulta en el RNMC | M116: SÍ
D118: NOTA | E118: Verificado por la entidad
C120: 17 | D120: Certificado de Registro de inhabilidades por delitos sexuales | M120: SÍ
D122: NOTA | E122: Verificado por la entidad
C124: 18 | D124: Certificado REDAM | M124: SÍ
D126: NOTA | E126: Verificado por la entidad
C128: 19 | D128: [Requisito habilitante adicional 1] | M128: N.A.
D130: NOTA
C132: 20 | D132: [Requisito habilitante adicional 2] | M132: N.A.
D134: NOTA
C136: 21 | D136: [Requisito habilitante adicional 3] | M136: N.A.
D138: NOTA
C140: 22 | D140: [Requisito habilitante adicional 4] | M140: N.A.
D142: NOTA
C144: 23 | D144: [Requisito habilitante adicional 5] | M144: N.A.
D146: NOTA
C151: RESULTADO DE LA EVALUACIÓN
G153: =+IF(L27="","",IF(OR(L27="NO",M28="NO",M29="NO",M30="NO",M31="NO",M32="NO",M36="NO",M37="NO",M41="NO",M45="NO",M49="NO",M54="NO",M55="NO",M56="NO",M57="NO",M58="NO",M59="NO",M60,M64="NO",M69="NO",M70="NO",M71="NO",M72="NO",M76="NO",M80="NO",M84="NO",M85="NO",M86="NO",M87="NO",M88="NO",M92="NO",M93="NO",M94="NO",M95="NO",M96="NO",M97="NO",M98="NO",M99="NO",M100="NO",M104="NO",M108="NO",M112="NO",M116="NO",M120="NO",M124="NO",M128="NO",M132="NO",M136="NO",M140="NO",M144="NO"),"NO CUMPLE","CUMPLE")) -> NO CUMPLE
C155: NOTA. Si el resultado de la evaluación es "NO CUMPLE", el oferente deberá subsanar la propuesta durante el término establecido en el cronograma del proceso o la ley, según el caso.

Sheet P-6
E2: SERVICIO NACIONAL DE APRENDIZAJE - SENA | L2: Código: GCCON-F-038
E4: ='Resumen - Evaluación jurídica'!C5 -> EVALUACIÓN JURÍDICA - PROCESO NRO. MC-DG-DAF-005-2026 | L4: V.03
C6: OBJETO | E6: ='Resumen - Evaluación jurídica'!C7 -> CONTRATAR LA IMPERMEABILIZACIÓN DE TERRAZAS, CUBIERTAS Y MUROS DEL EDIFICIO DE SERVICIOS COMPLEMENTARIOS DE LA DIRECCIÓN GENERAL DEL SENA
D11: Proponente nro. | E11: 6 | I11: Lotes | J11: N.A. | K11: Número(s)
D13: Nombre del proponente: | F13: OBRAS INSIGNIA SAS
D15: Integrante 1: | L15: %Participación
D17: Integrante 2: | L17: %Participación
D19: Integrante 3: | L19: %Participación
D21: Integrante 4: | L21: %Participación
Q23: SÍ
Q24: NO
D25: REQUISITO | M25: CUMPLE | Q25: N.A.
C27: 1 | D27: Documento de proponente plural | L27: N.A.
C28: 1.1 | D28: Forma de unión | M28: N.A. | Q28: N.A.
C29: 1.2 | D29: Objeto | M29: N.A. | Q29: Unión Temporal
C30: 1.3 | D30: Vigencia | M30: N.A. | Q30: Consorcio
C31: 1.4 | D31: Participación | M31: N.A. | Q31: Promesa de sociedad futura
C32: 1.5 | D32: Otros | M32: N.A.
D34: NOTA
C36: 2 | D36: Carta de presentación de la propuesta en el formato de la entidad | M36: SÍ
C37: 2.1 | D37: Aval de la propuesta y consulta de antecedentes del profesional (COPNIA o similares) | M37: SÍ
D39: NOTA | E39: Se presento aval de la propuesta dentro de los términos de la subsanación
C41: 3 | D41: Documento de identificación del Representante legal o Persona natural (PN) | M41: SÍ
D43: NOTA | E43: Se aporta documento Nicolas Fricano 1019112140
C45: 4 | D45: Documento que acredite la situación militar definida | M45: SÍ
D47: NOTA | E47: Se aporta documento
C49: 5 | D49: Certificado de existencia y representación legal (CERL) o Registro mercantil (RM) | M49: SÍ
D51: NOTA | E51: Si bien inicialmente se aporto documento desactualizado, dentro del termino de subsanación se presento el documento actualizado correspondiente
C53: 6 | D53: Validación de la información del CERL o del RM
C54: 6.1 | D54: Expedición | M54: SÍ
C55: 6.2 | D55: Objeto social relacionado | M55: SÍ
C56: 6.3 | D56: Facultades | M56: SÍ
C57: 6.4 | D57: Constitución y vigencia | M57: SÍ
C58: 6.5 | D58: Tamaño | M58: SÍ
C59: 6.6 | D59: Domicilio | M59: SÍ
C60: 6.7 | D60: Otros | M60: N.A.
D62: NOTA | E62: Tamaño microempresa
C64: 7 | D64: Registro Único de Proponentes – RUP | M64: N.A.
D66: NOTA | E66: DE ACUERDO A EP NO APLICA
C68: 8 | D68: Validación de la información del RUP
C69: 8.1 | D69: Expedición | M69: N.A.
C70: 8.2 | D70: Renovación | M70: N.A.
C71: 8.3 | D71: Firmeza | M71: N.A.
C72: 8.4 | D72: Multas y declaratorias de incumplimiento | M72: N.A.
D74: NOTA | E74: DE ACUERDO A EP NO APLICA
C76: 9 | D76: Registro Único Tributario - RUT | M76: SÍ
D78: NOTA | E78: Se aporta documento
C80: 10 | D80: Certificación de aportes al Sistema de seguridad social y parafiscales | M80: SÍ
D82: NOTA | E82: Se aporta documento
C84: 11 | D84: Validación de aportes al Sistema de seguridad social y parafiscales (Aplica para Persona jurídica) | M84: SÍ
C85: 11.1. | D85: Revisor fiscal (RF) | M85: N.A.
C86: 11.2 | D86: Documento de identificación del RF | M86: N.A.
C87: 11.3 | D87: Tarjeta profesional del RF | M87: N.A.
C88: 11.4 | D88: Antecedentes Junta Central de Contadores del RF | M88: N.A.
D90: NOTA | E90: Se acredita por el Representante legal y por el contrador aportan soportes/ documentación del contador
C92: 12 | D92: Garantía de seriedad de la oferta | M92: N.A.
C93: 12.1 | D93: Expedición | M93: N.A.
C94: 12.2 | D94: Tomador | M94: N.A.
C95: 12.3 | D95: Asegurado | M95: N.A.
C96: 12.4 | D96: Objeto del proceso | M96: N.A.
C97: 12.5 | D97: Valor amparado | M97: N.A.
C98: 12.6 | D98: Vigencia | M98: N.A.
C99: 12.7 | D99: Incluidos los integrantes de la forma asociativa | M99: N.A.
C100: 12.8 | D100: Validación de autenticidad | M100: N.A.
D102: NOTA | E102: DE ACUERDO A EP NO APLICA
C104: 13 | D104: Certificado de antecedentes fiscales - CGR | M104: SÍ
D106: NOTA | E106: Vertificado por la entidad
C108: 14 | D108: Certificado de antecedentes disciplinarios - PGN | M108: SÍ
D110: NOTA | E110: Verificado por la entidad
C112: 15 | D112: Antecedentes Judiciales Policía Nacional | M112: SÍ
D114: NOTA | E114: Verificado por la entidad
C116: 16 | D116: Consulta en el RNMC | M116: SÍ
D118: NOTA | E118: Verificado por la entidad
C120: 17 | D120: Certificado de Registro de inhabilidades por delitos sexuales | M120: SÍ
D122: NOTA | E122: Se aporta documento
C124: 18 | D124: Certificado REDAM | M124: SÍ
D126: NOTA | E126: Se aporta documento
C128: 19 | D128: [Requisito habilitante adicional 1] | M128: N.A.
D130: NOTA
C132: 20 | D132: [Requisito habilitante adicional 2] | M132: N.A.
D134: NOTA
C136: 21 | D136: [Requisito habilitante adicional 3] | M136: N.A.
D138: NOTA
C140: 22 | D140: [Requisito habilitante adicional 4] | M140: N.A.
D142: NOTA
C144: 23 | D144: [Requisito habilitante adicional 5] | M144: N.A.
D146: NOTA
C151: RESULTADO DE LA EVALUACIÓN
G153: =+IF(L27="","",IF(OR(L27="NO",M28="NO",M29="NO",M30="NO",M31="NO",M32="NO",M36="NO",M37="NO",M41="NO",M45="NO",M49="NO",M54="NO",M55="NO",M56="NO",M57="NO",M58="NO",M59="NO",M60,M64="NO",M69="NO",M70="NO",M71="NO",M72="NO",M76="NO",M80="NO",M84="NO",M85="NO",M86="NO",M87="NO",M88="NO",M92="NO",M93="NO",M94="NO",M95="NO",M96="NO",M97="NO",M98="NO",M99="NO",M100="NO",M104="NO",M108="NO",M112="NO",M116="NO",M120="NO",M124="NO",M128="NO",M132="NO",M136="NO",M140="NO",M144="NO"),"NO CUMPLE","CUMPLE")) -> CUMPLE
C155: NOTA. Si el resultado de la evaluación es "NO CUMPLE", el oferente deberá subsanar la propuesta durante el término establecido en el cronograma del proceso o la ley, según el caso.

Sheet P-7
E2: SERVICIO NACIONAL DE APRENDIZAJE - SENA | L2: Código: GCCON-F-038
E4: ='Resumen - Evaluación jurídica'!C5 -> EVALUACIÓN JURÍDICA - PROCESO NRO. MC-DG-DAF-005-2026 | L4: V.03
C6: OBJETO | E6: ='Resumen - Evaluación jurídica'!C7 -> CONTRATAR LA IMPERMEABILIZACIÓN DE TERRAZAS, CUBIERTAS Y MUROS DEL EDIFICIO DE SERVICIOS COMPLEMENTARIOS DE LA DIRECCIÓN GENERAL DEL SENA
D11: Proponente nro. | E11: 7 | I11: Lotes | J11: N.A. | K11: Número(s)
D13: Nombre del proponente: | F13: INNOVACION COLOMBIA SAS
D15: Integrante 1: | L15: %Participación
D17: Integrante 2: | L17: %Participación
D19: Integrante 3: | L19: %Participación
D21: Integrante 4: | L21: %Participación
Q23: SÍ
Q24: NO
D25: REQUISITO | M25: CUMPLE | Q25: N.A.
C27: 1 | D27: Documento de proponente plural | L27: N.A.
C28: 1.1 | D28: Forma de unión | M28: N.A. | Q28: N.A.
C29: 1.2 | D29: Objeto | M29: N.A. | Q29: Unión Temporal
C30: 1.3 | D30: Vigencia | M30: N.A. | Q30: Consorcio
C31: 1.4 | D31: Participación | M31: N.A. | Q31: Promesa de sociedad futura
C32: 1.5 | D32: Otros | M32: N.A.
D34: NOTA
C36: 2 | D36: Carta de presentación de la propuesta en el formato de la entidad | M36: SÍ
C37: 2.1 | D37: Aval de la propuesta y consulta de antecedentes del profesional (COPNIA o similares) | M37: SÍ
D39: NOTA | E39: Se aportan documentos
C41: 3 | D41: Documento de identificación del Representante legal o Persona natural (PN) | M41: SÍ
D43: NOTA | E43: Se aporta documento Maria alejandra martinez 1054561956
C45: 4 | D45: Documento que acredite la situación militar definida | M45: N.A.
D47: NOTA | E47: N/A
C49: 5 | D49: Certificado de existencia y representación legal (CERL) o Registro mercantil (RM) | M49: SÍ
D51: NOTA | E51: Se aporta documento
C53: 6 | D53: Validación de la información del CERL o del RM
C54: 6.1 | D54: Expedición | M54: SÍ
C55: 6.2 | D55: Objeto social relacionado | M55: SÍ
C56: 6.3 | D56: Facultades | M56: SÍ
C57: 6.4 | D57: Constitución y vigencia | M57: SÍ
C58: 6.5 | D58: Tamaño | M58: SÍ
C59: 6.6 | D59: Domicilio | M59: SÍ
C60: 6.7 | D60: Otros | M60: N.A.
D62: NOTA | E62: Tamaño pequeña empresa
C64: 7 | D64: Registro Único de Proponentes – RUP | M64: N.A.
D66: NOTA | E66: DE ACUERDO A EP NO APLICA
C68: 8 | D68: Validación de la información del RUP
C69: 8.1 | D69: Expedición | M69: N.A.
C70: 8.2 | D70: Renovación | M70: N.A.
C71: 8.3 | D71: Firmeza | M71: N.A.
C72: 8.4 | D72: Multas y declaratorias de incumplimiento | M72: N.A.
D74: NOTA
C76: 9 | D76: Registro Único Tributario - RUT | M76: NO
D78: NOTA | E78: Si bien inicialmente se aporto un RUT desactualizado, posteriormente se aporto RUT correspondiente actualizado de manera extemporanea
C80: 10 | D80: Certificación de aportes al Sistema de seguridad social y parafiscales | M80: NO
D82: NOTA | E82: Si bien inicialmente No se aportaron los soportes del revisor fiscal, posteriormente se aportaron los documentos correspondiente actualizado de manera extemporanea, toda vez que el plazo de subsanación establecido para la evaluación jurídia fue hasta el 21/04/2026 a las 17:00hrs.
C84: 11 | D84: Validación de aportes al Sistema de seguridad social y parafiscales (Aplica para Persona jurídica) | M84: NO
C85: 11.1. | D85: Revisor fiscal (RF) | M85: NO
C86: 11.2 | D86: Documento de identificación del RF | M86: NO
C87: 11.3 | D87: Tarjeta profesional del RF | M87: NO
C88: 11.4 | D88: Antecedentes Junta Central de Contadores del RF | M88: NO
D90: NOTA | E90: Si bien inicialmente No se aportaron los soportes del revisor fiscal, posteriormente se aportaron los documentos correspondiente actualizado de manera extemporanea
C92: 12 | D92: Garantía de seriedad de la oferta | M92: N.A.
C93: 12.1 | D93: Expedición | M93: N.A.
C94: 12.2 | D94: Tomador | M94: N.A.
C95: 12.3 | D95: Asegurado | M95: N.A.
C96: 12.4 | D96: Objeto del proceso | M96: N.A.
C97: 12.5 | D97: Valor amparado | M97: N.A.
C98: 12.6 | D98: Vigencia | M98: N.A.
C99: 12.7 | D99: Incluidos los integrantes de la forma asociativa | M99: N.A.
C100: 12.8 | D100: Validación de autenticidad | M100: N.A.
D102: NOTA | E102: DE ACUERDO A EP NO APLICA
C104: 13 | D104: Certificado de antecedentes fiscales - CGR | M104: SÍ
D106: NOTA | E106: Verificado por la entidad
C108: 14 | D108: Certificado de antecedentes disciplinarios - PGN | M108: SÍ
D110: NOTA | E110: Verificado por la entidad
C112: 15 | D112: Antecedentes Judiciales Policía Nacional | M112: SÍ
D114: NOTA | E114: Verificado por la entidad
C116: 16 | D116: Consulta en el RNMC | M116: SÍ
D118: NOTA | E118: Verificado por la entidad
C120: 17 | D120: Certificado de Registro de inhabilidades por delitos sexuales | M120: SÍ
D122: NOTA | E122: Se aporta documento
C124: 18 | D124: Certificado REDAM | M124: SÍ
D126: NOTA | E126: Se aporta documento
C128: 19 | D128: [Requisito habilitante adicional 1] | M128: N.A.
D130: NOTA
C132: 20 | D132: [Requisito habilitante adicional 2] | M132: N.A.
D134: NOTA
C136: 21 | D136: [Requisito habilitante adicional 3] | M136: N.A.
D138: NOTA
C140: 22 | D140: [Requisito habilitante adicional 4] | M140: N.A.
D142: NOTA
C144: 23 | D144: [Requisito habilitante adicional 5] | M144: N.A.
D146: NOTA
C151: RESULTADO DE LA EVALUACIÓN
G153: =+IF(L27="","",IF(OR(L27="NO",M28="NO",M29="NO",M30="NO",M31="NO",M32="NO",M36="NO",M37="NO",M41="NO",M45="NO",M49="NO",M54="NO",M55="NO",M56="NO",M57="NO",M58="NO",M59="NO",M60,M64="NO",M69="NO",M70="NO",M71="NO",M72="NO",M76="NO",M80="NO",M84="NO",M85="NO",M86="NO",M87="NO",M88="NO",M92="NO",M93="NO",M94="NO",M95="NO",M96="NO",M97="NO",M98="NO",M99="NO",M100="NO",M104="NO",M108="NO",M112="NO",M116="NO",M120="NO",M124="NO",M128="NO",M132="NO",M136="NO",M140="NO",M144="NO"),"NO CUMPLE","CUMPLE")) -> NO CUMPLE
C155: NOTA. Si el resultado de la evaluación es "NO CUMPLE", el oferente deberá subsanar la propuesta durante el término establecido en el cronograma del proceso o la ley, según el caso.

Sheet P-8
E2: SERVICIO NACIONAL DE APRENDIZAJE - SENA | L2: Código: GCCON-F-038
E4: ='Resumen - Evaluación jurídica'!C5 -> EVALUACIÓN JURÍDICA - PROCESO NRO. MC-DG-DAF-005-2026 | L4: V.03
C6: OBJETO | E6: ='Resumen - Evaluación jurídica'!C7 -> CONTRATAR LA IMPERMEABILIZACIÓN DE TERRAZAS, CUBIERTAS Y MUROS DEL EDIFICIO DE SERVICIOS COMPLEMENTARIOS DE LA DIRECCIÓN GENERAL DEL SENA
D11: Proponente nro. | E11: 8 | I11: Lotes | J11: N.A. | K11: Número(s)
D13: Nombre del proponente: | F13: FGD
D15: Integrante 1: | L15: %Participación
D17: Integrante 2: | L17: %Participación
D19: Integrante 3: | L19: %Participación
D21: Integrante 4: | L21: %Participación
Q23: SÍ
Q24: NO
D25: REQUISITO | M25: CUMPLE | Q25: N.A.
C27: 1 | D27: Documento de proponente plural | L27: N.A.
C28: 1.1 | D28: Forma de unión | M28: N.A. | Q28: N.A.
C29: 1.2 | D29: Objeto | M29: N.A. | Q29: Unión Temporal
C30: 1.3 | D30: Vigencia | M30: N.A. | Q30: Consorcio
C31: 1.4 | D31: Participación | M31: N.A. | Q31: Promesa de sociedad futura
C32: 1.5 | D32: Otros | M32: N.A.
D34: NOTA
C36: 2 | D36: Carta de presentación de la propuesta en el formato de la entidad | M36: SÍ
C37: 2.1 | D37: Aval de la propuesta y consulta de antecedentes del profesional (COPNIA o similares) | M37: SÍ
D39: NOTA | E39: Si bien inicialmente no se aportaron soportes del profesional que avala la propuesta, en el plazo de subsanación se aportan
C41: 3 | D41: Documento de identificación del Representante legal o Persona natural (PN) | M41: SÍ
D43: NOTA | E43: Se aporta documento Fabio Garzon Daza 19336660
C45: 4 | D45: Documento que acredite la situación militar definida | M45: SÍ
D47: NOTA | E47: Se aporta documento
C49: 5 | D49: Certificado de existencia y representación legal (CERL) o Registro mercantil (RM) | M49: N.A.
D51: NOTA
C53: 6 | D53: Validación de la información del CERL o del RM
C54: 6.1 | D54: Expedición | M54: N.A.
C55: 6.2 | D55: Objeto social relacionado | M55: N.A.
C56: 6.3 | D56: Facultades | M56: N.A.
C57: 6.4 | D57: Constitución y vigencia | M57: N.A.
C58: 6.5 | D58: Tamaño | M58: N.A.
C59: 6.6 | D59: Domicilio | M59: N.A.
C60: 6.7 | D60: Otros | M60: N.A.
D62: NOTA
C64: 7 | D64: Registro Único de Proponentes – RUP | M64: N.A.
D66: NOTA | E66: N/A
C68: 8 | D68: Validación de la información del RUP
C69: 8.1 | D69: Expedición | M69: N.A.
C70: 8.2 | D70: Renovación | M70: N.A.
C71: 8.3 | D71: Firmeza | M71: N.A.
C72: 8.4 | D72: Multas y declaratorias de incumplimiento | M72: N.A.
D74: NOTA | E74: N/A
C76: 9 | D76: Registro Único Tributario - RUT | M76: SÍ
D78: NOTA | E78: Si bien inicialmente se aporta RUT de 14 de marzo de 2025, durante el plazo de subsanación se aporta el documento actualizado
C80: 10 | D80: Certificación de aportes al Sistema de seguridad social y parafiscales | M80: SÍ
D82: NOTA | E82: Inicialmente no se presenta documento, en plazo de subsanación se allega
C84: 11 | D84: Validación de aportes al Sistema de seguridad social y parafiscales (Aplica para Persona jurídica) | M84: N.A.
C85: 11.1. | D85: Revisor fiscal (RF) | M85: N.A.
C86: 11.2 | D86: Documento de identificación del RF | M86: N.A.
C87: 11.3 | D87: Tarjeta profesional del RF | M87: N.A.
C88: 11.4 | D88: Antecedentes Junta Central de Contadores del RF | M88: N.A.
D90: NOTA | E90: N/A
C92: 12 | D92: Garantía de seriedad de la oferta | M92: N.A.
C93: 12.1 | D93: Expedición | M93: N.A.
C94: 12.2 | D94: Tomador | M94: N.A.
C95: 12.3 | D95: Asegurado | M95: N.A.
C96: 12.4 | D96: Objeto del proceso | M96: N.A.
C97: 12.5 | D97: Valor amparado | M97: N.A.
C98: 12.6 | D98: Vigencia | M98: N.A.
C99: 12.7 | D99: Incluidos los integrantes de la forma asociativa | M99: N.A.
C100: 12.8 | D100: Validación de autenticidad | M100: N.A.
D102: NOTA
C104: 13 | D104: Certificado de antecedentes fiscales - CGR | M104: SÍ
D106: NOTA | E106: Verificado por la entidad
C108: 14 | D108: Certificado de antecedentes disciplinarios - PGN | M108: SÍ
D110: NOTA | E110: Verificado por la entidad
C112: 15 | D112: Antecedentes Judiciales Policía Nacional | M112: SÍ
D114: NOTA | E114: Verificado por la entidad
C116: 16 | D116: Consulta en el RNMC | M116: SÍ
D118: NOTA | E118: Verificado por la entidad
C120: 17 | D120: Certificado de Registro de inhabilidades por delitos sexuales | M120: SÍ
D122: NOTA | E122: Se aporta documento
C124: 18 | D124: Certificado REDAM | M124: SÍ
D126: NOTA | E126: Se aporta documento
C128: 19 | D128: [Requisito habilitante adicional 1] | M128: N.A.
D130: NOTA
C132: 20 | D132: [Requisito habilitante adicional 2] | M132: N.A.
D134: NOTA
C136: 21 | D136: [Requisito habilitante adicional 3] | M136: N.A.
D138: NOTA
C140: 22 | D140: [Requisito habilitante adicional 4] | M140: N.A.
D142: NOTA
C144: 23 | D144: [Requisito habilitante adicional 5] | M144: N.A.
D146: NOTA
C151: RESULTADO DE LA EVALUACIÓN
G153: =+IF(L27="","",IF(OR(L27="NO",M28="NO",M29="NO",M30="NO",M31="NO",M32="NO",M36="NO",M37="NO",M41="NO",M45="NO",M49="NO",M54="NO",M55="NO",M56="NO",M57="NO",M58="NO",M59="NO",M60,M64="NO",M69="NO",M70="NO",M71="NO",M72="NO",M76="NO",M80="NO",M84="NO",M85="NO",M86="NO",M87="NO",M88="NO",M92="NO",M93="NO",M94="NO",M95="NO",M96="NO",M97="NO",M98="NO",M99="NO",M100="NO",M104="NO",M108="NO",M112="NO",M116="NO",M120="NO",M124="NO",M128="NO",M132="NO",M136="NO",M140="NO",M144="NO"),"NO CUMPLE","CUMPLE")) -> CUMPLE
C155: NOTA. Si el resultado de la evaluación es "NO CUMPLE", el oferente deberá subsanar la propuesta durante el término establecido en el cronograma del proceso o la ley, según el caso.

Sheet P-9
E2: SERVICIO NACIONAL DE APRENDIZAJE - SENA | L2: Código: GCCON-F-038
E4: ='Resumen - Evaluación jurídica'!C5 -> EVALUACIÓN JURÍDICA - PROCESO NRO. MC-DG-DAF-005-2026 | L4: V.03
C6: OBJETO | E6: ='Resumen - Evaluación jurídica'!C7 -> CONTRATAR LA IMPERMEABILIZACIÓN DE TERRAZAS, CUBIERTAS Y MUROS DEL EDIFICIO DE SERVICIOS COMPLEMENTARIOS DE LA DIRECCIÓN GENERAL DEL SENA
D11: Proponente nro. | E11: 9 | I11: Lotes | J11: N.A. | K11: Número(s)
D13: Nombre del proponente: | F13: INDUTECHOS SAS
D15: Integrante 1: | L15: %Participación
D17: Integrante 2: | L17: %Participación
D19: Integrante 3: | L19: %Participación
D21: Integrante 4: | L21: %Participación
Q23: SÍ
Q24: NO
D25: REQUISITO | M25: CUMPLE | Q25: N.A.
C27: 1 | D27: Documento de proponente plural | L27: N.A.
C28: 1.1 | D28: Forma de unión | M28: N.A. | Q28: N.A.
C29: 1.2 | D29: Objeto | M29: N.A. | Q29: Unión Temporal
C30: 1.3 | D30: Vigencia | M30: N.A. | Q30: Consorcio
C31: 1.4 | D31: Participación | M31: N.A. | Q31: Promesa de sociedad futura
C32: 1.5 | D32: Otros | M32: N.A.
D34: NOTA
C36: 2 | D36: Carta de presentación de la propuesta en el formato de la entidad | M36: SÍ
C37: 2.1 | D37: Aval de la propuesta y consulta de antecedentes del profesional (COPNIA o similares) | M37: SÍ
D39: NOTA
C41: 3 | D41: Documento de identificación del Representante legal o Persona natural (PN) | M41: SÍ
D43: NOTA | E43: Se aporta documento de JHON EDWAR ARAGON OYOLA 1.110.232.752
C45: 4 | D45: Documento que acredite la situación militar definida | M45: SÍ
D47: NOTA | E47: Se aporta documento
C49: 5 | D49: Certificado de existencia y representación legal (CERL) o Registro mercantil (RM) | M49: SÍ
D51: NOTA | E51: Se aporta documento
C53: 6 | D53: Validación de la información del CERL o del RM
C54: 6.1 | D54: Expedición | M54: SÍ
C55: 6.2 | D55: Objeto social relacionado | M55: SÍ
C56: 6.3 | D56: Facultades | M56: SÍ
C57: 6.4 | D57: Constitución y vigencia | M57: SÍ
C58: 6.5 | D58: Tamaño | M58: SÍ
C59: 6.6 | D59: Domicilio | M59: SÍ
C60: 6.7 | D60: Otros | M60: N.A.
D62: NOTA | E62: Tamaño de empresa micro
C64: 7 | D64: Registro Único de Proponentes – RUP | M64: N.A.
D66: NOTA | E66: No se requiere
C68: 8 | D68: Validación de la información del RUP
C69: 8.1 | D69: Expedición | M69: N.A.
C70: 8.2 | D70: Renovación | M70: N.A.
C71: 8.3 | D71: Firmeza | M71: N.A.
C72: 8.4 | D72: Multas y declaratorias de incumplimiento | M72: N.A.
D74: NOTA | E74: No se requiere
C76: 9 | D76: Registro Único Tributario - RUT | M76: SÍ
D78: NOTA
C80: 10 | D80: Certificación de aportes al Sistema de seguridad social y parafiscales | M80: NO
D82: NOTA | E82: Si bien inicialmente No se aporto documento, y en el plazo de subanación se aportó este presenta error en fecha indicando 21 de septiembre de 2026. No se aportaron los soportes que permitan validar matricula profesional antecedentes de la contadora que suscribe el certificado de aportes al sistema de seguridad social y parafiscales
C84: 11 | D84: Validación de aportes al Sistema de seguridad social y parafiscales (Aplica para Persona jurídica) | M84: NO
C85: 11.1. | D85: Revisor fiscal (RF) | M85: N.A.
C86: 11.2 | D86: Documento de identificación del RF | M86: N.A.
C87: 11.3 | D87: Tarjeta profesional del RF | M87: N.A.
C88: 11.4 | D88: Antecedentes Junta Central de Contadores del RF | M88: N.A.
D90: NOTA
C92: 12 | D92: Garantía de seriedad de la oferta | M92: N.A.
C93: 12.1 | D93: Expedición | M93: N.A.
C94: 12.2 | D94: Tomador | M94: N.A.
C95: 12.3 | D95: Asegurado | M95: N.A.
C96: 12.4 | D96: Objeto del proceso | M96: N.A.
C97: 12.5 | D97: Valor amparado | M97: N.A.
C98: 12.6 | D98: Vigencia | M98: N.A.
C99: 12.7 | D99: Incluidos los integrantes de la forma asociativa | M99: N.A.
C100: 12.8 | D100: Validación de autenticidad | M100: N.A.
D102: NOTA | E102: No se requiere
C104: 13 | D104: Certificado de antecedentes fiscales - CGR | M104: SÍ
D106: NOTA | E106: Verificado por la entidad
C108: 14 | D108: Certificado de antecedentes disciplinarios - PGN | M108: SÍ
D110: NOTA | E110: Verificado por la entidad
C112: 15 | D112: Antecedentes Judiciales Policía Nacional | M112: SÍ
D114: NOTA | E114: Verificado por la entidad
C116: 16 | D116: Consulta en el RNMC | M116: SÍ
D118: NOTA | E118: Verificado por la entidad
C120: 17 | D120: Certificado de Registro de inhabilidades por delitos sexuales | M120: SÍ
D122: NOTA | E122: Se aporta documento
C124: 18 | D124: Certificado REDAM | M124: SÍ
D126: NOTA | E126: Se aporta documento
C128: 19 | D128: [Requisito habilitante adicional 1] | M128: N.A.
D130: NOTA
C132: 20 | D132: [Requisito habilitante adicional 2] | M132: N.A.
D134: NOTA
C136: 21 | D136: [Requisito habilitante adicional 3] | M136: N.A.
D138: NOTA
C140: 22 | D140: [Requisito habilitante adicional 4] | M140: N.A.
D142: NOTA
C144: 23 | D144: [Requisito habilitante adicional 5] | M144: N.A.
D146: NOTA
C151: RESULTADO DE LA EVALUACIÓN
G153: =+IF(L27="","",IF(OR(L27="NO",M28="NO",M29="NO",M30="NO",M31="NO",M32="NO",M36="NO",M37="NO",M41="NO",M45="NO",M49="NO",M54="NO",M55="NO",M56="NO",M57="NO",M58="NO",M59="NO",M60,M64="NO",M69="NO",M70="NO",M71="NO",M72="NO",M76="NO",M80="NO",M84="NO",M85="NO",M86="NO",M87="NO",M88="NO",M92="NO",M93="NO",M94="NO",M95="NO",M96="NO",M97="NO",M98="NO",M99="NO",M100="NO",M104="NO",M108="NO",M112="NO",M116="NO",M120="NO",M124="NO",M128="NO",M132="NO",M136="NO",M140="NO",M144="NO"),"NO CUMPLE","CUMPLE")) -> NO CUMPLE
C155: NOTA. Si el resultado de la evaluación es "NO CUMPLE", el oferente deberá subsanar la propuesta durante el término establecido en el cronograma del proceso o la ley, según el caso.

Sheet P-10
E2: SERVICIO NACIONAL DE APRENDIZAJE - SENA | L2: Código: GCCON-F-038
E4: ='Resumen - Evaluación jurídica'!C5 -> EVALUACIÓN JURÍDICA - PROCESO NRO. MC-DG-DAF-005-2026 | L4: V.03
C6: OBJETO | E6: ='Resumen - Evaluación jurídica'!C7 -> CONTRATAR LA IMPERMEABILIZACIÓN DE TERRAZAS, CUBIERTAS Y MUROS DEL EDIFICIO DE SERVICIOS COMPLEMENTARIOS DE LA DIRECCIÓN GENERAL DEL SENA
D11: Proponente nro. | E11: 10 | I11: Lotes | J11: N.A. | K11: Número(s)
D13: Nombre del proponente: | F13: UNAMERICA SAS
D15: Integrante 1: | L15: %Participación
D17: Integrante 2: | L17: %Participación
D19: Integrante 3: | L19: %Participación
D21: Integrante 4: | L21: %Participación
Q23: SÍ
Q24: NO
D25: REQUISITO | M25: CUMPLE | Q25: N.A.
C27: 1 | D27: Documento de proponente plural | L27: N.A.
C28: 1.1 | D28: Forma de unión | M28: N.A. | Q28: N.A.
C29: 1.2 | D29: Objeto | M29: N.A. | Q29: Unión Temporal
C30: 1.3 | D30: Vigencia | M30: N.A. | Q30: Consorcio
C31: 1.4 | D31: Participación | M31: N.A. | Q31: Promesa de sociedad futura
C32: 1.5 | D32: Otros | M32: N.A.
D34: NOTA
C36: 2 | D36: Carta de presentación de la propuesta en el formato de la entidad | M36: NO
C37: 2.1 | D37: Aval de la propuesta y consulta de antecedentes del profesional (COPNIA o similares) | M37: NO
D39: NOTA | E39: La carta de presentación de propuesta no fue diligencia correctamente en tanto no se identifica aval de la propuesta, tampoco se allegan soportes de aval. No se aporto documento durante el tiempo otorgado para subsanación, por lo que se rechaza en razón de la causal 18 del numeral 3.10.1
C41: 3 | D41: Documento de identificación del Representante legal o Persona natural (PN) | M41: SÍ
D43: NOTA | E43: Se aporta documento William Torres 7939754
C45: 4 | D45: Documento que acredite la situación militar definida | M45: NO
D47: NOTA | E47: No se aporta documento. No se aporto documento durante el tiempo otorgado para subsanación, por lo que se rechaza en razón de la causal 18 del numeral 3.10.1
C49: 5 | D49: Certificado de existencia y representación legal (CERL) o Registro mercantil (RM) | M49: SÍ
D51: NOTA | E51: Se aporta documento
C53: 6 | D53: Validación de la información del CERL o del RM
C54: 6.1 | D54: Expedición | M54: SÍ
C55: 6.2 | D55: Objeto social relacionado | M55: SÍ
C56: 6.3 | D56: Facultades | M56: SÍ
C57: 6.4 | D57: Constitución y vigencia | M57: SÍ
C58: 6.5 | D58: Tamaño | M58: SÍ
C59: 6.6 | D59: Domicilio | M59: SÍ
C60: 6.7 | D60: Otros | M60: N.A.
D62: NOTA
C64: 7 | D64: Registro Único de Proponentes – RUP | M64: N.A.
D66: NOTA | E66: No se requiere
C68: 8 | D68: Validación de la información del RUP
C69: 8.1 | D69: Expedición | M69: N.A.
C70: 8.2 | D70: Renovación | M70: N.A.
C71: 8.3 | D71: Firmeza | M71: N.A.
C72: 8.4 | D72: Multas y declaratorias de incumplimiento | M72: N.A.
D74: NOTA | E74: No se requiere
C76: 9 | D76: Registro Único Tributario - RUT | M76: SÍ
D78: NOTA | E78: Se aporta documento
C80: 10 | D80: Certificación de aportes al Sistema de seguridad social y parafiscales | M80: SÍ
D82: NOTA | E82: Se aporta documento por el representante legal
C84: 11 | D84: Validación de aportes al Sistema de seguridad social y parafiscales (Aplica para Persona jurídica) | M84: SÍ
C85: 11.1. | D85: Revisor fiscal (RF) | M85: N.A.
C86: 11.2 | D86: Documento de identificación del RF | M86: N.A.
C87: 11.3 | D87: Tarjeta profesional del RF | M87: N.A.
C88: 11.4 | D88: Antecedentes Junta Central de Contadores del RF | M88: N.A.
D90: NOTA
C92: 12 | D92: Garantía de seriedad de la oferta | M92: N.A.
C93: 12.1 | D93: Expedición | M93: N.A.
C94: 12.2 | D94: Tomador | M94: N.A.
C95: 12.3 | D95: Asegurado | M95: N.A.
C96: 12.4 | D96: Objeto del proceso | M96: N.A.
C97: 12.5 | D97: Valor amparado | M97: N.A.
C98: 12.6 | D98: Vigencia | M98: N.A.
C99: 12.7 | D99: Incluidos los integrantes de la forma asociativa | M99: N.A.
C100: 12.8 | D100: Validación de autenticidad | M100: N.A.
D102: NOTA | E102: No se requiere
C104: 13 | D104: Certificado de antecedentes fiscales - CGR | M104: SÍ
D106: NOTA | E106: Verificado por la entidad
C108: 14 | D108: Certificado de antecedentes disciplinarios - PGN | M108: SÍ
D110: NOTA | E110: Verificado por la entidad
C112: 15 | D112: Antecedentes Judiciales Policía Nacional | M112: SÍ
D114: NOTA | E114: Verificado por la entidad
C116: 16 | D116: Consulta en el RNMC | M116: SÍ
D118: NOTA | E118: Verificado por la entidad
C120: 17 | D120: Certificado de Registro de inhabilidades por delitos sexuales | M120: SÍ
D122: NOTA | E122: Se aporta documento
C124: 18 | D124: Certificado REDAM | M124: NO
D126: NOTA | E126: No se aporta documento. No se aporto documento durante el tiempo otorgado para subsanación, por lo que se rechaza en razón de la causal 18 del numeral 3.10.1
C128: 19 | D128: [Requisito habilitante adicional 1] | M128: N.A.
D130: NOTA
C132: 20 | D132: [Requisito habilitante adicional 2] | M132: N.A.
D134: NOTA
C136: 21 | D136: [Requisito habilitante adicional 3] | M136: N.A.
D138: NOTA
C140: 22 | D140: [Requisito habilitante adicional 4] | M140: N.A.
D142: NOTA
C144: 23 | D144: [Requisito habilitante adicional 5] | M144: N.A.
D146: NOTA
C151: RESULTADO DE LA EVALUACIÓN
G153: =+IF(L27="","",IF(OR(L27="NO",M28="NO",M29="NO",M30="NO",M31="NO",M32="NO",M36="NO",M37="NO",M41="NO",M45="NO",M49="NO",M54="NO",M55="NO",M56="NO",M57="NO",M58="NO",M59="NO",M60,M64="NO",M69="NO",M70="NO",M71="NO",M72="NO",M76="NO",M80="NO",M84="NO",M85="NO",M86="NO",M87="NO",M88="NO",M92="NO",M93="NO",M94="NO",M95="NO",M96="NO",M97="NO",M98="NO",M99="NO",M100="NO",M104="NO",M108="NO",M112="NO",M116="NO",M120="NO",M124="NO",M128="NO",M132="NO",M136="NO",M140="NO",M144="NO"),"NO CUMPLE","CUMPLE")) -> NO CUMPLE
C155: NOTA. Si el resultado de la evaluación es "NO CUMPLE", el oferente deberá subsanar la propuesta durante el término establecido en el cronograma del proceso o la ley, según el caso.

Sheet P-11 
E2: SERVICIO NACIONAL DE APRENDIZAJE - SENA | L2: Código: GCCON-F-038
E4: ='Resumen - Evaluación jurídica'!C5 -> EVALUACIÓN JURÍDICA - PROCESO NRO. MC-DG-DAF-005-2026 | L4: V.03
C6: OBJETO | E6: ='Resumen - Evaluación jurídica'!C7 -> CONTRATAR LA IMPERMEABILIZACIÓN DE TERRAZAS, CUBIERTAS Y MUROS DEL EDIFICIO DE SERVICIOS COMPLEMENTARIOS DE LA DIRECCIÓN GENERAL DEL SENA
D11: Proponente nro. | E11: 11 | I11: Lotes | J11: N.A. | K11: Número(s)
D13: Nombre del proponente: | F13: CONSORCIO CUBIERTA SENA 2026 2
D15: Integrante 1: | E15: YT CONSTRUCCIONES CIVILES S.A.S | L15: %Participación | M15: 0.5
D17: Integrante 2: | E17: GRUPO EMPRESARIAL LAURUS S.A.S | L17: %Participación | M17: 0.5
D19: Integrante 3: | L19: %Participación
D21: Integrante 4: | L21: %Participación
Q23: SÍ
Q24: NO
D25: REQUISITO | M25: CUMPLE | Q25: N.A.
C27: 1 | D27: Documento de proponente plural | L27: N.A.
C28: 1.1 | D28: Forma de unión | M28: N.A. | Q28: N.A.
C29: 1.2 | D29: Objeto | M29: N.A. | Q29: Unión Temporal
C30: 1.3 | D30: Vigencia | M30: N.A. | Q30: Consorcio
C31: 1.4 | D31: Participación | M31: N.A. | Q31: Promesa de sociedad futura
C32: 1.5 | D32: Otros | M32: N.A.
D34: NOTA
C36: 2 | D36: Carta de presentación de la propuesta en el formato de la entidad | M36: SÍ
C37: 2.1 | D37: Aval de la propuesta y consulta de antecedentes del profesional (COPNIA o similares) | M37: SÍ
D39: NOTA
C41: 3 | D41: Documento de identificación del Representante legal o Persona natural (PN) | M41: SÍ
D43: NOTA
C45: 4 | D45: Documento que acredite la situación militar definida | M45: NO
D47: NOTA | E47: NO SE APORTA
C49: 5 | D49: Certificado de existencia y representación legal (CERL) o Registro mercantil (RM) | M49: SÍ
D51: NOTA | E51: Se aporta documento
C53: 6 | D53: Validación de la información del CERL o del RM
C54: 6.1 | D54: Expedición | M54: SÍ
C55: 6.2 | D55: Objeto social relacionado | M55: SÍ
C56: 6.3 | D56: Facultades | M56: SÍ
C57: 6.4 | D57: Constitución y vigencia | M57: SÍ
C58: 6.5 | D58: Tamaño | M58: SÍ
C59: 6.6 | D59: Domicilio | M59: SÍ
C60: 6.7 | D60: Otros | M60: N.A.
D62: NOTA | E62: Se aporta CERL de los consorciados
C64: 7 | D64: Registro Único de Proponentes – RUP | M64: N.A.
D66: NOTA | E66: No se requiere conforme EP
C68: 8 | D68: Validación de la información del RUP
C69: 8.1 | D69: Expedición | M69: N.A.
C70: 8.2 | D70: Renovación | M70: N.A.
C71: 8.3 | D71: Firmeza | M71: N.A.
C72: 8.4 | D72: Multas y declaratorias de incumplimiento | M72: N.A.
D74: NOTA | E74: No se requiere
C76: 9 | D76: Registro Único Tributario - RUT | M76: SÍ
D78: NOTA
C80: 10 | D80: Certificación de aportes al Sistema de seguridad social y parafiscales | M80: SÍ
D82: NOTA | E82: Se aporta documento
C84: 11 | D84: Validación de aportes al Sistema de seguridad social y parafiscales (Aplica para Persona jurídica) | M84: SÍ
C85: 11.1. | D85: Revisor fiscal (RF) | M85: SÍ
C86: 11.2 | D86: Documento de identificación del RF | M86: SÍ
C87: 11.3 | D87: Tarjeta profesional del RF | M87: SÍ
C88: 11.4 | D88: Antecedentes Junta Central de Contadores del RF | M88: SÍ
D90: NOTA
C92: 12 | D92: Garantía de seriedad de la oferta | M92: N.A.
C93: 12.1 | D93: Expedición | M93: N.A.
C94: 12.2 | D94: Tomador | M94: N.A.
C95: 12.3 | D95: Asegurado | M95: N.A.
C96: 12.4 | D96: Objeto del proceso | M96: N.A.
C97: 12.5 | D97: Valor amparado | M97: N.A.
C98: 12.6 | D98: Vigencia | M98: N.A.
C99: 12.7 | D99: Incluidos los integrantes de la forma asociativa | M99: N.A.
C100: 12.8 | D100: Validación de autenticidad | M100: N.A.
D102: NOTA | E102: No se requiere
C104: 13 | D104: Certificado de antecedentes fiscales - CGR | M104: SÍ
D106: NOTA | E106: Se aporta documento
C108: 14 | D108: Certificado de antecedentes disciplinarios - PGN | M108: SÍ
D110: NOTA | E110: Se aporta documento
C112: 15 | D112: Antecedentes Judiciales Policía Nacional | M112: SÍ
D114: NOTA | E114: Se aporta documento
C116: 16 | D116: Consulta en el RNMC | M116: SÍ
D118: NOTA | E118: Se aporta documento
C120: 17 | D120: Certificado de Registro de inhabilidades por delitos sexuales | M120: SÍ
D122: NOTA | E122: Se aporta documento
C124: 18 | D124: Certificado REDAM | M124: SÍ
D126: NOTA | E126: Se aporta documento por los consorciados
C128: 19 | D128: [Requisito habilitante adicional 1] | M128: N.A.
D130: NOTA
C132: 20 | D132: [Requisito habilitante adicional 2] | M132: N.A.
D134: NOTA
C136: 21 | D136: [Requisito habilitante adicional 3] | M136: N.A.
D138: NOTA
C140: 22 | D140: [Requisito habilitante adicional 4] | M140: N.A.
D142: NOTA
C144: 23 | D144: [Requisito habilitante adicional 5] | M144: N.A.
D146: NOTA
C151: RESULTADO DE LA EVALUACIÓN
G153: =+IF(L27="","",IF(OR(L27="NO",M28="NO",M29="NO",M30="NO",M31="NO",M32="NO",M36="NO",M37="NO",M41="NO",M45="NO",M49="NO",M54="NO",M55="NO",M56="NO",M57="NO",M58="NO",M59="NO",M60,M64="NO",M69="NO",M70="NO",M71="NO",M72="NO",M76="NO",M80="NO",M84="NO",M85="NO",M86="NO",M87="NO",M88="NO",M92="NO",M93="NO",M94="NO",M95="NO",M96="NO",M97="NO",M98="NO",M99="NO",M100="NO",M104="NO",M108="NO",M112="NO",M116="NO",M120="NO",M124="NO",M128="NO",M132="NO",M136="NO",M140="NO",M144="NO"),"NO CUMPLE","CUMPLE")) -> NO CUMPLE
C155: NOTA. Si el resultado de la evaluación es "NO CUMPLE", el oferente deberá subsanar la propuesta durante el término establecido en el cronograma del proceso o la ley, según el caso.

Sheet P-12
E2: SERVICIO NACIONAL DE APRENDIZAJE - SENA | L2: Código: GCCON-F-038
E4: ='Resumen - Evaluación jurídica'!C5 -> EVALUACIÓN JURÍDICA - PROCESO NRO. MC-DG-DAF-005-2026 | L4: V.03
C6: OBJETO | E6: ='Resumen - Evaluación jurídica'!C7 -> CONTRATAR LA IMPERMEABILIZACIÓN DE TERRAZAS, CUBIERTAS Y MUROS DEL EDIFICIO DE SERVICIOS COMPLEMENTARIOS DE LA DIRECCIÓN GENERAL DEL SENA
D11: Proponente nro. | E11: 11 | I11: Lotes | J11: N.A. | K11: Número(s)
D13: Nombre del proponente: | F13: Andrés García A
D15: Integrante 1: | L15: %Participación
D17: Integrante 2: | L17: %Participación
D19: Integrante 3: | L19: %Participación
D21: Integrante 4: | L21: %Participación
Q23: SÍ
Q24: NO
D25: REQUISITO | M25: CUMPLE | Q25: N.A.
C27: 1 | D27: Documento de proponente plural | L27: N.A.
C28: 1.1 | D28: Forma de unión | M28: N.A. | Q28: N.A.
C29: 1.2 | D29: Objeto | M29: N.A. | Q29: Unión Temporal
C30: 1.3 | D30: Vigencia | M30: N.A. | Q30: Consorcio
C31: 1.4 | D31: Participación | M31: N.A. | Q31: Promesa de sociedad futura
C32: 1.5 | D32: Otros | M32: N.A.
D34: NOTA
C36: 2 | D36: Carta de presentación de la propuesta en el formato de la entidad | M36: SÍ
C37: 2.1 | D37: Aval de la propuesta y consulta de antecedentes del profesional (COPNIA o similares) | M37: SÍ
D39: NOTA
C41: 3 | D41: Documento de identificación del Representante legal o Persona natural (PN) | M41: SÍ
D43: NOTA
C45: 4 | D45: Documento que acredite la situación militar definida | M45: SÍ
D47: NOTA
C49: 5 | D49: Certificado de existencia y representación legal (CERL) o Registro mercantil (RM) | M49: SÍ
D51: NOTA | E51: Se aporta documento
C53: 6 | D53: Validación de la información del CERL o del RM
C54: 6.1 | D54: Expedición | M54: N.A.
C55: 6.2 | D55: Objeto social relacionado | M55: N.A.
C56: 6.3 | D56: Facultades | M56: N.A.
C57: 6.4 | D57: Constitución y vigencia | M57: N.A.
C58: 6.5 | D58: Tamaño | M58: N.A.
C59: 6.6 | D59: Domicilio | M59: N.A.
C60: 6.7 | D60: Otros | M60: N.A.
D62: NOTA
C64: 7 | D64: Registro Único de Proponentes – RUP | M64: N.A.
D66: NOTA | E66: No se requiere
C68: 8 | D68: Validación de la información del RUP
C69: 8.1 | D69: Expedición | M69: N.A.
C70: 8.2 | D70: Renovación | M70: N.A.
C71: 8.3 | D71: Firmeza | M71: N.A.
C72: 8.4 | D72: Multas y declaratorias de incumplimiento | M72: N.A.
D74: NOTA | E74: No se requiere
C76: 9 | D76: Registro Único Tributario - RUT | M76: SÍ
D78: NOTA | E78: Se aporta documento
C80: 10 | D80: Certificación de aportes al Sistema de seguridad social y parafiscales | M80: SÍ
D82: NOTA | E82: Se aporta documento
C84: 11 | D84: Validación de aportes al Sistema de seguridad social y parafiscales (Aplica para Persona jurídica) | M84: SÍ
C85: 11.1. | D85: Revisor fiscal (RF) | M85: N.A.
C86: 11.2 | D86: Documento de identificación del RF | M86: N.A.
C87: 11.3 | D87: Tarjeta profesional del RF | M87: N.A.
C88: 11.4 | D88: Antecedentes Junta Central de Contadores del RF | M88: N.A.
D90: NOTA
C92: 12 | D92: Garantía de seriedad de la oferta | M92: N.A.
C93: 12.1 | D93: Expedición | M93: N.A.
C94: 12.2 | D94: Tomador | M94: N.A.
C95: 12.3 | D95: Asegurado | M95: N.A.
C96: 12.4 | D96: Objeto del proceso | M96: N.A.
C97: 12.5 | D97: Valor amparado | M97: N.A.
C98: 12.6 | D98: Vigencia | M98: N.A.
C99: 12.7 | D99: Incluidos los integrantes de la forma asociativa | M99: N.A.
C100: 12.8 | D100: Validación de autenticidad | M100: N.A.
D102: NOTA | E102: No se requiere
C104: 13 | D104: Certificado de antecedentes fiscales - CGR | M104: SÍ
D106: NOTA | E106: Verificado por la entidad
C108: 14 | D108: Certificado de antecedentes disciplinarios - PGN | M108: SÍ
D110: NOTA | E110: Verificado por la entidad
C112: 15 | D112: Antecedentes Judiciales Policía Nacional | M112: SÍ
D114: NOTA | E114: Verificado por la entidad
C116: 16 | D116: Consulta en el RNMC | M116: SÍ
D118: NOTA | E118: Verificado por la entidad
C120: 17 | D120: Certificado de Registro de inhabilidades por delitos sexuales | M120: SÍ
D122: NOTA | E122: Se aporta documento
C124: 18 | D124: Certificado REDAM | M124: SÍ
D126: NOTA | E126: Se aporta documento
C128: 19 | D128: [Requisito habilitante adicional 1] | M128: N.A.
D130: NOTA
C132: 20 | D132: [Requisito habilitante adicional 2] | M132: N.A.
D134: NOTA
C136: 21 | D136: [Requisito habilitante adicional 3] | M136: N.A.
D138: NOTA
C140: 22 | D140: [Requisito habilitante adicional 4] | M140: N.A.
D142: NOTA
C144: 23 | D144: [Requisito habilitante adicional 5] | M144: N.A.
D146: NOTA
C151: RESULTADO DE LA EVALUACIÓN
G153: =+IF(L27="","",IF(OR(L27="NO",M28="NO",M29="NO",M30="NO",M31="NO",M32="NO",M36="NO",M37="NO",M41="NO",M45="NO",M49="NO",M54="NO",M55="NO",M56="NO",M57="NO",M58="NO",M59="NO",M60,M64="NO",M69="NO",M70="NO",M71="NO",M72="NO",M76="NO",M80="NO",M84="NO",M85="NO",M86="NO",M87="NO",M88="NO",M92="NO",M93="NO",M94="NO",M95="NO",M96="NO",M97="NO",M98="NO",M99="NO",M100="NO",M104="NO",M108="NO",M112="NO",M116="NO",M120="NO",M124="NO",M128="NO",M132="NO",M136="NO",M140="NO",M144="NO"),"NO CUMPLE","CUMPLE")) -> CUMPLE
C155: NOTA. Si el resultado de la evaluación es "NO CUMPLE", el oferente deberá subsanar la propuesta durante el término establecido en el cronograma del proceso o la ley, según el caso.

Sheet P-13
E2: SERVICIO NACIONAL DE APRENDIZAJE - SENA | L2: Código: GCCON-F-038
E4: ='Resumen - Evaluación jurídica'!C5 -> EVALUACIÓN JURÍDICA - PROCESO NRO. MC-DG-DAF-005-2026 | L4: V.03
C6: OBJETO | E6: ='Resumen - Evaluación jurídica'!C7 -> CONTRATAR LA IMPERMEABILIZACIÓN DE TERRAZAS, CUBIERTAS Y MUROS DEL EDIFICIO DE SERVICIOS COMPLEMENTARIOS DE LA DIRECCIÓN GENERAL DEL SENA
D11: Proponente nro. | E11: 12 | I11: Lotes | J11: N.A. | K11: Número(s)
D13: Nombre del proponente: | F13: GEDICCON S.A.S
D15: Integrante 1: | L15: %Participación
D17: Integrante 2: | L17: %Participación
D19: Integrante 3: | L19: %Participación
D21: Integrante 4: | L21: %Participación
Q23: SÍ
Q24: NO
D25: REQUISITO | M25: CUMPLE | Q25: N.A.
C27: 1 | D27: Documento de proponente plural | L27: N.A.
C28: 1.1 | D28: Forma de unión | M28: N.A. | Q28: N.A.
C29: 1.2 | D29: Objeto | M29: N.A. | Q29: Unión Temporal
C30: 1.3 | D30: Vigencia | M30: N.A. | Q30: Consorcio
C31: 1.4 | D31: Participación | M31: N.A. | Q31: Promesa de sociedad futura
C32: 1.5 | D32: Otros | M32: N.A.
D34: NOTA
C36: 2 | D36: Carta de presentación de la propuesta en el formato de la entidad | M36: SÍ
C37: 2.1 | D37: Aval de la propuesta y consulta de antecedentes del profesional (COPNIA o similares) | M37: NO
D39: NOTA | E39: RL avala la propuesta, sin embargo, no se adjunta copia de la tarjeta profesional del mismo y certificado de vigencia COPNIA no cuenta con su firma
C41: 3 | D41: Documento de identificación del Representante legal o Persona natural (PN) | M41: SÍ
D43: NOTA
C45: 4 | D45: Documento que acredite la situación militar definida | M45: NO
D47: NOTA | E47: NO SE APORTA
C49: 5 | D49: Certificado de existencia y representación legal (CERL) o Registro mercantil (RM) | M49: SÍ
D51: NOTA | E51: Se aporta documento
C53: 6 | D53: Validación de la información del CERL o del RM
C54: 6.1 | D54: Expedición | M54: SÍ
C55: 6.2 | D55: Objeto social relacionado | M55: SÍ
C56: 6.3 | D56: Facultades | M56: SÍ
C57: 6.4 | D57: Constitución y vigencia | M57: SÍ
C58: 6.5 | D58: Tamaño | M58: SÍ
C59: 6.6 | D59: Domicilio | M59: SÍ
C60: 6.7 | D60: Otros | M60: N.A.
D62: NOTA
C64: 7 | D64: Registro Único de Proponentes – RUP | M64: N.A.
D66: NOTA | E66: No se requiere
C68: 8 | D68: Validación de la información del RUP
C69: 8.1 | D69: Expedición | M69: N.A.
C70: 8.2 | D70: Renovación | M70: N.A.
C71: 8.3 | D71: Firmeza | M71: N.A.
C72: 8.4 | D72: Multas y declaratorias de incumplimiento | M72: N.A.
D74: NOTA | E74: No se requiere
C76: 9 | D76: Registro Único Tributario - RUT | M76: SÍ
D78: NOTA
C80: 10 | D80: Certificación de aportes al Sistema de seguridad social y parafiscales | M80: SÍ
D82: NOTA | E82: Se aporta documento
C84: 11 | D84: Validación de aportes al Sistema de seguridad social y parafiscales (Aplica para Persona jurídica) | M84: SÍ
C85: 11.1. | D85: Revisor fiscal (RF) | M85: N.A.
C86: 11.2 | D86: Documento de identificación del RF | M86: N.A.
C87: 11.3 | D87: Tarjeta profesional del RF | M87: N.A.
C88: 11.4 | D88: Antecedentes Junta Central de Contadores del RF | M88: N.A.
D90: NOTA | E90: Documento bajo gravedad de juramento Representante legal y contador
C92: 12 | D92: Garantía de seriedad de la oferta | M92: N.A.
C93: 12.1 | D93: Expedición | M93: N.A.
C94: 12.2 | D94: Tomador | M94: N.A.
C95: 12.3 | D95: Asegurado | M95: N.A.
C96: 12.4 | D96: Objeto del proceso | M96: N.A.
C97: 12.5 | D97: Valor amparado | M97: N.A.
C98: 12.6 | D98: Vigencia | M98: N.A.
C99: 12.7 | D99: Incluidos los integrantes de la forma asociativa | M99: N.A.
C100: 12.8 | D100: Validación de autenticidad | M100: N.A.
D102: NOTA | E102: No se requiere
C104: 13 | D104: Certificado de antecedentes fiscales - CGR | M104: SÍ
D106: NOTA | E106: Verificado por la entidad
C108: 14 | D108: Certificado de antecedentes disciplinarios - PGN | M108: SÍ
D110: NOTA | E110: Verificado por la entidad
C112: 15 | D112: Antecedentes Judiciales Policía Nacional | M112: SÍ
D114: NOTA | E114: Verificado por la entidad
C116: 16 | D116: Consulta en el RNMC | M116: SÍ
D118: NOTA | E118: Verificado por la entidad
C120: 17 | D120: Certificado de Registro de inhabilidades por delitos sexuales | M120: SÍ
D122: NOTA | E122: Se aporta documento
C124: 18 | D124: Certificado REDAM | M124: SÍ
D126: NOTA | E126: Se aporta documento
C128: 19 | D128: [Requisito habilitante adicional 1] | M128: N.A.
D130: NOTA
C132: 20 | D132: [Requisito habilitante adicional 2] | M132: N.A.
D134: NOTA
C136: 21 | D136: [Requisito habilitante adicional 3] | M136: N.A.
D138: NOTA
C140: 22 | D140: [Requisito habilitante adicional 4] | M140: N.A.
D142: NOTA
C144: 23 | D144: [Requisito habilitante adicional 5] | M144: N.A.
D146: NOTA
C151: RESULTADO DE LA EVALUACIÓN
G153: =+IF(L27="","",IF(OR(L27="NO",M28="NO",M29="NO",M30="NO",M31="NO",M32="NO",M36="NO",M37="NO",M41="NO",M45="NO",M49="NO",M54="NO",M55="NO",M56="NO",M57="NO",M58="NO",M59="NO",M60,M64="NO",M69="NO",M70="NO",M71="NO",M72="NO",M76="NO",M80="NO",M84="NO",M85="NO",M86="NO",M87="NO",M88="NO",M92="NO",M93="NO",M94="NO",M95="NO",M96="NO",M97="NO",M98="NO",M99="NO",M100="NO",M104="NO",M108="NO",M112="NO",M116="NO",M120="NO",M124="NO",M128="NO",M132="NO",M136="NO",M140="NO",M144="NO"),"NO CUMPLE","CUMPLE")) -> NO CUMPLE
C155: NOTA. Si el resultado de la evaluación es "NO CUMPLE", el oferente deberá subsanar la propuesta durante el término establecido en el cronograma del proceso o la ley, según el caso.

Sheet P-14
E2: SERVICIO NACIONAL DE APRENDIZAJE - SENA | L2: Código: GCCON-F-038
E4: ='Resumen - Evaluación jurídica'!C5 -> EVALUACIÓN JURÍDICA - PROCESO NRO. MC-DG-DAF-005-2026 | L4: V.03
C6: OBJETO | E6: ='Resumen - Evaluación jurídica'!C7 -> CONTRATAR LA IMPERMEABILIZACIÓN DE TERRAZAS, CUBIERTAS Y MUROS DEL EDIFICIO DE SERVICIOS COMPLEMENTARIOS DE LA DIRECCIÓN GENERAL DEL SENA
D11: Proponente nro. | E11: 13 | I11: Lotes | J11: N.A. | K11: Número(s)
D13: Nombre del proponente: | F13: SOLTEC PROYECTOS DE INGENIERÍA S.A.S
D15: Integrante 1: | L15: %Participación
D17: Integrante 2: | L17: %Participación
D19: Integrante 3: | L19: %Participación
D21: Integrante 4: | L21: %Participación
Q23: SÍ
Q24: NO
D25: REQUISITO | M25: CUMPLE | Q25: N.A.
C27: 1 | D27: Documento de proponente plural | L27: N.A.
C28: 1.1 | D28: Forma de unión | M28: N.A. | Q28: N.A.
C29: 1.2 | D29: Objeto | M29: N.A. | Q29: Unión Temporal
C30: 1.3 | D30: Vigencia | M30: N.A. | Q30: Consorcio
C31: 1.4 | D31: Participación | M31: N.A. | Q31: Promesa de sociedad futura
C32: 1.5 | D32: Otros | M32: N.A.
D34: NOTA
C36: 2 | D36: Carta de presentación de la propuesta en el formato de la entidad | M36: SÍ
C37: 2.1 | D37: Aval de la propuesta y consulta de antecedentes del profesional (COPNIA o similares) | M37: SÍ
D39: NOTA
C41: 3 | D41: Documento de identificación del Representante legal o Persona natural (PN) | M41: SÍ
D43: NOTA
C45: 4 | D45: Documento que acredite la situación militar definida | M45: SÍ
D47: NOTA
C49: 5 | D49: Certificado de existencia y representación legal (CERL) o Registro mercantil (RM) | M49: SÍ
D51: NOTA | E51: Se aporta documento
C53: 6 | D53: Validación de la información del CERL o del RM
C54: 6.1 | D54: Expedición | M54: SÍ
C55: 6.2 | D55: Objeto social relacionado | M55: SÍ
C56: 6.3 | D56: Facultades | M56: SÍ
C57: 6.4 | D57: Constitución y vigencia | M57: SÍ
C58: 6.5 | D58: Tamaño | M58: SÍ
C59: 6.6 | D59: Domicilio | M59: SÍ
C60: 6.7 | D60: Otros | M60: N.A.
D62: NOTA
C64: 7 | D64: Registro Único de Proponentes – RUP | M64: N.A.
D66: NOTA | E66: No se requiere conforme EP
C68: 8 | D68: Validación de la información del RUP
C69: 8.1 | D69: Expedición | M69: N.A.
C70: 8.2 | D70: Renovación | M70: N.A.
C71: 8.3 | D71: Firmeza | M71: N.A.
C72: 8.4 | D72: Multas y declaratorias de incumplimiento | M72: N.A.
D74: NOTA | E74: No se requiere
C76: 9 | D76: Registro Único Tributario - RUT | M76: SÍ
D78: NOTA
C80: 10 | D80: Certificación de aportes al Sistema de seguridad social y parafiscales | M80: SÍ
D82: NOTA | E82: Se aporta documento
C84: 11 | D84: Validación de aportes al Sistema de seguridad social y parafiscales (Aplica para Persona jurídica) | M84: SÍ
C85: 11.1. | D85: Revisor fiscal (RF) | M85: SÍ
C86: 11.2 | D86: Documento de identificación del RF | M86: SÍ
C87: 11.3 | D87: Tarjeta profesional del RF | M87: SÍ
C88: 11.4 | D88: Antecedentes Junta Central de Contadores del RF | M88: SÍ
D90: NOTA
C92: 12 | D92: Garantía de seriedad de la oferta | M92: N.A.
C93: 12.1 | D93: Expedición | M93: N.A.
C94: 12.2 | D94: Tomador | M94: N.A.
C95: 12.3 | D95: Asegurado | M95: N.A.
C96: 12.4 | D96: Objeto del proceso | M96: N.A.
C97: 12.5 | D97: Valor amparado | M97: N.A.
C98: 12.6 | D98: Vigencia | M98: N.A.
C99: 12.7 | D99: Incluidos los integrantes de la forma asociativa | M99: N.A.
C100: 12.8 | D100: Validación de autenticidad | M100: N.A.
D102: NOTA | E102: No se requiere
C104: 13 | D104: Certificado de antecedentes fiscales - CGR | M104: SÍ
D106: NOTA | E106: Se aporta documento
C108: 14 | D108: Certificado de antecedentes disciplinarios - PGN | M108: SÍ
D110: NOTA | E110: Se aporta documento
C112: 15 | D112: Antecedentes Judiciales Policía Nacional | M112: SÍ
D114: NOTA | E114: Se aporta documento
C116: 16 | D116: Consulta en el RNMC | M116: SÍ
D118: NOTA | E118: Se aporta documento
C120: 17 | D120: Certificado de Registro de inhabilidades por delitos sexuales | M120: SÍ
D122: NOTA | E122: Se aporta documento
C124: 18 | D124: Certificado REDAM | M124: SÍ
D126: NOTA | E126: Se aporta documento
C128: 19 | D128: [Requisito habilitante adicional 1] | M128: N.A.
D130: NOTA
C132: 20 | D132: [Requisito habilitante adicional 2] | M132: N.A.
D134: NOTA
C136: 21 | D136: [Requisito habilitante adicional 3] | M136: N.A.
D138: NOTA
C140: 22 | D140: [Requisito habilitante adicional 4] | M140: N.A.
D142: NOTA
C144: 23 | D144: [Requisito habilitante adicional 5] | M144: N.A.
D146: NOTA
C151: RESULTADO DE LA EVALUACIÓN
G153: =+IF(L27="","",IF(OR(L27="NO",M28="NO",M29="NO",M30="NO",M31="NO",M32="NO",M36="NO",M37="NO",M41="NO",M45="NO",M49="NO",M54="NO",M55="NO",M56="NO",M57="NO",M58="NO",M59="NO",M60,M64="NO",M69="NO",M70="NO",M71="NO",M72="NO",M76="NO",M80="NO",M84="NO",M85="NO",M86="NO",M87="NO",M88="NO",M92="NO",M93="NO",M94="NO",M95="NO",M96="NO",M97="NO",M98="NO",M99="NO",M100="NO",M104="NO",M108="NO",M112="NO",M116="NO",M120="NO",M124="NO",M128="NO",M132="NO",M136="NO",M140="NO",M144="NO"),"NO CUMPLE","CUMPLE")) -> CUMPLE
C155: NOTA. Si el resultado de la evaluación es "NO CUMPLE", el oferente deberá subsanar la propuesta durante el término establecido en el cronograma del proceso o la ley, según el caso.
