Workbook
Name Print_Area: 'ESTRUCTURA APU'!$A$1:$G$37

Sheet AU  Consul P2
A1: AU OFICIAL
O2: Componente socio ambiental
A3: SECRETARÍA DE TALENTO HUMANO Y SERVICIOS ADMINISTRATIVOS- DIRECCIÓN DE SERVICIOS GENERALES | O3: Item | P3: un | Q3: cantidad | R3: Valor | S3: Valor $ /mes
A4: =+'PRESUPUESTO OFICIAL 2026'!B4 -> Mantenimiento del sistema de climatización y equipos electro mecánicos del Centro Administrativo Departamental y sus Sedes Externas LOTE 1 | O4: Trasporte | P4: un | Q4: 1 | R4: 700000 | S4: =+R4*Q4 -> 700000
O5: Bandas | P5: un | Q5: 22 | R5: 25500 | S5: =+R5*Q5 -> 561000
A6: ÍTEM | B6: DESCRIPCIÓN | C6: UNIDAD | D6: CANTIDAD | E6: VALOR MES | F6: FACTOR PRESTACIONAL | G6: DEDICACIÓN | H6: MESES | I6: VALOR TOTAL | O6: Refrigerante | P6: un | Q6: 3 | R6: 67900 | S6: =+R6*Q6 -> 203700
A7: 1 | B7: PERSONAL PROFESIONAL Y TÉCNICO | O7: Escalera de 12 peldaños | P7: un | Q7: 1 | R7: 30295.078 | S7: =+R7*Q7 -> 30295.078
A8: 1.1 | B8: Coordinador Ingeniero electromecanico ó mecanico | C8: UN | D8: 1 | E8: =+'COSTO PERSONAL'!V5 -> 7879072.5 | F8: ='COSTO PERSONAL'!W42+1 -> 1.5829 | G8: 0.25 | H8: 10 | I8: =H8*G8*F8*E8*D8 -> 31179460 | O8: Escalera de 5 peldaños | P8: un | Q8: 1 | R8: 17000 | S8: =+R8*Q8 -> 17000
A9: 1.2 | B9: Profesional SISO | C9: UN | D9: 1 | E9: =+'COSTO PERSONAL'!Z5 -> 4377262.5 | F9: ='COSTO PERSONAL'!Y42+1 -> 1.5829 | G9: 0.2 | H9: =+H8 -> 10 | I9: =H9*G9*F9*E9*D9 -> 13857538
A10: 1.3 | B10: Técnico Administrativo | C10: UN | D10: 1 | E10: =+'COSTO PERSONAL'!AB5 -> 3501810 | F10: ='COSTO PERSONAL'!AA42+1 -> 1.5829 | G10: 0.2 | H10: =+H9 -> 10 | I10: =H10*G10*F10*E10*D10 -> 11086030 | V10: 18900
V11: 32000
A12: 2 | B12: SISTEMA DE COMPUTO, COMUNICACIONES Y SEÑALIZACIÓN
A13: 2.1 | B13: Computador (con office y AutoCAD) | C13: UN | D13: 1 | E13: 145000 | H13: =+H10 -> 10 | I13: =H13*E13*D13 -> 1450000
A14: 2.2 | B14: Comunicaciones (Telefono, Fax, Internet etc.) | C14: GLOBAL | D14: 1 | E14: 145000 | H14: =+H13 -> 10 | I14: =D14*E14*H14 -> 1450000
A15: 2.3 | B15: Señalización de zonas de trabajo, cintas, conos, etc | C15: GLOBAL | D15: 1 | E15: 145000 | H15: =+H8 -> 10 | I15: =D15*E15*H15 -> 1450000
A16: 3 | B16: PAPELERIA Y EQUIPO DE OFICINA | O16: suma | S16: =SUM(S4:S15) -> 1511995.1
A17: 3.1 | B17: Papeleria, tinta fotocopias, impresiones de planos y otros. | C17: GLOBAL | D17: 1 | E17: 100000 | H17: =+H8 -> 10 | I17: =H17*E17*D17 -> 1000000
A18: 4 | B18: COMPONENTE SOCIO-AMBIENTAL
A19: 4.1 | B19: Dotación, elementos de seguridad, EPP, implementos traslado RCD, Certificados, Capacitaciones, aseo y las demás que sean inherentes a sus funciones y/o que por razones del proyecto deban asumirse. | C19: GB | D19: 1 | E19: =+S33 -> 372423.08 | H19: 5 | I19: =H19*E19*D19 -> 1862115.4 | O19: Componente socio ambiental
A20: 5 | B20: RECURSOS TECNICOS Y DE OPERACIÓN | O20: Item | P20: un | Q20: Cant prom/ mes | R20: Valor $ /mes | S20: Subtotal
A21: 5.1 | B21: Gastos Operativos por transportes, Herramientas y consumibles menores | C21: GLOBAL | D21: 1 | E21: 1500000 | H21: 10 | I21: =H21*E21*D21 -> 15000000 | O21: Cascos | P21: un | Q21: 2 | R21: 25000 | S21: =+R21*Q21 -> 50000
A22: 6 | B22: IMPUESTOS | O22: gafas | P22: un | Q22: 2 | R22: 7000 | S22: =+R22*Q22 -> 14000
A23: 6.1 | B23: Impuesto 4/1000 (del costo total incluido AU) 50% | G23: 0.5 | H23: 0.004 | I23: 1405027 | O23: botas | P23: un | Q23: 2 | R23: 50000 | S23: =+R23*Q23 -> 100000
K24: =+I25/I28 -> 0.13674808 | O24: guantes | P24: un | Q24: 2 | R24: 10000 | S24: =+R24*Q24 -> 20000
A25: ADMINISTRACIÓN | G25: A | H25: =+K29 -> 0.13674808 | I25: =ROUND(I8+I9+I10+I11+I13+I14+I15+I17+I19+I21+I23,0) -> 79740170 | J25: =I25 -> 79740170 | K25: =+I25/I28 -> 0.13674808 | O25: tapa oidos | P25: un | Q25: 2 | R25: 5000 | S25: =+R25*Q25 -> 10000
A26: UTILIDAD | G26: U | H26: 0.05 | I26: =ROUND(I28*H26,0) -> 29155866 | O26: tapabocas | P26: un | Q26: 2 | R26: 2500 | S26: =+R26*Q26 -> 5000
A27: TOTAL AU | H27: =+H25+H26 -> 0.18674808 | I27: =SUM(I25:I26) -> 108896036 | O27: camisa | P27: un | Q27: 2 | R27: 15000 | S27: =+R27*Q27 -> 30000
A28: COSTO DIRECTO | I28: =+'PRESUPUESTO OFICIAL 2026'!L56 -> 5.8311731e+08 | O28: Identificación | P28: un | Q28: 2 | R28: 5000 | S28: =+R28*Q28 -> 10000
A29: COSTO TOTAL INCLUIDO AU | I29: =I28+I27 -> 6.9201335e+08 | K29: =+I25/I28 -> 0.13674808 | O29: costales | P29: un | Q29: 5 | R29: 2500 | S29: =+R29*Q29 -> 12500
A30: 7 | B30: Pólizas ( Valor máximo a reconocer contra certificación de pago y/o facturas) | C30: GLOBAL | D30: 1 | I30: =+Pólizas!G20 -> 2898257.9 | O30: canecas | P30: un | Q30: 0 | R30: 50000 | S30: =+R30*Q30 -> 0
A31: TOTAL PROYECTO CON AU Y PÓLIZAS | I31: =+I30+I29 -> 6.949116e+08 | O31: implementos aseo y limpieza | P31: mes | Q31: 1 | R31: 100000 | S31: =+R31*Q31 -> 100000
O32: Otros | P32: mes | Q32: 1 | R32: =SUM(R21:R31)/ 13 -> 20923.077 | S32: =+R32*Q32 -> 20923.077
A33: Nota 1: El valor definido por la Entidad por concepto de pólizas es un valor estimado que será un gasto comprobable, la entidad reconocerá al contratista el valor real efectivamente causado por este concepto (Gasto Reembolsable), para el efecto, el contratista deberá presentar los documentos que soporten el valor facturado por las garantías. Nota 2: Durante la ejecución del contrato la Entidad tendrá potestad de realizar deducciones y efectuar las respectivas multas y sanciones a las que haya lugar en las siguientes ocasiones: • Si se evidencia personal pensionado y dentro del factor prestacional se reconoce dicha prestación • Si se comprueba que el contratista está exonerado del pago de los aportes a SALUD (a cargo del empleador 8,5%), SENA (2%), ICBF (3%), y se está haciendo reconocimiento por estos dentro del factor prestacional. • Por ausencia de personal. • Cuando el contratista afilie al personal a un riesgo diferente al establecido en la propuesta económica. • Cuando el contratista afilie al personal a una empresa distinta a la que se le adjudica el contrato. • Cuando se evidencie un salario básico y un IBC inferior a lo estipulado en la propuesta económica (el salario debe ser igual al IBC, para esta situación el contratista debe pagar como mínimo el valor ofertado en su propuesta económica a cada uno de los profesionales). • Cuando se evidencie inconsistencias en la liquidación del personal al finalizar la obra (paz y salvo del contratista con la Entidad firmado por el trabajador donde se cancelan las cesantías, intereses a las cesantías, prima, vacaciones, dotación y auxilio de transporte cuando apliquen). • Cuando se contemplen primas extralegales diferentes a las establecidas legalmente en la legislación Nacional. • Cuando el contratista asigne personal que no cumpla con los requisitos de formación y experiencia establecidos en el pliego. • Cuando el personal del contratista participe en más de un cargo de los estipulados en el presupuesto oficial o exceda el 100% de dedicación. • Cuando el contratista reciba pago por horas extras y no sean canceladas al profesional. • Cuando el contratista reciba pago por reajuste de salarios y no sean canceladas al profesional. • Las demás circunstancias en las que evidencien pagos indebidos. | O33: suma | S33: =SUM(S21:S32) -> 372423.08

Sheet Pólizas
A1: CALCULO POLIZAS | I1: CALCULO POLIZAS | Q1: CALCULO POLIZAS
A3: =+'AU Consul P2'!A3:I3 -> SECRETARÍA DE TALENTO HUMANO Y SERVICIOS ADMINISTRATIVOS- DIRECCIÓN DE SERVICIOS GENERALES | I3: =+'AU Consul P2'!I3:Q3 -> 0 | Q3: =+'AU Consul P2'!Q3:Y3 -> cantidad
A4: =+'PRESUPUESTO OFICIAL 2026'!B4 -> Mantenimiento del sistema de climatización y equipos electro mecánicos del Centro Administrativo Departamental y sus Sedes Externas LOTE 1 | I4: =+'PRESUPUESTO OFICIAL 2026'!J4 -> 0 | Q4: =+'PRESUPUESTO OFICIAL 2026'!N4 -> 0
H5: Costodirecto + AU
A6: VALOR DEL CONTRATO ($) | C6: =H6 -> 692013346 | H6: =+'PRESUPUESTO OFICIAL 2026'!L59 -> 692013346 | I6: VALOR DEL CONTRATO ($) | K6: =+'PRESUPUESTO OFICIAL 2026 TH'!L59 -> 474155370 | Q6: VALOR DEL CONTRATO ($) | S6: =+'PRESUPUESTO OFICIAL 2026 SALUD'!L59 -> 217857977
A7: PLAZO DEL CONTRATO (DIAS) | C7: =10*30 -> 300 | I7: PLAZO DEL CONTRATO (DIAS) | K7: =+C7 -> 300 | Q7: PLAZO DEL CONTRATO (DIAS) | S7: =+C7 -> 300
A8: ANTICIPO | C8: 0 | I8: ANTICIPO | K8: 0 | Q8: ANTICIPO | S8: 0
A10: Tipo de garantia | C10: Valor Asegurado | E10: Cobertura | F10: Tasa Anual | G10: Prima | I10: Tipo de garantia | K10: Valor Asegurado | M10: Cobertura | N10: Tasa Anual | O10: Prima | Q10: Tipo de garantia | S10: Valor Asegurado | U10: Cobertura | V10: Tasa Anual | W10: Prima
A11: CUMPLIMIENTO | C11: 0.15 | D11: =C6*C11 -> 1.03802e+08 | E11: =C7+(6*30) -> 480 | F11: 0.004 | G11: =(D11*F11)/365*E11 -> 546026.97 | I11: CUMPLIMIENTO | K11: 0.15 | L11: =K6*K11 -> 71123306 | M11: =K7+(6*30) -> 480 | N11: 0.004 | O11: =(L11*N11)/365*M11 -> 374128.07 | Q11: CUMPLIMIENTO | S11: 0.15 | T11: =S6*S11 -> 32678697 | U11: =S7+(6*30) -> 480 | V11: 0.004 | W11: =(T11*V11)/365*U11 -> 171898.9
A12: PAGO DE SALARIOS Y PRESTACIONES SOCIALES | C12: 0.05 | D12: =C6*C12 -> 34600667 | E12: =C7+(3*360) -> 1380 | F12: 0.003 | G12: =(D12*F12)/365*E12 -> 392456.88 | I12: PAGO DE SALARIOS Y PRESTACIONES SOCIALES | K12: 0.05 | L12: =K6*K12 -> 23707768 | M12: =K7+(3*360) -> 1380 | N12: 0.003 | O12: =(L12*N12)/365*M12 -> 268904.55 | Q12: PAGO DE SALARIOS Y PRESTACIONES SOCIALES | S12: 0.05 | T12: =S6*S12 -> 10892899 | U12: =S7+(3*360) -> 1380 | V12: 0.003 | W12: =(T12*V12)/365*U12 -> 123552.33
A13: ESTABILIDAD, CALIDAD Y CORRECTO FUNCIONAMIENTO DE LA OBRA | D13: =C7*C13 -> 0 | E13: =C7+(5*360) -> 2100 | F13: 0.004 | G13: =(D13*F13)/365*E13 -> 0 | I13: ESTABILIDAD, CALIDAD Y CORRECTO FUNCIONAMIENTO DE LA OBRA | L13: =K7*K13 -> 0 | M13: =K7+(5*360) -> 2100 | N13: 0.004 | O13: =(L13*N13)/365*M13 -> 0 | Q13: ESTABILIDAD, CALIDAD Y CORRECTO FUNCIONAMIENTO DE LA OBRA | T13: =S7*S13 -> 0 | U13: =S7+(5*360) -> 2100 | V13: 0.004 | W13: =(T13*V13)/365*U13 -> 0
A14: CALIDAD Y CORRECTO FUNCIONAMIENTO | C14: 0.15 | D14: =C6*C14 -> 1.03802e+08 | E14: =C7+(6*30) -> 480 | F14: 0.004 | G14: =(D14*F14)/365*E14 -> 546026.97 | I14: CALIDAD Y CORRECTO FUNCIONAMIENTO | K14: 0.15 | L14: =K6*K14 -> 71123306 | M14: =K7+(6*30) -> 480 | N14: 0.004 | O14: =(L14*N14)/365*M14 -> 374128.07 | Q14: CALIDAD Y CORRECTO FUNCIONAMIENTO | S14: 0.15 | T14: =S6*S14 -> 32678697 | U14: =S7+(6*30) -> 480 | V14: 0.004 | W14: =(T14*V14)/365*U14 -> 171898.9
A15: RESPONABILIDAD CIVIL | C15: 200 SMMLV | D15: =200*1423500 -> 284700000 | E15: =C7 -> 300 | F15: 0.004 | G15: =(D15*F15)/365*E15 -> 936000 | I15: RESPONABILIDAD CIVIL | K15: 200 SMMLV | L15: =200*1423500 -> 284700000 | M15: =K7 -> 300 | N15: 0.004 | O15: =(L15*N15)/365*M15 -> 936000 | Q15: RESPONABILIDAD CIVIL | S15: 200 SMMLV | T15: 0 | U15: =S7 -> 300 | V15: 0.004 | W15: =(T15*V15)/365*U15 -> 0
A16: Subtotal prima | G16: =SUM(G11:G15) -> 2420510.8 | I16: Subtotal prima | O16: =SUM(O11:O15) -> 1953160.7 | Q16: Subtotal prima | W16: =SUM(W11:W15) -> 467350.13
A18: Gastos de expedición | G18: 15000 | I18: Gastos de expedición | O18: 15000 | Q18: Gastos de expedición
A19: IVA | G19: =(G18+G16)*19% -> 462747.06 | I19: IVA | O19: =(O18+O16)*19% -> 373950.53 | Q19: IVA | W19: =(W18+W16)*19% -> 88796.524
A20: TOTAL POLIZAS | G20: =SUM(G16:G19) -> 2898257.9 | I20: TOTAL POLIZAS | O20: =SUM(O16:O19) -> 2342111.2 | Q20: TOTAL POLIZAS | W20: =SUM(W16:W19) -> 556146.65
F22: Relación | G22: =+G20/C6 -> 0.0041881532 | N22: Relación | O22: =+O20/K6 -> 0.0049395438 | V22: Relación | W22: =+W20/S6 -> 0.0025527945

Sheet COSTO PERSONAL
G1: =+C5*5 -> 8754525 | V1: COORDINADOR | X1: PROFESIONAL | Z1: SISO | AB1: TÉCNICO ADMINISTRATIVO
B2: SALARIO | C2: 1 | E2: 1.2 | G2: 1.5 | I2: 1.8 | K2: 2 | M2: 2.5 | O2: 3 | Q2: 3.5 | S2: 5 | V2: 4.5 | X2: 4 | Z2: 2.5 | AB2: 2
C3: VALOR $ | D3: REF. | E3: VALOR $ | F3: REF. | G3: VALOR $ | H3: REF. | I3: VALOR $ | J3: REF. | K3: VALOR $ | L3: REF. | M3: VALOR $ | N3: REF. | O3: VALOR $ | P3: REF. | Q3: VALOR $ | R3: REF. | S3: VALOR $ | T3: REF. | V3: VALOR $ | W3: REF. | X3: VALOR $ | Y3: REF. | Z3: VALOR $ | AA3: REF. | AB3: VALOR $ | AC3: REF.
B5: SMMLV | C5: 1750905 | D5: A | E5: =$C$5*E2 -> 2101086 | G5: =$C$5*G2 -> 2626357.5 | I5: =$C$5*I2 -> 3151629 | K5: =$C$5*K2 -> 3501810 | M5: =$C$5*M2 -> 4377262.5 | O5: =$C$5*O2 -> 5252715 | Q5: =$C$5*Q2 -> 6128167.5 | S5: =C5*5 -> 8754525 | V5: =C5*V2 -> 7879072.5 | X5: =C5*X2 -> 7003620 | Z5: =C5*Z2 -> 4377262.5 | AB5: =C5*AB2 -> 3501810
B6: Dia sin subsidio de transporte | C6: =C5/30 -> 58363.5 | E6: =E5/30 -> 70036.2 | G6: =G5/30 -> 87545.25 | I6: =I5/30 -> 105054.3 | K6: =K5/30 -> 116727 | M6: =M5/30 -> 145908.75 | O6: =O5/30 -> 175090.5 | Q6: =Q5/30 -> 204272.25 | S6: =S5/30 -> 291817.5 | V6: =V5/30 -> 262635.75 | X6: =X5/30 -> 233454 | Z6: =Z5/30 -> 145908.75 | AB6: =AB5/30 -> 116727
B7: Subsidio de transporte | C7: 249095 | D7: B | E7: =$C$7 -> 249095 | G7: =$C$7 -> 249095 | I7: =$C$7 -> 249095 | K7: =$C$7 -> 249095 | V7: =IF(V2<2,$C$7,0) -> 0 | X7: =IF(X2<2,$C$7,0) -> 0 | Z7: =IF(Z2<2,$C$7,0) -> 0 | AB7: =IF(AB2<2,$C$7,0) -> 0
B8: Total Mensual | C8: =C7+C5 -> 2000000 | D8: C | E8: =E5+E7 -> 2350181 | G8: =G5+G7 -> 2875452.5 | I8: =I5+I7 -> 3400724 | K8: =K5+K7 -> 3750905 | M8: =M5+M7 -> 4377262.5 | O8: =O5+O7 -> 5252715 | Q8: =Q5+Q7 -> 6128167.5 | S8: =S7+S5 -> 8754525 | V8: =V7+V5 -> 7879072.5 | X8: =X7+X5 -> 7003620 | Z8: =Z7+Z5 -> 4377262.5 | AB8: =AB7+AB5 -> 3501810
B9: Valor Dia con Subsidio de transporte | C9: =C8/30 -> 66666.667 | E9: =E8/30 -> 78339.367 | G9: =G8/30 -> 95848.417 | I9: =I8/30 -> 113357.47 | K9: =K8/30 -> 125030.17 | AB9: =AB8/30 -> 116727
B10: Anual (Ax12) | C10: =C5*12 -> 21010860 | D10: D | E10: =(E5/30)*360 -> 25213032 | G10: =(G5/30)*360 -> 31516290 | I10: =(I5/30)*360 -> 37819548 | K10: =(K5/30)*360 -> 42021720 | M10: =(M5/30)*360 -> 52527150 | O10: =(O5/30)*360 -> 63032580 | Q10: =(Q5/30)*360 -> 73538010 | S10: =(S5/30)*360 -> 105054300 | V10: =(V5/30)*360 -> 94548870 | X10: =(X5/30)*360 -> 84043440 | Z10: =(Z5/30)*360 -> 52527150 | AB10: =(AB5/30)*360 -> 42021720
B11: Costo Anual Subsidio de Transporte | C11: =C7*12 -> 2989140 | E11: =C11 -> 2989140 | G11: =E11 -> 2989140 | I11: =G11 -> 2989140 | K11: =I11 -> 2989140 | S11: =S7*12 -> 0 | V11: =V7*12 -> 0 | X11: =X7*12 -> 0 | Z11: =Z7*12 -> 0 | AB11: =AB7*12 -> 0
B12: Total Anual con subsidio de transporte para calculo de liquidacion de cesantias y prima. | C12: =C11+C10 -> 24000000 | D12: E | E12: =E10+E11 -> 28202172 | G12: =G10+G11 -> 34505430 | I12: =I10+I11 -> 40808688 | K12: =K10+K11 -> 45010860 | M12: =M10+M11 -> 52527150 | O12: =O10+O11 -> 63032580 | Q12: =Q10+Q11 -> 73538010 | S12: =S11+S10 -> 105054300 | V12: =V11+V10 -> 94548870 | X12: =X11+X10 -> 84043440 | Z12: =Z11+Z10 -> 52527150 | AB12: =AB11+AB10 -> 42021720
B13: Cesantias y Prima | C13: =C12/12 -> 2000000 | E13: =E12/12 -> 2350181 | G13: =G12/12 -> 2875452.5 | I13: =I12/12 -> 3400724 | K13: =K12/12 -> 3750905 | M13: =M12/12 -> 4377262.5 | O13: =O12/12 -> 5252715 | Q13: =Q12/12 -> 6128167.5 | S13: =S12/12 -> 8754525 | V13: =V12/12 -> 7879072.5 | X13: =X12/12 -> 7003620 | Z13: =Z12/12 -> 4377262.5 | AB13: =AB12/12 -> 3501810
B14: 1% interes cesantias | C14: =C5*12% -> 210108.6 | E14: =E13*12% -> 282021.72 | G14: =G13*12% -> 345054.3 | I14: =I13*12% -> 408086.88 | K14: =K13*12% -> 450108.6 | M14: =M13*12% -> 525271.5 | O14: =O13*12% -> 630325.8 | Q14: =Q13*12% -> 735380.1 | S14: =S13*12% -> 1050543 | V14: =V13*12% -> 945488.7 | X14: =X13*12% -> 840434.4 | Z14: =Z13*12% -> 525271.5 | AB14: =AB13*12% -> 420217.2
B15: Total Anual subsidio de transporte para calculo de hora efectiva y VRS | C15: =(C7/30)*342 -> 2839683 | E15: =C15 -> 2839683 | G15: =E15 -> 2839683 | I15: =G15 -> 2839683 | K15: =I15 -> 2839683 | S15: =(S7/30)*342 -> 0 | V15: =(V7/30)*342 -> 0 | X15: =(X7/30)*342 -> 0 | Z15: =(Z7/30)*342 -> 0 | AB15: =(AB7/30)*342 -> 0
B17: CONCEPTO | C17: VALOR $ | D17: % | E17: VALOR $ | F17: % | G17: VALOR $ | H17: % | I17: VALOR $ | J17: % | K17: VALOR $ | L17: % | M17: VALOR $ | N17: % | O17: VALOR $ | P17: % | Q17: VALOR $ | R17: % | S17: VALOR $ | T17: % | V17: VALOR $ | W17: % | X17: VALOR $ | Y17: % | Z17: VALOR $ | AA17: % | AB17: VALOR $ | AC17: %
B19: SALARIO NOMINAL | V19: SALARIO NOMINAL
B20: Salario Anual (360 dias) | C20: =C10 -> 21010860 | D20: 1 | E20: =E10 -> 25213032 | F20: 1 | G20: =G10 -> 31516290 | H20: 1 | I20: =I10 -> 37819548 | J20: 1 | K20: =K10 -> 42021720 | L20: 1 | M20: =M10 -> 52527150 | N20: 1 | O20: =O10 -> 63032580 | P20: 1 | Q20: =Q10 -> 73538010 | R20: 1 | S20: =S10 -> 105054300 | T20: 1 | V20: =V10 -> 94548870 | W20: 1 | X20: =X10 -> 84043440 | Y20: 1 | Z20: =Z10 -> 52527150 | AA20: 1 | AB20: =AB10 -> 42021720 | AC20: 1
B21: Total Anual subsidio de transporte para calculo de hora efectiva y VRS | C21: =C15 -> 2839683 | D21: =C21/C20 -> 0.13515311 | E21: =E15 -> 2839683 | F21: =E21/E20 -> 0.11262759 | G21: =G15 -> 2839683 | H21: =G21/G20 -> 0.090102071 | I21: =I15 -> 2839683 | J21: =I21/I20 -> 0.075085059 | K21: =K15 -> 2839683 | L21: =K21/K20 -> 0.067576553 | M21: =M15 -> 0 | N21: =M21/M20 -> 0 | O21: =O15 -> 0 | P21: =O21/O20 -> 0 | Q21: =Q15 -> 0 | R21: =Q21/Q20 -> 0 | S21: =S15 -> 0 | T21: =S21/S20 -> 0 | V21: =V15 -> 0 | W21: =V21/V20 -> 0 | X21: =X15 -> 0 | Y21: =X21/X20 -> 0 | Z21: =Z15 -> 0 | AA21: =Z21/Z20 -> 0 | AB21: =AB15 -> 0 | AC21: =AB21/AB20 -> 0
B23: PRESTACIONES SOCIALES MES | V23: PRESTACIONES SOCIALES
B24: Cesantías | C24: =+(C5+C7)*D24 -> 166600 | D24: 0.0833 | E24: =+(E5+E7)*F24 -> 195770.08 | F24: 0.0833 | G24: =+(G5+G7)*H24 -> 239525.19 | H24: 0.0833 | I24: =+(I5+I7)*J24 -> 283280.31 | J24: 0.0833 | K24: =+(K5+K7)*L24 -> 312450.39 | L24: 0.0833 | M24: =+(M5+M7)*N24 -> 364625.97 | N24: 0.0833 | O24: =+(O5+O7)*P24 -> 437551.16 | P24: 0.0833 | Q24: =+(Q5+Q7)*R24 -> 510476.35 | R24: 0.0833 | S24: =+(S5+S7)*T24 -> 729251.93 | T24: 0.0833 | V24: =+(V5+V7)*W24 -> 656326.74 | W24: 0.0833 | X24: =+(X5+X7)*Y24 -> 583401.55 | Y24: 0.0833 | Z24: =+(Z5+Z7)*AA24 -> 364625.97 | AA24: 0.0833 | AB24: =+(AB5+AB7)*AC24 -> 291700.77 | AC24: 0.0833
B25: Intereses sobre la Cesantías | C25: =+(C5+C7)*D25 -> 20000 | D25: 0.01 | E25: =+(E5+E7)*F25 -> 23501.81 | F25: 0.01 | G25: =+(G5+G7)*H25 -> 28754.525 | H25: 0.01 | I25: =+(I5+I7)*J25 -> 34007.24 | J25: 0.01 | K25: =+(K5+K7)*L25 -> 37509.05 | L25: 0.01 | M25: =+(M5+M7)*N25 -> 43772.625 | N25: 0.01 | O25: =+(O5+O7)*P25 -> 52527.15 | P25: 0.01 | Q25: =+(Q5+Q7)*R25 -> 61281.675 | R25: 0.01 | S25: =+(S5+S7)*T25 -> 87545.25 | T25: 0.01 | V25: =+(V5+V7)*W25 -> 78790.725 | W25: 0.01 | X25: =+(X5+X7)*Y25 -> 70036.2 | Y25: 0.01 | Z25: =+(Z5+Z7)*AA25 -> 43772.625 | AA25: 0.01 | AB25: =+(AB5+AB7)*AC25 -> 35018.1 | AC25: 0.01
B26: Prima (30 dias) | C26: =+(C5+C7)*D26 -> 166600 | D26: 0.0833 | E26: =+(E5+E7)*F26 -> 195770.08 | F26: 0.0833 | G26: =+(G5+G7)*H26 -> 239525.19 | H26: 0.0833 | I26: =+(I5+I7)*J26 -> 283280.31 | J26: 0.0833 | K26: =+(K5+K7)*L26 -> 312450.39 | L26: 0.0833 | M26: =+(M5+M7)*N26 -> 364625.97 | N26: 0.0833 | O26: =+(O5+O7)*P26 -> 437551.16 | P26: 0.0833 | Q26: =+(Q5+Q7)*R26 -> 510476.35 | R26: 0.0833 | S26: =+(S5+S7)*T26 -> 729251.93 | T26: 0.0833 | V26: =+(V5+V7)*W26 -> 656326.74 | W26: 0.0833 | X26: =+(X5+X7)*Y26 -> 583401.55 | Y26: 0.0833 | Z26: =+(Z5+Z7)*AA26 -> 364625.97 | AA26: 0.0833 | AB26: =+(AB5+AB7)*AC26 -> 291700.77 | AC26: 0.0833
B27: Vacaciones (15 dias) | C27: =+C5*D27 -> 73012.739 | D27: 0.0417 | E27: =+E5*F27 -> 87615.286 | F27: 0.0417 | G27: =+G5*H27 -> 109519.11 | H27: 0.0417 | I27: =+I5*J27 -> 131422.93 | J27: 0.0417 | K27: =+K5*L27 -> 146025.48 | L27: 0.0417 | M27: =+M5*N27 -> 182531.85 | N27: 0.0417 | O27: =+O5*P27 -> 219038.22 | P27: 0.0417 | Q27: =+Q5*R27 -> 255544.58 | R27: 0.0417 | S27: =+S5*T27 -> 365063.69 | T27: 0.0417 | V27: =+V5*W27 -> 328557.32 | W27: 0.0417 | X27: =+X5*Y27 -> 292050.95 | Y27: 0.0417 | Z27: =+Z5*AA27 -> 182531.85 | AA27: 0.0417 | AB27: =+AB5*AC27 -> 146025.48 | AC27: 0.0417
B29: SEGURIDAD SOCIAL | V29: SEGURIDAD SOCIAL
B30: Pension | C30: =+C5*D30 -> 210108.6 | D30: 0.12 | E30: =+E5*F30 -> 252130.32 | F30: 0.12 | G30: =+G5*H30 -> 315162.9 | H30: 0.12 | I30: =+I5*J30 -> 378195.48 | J30: 0.12 | K30: =+K5*L30 -> 420217.2 | L30: 0.12 | M30: =+M5*N30 -> 525271.5 | N30: 0.12 | O30: =+O5*P30 -> 630325.8 | P30: 0.12 | Q30: =+Q5*R30 -> 735380.1 | R30: 0.12 | S30: =+S5*T30 -> 1050543 | T30: 0.12 | V30: =+V5*W30 -> 945488.7 | W30: 0.12 | X30: =+X5*Y30 -> 840434.4 | Y30: 0.12 | Z30: =+Z5*AA30 -> 525271.5 | AA30: 0.12 | AB30: =+AB5*AC30 -> 420217.2 | AC30: 0.12
B31: Salud (Exonerado) | C31: =+C5*D31 -> 148826.93 | D31: 0.085 | E31: =+E5*F31 -> 178592.31 | F31: 0.085 | G31: =+G5*H31 -> 223240.39 | H31: 0.085 | I31: =+I5*J31 -> 267888.47 | J31: 0.085 | K31: =+K5*L31 -> 297653.85 | L31: 0.085 | M31: =+M5*N31 -> 372067.31 | N31: 0.085 | O31: =+O5*P31 -> 446480.78 | P31: 0.085 | Q31: =+Q5*R31 -> 520894.24 | R31: 0.085 | S31: =+S5*T31 -> 744134.62 | T31: 0.085 | V31: =+V5*W31 -> 669721.16 | W31: 0.085 | X31: =+X5*Y31 -> 595307.7 | Y31: 0.085 | Z31: =+Z5*AA31 -> 372067.31 | AA31: 0.085 | AB31: =+AB5*AC31 -> 297653.85 | AC31: 0.085
B32: ARL | C32: =+C5*D32 -> 121862.99 | D32: 0.0696 | E32: =+E5*F32 -> 146235.59 | F32: 0.0696 | G32: =+G5*H32 -> 182794.48 | H32: 0.0696 | I32: =+I5*J32 -> 219353.38 | J32: 0.0696 | K32: =+K5*L32 -> 243725.98 | L32: 0.0696 | M32: =+M5*N32 -> 304657.47 | N32: 0.0696 | O32: =+O5*P32 -> 365588.96 | P32: 0.0696 | Q32: =+Q5*R32 -> 426520.46 | R32: 0.0696 | S32: =+S5*T32 -> 609314.94 | T32: 0.0696 | V32: =+V5*W32 -> 548383.45 | W32: 0.0696 | X32: =+X5*Y32 -> 487451.95 | Y32: 0.0696 | Z32: =+Z5*AA32 -> 304657.47 | AA32: 0.0696 | AB32: =+AB5*AC32 -> 243725.98 | AC32: 0.0696
B34: PARAFISCALES | V34: PARAFISCALES
B35: Caja de Compensación | C35: =+C5*D35 -> 70036.2 | D35: 0.04 | E35: =+E5*F35 -> 84043.44 | F35: 0.04 | G35: =+G5*H35 -> 105054.3 | H35: 0.04 | I35: =+I5*J35 -> 126065.16 | J35: 0.04 | K35: =+K5*L35 -> 140072.4 | L35: 0.04 | M35: =+M5*N35 -> 175090.5 | N35: 0.04 | O35: =+O5*P35 -> 210108.6 | P35: 0.04 | Q35: =+Q5*R35 -> 245126.7 | R35: 0.04 | S35: =+S5*T35 -> 350181 | T35: 0.04 | V35: =+V5*W35 -> 315162.9 | W35: 0.04 | X35: =+X5*Y35 -> 280144.8 | Y35: 0.04 | Z35: =+Z5*AA35 -> 175090.5 | AA35: 0.04 | AB35: =+AB5*AC35 -> 140072.4 | AC35: 0.04
B36: SENA | C36: =+C5*D36 -> 35018.1 | D36: 0.02 | E36: =+E5*F36 -> 42021.72 | F36: 0.02 | G36: =+G5*H36 -> 52527.15 | H36: 0.02 | I36: =+I5*J36 -> 63032.58 | J36: 0.02 | K36: =+K5*L36 -> 70036.2 | L36: 0.02 | M36: =+M5*N36 -> 87545.25 | N36: 0.02 | O36: =+O5*P36 -> 105054.3 | P36: 0.02 | Q36: =+Q5*R36 -> 122563.35 | R36: 0.02 | S36: =+S5*T36 -> 175090.5 | T36: 0.02 | V36: =+V5*W36 -> 157581.45 | W36: 0.02 | X36: =+X5*Y36 -> 140072.4 | Y36: 0.02 | Z36: =+Z5*AA36 -> 87545.25 | AA36: 0.02 | AB36: =+AB5*AC36 -> 70036.2 | AC36: 0.02
B37: ICBF | C37: =+C5*D37 -> 52527.15 | D37: 0.03 | E37: =+E5*F37 -> 63032.58 | F37: 0.03 | G37: =+G5*H37 -> 78790.725 | H37: 0.03 | I37: =+I5*J37 -> 94548.87 | J37: 0.03 | K37: =+K5*L37 -> 105054.3 | L37: 0.03 | M37: =+M5*N37 -> 131317.88 | N37: 0.03 | O37: =+O5*P37 -> 157581.45 | P37: 0.03 | Q37: =+Q5*R37 -> 183845.02 | R37: 0.03 | S37: =+S5*T37 -> 262635.75 | T37: 0.03 | V37: =+V5*W37 -> 236372.17 | W37: 0.03 | X37: =+X5*Y37 -> 210108.6 | Y37: 0.03 | Z37: =+Z5*AA37 -> 131317.88 | AA37: 0.03 | AB37: =+AB5*AC37 -> 105054.3 | AC37: 0.03
B38: DOTACIÓN | V38: DOTACIÓN
B39: Dotaciones | D39: =C39/C20 -> 0 | F39: =E39/E20 -> 0 | H39: =G39/G20 -> 0 | J39: =I39/I20 -> 0 | L39: =K39/K20 -> 0 | N39: =M39/M20 -> 0 | P39: =O39/O20 -> 0 | R39: =Q39/Q20 -> 0 | T39: 0 | V39: =V20*W39 -> 0 | W39: 0 | X39: =X20*Y39 -> 0 | Y39: 0 | Z39: =Z20*AA39 -> 0 | AA39: 0 | AB39: =C39 -> 0 | AC39: =AB39/AB20 -> 0
B40: Elementos de Seguridad Industrial | D40: =C40/C20 -> 0 | F40: =E40/E20 -> 0 | H40: =G40/G20 -> 0 | J40: =I40/I20 -> 0 | L40: =K40/K20 -> 0 | N40: =M40/M20 -> 0 | P40: =O40/O20 -> 0 | R40: =Q40/Q20 -> 0 | T40: =S40/S20 -> 0 | V40: =C40 -> 0 | W40: =V40/V20 -> 0 | X40: =C40 -> 0 | Y40: =X40/X20 -> 0 | Z40: =C40 -> 0 | AA40: =Z40/Z20 -> 0 | AB40: =C40 -> 0 | AC40: =AB40/AB20 -> 0
B42: VALOR REAL SALARIO | C42: =SUM(C24:C40) -> 1064592.7 | D42: =SUM(D24:D40) -> 0.5829 | E42: =SUM(E24:E40) -> 1268713.2 | F42: =SUM(F24:F40) -> 0.5829 | G42: =SUM(G24:G40) -> 1574894 | H42: =SUM(H24:H40) -> 0.5829 | I42: =SUM(I24:I40) -> 1881074.7 | J42: =SUM(J24:J40) -> 0.5829 | ... T42: =SUM(T24:T40) -> 0.5829 | V42: =SUM(V24:V40) -> 4592711.4 | W42: =SUM(W21:W40) -> 0.5829 | X42: =SUM(X24:X40) -> 4082410.1 | Y42: =SUM(Y21:Y40) -> 0.5829 | Z42: =SUM(Z24:Z40) -> 2551506.3 | AA42: =SUM(AA21:AA40) -> 0.5829 | AB42: =SUM(AB24:AB40) -> 2041205 | AC42: =SUM(AC21:AC40) -> 0.5829
C43: =+C42+C5+C7 -> 3064592.7
B44: VALOR HORA | V44: VALOR HORA
B45: Hora Calendario Anuales (360 dias X 7,33 horas) | C45: =360*7.33 -> 2638.8 | E45: =360*8 -> 2880 | G45: =360*8 -> 2880 | I45: =360*8 -> 2880 | K45: =360*8 -> 2880 | M45: =360*8 -> 2880 | O45: =360*8 -> 2880 | Q45: =360*8 -> 2880 | S45: =360*8 -> 2880 | V45: =360*8 -> 2880 | X45: =360*8 -> 2880 | Z45: =360*8 -> 2880 | AB45: =360*8 -> 2880
B46: Horas Laborales mensuales (44/6*30) | C46: =+(44/6*30) -> 220 | E46: =+(44/6*30) -> 220 | G46: =+(44/6*30) -> 220 | I46: =+(44/6*30) -> 220 | K46: =+(44/6*30) -> 220 | M46: =+(44/6*30) -> 220 | O46: =+(44/6*30) -> 220 | Q46: =+(44/6*30) -> 220 | S46: =+(44/6*30) -> 220 | V46: =+(44/6*30) -> 220 | X46: =+(44/6*30) -> 220 | Z46: =+(44/6*30) -> 220 | AB46: =+(44/6*30) -> 220
B47: Horas Efectivas Anuales 2928 horas- (52 Domingos+18 festivos+3 permisos+15 dias Vacaciones)
...

Sheet Insumos
C3: Nominal con Sub. Transp | D3: Prestaciones | E3: Total Jornal
B4: Ayudante 1 Salario minimo | C4: =+'COSTO PERSONAL'!C60 -> 66666.667 | D4: =+'COSTO PERSONAL'!E60 -> 35486.423 | E4: =+C4+D4 -> 102153.09 | F4: =+D4/C4 -> 0.53229635 | G4: Actualizados 2026
B5: Ayudante 1,2 Salario minimo | C5: =+'COSTO PERSONAL'!C61 -> 78339.367 | D5: =+'COSTO PERSONAL'!E61 -> 42290.44 | E5: =+C5+D5 -> 120629.81 | F5: =+D5/C5 -> 0.53983638
B6: Oficial 1.5 Salarios minimo | C6: =+'COSTO PERSONAL'!C62 -> 95848.417 | D6: =+'COSTO PERSONAL'!E62 -> 52496.465 | E6: =+C6+D6 -> 148344.88 | F6: =+D6/C6 -> 0.547703
B7: Oficial 1,8 Salarios minimo | C7: =+'COSTO PERSONAL'!C63 -> 113357.47 | D7: =+'COSTO PERSONAL'!E63 -> 62702.491 | E7: =+C7+D7 -> 176059.96 | F7: =+D7/C7 -> 0.55313948
B8: Oficial 2,5 Salarios minimo | C8: =+'COSTO PERSONAL'!C64 -> 145908.75 | D8: =+'COSTO PERSONAL'!E64 -> 85050.21 | E8: =+C8+D8 -> 230958.96 | F8: =+D8/C8 -> 0.5829
B9: Estucador | C9: =+'COSTO PERSONAL'!C65 -> 95848.417 | D9: =+'COSTO PERSONAL'!E65 -> 52496.465 | E9: =+C9+D9 -> 148344.88 | F9: =+D9/C9 -> 0.547703
B10: Carpintero | C10: =+'COSTO PERSONAL'!C66 -> 145908.75 | D10: =+'COSTO PERSONAL'!E66 -> 85050.21 | E10: =+C10+D10 -> 230958.96 | F10: =+D10/C10 -> 0.5829
B11: Soldador 2,5 Salarios mínimo | C11: =+'COSTO PERSONAL'!C67 -> 145908.75 | D11: =+'COSTO PERSONAL'!E67 -> 85050.21 | E11: =+C11+D11 -> 230958.96 | F11: =+D11/C11 -> 0.5829
B12: Topografo 5 salarios minimo | C12: =+'COSTO PERSONAL'!C68 -> 291817.5 | D12: =+'COSTO PERSONAL'!E68 -> 170100.42 | E12: =+C12+D12 -> 461917.92 | F12: =+D12/C12 -> 0.5829
B13: Auxiliar Topografia | C13: =+'COSTO PERSONAL'!C69 -> 145908.75 | D13: =+'COSTO PERSONAL'!E69 -> 85050.21 | E13: =+C13+D13 -> 230958.96 | F13: =+D13/C13 -> 0.5829
B14: Cadenero | C14: =+'COSTO PERSONAL'!C70 -> 95848.417 | D14: =+'COSTO PERSONAL'!E70 -> 52496.465 | E14: =+C14+D14 -> 148344.88 | F14: =+D14/C14 -> 0.547703
B15: Encargado de Obra Elec 30% 3.5 Salarios minimo | C15: =+'COSTO PERSONAL'!C71 -> 204272.25 | D15: =+'COSTO PERSONAL'!E71 -> 119070.29 | E15: =+C15+D15 -> 323342.54 | F15: =+D15/C15 -> 0.5829
B16: Encargado de Obra Elec Espc 60% 3.5 Salarios minimo | C16: =+'COSTO PERSONAL'!C72 -> 204272.25 | D16: =+'COSTO PERSONAL'!E72 -> 119070.29 | E16: =+C16+D16 -> 323342.54 | F16: =+D16/C16 -> 0.5829
B17: Encargado de Obra | C17: =+'COSTO PERSONAL'!C73 -> 204272.25 | D17: =+'COSTO PERSONAL'!E73 -> 119070.29 | E17: =+C17+D17 -> 323342.54 | F17: =+D17/C17 -> 0.5829
B18: Ingeniero Electrico HVAC | C18: ='COSTO PERSONAL'!C74 -> 233454 | D18: ='COSTO PERSONAL'!E74 -> 136080.34 | E18: =+C18+D18 -> 369534.34 | F18: =D18/C18 -> 0.5829 | H18: 1,9
B19: Jefe de mantenimiento | C19: ='COSTO PERSONAL'!C75 -> 145908.75 | D19: ='COSTO PERSONAL'!E75 -> 85050.21 | E19: =+C19+D19 -> 230958.96 | F19: =D19/C19 -> 0.5829
B20: Tecnico HVAC | C20: ='COSTO PERSONAL'!C76 -> 113357.47 | D20: ='COSTO PERSONAL'!E76 -> 62702.491 | E20: =+C20+D20 -> 176059.96 | F20: =D20/C20 -> 0.55313948
B21: Ayudante Tecnico | C21: ='COSTO PERSONAL'!C77 -> 78339.367 | D21: ='COSTO PERSONAL'!E77 -> 42290.44 | E21: =+C21+D21 -> 120629.81 | F21: =D21/C21 -> 0.53983638
B22: Profesional SISO | C22: ='COSTO PERSONAL'!C78 -> 113357.47 | D22: ='COSTO PERSONAL'!E78 -> 62702.491 | E22: =+C22+D22 -> 176059.96 | F22: =D22/C22 -> 0.55313948
B23: Jefe de mantenimiento 2.5 | C23: =C19/8 -> 18238.594 | D23: =D19/8 -> 10631.276 | E23: =+C23+D23 -> 28869.87 | F23: =D23/C23 -> 0.5829
B24: Tecnico HVAC 1.5 | C24: =C20/8 -> 14169.683 | D24: =D20/8 -> 7837.8113 | E24: =+C24+D24 -> 22007.495 | F24: =D24/C24 -> 0.55313948
B25: Ayudante Tecnico 1 | C25: =C21/8 -> 9792.4208 | D25: =D21/8 -> 5286.305 | E25: =+C25+D25 -> 15078.726 | F25: =D25/C25 -> 0.53983638
B26: Profesional SISO 1.8 | C26: =C22/8 -> 14169.683 | D26: =D22/8 -> 7837.8113 | E26: =+C26+D26 -> 22007.495 | F26: =D26/C26 -> 0.55313948
B27: Electricista | C27: ='COSTO PERSONAL'!C79 -> 95848.417 | D27: ='COSTO PERSONAL'!E79 -> 52496.465 | E27: =+C27+D27 -> 148344.88 | F27: =D27/C27 -> 0.547703
D29: ='COSTO PERSONAL'!E80 -> 0 | E29: =+C29+D29 -> 0
B30: Cuadrilla (Electrico + Ayudante) | C30: =+'COSTO PERSONAL'!C94 -> 191696.83 | D30: =+'COSTO PERSONAL'!E94 -> 104992.93 | E30: =+C30+D30 -> 296689.76 | F30: =D30/C30 -> 0.547703
B31: Cuadrilla (Oficial + Ayudante) | C31: =+'COSTO PERSONAL'!C83 -> 174187.78 | D31: =+'COSTO PERSONAL'!E83 -> 94786.906 | E31: =+C31+D31 -> 268974.69 | F31: =D31/C31 -> 0.54416506
B32: Cuadrilla (Oficial + 2 Ayudantes) | C32: =+'COSTO PERSONAL'!C84 -> 229181.75 | D32: =+'COSTO PERSONAL'!E84 -> 123469.31 | E32: =+C32+D32 -> 352651.06 | F32: =D32/C32 -> 0.53873972
B33: Cuadrilla (Oficial + 3 Ayudantes) | C33: =+'COSTO PERSONAL'!C85 -> 295848.42 | D33: =+'COSTO PERSONAL'!E85 -> 158955.74 | E33: =+C33+D33 -> 454804.15 | F33: =D33/C33 -> 0.53728777
B34: Cuadrilla (2 Ayudantes) | C34: =+'COSTO PERSONAL'!C86 -> 133333.33 | D34: =+'COSTO PERSONAL'!E86 -> 70972.847 | E34: =+C34+D34 -> 204306.18 | F34: =D34/C34 -> 0.53229635
B35: Cuadrilla (4 Ayudantes) | C35: =+'COSTO PERSONAL'!C87 -> 266666.67 | D35: =+'COSTO PERSONAL'!E87 -> 141945.69 | E35: =+C35+D35 -> 408612.36 | F35: =D35/C35 -> 0.53229635
B36: Cuadrilla de Aseo KK | C36: =+'COSTO PERSONAL'!C88 -> 133333.33 | D36: =+'COSTO PERSONAL'!E88 -> 70972.847 | E36: =+C36+D36 -> 204306.18 | F36: =D36/C36 -> 0.53229635
B37: Cuadrilla Jardineria (2 jardineros) | C37: =+'COSTO PERSONAL'!C89 -> 191696.83 | D37: =+'COSTO PERSONAL'!E89 -> 104992.93 | E37: =+C37+D37 -> 296689.76 | F37: =D37/C37 -> 0.547703
B38: Cuadrilla de Instalaciones Hidrosanitarias | C38: =+'COSTO PERSONAL'!C90 -> 224248.12 | D38: =+'COSTO PERSONAL'!E90 -> 127340.65 | E38: =+C38+D38 -> 351588.77 | F38: =D38/C38 -> 0.56785605
B39: ='COSTO PERSONAL'!B94 -> Oficial HVAC+Ayudante | C39: =+'COSTO PERSONAL'!C94 -> 191696.83 | D39: =+'COSTO PERSONAL'!E94 -> 104992.93 | E39: =+C39+D39 -> 296689.76 | F39: =D39/C39 -> 0.547703
B40: Oficial HVAC+Ayudante hora | C40: =+C39/7.33 -> 26152.365 | D40: =+D39/7.33 -> 14323.729 | E40: =+E39/7.33 -> 40476.093 | F40: =D40/C40 -> 0.547703
B41: Cuadrilla(Oficial+Ayudante) | C41: =+'COSTO PERSONAL'!C94 -> 191696.83 | D41: =+'COSTO PERSONAL'!E94 -> 104992.93 | E41: =+C41+D41 -> 296689.76 | F41: =D41/C41 -> 0.547703
B42: Ingeniero HVAC Automatización | C42: ='COSTO PERSONAL'!X6 -> 233454 | D42: ='COSTO PERSONAL'!X55 -> 136080.34 | E42: =+C42+D42 -> 369534.34 | F42: =D42/C42 -> 0.5829 | H42: 4 Salarios
B46: Pareja de Instalación Drywall (1 oficial + 1 ayud) | C46: =+'COSTO PERSONAL'!C91 -> 300120.67 | D46: =+'COSTO PERSONAL'!E91 -> 171566.76 | E46: =+C46+D46 -> 471687.43 | F46: =D46/C46 -> 0.57165927
...

Sheet PRESUPUESTO OFICIAL 2026
B1: ANEXO 5 - PRESUPUESTO OFICIAL 2026
B2: ESTUDIO PREVIO N°17059
B3: SECRETARÍA DE TALENTO HUMANO Y SERVICIOS ADMINISTRATIVOS- DIRECCIÓN DE SERVICIOS GENERALES
B4: Mantenimiento del sistema de climatización y equipos electro mecánicos del Centro Administrativo Departamental y sus Sedes Externas LOTE 1
B6: MANTENIMIENTO EQUIPOS DE AIRE ACONDICIONADO
B7: ÍTEM | C7: DESCRIPCIÓN | H7: Un | I7: Cant | J7: Rutinas | K7: Vr.Unit | L7: Vr. Total
B9: 1. MANTENIMIENTO PREVENTIVO EQUIPOS DE AIRE ACONDICIONADO
B10: 1.1 | C10: Mantenimiento Preventivo Integral de Unidades Manejadoras de Aire (4,000 a 21,696 CFM - 15 a 25 TR) Incluyendo: elementos de transmisión, componentes eléctricos y de control, elementos mecánicos y de soporte, componentes hidráulicos y de refrigeración, calidad de aire, conforme a actividades definidas en el anexo técnico. | H10: GLO | I10: =+'PRESUPUESTO OFICIAL 2026 TH'!I10+'PRESUPUESTO OFICIAL 2026 SALUD'!I10 -> 40 | J10: 2 | K10: =+'APU 1,1'!G46 -> 210173.44 | L10: =K10*I10*J10 -> 16813875
B11: 1.1 | C11: Mantenimiento Preventivo Integral de Unidades Manejadoras de Aire (4,000 a 21,696 CFM - 15 a 25 TR) Incluyendo: elementos de transmisión, componentes eléctricos y de control, elementos mecánicos y de soporte, componentes hidráulicos y de refrigeración, calidad de aire, conforme a actividades definidas en el anexo técnico. | H11: GLO | I11: =+'PRESUPUESTO OFICIAL 2026 TH'!I11+'PRESUPUESTO OFICIAL 2026 SALUD'!I11 -> 3 | J11: =+'PRESUPUESTO OFICIAL 2026 SALUD'!J11 -> 10 | K11: =+K10 -> 210173.44 | L11: =K11*I11*J11 -> 6305203.1
B12: 1.2 | C12: Mantenimiento Preventivo Integral de Fancoils incluyendo: inspección, ajuste, limpieza, lubricación, diagnóstico y pruebas funcionales en elementos de transmisión, componentes eléctricos y de control, elementos mecánicos y de soporte, componentes hidráulicos y de refrigeración, y sistemas de calidad de aire, conforme a actividades definidas en el anexo técnico | H12: GLO | I12: =+'PRESUPUESTO OFICIAL 2026 TH'!I12+'PRESUPUESTO OFICIAL 2026 SALUD'!I12 -> 8 | J12: =+'PRESUPUESTO OFICIAL 2026 TH'!J12 -> 2 | K12: =+'APU 1,2'!G46 -> 174221.65 | L12: =K12*I12*J12 -> 2787546.4
B13: 1.3 | C13: Mantenimiento Preventivo Integral de Equipos Tipo Paquete de Agua Helada - Incluye: inspección, ajuste, limpieza, lubricación, diagnóstico y pruebas funcionales en elementos de transmisión, componentes eléctricos y de control, elementos mecánicos y de soporte, componentes hidráulicos y de refrigeración, y sistemas de calidad de aire, conforme a actividades definidas en el anexo técnico | H13: GLO | I13: =+'PRESUPUESTO OFICIAL 2026 TH'!I13+'PRESUPUESTO OFICIAL 2026 SALUD'!I13 -> 3 | J13: =+'PRESUPUESTO OFICIAL 2026 TH'!J13 -> 2 | K13: =+'APU 1,3'!G45 -> 181269.39 | L13: =K13*I13*J13 -> 1087616.3
B14: 1.4 | C14: Mantenimiento Preventivo Integral de Equipos Tipo Paquete de Expansión Directa - Incluye: inspección, ajuste, limpieza, lubricación, diagnóstico y pruebas funcionales en elementos de transmisión, componentes eléctricos y de control, elementos mecánicos y de soporte, componentes hidráulicos y de refrigeración, y sistemas de calidad de aire, conforme a actividades definidas en el anexo técnico | H14: GLO | I14: =+'PRESUPUESTO OFICIAL 2026 TH'!I14+'PRESUPUESTO OFICIAL 2026 SALUD'!I14 -> 2 | J14: =+'PRESUPUESTO OFICIAL 2026 TH'!J14 -> 3 | K14: =+'APU 1,4'!G45 -> 196860 | L14: =K14*I14*J14 -> 1181160
B15: 1.5 | C15: Mantenimiento Preventivo Integral de Equipos Tipo Ventana y Portátiles - Incluye: inspección, ajuste, limpieza, lubricación, diagnóstico y pruebas funcionales en elementos de transmisión, componentes eléctricos y de control, elementos mecánicos y de soporte, componentes hidráulicos y de refrigeración, y sistemas de calidad de aire, conforme a actividades definidas en el anexo técnico | H15: GLO | I15: =+'PRESUPUESTO OFICIAL 2026 TH'!I15+'PRESUPUESTO OFICIAL 2026 SALUD'!I15 -> 6 | J15: =+'PRESUPUESTO OFICIAL 2026 SALUD'!J15 -> 10 | K15: =+'APU 1,5'!G44 -> 152961.66 | L15: =K15*I15*J15 -> 9177699.6
B16: 1.6 | C16: Mantenimiento Preventivo Integral de Unidad Interna (Evaporadora) de Aire Acondicionado de Expansión Directa (desde 9,000 BTU en adelante) - Incluye: inspección, limpieza, lubricación, ajuste, diagnóstico y pruebas funcionales en elementos mecánicos, eléctricos y de control, componentes de soporte, sistemas hidráulicos y de refrigeración, y calidad de aire, conforme a actividades definidas en el anexo técnico. | H16: GLO | I16: =+'PRESUPUESTO OFICIAL 2026 TH'!I16+'PRESUPUESTO OFICIAL 2026 SALUD'!I16 -> 57 | J16: =+'PRESUPUESTO OFICIAL 2026 TH'!J16 -> 6 | K16: =+'APU 1,6'!G46 -> 104191.3 | L16: =K16*I16*J16 -> 35633424
B17: 1.7 | C17: Mantenimiento Preventivo Integral de Condensadoras de Aire Acondicionado de Expansión Directa (Desde 9,000 BTU en adelante): Incluye Limpieza Interior y Exterior, Revisión y Mantenimiento de Componentes Eléctricos, Mecánicos y de Refrigeración, Verificación de la Operación de Válvulas, Medición de Presión de Refrigerante y Control de Bandas, Poleas y Motores Eléctricos | H17: GLO | I17: =+'PRESUPUESTO OFICIAL 2026 TH'!I17+'PRESUPUESTO OFICIAL 2026 SALUD'!I17 -> 63 | J17: =+'PRESUPUESTO OFICIAL 2026 TH'!J17 -> 6 | K17: =+'APU 1,7'!G46 -> 128489.82 | L17: =K17*I17*J17 -> 48569152
B18: 1.8 | C18: Mantenimiento Preventivo para electrobombas con potencia hasta 15 HP, según actividades establecidas en el anexo técnico. Incluye kit completo de rodamientos, empaque, tornilleria, sello mecánico y pintura. | H18: GLO | I18: =+'PRESUPUESTO OFICIAL 2026 TH'!I18+'PRESUPUESTO OFICIAL 2026 SALUD'!I18 -> 15 | J18: =+'PRESUPUESTO OFICIAL 2026 TH'!J18 -> 1 | K18: =+'APU 1,8'!G45 -> 634047.41 | L18: =K18*I18*J18 -> 9510711.1
B19: 1.9 | C19: Mantenimiento puerta electrica , incluye mantenimiento y lubricación de partes móviles, cambio de partes móviles dañadas y mantenimiento de motor 220V de 3HP | H19: GLO | I19: =+'PRESUPUESTO OFICIAL 2026 TH'!I19+'PRESUPUESTO OFICIAL 2026 SALUD'!I19 -> 4 | J19: =+'PRESUPUESTO OFICIAL 2026 TH'!J19 -> 2 | K19: =+'APU 1,9'!G44 -> 175499.69 | L19: =K19*I19*J19 -> 1403997.6
B20: 1.1 | C20: Mantenimiento Preventivo Integral de Condensadoras Tipo VRF - Incluye inspección, limpieza y mantenimiento de componentes eléctricos, mecánicos y del sistema de refrigeración, tales como compresores, serpentines, válvulas de servicio, sensores, ventiladores, bandejas, líneas de refrigerante y drenajes, conforme a actividades detalladas en el anexo técnico | H20: GLO | I20: =+'PRESUPUESTO OFICIAL 2026 TH'!I20+'PRESUPUESTO OFICIAL 2026 SALUD'!I20 -> 6 | J20: =+'PRESUPUESTO OFICIAL 2026 SALUD'!J20 -> 10 | K20: =+'APU 1.10'!G46 -> 309082.84 | L20: =K20*I20*J20 -> 18544971
B21: 1.11 | C21: Mantenimiento Preventivo Integral de Unidad Interna (Evaporadora) de Aire Acondicionado de Expansión Directa (desde 9,000 BTU en adelante) del Laboratorio Departamental – Incluye: inspección, limpieza, lubricación, ajuste, diagnóstico y pruebas funcionales en elementos mecánicos, eléctricos y de control, componentes de soporte, sistemas hidráulicos y de refrigeración, y calidad de aire, conforme a actividades definidas en el anexo técnico. | H21: GLO | I21: =+'PRESUPUESTO OFICIAL 2026 TH'!I21+'PRESUPUESTO OFICIAL 2026 SALUD'!I21 -> 14 | J21: =+'PRESUPUESTO OFICIAL 2026 SALUD'!J20 -> 10 | K21: ='APU 1,11'!G46 -> 104191.3 | L21: =K21*I21*J21 -> 14586782
B22: 1.12 | C22: Mantenimiento preventivo y correctivo de los sistemas de aire acondicionados de precisión del centro de computo ubicados en el edificio de la gobernación de antioquia, según actividades definidas en el anexo técnico | H22: GLO | I22: 0 | J22: 0 | K22: =5625000/2 -> 2812500 | L22: =K22*I22*J22 -> 0
B23: 1,12.1 | C23: Mantenimiento preventivo y correctivo de los sistemas de aire acondicionados de precisión del Archivo y Edatel, según actividades definidas en el anexo técnico | H23: GLO | I23: =+'PRESUPUESTO OFICIAL 2026 TH'!I23+'PRESUPUESTO OFICIAL 2026 SALUD'!I23 -> 6 | J23: 6 | K23: =+'APU 1,12.1'!G47 -> 687233.41 | L23: =K23*I23*J23 -> 24740403
B24: 1.13 | C24: Mantenimiento preventivo de extractor de aire en laboratorio departamental. Incluye inspección general, limpieza del equipo (hélices, carcasa, rejillas), revisión y ajuste de partes mecánicas, verificación eléctrica, lubricación si aplica, pruebas de funcionamiento y reposición de filtros de aire. | H24: GLO | I24: =+'PRESUPUESTO OFICIAL 2026 TH'!I24+'PRESUPUESTO OFICIAL 2026 SALUD'!I24 -> 4 | J24: =+'PRESUPUESTO OFICIAL 2026 SALUD'!J22 -> 10 | K24: ='APU 1,13'!G46 -> 138817.69 | L24: =K24*I24*J24 -> 5552707.8
B25: Total mantenimiento preventivo | L25: =SUM(L10:L24) -> 1.9589525e+08
B26: 2. MANTENIMIENTO DISTRIBUCIÓN DE AIRE
B27: 2.1 | C27: Mantenimiento de ductos del Sistema de Distribución de Aire – Incluye inspección del estado y aislamiento de ductos, reparación de fugas, y verificación de soportes, conforme a actividades detalladas en el anexo técnico | H27: GLO | I27: =+'PRESUPUESTO OFICIAL 2026 TH'!I27+'PRESUPUESTO OFICIAL 2026 SALUD'!I27 -> 14 | J27: =+'PRESUPUESTO OFICIAL 2026 TH'!J27 -> 2 | K27: =+'APU 2,1'!G45 -> 312527.29 | L27: =K27*I27*J27 -> 8750764
B28: 2.2 | C28: Mantenimiento Preventivo de Rejillas y Difusores del Sistema de Distribución de Aire – Incluye limpieza y verificación funcional, conforme a actividades detalladas en el anexo técnico | H28: UN | I28: =+'PRESUPUESTO OFICIAL 2026 TH'!I28+'PRESUPUESTO OFICIAL 2026 SALUD'!I28 -> 1100 | J28: =+'PRESUPUESTO OFICIAL 2026 TH'!J28 -> 1 | K28: =+'APU 2,2'!G45 -> 13849.969 | L28: =K28*I28*J28 -> 15234966
B29: Total mantenimiento distribución de aire | L29: =SUM(L27:L28) -> 23985730
B30: 3. MANTENIMIENTO PREVENTIVO EQUIPOS COMPLEMENTARIOS | L30: =K30/I30 -> #DIV/0!
B31: 3.1 | C31: Servicio de mantenimiento preventivo y habilitación operativa de extractores o inyectores de aire, que contempla la inspección del sistema eléctrico y de control, limpieza general, lubricación de componentes mecánicos, y elaboración de un informe del estado final del equipo, de acuerdo con las actividades establecidas en el anexo técnico | H31: GLO | I31: =+'PRESUPUESTO OFICIAL 2026 TH'!I31+'PRESUPUESTO OFICIAL 2026 SALUD'!I31 -> 2 | J31: =+'PRESUPUESTO OFICIAL 2026 TH'!J31 -> 2 | K31: =+'APU 3,1'!$G$45 -> 141695.03 | L31: =K31*I31*J31 -> 566780.11
B32: 3.2 | C32: Mantenimiento preventivo de puertas automatizadas de parqueadero – Incluye verificación del sistema de apertura y cierre, inspección de rieles, cadenas o cremalleras, lubricación de mecanismos móviles, revisión de sensores de presencia, chequeo del panel de control, aseguramiento de la estructura y prueba funcional completa, conforme a actividades definidas en el anexo técnico | H32: GLO | I32: =+'PRESUPUESTO OFICIAL 2026 TH'!I32+'PRESUPUESTO OFICIAL 2026 SALUD'!I32 -> 6 | J32: =+'PRESUPUESTO OFICIAL 2026 TH'!J32 -> 2 | K32: =+'APU 3,2'!G45 -> 233647.41 | L32: =K32*I32*J32 -> 2803768.9
B33: 3.3 | C33: Mantenimiento preventivo de puertas presurizadas – Incluye revisión de gato hidráulico, comprobación de cierre automático, ajuste de velocidad y amortiguación, inspección y lubricación de bisagras, verificación de sellos perimetrales, alineamiento estructural, detección de obstrucciones y prueba funcional completa, conforme a actividades definidas en el anexo técnico | H33: GLO | I33: =+'PRESUPUESTO OFICIAL 2026 TH'!I33+'PRESUPUESTO OFICIAL 2026 SALUD'!I33 -> 28 | J33: =+'PRESUPUESTO OFICIAL 2026 TH'!J33 -> 2 | K33: =+'APU 3,3'!G45 -> 90139.796 | L33: =K33*I33*J33 -> 5047828.6
B34: 3.4 | C34: Mantenimiento preventivo de equipos de gimnasio – Incluye inspección de funcionamiento general, lubricación de poleas y rieles, revisión de cables y bandas, verificación de pantallas o interfaces, comprobación de tornillería estructural, limpieza con productos no corrosivos y reporte de daños en tapicería, conforme a actividades definidas en el anexo técnico | H34: GLO | I34: =+'PRESUPUESTO OFICIAL 2026 TH'!I34+'PRESUPUESTO OFICIAL 2026 SALUD'!I34 -> 8 | J34: =+'PRESUPUESTO OFICIAL 2026 TH'!J34 -> 4 | K34: =+'APU 3,4'!G45 -> 120309.75 | L34: =K34*I34*J34 -> 3849911.8
B35: 3.5 | C35: Mantenimiento preventivo al sistema DMS2 del laboratorio Departamental, incluyendo respaldo de configuración, verificación de comunicación con equipos HVAC, análisis de alarmas y actualización del software de monitoreo. | H35: GLO | I35: =+'PRESUPUESTO OFICIAL 2026 TH'!I35+'PRESUPUESTO OFICIAL 2026 SALUD'!I35 -> 1 | J35: =+'PRESUPUESTO OFICIAL 2026 SALUD'!J35 -> 2 | K35: ='APU 3,5'!G45 -> 264673.3 | L35: =K35*I35*J35 -> 529346.59
B36: 3.6 | C36: Mantenimiento preventivo a compactadora de 7 toneladas, incluyendo requintada de tornillos, ajustes en sensores de inicio y fin de carrera, limpieza general con aire a presión, lubricación de componentes móviles, revisión de filtros, inspección de tuberías, detección de posibles fugas, verificación de guías y control de niveles de aceite para asegurar su correcto funcionamiento. | H36: GLO | I36: =+'PRESUPUESTO OFICIAL 2026 TH'!I36+'PRESUPUESTO OFICIAL 2026 SALUD'!I36 -> 1 | J36: =+'PRESUPUESTO OFICIAL 2026 TH'!J36 -> 2 | K36: ='APU 3,6'!G45 -> 134279.69 | L36: =K36*I36*J36 -> 268559.39
B37: Total mantenimiento equipos complementarios. | L37: =SUM(L31:L36) -> 13066195
B38: 4. MANTENIMIENTO CORRECTIVO | L38: =K38/I38 -> #DIV/0!
B39: 4.1 | C39: Reparación de electrobomba de impulsión de 12 a 15 HP 220/400V diámetro de salida 2", presión de 140 PSI, trifásica, velocidad de 3500 RPM, incluye kit completo de rodamientos, embobinado, sello mecánico y pintura. | H39: GLO | I39: =+'PRESUPUESTO OFICIAL 2026 TH'!I39+'PRESUPUESTO OFICIAL 2026 SALUD'!I39 -> 0 | J39: =+'PRESUPUESTO OFICIAL 2026 TH'!J39 -> 1 | K39: ='APU 4.1'!G45 -> 936547.41 | L39: =K39*I39*J39 -> 0
B40: 4.2 | C40: Reparación de motor de puerta eléctrica 220V de 3HP, incluye mantenimiento y lubricación de partes móviles y cambio de partes móviles dañadas. | H40: GLO | I40: =+'PRESUPUESTO OFICIAL 2026 TH'!I40+'PRESUPUESTO OFICIAL 2026 SALUD'!I40 -> 0 | J40: =+'PRESUPUESTO OFICIAL 2026 TH'!J40 -> 1 | K40: ='APU 4.2'!G45 -> 729047.41 | L40: =K40*I40*J40 -> 0
B41: 4.1 | C41: Mantenimiento correctivo de ductos del sistema de distribución de aire, que incluye la inspección del estado físico y del aislamiento, la reparación de fugas de aire mediante aplicación de selladores, cintas aluminizadas o refuerzos, y la verificación, ajuste o reposición de soportes estructurales deteriorados, de acuerdo con lo definido en el anexo técnico. | H41: m2 | I41: =+'PRESUPUESTO OFICIAL 2026 TH'!I41+'PRESUPUESTO OFICIAL 2026 SALUD'!I41 -> 2242.2532 | J41: =+'PRESUPUESTO OFICIAL 2026 TH'!J41 -> 1 | K41: ='APU 4.1.'!G45 -> 112955.41 | L41: =K41*I41*J41 -> 2.5327463e+08
B42: 4.2 | C42: Suministro, instalación, calibración y retiro del equipo existente para sistemas de presurización tipo HIDROFLO, utilizado en redes hidráulicas de edificaciones. El ítem contempla todas las actividades necesarias para garantizar el funcionamiento correcto del nuevo equipo, cumpliendo con los requisitos técnicos, eléctricos e hidráulicos. | H42: GLO | I42: =+'PRESUPUESTO OFICIAL 2026 TH'!I42+'PRESUPUESTO OFICIAL 2026 SALUD'!I42 -> 1 | J42: =+'PRESUPUESTO OFICIAL 2026 TH'!J42 -> 1 | K42: ='APU 4.2.'!G45 -> 2737203.5 | L42: =K42*I42*J42 -> 2737203.5
...

Sheet PRESUPUESTO OFICIAL 2026 TH
B1: PRESUPUESTO MANTENIMIENTO 2026
B3: SECRETARÍA DE TALENTO HUMANO Y SERVICIOS ADMINISTRATIVOS- DIRECCIÓN DE SERVICIOS GENERALES
B4: Mantenimiento del sistema de climatización y equipos electro mecánicos del Centro Administrativo Departamental y sus Sedes Externas-LOTE 1
B6: MANTENIMIENTO EQUIPOS DE AIRE ACONDICIONADO
B7: ÍTEM | C7: DESCRIPCIÓN | H7: Un | I7: Cant | J7: Rutinas | K7: Vr.Unit | L7: Vr. Total
B9: 1. MANTENIMIENTO PREVENTIVO EQUIPOS DE AIRE ACONDICIONADO
B10: 1.1 | C10: Mantenimiento Preventivo Integral de Unidades Manejadoras de aire (4,000 a 21,696 CFM - 15 a 25 TR) Incluyendo: elementos de transmisión, componentes eléctricos y de control, elementos mecánicos y de soporte, componentes hidráulicos y de refrigeración, calidad de aire, conforme a actividades definidas en el anexo técnico. | H10: GLO | I10: 40 | J10: 2 | K10: =+'APU 1,1'!G46 -> 210173.44 | L10: =K10*I10*J10 -> 16813875
B11: 1.1 | C11: Mantenimiento Preventivo Integral de Unidades Manejadoras de Aire (4,000 a 21,696 CFM - 15 a 25 TR) Incluyendo: elementos de transmisión, componentes eléctricos y de control, elementos mecánicos y de soporte, componentes hidráulicos y de refrigeración, calidad de aire, conforme a actividades definidas en el anexo técnico. | H11: GLO | I11: 0 | J11: 0 | K11: 231324.39 | L11: =K11*I11*J11 -> 0
B12: 1.2 | C12: Mantenimiento Preventivo Integral de Fancoils incluyendo: inspección, ajuste, limpieza, lubricación, diagnóstico y pruebas funcionales en elementos de transmisión, componentes eléctricos y de control, elementos mecánicos y de soporte, componentes hidráulicos y de refrigeración, y sistemas de calidad de aire, conforme a actividades definidas en el anexo técnico | H12: GLO | I12: 8 | J12: 2 | K12: =+'APU 1,2'!G46 -> 174221.65 | L12: =K12*I12*J12 -> 2787546.4
B13: 1.3 | C13: Mantenimiento Preventivo Integral de Equipos Tipo Paquete de Agua Helada - Incluye: inspección, ajuste, limpieza, lubricación, diagnóstico y pruebas funcionales en elementos de transmisión, componentes eléctricos y de control, elementos mecánicos y de soporte, componentes hidráulicos y de refrigeración, y sistemas de calidad de aire, conforme a actividades definidas en el anexo técnico | H13: GLO | I13: 3 | J13: 2 | K13: =+'APU 1,3'!G45 -> 181269.39 | L13: =K13*I13*J13 -> 1087616.3
B14: 1.4 | C14: Mantenimiento Preventivo Integral de Equipos Tipo Paquete de Expansión Directa - Incluye: inspección, ajuste, limpieza, lubricación, diagnóstico y pruebas funcionales en elementos de transmisión, componentes eléctricos y de control, elementos mecánicos y de soporte, componentes hidráulicos y de refrigeración, y sistemas de calidad de aire, conforme a actividades definidas en el anexo técnico | H14: GLO | I14: 2 | J14: 3 | K14: =+'APU 1,4'!G45 -> 196860 | L14: =K14*I14*J14 -> 1181160
B15: 1.5 | C15: Mantenimiento Preventivo Integral de Equipos Tipo Ventana y Portátiles - Incluye: inspección, ajuste, limpieza, lubricación, diagnóstico y pruebas funcionales en elementos de transmisión, componentes eléctricos y de control, elementos mecánicos y de soporte, componentes hidráulicos y de refrigeración, y sistemas de calidad de aire, conforme a actividades definidas en el anexo técnico | H15: GLO | I15: 0 | J15: 3 | K15: =+'APU 1,5'!G44 -> 152961.66 | L15: =K15*I15*J15 -> 0
B16: 1.6 | C16: Mantenimiento Preventivo Integral de Unidad Interna (Evaporadora) de Aire Acondicionado de Expansión Directa (desde 9,000 BTU en adelante) - Incluye: inspección, limpieza, lubricación, ajuste, diagnóstico y pruebas funcionales en elementos mecánicos, eléctricos y de control, componentes de soporte, sistemas hidráulicos y de refrigeración, y calidad de aire, conforme a actividades definidas en el anexo técnico. | H16: GLO | I16: 43 | J16: 6 | K16: =+'APU 1,6'!G46 -> 104191.3 | L16: =K16*I16*J16 -> 26881355
B17: 1.7 | C17: Mantenimiento Preventivo Integral de Condensadoras de Aire Acondicionado de Expansión Directa (Desde 9,000 BTU en adelante): Incluye Limpieza Interior y Exterior, Revisión y Mantenimiento de Componentes Eléctricos, Mecánicos y de Refrigeración, Verificación de la Operación de Válvulas, Medición de Presión de Refrigerante y Control de Bandas, Poleas y Motores Eléctricos | H17: GLO | I17: 43 | J17: 6 | K17: =+'APU 1,7'!G46 -> 128489.82 | L17: =K17*I17*J17 -> 33150373
B18: 1.8 | C18: Mantenimiento Preventivo para electrobombas con potencia hasta 15 HP, según actividades establecidas en el anexo técnico. Incluye kit completo de rodamientos, empaque, tornilleria, sello mecánico y pintura. | H18: GLO | I18: 15 | J18: 1 | K18: =+'APU 1,8'!G45 -> 634047.41 | L18: =K18*I18*J18 -> 9510711.1
B19: 1.9 | C19: Mantenimiento puerta electrica , incluye mantenimiento y lubricación de partes móviles, cambio de partes móviles dañadas y mantenimiento de motor 220V de 3HP | H19: GLO | I19: 2 | J19: 2 | K19: =+'APU 1,9'!G44 -> 175499.69 | L19: =K19*I19*J19 -> 701998.78
B20: 1.1 | C20: Mantenimiento Preventivo Integral de Condensadoras Tipo VRF - Incluye inspección, limpieza y mantenimiento de componentes eléctricos, mecánicos y del sistema de refrigeración, tales como compresores, serpentines, válvulas de servicio, sensores, ventiladores, bandejas, líneas de refrigerante y drenajes, conforme a actividades detalladas en el anexo técnico | H20: GLO | I20: 0 | J20: 0 | K20: =+'APU 1.10'!G46 -> 309082.84 | L20: =K20*I20*J20 -> 0
B21: 1.11 | C21: Mantenimiento Preventivo Integral de Unidad Interna (Evaporadora) de Aire Acondicionado de Expansión Directa (desde 9,000 BTU en adelante) del Laboratorio Departamental – Incluye: inspección, limpieza, lubricación, ajuste, diagnóstico y pruebas funcionales en elementos mecánicos, eléctricos y de control, componentes de soporte, sistemas hidráulicos y de refrigeración, y calidad de aire, conforme a actividades definidas en el anexo técnico. | H21: GLO | I21: 0 | J21: 0 | K21: ='APU 1,11'!G46 -> 104191.3 | L21: =K21*I21*J21 -> 0
B22: 1.12 | C22: Mantenimiento preventivo y correctivo de los sistemas de aire acondicionados de precisión del centro de computo ubicados en el edificio de la gobernación de antioquia, según actividades definidas en el anexo técnico TIC | H22: GLO | K22: =5625000/2 -> 2812500 | L22: =K22*I22*J22 -> 0
B23: 1,12.1 | C23: Mantenimiento preventivo y correctivo de los sistemas de aire acondicionados de precisión del Archivo y Edatel, según actividades definidas en el anexo técnico | H23: GLO | I23: 6 | J23: 6 | K23: =+'APU 1,12.1'!G47 -> 687233.41 | L23: =K23*I23*J23 -> 24740403
B24: 1.13 | C24: Mantenimiento preventivo de extractor de aire en laboratorio departamental. Incluye inspección general, limpieza del equipo (hélices, carcasa, rejillas), revisión y ajuste de partes mecánicas, verificación eléctrica, lubricación si aplica, pruebas de funcionamiento y reposición de filtros de aire. | H24: GLO | I24: 0 | J24: 5 | K24: ='APU 1,13'!G46 -> 138817.69 | L24: =K24*I24*J24 -> 0
B25: Total mantenimiento preventivo | L25: =SUM(L10:L24) -> 1.1685504e+08
B26: 2. MANTENIMIENTO DISTRIBUCIÓN DE AIRE
B27: 2.1 | C27: Mantenimiento de ductos del Sistema de Distribución de Aire – Incluye inspección del estado y aislamiento de ductos, reparación de fugas, y verificación de soportes, conforme a actividades detalladas en el anexo técnico | H27: GLO | I27: 13 | J27: 2 | K27: =+'APU 2,1'!G45 -> 312527.29 | L27: =K27*I27*J27 -> 8125709.4
B28: 2.2 | C28: Mantenimiento Preventivo de Rejillas y Difusores del Sistema de Distribución de Aire – Incluye limpieza y verificación funcional, conforme a actividades detalladas en el anexo técnico | H28: UN | I28: 1000 | J28: 1 | K28: =+'APU 2,2'!G45 -> 13849.969 | L28: =K28*I28*J28 -> 13849969
B29: Total mantenimiento distribución de aire | L29: =SUM(L27:L28) -> 21975679
B30: 3. MANTENIMIENTO PREVENTIVO EQUIPOS COMPLEMENTARIOS | L30: =K30/I30 -> #DIV/0!
B31: 3.1 | C31: Servicio de mantenimiento preventivo y habilitación operativa de extractores o inyectores de aire, que contempla la inspección del sistema eléctrico y de control, limpieza general, lubricación de componentes mecánicos, y elaboración de un informe del estado final del equipo, de acuerdo con las actividades establecidas en el anexo técnico | H31: GLO | I31: 2 | J31: 2 | K31: =+'APU 3,1'!$G$45 -> 141695.03 | L31: =K31*I31*J31 -> 566780.11
B32: 3.2 | C32: Mantenimiento preventivo de puertas automatizadas de parqueadero – Incluye verificación del sistema de apertura y cierre, inspección de rieles, cadenas o cremalleras, lubricación de mecanismos móviles, revisión de sensores de presencia, chequeo del panel de control, aseguramiento de la estructura y prueba funcional completa, conforme a actividades definidas en el anexo técnico | H32: GLO | I32: 6 | J32: 2 | K32: =+'APU 3,2'!G45 -> 233647.41 | L32: =K32*I32*J32 -> 2803768.9
B33: 3.3 | C33: Mantenimiento preventivo de puertas presurizadas – Incluye revisión de gato hidráulico, comprobación de cierre automático, ajuste de velocidad y amortiguación, inspección y lubricación de bisagras, verificación de sellos perimetrales, alineamiento estructural, detección de obstrucciones y prueba funcional completa, conforme a actividades definidas en el anexo técnico | H33: GLO | I33: 28 | J33: 2 | K33: =+'APU 3,3'!G45 -> 90139.796 | L33: =K33*I33*J33 -> 5047828.6
B34: 3.4 | C34: Mantenimiento preventivo de equipos de gimnasio – Incluye inspección de funcionamiento general, lubricación de poleas y rieles, revisión de cables y bandas, verificación de pantallas o interfaces, comprobación de tornillería estructural, limpieza con productos no corrosivos y reporte de daños en tapicería, conforme a actividades definidas en el anexo técnico | H34: GLO | I34: 8 | J34: 4 | K34: =+'APU 3,4'!G45 -> 120309.75 | L34: =K34*I34*J34 -> 3849911.8
B35: 3.5 | C35: Mantenimiento preventivo al sistema DMS2 del laboratorio Departamental, incluyendo respaldo de configuración, verificación de comunicación con equipos HVAC, análisis de alarmas y actualización del software de monitoreo. | H35: GLO | I35: 0 | J35: 0 | K35: ='APU 3,5'!G45 -> 264673.3 | L35: =K35*I35*J35 -> 0
B36: 3.6 | C36: Mantenimiento preventivo a compactadora de 7 toneladas, incluyendo requintada de tornillos, ajustes en sensores de inicio y fin de carrera, limpieza general con aire a presión, lubricación de componentes móviles, revisión de filtros, inspección de tuberías, detección de posibles fugas, verificación de guías y control de niveles de aceite para asegurar su correcto funcionamiento. | H36: GLO | I36: 1 | J36: 2 | K36: ='APU 3,6'!G45 -> 134279.69 | L36: =K36*I36*J36 -> 268559.39
B37: Total mantenimiento equipos complementarios. | L37: =SUM(L31:L36) -> 12536849
B38: 4. MANTENIMIENTO CORRECTIVO | L38: =K38/I38 -> #DIV/0!
B39: 4.1 | C39: Reparación de electrobomba de impulsión de 12 a 15 HP 220/400V diámetro de salida 2", presión de 140 PSI, trifásica, velocidad de 3500 RPM, incluye kit completo de rodamientos, embobinado, sello mecánico y pintura. | H39: GLO | I39: 0 | J39: 1 | K39: ='APU 4.1'!G45 -> 936547.41 | L39: =K39*I39*J39 -> 0
B40: 4.2 | C40: Reparación de motor de puerta eléctrica 220V de 3HP, incluye mantenimiento y lubricación de partes móviles y cambio de partes móviles dañadas. | H40: GLO | I40: 0 | J40: 1 | K40: ='APU 4.2'!G45 -> 729047.41 | L40: =K40*I40*J40 -> 0
B41: 4.1 | C41: Mantenimiento correctivo de ductos del sistema de distribución de aire, que incluye la inspección del estado físico y del aislamiento, la reparación de fugas de aire mediante aplicación de selladores, cintas aluminizadas o refuerzos, y la verificación, ajuste o reposición de soportes estructurales deteriorados, de acuerdo con lo definido en el anexo técnico. | H41: m2 | I41: 1942.2532 | J41: 1 | K41: ='APU 4.1.'!G45 -> 112955.41 | L41: =K41*I41*J41 -> 2.19388e+08
B42: 4.2 | C42: Suministro, instalación, calibración y retiro del equipo existente para sistemas de presurización tipo HIDROFLO, utilizado en redes hidráulicas de edificaciones. El ítem contempla todas las actividades necesarias para garantizar el funcionamiento correcto del nuevo equipo, cumpliendo con los requisitos técnicos, eléctricos e hidráulicos. | H42: GLO | I42: 1 | J42: 1 | K42: ='APU 4.2.'!G45 -> 2737203.5 | L42: =K42*I42*J42 -> 2737203.5
