Workbook

Sheet PROPUESTA ECONOMICA(Proponente)
C3: Formulario 1 - Propuesta económica - Documento tipo de selección abreviada de menor cuantía - versión 2
C4: Código | D4: CCE-EICP-FM-25 | E4: Versión | F4: 2
C6: FORMULARIO 1
C7: PROPUESTA ECONOMICA
C8: [La entidad puede utilizar este formulario de presentación de propuesta económica de forma detallada, sin perjuicio que la entidad pueda modificarlo o establecer la presentación de la oferta económica con un formulario distinto al indicado.] [Los proponentes emplearán el formulario establecido por la entidad para determinar su propuesta económica conforme al Formulario 1 - Presupuesto Oficial publicado por la Entidad]
C10: Cuando el proceso de contratación es estructurado por precios unitarios, la Entidad debe aplicar las notas 1, 2 y 3 del presente formato y las casillas de "Descripción", "Porcentaje" de la Administración, Imprevisto, Utilidad y total A.I.U. resaltadas en color amarillo.
C12: Nº | D12: ITEM DE PAGO | E12: ESPECIFICACIONES | G12: DESCRIPCION | H12: UND. | I12: CANTIDAD | J12: VALOR UNITARIO | K12: VALOR TOTAL
E13: GENERAL | F13: PARTICULAR
C16: Subtotal
C22: Subtotal
C32: Subtotal
C37: Subtotal
C40: Subtotal
C41: SUBTOTAL OBRAS
G46: SUBTOTAL OBRAS (INCLUYE IVA)
G50: VALOR TOTAL
C53: NOTA 1: Se debe tener en cuenta que el PRECIO UNITARIO incluye el valor de A.I.U. | H53: DESCRIPCION | K53: PORCENTAJE
C54: NOTA 2: Cuando la fracción decimal del peso sea igual o superior a 5 se aproximara por exceso al número entero siguiente del peso y cuando la fracción decimal del peso sea inferior a 5 se aproximará por defecto al número entero del peso. | H54: ADMINISTRACION | J54: A= | K54: [Ofrecimiento del Proponente]
C55: NOTA 3: El A.I.U y su discriminación deben estar en porcentaje (%). | H55: IMPREVISTO | J55: I= | K55: [Ofrecimiento del Proponente]
H56: UTILIDAD | J56: U= | K56: [Ofrecimiento del Proponente]
H57: TOTAL A.I.U | J57: A.I.U.= | K57: [Ofrecimiento del Proponente]
G60: Firma del Proponente o de su Representante Legal

Sheet INFORMACION
B3: INFORMACIÓN GENERAL
B4: OBJETO : | C4: “MANTENIMIENTO Y ADECUACIÓN DEL RESTAURANTE ESCOLAR DEL COLEGIO SAN IGNACIO DE LOYOLA SEDE PRINCIPAL DEL MUNICIPIO DE OTANCHE BOYACA 2026 ”.
B5: CACULO:
B6: Vo.Bo. Secretaria de Planeación | C6: Vo.Bo. Secretario de Planeación e Infraestructura
B7: Vo.Bo. Supervisión | C7: Vo.Bo. Supervisión
B8: Contratista: | C8: N/A
B9: Interventor: | C9: N/A
B10: Fecha: | C10: 45825
B11: Ubiucacion: | C11: OTANCHE

Sheet PRESUPUESTO OFICIAL (Entidad)
C3: Formulario 1 - Propuesta económica - Documento tipo de selección abreviada de menor cuantía - versión 2
C4: Código | D4: CCE-EICP-FM-25 | E4: Versión | F4: 2
C6: FORMULARIO 1
C7: PRESUPUESTO OFICIAL
C8: [La entidad puede utilizar este formulario de detalle del presupuesto oficial para determinar las condiciones bajo las cuales los proponentes analizarán y presentarán su propuesta económica de forma detallada, sin perjuicio que la entidad pueda modificarlo o establecer la presentación de la oferta económica con un formulario distinto al indicado.]
C10: Adicionalmente, cuando el proceso de contratación es estructurado por precios unitarios, la Entidad debe aplicar las notas 1, 2 y 3 del presente formulario y las casillas de "Descripción", "Porcentaje" de la Administración, Imprevisto, Utilidad y total A.I.U. resaltadas en colo amarillo. Tratándose de otras modalidades de precio, la Entidad puede o no configurar los mismos aspectos.
C12: Nº | D12: ITEM DE PAGO | E12: ESPECIFICACIONES | G12: DESCRIPCION | H12: UND. | I12: CANTIDAD | J12: INCREMENTO X DISTANIA | K12: VALOR UNITARIO | L12: VALOR TOTAL
E13: GENERAL | F13: PARTICULAR
C14: 1.DEMOLICIÓN Y DESMONTE | L14: =ROUND(SUM(L15:L16),0) -> 1751394
C15: 1.1 | D15: 2.01.14 | E15: GOBERNACIÓN | G15: DEMOLICIÓN DE ANDÉN O PLACA DE CONTRAPISO EN CONCRETO E < = A 12CM. (INCLUYE RETIRO Y ACARREO LIBRE HASTA 5 KM.) | H15: M2 | I15: =+'1.1'!N36 -> 31.96 | J15: 0 | K15: =34674.09*1.3 -> 45076.317 | L15: =+ROUND(K15*I15*(1+J15),2) -> 1440639.1
C16: 1.2 | D16: 2.01.23 | E16: GOBERNACIÓN | G16: DEMOLICIÓN DE ENCHAPE CERÁMICO, (INCLUYE RETIRO Y ACARREO LIBRE HASTA 5 KM.) | H16: M3 | I16: =+'1.2'!N38 -> 24.18 | J16: 0 | K16: =9885.94*1.3 -> 12851.722 | L16: =+ROUND(K16*I16*(1+J16),2) -> 310754.64
C17: 2. ESTRUCTURA | L17: =ROUND(SUM(L18:L24),0) -> 9283745
C18: 2.1 | D18: 2.05.26 | E18: GOBERNACIÓN | G18: PLACA BASE EN CONCRETO E = 10.0 CM. 17.5 MPa (2500 PSI) | H18: M2 | I18: =+'2.1'!N33 -> 3.85 | J18: 0.12 | K18: =363174.49*1.42 -> 515707.78 | L18: =+ROUND(K18*I18,2) -> 1985474.9
C19: 2.2 | D19: 2.02.36 | E19: GOBERNACIÓN | G19: SUMINISTRO, FIGURADA Y AMARRE DE ACERO DE 420 MPa (60000 PSI) | H19: KG | I19: =+'2.2'!N36 -> 17.93 | J19: 0.12 | K19: =7675.05*1.42 -> 10898.571 | L19: =+ROUND(K19*I19,2) -> 195411.38
C20: 2.3 | E20: COTIZACIÓN | G20: SUMINISTRO E INSTALACIÓN ENCHAPE 20X20 | H20: M2 | I20: =+'2.3'!N36 -> 9.66 | J20: 0.12 | K20: =96328.96*1.42 -> 136787.12 | L20: =+ROUND(K20*I20,2) -> 1321363.6
C21: 2.4 | D21: 2.06.04 | E21: GOBERNACIÓN | G21: SUMINISTRO E INSTALACIÓN DE ENCHAPE EN PORCELANATO SELLADO | H21: M2 | I21: =+'2.4'!N36 -> 16.04 | J21: 0.12 | K21: =129656.38*1.42 -> 184112.06 | L21: =+ROUND(K21*I21,2) -> 2953157.4
C22: 2.5 | D22: 2.06.15 | E22: GOBERNACIÓN | G22: SUMINISTRO E INSTALACIÓN DE REMATE BOCEL DE ALUMINIO "WIN" | H22: ML | I22: =+'2.5'!N36 -> 36.12 | J22: 0.12 | K22: =20594.02*1.42 -> 29243.508 | L22: =+ROUND(K22*I22,2) -> 1056275.5
C23: 2.6 | D23: 1.01.04 | E23: GOBERNACIÓN | G23: CONCRETO SIMPLE DE 21 Mpa. (3000 PSI) | H23: M3 | I23: =+'2.6'!N36 -> 0.13 | J23: 0.12 | K23: =556652.91*1.42 -> 790447.13 | L23: =+ROUND(K23*I23,2) -> 102758.13
C24: 2.7 | D24: 2.07.21 | E24: GOBERNACIÓN | G24: SUMINISTRO E INSTALACIÓN DE PINTURA EPÓXICA BAJO PLACA A DOS MANOS | H24: M2 | I24: =+'2.7'!N36 -> 50 | J24: 0.12 | K24: =23511.33*1.42 -> 33386.089 | L24: =+ROUND(K24*I24,2) -> 1669304.4
C25: SUBTOTAL OBRAS | L25: =+L14+L17 -> 11035139
G27: ADMINISTRACION | L27: 0.24
G28: IMPREVISTOS | L28: 0.02
G29: UTILIDAD | L29: 0.04
G30: VALOR TOTAL | L30: =SUM(L25) -> 11035139
C33: NOTA 1: Se debe tener en cuenta que el PRECIO UNITARIO incluye el valor de A.I.U e incremento por transporte | H33: DESCRIPCION | L33: PORCENTAJE
C34: NOTA 2: Cuando la fracción decimal del peso sea igual o superior a 5 se aproximara por exceso al número entero siguiente del peso y cuando la fracción decimal del peso sea inferior a 5 se aproximará por defecto al número entero del peso. | H34: ADMINISTRACION | K34: A= | L34: 0.24
C35: NOTA 3: El A.I.U y su discriminación deben estar en porcentaje (%). | H35: IMPREVISTO | K35: I= | L35: 0.02
H36: UTILIDAD | K36: U= | L36: 0.04
H37: TOTAL A.I.U | K37: A.I.U.= | L37: =SUM(L34:L36) -> 0.3

Sheet 1.1
B2: MEMORIAS DE CALCULO DE CANTIDADES
D4: MEMORIAS DE CALCULO CANTIDADES | H4: PROYECTO:
H6: OBJETO: | I6: =+INFORMACION!C4 -> “MANTENIMIENTO Y ADECUACIÓN DEL RESTAURANTE ESCOLAR DEL COLEGIO SAN IGNACIO DE LOYOLA SEDE PRINCIPAL DEL MUNICIPIO DE OTANCHE BOYACA 2026 ”.
B8: ENTIDAD: | D8: ALCALDÍA MUNICIPAL DE OTANCHE - BOYACÁ | H8: CONTRATISTA: | M8: INTERVENTOR: | N8: FECHA:
H9: =+INFORMACION!C8 -> N/A | M9: =+INFORMACION!C9 -> N/A | N9: =+INFORMACION!C10 -> 45825
B10: CAPITULO: | D10: =+'PRESUPUESTO OFICIAL (Entidad)'!C14 -> 1.DEMOLICIÓN Y DESMONTE | N10: Hoja Nov. de 1
B11: ITEM DE PAGO: | D11: =+VLOOKUP(B14,'PRESUPUESTO OFICIAL (Entidad)'!C14:K24,2) -> 2.01.14
B13: ITEM | C13: UND | D13: DESCRIPCION | I13: UBICACIÓN | L13: =+INFORMACION!C11 -> OTANCHE
B14: =+'PRESUPUESTO OFICIAL (Entidad)'!C15 -> 1.1 | C14: =+VLOOKUP(B14,'PRESUPUESTO OFICIAL (Entidad)'!C12:K25,6,FALSE) -> M2 | D14: =+VLOOKUP(B14,'PRESUPUESTO OFICIAL (Entidad)'!C12:K25,5,FALSE) -> DEMOLICIÓN DE ANDÉN O PLACA DE CONTRAPISO EN CONCRETO E < = A 12CM. (INCLUYE RETIRO Y ACARREO LIBRE HASTA 5 KM.)
H15: Localización | I15: Dimensiones | M15: CANTIDAD} | N15: Total
I16: ANCHO | J16: LARGO | K16: ALTO | L16: No ELEMENTOS
H17: DEMOLICION PLACA SILLA | I17: 0.2 | J17: 3 | M17: 4 | N17: =+I17*J17*M17 -> 2.4
H18: DEMOLICION PLACA MESON | I18: 0.6 | J18: 3 | M18: 1 | N18: =+I18*J18*M18 -> 1.8
H19: DEMOLICIÓN PISO CONCRETO | N19: =+I19*J19*K19 -> 0
H20: JUNTAS ENCHAPE VERTICAL | I20: 0.03 | J20: 9 | M20: 9 | N20: =+I20*J20*M20 -> 2.43
H21: JUNTAS ENCHAPE HORIZONTAL | I21: 0.03 | J21: 2.8 | M21: 32 | N21: =+I21*J21*M21 -> 2.688
H22: DENIVEL SANJA | I22: 0.7 | J22: 13 | M22: 1 | N22: =+I22*J22*M22 -> 9.1
H23: SOBRE PISO 1 | I23: 1.9 | J23: 4.6 | M23: 1 | N23: =+I23*J23*M23 -> 8.74
H24: SOBRE PISO 2 | I24: 1.2 | J24: 4 | M24: 1 | N24: =+I24*J24*M24 -> 4.8
N25: =+I25*J25*K25*L25 -> 0
H33: TOTAL PRESENTE ACTA | N33: =ROUND(SUM(N17:N32),2) -> 31.96
I34: EJECUTADO ACTA 1 | N34: 0
I35: EJECUTADO ACTA 2 | N35: 0
I36: EJECUTADO PRESENTE ACTA | N36: =+ROUND(N33-N34-N35,2) -> 31.96
B37: Calculó: | F37: =+INFORMACION!C6 -> Vo.Bo. Secretario de Planeación e Infraestructura | K37: =+INFORMACION!C7 -> Vo.Bo. Supervisión
B38: =+INFORMACION!C5 -> 0
B39: Otanche - Boyacá

Sheet 1.2
B2: MEMORIAS DE CALCULO DE CANTIDADES
D4: MEMORIAS DE CALCULO CANTIDADES | H4: PROYECTO:
H6: OBJETO: | I6: =+INFORMACION!C4 -> “MANTENIMIENTO Y ADECUACIÓN DEL RESTAURANTE ESCOLAR DEL COLEGIO SAN IGNACIO DE LOYOLA SEDE PRINCIPAL DEL MUNICIPIO DE OTANCHE BOYACA 2026 ”.
B8: ENTIDAD: | D8: ALCALDÍA MUNICIPAL DE OTANCHE - BOYACÁ | H8: CONTRATISTA: | M8: INTERVENTOR: | N8: FECHA:
H9: =+INFORMACION!C8 -> N/A | M9: =+INFORMACION!C9 -> N/A | N9: =+INFORMACION!C10 -> 45825
B10: CAPITULO: | D10: =+'PRESUPUESTO OFICIAL (Entidad)'!C14 -> 1.DEMOLICIÓN Y DESMONTE | N10: Hoja Nov. de 1
B11: ITEM DE PAGO: | D11: =+VLOOKUP(B14,'PRESUPUESTO OFICIAL (Entidad)'!C14:K24,2) -> 2.01.23
B13: ITEM | C13: UND | D13: DESCRIPCION | I13: UBICACIÓN | L13: =+INFORMACION!C11 -> OTANCHE
B14: =+'PRESUPUESTO OFICIAL (Entidad)'!C16 -> 1.2 | C14: =+VLOOKUP(B14,'PRESUPUESTO OFICIAL (Entidad)'!C12:K25,6,FALSE) -> M3 | D14: =+VLOOKUP(B14,'PRESUPUESTO OFICIAL (Entidad)'!C12:K25,5,FALSE) -> DEMOLICIÓN DE ENCHAPE CERÁMICO, (INCLUYE RETIRO Y ACARREO LIBRE HASTA 5 KM.)
H15: Localización | I15: Dimensiones | M15: CANT | N15: Total
I16: LARGO | J16: ANCHO | K16: ALTO | L16: No. ELEMENTOS
H17: DEMOLICION ENCHAPE MESONES | I17: 0.2 | J17: 0.2 | L17: 98 | M17: 1 | N17: =+I17*J17*L17*M17 -> 3.92
H18: DEMOLICION ENCHAPE COCINA
H19: 1 | I19: 4.9 | J19: 2.6 | N19: =+I19*J19 -> 12.74
H20: 2 | I20: 3 | J20: 0.65 | N20: =+I20*J20 -> 1.95
H21: 3 | I21: 2.3 | J21: 0.6 | N21: =+I21*J21 -> 1.38
H22: 4 | I22: -0.94 | J22: 0.46 | N22: =+I22*J22 -> -0.4324
H23: DEMOLER ENCHAPE LAVAPLATOS 1 | I23: 0.68 | J23: 3.4 | N23: =+I23*J23 -> 2.312
H24: DEMOLER ENCHAPE LAVAPLATOS 2 | I24: 0.68 | J24: 3.4 | N24: =+I24*J24 -> 2.312
N27: =+I27*J27*K27*L27 -> 0
H35: TOTAL PRESENTE ACTA | N35: =ROUND(SUM(N17:N34),2) -> 24.18
I36: EJECUTADO ACTA 1 | N36: 0
I37: EJECUTADO ACTA 2 | N37: 0
I38: EJECUTADO PRESENTE ACTA | N38: =+ROUND(N35-N36-N37,2) -> 24.18
B39: Calculó: | F39: =+INFORMACION!C6 -> Vo.Bo. Secretario de Planeación e Infraestructura | K39: =+INFORMACION!C7 -> Vo.Bo. Supervisión
B40: =+INFORMACION!C5 -> 0
B41: Otanche - Boyacá

Sheet 2.1
B2: MEMORIAS DE CALCULO DE CANTIDADES
D4: MEMORIAS DE CALCULO CANTIDADES | H4: PROYECTO:
H6: OBJETO: | I6: =+INFORMACION!C4 -> “MANTENIMIENTO Y ADECUACIÓN DEL RESTAURANTE ESCOLAR DEL COLEGIO SAN IGNACIO DE LOYOLA SEDE PRINCIPAL DEL MUNICIPIO DE OTANCHE BOYACA 2026 ”.
B8: ENTIDAD: | D8: ALCALDÍA MUNICIPAL DE OTANCHE - BOYACÁ | H8: CONTRATISTA: | M8: INTERVENTOR: | N8: FECHA:
H9: =+INFORMACION!C8 -> N/A | M9: =+INFORMACION!C9 -> N/A | N9: =+INFORMACION!C10 -> 45825
B10: CAPITULO: | D10: =+'PRESUPUESTO OFICIAL (Entidad)'!C17 -> 2. ESTRUCTURA | N10: Hoja Nov. de 1
B11: ITEM DE PAGO: | D11: =+VLOOKUP(B14,'PRESUPUESTO OFICIAL (Entidad)'!C14:K24,2) -> 2.05.26
B13: ITEM | C13: UND | D13: DESCRIPCION | I13: UBICACIÓN | L13: =+INFORMACION!C11 -> OTANCHE
B14: =+'PRESUPUESTO OFICIAL (Entidad)'!C18 -> 2.1 | C14: =+VLOOKUP(B14,'PRESUPUESTO OFICIAL (Entidad)'!C12:K25,6,FALSE) -> M2 | D14: =+VLOOKUP(B14,'PRESUPUESTO OFICIAL (Entidad)'!C12:K25,5,FALSE) -> PLACA BASE EN CONCRETO E = 10.0 CM. 17.5 MPa (2500 PSI)
H15: Localización | I15: Dimensiones | M15: CANTIDAD | N15: Total
I16: No. Elem. | J16: Largo | K16: Ancho | L16: ALTO
H17: SILLA | J17: 3 | K17: 0.2 | M17: 2 | N17: =+J17*K17*M17 -> 1.2
H18: RESANE JUNTAS VERTICALES | J18: 8 | K18: 0.03 | L18: 0.03 | M18: 9 | N18: =+J18*K18*L18*M18 -> 0.0648
H19: RESANE JUNTAS HORIZONTALES | J19: 2.8 | K19: 0.03 | L19: 0.03 | M19: 32 | N19: =+J19*K19*L19*M19 -> 0.08064
H20: ZANJA NIVELACION 1 | J20: 3.5 | K20: 0.7 | L20: 0.1 | M20: 1 | N20: =+J20*K20*L20*M20 -> 0.245
H21: ZANJA NIVELACION 2 | J21: 13 | K21: 0.7 | L21: 0.1 | M21: 1 | N21: =+J21*K21*L21*M21 -> 0.91
H22: SOBRE PISO 1 | J22: 4.6 | K22: 1.9 | L22: 0.1 | M22: 1 | N22: =+J22*K22*L22*M22 -> 0.874
H23: SOBRE PISO 2 | J23: 4 | K23: 1.2 | L23: 0.1 | M23: 1 | N23: =+J23*K23*L23*M23 -> 0.48
H30: TOTAL PRESENTE ACTA | N30: =ROUND(SUM(N17:N29),2) -> 3.85
I31: EJECUTADO ACTA 1 | N31: 0
I32: EJECUTADO ACTA 2 | N32: 0
I33: EJECUTADO PRESENTE ACTA | N33: =+ROUND(N30-N31-N32,2) -> 3.85
B34: Calculó: | F34: =+INFORMACION!C6 -> Vo.Bo. Secretario de Planeación e Infraestructura | K34: =+INFORMACION!C7 -> Vo.Bo. Supervisión
B35: =+INFORMACION!C5 -> 0
B36: Otanche - Boyacá

Sheet 2.2
B2: MEMORIAS DE CALCULO DE CANTIDADES
D4: MEMORIAS DE CALCULO CANTIDADES | H4: PROYECTO:
H6: OBJETO: | I6: =+INFORMACION!C4 -> “MANTENIMIENTO Y ADECUACIÓN DEL RESTAURANTE ESCOLAR DEL COLEGIO SAN IGNACIO DE LOYOLA SEDE PRINCIPAL DEL MUNICIPIO DE OTANCHE BOYACA 2026 ”.
B8: ENTIDAD: | D8: ALCALDÍA MUNICIPAL DE OTANCHE - BOYACÁ | H8: CONTRATISTA: | M8: INTERVENTOR: | N8: FECHA:
H9: =+INFORMACION!C8 -> N/A | M9: =+INFORMACION!C9 -> N/A | N9: =+INFORMACION!C10 -> 45825
B10: CAPITULO: | D10: =+'PRESUPUESTO OFICIAL (Entidad)'!C17 -> 2. ESTRUCTURA | N10: Hoja Nov. de 1
B11: ITEM DE PAGO: | D11: =+VLOOKUP(B14,'PRESUPUESTO OFICIAL (Entidad)'!C14:K24,2) -> 2.02.36
B13: ITEM | C13: UND | D13: DESCRIPCION | I13: UBICACIÓN | L13: =+INFORMACION!C11 -> OTANCHE
B14: =+'PRESUPUESTO OFICIAL (Entidad)'!C19 -> 2.2 | C14: =+VLOOKUP(B14,'PRESUPUESTO OFICIAL (Entidad)'!C12:K25,6,FALSE) -> KG | D14: =+VLOOKUP(B14,'PRESUPUESTO OFICIAL (Entidad)'!C12:K25,5,FALSE) -> SUMINISTRO, FIGURADA Y AMARRE DE ACERO DE 420 MPa (60000 PSI)
H15: Localización | I15: Dimensiones | M15: CANTIDAD | N15: Total
I16: No. Elem. | J16: Largo | K16: Ancho | L16: KG
H17: ACERO HORIZONTAL SILLAS | I17: 2 | J17: 3 | L17: 0.996 | M17: 2 | N17: =+I17*J17*L17*M17 -> 11.952
H18: ACERO VERTICAL SILLA | I18: 2 | J18: 0.2 | L18: 0.996 | M18: 15 | N18: =+I18*J18*L18*M18 -> 5.976
H33: TOTAL PRESENTE ACTA | N33: =ROUND(SUM(N17:N32),2) -> 17.93
I34: EJECUTADO ACTA 1 | N34: 0
I35: EJECUTADO ACTA 2 | N35: 0
I36: EJECUTADO PRESENTE ACTA | N36: =+ROUND(N33-N34-N35,2) -> 17.93
B37: Calculó: | F37: =+INFORMACION!C6 -> Vo.Bo. Secretario de Planeación e Infraestructura | K37: =+INFORMACION!C7 -> Vo.Bo. Supervisión
B38: =+INFORMACION!C5 -> 0
B39: Otanche - Boyacá

Sheet 2.3
B2: MEMORIAS DE CALCULO DE CANTIDADES
D4: MEMORIAS DE CALCULO CANTIDADES | H4: PROYECTO:
H6: OBJETO: | I6: =+INFORMACION!C4 -> “MANTENIMIENTO Y ADECUACIÓN DEL RESTAURANTE ESCOLAR DEL COLEGIO SAN IGNACIO DE LOYOLA SEDE PRINCIPAL DEL MUNICIPIO DE OTANCHE BOYACA 2026 ”.
B8: ENTIDAD: | D8: ALCALDÍA MUNICIPAL DE OTANCHE - BOYACÁ | H8: CONTRATISTA: | M8: INTERVENTOR: | N8: FECHA:
H9: =+INFORMACION!C8 -> N/A | M9: =+INFORMACION!C9 -> N/A | N9: =+INFORMACION!C10 -> 45825
B10: CAPITULO: | D10: =+'PRESUPUESTO OFICIAL (Entidad)'!C17 -> 2. ESTRUCTURA | N10: Hoja Nov. de 1
B11: ITEM DE PAGO: | D11: =+'PRESUPUESTO OFICIAL (Entidad)'!E20 -> COTIZACIÓN
B13: ITEM | C13: UND | D13: DESCRIPCION | I13: UBICACIÓN | L13: =+INFORMACION!C11 -> OTANCHE
B14: =+'PRESUPUESTO OFICIAL (Entidad)'!C20 -> 2.3 | C14: =+VLOOKUP(B14,'PRESUPUESTO OFICIAL (Entidad)'!C12:K25,6,FALSE) -> M2 | D14: =+VLOOKUP(B14,'PRESUPUESTO OFICIAL (Entidad)'!C12:K25,5,FALSE) -> SUMINISTRO E INSTALACIÓN ENCHAPE 20X20
H15: Localización | I15: Dimensiones | M15: cant | N15: Total
I16: No. Elem. | J16: Largo | K16: Ancho | L16: Alto
H17: ENCHAPE SILLAS | J17: 0.2 | K17: 0.2 | M17: 60 | N17: =+J17*K17*M17 -> 2.4
H18: ENCHAPE MESON 1 | J18: 3 | K18: 0.65 | M18: 1 | N18: =+J18*K18*M18 -> 1.95
H19: ENCHAPE MESON 2 | J19: 2.3 | K19: 0.6 | M19: 1 | N19: =+J19*K19*M19 -> 1.38
H20: DESCUENTO ENCHAPE | J20: -0.94 | K20: 0.46 | M20: 1 | N20: =+J20*K20*M20 -> -0.4324
H21: ENCHAPE LAVAPLATOS | J21: 1.62 | K21: 0.6 | M21: 1 | N21: =+J21*K21*M21 -> 0.972
H22: MESON EXTERNO 1 | J22: 1.8 | K22: 0.6 | M22: 1 | N22: =+J22*K22*M22 -> 1.08
H23: MESON EXTERNO 2 | J23: 3.4 | K23: 0.68 | M23: 1 | N23: =+J23*K23*M23 -> 2.312
H33: TOTAL PRESENTE ACTA | N33: =ROUND(SUM(N17:N32),2) -> 9.66
I34: EJECUTADO ACTA 1 | N34: 0
I35: EJECUTADO ACTA 2 | N35: 0
I36: EJECUTADO PRESENTE ACTA | N36: =+ROUND(N33-N34-N35,2) -> 9.66
B37: Calculó: | F37: =+INFORMACION!C6 -> Vo.Bo. Secretario de Planeación e Infraestructura | K37: =+INFORMACION!C7 -> Vo.Bo. Supervisión
B38: =+INFORMACION!C5 -> 0
B39: Otanche - Boyacá

Sheet 2.4
B2: MEMORIAS DE CALCULO DE CANTIDADES
D4: MEMORIAS DE CALCULO CANTIDADES | H4: PROYECTO:
H6: OBJETO: | I6: =+INFORMACION!C4 -> “MANTENIMIENTO Y ADECUACIÓN DEL RESTAURANTE ESCOLAR DEL COLEGIO SAN IGNACIO DE LOYOLA SEDE PRINCIPAL DEL MUNICIPIO DE OTANCHE BOYACA 2026 ”.
B8: ENTIDAD: | D8: ALCALDÍA MUNICIPAL DE OTANCHE - BOYACÁ | H8: CONTRATISTA: | M8: INTERVENTOR: | N8: FECHA:
H9: =+INFORMACION!C8 -> N/A | M9: =+INFORMACION!C9 -> N/A | N9: =+INFORMACION!C10 -> 45825
B10: CAPITULO: | D10: =+'PRESUPUESTO OFICIAL (Entidad)'!C17 -> 2. ESTRUCTURA | N10: Hoja Nov. de 1
B11: ITEM DE PAGO: | D11: =+VLOOKUP(B14,'PRESUPUESTO OFICIAL (Entidad)'!C14:K24,2) -> 2.06.04
B13: ITEM | C13: UND | D13: DESCRIPCION | I13: UBICACIÓN | L13: =+INFORMACION!C11 -> OTANCHE
B14: =+'PRESUPUESTO OFICIAL (Entidad)'!C21 -> 2.4 | C14: =+VLOOKUP(B14,'PRESUPUESTO OFICIAL (Entidad)'!C12:K25,6,FALSE) -> M2 | D14: =+VLOOKUP(B14,'PRESUPUESTO OFICIAL (Entidad)'!C12:K25,5,FALSE) -> SUMINISTRO E INSTALACIÓN DE ENCHAPE EN PORCELANATO SELLADO
H15: Localización | I15: Dimensiones | M15: OBSERVACION | N15: Total
I16: No. Elem. | J16: Largo | K16: ENCHAPE | L16: CANT
H17: ENCHAPE PISO COCINA ENCHAPE | J17: 5 | K17: 2.6 | N17: =+J17*K17 -> 13
H18: ENCHAPE PISO COCINA ENCHAPE | J18: 1.9 | K18: 1.6 | N18: =+J18*K18 -> 3.04
N19: =+J19*K19 -> 0
N20: =+J20*K20 -> 0
H33: TOTAL PRESENTE ACTA | N33: =ROUND(SUM(N17:N32),2) -> 16.04
I34: EJECUTADO ACTA 1 | N34: 0
I35: EJECUTADO ACTA 2 | N35: 0
I36: EJECUTADO PRESENTE ACTA | N36: =+ROUND(N33-N34-N35,2) -> 16.04
B37: Calculó: | F37: =+INFORMACION!C6 -> Vo.Bo. Secretario de Planeación e Infraestructura | K37: =+INFORMACION!C7 -> Vo.Bo. Supervisión
B38: =+INFORMACION!C5 -> 0
B39: Otanche - Boyacá

Sheet 2.5
B2: MEMORIAS DE CALCULO DE CANTIDADES
D4: MEMORIAS DE CALCULO CANTIDADES | H4: PROYECTO:
H6: OBJETO: | I6: =+INFORMACION!C4 -> “MANTENIMIENTO Y ADECUACIÓN DEL RESTAURANTE ESCOLAR DEL COLEGIO SAN IGNACIO DE LOYOLA SEDE PRINCIPAL DEL MUNICIPIO DE OTANCHE BOYACA 2026 ”.
B8: ENTIDAD: | D8: ALCALDÍA MUNICIPAL DE OTANCHE - BOYACÁ | H8: CONTRATISTA: | M8: INTERVENTOR: | N8: FECHA:
H9: =+INFORMACION!C8 -> N/A | M9: =+INFORMACION!C9 -> N/A | N9: =+INFORMACION!C10 -> 45825
B10: CAPITULO: | D10: =+'PRESUPUESTO OFICIAL (Entidad)'!C17 -> 2. ESTRUCTURA | N10: Hoja Nov. de 1
B11: ITEM DE PAGO: | D11: =+VLOOKUP(B14,'PRESUPUESTO OFICIAL (Entidad)'!C14:K24,2) -> 2.06.15
B13: ITEM | C13: UND | D13: DESCRIPCION | I13: UBICACIÓN | L13: =+INFORMACION!C11 -> OTANCHE
B14: =+'PRESUPUESTO OFICIAL (Entidad)'!C22 -> 2.5 | C14: =+'PRESUPUESTO OFICIAL (Entidad)'!H22 -> ML | D14: =+'PRESUPUESTO OFICIAL (Entidad)'!G22 -> SUMINISTRO E INSTALACIÓN DE REMATE BOCEL DE ALUMINIO "WIN"
H15: Localización | I15: Dimensiones | M15: OBSERVACION | N15: Total
I16: No. Elem. | J16: LONGITUD | K16: KG | L16: CANT
H17: WIN MESONES | J17: 36.12 | N17: =+J17 -> 36.12
N18: =+I18*J18*K18*L18 -> 0
N19: =+I19*J19*K19*L19 -> 0
H33: TOTAL PRESENTE ACTA | N33: =ROUND(SUM(N17:N32),2) -> 36.12
I34: EJECUTADO ACTA 1 | N34: 0
I35: EJECUTADO ACTA 2 | N35: 0
I36: EJECUTADO PRESENTE ACTA | N36: =+ROUND(N33-N34-N35,2) -> 36.12
B37: Calculó: | F37: =+INFORMACION!C6 -> Vo.Bo. Secretario de Planeación e Infraestructura | K37: =+INFORMACION!C7 -> Vo.Bo. Supervisión
B38: =+INFORMACION!C5 -> 0
B39: Otanche - Boyacá

Sheet 2.6
B2: MEMORIAS DE CALCULO DE CANTIDADES
D4: MEMORIAS DE CALCULO CANTIDADES | H4: PROYECTO:
H6: OBJETO: | I6: =+INFORMACION!C4 -> “MANTENIMIENTO Y ADECUACIÓN DEL RESTAURANTE ESCOLAR DEL COLEGIO SAN IGNACIO DE LOYOLA SEDE PRINCIPAL DEL MUNICIPIO DE OTANCHE BOYACA 2026 ”.
B8: ENTIDAD: | D8: ALCALDÍA MUNICIPAL DE OTANCHE - BOYACÁ | H8: CONTRATISTA: | M8: INTERVENTOR: | N8: FECHA:
H9: =+INFORMACION!C8 -> N/A | M9: =+INFORMACION!C9 -> N/A | N9: =+INFORMACION!C10 -> 45825
B10: CAPITULO: | D10: =+'PRESUPUESTO OFICIAL (Entidad)'!C17 -> 2. ESTRUCTURA | N10: Hoja Nov. de 1
B11: ITEM DE PAGO: | D11: =+VLOOKUP(B14,'PRESUPUESTO OFICIAL (Entidad)'!C14:K24,2) -> 1.01.04
B13: ITEM | C13: UND | D13: DESCRIPCION | I13: UBICACIÓN | L13: =+INFORMACION!C11 -> OTANCHE
B14: =+'PRESUPUESTO OFICIAL (Entidad)'!C23 -> 2.6 | C14: =+'PRESUPUESTO OFICIAL (Entidad)'!H23 -> M3 | D14: =+'PRESUPUESTO OFICIAL (Entidad)'!G23 -> CONCRETO SIMPLE DE 21 Mpa. (3000 PSI)
H15: Localización | I15: Dimensiones | M15: cantidad | N15: Total
I16: No. Elem. | J16: Largo | K16: Ancho | L16: Alto
H17: CONCRETO | J17: 3 | K17: 0.06 | L17: 0.06 | M17: 12 | N17: =+J17*K17*L17*M17 -> 0.1296
H33: TOTAL PRESENTE ACTA | N33: =ROUND(SUM(N17:N32),2) -> 0.13
I34: EJECUTADO ACTA 1 | N34: 0
I35: EJECUTADO ACTA 2 | N35: 0
I36: EJECUTADO PRESENTE ACTA | N36: =+ROUND(N33-N34-N35,2) -> 0.13
B37: Calculó: | F37: =+INFORMACION!C6 -> Vo.Bo. Secretario de Planeación e Infraestructura | K37: =+INFORMACION!C7 -> Vo.Bo. Supervisión
B38: =+INFORMACION!C5 -> 0
B39: Otanche - Boyacá

Sheet 2.7
B2: MEMORIAS DE CALCULO DE CANTIDADES
D4: MEMORIAS DE CALCULO CANTIDADES | H4: PROYECTO:
H6: OBJETO: | I6: =+INFORMACION!C4 -> “MANTENIMIENTO Y ADECUACIÓN DEL RESTAURANTE ESCOLAR DEL COLEGIO SAN IGNACIO DE LOYOLA SEDE PRINCIPAL DEL MUNICIPIO DE OTANCHE BOYACA 2026 ”.
B8: ENTIDAD: | D8: ALCALDÍA MUNICIPAL DE OTANCHE - BOYACÁ | H8: CONTRATISTA: | M8: INTERVENTOR: | N8: FECHA:
H9: =+INFORMACION!C8 -> N/A | M9: =+INFORMACION!C9 -> N/A | N9: =+INFORMACION!C10 -> 45825
B10: CAPITULO: | D10: =+'PRESUPUESTO OFICIAL (Entidad)'!C17 -> 2. ESTRUCTURA | N10: Hoja Nov. de 1
B11: ITEM DE PAGO: | D11: =+VLOOKUP(B14,'PRESUPUESTO OFICIAL (Entidad)'!C14:K24,2) -> 2.07.21
B13: ITEM | C13: UND | D13: DESCRIPCION | I13: UBICACIÓN | L13: =+INFORMACION!C11 -> OTANCHE
B14: =+'PRESUPUESTO OFICIAL (Entidad)'!C24 -> 2.7 | C14: =+VLOOKUP(B14,'PRESUPUESTO OFICIAL (Entidad)'!C12:K25,6,FALSE) -> M2 | D14: =+VLOOKUP(B14,'PRESUPUESTO OFICIAL (Entidad)'!C12:K25,5,FALSE) -> SUMINISTRO E INSTALACIÓN DE PINTURA EPÓXICA BAJO PLACA A DOS MANOS
H15: Localización | I15: Dimensiones | M15: cantidad | N15: Total
I16: No. Elem. | J16: Largo | K16: Ancho | L16: m2
H17: piso | L17: 50 | N17: =+L17 -> 50
H33: TOTAL PRESENTE ACTA | N33: =ROUND(SUM(N17:N32),2) -> 50
I34: EJECUTADO ACTA 1 | N34: 0
I35: EJECUTADO ACTA 2 | N35: 0
I36: EJECUTADO PRESENTE ACTA | N36: =+ROUND(N33-N34-N35,2) -> 50
B37: Calculó: | F37: =+INFORMACION!C6 -> Vo.Bo. Secretario de Planeación e Infraestructura | K37: =+INFORMACION!C7 -> Vo.Bo. Supervisión
B38: =+INFORMACION!C5 -> 0
B39: Otanche - Boyacá

Sheet APU
B1: Formulario 1 - Propuesta económica - Documento tipo de mínima cuantía de obra pública de infraestructura social
B2: Versión: 1 de 21 de agosto de 2025
C5: [La entidad podrá utilizar este formato para la presentación de los análisis de Precios Unitarios del Contratista en la oportunidad prevista en el numeral 8.2. de la invitación]
D8: ALCALDIA MUNICIPAL DE OTANCHE
L9: VERSIÓN
D10: [NÚMERO DEL PROCESO]
L11: PÁGINA | M11: 1 | N11: DE | O11: 1
D13: ANALISIS DE PRECIOS UNITARIOS
L15: FECHA | M15: DD | N15: MM | O15: AA
C17: ÍTEMS DE LA PROPUESTA ECONÓMICA | I17: ÍTEMS NO PREVISTOS
H19: =+'PRESUPUESTO OFICIAL (Entidad)'!G20 -> SUMINISTRO E INSTALACIÓN ENCHAPE 20X20
C21: DATOS ESPECÍFICOS
C23: ÍTEM | D23: DESCRIPCIÓN | M23: UNIDAD | O23: CANTIDAD
C25: I. EQUIPO
C28: DESCRIPCIÓN | H28: MARCA | J28: TIPO | L28: TARIFA/HORA | M28: RENDIMIENTO | O28: Vr. UNITARIO
C29: HERRAMIENTA Y EQUIPO MENOR (%M.O.) | L29: 37992.1 | M29: 0.05 | O29: =+L29*M29 -> 1899.605
C30: SUBTOTAL $ | O30: =+O29 -> 1899.605
C31: II. MATERIALES
C34: DESCRIPCIÓN | K34: UNIDAD | L34: CANTIDAD | M34: PRECIO UNIT. | O34: Vr. UNITARIO
C35: PEGANTE PORCELANICO | K35: KG | L35: 3.7 | M35: 2875.76 | O35: =+L35*M35 -> 10640.312
C36: ENCHAPE 20X20 | K36: M2 | L36: 1.05 | M36: 40500 | O36: =+L36*M36 -> 42525
C37: HILASA | K37: KG | L37: 0.5 | M37: 4850 | O37: =+L37*M37 -> 2425
C38: BOQUILLA PARA JUNTAS | K38: KG | L38: 0.12 | M38: 6966.63 | O38: =+L38*M38 -> 835.9956
C39: AGUA | K39: L | L39: 3 | M39: 3.65 | O39: =+L39*M39 -> 10.95
C40: SUBTOTAL $ | O40: =+O35+O36+O37+O38+O39 -> 56437.258
C41: III. TRANSPORTES
C44: MATERIAL | J44: VOL. o PESO | K44: DISTANCIA | L44: M3 o Ton/Km | M44: TARIFA | O44: Vr. UNITARIO
C47: SUBTOTAL $
C48: IV. MANO DE OBRA
C51: TRABAJADOR | J51: JORNAL | K51: PRESTACIONES | L51: JORNAL TOTAL | M51: RENDIMIENTO | O51: Vr. UNITARIO
C52: CUADRILLA DE ALBAÑILERIA (AA) | L52: 29224.69 | M52: 1.3 | O52: =+L52*M52 -> 37992.097
C56: SUBTOTAL $ | O56: =+O52 -> 37992.097
C58: TOTAL COSTO DIRECTO $
C59: V. COSTOS INDIRECTOS
C62: Descripción | L62: Porcentaje | M62: Valor Total
C63: ADMINISTRACION
C64: IMPREVISTOS
C65: UTILIDAD
C66: SUBTOTAL $
C68: Precio Unitario Total Aproximado al peso $ | O68: =+O30+O40+O56 -> 96328.96
...
