Workbook
Name _____PJ50: #REF!
Name _____pj51: #REF!
Name ____PJ50: #REF!
Name ____pj51: #REF!
Name ___PJ50: #REF!
Name ___pj51: #REF!
Name __A17000: #REF!
Name __A20000: #REF!
Name __A30000: #REF!
Name __AFC1: #REF!
Name __AFC3: #REF!
Name __AFC5: #REF!
Name __BGC1: #REF!
Name __BGC3: #REF!
Name __BGC5: #REF!
Name __CAC1: #REF!
Name __CAC3: #REF!
Name __CAC5: #REF!
Name __PJ50: #REF!
Name __pj51: #REF!
Name __rc: #REF!
Name __SBC1: #REF!
Name __SBC3: #REF!
Name __SBC5: #REF!
Name _A17000: #REF!
Name _A20000: #REF!
Name _A30000: #REF!
Name _AFC1: #REF!
Name _AFC3: #REF!
Name _AFC5: #REF!
Name _APU221: #REF!
Name _APU465: #REF!
Name _BGC1: #REF!
Name _BGC3: #REF!
Name _BGC5: #REF!
Name _CAC1: #REF!
Name _CAC3: #REF!
Name _CAC5: #REF!
Name _PJ50: #REF!
Name _pj51: #REF!
Name _rc: #REF!
Name _SBC1: #REF!
Name _SBC3: #REF!
Name _SBC5: #REF!
Name A: #REF!
Name A_impresión_IM: #REF!
Name AAC: #REF!
Name ABG: #REF!
Name absc: #REF!
Name actual: #REF!
Name AD: #REF!
Name adicional: #REF!
Name Adm: #REF!
Name ADMINISTRADOR: #REF!
Name ADMINISTRADOR_VIAL__ARMANDO_SANCHEZ_SANCHEZ: #REF!
Name Administrativo: #REF!
Name admon: #REF!
Name admon1: #REF!
Name adoq: #REF!
Name ah: #REF!

Sheet CRONOGRAMA
B1: CRONOGRAMA ETAPA PRECONTRACTUAL
B2: CONTRATAR EL MANTENIMIENTO PREVENTIVO Y CORRECTIVO DE SISTEMAS DE AIRE ACONDICIONADO DEL CENTRO TECNOLÓGICO DE LA AMAZONIA
B3: ITEM | C3: DESCRIPCIÓN | D3: AÑO 2025
D4: 1 | E4: 2 | F4: 3 | G4: 4 | H4: 5 | I4: 6 | J4: 7 | K4: 8 | L4: 9 | M4: 10 | N4: 11 | O4: 12
B5: 1 | C5: PRECONTRACTUAL
B6: =+B5+1 -> 2 | C6: EJECUCION
B7: =+B6+1 -> 3 | C7: RECIBO FINAL
B8: =+B7+1 -> 4 | C8: LIQUIDACION
C13: Edilberto Osorio Santofimio
C14: Ingeniero Civil de Apoyo
C15: Grupo de Apoyo administrativo Mixto
C16: Regional Caquetá

Sheet MODELO ESTUDIO MERCADO
A1: ESTUDIO DE MERCADO
A2: N° | B2: DESCRIPCION | C2: BTU DEL AIRE | D2: DESCRIPCIÓN | E2: UNIDAD DE MEDIDA | F2: COTIZACIÓN 1 | G2: DESVIACIÓN COT.1 | H2: COTIZACIÓN 2 | I2: DESVIACIÓN COT.2 | J2: COTIZACIÓN 3 | K2: DESVIACIÓN COT3. | L2: COTIZACIÓN 4 | M2: DESVIACIÓN COT4. | N2: COTIZACIÓN 5 | O2: DESVIACIÓN COT.5 | P2: COTIZACIÓN 6 | Q2: DESVIACIÓN COT.6 | R2: COTIZACIÓN 7 | S2: DESVIACIÓN COT.7 | T2: COTIZACIÓN 8 | U2: DESVIACIÓN COT.8 | V2: COTIZACIÓN 3 INGENIERIA DE LAS COMUNICACIONES ICI HUILA S.A.S | W2: DESVIACIÓN COT 3 | X2: PROMEDIO (PRECIO DE REFERENCIA) | Y2: CANTIDAD DE COTIZACIONES
A3: 1 | B3: MANTENIMIENTO CORRECTIVO Y PREVENTIVO: Prestar el servicio de mantenimiento correctivo y preventivo a los equipos de aire acondicionado del SENA Regional Caqueta Centro Tecnologico de la amazonia en Florencia y San vicente del Caguan, cuya capacidad frigorífica va de 60.000 a 9.000 mil BTU., contenidas en equipos, así: Tipo Mini Split, Tipo Piso Techo, Aires Centrales. El mantenimiento correctivo incluye el suministro e instalación de todos los elementos, materiales, repuestos y accesorios: Nuevos, originales, de alta calidad, durabilidad, tipo industrial y para trabajo pesado; conservando las mismas marcas de los repuestos instalados en los equipos de aire acondicionado originales, que forman parte integral del equipo y que garanticen el correcto funcionamiento y capacidad del equipo al 100%. Este servicio se genera como resultado de los mantenimientos preventivos y de las fallas que presente o registre el equipo durante su operación hasta garantizar su normal y correcto funcionamiento. | C3: 60.000 BTU | D3: Unidad compresor de 5 HP trifásica/220v para aire piso techo de 60.000 BTU + carga de gas refrigerante + filtro secador + soldadura + deshidratación del sistema + vacío + balanceo del equipo.A26:A73 | E3: UN | F3: 7681500 | G3: =IF('MODELO ESTUDIO MERCADO'!$F3>0,ABS(1-'MODELO ESTUDIO MERCADO'!$F3/'MODELO ESTUDIO MERCADO'!$X3),"") -> 0.065912718 | H3: 7458000 | I3: =IF('MODELO ESTUDIO MERCADO'!$H3>0,ABS(1-'MODELO ESTUDIO MERCADO'!$H3/'MODELO ESTUDIO MERCADO'!$X3),"") -> 0.034899049 | J3: 6480000 | K3: =IF('MODELO ESTUDIO MERCADO'!$J3>0,ABS(1-'MODELO ESTUDIO MERCADO'!$J3/'MODELO ESTUDIO MERCADO'!$X3),"") -> 0.10081177 | M3: =IF('MODELO ESTUDIO MERCADO'!$L3>0,ABS(1-'MODELO ESTUDIO MERCADO'!$L3/'MODELO ESTUDIO MERCADO'!$X3),"") | O3: =IF('MODELO ESTUDIO MERCADO'!$N3>0,ABS(1-'MODELO ESTUDIO MERCADO'!$N3/'MODELO ESTUDIO MERCADO'!$X3),"") | Q3: =IF('MODELO ESTUDIO MERCADO'!$P3>0,ABS(1-'MODELO ESTUDIO MERCADO'!$P3/'MODELO ESTUDIO MERCADO'!$X3),"") | S3: =IF('MODELO ESTUDIO MERCADO'!$R3>0,ABS(1-'MODELO ESTUDIO MERCADO'!$R3/'MODELO ESTUDIO MERCADO'!$X3),"") | U3: =IF('MODELO ESTUDIO MERCADO'!$T3>0,ABS(1-'MODELO ESTUDIO MERCADO'!$T3/'MODELO ESTUDIO MERCADO'!$X3),"") | V3: 0 | W3: =IF('MODELO ESTUDIO MERCADO'!$V3>0,ABS(1-'MODELO ESTUDIO MERCADO'!$V3/'MODELO ESTUDIO MERCADO'!$X3),"") | X3: =IF(SUM('MODELO ESTUDIO MERCADO'!$F3,'MODELO ESTUDIO MERCADO'!$H3,'MODELO ESTUDIO MERCADO'!$J3,'MODELO ESTUDIO MERCADO'!$L3,'MODELO ESTUDIO MERCADO'!$N3,'MODELO ESTUDIO MERCADO'!$P3,'MODELO ESTUDIO MERCADO'!$R3,'MODELO ESTUDIO MERCADO'!$T3)>0,TRUNC(AVERAGE('MODELO ESTUDIO MERCADO'!$F3,'MODELO ESTUDIO MERCADO'!$H3,'MODELO ESTUDIO MERCADO'!$J3,'MODELO ESTUDIO MERCADO'!$L3,'MODELO ESTUDIO MERCADO'!$N3,'MODELO ESTUDIO MERCADO'!$P3,'MODELO ESTUDIO MERCADO'!$R3,'MODELO ESTUDIO MERCADO'!$T3)),"SIN DATOS") -> 7206500 | Y3: =COUNT('MODELO ESTUDIO MERCADO'!$F3:$U3)/2 -> 3
A4: 2 | D4: Tarjeta electrónica para aire acondicionado piso techo de 60.000 BTU. | E4: UN | F4: 2304450 | G4: =IF('MODELO ESTUDIO MERCADO'!$F4>0,ABS(1-'MODELO ESTUDIO MERCADO'!$F4/'MODELO ESTUDIO MERCADO'!$X4),"") -> 0.10641074 | H4: 2000000 | I4: =IF('MODELO ESTUDIO MERCADO'!$H4>0,ABS(1-'MODELO ESTUDIO MERCADO'!$H4/'MODELO ESTUDIO MERCADO'!$X4),"") -> 0.039761554 | J4: 1944000 | K4: =IF('MODELO ESTUDIO MERCADO'!$J4>0,ABS(1-'MODELO ESTUDIO MERCADO'!$J4/'MODELO ESTUDIO MERCADO'!$X4),"") -> 0.06664823 | M4: =IF('MODELO ESTUDIO MERCADO'!$L4>0,ABS(1-'MODELO ESTUDIO MERCADO'!$L4/'MODELO ESTUDIO MERCADO'!$X4),"") | O4: =IF('MODELO ESTUDIO MERCADO'!$N4>0,ABS(1-'MODELO ESTUDIO MERCADO'!$N4/'MODELO ESTUDIO MERCADO'!$X4),"") | Q4: =IF('MODELO ESTUDIO MERCADO'!$P4>0,ABS(1-'MODELO ESTUDIO MERCADO'!$P4/'MODELO ESTUDIO MERCADO'!$X4),"") | S4: =IF('MODELO ESTUDIO MERCADO'!$R4>0,ABS(1-'MODELO ESTUDIO MERCADO'!$R4/'MODELO ESTUDIO MERCADO'!$X4),"") | U4: =IF('MODELO ESTUDIO MERCADO'!$T4>0,ABS(1-'MODELO ESTUDIO MERCADO'!$T4/'MODELO ESTUDIO MERCADO'!$X4),"") | V4: 0 | W4: =IF('MODELO ESTUDIO MERCADO'!$V4>0,ABS(1-'MODELO ESTUDIO MERCADO'!$V4/'MODELO ESTUDIO MERCADO'!$X4),"") | X4: =IF(SUM('MODELO ESTUDIO MERCADO'!$F4,'MODELO ESTUDIO MERCADO'!$H4,'MODELO ESTUDIO MERCADO'!$J4,'MODELO ESTUDIO MERCADO'!$L4,'MODELO ESTUDIO MERCADO'!$N4,'MODELO ESTUDIO MERCADO'!$P4,'MODELO ESTUDIO MERCADO'!$R4,'MODELO ESTUDIO MERCADO'!$T4)>0,TRUNC(AVERAGE('MODELO ESTUDIO MERCADO'!$F4,'MODELO ESTUDIO MERCADO'!$H4,'MODELO ESTUDIO MERCADO'!$J4,'MODELO ESTUDIO MERCADO'!$L4,'MODELO ESTUDIO MERCADO'!$N4,'MODELO ESTUDIO MERCADO'!$P4,'MODELO ESTUDIO MERCADO'!$R4,'MODELO ESTUDIO MERCADO'!$T4)),"SIN DATOS") -> 2082816 | Y4: =COUNT('MODELO ESTUDIO MERCADO'!$F4:$U4)/2 -> 3
A5: 3 | D5: Contactores industriales para aire acondicionado piso techo de 60.000 BTU. | E5: UN | F5: 768150 | G5: =IF('MODELO ESTUDIO MERCADO'!$F5>0,ABS(1-'MODELO ESTUDIO MERCADO'!$F5/'MODELO ESTUDIO MERCADO'!$X5),"") -> 0.039844812 | H5: 800000 | I5: =IF('MODELO ESTUDIO MERCADO'!$H5>0,ABS(1-'MODELO ESTUDIO MERCADO'!$H5/'MODELO ESTUDIO MERCADO'!$X5),"") -> 0.082960163 | J5: 648000 | K5: =IF('MODELO ESTUDIO MERCADO'!$J5>0,ABS(1-'MODELO ESTUDIO MERCADO'!$J5/'MODELO ESTUDIO MERCADO'!$X5),"") -> 0.12280227 | M5: =IF('MODELO ESTUDIO MERCADO'!$L5>0,ABS(1-'MODELO ESTUDIO MERCADO'!$L5/'MODELO ESTUDIO MERCADO'!$X5),"") | O5: =IF('MODELO ESTUDIO MERCADO'!$N5>0,ABS(1-'MODELO ESTUDIO MERCADO'!$N5/'MODELO ESTUDIO MERCADO'!$X5),"") | Q5: =IF('MODELO ESTUDIO MERCADO'!$P5>0,ABS(1-'MODELO ESTUDIO MERCADO'!$P5/'MODELO ESTUDIO MERCADO'!$X5),"") | S5: =IF('MODELO ESTUDIO MERCADO'!$R5>0,ABS(1-'MODELO ESTUDIO MERCADO'!$R5/'MODELO ESTUDIO MERCADO'!$X5),"") | U5: =IF('MODELO ESTUDIO MERCADO'!$T5>0,ABS(1-'MODELO ESTUDIO MERCADO'!$T5/'MODELO ESTUDIO MERCADO'!$X5),"") | V5: 0 | W5: =IF('MODELO ESTUDIO MERCADO'!$V5>0,ABS(1-'MODELO ESTUDIO MERCADO'!$V5/'MODELO ESTUDIO MERCADO'!$X5),"") | X5: =IF(SUM('MODELO ESTUDIO MERCADO'!$F5,'MODELO ESTUDIO MERCADO'!$H5,'MODELO ESTUDIO MERCADO'!$J5,'MODELO ESTUDIO MERCADO'!$L5,'MODELO ESTUDIO MERCADO'!$N5,'MODELO ESTUDIO MERCADO'!$P5,'MODELO ESTUDIO MERCADO'!$R5,'MODELO ESTUDIO MERCADO'!$T5)>0,TRUNC(AVERAGE('MODELO ESTUDIO MERCADO'!$F5,'MODELO ESTUDIO MERCADO'!$H5,'MODELO ESTUDIO MERCADO'!$J5,'MODELO ESTUDIO MERCADO'!$L5,'MODELO ESTUDIO MERCADO'!$N5,'MODELO ESTUDIO MERCADO'!$P5,'MODELO ESTUDIO MERCADO'!$R5,'MODELO ESTUDIO MERCADO'!$T5)),"SIN DATOS") -> 738716 | Y5: =COUNT('MODELO ESTUDIO MERCADO'!$F5:$U5)/2 -> 3
A6: 4 | D6: Relé para aire acondicionado piso techo de 60.000 BTU. | E6: UN | F6: 512099.55 | G6: =IF('MODELO ESTUDIO MERCADO'!$F6>0,ABS(1-'MODELO ESTUDIO MERCADO'!$F6/'MODELO ESTUDIO MERCADO'!$X6),"") -> 0.063846533 | H6: 500000 | I6: =IF('MODELO ESTUDIO MERCADO'!$H6>0,ABS(1-'MODELO ESTUDIO MERCADO'!$H6/'MODELO ESTUDIO MERCADO'!$X6),"") -> 0.038710669 | J6: 432000 | K6: =IF('MODELO ESTUDIO MERCADO'!$J6>0,ABS(1-'MODELO ESTUDIO MERCADO'!$J6/'MODELO ESTUDIO MERCADO'!$X6),"") -> 0.10255398 | M6: =IF('MODELO ESTUDIO MERCADO'!$L6>0,ABS(1-'MODELO ESTUDIO MERCADO'!$L6/'MODELO ESTUDIO MERCADO'!$X6),"") | O6: =IF('MODELO ESTUDIO MERCADO'!$N6>0,ABS(1-'MODELO ESTUDIO MERCADO'!$N6/'MODELO ESTUDIO MERCADO'!$X6),"") | Q6: =IF('MODELO ESTUDIO MERCADO'!$P6>0,ABS(1-'MODELO ESTUDIO MERCADO'!$P6/'MODELO ESTUDIO MERCADO'!$X6),"") | S6: =IF('MODELO ESTUDIO MERCADO'!$R6>0,ABS(1-'MODELO ESTUDIO MERCADO'!$R6/'MODELO ESTUDIO MERCADO'!$X6),"") | U6: =IF('MODELO ESTUDIO MERCADO'!$T6>0,ABS(1-'MODELO ESTUDIO MERCADO'!$T6/'MODELO ESTUDIO MERCADO'!$X6),"") | V6: 0 | W6: =IF('MODELO ESTUDIO MERCADO'!$V6>0,ABS(1-'MODELO ESTUDIO MERCADO'!$V6/'MODELO ESTUDIO MERCADO'!$X6),"") | X6: =IF(SUM('MODELO ESTUDIO MERCADO'!$F6,'MODELO ESTUDIO MERCADO'!$H6,'MODELO ESTUDIO MERCADO'!$J6,'MODELO ESTUDIO MERCADO'!$L6,'MODELO ESTUDIO MERCADO'!$N6,'MODELO ESTUDIO MERCADO'!$P6,'MODELO ESTUDIO MERCADO'!$R6,'MODELO ESTUDIO MERCADO'!$T6)>0,TRUNC(AVERAGE('MODELO ESTUDIO MERCADO'!$F6,'MODELO ESTUDIO MERCADO'!$H6,'MODELO ESTUDIO MERCADO'!$J6,'MODELO ESTUDIO MERCADO'!$L6,'MODELO ESTUDIO MERCADO'!$N6,'MODELO ESTUDIO MERCADO'!$P6,'MODELO ESTUDIO MERCADO'!$R6,'MODELO ESTUDIO MERCADO'!$T6)),"SIN DATOS") -> 481366 | Y6: =COUNT('MODELO ESTUDIO MERCADO'!$F6:$U6)/2 -> 3
A7: 5 | D7: Motor ventilador para condensadora de aire piso techo de 60.000 BTU. | E7: UN | F7: 2304450 | G7: =IF('MODELO ESTUDIO MERCADO'!$F7>0,ABS(1-'MODELO ESTUDIO MERCADO'!$F7/'MODELO ESTUDIO MERCADO'!$X7),"") -> 0.038282339 | H7: 2410000 | I7: =IF('MODELO ESTUDIO MERCADO'!$H7>0,ABS(1-'MODELO ESTUDIO MERCADO'!$H7/'MODELO ESTUDIO MERCADO'!$X7),"") -> 0.085838459 | J7: 1944000 | K7: =IF('MODELO ESTUDIO MERCADO'!$J7>0,ABS(1-'MODELO ESTUDIO MERCADO'!$J7/'MODELO ESTUDIO MERCADO'!$X7),"") -> 0.12412035 | M7: =IF('MODELO ESTUDIO MERCADO'!$L7>0,ABS(1-'MODELO ESTUDIO MERCADO'!$L7/'MODELO ESTUDIO MERCADO'!$X7),"") | O7: =IF('MODELO ESTUDIO MERCADO'!$N7>0,ABS(1-'MODELO ESTUDIO MERCADO'!$N7/'MODELO ESTUDIO MERCADO'!$X7),"") | Q7: =IF('MODELO ESTUDIO MERCADO'!$P7>0,ABS(1-'MODELO ESTUDIO MERCADO'!$P7/'MODELO ESTUDIO MERCADO'!$X7),"") | S7: =IF('MODELO ESTUDIO MERCADO'!$R7>0,ABS(1-'MODELO ESTUDIO MERCADO'!$R7/'MODELO ESTUDIO MERCADO'!$X7),"") | U7: =IF('MODELO ESTUDIO MERCADO'!$T7>0,ABS(1-'MODELO ESTUDIO MERCADO'!$T7/'MODELO ESTUDIO MERCADO'!$X7),"") | V7: 0 | W7: =IF('MODELO ESTUDIO MERCADO'!$V7>0,ABS(1-'MODELO ESTUDIO MERCADO'!$V7/'MODELO ESTUDIO MERCADO'!$X7),"") | X7: =IF(SUM('MODELO ESTUDIO MERCADO'!$F7,'MODELO ESTUDIO MERCADO'!$H7,'MODELO ESTUDIO MERCADO'!$J7,'MODELO ESTUDIO MERCADO'!$L7,'MODELO ESTUDIO MERCADO'!$N7,'MODELO ESTUDIO MERCADO'!$P7,'MODELO ESTUDIO MERCADO'!$R7,'MODELO ESTUDIO MERCADO'!$T7)>0,TRUNC(AVERAGE('MODELO ESTUDIO MERCADO'!$F7,'MODELO ESTUDIO MERCADO'!$H7,'MODELO ESTUDIO MERCADO'!$J7,'MODELO ESTUDIO MERCADO'!$L7,'MODELO ESTUDIO MERCADO'!$N7,'MODELO ESTUDIO MERCADO'!$P7,'MODELO ESTUDIO MERCADO'!$R7,'MODELO ESTUDIO MERCADO'!$T7)),"SIN DATOS") -> 2219483 | Y7: =COUNT('MODELO ESTUDIO MERCADO'!$F7:$U7)/2 -> 3
A8: 6 | D8: Blower para aire acondicionado tipo piso techo de 60.000 BTU. | E8: UN | F8: 1088212.1 | G8: =IF('MODELO ESTUDIO MERCADO'!$F8>0,ABS(1-'MODELO ESTUDIO MERCADO'!$F8/'MODELO ESTUDIO MERCADO'!$X8),"") -> 0.047630006 | H8: 1110000 | I8: =IF('MODELO ESTUDIO MERCADO'!$H8>0,ABS(1-'MODELO ESTUDIO MERCADO'!$H8/'MODELO ESTUDIO MERCADO'!$X8),"") -> 0.068605431 | J8: 918000 | K8: =IF('MODELO ESTUDIO MERCADO'!$J8>0,ABS(1-'MODELO ESTUDIO MERCADO'!$J8/'MODELO ESTUDIO MERCADO'!$X8),"") -> 0.11623443 | M8: =IF('MODELO ESTUDIO MERCADO'!$L8>0,ABS(1-'MODELO ESTUDIO MERCADO'!$L8/'MODELO ESTUDIO MERCADO'!$X8),"") | O8: =IF('MODELO ESTUDIO MERCADO'!$N8>0,ABS(1-'MODELO ESTUDIO MERCADO'!$N8/'MODELO ESTUDIO MERCADO'!$X8),"") | Q8: =IF('MODELO ESTUDIO MERCADO'!$P8>0,ABS(1-'MODELO ESTUDIO MERCADO'!$P8/'MODELO ESTUDIO MERCADO'!$X8),"") | S8: =IF('MODELO ESTUDIO MERCADO'!$R8>0,ABS(1-'MODELO ESTUDIO MERCADO'!$R8/'MODELO ESTUDIO MERCADO'!$X8),"") | U8: =IF('MODELO ESTUDIO MERCADO'!$T8>0,ABS(1-'MODELO ESTUDIO MERCADO'!$T8/'MODELO ESTUDIO MERCADO'!$X8),"") | V8: 0 | W8: =IF('MODELO ESTUDIO MERCADO'!$V8>0,ABS(1-'MODELO ESTUDIO MERCADO'!$V8/'MODELO ESTUDIO MERCADO'!$X8),"") | X8: =IF(SUM('MODELO ESTUDIO MERCADO'!$F8,'MODELO ESTUDIO MERCADO'!$H8,'MODELO ESTUDIO MERCADO'!$J8,'MODELO ESTUDIO MERCADO'!$L8,'MODELO ESTUDIO MERCADO'!$N8,'MODELO ESTUDIO MERCADO'!$P8,'MODELO ESTUDIO MERCADO'!$R8,'MODELO ESTUDIO MERCADO'!$T8)>0,TRUNC(AVERAGE('MODELO ESTUDIO MERCADO'!$F8,'MODELO ESTUDIO MERCADO'!$H8,'MODELO ESTUDIO MERCADO'!$J8,'MODELO ESTUDIO MERCADO'!$L8,'MODELO ESTUDIO MERCADO'!$N8,'MODELO ESTUDIO MERCADO'!$P8,'MODELO ESTUDIO MERCADO'!$R8,'MODELO ESTUDIO MERCADO'!$T8)),"SIN DATOS") -> 1038737 | Y8: =COUNT('MODELO ESTUDIO MERCADO'!$F8:$U8)/2 -> 3
A9: 7 | D9: Aspas para motor ventilador de las condensadoras, para aire acondicionado piso techo de 60.000 BTU. | E9: UN | F9: 832161.6 | G9: =IF('MODELO ESTUDIO MERCADO'!$F9>0,ABS(1-'MODELO ESTUDIO MERCADO'!$F9/'MODELO ESTUDIO MERCADO'!$X9),"") -> 0.044484386 | H9: 856000 | I9: =IF('MODELO ESTUDIO MERCADO'!$H9>0,ABS(1-'MODELO ESTUDIO MERCADO'!$H9/'MODELO ESTUDIO MERCADO'!$X9),"") -> 0.074405061 | J9: 702000 | K9: =IF('MODELO ESTUDIO MERCADO'!$J9>0,ABS(1-'MODELO ESTUDIO MERCADO'!$J9/'MODELO ESTUDIO MERCADO'!$X9),"") -> 0.11888744 | M9: =IF('MODELO ESTUDIO MERCADO'!$L9>0,ABS(1-'MODELO ESTUDIO MERCADO'!$L9/'MODELO ESTUDIO MERCADO'!$X9),"") | O9: =IF('MODELO ESTUDIO MERCADO'!$N9>0,ABS(1-'MODELO ESTUDIO MERCADO'!$N9/'MODELO ESTUDIO MERCADO'!$X9),"") | Q9: =IF('MODELO ESTUDIO MERCADO'!$P9>0,ABS(1-'MODELO ESTUDIO MERCADO'!$P9/'MODELO ESTUDIO MERCADO'!$X9),"") | S9: =IF('MODELO ESTUDIO MERCADO'!$R9>0,ABS(1-'MODELO ESTUDIO MERCADO'!$R9/'MODELO ESTUDIO MERCADO'!$X9),"") | U9: =IF('MODELO ESTUDIO MERCADO'!$T9>0,ABS(1-'MODELO ESTUDIO MERCADO'!$T9/'MODELO ESTUDIO MERCADO'!$X9),"") | V9: 0 | W9: =IF('MODELO ESTUDIO MERCADO'!$V9>0,ABS(1-'MODELO ESTUDIO MERCADO'!$V9/'MODELO ESTUDIO MERCADO'!$X9),"") | X9: =IF(SUM('MODELO ESTUDIO MERCADO'!$F9,'MODELO ESTUDIO MERCADO'!$H9,'MODELO ESTUDIO MERCADO'!$J9,'MODELO ESTUDIO MERCADO'!$L9,'MODELO ESTUDIO MERCADO'!$N9,'MODELO ESTUDIO MERCADO'!$P9,'MODELO ESTUDIO MERCADO'!$R9,'MODELO ESTUDIO MERCADO'!$T9)>0,TRUNC(AVERAGE('MODELO ESTUDIO MERCADO'!$F9,'MODELO ESTUDIO MERCADO'!$H9,'MODELO ESTUDIO MERCADO'!$J9,'MODELO ESTUDIO MERCADO'!$L9,'MODELO ESTUDIO MERCADO'!$N9,'MODELO ESTUDIO MERCADO'!$P9,'MODELO ESTUDIO MERCADO'!$R9,'MODELO ESTUDIO MERCADO'!$T9)),"SIN DATOS") -> 796720 | Y9: =COUNT('MODELO ESTUDIO MERCADO'!$F9:$U9)/2 -> 3
A10: 8 | D10: Kit de capacitores (de marcha, arranque para unidad condensadora y unidad manejadora) para equipos de aire acondicionado piso techo de 60.000 BTU. | E10: UN | F10: 960187.5 | G10: =IF('MODELO ESTUDIO MERCADO'!$F10>0,ABS(1-'MODELO ESTUDIO MERCADO'!$F10/'MODELO ESTUDIO MERCADO'!$X10),"") -> 0.066801509 | H10: 930000 | I10: =IF('MODELO ESTUDIO MERCADO'!$H10>0,ABS(1-'MODELO ESTUDIO MERCADO'!$H10/'MODELO ESTUDIO MERCADO'!$X10),"") -> 0.033262153 | J10: 810000 | K10: =IF('MODELO ESTUDIO MERCADO'!$J10>0,ABS(1-'MODELO ESTUDIO MERCADO'!$J10/'MODELO ESTUDIO MERCADO'!$X10),"") -> 0.100062 | M10: =IF('MODELO ESTUDIO MERCADO'!$L10>0,ABS(1-'MODELO ESTUDIO MERCADO'!$L10/'MODELO ESTUDIO MERCADO'!$X10),"") | O10: =IF('MODELO ESTUDIO MERCADO'!$N10>0,ABS(1-'MODELO ESTUDIO MERCADO'!$N10/'MODELO ESTUDIO MERCADO'!$X10),"") | Q10: =IF('MODELO ESTUDIO MERCADO'!$P10>0,ABS(1-'MODELO ESTUDIO MERCADO'!$P10/'MODELO ESTUDIO MERCADO'!$X10),"") | S10: =IF('MODELO ESTUDIO MERCADO'!$R10>0,ABS(1-'MODELO ESTUDIO MERCADO'!$R10/'MODELO ESTUDIO MERCADO'!$X10),"") | U10: =IF('MODELO ESTUDIO MERCADO'!$T10>0,ABS(1-'MODELO ESTUDIO MERCADO'!$T10/'MODELO ESTUDIO MERCADO'!$X10),"") | V10: 0 | W10: =IF('MODELO ESTUDIO MERCADO'!$V10>0,ABS(1-'MODELO ESTUDIO MERCADO'!$V10/'MODELO ESTUDIO MERCADO'!$X10),"") | X10: =IF(SUM('MODELO ESTUDIO MERCADO'!$F10,'MODELO ESTUDIO MERCADO'!$H10,'MODELO ESTUDIO MERCADO'!$J10,'MODELO ESTUDIO MERCADO'!$L10,'MODELO ESTUDIO MERCADO'!$N10,'MODELO ESTUDIO MERCADO'!$P10,'MODELO ESTUDIO MERCADO'!$R10,'MODELO ESTUDIO MERCADO'!$T10)>0,TRUNC(AVERAGE('MODELO ESTUDIO MERCADO'!$F10,'MODELO ESTUDIO MERCADO'!$H10,'MODELO ESTUDIO MERCADO'!$J10,'MODELO ESTUDIO MERCADO'!$L10,'MODELO ESTUDIO MERCADO'!$N10,'MODELO ESTUDIO MERCADO'!$P10,'MODELO ESTUDIO MERCADO'!$R10,'MODELO ESTUDIO MERCADO'!$T10)),"SIN DATOS") -> 900062 | Y10: =COUNT('MODELO ESTUDIO MERCADO'!$F10:$U10)/2 -> 3
A11: 9 | D11: Termostatos o sensores de temperatura para aire acondicionado piso techo de 60.000 BTU. | E11: UN | F11: 704137.05 | G11: =IF('MODELO ESTUDIO MERCADO'!$F11>0,ABS(1-'MODELO ESTUDIO MERCADO'!$F11/'MODELO ESTUDIO MERCADO'!$X11),"") -> 0.098420626 | H11: 625000 | I11: =IF('MODELO ESTUDIO MERCADO'!$H11>0,ABS(1-'MODELO ESTUDIO MERCADO'!$H11/'MODELO ESTUDIO MERCADO'!$X11),"") -> 0.025029444 | J11: 594000 | K11: =IF('MODELO ESTUDIO MERCADO'!$J11>0,ABS(1-'MODELO ESTUDIO MERCADO'!$J11/'MODELO ESTUDIO MERCADO'!$X11),"") -> 0.073387984 | M11: =IF('MODELO ESTUDIO MERCADO'!$L11>0,ABS(1-'MODELO ESTUDIO MERCADO'!$L11/'MODELO ESTUDIO MERCADO'!$X11),"") | O11: =IF('MODELO ESTUDIO MERCADO'!$N11>0,ABS(1-'MODELO ESTUDIO MERCADO'!$N11/'MODELO ESTUDIO MERCADO'!$X11),"") | Q11: =IF('MODELO ESTUDIO MERCADO'!$P11>0,ABS(1-'MODELO ESTUDIO MERCADO'!$P11/'MODELO ESTUDIO MERCADO'!$X11),"") | S11: =IF('MODELO ESTUDIO MERCADO'!$R11>0,ABS(1-'MODELO ESTUDIO MERCADO'!$R11/'MODELO ESTUDIO MERCADO'!$X11),"") | U11: =IF('MODELO ESTUDIO MERCADO'!$T11>0,ABS(1-'MODELO ESTUDIO MERCADO'!$T11/'MODELO ESTUDIO MERCADO'!$X11),"") | V11: 0 | W11: =IF('MODELO ESTUDIO MERCADO'!$V11>0,ABS(1-'MODELO ESTUDIO MERCADO'!$V11/'MODELO ESTUDIO MERCADO'!$X11),"") | X11: =IF(SUM('MODELO ESTUDIO MERCADO'!$F11,'MODELO ESTUDIO MERCADO'!$H11,'MODELO ESTUDIO MERCADO'!$J11,'MODELO ESTUDIO MERCADO'!$L11,'MODELO ESTUDIO MERCADO'!$N11,'MODELO ESTUDIO MERCADO'!$P11,'MODELO ESTUDIO MERCADO'!$R11,'MODELO ESTUDIO MERCADO'!$T11)>0,TRUNC(AVERAGE('MODELO ESTUDIO MERCADO'!$F11,'MODELO ESTUDIO MERCADO'!$H11,'MODELO ESTUDIO MERCADO'!$J11,'MODELO ESTUDIO MERCADO'!$L11,'MODELO ESTUDIO MERCADO'!$N11,'MODELO ESTUDIO MERCADO'!$P11,'MODELO ESTUDIO MERCADO'!$R11,'MODELO ESTUDIO MERCADO'!$T11)),"SIN DATOS") -> 641045 | Y11: =COUNT('MODELO ESTUDIO MERCADO'!$F11:$U11)/2 -> 3
A12: 10 | D12: Cambio de manguera para drenaje de agua para aire acondicionado piso techo de 60.000 BTU hasta 3,0 metros de largo. | E12: UN | F12: 448086.6 | G12: =IF('MODELO ESTUDIO MERCADO'!$F12>0,ABS(1-'MODELO ESTUDIO MERCADO'!$F12/'MODELO ESTUDIO MERCADO'!$X12),"") -> 0.085757278 | H12: 412000 | I12: =IF('MODELO ESTUDIO MERCADO'!$H12>0,ABS(1-'MODELO ESTUDIO MERCADO'!$H12/'MODELO ESTUDIO MERCADO'!$X12),"") -> 0.0016840524 | J12: 378000 | K12: =IF('MODELO ESTUDIO MERCADO'!$J12>0,ABS(1-'MODELO ESTUDIO MERCADO'!$J12/'MODELO ESTUDIO MERCADO'!$X12),"") -> 0.084069349 | M12: =IF('MODELO ESTUDIO MERCADO'!$L12>0,ABS(1-'MODELO ESTUDIO MERCADO'!$L12/'MODELO ESTUDIO MERCADO'!$X12),"") | O12: =IF('MODELO ESTUDIO MERCADO'!$N12>0,ABS(1-'MODELO ESTUDIO MERCADO'!$N12/'MODELO ESTUDIO MERCADO'!$X12),"") | Q12: =IF('MODELO ESTUDIO MERCADO'!$P12>0,ABS(1-'MODELO ESTUDIO MERCADO'!$P12/'MODELO ESTUDIO MERCADO'!$X12),"") | S12: =IF('MODELO ESTUDIO MERCADO'!$R12>0,ABS(1-'MODELO ESTUDIO MERCADO'!$R12/'MODELO ESTUDIO MERCADO'!$X12),"") | U12: =IF('MODELO ESTUDIO MERCADO'!$T12>0,ABS(1-'MODELO ESTUDIO MERCADO'!$T12/'MODELO ESTUDIO MERCADO'!$X12),"") | V12: 0 | W12: =IF('MODELO ESTUDIO MERCADO'!$V12>0,ABS(1-'MODELO ESTUDIO MERCADO'!$V12/'MODELO ESTUDIO MERCADO'!$X12),"") | X12: =IF(SUM('MODELO ESTUDIO MERCADO'!$F12,'MODELO ESTUDIO MERCADO'!$H12,'MODELO ESTUDIO MERCADO'!$J12,'MODELO ESTUDIO MERCADO'!$L12,'MODELO ESTUDIO MERCADO'!$N12,'MODELO ESTUDIO MERCADO'!$P12,'MODELO ESTUDIO MERCADO'!$R12,'MODELO ESTUDIO MERCADO'!$T12)>0,TRUNC(AVERAGE('MODELO ESTUDIO MERCADO'!$F12,'MODELO ESTUDIO MERCADO'!$H12,'MODELO ESTUDIO MERCADO'!$J12,'MODELO ESTUDIO MERCADO'!$L12,'MODELO ESTUDIO MERCADO'!$N12,'MODELO ESTUDIO MERCADO'!$P12,'MODELO ESTUDIO MERCADO'!$R12,'MODELO ESTUDIO MERCADO'!$T12)),"SIN DATOS") -> 412695 | Y12: =COUNT('MODELO ESTUDIO MERCADO'!$F12:$U12)/2 -> 3
A13: 11 | D13: Cambio de aislante para tubería de baja presión de cobre Rubatex hasta 5 ml para aire acondicionado piso techo de 60.000 BTU. | E13: UN | F13: 768150 | G13: =IF('MODELO ESTUDIO MERCADO'!$F13>0,ABS(1-'MODELO ESTUDIO MERCADO'!$F13/'MODELO ESTUDIO MERCADO'!$X13),"") -> 0.088982865 | H13: 700000 | I13: =IF('MODELO ESTUDIO MERCADO'!$H13>0,ABS(1-'MODELO ESTUDIO MERCADO'!$H13/'MODELO ESTUDIO MERCADO'!$X13),"") -> 0.0076313152 | J13: 648000 | K13: =IF('MODELO ESTUDIO MERCADO'!$J13>0,ABS(1-'MODELO ESTUDIO MERCADO'!$J13/'MODELO ESTUDIO MERCADO'!$X13),"") -> 0.081350132 | M13: =IF('MODELO ESTUDIO MERCADO'!$L13>0,ABS(1-'MODELO ESTUDIO MERCADO'!$L13/'MODELO ESTUDIO MERCADO'!$X13),"") | O13: =IF('MODELO ESTUDIO MERCADO'!$N13>0,ABS(1-'MODELO ESTUDIO MERCADO'!$N13/'MODELO ESTUDIO MERCADO'!$X13),"") | Q13: =IF('MODELO ESTUDIO MERCADO'!$P13>0,ABS(1-'MODELO ESTUDIO MERCADO'!$P13/'MODELO ESTUDIO MERCADO'!$X13),"") | S13: =IF('MODELO ESTUDIO MERCADO'!$R13>0,ABS(1-'MODELO ESTUDIO MERCADO'!$R13/'MODELO ESTUDIO MERCADO'!$X13),"") | U13: =IF('MODELO ESTUDIO MERCADO'!$T13>0,ABS(1-'MODELO ESTUDIO MERCADO'!$T13/'MODELO ESTUDIO MERCADO'!$X13),"") | V13: 0 | W13: =IF('MODELO ESTUDIO MERCADO'!$V13>0,ABS(1-'MODELO ESTUDIO MERCADO'!$V13/'MODELO ESTUDIO MERCADO'!$X13),"") | X13: =IF(SUM('MODELO ESTUDIO MERCADO'!$F13,'MODELO ESTUDIO MERCADO'!$H13,'MODELO ESTUDIO MERCADO'!$J13,'MODELO ESTUDIO MERCADO'!$L13,'MODELO ESTUDIO MERCADO'!$N13,'MODELO ESTUDIO MERCADO'!$P13,'MODELO ESTUDIO MERCADO'!$R13,'MODELO ESTUDIO MERCADO'!$T13)>0,TRUNC(AVERAGE('MODELO ESTUDIO MERCADO'!$F13,'MODELO ESTUDIO MERCADO'!$H13,'MODELO ESTUDIO MERCADO'!$J13,'MODELO ESTUDIO MERCADO'!$L13,'MODELO ESTUDIO MERCADO'!$N13,'MODELO ESTUDIO MERCADO'!$P13,'MODELO ESTUDIO MERCADO'!$R13,'MODELO ESTUDIO MERCADO'!$T13)),"SIN DATOS") -> 705383 | Y13: =COUNT('MODELO ESTUDIO MERCADO'!$F13:$U13)/2 -> 3
A14: 12 | D14: Cambio de aislante para tubería de baja presión de cobre Rubatex por cada metro lineal adicional. | E14: UN | F14: 192037.5 | G14: =IF('MODELO ESTUDIO MERCADO'!$F14>0,ABS(1-'MODELO ESTUDIO MERCADO'!$F14/'MODELO ESTUDIO MERCADO'!$X14),"") -> 0.1317694 | H14: 155000 | I14: =IF('MODELO ESTUDIO MERCADO'!$H14>0,ABS(1-'MODELO ESTUDIO MERCADO'!$H14/'MODELO ESTUDIO MERCADO'!$X14),"") -> 0.086510411 | J14: 162000 | K14: =IF('MODELO ESTUDIO MERCADO'!$J14>0,ABS(1-'MODELO ESTUDIO MERCADO'!$J14/'MODELO ESTUDIO MERCADO'!$X14),"") -> 0.045256042 | M14: =IF('MODELO ESTUDIO MERCADO'!$L14>0,ABS(1-'MODELO ESTUDIO MERCADO'!$L14/'MODELO ESTUDIO MERCADO'!$X14),"") | O14: =IF('MODELO ESTUDIO MERCADO'!$N14>0,ABS(1-'MODELO ESTUDIO MERCADO'!$N14/'MODELO ESTUDIO MERCADO'!$X14),"") | Q14: =IF('MODELO ESTUDIO MERCADO'!$P14>0,ABS(1-'MODELO ESTUDIO MERCADO'!$P14/'MODELO ESTUDIO MERCADO'!$X14),"") | S14: =IF('MODELO ESTUDIO MERCADO'!$R14>0,ABS(1-'MODELO ESTUDIO MERCADO'!$R14/'MODELO ESTUDIO MERCADO'!$X14),"") | U14: =IF('MODELO ESTUDIO MERCADO'!$T14>0,ABS(1-'MODELO ESTUDIO MERCADO'!$T14/'MODELO ESTUDIO MERCADO'!$X14),"") | V14: 0 | W14: =IF('MODELO ESTUDIO MERCADO'!$V14>0,ABS(1-'MODELO ESTUDIO MERCADO'!$V14/'MODELO ESTUDIO MERCADO'!$X14),"") | X14: =IF(SUM('MODELO ESTUDIO MERCADO'!$F14,'MODELO ESTUDIO MERCADO'!$H14,'MODELO ESTUDIO MERCADO'!$J14,'MODELO ESTUDIO MERCADO'!$L14,'MODELO ESTUDIO MERCADO'!$N14,'MODELO ESTUDIO MERCADO'!$P14,'MODELO ESTUDIO MERCADO'!$R14,'MODELO ESTUDIO MERCADO'!$T14)>0,TRUNC(AVERAGE('MODELO ESTUDIO MERCADO'!$F14,'MODELO ESTUDIO MERCADO'!$H14,'MODELO ESTUDIO MERCADO'!$J14,'MODELO ESTUDIO MERCADO'!$L14,'MODELO ESTUDIO MERCADO'!$N14,'MODELO ESTUDIO MERCADO'!$P14,'MODELO ESTUDIO MERCADO'!$R14,'MODELO ESTUDIO MERCADO'!$T14)),"SIN DATOS") -> 169679 | Y14: =COUNT('MODELO ESTUDIO MERCADO'!$F14:$U14)/2 -> 3
A15: 13 | D15: Cambio de tubería de cobre para refrigeración para equipos de aire acondicionado piso techo de 60.000 BTU. hasta 5 ml. | E15: UN | F15: 1280249.6 | G15: =IF('MODELO ESTUDIO MERCADO'!$F15>0,ABS(1-'MODELO ESTUDIO MERCADO'!$F15/'MODELO ESTUDIO MERCADO'!$X15),"") -> 0.1099634 | H15: 1100000 | I15: =IF('MODELO ESTUDIO MERCADO'!$H15>0,ABS(1-'MODELO ESTUDIO MERCADO'!$H15/'MODELO ESTUDIO MERCADO'!$X15),"") -> 0.046311131 | J15: 1080000 | K15: =IF('MODELO ESTUDIO MERCADO'!$J15>0,ABS(1-'MODELO ESTUDIO MERCADO'!$J15/'MODELO ESTUDIO MERCADO'!$X15),"") -> 0.063650929 | M15: =IF('MODELO ESTUDIO MERCADO'!$L15>0,ABS(1-'MODELO ESTUDIO MERCADO'!$L15/'MODELO ESTUDIO MERCADO'!$X15),"") | O15: =IF('MODELO ESTUDIO MERCADO'!$N15>0,ABS(1-'MODELO ESTUDIO MERCADO'!$N15/'MODELO ESTUDIO MERCADO'!$X15),"") | Q15: =IF('MODELO ESTUDIO MERCADO'!$P15>0,ABS(1-'MODELO ESTUDIO MERCADO'!$P15/'MODELO ESTUDIO MERCADO'!$X15),"") | S15: =IF('MODELO ESTUDIO MERCADO'!$R15>0,ABS(1-'MODELO ESTUDIO MERCADO'!$R15/'MODELO ESTUDIO MERCADO'!$X15),"") | U15: =IF('MODELO ESTUDIO MERCADO'!$T15>0,ABS(1-'MODELO ESTUDIO MERCADO'!$T15/'MODELO ESTUDIO MERCADO'!$X15),"") | V15: 0 | W15: =IF('MODELO ESTUDIO MERCADO'!$V15>0,ABS(1-'MODELO ESTUDIO MERCADO'!$V15/'MODELO ESTUDIO MERCADO'!$X15),"") | X15: =IF(SUM('MODELO ESTUDIO MERCADO'!$F15,'MODELO ESTUDIO MERCADO'!$H15,'MODELO ESTUDIO MERCADO'!$J15,'MODELO ESTUDIO MERCADO'!$L15,'MODELO ESTUDIO MERCADO'!$N15,'MODELO ESTUDIO MERCADO'!$P15,'MODELO ESTUDIO MERCADO'!$R15,'MODELO ESTUDIO MERCADO'!$T15)>0,TRUNC(AVERAGE('MODELO ESTUDIO MERCADO'!$F15,'MODELO ESTUDIO MERCADO'!$H15,'MODELO ESTUDIO MERCADO'!$J15,'MODELO ESTUDIO MERCADO'!$L15,'MODELO ESTUDIO MERCADO'!$N15,'MODELO ESTUDIO MERCADO'!$P15,'MODELO ESTUDIO MERCADO'!$R15,'MODELO ESTUDIO MERCADO'!$T15)),"SIN DATOS") -> 1153416 | Y15: =COUNT('MODELO ESTUDIO MERCADO'!$F15:$U15)/2 -> 3
... A23: 21 | D23: Breackers industrial para equipos de aire Piso Techo de 60.000 BTU de refrigeración a 220V. | E23: UN | F23: 384075 | G23: =IF('MODELO ESTUDIO MERCADO'!$F23>0,ABS(1-'MODELO ESTUDIO MERCADO'!$F23/'MODELO ESTUDIO MERCADO'!$X23),"") -> 0.039844812 | H23: 400000 | I23: =IF('MODELO ESTUDIO MERCADO'!$H23>0,ABS(1-'MODELO ESTUDIO MERCADO'!$H23/'MODELO ESTUDIO MERCADO'!$X23),"") -> 0.082960163 | J23: 324000 | K23: =IF('MODELO ESTUDIO MERCADO'!$J23>0,ABS(1-'MODELO ESTUDIO MERCADO'!$J23/'MODELO ESTUDIO MERCADO'!$X23),"") -> 0.12280227 | M23: =IF('MODELO ESTUDIO MERCADO'!$L23>0,ABS(1-'MODELO ESTUDIO MERCADO'!$L23/'MODELO ESTUDIO MERCADO'!$X23),"") | O23: =IF('MODELO ESTUDIO MERCADO'!$N23>0,ABS(1-'MODELO ESTUDIO MERCADO'!$N23/'MODELO ESTUDIO MERCADO'!$X23),"") | Q23: =IF('MODELO ESTUDIO MERCADO'!$P23>0,ABS(1-'MODELO ESTUDIO MERCADO'!$P23/'MODELO ESTUDIO MERCADO'!$X23),"") | S23: =IF('MODELO ESTUDIO MERCADO'!$R23>0,ABS(1-'MODELO ESTUDIO MERCADO'!$R23/'MODELO ESTUDIO MERCADO'!$X23),"") | U23: =IF('MODELO ESTUDIO MERCADO'!$T23>0,ABS(1-'MODELO ESTUDIO MERCADO'!$T23/'MODELO ESTUDIO MERCADO'!$X23),"") | V23: 0 | W23: =IF('MODELO ESTUDIO MERCADO'!$V23>0,ABS(1-'MODELO ESTUDIO MERCADO'!$V23/'MODELO ESTUDIO MERCADO'!$X23),"") | X23: =IF(SUM('MODELO ESTUDIO MERCADO'!$F23,'MODELO ESTUDIO MERCADO'!$H23,'MODELO ESTUDIO MERCADO'!$J23,'MODELO ESTUDIO MERCADO'!$L23,'MODELO ESTUDIO MERCADO'!$N23,'MODELO ESTUDIO MERCADO'!$P23,'MODELO ESTUDIO MERCADO'!$R23,'MODELO ESTUDIO MERCADO'!$T23)>0,TRUNC(AVERAGE('MODELO ESTUDIO MERCADO'!$F23,'MODELO ESTUDIO MERCADO'!$H23,'MODELO ESTUDIO MERCADO'!$J23,'MODELO ESTUDIO MERCADO'!$L23,'MODELO ESTUDIO MERCADO'!$N23,'MODELO ESTUDIO MERCADO'!$P23,'MODELO ESTUDIO MERCADO'!$R23,'MODELO ESTUDIO MERCADO'!$T23)),"SIN DATOS") -> 369358 | Y23: =COUNT('MODELO ESTUDIO MERCADO'!$F23:$U23)/2 -> 3
A24: 22 | C24: 36.000 BTU | D24: Unidad compresor 220 v para aire piso techo de 36.000 BTU + carga de gas refrigerante + filtro secador + soldadura + deshidratación del sistema + vacío + balanceo del equipo. | E24: UN | F24: 6401249.1 | G24: =IF('MODELO ESTUDIO MERCADO'!$F24>0,ABS(1-'MODELO ESTUDIO MERCADO'!$F24/'MODELO ESTUDIO MERCADO'!$X24),"") -> 0.10996306 | H24: 5500000 | I24: =IF('MODELO ESTUDIO MERCADO'!$H24>0,ABS(1-'MODELO ESTUDIO MERCADO'!$H24/'MODELO ESTUDIO MERCADO'!$X24),"") -> 0.046311628 | J24: 5400000 | K24: =IF('MODELO ESTUDIO MERCADO'!$J24>0,ABS(1-'MODELO ESTUDIO MERCADO'!$J24/'MODELO ESTUDIO MERCADO'!$X24),"") -> 0.063651416 | M24: =IF('MODELO ESTUDIO MERCADO'!$L24>0,ABS(1-'MODELO ESTUDIO MERCADO'!$L24/'MODELO ESTUDIO MERCADO'!$X24),"") | O24: =IF('MODELO ESTUDIO MERCADO'!$N24>0,ABS(1-'MODELO ESTUDIO MERCADO'!$N24/'MODELO ESTUDIO MERCADO'!$X24),"") | Q24: =IF('MODELO ESTUDIO MERCADO'!$P24>0,ABS(1-'MODELO ESTUDIO MERCADO'!$P24/'MODELO ESTUDIO MERCADO'!$X24),"") | S24: =IF('MODELO ESTUDIO MERCADO'!$R24>0,ABS(1-'MODELO ESTUDIO MERCADO'!$R24/'MODELO ESTUDIO MERCADO'!$X24),"") | U24: =IF('MODELO ESTUDIO MERCADO'!$T24>0,ABS(1-'MODELO ESTUDIO MERCADO'!$T24/'MODELO ESTUDIO MERCADO'!$X24),"") | V24: 0 | W24: =IF('MODELO ESTUDIO MERCADO'!$V24>0,ABS(1-'MODELO ESTUDIO MERCADO'!$V24/'MODELO ESTUDIO MERCADO'!$X24),"") | X24: =IF(SUM('MODELO ESTUDIO MERCADO'!$F24,'MODELO ESTUDIO MERCADO'!$H24,'MODELO ESTUDIO MERCADO'!$J24,'MODELO ESTUDIO MERCADO'!$L24,'MODELO ESTUDIO MERCADO'!$N24,'MODELO ESTUDIO MERCADO'!$P24,'MODELO ESTUDIO MERCADO'!$R24,'MODELO ESTUDIO MERCADO'!$T24)>0,TRUNC(AVERAGE('MODELO ESTUDIO MERCADO'!$F24,'MODELO ESTUDIO MERCADO'!$H24,'MODELO ESTUDIO MERCADO'!$J24,'MODELO ESTUDIO MERCADO'!$L24,'MODELO ESTUDIO MERCADO'!$N24,'MODELO ESTUDIO MERCADO'!$P24,'MODELO ESTUDIO MERCADO'!$R24,'MODELO ESTUDIO MERCADO'!$T24)),"SIN DATOS") -> 5767083 | Y24: =COUNT('MODELO ESTUDIO MERCADO'!$F24:$U24)/2 -> 3
A25: 23 | D25: Tarjeta electrónica para aire acondicionado Piso Techo 36.000 BTU. | E25: UN | F25: 2304450 | G25: =IF('MODELO ESTUDIO MERCADO'!$F25>0,ABS(1-'MODELO ESTUDIO MERCADO'!$F25/'MODELO ESTUDIO MERCADO'!$X25),"") -> 0.10907318 | H25: 1985000 | I25: =IF('MODELO ESTUDIO MERCADO'!$H25>0,ABS(1-'MODELO ESTUDIO MERCADO'!$H25/'MODELO ESTUDIO MERCADO'!$X25),"") -> 0.04466998 | J25: 1944000 | K25: =IF('MODELO ESTUDIO MERCADO'!$J25>0,ABS(1-'MODELO ESTUDIO MERCADO'!$J25/'MODELO ESTUDIO MERCADO'!$X25),"") -> 0.064402238 | M25: =IF('MODELO ESTUDIO MERCADO'!$L25>0,ABS(1-'MODELO ESTUDIO MERCADO'!$L25/'MODELO ESTUDIO MERCADO'!$X25),"") | O25: =IF('MODELO ESTUDIO MERCADO'!$N25>0,ABS(1-'MODELO ESTUDIO MERCADO'!$N25/'MODELO ESTUDIO MERCADO'!$X25),"") | Q25: =IF('MODELO ESTUDIO MERCADO'!$P25>0,ABS(1-'MODELO ESTUDIO MERCADO'!$P25/'MODELO ESTUDIO MERCADO'!$X25),"") | S25: =IF('MODELO ESTUDIO MERCADO'!$R25>0,ABS(1-'MODELO ESTUDIO MERCADO'!$R25/'MODELO ESTUDIO MERCADO'!$X25),"") | U25: =IF('MODELO ESTUDIO MERCADO'!$T25>0,ABS(1-'MODELO ESTUDIO MERCADO'!$T25/'MODELO ESTUDIO MERCADO'!$X25),"") | V25: 0 | W25: =IF('MODELO ESTUDIO MERCADO'!$V25>0,ABS(1-'MODELO ESTUDIO MERCADO'!$V25/'MODELO ESTUDIO MERCADO'!$X25),"") | X25: =IF(SUM('MODELO ESTUDIO MERCADO'!$F25,'MODELO ESTUDIO MERCADO'!$H25,'MODELO ESTUDIO MERCADO'!$J25,'MODELO ESTUDIO MERCADO'!$L25,'MODELO ESTUDIO MERCADO'!$N25,'MODELO ESTUDIO MERCADO'!$P25,'MODELO ESTUDIO MERCADO'!$R25,'MODELO ESTUDIO MERCADO'!$T25)>0,TRUNC(AVERAGE('MODELO ESTUDIO MERCADO'!$F25,'MODELO ESTUDIO MERCADO'!$H25,'MODELO ESTUDIO MERCADO'!$J25,'MODELO ESTUDIO MERCADO'!$L25,'MODELO ESTUDIO MERCADO'!$N25,'MODELO ESTUDIO MERCADO'!$P25,'MODELO ESTUDIO MERCADO'!$R25,'MODELO ESTUDIO MERCADO'!$T25)),"SIN DATOS") -> 2077816 | Y25: =COUNT('MODELO ESTUDIO MERCADO'!$F25:$U25)/2 -> 3
A26: 24 | D26: Contactores industriales para aire acondicionado piso techo de 36.000 BTU. | E26: UN | F26: 768150 | G26: =IF('MODELO ESTUDIO MERCADO'!$F26>0,ABS(1-'MODELO ESTUDIO MERCADO'!$F26/'MODELO ESTUDIO MERCADO'!$X26),"") -> 0.1180409 | H26: 645000 | I26: =IF('MODELO ESTUDIO MERCADO'!$H26>0,ABS(1-'MODELO ESTUDIO MERCADO'!$H26/'MODELO ESTUDIO MERCADO'!$X26),"") -> 0.061203697 | J26: 648000 | K26: =IF('MODELO ESTUDIO MERCADO'!$J26>0,ABS(1-'MODELO ESTUDIO MERCADO'!$J26/'MODELO ESTUDIO MERCADO'!$X26),"") -> 0.056837203 | M26: =IF('MODELO ESTUDIO MERCADO'!$L26>0,ABS(1-'MODELO ESTUDIO MERCADO'!$L26/'MODELO ESTUDIO MERCADO'!$X26),"") | O26: =IF('MODELO ESTUDIO MERCADO'!$N26>0,ABS(1-'MODELO ESTUDIO MERCADO'!$N26/'MODELO ESTUDIO MERCADO'!$X26),"") | Q26: =IF('MODELO ESTUDIO MERCADO'!$P26>0,ABS(1-'MODELO ESTUDIO MERCADO'!$P26/'MODELO ESTUDIO MERCADO'!$X26),"") | S26: =IF('MODELO ESTUDIO MERCADO'!$R26>0,ABS(1-'MODELO ESTUDIO MERCADO'!$R26/'MODELO ESTUDIO MERCADO'!$X26),"") | U26: =IF('MODELO ESTUDIO MERCADO'!$T26>0,ABS(1-'MODELO ESTUDIO MERCADO'!$T26/'MODELO ESTUDIO MERCADO'!$X26),"") | V26: 0 | W26: =IF('MODELO ESTUDIO MERCADO'!$V26>0,ABS(1-'MODELO ESTUDIO MERCADO'!$V26/'MODELO ESTUDIO MERCADO'!$X26),"") | X26: =IF(SUM('MODELO ESTUDIO MERCADO'!$F26,'MODELO ESTUDIO MERCADO'!$H26,'MODELO ESTUDIO MERCADO'!$J26,'MODELO ESTUDIO MERCADO'!$L26,'MODELO ESTUDIO MERCADO'!$N26,'MODELO ESTUDIO MERCADO'!$P26,'MODELO ESTUDIO MERCADO'!$R26,'MODELO ESTUDIO MERCADO'!$T26)>0,TRUNC(AVERAGE('MODELO ESTUDIO MERCADO'!$F26,'MODELO ESTUDIO MERCADO'!$H26,'MODELO ESTUDIO MERCADO'!$J26,'MODELO ESTUDIO MERCADO'!$L26,'MODELO ESTUDIO MERCADO'!$N26,'MODELO ESTUDIO MERCADO'!$P26,'MODELO ESTUDIO MERCADO'!$R26,'MODELO ESTUDIO MERCADO'!$T26)),"SIN DATOS") -> 687050 | Y26: =COUNT('MODELO ESTUDIO MERCADO'!$F26:$U26)/2 -> 3
A27: 25 | D27: Relé para aire acondicionado piso techo de 36.000 BTU. | E27: UN | F27: 512099.55 | G27: =IF('MODELO ESTUDIO MERCADO'!$F27>0,ABS(1-'MODELO ESTUDIO MERCADO'!$F27/'MODELO ESTUDIO MERCADO'!$X27),"") -> 0.10200269 | H27: 450000 | I27: =IF('MODELO ESTUDIO MERCADO'!$H27>0,ABS(1-'MODELO ESTUDIO MERCADO'!$H27/'MODELO ESTUDIO MERCADO'!$X27),"") -> 0.031631228 | J27: 432000 | K27: =IF('MODELO ESTUDIO MERCADO'!$J27>0,ABS(1-'MODELO ESTUDIO MERCADO'!$J27/'MODELO ESTUDIO MERCADO'!$X27),"") -> 0.070365979 | M27: =IF('MODELO ESTUDIO MERCADO'!$L27>0,ABS(1-'MODELO ESTUDIO MERCADO'!$L27/'MODELO ESTUDIO MERCADO'!$X27),"") | O27: =IF('MODELO ESTUDIO MERCADO'!$N27>0,ABS(1-'MODELO ESTUDIO MERCADO'!$N27/'MODELO ESTUDIO MERCADO'!$X27),"") | Q27: =IF('MODELO ESTUDIO MERCADO'!$P27>0,ABS(1-'MODELO ESTUDIO MERCADO'!$P27/'MODELO ESTUDIO MERCADO'!$X27),"") | S27: =IF('MODELO ESTUDIO MERCADO'!$R27>0,ABS(1-'MODELO ESTUDIO MERCADO'!$R27/'MODELO ESTUDIO MERCADO'!$X27),"") | U27: =IF('MODELO ESTUDIO MERCADO'!$T27>0,ABS(1-'MODELO ESTUDIO MERCADO'!$T27/'MODELO ESTUDIO MERCADO'!$X27),"") | V27: 0 | W27: =IF('MODELO ESTUDIO MERCADO'!$V27>0,ABS(1-'MODELO ESTUDIO MERCADO'!$V27/'MODELO ESTUDIO MERCADO'!$X27),"") | X27: =IF(SUM('MODELO ESTUDIO MERCADO'!$F27,'MODELO ESTUDIO MERCADO'!$H27,'MODELO ESTUDIO MERCADO'!$J27,'MODELO ESTUDIO MERCADO'!$L27,'MODELO ESTUDIO MERCADO'!$N27,'MODELO ESTUDIO MERCADO'!$P27,'MODELO ESTUDIO MERCADO'!$R27,'MODELO ESTUDIO MERCADO'!$T27)>0,TRUNC(AVERAGE('MODELO ESTUDIO MERCADO'!$F27,'MODELO ESTUDIO MERCADO'!$H27,'MODELO ESTUDIO MERCADO'!$J27,'MODELO ESTUDIO MERCADO'!$L27,'MODELO ESTUDIO MERCADO'!$N27,'MODELO ESTUDIO MERCADO'!$P27,'MODELO ESTUDIO MERCADO'!$R27,'MODELO ESTUDIO MERCADO'!$T27)),"SIN DATOS") -> 464699 | Y27: =COUNT('MODELO ESTUDIO MERCADO'!$F27:$U27)/2 -> 3
A28: 26 | D28: Motor ventilador para condensadora de aire piso techo de 36.000 BTU. | E28: UN | F28: 2304450 | G28: =IF('MODELO ESTUDIO MERCADO'!$F28>0,ABS(1-'MODELO ESTUDIO MERCADO'!$F28/'MODELO ESTUDIO MERCADO'!$X28),"") -> 0.10871727 | H28: 1987000 | I28: =IF('MODELO ESTUDIO MERCADO'!$H28>0,ABS(1-'MODELO ESTUDIO MERCADO'!$H28/'MODELO ESTUDIO MERCADO'!$X28),"") -> 0.044014312 | J28: 1944000 | K28: =IF('MODELO ESTUDIO MERCADO'!$J28>0,ABS(1-'MODELO ESTUDIO MERCADO'!$J28/'MODELO ESTUDIO MERCADO'!$X28),"") -> 0.064702478 | M28: =IF('MODELO ESTUDIO MERCADO'!$L28>0,ABS(1-'MODELO ESTUDIO MERCADO'!$L28/'MODELO ESTUDIO MERCADO'!$X28),"") | O28: =IF('MODELO ESTUDIO MERCADO'!$N28>0,ABS(1-'MODELO ESTUDIO MERCADO'!$N28/'MODELO ESTUDIO MERCADO'!$X28),"") | Q28: =IF('MODELO ESTUDIO MERCADO'!$P28>0,ABS(1-'MODELO ESTUDIO MERCADO'!$P28/'MODELO ESTUDIO MERCADO'!$X28),"") | S28: =IF('MODELO ESTUDIO MERCADO'!$R28>0,ABS(1-'MODELO ESTUDIO MERCADO'!$R28/'MODELO ESTUDIO MERCADO'!$X28),"") | U28: =IF('MODELO ESTUDIO MERCADO'!$T28>0,ABS(1-'MODELO ESTUDIO MERCADO'!$T28/'MODELO ESTUDIO MERCADO'!$X28),"") | V28: 0 | W28: =IF('MODELO ESTUDIO MERCADO'!$V28>0,ABS(1-'MODELO ESTUDIO MERCADO'!$V28/'MODELO ESTUDIO MERCADO'!$X28),"") | X28: =IF(SUM('MODELO ESTUDIO MERCADO'!$F28,'MODELO ESTUDIO MERCADO'!$H28,'MODELO ESTUDIO MERCADO'!$J28,'MODELO ESTUDIO MERCADO'!$L28,'MODELO ESTUDIO MERCADO'!$N28,'MODELO ESTUDIO MERCADO'!$P28,'MODELO ESTUDIO MERCADO'!$R28,'MODELO ESTUDIO MERCADO'!$T28)>0,TRUNC(AVERAGE('MODELO ESTUDIO MERCADO'!$F28,'MODELO ESTUDIO MERCADO'!$H28,'MODELO ESTUDIO MERCADO'!$J28,'MODELO ESTUDIO MERCADO'!$L28,'MODELO ESTUDIO MERCADO'!$N28,'MODELO ESTUDIO MERCADO'!$P28,'MODELO ESTUDIO MERCADO'!$R28,'MODELO ESTUDIO MERCADO'!$T28)),"SIN DATOS") -> 2078483 | Y28: =COUNT('MODELO ESTUDIO MERCADO'!$F28:$U28)/2 -> 3
A29: 27 | D29: Blower para aire acondicionado tipo piso techo de 36.000 BTU. | E29: UN | F29: 1088212.1 | G29: =IF('MODELO ESTUDIO MERCADO'!$F29>0,ABS(1-'MODELO ESTUDIO MERCADO'!$F29/'MODELO ESTUDIO MERCADO'!$X29),"") -> 0.10433086 | H29: 950000 | I29: =IF('MODELO ESTUDIO MERCADO'!$H29>0,ABS(1-'MODELO ESTUDIO MERCADO'!$H29/'MODELO ESTUDIO MERCADO'!$X29),"") -> 0.035928411 | J29: 918000 | K29: =IF('MODELO ESTUDIO MERCADO'!$J29>0,ABS(1-'MODELO ESTUDIO MERCADO'!$J29/'MODELO ESTUDIO MERCADO'!$X29),"") -> 0.068402401 | M29: =IF('MODELO ESTUDIO MERCADO'!$L29>0,ABS(1-'MODELO ESTUDIO MERCADO'!$L29/'MODELO ESTUDIO MERCADO'!$X29),"") | O29: =IF('MODELO ESTUDIO MERCADO'!$N29>0,ABS(1-'MODELO ESTUDIO MERCADO'!$N29/'MODELO ESTUDIO MERCADO'!$X29),"") | Q29: =IF('MODELO ESTUDIO MERCADO'!$P29>0,ABS(1-'MODELO ESTUDIO MERCADO'!$P29/'MODELO ESTUDIO MERCADO'!$X29),"") | S29: =IF('MODELO ESTUDIO MERCADO'!$R29>0,ABS(1-'MODELO ESTUDIO MERCADO'!$R29/'MODELO ESTUDIO MERCADO'!$X29),"") | U29: =IF('MODELO ESTUDIO MERCADO'!$T29>0,ABS(1-'MODELO ESTUDIO MERCADO'!$T29/'MODELO ESTUDIO MERCADO'!$X29),"") | V29: 0 | W29: =IF('MODELO ESTUDIO MERCADO'!$V29>0,ABS(1-'MODELO ESTUDIO MERCADO'!$V29/'MODELO ESTUDIO MERCADO'!$X29),"") | X29: =IF(SUM('MODELO ESTUDIO MERCADO'!$F29,'MODELO ESTUDIO MERCADO'!$H29,'MODELO ESTUDIO MERCADO'!$J29,'MODELO ESTUDIO MERCADO'!$L29,'MODELO ESTUDIO MERCADO'!$N29,'MODELO ESTUDIO MERCADO'!$P29,'MODELO ESTUDIO MERCADO'!$R29,'MODELO ESTUDIO MERCADO'!$T29)>0,TRUNC(AVERAGE('MODELO ESTUDIO MERCADO'!$F29,'MODELO ESTUDIO MERCADO'!$H29,'MODELO ESTUDIO MERCADO'!$J29,'MODELO ESTUDIO MERCADO'!$L29,'MODELO ESTUDIO MERCADO'!$N29,'MODELO ESTUDIO MERCADO'!$P29,'MODELO ESTUDIO MERCADO'!$R29,'MODELO ESTUDIO MERCADO'!$T29)),"SIN DATOS") -> 985404 | Y29: =COUNT('MODELO ESTUDIO MERCADO'!$F29:$U29)/2 -> 3
A30: 28 | D30: Aspas para motor ventilador de las condensadoras, para aire acondicionado piso techo de 36.000 BTU. | E30: UN | F30: 832161.6 | G30: =IF('MODELO ESTUDIO MERCADO'!$F30>0,ABS(1-'MODELO ESTUDIO MERCADO'!$F30/'MODELO ESTUDIO MERCADO'!$X30),"") -> 0.10260971 | H30: 730000 | I30: =IF('MODELO ESTUDIO MERCADO'!$H30>0,ABS(1-'MODELO ESTUDIO MERCADO'!$H30/'MODELO ESTUDIO MERCADO'!$X30),"") -> 0.032753869 | J30: 702000 | K30: =IF('MODELO ESTUDIO MERCADO'!$J30>0,ABS(1-'MODELO ESTUDIO MERCADO'!$J30/'MODELO ESTUDIO MERCADO'!$X30),"") -> 0.069853721 | M30: =IF('MODELO ESTUDIO MERCADO'!$L30>0,ABS(1-'MODELO ESTUDIO MERCADO'!$L30/'MODELO ESTUDIO MERCADO'!$X30),"") | O30: =IF('MODELO ESTUDIO MERCADO'!$N30>0,ABS(1-'MODELO ESTUDIO MERCADO'!$N30/'MODELO ESTUDIO MERCADO'!$X30),"") | Q30: =IF('MODELO ESTUDIO MERCADO'!$P30>0,ABS(1-'MODELO ESTUDIO MERCADO'!$P30/'MODELO ESTUDIO MERCADO'!$X30),"") | S30: =IF('MODELO ESTUDIO MERCADO'!$R30>0,ABS(1-'MODELO ESTUDIO MERCADO'!$R30/'MODELO ESTUDIO MERCADO'!$X30),"") | U30: =IF('MODELO ESTUDIO MERCADO'!$T30>0,ABS(1-'MODELO ESTUDIO MERCADO'!$T30/'MODELO ESTUDIO MERCADO'!$X30),"") | V30: 0 | W30: =IF('MODELO ESTUDIO MERCADO'!$V30>0,ABS(1-'MODELO ESTUDIO MERCADO'!$V30/'MODELO ESTUDIO MERCADO'!$X30),"") | X30: =IF(SUM('MODELO ESTUDIO MERCADO'!$F30,'MODELO ESTUDIO MERCADO'!$H30,'MODELO ESTUDIO MERCADO'!$J30,'MODELO ESTUDIO MERCADO'!$L30,'MODELO ESTUDIO MERCADO'!$N30,'MODELO ESTUDIO MERCADO'!$P30,'MODELO ESTUDIO MERCADO'!$R30,'MODELO ESTUDIO MERCADO'!$T30)>0,TRUNC(AVERAGE('MODELO ESTUDIO MERCADO'!$F30,'MODELO ESTUDIO MERCADO'!$H30,'MODELO ESTUDIO MERCADO'!$J30,'MODELO ESTUDIO MERCADO'!$L30,'MODELO ESTUDIO MERCADO'!$N30,'MODELO ESTUDIO MERCADO'!$P30,'MODELO ESTUDIO MERCADO'!$R30,'MODELO ESTUDIO MERCADO'!$T30)),"SIN DATOS") -> 754720 | Y30: =COUNT('MODELO ESTUDIO MERCADO'!$F30:$U30)/2 -> 3
A31: 29 | D31: Kit de capacitores (de marcha, arranque para unidad condensadora y unidad manejadora) para equipos de aire acondicionado piso techo de 36.000 BTU. | E31: UN | F31: 960187.5 | G31: =IF('MODELO ESTUDIO MERCADO'!$F31>0,ABS(1-'MODELO ESTUDIO MERCADO'!$F31/'MODELO ESTUDIO MERCADO'!$X31),"") -> 0.099373708 | H31: 850000 | I31: =IF('MODELO ESTUDIO MERCADO'!$H31>0,ABS(1-'MODELO ESTUDIO MERCADO'!$H31/'MODELO ESTUDIO MERCADO'!$X31),"") -> 0.026786277 | J31: 810000 | K31: =IF('MODELO ESTUDIO MERCADO'!$J31>0,ABS(1-'MODELO ESTUDIO MERCADO'!$J31/'MODELO ESTUDIO MERCADO'!$X31),"") -> 0.072584569 | M31: =IF('MODELO ESTUDIO MERCADO'!$L31>0,ABS(1-'MODELO ESTUDIO MERCADO'!$L31/'MODELO ESTUDIO MERCADO'!$X31),"") | O31: =IF('MODELO ESTUDIO MERCADO'!$N31>0,ABS(1-'MODELO ESTUDIO MERCADO'!$N31/'MODELO ESTUDIO MERCADO'!$X31),"") | Q31: =IF('MODELO ESTUDIO MERCADO'!$P31>0,ABS(1-'MODELO ESTUDIO MERCADO'!$P31/'MODELO ESTUDIO MERCADO'!$X31),"") | S31: =IF('MODELO ESTUDIO MERCADO'!$R31>0,ABS(1-'MODELO ESTUDIO MERCADO'!$R31/'MODELO ESTUDIO MERCADO'!$X31),"") | U31: =IF('MODELO ESTUDIO MERCADO'!$T31>0,ABS(1-'MODELO ESTUDIO MERCADO'!$T31/'MODELO ESTUDIO MERCADO'!$X31),"") | V31: 0 | W31: =IF('MODELO ESTUDIO MERCADO'!$V31>0,ABS(1-'MODELO ESTUDIO MERCADO'!$V31/'MODELO ESTUDIO MERCADO'!$X31),"") | X31: =IF(SUM('MODELO ESTUDIO MERCADO'!$F31,'MODELO ESTUDIO MERCADO'!$H31,'MODELO ESTUDIO MERCADO'!$J31,'MODELO ESTUDIO MERCADO'!$L31,'MODELO ESTUDIO MERCADO'!$N31,'MODELO ESTUDIO MERCADO'!$P31,'MODELO ESTUDIO MERCADO'!$R31,'MODELO ESTUDIO MERCADO'!$T31)>0,TRUNC(AVERAGE('MODELO ESTUDIO MERCADO'!$F31,'MODELO ESTUDIO MERCADO'!$H31,'MODELO ESTUDIO MERCADO'!$J31,'MODELO ESTUDIO MERCADO'!$L31,'MODELO ESTUDIO MERCADO'!$N31,'MODELO ESTUDIO MERCADO'!$P31,'MODELO ESTUDIO MERCADO'!$R31,'MODELO ESTUDIO MERCADO'!$T31)),"SIN DATOS") -> 873395 | Y31: =COUNT('MODELO ESTUDIO MERCADO'!$F31:$U31)/2 -> 3
A32: 30 | D32: Termostatos o sensores de temperatura para aire acondicionado piso techo de 36.000 BTU. | E32: UN | F32: 704137.05 | G32: =IF('MODELO ESTUDIO MERCADO'!$F32>0,ABS(1-'MODELO ESTUDIO MERCADO'!$F32/'MODELO ESTUDIO MERCADO'!$X32),"") -> 0.084323715 | H32: 650000 | I32: =IF('MODELO ESTUDIO MERCADO'!$H32>0,ABS(1-'MODELO ESTUDIO MERCADO'!$H32/'MODELO ESTUDIO MERCADO'!$X32),"") -> 0.00095629825 | J32: 594000 | K32: =IF('MODELO ESTUDIO MERCADO'!$J32>0,ABS(1-'MODELO ESTUDIO MERCADO'!$J32/'MODELO ESTUDIO MERCADO'!$X32),"") -> 0.085279937 | M32: =IF('MODELO ESTUDIO MERCADO'!$L32>0,ABS(1-'MODELO ESTUDIO MERCADO'!$L32/'MODELO ESTUDIO MERCADO'!$X32),"") | O32: =IF('MODELO ESTUDIO MERCADO'!$N32>0,ABS(1-'MODELO ESTUDIO MERCADO'!$N32/'MODELO ESTUDIO MERCADO'!$X32),"") | Q32: =IF('MODELO ESTUDIO MERCADO'!$P32>0,ABS(1-'MODELO ESTUDIO MERCADO'!$P32/'MODELO ESTUDIO MERCADO'!$X32),"") | S32: =IF('MODELO ESTUDIO MERCADO'!$R32>0,ABS(1-'MODELO ESTUDIO MERCADO'!$R32/'MODELO ESTUDIO MERCADO'!$X32),"") | U32: =IF('MODELO ESTUDIO MERCADO'!$T32>0,ABS(1-'MODELO ESTUDIO MERCADO'!$T32/'MODELO ESTUDIO MERCADO'!$X32),"") | V32: 0 | W32: =IF('MODELO ESTUDIO MERCADO'!$V32>0,ABS(1-'MODELO ESTUDIO MERCADO'!$V32/'MODELO ESTUDIO MERCADO'!$X32),"") | X32: =IF(SUM('MODELO ESTUDIO MERCADO'!$F32,'MODELO ESTUDIO MERCADO'!$H32,'MODELO ESTUDIO MERCADO'!$J32,'MODELO ESTUDIO MERCADO'!$L32,'MODELO ESTUDIO MERCADO'!$N32,'MODELO ESTUDIO MERCADO'!$P32,'MODELO ESTUDIO MERCADO'!$R32,'MODELO ESTUDIO MERCADO'!$T32)>0,TRUNC(AVERAGE('MODELO ESTUDIO MERCADO'!$F32,'MODELO ESTUDIO MERCADO'!$H32,'MODELO ESTUDIO MERCADO'!$J32,'MODELO ESTUDIO MERCADO'!$L32,'MODELO ESTUDIO MERCADO'!$N32,'MODELO ESTUDIO MERCADO'!$P32,'MODELO ESTUDIO MERCADO'!$R32,'MODELO ESTUDIO MERCADO'!$T32)),"SIN DATOS") -> 649379 | Y32: =COUNT('MODELO ESTUDIO MERCADO'!$F32:$U32)/2 -> 3
A33: 31 | D33: Cambio de manguera para drenaje de agua para aire acondicionado piso techo de 36.000 BTU. hasta 3,0 metros de largo. | E33: UN | F33: 448086.6 | G33: =IF('MODELO ESTUDIO MERCADO'!$F33>0,ABS(1-'MODELO ESTUDIO MERCADO'!$F33/'MODELO ESTUDIO MERCADO'!$X33),"") -> 0.013706372 | H33: 500000 | I33: =IF('MODELO ESTUDIO MERCADO'!$H33>0,ABS(1-'MODELO ESTUDIO MERCADO'!$H33/'MODELO ESTUDIO MERCADO'!$X33),"") -> 0.13115006 | J33: 378000 | K33: =IF('MODELO ESTUDIO MERCADO'!$J33>0,ABS(1-'MODELO ESTUDIO MERCADO'!$J33/'MODELO ESTUDIO MERCADO'!$X33),"") -> 0.14485055 | M33: =IF('MODELO ESTUDIO MERCADO'!$L33>0,ABS(1-'MODELO ESTUDIO MERCADO'!$L33/'MODELO ESTUDIO MERCADO'!$X33),"") | O33: =IF('MODELO ESTUDIO MERCADO'!$N33>0,ABS(1-'MODELO ESTUDIO MERCADO'!$N33/'MODELO ESTUDIO MERCADO'!$X33),"") | Q33: =IF('MODELO ESTUDIO MERCADO'!$P33>0,ABS(1-'MODELO ESTUDIO MERCADO'!$P33/'MODELO ESTUDIO MERCADO'!$X33),"") | S33: =IF('MODELO ESTUDIO MERCADO'!$R33>0,ABS(1-'MODELO ESTUDIO MERCADO'!$R33/'MODELO ESTUDIO MERCADO'!$X33),"") | U33: =IF('MODELO ESTUDIO MERCADO'!$T33>0,ABS(1-'MODELO ESTUDIO MERCADO'!$T33/'MODELO ESTUDIO MERCADO'!$X33),"") | V33: 0 | W33: =IF('MODELO ESTUDIO MERCADO'!$V33>0,ABS(1-'MODELO ESTUDIO MERCADO'!$V33/'MODELO ESTUDIO MERCADO'!$X33),"") | X33: =IF(SUM('MODELO ESTUDIO MERCADO'!$F33,'MODELO ESTUDIO MERCADO'!$H33,'MODELO ESTUDIO MERCADO'!$J33,'MODELO ESTUDIO MERCADO'!$L33,'MODELO ESTUDIO MERCADO'!$N33,'MODELO ESTUDIO MERCADO'!$P33,'MODELO ESTUDIO MERCADO'!$R33,'MODELO ESTUDIO MERCADO'!$T33)>0,TRUNC(AVERAGE('MODELO ESTUDIO MERCADO'!$F33,'MODELO ESTUDIO MERCADO'!$H33,'MODELO ESTUDIO MERCADO'!$J33,'MODELO ESTUDIO MERCADO'!$L33,'MODELO ESTUDIO MERCADO'!$N33,'MODELO ESTUDIO MERCADO'!$P33,'MODELO ESTUDIO MERCADO'!$R33,'MODELO ESTUDIO MERCADO'!$T33)),"SIN DATOS") -> 442028 | Y33: =COUNT('MODELO ESTUDIO MERCADO'!$F33:$U33)/2 -> 3
A34: 32 | D34: Cambio de aislante para tubería de baja presión de cobre Rubatex hasta 5 ml para aire acondicionado piso techo de 36.000 BTU. | E34: UN | F34: 768150 | G34: =IF('MODELO ESTUDIO MERCADO'!$F34>0,ABS(1-'MODELO ESTUDIO MERCADO'!$F34/'MODELO ESTUDIO MERCADO'!$X34),"") -> 0.14299531 | H34: 600000 | I34: =IF('MODELO ESTUDIO MERCADO'!$H34>0,ABS(1-'MODELO ESTUDIO MERCADO'!$H34/'MODELO ESTUDIO MERCADO'!$X34),"") -> 0.10720929 | J34: 648000 | K34: =IF('MODELO ESTUDIO MERCADO'!$J34>0,ABS(1-'MODELO ESTUDIO MERCADO'!$J34/'MODELO ESTUDIO MERCADO'!$X34),"") -> 0.035786028 | M34: =IF('MODELO ESTUDIO MERCADO'!$L34>0,ABS(1-'MODELO ESTUDIO MERCADO'!$L34/'MODELO ESTUDIO MERCADO'!$X34),"") | O34: =IF('MODELO ESTUDIO MERCADO'!$N34>0,ABS(1-'MODELO ESTUDIO MERCADO'!$N34/'MODELO ESTUDIO MERCADO'!$X34),"") | Q34: =IF('MODELO ESTUDIO MERCADO'!$P34>0,ABS(1-'MODELO ESTUDIO MERCADO'!$P34/'MODELO ESTUDIO MERCADO'!$X34),"") | S34: =IF('MODELO ESTUDIO MERCADO'!$R34>0,ABS(1-'MODELO ESTUDIO MERCADO'!$R34/'MODELO ESTUDIO MERCADO'!$X34),"") | U34: =IF('MODELO ESTUDIO MERCADO'!$T34>0,ABS(1-'MODELO ESTUDIO MERCADO'!$T34/'MODELO ESTUDIO MERCADO'!$X34),"") | V34: 0 | W34: =IF('MODELO ESTUDIO MERCADO'!$V34>0,ABS(1-'MODELO ESTUDIO MERCADO'!$V34/'MODELO ESTUDIO MERCADO'!$X34),"") | X34: =IF(SUM('MODELO ESTUDIO MERCADO'!$F34,'MODELO ESTUDIO MERCADO'!$H34,'MODELO ESTUDIO MERCADO'!$J34,'MODELO ESTUDIO MERCADO'!$L34,'MODELO ESTUDIO MERCADO'!$N34,'MODELO ESTUDIO MERCADO'!$P34,'MODELO ESTUDIO MERCADO'!$R34,'MODELO ESTUDIO MERCADO'!$T34)>0,TRUNC(AVERAGE('MODELO ESTUDIO MERCADO'!$F34,'MODELO ESTUDIO MERCADO'!$H34,'MODELO ESTUDIO MERCADO'!$J34,'MODELO ESTUDIO MERCADO'!$L34,'MODELO ESTUDIO MERCADO'!$N34,'MODELO ESTUDIO MERCADO'!$P34,'MODELO ESTUDIO MERCADO'!$R34,'MODELO ESTUDIO MERCADO'!$T34)),"SIN DATOS") -> 672050 | Y34: =COUNT('MODELO ESTUDIO MERCADO'!$F34:$U34)/2 -> 3
A35: 33 | D35: Cambio de aislante para tubería de baja presión de cobre Rubatex por cada metro lineal adicional. | E35: UN | F35: 192037.5 | G35: =IF('MODELO ESTUDIO MERCADO'!$F35>0,ABS(1-'MODELO ESTUDIO MERCADO'!$F35/'MODELO ESTUDIO MERCADO'!$X35),"") -> 0.080811463 | H35: 179000 | I35: =IF('MODELO ESTUDIO MERCADO'!$H35>0,ABS(1-'MODELO ESTUDIO MERCADO'!$H35/'MODELO ESTUDIO MERCADO'!$X35),"") -> 0.0074347559 | J35: 162000 | K35: =IF('MODELO ESTUDIO MERCADO'!$J35>0,ABS(1-'MODELO ESTUDIO MERCADO'!$J35/'MODELO ESTUDIO MERCADO'!$X35),"") -> 0.088243405 | M35: =IF('MODELO ESTUDIO MERCADO'!$L35>0,ABS(1-'MODELO ESTUDIO MERCADO'!$L35/'MODELO ESTUDIO MERCADO'!$X35),"") | O35: =IF('MODELO ESTUDIO MERCADO'!$N35>0,ABS(1-'MODELO ESTUDIO MERCADO'!$N35/'MODELO ESTUDIO MERCADO'!$X35),"") | Q35: =IF('MODELO ESTUDIO MERCADO'!$P35>0,ABS(1-'MODELO ESTUDIO MERCADO'!$P35/'MODELO ESTUDIO MERCADO'!$X35),"") | S35: =IF('MODELO ESTUDIO MERCADO'!$R35>0,ABS(1-'MODELO ESTUDIO MERCADO'!$R35/'MODELO ESTUDIO MERCADO'!$X35),"") | U35: =IF('MODELO ESTUDIO MERCADO'!$T35>0,ABS(1-'MODELO ESTUDIO MERCADO'!$T35/'MODELO ESTUDIO MERCADO'!$X35),"") | V35: 0 | W35: =IF('MODELO ESTUDIO MERCADO'!$V35>0,ABS(1-'MODELO ESTUDIO MERCADO'!$V35/'MODELO ESTUDIO MERCADO'!$X35),"") | X35: =IF(SUM('MODELO ESTUDIO MERCADO'!$F35,'MODELO ESTUDIO MERCADO'!$H35,'MODELO ESTUDIO MERCADO'!$J35,'MODELO ESTUDIO MERCADO'!$L35,'MODELO ESTUDIO MERCADO'!$N35,'MODELO ESTUDIO MERCADO'!$P35,'MODELO ESTUDIO MERCADO'!$R35,'MODELO ESTUDIO MERCADO'!$T35)>0,TRUNC(AVERAGE('MODELO ESTUDIO MERCADO'!$F35,'MODELO ESTUDIO MERCADO'!$H35,'MODELO ESTUDIO MERCADO'!$J35,'MODELO ESTUDIO MERCADO'!$L35,'MODELO ESTUDIO MERCADO'!$N35,'MODELO ESTUDIO MERCADO'!$P35,'MODELO ESTUDIO MERCADO'!$R35,'MODELO ESTUDIO MERCADO'!$T35)),"SIN DATOS") -> 177679 | Y35: =COUNT('MODELO ESTUDIO MERCADO'!$F35:$U35)/2 -> 3
A36: 34 | D36: Cambio de tubería de cobre para refrigeración para equipos de aire acondicionado piso techo de 36.000 BTU. hasta 5 ml. | E36: UN | F36: 1280249.6 | G36: =IF('MODELO ESTUDIO MERCADO'!$F36>0,ABS(1-'MODELO ESTUDIO MERCADO'!$F36/'MODELO ESTUDIO MERCADO'!$X36),"") -> 0.1099634 | H36: 1100000 | I36: =IF('MODELO ESTUDIO MERCADO'!$H36>0,ABS(1-'MODELO ESTUDIO MERCADO'!$H36/'MODELO ESTUDIO MERCADO'!$X36),"") -> 0.046311131 | J36: 1080000 | K36: =IF('MODELO ESTUDIO MERCADO'!$J36>0,ABS(1-'MODELO ESTUDIO MERCADO'!$J36/'MODELO ESTUDIO MERCADO'!$X36),"") -> 0.063650929 | M36: =IF('MODELO ESTUDIO MERCADO'!$L36>0,ABS(1-'MODELO ESTUDIO MERCADO'!$L36/'MODELO ESTUDIO MERCADO'!$X36),"") | O36: =IF('MODELO ESTUDIO MERCADO'!$N36>0,ABS(1-'MODELO ESTUDIO MERCADO'!$N36/'MODELO ESTUDIO MERCADO'!$X36),"") | Q36: =IF('MODELO ESTUDIO MERCADO'!$P36>0,ABS(1-'MODELO ESTUDIO MERCADO'!$P36/'MODELO ESTUDIO MERCADO'!$X36),"") | S36: =IF('MODELO ESTUDIO MERCADO'!$R36>0,ABS(1-'MODELO ESTUDIO MERCADO'!$R36/'MODELO ESTUDIO MERCADO'!$X36),"") | U36: =IF('MODELO ESTUDIO MERCADO'!$T36>0,ABS(1-'MODELO ESTUDIO MERCADO'!$T36/'MODELO ESTUDIO MERCADO'!$X36),"") | V36: 0 | W36: =IF('MODELO ESTUDIO MERCADO'!$V36>0,ABS(1-'MODELO ESTUDIO MERCADO'!$V36/'MODELO ESTUDIO MERCADO'!$X36),"") | X36: =IF(SUM('MODELO ESTUDIO MERCADO'!$F36,'MODELO ESTUDIO MERCADO'!$H36,'MODELO ESTUDIO MERCADO'!$J36,'MODELO ESTUDIO MERCADO'!$L36,'MODELO ESTUDIO MERCADO'!$N36,'MODELO ESTUDIO MERCADO'!$P36,'MODELO ESTUDIO MERCADO'!$R36,'MODELO ESTUDIO MERCADO'!$T36)>0,TRUNC(AVERAGE('MODELO ESTUDIO MERCADO'!$F36,'MODELO ESTUDIO MERCADO'!$H36,'MODELO ESTUDIO MERCADO'!$J36,'MODELO ESTUDIO MERCADO'!$L36,'MODELO ESTUDIO MERCADO'!$N36,'MODELO ESTUDIO MERCADO'!$P36,'MODELO ESTUDIO MERCADO'!$R36,'MODELO ESTUDIO MERCADO'!$T36)),"SIN DATOS") -> 1153416 | Y36: =COUNT('MODELO ESTUDIO MERCADO'!$F36:$U36)/2 -> 3
... A44: 42 | D44: Breackers industrial para equipos de aire Piso Techo de 36.000 BTU de refrigeración a 220V. | E44: UN | F44: 384075 | G44: =IF('MODELO ESTUDIO MERCADO'!$F44>0,ABS(1-'MODELO ESTUDIO MERCADO'!$F44/'MODELO ESTUDIO MERCADO'!$X44),"") -> 0.088984408 | H44: 350000 | I44: =IF('MODELO ESTUDIO MERCADO'!$H44>0,ABS(1-'MODELO ESTUDIO MERCADO'!$H44/'MODELO ESTUDIO MERCADO'!$X44),"") -> 0.0076299083 | J44: 324000 | K44: =IF('MODELO ESTUDIO MERCADO'!$J44>0,ABS(1-'MODELO ESTUDIO MERCADO'!$J44/'MODELO ESTUDIO MERCADO'!$X44),"") -> 0.081348829 | M44: =IF('MODELO ESTUDIO MERCADO'!$L44>0,ABS(1-'MODELO ESTUDIO MERCADO'!$L44/'MODELO ESTUDIO MERCADO'!$X44),"") | O44: =IF('MODELO ESTUDIO MERCADO'!$N44>0,ABS(1-'MODELO ESTUDIO MERCADO'!$N44/'MODELO ESTUDIO MERCADO'!$X44),"") | Q44: =IF('MODELO ESTUDIO MERCADO'!$P44>0,ABS(1-'MODELO ESTUDIO MERCADO'!$P44/'MODELO ESTUDIO MERCADO'!$X44),"") | S44: =IF('MODELO ESTUDIO MERCADO'!$R44>0,ABS(1-'MODELO ESTUDIO MERCADO'!$R44/'MODELO ESTUDIO MERCADO'!$X44),"") | U44: =IF('MODELO ESTUDIO MERCADO'!$T44>0,ABS(1-'MODELO ESTUDIO MERCADO'!$T44/'MODELO ESTUDIO MERCADO'!$X44),"") | V44: 0 | W44: =IF('MODELO ESTUDIO MERCADO'!$V44>0,ABS(1-'MODELO ESTUDIO MERCADO'!$V44/'MODELO ESTUDIO MERCADO'!$X44),"") | X44: =IF(SUM('MODELO ESTUDIO MERCADO'!$F44,'MODELO ESTUDIO MERCADO'!$H44,'MODELO ESTUDIO MERCADO'!$J44,'MODELO ESTUDIO MERCADO'!$L44,'MODELO ESTUDIO MERCADO'!$N44,'MODELO ESTUDIO MERCADO'!$P44,'MODELO ESTUDIO MERCADO'!$R44,'MODELO ESTUDIO MERCADO'!$T44)>0,TRUNC(AVERAGE('MODELO ESTUDIO MERCADO'!$F44,'MODELO ESTUDIO MERCADO'!$H44,'MODELO ESTUDIO MERCADO'!$J44,'MODELO ESTUDIO MERCADO'!$L44,'MODELO ESTUDIO MERCADO'!$N44,'MODELO ESTUDIO MERCADO'!$P44,'MODELO ESTUDIO MERCADO'!$R44,'MODELO ESTUDIO MERCADO'!$T44)),"SIN DATOS") -> 352691 | Y44: =COUNT('MODELO ESTUDIO MERCADO'!$F44:$U44)/2 -> 3
A45: 43 | C45: 9.000/24.000 BTU | D45: Unidad compresor 220 v para aire acondicionado Minisplit de 9.000/24.000 BTU+ carga de gas refrigerante R-410 + filtro secador + soldadura + deshidratación del sistema + vacío + balanceo del equipo. | E45: UN | F45: 3840750 | G45: =IF('MODELO ESTUDIO MERCADO'!$F45>0,ABS(1-'MODELO ESTUDIO MERCADO'!$F45/'MODELO ESTUDIO MERCADO'!$X45),"") -> 0.10996315 | H45: 3300000 | I45: =IF('MODELO ESTUDIO MERCADO'!$H45>0,ABS(1-'MODELO ESTUDIO MERCADO'!$H45/'MODELO ESTUDIO MERCADO'!$X45),"") -> 0.046311683 | J45: 3240000 | K45: =IF('MODELO ESTUDIO MERCADO'!$J45>0,ABS(1-'MODELO ESTUDIO MERCADO'!$J45/'MODELO ESTUDIO MERCADO'!$X45),"") -> 0.06365147 | M45: =IF('MODELO ESTUDIO MERCADO'!$L45>0,ABS(1-'MODELO ESTUDIO MERCADO'!$L45/'MODELO ESTUDIO MERCADO'!$X45),"") | O45: =IF('MODELO ESTUDIO MERCADO'!$N45>0,ABS(1-'MODELO ESTUDIO MERCADO'!$N45/'MODELO ESTUDIO MERCADO'!$X45),"") | Q45: =IF('MODELO ESTUDIO MERCADO'!$P45>0,ABS(1-'MODELO ESTUDIO MERCADO'!$P45/'MODELO ESTUDIO MERCADO'!$X45),"") | S45: =IF('MODELO ESTUDIO MERCADO'!$R45>0,ABS(1-'MODELO ESTUDIO MERCADO'!$R45/'MODELO ESTUDIO MERCADO'!$X45),"") | U45: =IF('MODELO ESTUDIO MERCADO'!$T45>0,ABS(1-'MODELO ESTUDIO MERCADO'!$T45/'MODELO ESTUDIO MERCADO'!$X45),"") | V45: 0 | W45: =IF('MODELO ESTUDIO MERCADO'!$V45>0,ABS(1-'MODELO ESTUDIO MERCADO'!$V45/'MODELO ESTUDIO MERCADO'!$X45),"") | X45: =IF(SUM('MODELO ESTUDIO MERCADO'!$F45,'MODELO ESTUDIO MERCADO'!$H45,'MODELO ESTUDIO MERCADO'!$J45,'MODELO ESTUDIO MERCADO'!$L45,'MODELO ESTUDIO MERCADO'!$N45,'MODELO ESTUDIO MERCADO'!$P45,'MODELO ESTUDIO MERCADO'!$R45,'MODELO ESTUDIO MERCADO'!$T45)>0,TRUNC(AVERAGE('MODELO ESTUDIO MERCADO'!$F45,'MODELO ESTUDIO MERCADO'!$H45,'MODELO ESTUDIO MERCADO'!$J45,'MODELO ESTUDIO MERCADO'!$L45,'MODELO ESTUDIO MERCADO'!$N45,'MODELO ESTUDIO MERCADO'!$P45,'MODELO ESTUDIO MERCADO'!$R45,'MODELO ESTUDIO MERCADO'!$T45)),"SIN DATOS") -> 3460250 | Y45: =COUNT('MODELO ESTUDIO MERCADO'!$F45:$U45)/2 -> 3
A46: 44 | D46: Tarjeta electrónica para aire acondicionado Minispilt de 9.000/24.000 BTU. | E46: UN | F46: 1920375 | G46: =IF('MODELO ESTUDIO MERCADO'!$F46>0,ABS(1-'MODELO ESTUDIO MERCADO'!$F46/'MODELO ESTUDIO MERCADO'!$X46),"") -> 0.097278766 | H46: 1710000 | I46: =IF('MODELO ESTUDIO MERCADO'!$H46>0,ABS(1-'MODELO ESTUDIO MERCADO'!$H46/'MODELO ESTUDIO MERCADO'!$X46),"") -> 0.022926934 | J46: 1620000 | K46: =IF('MODELO ESTUDIO MERCADO'!$J46>0,ABS(1-'MODELO ESTUDIO MERCADO'!$J46/'MODELO ESTUDIO MERCADO'!$X46),"") -> 0.074351832 | M46: =IF('MODELO ESTUDIO MERCADO'!$L46>0,ABS(1-'MODELO ESTUDIO MERCADO'!$L46/'MODELO ESTUDIO MERCADO'!$X46),"") | O46: =IF('MODELO ESTUDIO MERCADO'!$N46>0,ABS(1-'MODELO ESTUDIO MERCADO'!$N46/'MODELO ESTUDIO MERCADO'!$X46),"") | Q46: =IF('MODELO ESTUDIO MERCADO'!$P46>0,ABS(1-'MODELO ESTUDIO MERCADO'!$P46/'MODELO ESTUDIO MERCADO'!$X46),"") | S46: =IF('MODELO ESTUDIO MERCADO'!$R46>0,ABS(1-'MODELO ESTUDIO MERCADO'!$R46/'MODELO ESTUDIO MERCADO'!$X46),"") | U46: =IF('MODELO ESTUDIO MERCADO'!$T46>0,ABS(1-'MODELO ESTUDIO MERCADO'!$T46/'MODELO ESTUDIO MERCADO'!$X46),"") | V46: 0 | W46: =IF('MODELO ESTUDIO MERCADO'!$V46>0,ABS(1-'MODELO ESTUDIO MERCADO'!$V46/'MODELO ESTUDIO MERCADO'!$X46),"") | X46: =IF(SUM('MODELO ESTUDIO MERCADO'!$F46,'MODELO ESTUDIO MERCADO'!$H46,'MODELO ESTUDIO MERCADO'!$J46,'MODELO ESTUDIO MERCADO'!$L46,'MODELO ESTUDIO MERCADO'!$N46,'MODELO ESTUDIO MERCADO'!$P46,'MODELO ESTUDIO MERCADO'!$R46,'MODELO ESTUDIO MERCADO'!$T46)>0,TRUNC(AVERAGE('MODELO ESTUDIO MERCADO'!$F46,'MODELO ESTUDIO MERCADO'!$H46,'MODELO ESTUDIO MERCADO'!$J46,'MODELO ESTUDIO MERCADO'!$L46,'MODELO ESTUDIO MERCADO'!$N46,'MODELO ESTUDIO MERCADO'!$P46,'MODELO ESTUDIO MERCADO'!$R46,'MODELO ESTUDIO MERCADO'!$T46)),"SIN DATOS") -> 1750125 | Y46: =COUNT('MODELO ESTUDIO MERCADO'!$F46:$U46)/2 -> 3
