Workbook
Name _1: #REF!
Name _2: #REF!
Name _QTY1: #REF!
Name _R: #REF!
Name A_impresión_IM: #REF!
Name AC: #REF!
Name ADMIN: #REF!
Name AGREGADOS_PÉTREOS: #REF!
Name APIQUES: #REF!
Name APIQUES.: #REF!
Name arauca: #REF!
Name AT: #REF!
Name ATenerEnCuenta: '[2]IMPUESTOS Y VR TOTAL'!$B$66:$E$88
Name AYU: #REF!
Name AYU_FBC: #REF!
Name B4450.: #REF!
Name BARCAZA: #REF!
Name BARGE: #REF!
Name BOTA: #REF!
Name BOTA_DEP: #REF!
Name BRAGA: #REF!
Name BRAGA_DEP: #REF!
Name BUZOS: #REF!
Name Calidad: '[2]PERSONAL Y OTROS'!$P$53
Name Campamento: '[2]PERSONAL Y OTROS'!$P$128
Name CASCO: #REF!
Name CASCO_DEP: #REF!
Name CAT_A: #REF!
Name CAT_B: #REF!
Name cc: [3]PERSONAL!$D$8
Name CdadCalidad: '[2]PERSONAL Y OTROS'!$B$54:$B$62
Name CdadCalidades: '[2]PERSONAL Y OTROS'!$C$53
Name CdadNoFactura: '[2]PERSONAL Y OTROS'!$B$47:$B$51
Name CdadNoFacturables: '[2]PERSONAL Y OTROS'!$C$46
Name CdadProfesional: '[2]PERSONAL Y OTROS'!$B$14:$B$32
Name CdadProfesionales: '[2]PERSONAL Y OTROS'!$C$13
Name CdadTecnico: '[2]PERSONAL Y OTROS'!$B$35:$B$44
Name CdadTecnicos: '[2]PERSONAL Y OTROS'!$C$34
Name CENT_MOV: #REF!
Name CENTRIF: #REF!
Name CHAL: #REF!
Name CHAL_DEP: #REF!
Name CN: #REF!
Name CONTROL_LAKE: #REF!
Name CONV: #REF!
Name CostoDirecto: '[2]PERSONAL Y OTROS'!$O$9
Name CostoDirectoObra: '[2]COSTEO TOTAL OBRA'!$D$7
Name CotizacionARP: '[2]INFORMACION DEL FP'!$G$32:$J$36
Name CPT: #REF!
Name CPT_MOV: #REF!
Name CxC: #REF!
Name Database: #REF!
Name DESECHO: #REF!
Name DestinoConsultoria: '[2]IMPUESTOS Y VR TOTAL'!$F$52
Name DestinoObra: '[2]IMPUESTOS Y VR TOTAL'!$D$10
Name DISEÑO_MEZCLA_DE_MATERIALES: #REF!
Name DISEÑOS: #REF!
Name DOLAR: #REF!
Name dollar: #REF!
Name DRYDOCK_D1015: #REF!

Sheet 1. Análisis Económico
A1: FISCALIA GENERAL DE LA NACION
A2: SUBDIRECCION REGIONAL DE APOYO CENTRAL
A3: ANÁLISIS ECONÓMICO - INTERVENTORIA DE OBRA
A4: COTIZACION 1 - JAVIER JOSE PEREIRA AREIZA | K4: COTIZACION 2 - CAMPING INGENIERIA SAS | U4: MEDIA ARITMETICA BAJA - COTIZACIONES
A6: DESCRIPCION DE LA NECESIDAD | K6: DESCRIPCION DE LA NECESIDAD | U6: DESCRIPCION DE LA NECESIDAD
C7: A | D7: B | E7: C | F7: D | G7: E | H7: F | M7: A | N7: B | O7: C | P7: D | Q7: E | R7: F | W7: A | X7: B | Y7: C | Z7: D | AA7: E | AB7: F
A8: ITEM | B8: PERSONAL PROFESIONAL | C8: CANTIDAD | D8: SUELDO MES BÁSICO | E8: % DEDICACIÓN | F8: F.M (%) | G8: VALOR MES (AxBxCxD) | H8: No. DE MESES | I8: TOTAL PARCIAL (ExF) | K8: ITEM | L8: PERSONAL PROFESIONAL | M8: CANTIDAD | N8: SUELDO MES BÁSICO | O8: % DEDICACIÓN | P8: F.M (%) | Q8: VALOR MES (AxBxCxD) | R8: No. DE MESES | S8: TOTAL PARCIAL (ExF) | U8: ITEM | V8: PERSONAL PROFESIONAL | W8: CANTIDAD | X8: SUELDO MES BÁSICO | Y8: % DEDICACIÓN | Z8: F.M (%) | AA8: VALOR MES (AxBxCxD) | AB8: No. DE MESES | AC8: TOTAL PARCIAL (ExF)
A9: 1 | B9: Director de Interventoria | C9: 1 | D9: 6850000 | E9: 0.3 | F9: =G76 -> 2.25 | G9: =+C9*D9*E9*F9 -> 4623750 | H9: 7 | I9: =+G9*H9 -> 32366250 | K9: 1 | L9: Director de Interventoria | M9: 1 | N9: 7000000 | O9: 0.3 | P9: =Q76 -> 2.25 | Q9: =+M9*N9*O9*P9 -> 4725000 | R9: 7 | S9: =+Q9*R9 -> 33075000 | U9: 1 | V9: Director de Interventoria | W9: 1 | X9: =AVERAGE((AVERAGE(D9,N9)),(D9)) -> 6887500 | Y9: 0.3 | Z9: =AVERAGE((AVERAGE(F9,P9)),(F9)) -> 2.25 | AA9: =+W9*X9*Y9*Z9 -> 4649062.5 | AB9: 7 | AC9: =+AA9*AB9 -> 32543438
A10: SUBTOTAL COSTO PERSONAL PROFESIONAL (1) | I10: =SUM(I9:I9) -> 32366250 | K10: SUBTOTAL COSTO PERSONAL PROFESIONAL (1) | S10: =SUM(S9:S9) -> 33075000 | U10: SUBTOTAL COSTO PERSONAL PROFESIONAL (1) | AC10: =SUM(AC9:AC9) -> 32543438
A12: ITEM | B12: PERSONAL TECNICO | C12: CANTIDAD | D12: SUELDO MES BÁSICO | E12: % DEDICACIÓN | F12: F.M (%) | G12: VALOR MES (AxBxCxD) | H12: No. DE MESES | I12: TOTAL PARCIAL (ExF) | K12: ITEM | L12: PERSONAL TECNICO | M12: CANTIDAD | N12: SUELDO MES BÁSICO | O12: % DEDICACIÓN | P12: F.M (%) | Q12: VALOR MES (AxBxCxD) | R12: No. DE MESES | S12: TOTAL PARCIAL (ExF) | U12: ITEM | V12: PERSONAL TECNICO | W12: CANTIDAD | X12: SUELDO MES BÁSICO | Y12: % DEDICACIÓN | Z12: F.M (%) | AA12: VALOR MES (AxBxCxD) | AB12: No. DE MESES | AC12: TOTAL PARCIAL (ExF)
A13: 2 | B13: Residente en Salud Ocupacional (SST) | C13: 1 | D13: 4650000 | E13: 0.5 | F13: =G76 -> 2.25 | G13: =(C13*D13*E13*F13) -> 5231250 | H13: 7 | I13: =+G13*H13 -> 36618750 | K13: 2 | L13: Residente en Salud Ocupacional (SST) | M13: 1 | N13: 5000000 | O13: 0.5 | P13: =Q76 -> 2.25 | Q13: =(M13*N13*O13*P13) -> 5625000 | R13: 7 | S13: =+Q13*R13 -> 39375000 | U13: 2 | V13: Residente en Salud Ocupacional (SST) | W13: 1 | X13: =AVERAGE((AVERAGE(D13,N13)),(D13)) -> 4737500 | Y13: 0.5 | Z13: =AVERAGE((AVERAGE(F13,P13)),(F13)) -> 2.25 | AA13: =(W13*X13*Y13*Z13) -> 5329687.5 | AB13: 7 | AC13: =+AA13*AB13 -> 37307812
A14: 3 | B14: Residente de Interventoria | C14: 1 | D14: 5700000 | E14: 1 | F14: =G76 -> 2.25 | G14: =(C14*D14*E14*F14) -> 12825000 | H14: 7 | I14: =+G14*H14 -> 89775000 | K14: 3 | L14: Residente de Interventoria | M14: 1 | N14: 6000000 | O14: 1 | P14: =Q76 -> 2.25 | Q14: =(M14*N14*O14*P14) -> 13500000 | R14: 7 | S14: =+Q14*R14 -> 94500000 | U14: 3 | V14: Residente de Interventoria | W14: 1 | X14: =AVERAGE((AVERAGE(D14,N14)),(D14)) -> 5775000 | Y14: 1 | Z14: =AVERAGE((AVERAGE(F14,P14)),(F14)) -> 2.25 | AA14: =(W14*X14*Y14*Z14) -> 12993750 | AB14: 7 | AC14: =+AA14*AB14 -> 90956250
A15: 4 | B15: Residente Ambiental | C15: 1 | D15: 4650000 | E15: 0.5 | F15: =G76 -> 2.25 | G15: =(C15*D15*E15*F15) -> 5231250 | H15: 7 | I15: =+G15*H15 -> 36618750 | K15: 4 | L15: Residente Ambiental | M15: 1 | N15: 5000000 | O15: 0.5 | P15: =Q76 -> 2.25 | Q15: =(M15*N15*O15*P15) -> 5625000 | R15: 7 | S15: =+Q15*R15 -> 39375000 | U15: 4 | V15: Residente Ambiental | W15: 1 | X15: =AVERAGE((AVERAGE(D15,N15)),(D15)) -> 4737500 | Y15: 0.5 | Z15: =AVERAGE((AVERAGE(F15,P15)),(F15)) -> 2.25 | AA15: =(W15*X15*Y15*Z15) -> 5329687.5 | AB15: 7 | AC15: =+AA15*AB15 -> 37307812
A16: SUBTOTAL COSTOS PERSONAL TECNICO (2) | I16: =SUM(I13:I15) -> 163012500 | K16: SUBTOTAL COSTOS PERSONAL TECNICO (2) | S16: =SUM(S13:S15) -> 173250000 | U16: SUBTOTAL COSTOS PERSONAL TECNICO (2) | AC16: =SUM(AC13:AC15) -> 165571875
A18: ITEM | B18: OTROS COSTOS DIRECTOS | F18: UNIDAD | G18: CANTIDAD | H18: VALOR UNITARIO | I18: TOTAL PARCIAL | K18: ITEM | L18: OTROS COSTOS DIRECTOS | P18: UNIDAD | Q18: CANTIDAD | R18: VALOR UNITARIO | S18: TOTAL PARCIAL | U18: ITEM | V18: OTROS COSTOS DIRECTOS | Z18: UNIDAD | AA18: CANTIDAD | AB18: VALOR UNITARIO | AC18: TOTAL PARCIAL
A19: 5 | B19: Comunicaciones | F19: Mes | G19: 7 | H19: 850000 | I19: =+H19*G19 -> 5950000 | K19: 5 | L19: Comunicaciones | P19: Mes | Q19: 7 | R19: 750000 | S19: =Q19*R19 -> 5250000 | U19: 5 | V19: Comunicaciones | Z19: Mes | AA19: 7 | AB19: =AVERAGE((AVERAGE(H19,R19)),(H19)) -> 825000 | AC19: =+AB19*AA19 -> 5775000
A20: 6 | B20: Informes | F20: Mes | G20: 7 | H20: 350000 | I20: =+H20*G20 -> 2450000 | K20: 6 | L20: Informes | P20: Mes | Q20: 7 | R20: 250000 | S20: =Q20*R20 -> 1750000 | U20: 6 | V20: Informes | Z20: Mes | AA20: 7 | AB20: =AVERAGE((AVERAGE(H20,R20)),(H20)) -> 325000 | AC20: =+AB20*AA20 -> 2275000
A21: SUBTOTAL OTROS COSTOS DIRECTOS (3) | I21: =SUM(I19:I20) -> 8400000 | K21: SUBTOTAL OTROS COSTOS DIRECTOS (3) | S21: =SUM(S19:S20) -> 7000000 | U21: SUBTOTAL OTROS COSTOS DIRECTOS (3) | AC21: =SUM(AC19:AC20) -> 8050000
A23: RESUMEN GENERAL PROPUESTA ECONÓMICA | K23: RESUMEN GENERAL PROPUESTA ECONÓMICA | U23: RESUMEN GENERAL PROPUESTA ECONÓMICA
A24: VALOR TOTAL (1+2+3) | I24: =+I10+I16+I21 -> 203778750 | K24: VALOR TOTAL (1+2+3) | S24: =+S10+S16+S21 -> 213325000 | U24: VALOR TOTAL (1+2+3) | AC24: =+AC10+AC16+AC21 -> 2.0616531e+08
A25: IVA | C25: 0.19 | I25: =+I24*C25 -> 38717962 | K25: IVA | M25: 0.19 | S25: =+S24*M25 -> 40531750 | U25: IVA | W25: 0.19 | AC25: =+AC24*W25 -> 39171409
A26: VALOR TOTAL INTERVENTORIA | I26: =SUM(I24:I25) -> 2.4249671e+08 | K26: VALOR TOTAL INTERVENTORIA | S26: =SUM(S24:S25) -> 253856750 | U26: VALOR TOTAL INTERVENTORIA | AC26: =SUM(AC24:AC25) -> 2.4533672e+08
A27: VALOR TOTAL DE LA COTIZACIÓN | I27: =+I26 -> 2.4249671e+08 | K27: VALOR TOTAL DE LA COTIZACIÓN | S27: =+S26 -> 253856750 | U27: VALOR TOTAL PROMEDIO COTIZACIONES | AC27: =+AC26 -> 2.4533672e+08
C30: FACTOR MULTIPLICADOR | M30: FACTOR MULTIPLICADOR
C32: ITEM | D32: DESCRIPCIÓN | G32: % | M32: ITEM | N32: DESCRIPCIÓN | Q32: %
C34: A | D34: Salario Básico (Nómina Total Mensual) | G34: 1 | M34: A | N34: Salario Básico (Nómina Total Mensual) | Q34: 1
C36: B | D36: Prestaciones Sociales | G36: =SUM(G37:G40) -> 0.2204 | M36: B | N36: Prestaciones Sociales | Q36: =SUM(Q37:Q40) -> 0.2204
D37: Prima de servicios | G37: 0.0833 | N37: Prima de servicios | Q37: 0.0833
D38: Cesantías | G38: 0.0833 | N38: Cesantías | Q38: 0.0833
D39: Intereses sobre cesantías | G39: 0.01 | N39: Intereses sobre cesantías | Q39: 0.01
D40: Vacaciones | G40: 0.0438 | N40: Vacaciones | Q40: 0.0438
C42: C | D42: Sistema de Seguridad Social Integral | G42: =SUM(G43:G48) -> 0.2723 | M42: C | N42: Sistema de Seguridad Social Integral | Q42: =SUM(Q43:Q48) -> 0.2723
D43: Pensión | G43: 0.13 | N43: Pensión | Q43: 0.13
D44: Salud | G44: 0.0313 | N44: Salud | Q44: 0.0313
D45: ARP | G45: 0.0585 | N45: ARP | Q45: 0.0585
D46: Subsidio Familiar | G46: 0.04 | N46: Subsidio Familiar | Q46: 0.04
D47: SENA | G47: 0.005 | N47: SENA | Q47: 0.005
D48: ICBF | G48: 0.0075 | N48: ICBF | Q48: 0.0075
C50: D | D50: Otros | G50: =SUM(G51:G52) -> 0.017 | M50: D | N50: Otros | Q50: =SUM(Q51:Q52) -> 0.02
D51: Subsidio de Transporte (permisos, bonificaciones, seguros, etc) | G51: 0.015 | N51: Subsidio de Transporte (permisos, bonificaciones, seguros, etc) | Q51: 0.015
...

Sheet 2. Valor Definitivo
A1: VALOR DEFINITIVO
A3: DESCRIPCION DE LA NECESIDAD
C4: A | D4: B | E4: C | F4: D | G4: E | H4: F
A5: ITEM | B5: PERSONAL PROFESIONAL | C5: CANTIDAD | D5: SUELDO MES BÁSICO | E5: % DEDICACIÓN | F5: F.M (%) | G5: VALOR MES (AxBxCxD) | H5: No. DE MESES | I5: TOTAL PARCIAL (ExF)
A6: 1 | B6: Director de Interventoria | C6: 1 | D6: ='1. Análisis Económico'!X9 -> 6887500 | E6: 0.3 | F6: ='1. Análisis Económico'!Z9 -> 2.25 | G6: =+C6*D6*E6*F6 -> 4649062.5 | H6: 7 | I6: =+G6*H6 -> 32543438
A7: SUBTOTAL COSTO PERSONAL PROFESIONAL (1) | I7: =SUM(I6:I6) -> 32543438
A9: ITEM | B9: PERSONAL TECNICO | C9: CANTIDAD | D9: SUELDO MES BÁSICO | E9: % DEDICACIÓN | F9: F.M (%) | G9: VALOR MES (AxBxCxD) | H9: No. DE MESES | I9: TOTAL PARCIAL (ExF)
A10: 2 | B10: Residente en Salud Ocupacional (SST) | C10: 1 | D10: ='1. Análisis Económico'!X13 -> 4737500 | E10: 0.5 | F10: ='1. Análisis Económico'!Z13 -> 2.25 | G10: =(C10*D10*E10*F10) -> 5329687.5 | H10: 7 | I10: =+G10*H10 -> 37307812
A11: 3 | B11: Residente de Interventoria | C11: 1 | D11: ='1. Análisis Económico'!X14 -> 5775000 | E11: 1 | F11: ='1. Análisis Económico'!Z14 -> 2.25 | G11: =(C11*D11*E11*F11) -> 12993750 | H11: 7 | I11: =+G11*H11 -> 90956250
A12: 4 | B12: Residente Ambiental | C12: 1 | D12: ='1. Análisis Económico'!X15 -> 4737500 | E12: 0.5 | F12: ='1. Análisis Económico'!Z15 -> 2.25 | G12: =(C12*D12*E12*F12) -> 5329687.5 | H12: 7 | I12: =+G12*H12 -> 37307812
A13: SUBTOTAL COSTOS PERSONAL TECNICO (2) | I13: =SUM(I10:I12) -> 165571875
A15: ITEM | B15: OTROS COSTOS DIRECTOS | F15: UNIDAD | G15: CANTIDAD | H15: VALOR UNITARIO | I15: TOTAL PARCIAL
A16: 5 | B16: Comunicaciones | F16: Mes | G16: 7 | H16: ='1. Análisis Económico'!AB19 -> 825000 | I16: =+H16*G16 -> 5775000
A17: 6 | B17: Informes | F17: Mes | G17: 7 | H17: ='1. Análisis Económico'!AB20 -> 325000 | I17: =+H17*G17 -> 2275000
A18: SUBTOTAL OTROS COSTOS DIRECTOS (3) | I18: =SUM(I16:I17) -> 8050000
A20: RESUMEN GENERAL VALORES DEFINITIVOS
A21: VALOR TOTAL (1+2+3) | I21: =I7+I13+I18 -> 2.0616531e+08
A22: IVA | C22: 0.19 | I22: =+I21*C22 -> 39171409
A23: VALOR TOTAL INTERVENTORIA | I23: =SUM(I21:I22) -> 2.4533672e+08
A24: VALOR TOTAL DEFINITIVO | I24: =I23 -> 2.4533672e+08
A26: Es pertinente señalar que, tratándose de la modalidad de Concurso de Méritos, la evaluación y posterior selección del consultor o proponente se fundamenta exclusivamente en criterios de capacidad técnica, experiencia específica y metodología propuesta, de conformidad con los principios de objetividad, transparencia y prevalencia del mérito que rigen este tipo de procesos. En consecuencia, el componente económico no constituye un factor de ponderación, ni otorga puntaje alguno dentro del análisis de elegibilidad o calificación; su función se limita a verificar la viabilidad financiera de la propuesta frente a los topes presupuestales definidos por la entidad. No obstante lo anterior, y en atención a lo dispuesto en las reglas del proceso, la entidad sí está facultada para rechazar aquellas ofertas cuyo valor presentado exceda el presupuesto oficial definitivo, en tanto tal situación configura un incumplimiento de los requisitos habilitantes y afecta la posibilidad de ejecutar el objeto contractual dentro de los límites financieros establecidos. Para el presente procedimiento, dicho valor corresponde a un monto máximo de $245.336.722, cifra que representa el tope presupuestal definitivo aprobado. En consecuencia, cualquier propuesta que sobrepase este valor deberá ser descartada por no ajustarse a los parámetros económicos establecidos en los pliegos de condiciones.
