Workbook
Name CATORCENA: #REF!
Name consol: #REF!
Name consol: #REF!
Name Decision: #REF!
Name Decision: #REF!
Name Excel_BuiltIn_Print_Area_1: #REF!
Name Excel_BuiltIn_Print_Area_7: #REF!
Name Excel_BuiltIn_Print_Titles_1: #REF!
Name H427.: #REF!
Name Print_Area_0: 'PRESUPUESTO DE OBRA'!$B$1:$K$32
Name Print_Area_0_0: 'PRESUPUESTO DE OBRA'!$B$1:$K$32
Name Print_Area_0_0_0: 'PRESUPUESTO DE OBRA'!$B$1:$K$32
Name Print_Titles_0: 'PRESUPUESTO DE OBRA'!$1:$3
Name Print_Titles_0_0: 'PRESUPUESTO DE OBRA'!$1:$3
Name Print_Titles_0_0_0: 'PRESUPUESTO DE OBRA'!$1:$3
Name Valoracion: #REF!
Name Valoracion: #REF!
Name VALORACIÓN: #REF!
Name VALORACIÓN: #REF!

Sheet PRESUPUESTO DE OBRA
B1: PRESUPUESTO DE OBRA ADICIONAL
C5: CONTRATO No | F5: =+#REF! -> #REF!
C7: OBJETO DEL CONTRATO
C8: =+#REF! -> #REF!
C12: (Indique el objeto del contrato de ejecución suscrito)
C13: CONTRATISTA | F13: =+#REF! -> #REF! | K13: =+#REF! -> #REF!
F14: (Escriba el nombre o razón social del Contratista de Obra.)
C15: INTERVENTOR | F15: =+#REF! -> #REF! | K15: =+#REF! -> #REF!
F16: (Escriba el nombre o razón social del Interventor)
C17: SUPERVISOR | F17: =+#REF! -> #REF!
F18: (Escriba el nombre del supervisión delegado para el contrato de Interventoría)
C19: APOYO A LA SUPERVISION | F19: =+#REF! -> #REF!
F20: (Escriba el nombre del Profesional de Apoyo Técnico a la Supervisiónpara el contrato de Interventoría)
C21: ÍTEM No. | D21: CONDICIONES CONTRACTUALES INICIALES | J21: 1 | K21: =+LOOKUP(J21,'MEMORIAS DE CALCULO PRESUPUESTO'!$Z$15:$AR$15,'MEMORIAS DE CALCULO PRESUPUESTO'!$Z$16:$AR$16) -> 14001469 | L21: 2 | M21: =+LOOKUP(L21,'MEMORIAS DE CALCULO PRESUPUESTO'!$Z$15:$AR$15,'MEMORIAS DE CALCULO PRESUPUESTO'!$Z$16:$AR$16) -> 14001481 | N21: =+L21+1 -> 3 | O21: =+LOOKUP(N21,'MEMORIAS DE CALCULO PRESUPUESTO'!$Z$15:$AR$15,'MEMORIAS DE CALCULO PRESUPUESTO'!$Z$16:$AR$16) -> 14000772 | P21: =+N21+1 -> 4 | Q21: =+LOOKUP(P21,'MEMORIAS DE CALCULO PRESUPUESTO'!$Z$15:$AR$15,'MEMORIAS DE CALCULO PRESUPUESTO'!$Z$16:$AR$16) -> 14000741 | R21: =+P21+1 -> 5 | S21: =+LOOKUP(R21,'MEMORIAS DE CALCULO PRESUPUESTO'!$Z$15:$AR$15,'MEMORIAS DE CALCULO PRESUPUESTO'!$Z$16:$AR$16) -> 14000718 | T21: =+R21+1 -> 6 | U21: =+LOOKUP(T21,'MEMORIAS DE CALCULO PRESUPUESTO'!$Z$15:$AR$15,'MEMORIAS DE CALCULO PRESUPUESTO'!$Z$16:$AR$16) -> 14001678 | V21: =+T21+1 -> 7 | W21: =+LOOKUP(V21,'MEMORIAS DE CALCULO PRESUPUESTO'!$Z$15:$AR$15,'MEMORIAS DE CALCULO PRESUPUESTO'!$Z$16:$AR$16) -> 14001545 | X21: =+V21+1 -> 8 | Y21: =+LOOKUP(X21,'MEMORIAS DE CALCULO PRESUPUESTO'!$Z$15:$AR$15,'MEMORIAS DE CALCULO PRESUPUESTO'!$Z$16:$AR$16) -> 14001517 | Z21: =+X21+1 -> 9 | AA21: =+LOOKUP(Z21,'MEMORIAS DE CALCULO PRESUPUESTO'!$Z$15:$AR$15,'MEMORIAS DE CALCULO PRESUPUESTO'!$Z$16:$AR$16) -> 14001156 | AB21: =+Z21+1 -> 10 | AC21: =+LOOKUP(AB21,'MEMORIAS DE CALCULO PRESUPUESTO'!$Z$15:$AR$15,'MEMORIAS DE CALCULO PRESUPUESTO'!$Z$16:$AR$16) -> 14001367 | AD21: =+AB21+1 -> 11 | AE21: =+LOOKUP(AD21,'MEMORIAS DE CALCULO PRESUPUESTO'!$Z$15:$AR$15,'MEMORIAS DE CALCULO PRESUPUESTO'!$Z$16:$AR$16) -> 14000126 | AF21: =+AD21+1 -> 12 | AG21: =+LOOKUP(AF21,'MEMORIAS DE CALCULO PRESUPUESTO'!$Z$15:$AR$15,'MEMORIAS DE CALCULO PRESUPUESTO'!$Z$16:$AR$16) -> 14000550 | AH21: =+AF21+1 -> 13 | AI21: =+LOOKUP(AH21,'MEMORIAS DE CALCULO PRESUPUESTO'!$Z$15:$AR$15,'MEMORIAS DE CALCULO PRESUPUESTO'!$Z$16:$AR$16) -> 14001058 | AJ21: =+AH21+1 -> 14 | AK21: =+LOOKUP(AJ21,'MEMORIAS DE CALCULO PRESUPUESTO'!$Z$15:$AR$15,'MEMORIAS DE CALCULO PRESUPUESTO'!$Z$16:$AR$16) -> 14000205 | AL21: =+AJ21+1 -> 15 | AM21: =+LOOKUP(AL21,'MEMORIAS DE CALCULO PRESUPUESTO'!$Z$15:$AR$15,'MEMORIAS DE CALCULO PRESUPUESTO'!$Z$16:$AR$16) -> 14001506 | AN21: =+AL21+1 -> 16 | AO21: =+LOOKUP(AN21,'MEMORIAS DE CALCULO PRESUPUESTO'!$Z$15:$AR$15,'MEMORIAS DE CALCULO PRESUPUESTO'!$Z$16:$AR$16) -> 14001265 | AP21: =+AN21+1 -> 17 | AQ21: =+LOOKUP(AP21,'MEMORIAS DE CALCULO PRESUPUESTO'!$Z$15:$AR$15,'MEMORIAS DE CALCULO PRESUPUESTO'!$Z$16:$AR$16) -> 14000282 | AR21: =+AP21+1 -> 18 | AS21: =+LOOKUP(AR21,'MEMORIAS DE CALCULO PRESUPUESTO'!$Z$15:$AR$15,'MEMORIAS DE CALCULO PRESUPUESTO'!$Z$16:$AR$16) -> 14001619 | AT21: =+AR21+1 -> 19 | AU21: =+LOOKUP(AT21,'MEMORIAS DE CALCULO PRESUPUESTO'!$Z$15:$AR$15,'MEMORIAS DE CALCULO PRESUPUESTO'!$Z$16:$AR$16) -> 14001616
J23: CANTIDAD | K23: VALOR TOTAL | L23: CANTIDAD | M23: VALOR TOTAL | N23: CANTIDAD | O23: VALOR TOTAL | P23: CANTIDAD | Q23: VALOR TOTAL | R23: CANTIDAD | S23: VALOR TOTAL | T23: CANTIDAD | U23: VALOR TOTAL | V23: CANTIDAD | W23: VALOR TOTAL | X23: CANTIDAD | Y23: VALOR TOTAL | Z23: CANTIDAD | AA23: VALOR TOTAL | AB23: CANTIDAD | AC23: VALOR TOTAL | AD23: CANTIDAD | AE23: VALOR TOTAL | AF23: CANTIDAD | AG23: VALOR TOTAL | AH23: CANTIDAD | AI23: VALOR TOTAL | AJ23: CANTIDAD | AK23: VALOR TOTAL | AL23: CANTIDAD | AM23: VALOR TOTAL | AN23: CANTIDAD | AO23: VALOR TOTAL | AP23: CANTIDAD | AQ23: VALOR TOTAL | AR23: CANTIDAD | AS23: VALOR TOTAL | AT23: CANTIDAD | AU23: VALOR TOTAL | AV23: CANTIDADES TOTALES | AW23: VALORES TOTALES
D24: DESCRIPCIÓN | F24: UND. | G24: CANT. | H24: PRECIO UNIT | I24: VALOR
B25: A | C25: 1 | D25: PRELIMINARES
B26: 1 | C26: 1.01 | D26: REPLANTEO GENERAL | F26: M2 | H26: 553 | I26: =+ROUND(H26*G26,0) -> 0 | J26: 378 | K26: =+IF(J26="","",+J26*$H26) -> 209034 | L26: 403.2 | M26: =+IF(L26="","",+L26*$H26) -> 222969.6 | N26: 459 | O26: =+IF(N26="","",+N26*$H26) -> 253827 | P26: 432 | Q26: =+IF(P26="","",+P26*$H26) -> 238896 | R26: 243 | S26: =+IF(R26="","",+R26*$H26) -> 134379 | T26: 252 | U26: =+IF(T26="","",+T26*$H26) -> 139356 | V26: 399 | W26: =+IF(V26="","",+V26*$H26) -> 220647 | X26: 378 | Y26: =+IF(X26="","",+X26*$H26) -> 209034 | Z26: 602 | AA26: =+IF(Z26="","",+Z26*$H26) -> 332906 | AB26: 900 | AC26: =+IF(AB26="","",+AB26*$H26) -> 497700 | AD26: 1027.2 | AE26: =+IF(AD26="","",+AD26*$H26) -> 568041.6 | AG26: =+IF(AF26="","",+AF26*$H26) | AI26: =+IF(AH26="","",+AH26*$H26) | AK26: =+IF(AJ26="","",+AJ26*$H26) | AL26: 594 | AM26: =+IF(AL26="","",+AL26*$H26) -> 328482 | AR26: 342 | AS26: =+IF(AR26="","",+AR26*$H26) -> 189126 | AT26: 312 | AU26: =+IF(AT26="","",+AT26*$H26) -> 172536 | AV26: =+AB26+Z26+X26+V26+T26+R26+P26+N26+L26+J26+AD26+AF26+AH26+AJ26+AL26+AN26+AP26+AR26+AT26 -> 6721.4 | AW26: =+K26+M26+O26+Q26+S26+U26+W26+Y26+AA26+AC26+AE26+AM26+AS26+AU26 -> 3716934.2
B27: =+B26+1 -> 2 | C27: 1.02 | D27: EXCAVACION MECANICA EN MATERIAL COMUN (Incluye Cargue) | F27: M3 | H27: 4432 | I27: =+ROUND(H27*G27,0) -> 0 | J27: 434.7 | K27: =+IF(J27="","",+J27*$H27) -> 1926590.4 | L27: 463.68 | M27: =+IF(L27="","",+L27*$H27) -> 2055029.8 | N27: 408.51 | O27: =+IF(N27="","",+N27*$H27) -> 1810516.3 | P27: 384.48 | Q27: =+IF(P27="","",+P27*$H27) -> 1704015.4 | R27: 216.27 | S27: =+IF(R27="","",+R27*$H27) -> 958508.64 | T27: 224.28 | U27: =+IF(T27="","",+T27*$H27) -> 994008.96 | V27: 458.85 | W27: =+IF(V27="","",+V27*$H27) -> 2033623.2 | X27: 434.7 | Y27: =+IF(X27="","",+X27*$H27) -> 1926590.4 | Z27: 487.62 | AA27: =+IF(Z27="","",+Z27*$H27) -> 2161131.8 | AB27: 936 | AC27: =+IF(AB27="","",+AB27*$H27) -> 4148352 | AD27: 996.384 | AE27: =+IF(AD27="","",+AD27*$H27) -> 4415973.9 | AG27: =+IF(AF27="","",+AF27*$H27) | AI27: =+IF(AH27="","",+AH27*$H27) | AK27: =+IF(AJ27="","",+AJ27*$H27) | AL27: 564.3 | AM27: =+IF(AL27="","",+AL27*$H27) -> 2500977.6 | AR27: 324.9 | AS27: =+IF(AR27="","",+AR27*$H27) -> 1439956.8 | AT27: 296.4 | AU27: =+IF(AT27="","",+AT27*$H27) -> 1313644.8 | AV27: =+AB27+Z27+X27+V27+T27+R27+P27+N27+L27+J27+AD27+AF27+AH27+AJ27+AL27+AN27+AP27+AR27+AT27 -> 6631.074 | AW27: =+K27+M27+O27+Q27+S27+U27+W27+Y27+AA27+AC27+AE27+AM27+AS27+AU27 -> 29388920
B28: =+B27+1 -> 3 | C28: 1.03 | D28: EXCAVACION MANUAL EN MATERIAL COMUN. Incluye cargue. | F28: M3 | H28: 25767 | I28: =+ROUND(H28*G28,0) -> 0 | J28: 151.2 | K28: =+IF(J28="","",+J28*$H28) -> 3895970.4 | L28: 161.28 | M28: =+IF(L28="","",+L28*$H28) -> 4155701.8 | N28: 160.65 | O28: =+IF(N28="","",+N28*$H28) -> 4139468.5 | P28: 151.2 | Q28: =+IF(P28="","",+P28*$H28) -> 3895970.4 | R28: 85.05 | S28: =+IF(R28="","",+R28*$H28) -> 2191483.4 | T28: 88.2 | U28: =+IF(T28="","",+T28*$H28) -> 2272649.4 | V28: 139.65 | W28: =+IF(V28="","",+V28*$H28) -> 3598361.5 | X28: 132.3 | Y28: =+IF(X28="","",+X28*$H28) -> 3408974.1 | Z28: 180.6 | AA28: =+IF(Z28="","",+Z28*$H28) -> 4653520.2 | AB28: 360 | AC28: =+IF(AB28="","",+AB28*$H28) -> 9276120 | AD28: 410.88 | AE28: =+IF(AD28="","",+AD28*$H28) -> 10587145 | AG28: =+IF(AF28="","",+AF28*$H28) | AI28: =+IF(AH28="","",+AH28*$H28) | AK28: =+IF(AJ28="","",+AJ28*$H28) | AL28: 207.9 | AM28: =+IF(AL28="","",+AL28*$H28) -> 5356959.3 | AR28: 136.8 | AS28: =+IF(AR28="","",+AR28*$H28) -> 3524925.6 | AT28: 124.8 | AU28: =+IF(AT28="","",+AT28*$H28) -> 3215721.6 | AV28: =+AB28+Z28+X28+V28+T28+R28+P28+N28+L28+J28+AD28+AF28+AH28+AJ28+AL28+AN28+AP28+AR28+AT28 -> 2490.51 | AW28: =+K28+M28+O28+Q28+S28+U28+W28+Y28+AA28+AC28+AE28+AM28+AS28+AU28 -> 64172971
B29: =+B28+1 -> 4 | C29: 1.07 | D29: DEMOLICION PAVIMENTO ASFALTICO (Espesor Variable. Incluye Cargue). No incluye transporte y disposición final de sobrantes. Rendimiento estimado para espesores max. 0.15m | F29: M2 | H29: 4963 | I29: =+ROUND(H29*G29,0) -> 0 | J29: 378 | K29: =+IF(J29="","",+J29*$H29) -> 1876014 | L29: 403.2 | M29: =+IF(L29="","",+L29*$H29) -> 2001081.6 | N29: 0 | O29: =+IF(N29="","",+N29*$H29) -> 0 | P29: 0 | Q29: =+IF(P29="","",+P29*$H29) -> 0 | R29: 0 | S29: =+IF(R29="","",+R29*$H29) -> 0 | T29: 0 | U29: =+IF(T29="","",+T29*$H29) -> 0 | V29: 399 | W29: =+IF(V29="","",+V29*$H29) -> 1980237 | X29: 378 | Y29: =+IF(X29="","",+X29*$H29) -> 1876014 | Z29: 602 | AA29: =+IF(Z29="","",+Z29*$H29) -> 2987726 | AB29: 900 | AC29: =+IF(AB29="","",+AB29*$H29) -> 4466700 | AD29: 1027.2 | AE29: =+IF(AD29="","",+AD29*$H29) -> 5097993.6 | AG29: =+IF(AF29="","",+AF29*$H29) | AI29: =+IF(AH29="","",+AH29*$H29) | AK29: =+IF(AJ29="","",+AJ29*$H29) | AL29: 594 | AM29: =+IF(AL29="","",+AL29*$H29) -> 2948022 | AR29: 342 | AS29: =+IF(AR29="","",+AR29*$H29) -> 1697346 | AT29: 312 | AU29: =+IF(AT29="","",+AT29*$H29) -> 1548456 | AV29: =+AB29+Z29+X29+V29+T29+R29+P29+N29+L29+J29+AD29+AF29+AH29+AJ29+AL29+AN29+AP29+AR29+AT29 -> 5335.4 | AW29: =+K29+M29+O29+Q29+S29+U29+W29+Y29+AA29+AC29+AE29+AM29+AS29+AU29 -> 26479590
B30: =+B29+1 -> 5 | C30: 1.08 | D30: DEMOLICION PISOS DE CONCRETO (incluye cargue). No incluye transporte y disposición final de sobrantes. Rendimiento estimado para espesores de 0.20m. | F30: M3 | H30: 39100 | I30: =+ROUND(H30*G30,0) -> 0 | J30: 0 | K30: =+IF(J30="","",+J30*$H30) -> 0 | L30: 0 | M30: =+IF(L30="","",+L30*$H30) -> 0 | N30: 0 | O30: =+IF(N30="","",+N30*$H30) -> 0 | P30: 0 | Q30: =+IF(P30="","",+P30*$H30) -> 0 | R30: 0 | S30: =+IF(R30="","",+R30*$H30) -> 0 | T30: 0 | U30: =+IF(T30="","",+T30*$H30) -> 0 | V30: 0 | W30: =+IF(V30="","",+V30*$H30) -> 0 | X30: 0 | Y30: =+IF(X30="","",+X30*$H30) -> 0 | Z30: 0 | AA30: =+IF(Z30="","",+Z30*$H30) -> 0 | AB30: 0 | AC30: =+IF(AB30="","",+AB30*$H30) -> 0 | AD30: 0 | AE30: =+IF(AD30="","",+AD30*$H30) -> 0 | AG30: =+IF(AF30="","",+AF30*$H30) | AI30: =+IF(AH30="","",+AH30*$H30) | AK30: =+IF(AJ30="","",+AJ30*$H30) | AL30: 0 | AM30: =+IF(AL30="","",+AL30*$H30) -> 0 | AR30: 0 | AS30: =+IF(AR30="","",+AR30*$H30) -> 0 | AT30: 0 | AU30: =+IF(AT30="","",+AT30*$H30) -> 0 | AV30: =+AB30+Z30+X30+V30+T30+R30+P30+N30+L30+J30+AD30+AF30+AH30+AJ30+AL30+AN30+AP30+AR30+AT30 -> 0 | AW30: =+K30+M30+O30+Q30+S30+U30+W30+Y30+AA30+AC30+AE30+AM30+AS30+AU30 -> 0
B31: =+B30+1 -> 6 | C31: 1.09 | D31: DEMOLICION MANUAL SARDINEL EXISTENTE (Incluye Cargue). No incluye transporte y disposición final de sobrantes. | F31: ML | H31: 3715 | I31: =+ROUND(H31*G31,0) -> 0 | J31: 90 | K31: =+IF(J31="","",+J31*$H31) -> 334350 | L31: 96 | M31: =+IF(L31="","",+L31*$H31) -> 356640 | N31: 102 | O31: =+IF(N31="","",+N31*$H31) -> 378930 | P31: 96 | Q31: =+IF(P31="","",+P31*$H31) -> 356640 | R31: 54 | S31: =+IF(R31="","",+R31*$H31) -> 200610 | T31: 56 | U31: =+IF(T31="","",+T31*$H31) -> 208040 | V31: 0 | W31: =+IF(V31="","",+V31*$H31) -> 0 | X31: 0 | Y31: =+IF(X31="","",+X31*$H31) -> 0 | Z31: 172 | AA31: =+IF(Z31="","",+Z31*$H31) -> 638980 | AB31: 180 | AC31: =+IF(AB31="","",+AB31*$H31) -> 668700 | AD31: 192 | AE31: =+IF(AD31="","",+AD31*$H31) -> 713280 | AG31: =+IF(AF31="","",+AF31*$H31) | AI31: =+IF(AH31="","",+AH31*$H31) | AK31: =+IF(AJ31="","",+AJ31*$H31) | AL31: 132 | AM31: =+IF(AL31="","",+AL31*$H31) -> 490380 | AR31: 114 | AS31: =+IF(AR31="","",+AR31*$H31) -> 423510 | AT31: 104 | AU31: =+IF(AT31="","",+AT31*$H31) -> 386360 | AV31: =+AB31+Z31+X31+V31+T31+R31+P31+N31+L31+J31+AD31+AF31+AH31+AJ31+AL31+AN31+AP31+AR31+AT31 -> 1388 | AW31: =+K31+M31+O31+Q31+S31+U31+W31+Y31+AA31+AC31+AE31+AM31+AS31+AU31 -> 5156420
B32: =+B31+1 -> 7 | C32: 1.1 | D32: TRANSPORTE Y DISPOSICIÓN FINAL DE ESCOMBROS EN SITIO AUTORIZADO (distancia de transporte 21 Km). A distancia mayor del acarreo libre (90 m) en sitio autorizado por la entidad Ambiental competente. | F32: M3 | H32: 23718 | I32: =+ROUND(H32*G32,0) -> 0 | J32: 943.566 | K32: =+IF(J32="","",+J32*$H32) -> 22379498 | L32: 958.49 | M32: =+IF(L32="","",+L32*$H32) -> 22733466 | N32: 813.98044 | O32: =+IF(N32="","",+N32*$H32) -> 19305988 | P32: 765.544 | Q32: =+IF(P32="","",+P32*$H32) -> 18157173 | R32: 63.36772 | S32: =+IF(R32="","",+R32*$H32) -> 1502955.6 | T32: 469.97808 | U32: =+IF(T32="","",+T32*$H32) -> 11146940 | V32: 910.793 | W32: =+IF(V32="","",+V32*$H32) -> 21602188 | X32: 885.378 | Y32: =+IF(X32="","",+X32*$H32) -> 20999395 | Z32: 1150.76 | AA32: =+IF(Z32="","",+Z32*$H32) -> 27293726 | AB32: 1998.126 | AC32: =+IF(AB32="","",+AB32*$H32) -> 47391552 | AD32: 2225.4752 | AE32: =+IF(AD32="","",+AD32*$H32) -> 52783821 | AG32: =+IF(AF32="","",+AF32*$H32) | AI32: =+IF(AH32="","",+AH32*$H32) | AK32: =+IF(AJ32="","",+AJ32*$H32) | AL32: 1245.296 | AM32: =+IF(AL32="","",+AL32*$H32) -> 29535931 | AR32: 750.88 | AS32: =+IF(AR32="","",+AR32*$H32) -> 17809372 | AT32: 680.264 | AU32: =+IF(AT32="","",+AT32*$H32) -> 16134502 | AV32: =+AB32+Z32+X32+V32+T32+R32+P32+N32+L32+J32+AD32+AF32+AH32+AJ32+AL32+AN32+AP32+AR32+AT32 -> 13861.898 | AW32: =+K32+M32+O32+Q32+S32+U32+W32+Y32+AA32+AC32+AE32+AM32+AS32+AU32 -> 3.2877651e+08
B33: B | C33: 2 | D33: RELLENOS | L33: 0
B34: =+B32+1 -> 8 | C34: 2.01 | D34: NIVELACION Y COMPACTACIÓN DE SUBRASANTE | F34: M2 | H34: 1093 | I34: =+ROUND(H34*G34,0) -> 0 | J34: 378 | K34: =+IF(J34="","",+J34*$H34) -> 413154 | L34: 403.2 | M34: =+IF(L34="","",+L34*$H34) -> 440697.6 | N34: 459 | O34: =+IF(N34="","",+N34*$H34) -> 501687 | P34: 432 | Q34: =+IF(P34="","",+P34*$H34) -> 472176 | R34: 243 | S34: =+IF(R34="","",+R34*$H34) -> 265599 | T34: 252 | U34: =+IF(T34="","",+T34*$H34) -> 275436 | V34: 399 | W34: =+IF(V34="","",+V34*$H34) -> 436107 | X34: 378 | Y34: =+IF(X34="","",+X34*$H34) -> 413154 | Z34: 602 | AA34: =+IF(Z34="","",+Z34*$H34) -> 657986 | AB34: 900 | AC34: =+IF(AB34="","",+AB34*$H34) -> 983700 | AD34: 1027.2 | AE34: =+IF(AD34="","",+AD34*$H34) -> 1122729.6 | AG34: =+IF(AF34="","",+AF34*$H34) | AI34: =+IF(AH34="","",+AH34*$H34) | AK34: =+IF(AJ34="","",+AJ34*$H34) | AL34: 594 | AM34: =+IF(AL34="","",+AL34*$H34) -> 649242 | AR34: 342 | AS34: =+IF(AR34="","",+AR34*$H34) -> 373806 | AT34: 312 | AU34: =+IF(AT34="","",+AT34*$H34) -> 341016 | AV34: =+AB34+Z34+X34+V34+T34+R34+P34+N34+L34+J34+AD34+AF34+AH34+AJ34+AL34+AN34+AP34+AR34+AT34 -> 6721.4 | AW34: =+K34+M34+O34+Q34+S34+U34+W34+Y34+AA34+AC34+AE34+AM34+AS34+AU34 -> 7346490.2
B35: =+B34+1 -> 9 | C35: 2.02 | D35: ESTABILIZACIÓN DE SUBRASANTE CON RAJÓN (Suministro, Extendido, Nivelación y Compactación Manual) | F35: M3 | H35: 60332 | I35: =+ROUND(H35*G35,0) -> 0 | J35: 0 | K35: =+IF(J35="","",+J35*$H35) -> 0 | L35: 0 | M35: =+IF(L35="","",+L35*$H35) -> 0 | N35: 0 | O35: =+IF(N35="","",+N35*$H35) -> 0 | P35: 0 | Q35: =+IF(P35="","",+P35*$H35) -> 0 | R35: 0 | S35: =+IF(R35="","",+R35*$H35) -> 0 | T35: 0 | U35: =+IF(T35="","",+T35*$H35) -> 0 | V35: 0 | W35: =+IF(V35="","",+V35*$H35) -> 0 | X35: 0 | Y35: =+IF(X35="","",+X35*$H35) -> 0 | Z35: 0 | AA35: =+IF(Z35="","",+Z35*$H35) -> 0 | AB35: 0 | AC35: =+IF(AB35="","",+AB35*$H35) -> 0 | AD35: 0 | AE35: =+IF(AD35="","",+AD35*$H35) -> 0 | AG35: =+IF(AF35="","",+AF35*$H35) | AI35: =+IF(AH35="","",+AH35*$H35) | AK35: =+IF(AJ35="","",+AJ35*$H35) | AL35: 0 | AM35: =+IF(AL35="","",+AL35*$H35) -> 0 | AR35: 0 | AS35: =+IF(AR35="","",+AR35*$H35) -> 0 | AT35: 0 | AU35: =+IF(AT35="","",+AT35*$H35) -> 0 | AV35: =+AB35+Z35+X35+V35+T35+R35+P35+N35+L35+J35+AD35+AF35+AH35+AJ35+AL35+AN35+AP35+AR35+AT35 -> 0 | AW35: =+K35+M35+O35+Q35+S35+U35+W35+Y35+AA35+AC35+AE35+AM35+AS35+AU35 -> 0
B36: =+B35+1 -> 10 | C36: 2.04 | D36: SUBBASE GRANULAR CLASE C (SBG_C) (Suministro, Extendido Manual, Humedecimiento y Compactación) | F36: M3 | H36: 107740 | I36: =+ROUND(H36*G36,0) -> 0 | J36: 0 | K36: =+IF(J36="","",+J36*$H36) -> 0 | L36: 0 | M36: =+IF(L36="","",+L36*$H36) -> 0 | N36: 0 | O36: =+IF(N36="","",+N36*$H36) -> 0 | P36: 0 | Q36: =+IF(P36="","",+P36*$H36) -> 0 | R36: 0 | S36: =+IF(R36="","",+R36*$H36) -> 0 | T36: 0 | U36: =+IF(T36="","",+T36*$H36) -> 0 | V36: 0 | W36: =+IF(V36="","",+V36*$H36) -> 0 | X36: 0 | Y36: =+IF(X36="","",+X36*$H36) -> 0 | Z36: 0 | AA36: =+IF(Z36="","",+Z36*$H36) -> 0 | AB36: 0 | AC36: =+IF(AB36="","",+AB36*$H36) -> 0 | AD36: 0 | AE36: =+IF(AD36="","",+AD36*$H36) -> 0 | AG36: =+IF(AF36="","",+AF36*$H36) | AI36: =+IF(AH36="","",+AH36*$H36) | AK36: =+IF(AJ36="","",+AJ36*$H36) | AL36: 0 | AM36: =+IF(AL36="","",+AL36*$H36) -> 0 | AR36: 0 | AS36: =+IF(AR36="","",+AR36*$H36) -> 0 | AT36: 0 | AU36: =+IF(AT36="","",+AT36*$H36) -> 0 | AV36: =+AB36+Z36+X36+V36+T36+R36+P36+N36+L36+J36+AD36+AF36+AH36+AJ36+AL36+AN36+AP36+AR36+AT36 -> 0 | AW36: =+K36+M36+O36+Q36+S36+U36+W36+Y36+AA36+AC36+AE36+AM36+AS36+AU36 -> 0
B37: =+B36+1 -> 11 | C37: 2.08 | D37: SUBBASE GRANULAR B-200 (Suministro, Extendido, Nivelación, Humedecimiento y Compactación con vibrocompactador) | F37: M3 | H37: 53659 | I37: =+ROUND(H37*G37,0) -> 0 | J37: 56.7 | K37: =+IF(J37="","",+J37*$H37) -> 3042465.3 | L37: 60.48 | M37: =+IF(L37="","",+L37*$H37) -> 3245296.3 | N37: 0 | O37: =+IF(N37="","",+N37*$H37) -> 0 | P37: 0 | Q37: =+IF(P37="","",+P37*$H37) -> 0 | R37: 0 | S37: =+IF(R37="","",+R37*$H37) -> 0 | T37: 0 | U37: =+IF(T37="","",+T37*$H37) -> 0 | V37: 59.85 | W37: =+IF(V37="","",+V37*$H37) -> 3211491.1 | X37: 56.7 | Y37: =+IF(X37="","",+X37*$H37) -> 3042465.3 | Z37: 90.3 | AA37: =+IF(Z37="","",+Z37*$H37) -> 4845407.7 | AB37: 135 | AC37: =+IF(AB37="","",+AB37*$H37) -> 7243965 | AD37: 154.08 | AE37: =+IF(AD37="","",+AD37*$H37) -> 8267778.7 | AG37: =+IF(AF37="","",+AF37*$H37) | AI37: =+IF(AH37="","",+AH37*$H37) | AK37: =+IF(AJ37="","",+AJ37*$H37) | AL37: 89.1 | AM37: =+IF(AL37="","",+AL37*$H37) -> 4781016.9 | AR37: 51.3 | AS37: =+IF(AR37="","",+AR37*$H37) -> 2752706.7 | AT37: 46.8 | AU37: =+IF(AT37="","",+AT37*$H37) -> 2511241.2 | AV37: =+AB37+Z37+X37+V37+T37+R37+P37+N37+L37+J37+AD37+AF37+AH37+AJ37+AL37+AN37+AP37+AR37+AT37 -> 800.31 | AW37: =+K37+M37+O37+Q37+S37+U37+W37+Y37+AA37+AC37+AE37+AM37+AS37+AU37 -> 42943834
B38: =+B37+1 -> 12 | C38: 2.1 | D38: GEOTEXTIL NT 4000 PARA ESTABILIZACION SUBRASANTE/CAPAS GRANULARES (Inc. Suministro e Instalación) | F38: M2 | H38: 12109 | I38: =+ROUND(H38*G38,0) -> 0 | J38: 0 | K38: =+IF(J38="","",+J38*$H38) -> 0 | L38: 0 | M38: =+IF(L38="","",+L38*$H38) -> 0 | N38: 0 | O38: =+IF(N38="","",+N38*$H38) -> 0 | P38: 0 | Q38: =+IF(P38="","",+P38*$H38) -> 0 | R38: 0 | S38: =+IF(R38="","",+R38*$H38) -> 0 | T38: 0 | U38: =+IF(T38="","",+T38*$H38) -> 0 | V38: 0 | W38: =+IF(V38="","",+V38*$H38) -> 0 | X38: 0 | Y38: =+IF(X38="","",+X38*$H38) -> 0 | Z38: 0 | AA38: =+IF(Z38="","",+Z38*$H38) -> 0 | AB38: 0 | AC38: =+IF(AB38="","",+AB38*$H38) -> 0 | AD38: 0 | AE38: =+IF(AD38="","",+AD38*$H38) -> 0 | AG38: =+IF(AF38="","",+AF38*$H38) | AI38: =+IF(AH38="","",+AH38*$H38) | AK38: =+IF(AJ38="","",+AJ38*$H38) | AL38: 0 | AM38: =+IF(AL38="","",+AL38*$H38) -> 0 | AR38: 0 | AS38: =+IF(AR38="","",+AR38*$H38) -> 0 | AT38: 0 | AU38: =+IF(AT38="","",+AT38*$H38) -> 0 | AV38: =+AB38+Z38+X38+V38+T38+R38+P38+N38+L38+J38+AD38+AF38+AH38+AJ38+AL38+AN38+AP38+AR38+AT38 -> 0 | AW38: =+K38+M38+O38+Q38+S38+U38+W38+Y38+AA38+AC38+AE38+AM38+AS38+AU38 -> 0
B39: C | C39: 3 | D39: PAVIMENTOS | L39: 0
B40: =+B38+1 -> 13 | C40: 3.01 | D40: MEZCLA ASFÁLTICA EN CALIENTE TIPO DENSO MD12 ASFALTO CONVENCIONAL 80-100 (cemento asfáltico 80-100) (Suministro, Extendido, Nivelación y Compactación con Vibrocompactador y compactador de llantas) | F40: M3 | H40: 654117 | I40: =+ROUND(H40*G40,0) -> 0 | J40: 0 | K40: =+IF(J40="","",+J40*$H40) -> 0 | L40: 0 | M40: =+IF(L40="","",+L40*$H40) -> 0 | N40: 0 | O40: =+IF(N40="","",+N40*$H40) -> 0 | P40: 0 | Q40: =+IF(P40="","",+P40*$H40) -> 0 | R40: 0 | S40: =+IF(R40="","",+R40*$H40) -> 0 | T40: 0 | U40: =+IF(T40="","",+T40*$H40) -> 0 | V40: 0 | W40: =+IF(V40="","",+V40*$H40) -> 0 | X40: 0 | Y40: =+IF(X40="","",+X40*$H40) -> 0 | Z40: 0 | AA40: =+IF(Z40="","",+Z40*$H40) -> 0 | AB40: 0 | AC40: =+IF(AB40="","",+AB40*$H40) -> 0 | AD40: 0 | AE40: =+IF(AD40="","",+AD40*$H40) -> 0 | AG40: =+IF(AF40="","",+AF40*$H40) | AI40: =+IF(AH40="","",+AH40*$H40) | AK40: =+IF(AJ40="","",+AJ40*$H40) | AL40: 0 | AM40: =+IF(AL40="","",+AL40*$H40) -> 0 | AR40: 0 | AS40: =+IF(AR40="","",+AR40*$H40) -> 0 | AT40: 0 | AU40: =+IF(AT40="","",+AT40*$H40) -> 0 | AV40: =+AB40+Z40+X40+V40+T40+R40+P40+N40+L40+J40+AD40+AF40+AH40+AJ40+AL40+AN40+AP40+AR40+AT40 -> 0 | AW40: =+K40+M40+O40+Q40+S40+U40+W40+Y40+AA40+AC40+AE40+AM40+AS40+AU40 -> 0
B41: =+B40+1 -> 14 | C41: 3.02 | D41: MEZCLA ASFÁLTICA EN CALIENTE TIPO DENSO MD20 ASFALTO CONVENCIONAL 60-70 (Suministro, Extendido, Nivelación y Compactación con vibrocompactador y compactador de llantas) | F41: M3 | H41: 581513 | I41: =+ROUND(H41*G41,0) -> 0 | J41: 0 | K41: =+IF(J41="","",+J41*$H41) -> 0 | L41: 0 | M41: =+IF(L41="","",+L41*$H41) -> 0 | N41: 0 | O41: =+IF(N41="","",+N41*$H41) -> 0 | P41: 0 | Q41: =+IF(P41="","",+P41*$H41) -> 0 | R41: 0 | S41: =+IF(R41="","",+R41*$H41) -> 0 | T41: 0 | U41: =+IF(T41="","",+T41*$H41) -> 0 | V41: 0 | W41: =+IF(V41="","",+V41*$H41) -> 0 | X41: 0 | Y41: =+IF(X41="","",+X41*$H41) -> 0 | Z41: 0 | AA41: =+IF(Z41="","",+Z41*$H41) -> 0 | AB41: 0 | AC41: =+IF(AB41="","",+AB41*$H41) -> 0 | AD41: 0 | AE41: =+IF(AD41="","",+AD41*$H41) -> 0 | AG41: =+IF(AF41="","",+AF41*$H41) | AI41: =+IF(AH41="","",+AH41*$H41) | AK41: =+IF(AJ41="","",+AJ41*$H41) | AL41: 0 | AM41: =+IF(AL41="","",+AL41*$H41) -> 0 | AR41: 0 | AS41: =+IF(AR41="","",+AR41*$H41) -> 0 | AT41: 0 | AU41: =+IF(AT41="","",+AT41*$H41) -> 0 | AV41: =+AB41+Z41+X41+V41+T41+R41+P41+N41+L41+J41+AD41+AF41+AH41+AJ41+AL41+AN41+AP41+AR41+AT41 -> 0 | AW41: =+K41+M41+O41+Q41+S41+U41+W41+Y41+AA41+AC41+AE41+AM41+AS41+AU41 -> 0
B42: =+B41+1 -> 15 | C42: 3.03 | D42: MEZCLA ASFALTICA CON ASFALTO CAUCHO (Suministro, Extendido, Nivelación y Compactación) | F42: M3 | H42: 949294 | I42: =+ROUND(H42*G42,0) -> 0 | J42: 75.6 | K42: =+IF(J42="","",+J42*$H42) -> 71766626 | L42: 80.64 | M42: =+IF(L42="","",+L42*$H42) -> 76551068 | N42: 0 | O42: =+IF(N42="","",+N42*$H42) -> 0 | P42: 0 | Q42: =+IF(P42="","",+P42*$H42) -> 0 | R42: 0 | S42: =+IF(R42="","",+R42*$H42) -> 0 | T42: 0 | U42: =+IF(T42="","",+T42*$H42) -> 0 | V42: 79.8 | W42: =+IF(V42="","",+V42*$H42) -> 75753661 | X42: 75.6 | Y42: =+IF(X42="","",+X42*$H42) -> 71766626 | Z42: 66.22 | AA42: =+IF(Z42="","",+Z42*$H42) -> 62862249 | AB42: 171 | AC42: =+IF(AB42="","",+AB42*$H42) -> 162329274 | AD42: 174.624 | AE42: =+IF(AD42="","",+AD42*$H42) -> 1.6576952e+08 | AG42: =+IF(AF42="","",+AF42*$H42) | AI42: =+IF(AH42="","",+AH42*$H42) | AK42: =+IF(AJ42="","",+AJ42*$H42) | AL42: 89.1 | AM42: =+IF(AL42="","",+AL42*$H42) -> 84582095 | AR42: 51.3 | AS42: =+IF(AR42="","",+AR42*$H42) -> 48698782 | AT42: 46.8 | AU42: =+IF(AT42="","",+AT42*$H42) -> 44426959 | AV42: =+AB42+Z42+X42+V42+T42+R42+P42+N42+L42+J42+AD42+AF42+AH42+AJ42+AL42+AN42+AP42+AR42+AT42 -> 910.684 | AW42: =+K42+M42+O42+Q42+S42+U42+W42+Y42+AA42+AC42+AE42+AM42+AS42+AU42 -> 8.6450686e+08
B43: =+B42+1 -> 16 | C43: 3.05 | D43: IMPRIMACION CON EMULSION ASFALTICA CRL-0 (Suministro, Barrido Superficie y Riego) | F43: M2 | H43: 1669 | I43: =+ROUND(H43*G43,0) -> 0 | J43: 1134 | K43: =+IF(J43="","",+J43*$H43) -> 1892646 | L43: 1209.6 | M43: =+IF(L43="","",+L43*$H43) -> 2018822.4 | N43: 0 | O43: =+IF(N43="","",+N43*$H43) -> 0 | P43: 0 | Q43: =+IF(P43="","",+P43*$H43) -> 0 | R43: 0 | S43: =+IF(R43="","",+R43*$H43) -> 0 | T43: 0 | U43: =+IF(T43="","",+T43*$H43) -> 0 | V43: 798 | W43: =+IF(V43="","",+V43*$H43) -> 1331862 | X43: 756 | Y43: =+IF(X43="","",+X43*$H43) -> 1261764 | Z43: 602 | AA43: =+IF(Z43="","",+Z43*$H43) -> 1004738 | AB43: 2700 | AC43: =+IF(AB43="","",+AB43*$H43) -> 4506300 | AD43: 3081.6 | AE43: =+IF(AD43="","",+AD43*$H43) -> 5143190.4 | AG43: =+IF(AF43="","",+AF43*$H43) | AI43: =+IF(AH43="","",+AH43*$H43) | AK43: =+IF(AJ43="","",+AJ43*$H43) | AL43: 1188 | AM43: =+IF(AL43="","",+AL43*$H43) -> 1982772 | AR43: 684 | AS43: =+IF(AR43="","",+AR43*$H43) -> 1141596 | AT43: 624 | AU43: =+IF(AT43="","",+AT43*$H43) -> 1041456 | AV43: =+AB43+Z43+X43+V43+T43+R43+P43+N43+L43+J43+AD43+AF43+AH43+AJ43+AL43+AN43+AP43+AR43+AT43 -> 12777.2 | AW43: =+K43+M43+O43+Q43+S43+U43+W43+Y43+AA43+AC43+AE43+AM43+AS43+AU43 -> 21325147
B44: =+B43+1 -> 17 | C44: 3.09 | D44: GEODRÉN VIAL H= 1.0m o DRENAFLEX PLANAR H= 1.0m, TUBERÍA DE 100mm (Incluye colocación base granular clase C, suministro y colocación geodren) | F44: ML | H44: 69144 | I44: =+ROUND(H44*G44,0) -> 0 | J44: 0 | K44: =+IF(J44="","",+J44*$H44) -> 0 | L44: 0 | M44: =+IF(L44="","",+L44*$H44) -> 0 | N44: 0 | O44: =+IF(N44="","",+N44*$H44) -> 0 | P44: 0 | Q44: =+IF(P44="","",+P44*$H44) -> 0 | R44: 0 | S44: =+IF(R44="","",+R44*$H44) -> 0 | T44: 0 | U44: =+IF(T44="","",+T44*$H44) -> 0 | V44: 0 | W44: =+IF(V44="","",+V44*$H44) -> 0 | X44: 108 | Y44: =+IF(X44="","",+X44*$H44) -> 7467552 | Z44: 172 | AA44: =+IF(Z44="","",+Z44*$H44) -> 11892768 | AB44: 0 | AC44: =+IF(AB44="","",+AB44*$H44) -> 0 | AD44: 0 | AE44: =+IF(AD44="","",+AD44*$H44) -> 0 | AG44: =+IF(AF44="","",+AF44*$H44) | AI44: =+IF(AH44="","",+AH44*$H44) | AK44: =+IF(AJ44="","",+AJ44*$H44) | AL44: 0 | AM44: =+IF(AL44="","",+AL44*$H44) -> 0 | AR44: 57 | AS44: =+IF(AR44="","",+AR44*$H44) -> 3941208 | AT44: 52 | AU44: =+IF(AT44="","",+AT44*$H44) -> 3595488 | AV44: =+AB44+Z44+X44+V44+T44+R44+P44+N44+L44+J44+AD44+AF44+AH44+AJ44+AL44+AN44+AP44+AR44+AT44 -> 389 | AW44: =+K44+M44+O44+Q44+S44+U44+W44+Y44+AA44+AC44+AE44+AM44+AS44+AU44 -> 26897016
B45: D | C45: 4 | D45: ESPACIO PUBLICO - ANDENES | L45: 0
B46: =+B44+1 -> 18 | C46: 4.08 | D46: BORDILLO PREFABRICADO A80 (Suministro e Instalación. Incluye 3cm Mortero de Nivelación 1:5) | F46: ML | H46: 39193 | I46: =+ROUND(H46*G46,0) -> 0 | J46: 0 | K46: =+IF(J46="","",+J46*$H46) -> 0 | L46: 0 | M46: =+IF(L46="","",+L46*$H46) -> 0 | N46: 0 | O46: =+IF(N46="","",+N46*$H46) -> 0 | P46: 0 | Q46: =+IF(P46="","",+P46*$H46) -> 0 | R46: 0 | S46: =+IF(R46="","",+R46*$H46) -> 0 | T46: 0 | U46: =+IF(T46="","",+T46*$H46) -> 0 | V46: 0 | W46: =+IF(V46="","",+V46*$H46) -> 0 | X46: 0 | Y46: =+IF(X46="","",+X46*$H46) -> 0 | Z46: 0 | AA46: =+IF(Z46="","",+Z46*$H46) -> 0 | AB46: 0 | AC46: =+IF(AB46="","",+AB46*$H46) -> 0 | AD46: 0 | AE46: =+IF(AD46="","",+AD46*$H46) -> 0 | AG46: =+IF(AF46="","",+AF46*$H46) | AI46: =+IF(AH46="","",+AH46*$H46) | AK46: =+IF(AJ46="","",+AJ46*$H46) | AL46: 0 | AM46: =+IF(AL46="","",+AL46*$H46) -> 0 | AR46: 0 | AS46: =+IF(AR46="","",+AR46*$H46) -> 0 | AT46: 0 | AU46: =+IF(AT46="","",+AT46*$H46) -> 0 | AV46: =+AB46+Z46+X46+V46+T46+R46+P46+N46+L46+J46+AD46+AF46+AH46+AJ46+AL46+AN46+AP46+AR46+AT46 -> 0 | AW46: =+K46+M46+O46+Q46+S46+U46+W46+Y46+AA46+AC46+AE46+AM46+AS46+AU46 -> 0
B47: =+B46+1 -> 19 | C47: 4.09 | D47: SARDINEL TIPO A10 (Suministro e Instalación. Incluye 3cm Mortero 2000 PSI) | F47: ML | H47: 48068 | I47: =+ROUND(H47*G47,0) -> 0 | J47: 90 | K47: =+IF(J47="","",+J47*$H47) -> 4326120 | L47: 96 | M47: =+IF(L47="","",+L47*$H47) -> 4614528 | N47: 102 | O47: =+IF(N47="","",+N47*$H47) -> 4902936 | P47: 96 | Q47: =+IF(P47="","",+P47*$H47) -> 4614528 | R47: 54 | S47: =+IF(R47="","",+R47*$H47) -> 2595672 | T47: 56 | U47: =+IF(T47="","",+T47*$H47) -> 2691808 | V47: 114 | W47: =+IF(V47="","",+V47*$H47) -> 5479752 | X47: 108 | Y47: =+IF(X47="","",+X47*$H47) -> 5191344 | Z47: 172 | AA47: =+IF(Z47="","",+Z47*$H47) -> 8267696 | AB47: 180 | AC47: =+IF(AB47="","",+AB47*$H47) -> 8652240 | AD47: 192 | AE47: =+IF(AD47="","",+AD47*$H47) -> 9229056 | AG47: =+IF(AF47="","",+AF47*$H47) | AI47: =+IF(AH47="","",+AH47*$H47) | AK47: =+IF(AJ47="","",+AJ47*$H47) | AL47: 132 | AM47: =+IF(AL47="","",+AL47*$H47) -> 6344976 | AR47: 114 | AS47: =+IF(AR47="","",+AR47*$H47) -> 5479752 | AT47: 104 | AU47: =+IF(AT47="","",+AT47*$H47) -> 4999072 | AV47: =+AB47+Z47+X47+V47+T47+R47+P47+N47+L47+J47+AD47+AF47+AH47+AJ47+AL47+AN47+AP47+AR47+AT47 -> 1610 | AW47: =+K47+M47+O47+Q47+S47+U47+W47+Y47+AA47+AC47+AE47+AM47+AS47+AU47 -> 77389480
B48: =+B47+1 -> 20 | C48: 4.1 | D48: SARDINEL H=0.40m, e=0.15m CONCRETO 3000 PSI (Fundido en Sitio, Concreto Premezclado. Inc. Sumin, Formalet. y Const.) | F48: ML | H48: 29508 | I48: =+ROUND(H48*G48,0) -> 0 | J48: 0 | K48: =+IF(J48="","",+J48*$H48) -> 0 | L48: 0 | M48: =+IF(L48="","",+L48*$H48) -> 0 | N48: 0 | O48: =+IF(N48="","",+N48*$H48) -> 0 | P48: 0 | Q48: =+IF(P48="","",+P48*$H48) -> 0 | R48: 0 | S48: =+IF(R48="","",+R48*$H48) -> 0 | T48: 0 | U48: =+IF(T48="","",+T48*$H48) -> 0 | V48: 0 | W48: =+IF(V48="","",+V48*$H48) -> 0 | X48: 0 | Y48: =+IF(X48="","",+X48*$H48) -> 0 | Z48: 0 | AA48: =+IF(Z48="","",+Z48*$H48) -> 0 | AB48: 0 | AC48: =+IF(AB48="","",+AB48*$H48) -> 0 | AD48: 0 | AE48: =+IF(AD48="","",+AD48*$H48) -> 0 | AG48: =+IF(AF48="","",+AF48*$H48) | AI48: =+IF(AH48="","",+AH48*$H48) | AK48: =+IF(AJ48="","",+AJ48*$H48) | AL48: 0 | AM48: =+IF(AL48="","",+AL48*$H48) -> 0 | AR48: 0 | AS48: =+IF(AR48="","",+AR48*$H48) -> 0 | AT48: 0 | AU48: =+IF(AT48="","",+AT48*$H48) -> 0 | AV48: =+AB48+Z48+X48+V48+T48+R48+P48+N48+L48+J48+AD48+AF48+AH48+AJ48+AL48+AN48+AP48+AR48+AT48 -> 0 | AW48: =+K48+M48+O48+Q48+S48+U48+W48+Y48+AA48+AC48+AE48+AM48+AS48+AU48 -> 0
...

Sheet MEMORIAS DE CALCULO PRESUPUESTO
F2: MEMORIAS DE CANTIDADES DE OBRA EJECUTADA | P2: MEMORIA | V2: =SUM(V3:V7203) -> 147
F4: CONTROL DE OBRA | P4: 1 | Q4: de | R4: 147 | V4: =+IF(C13="","",1) -> 1
D6: CONTRATO DE OBRA: | F6: FDLM-137-2019 | J6: CONTRATISTA: | L6: CONSULTORIA Y CONSTRUCCION - CON & CON S.A.S. | Q6: NIT: | R6: 830.041.411-0
D7: OBJETO DEL CONTRATO: | F7: EJECUTAR A PRECIOS UNITARIOS FIJOS POR LA MODALIDAD DE MONTO AGOTABLE, LAS OBRAS Y ACTIVIDADES PARA LA CONSERVACION DE LA MALLA VIAL Y ESPACIO PUBLICO DE LA LOCALIDAD DE LOS MARTIRES
D9: VERSION | E9: V1 | F9: FECHA | I9: 44058 | O9: ELABORÓ: | P9: JAVIER HERNANDO PERILLA VACCA
D11: UPZ: | K11: BARRIO:
A13: =+E13 -> 1.01 | B13: =+U37 -> 6721.4 | C13: 1 | D13: ITEM: | E13: 1.01 | F13: DESCRIPCION: | H13: REPLANTEO GENERAL | N13: UNIDAD: | Q13: M2 | Z13: SEGMENTOS - CIVS
D15: REGISTRO FOTOGRAFICO | N15: CIV | O15: OBSERVACIONES | Q15: DIMENSIONES | T15: CANTIDAD | U15: TOTAL ACUMULADO | Z15: 1 | AA15: =+Z15+1 -> 2 | AB15: =+AA15+1 -> 3 | AC15: =+AB15+1 -> 4 | AD15: =+AC15+1 -> 5 | AE15: =+AD15+1 -> 6 | AF15: =+AE15+1 -> 7 | AG15: =+AF15+1 -> 8 | AH15: =+AG15+1 -> 9 | ... AR15: =+AQ15+1 -> 19
Q16: Long. | R16: Ancho | S16: Alto | Z16: 14001469 | AA16: 14001481 | AB16: 14000772 | AC16: 14000741 | AD16: 14000718 | AE16: 14001678 | AF16: 14001545 | AG16: 14001517 | AH16: 14001156 | AI16: 14001367 | AJ16: 14000126 | AK16: 14000550 | AL16: 14001058 | AM16: 14000205 | AN16: 14001506 | AO16: 14001265 | AP16: 14000282 | AQ16: 14001619 | AR16: 14001616
N17: 14001469 | O17: CALZADA | Q17: 45 | R17: 8.4 | T17: 1 | U17: =+Q17*R17*T17 -> 378 | W17: 1 | Y17: =+C13 -> 1 | Z17: =+SUMIF($N17:$N36,$Z$16,$U17:$U36) -> 378 | AA17: =+SUMIF($N17:$N36,$AA$16,$U17:$U36) -> 403.2 | AB17: =+SUMIF($N17:$N36,$AB$16,$U17:$U36) -> 459 | AC17: =+SUMIF($N17:$N36,$AC$16,$U17:$U36) -> 432 | AD17: =+SUMIF($N17:$N36,$AD$16,$U17:$U36) -> 243 | AE17: =+SUMIF($N17:$N36,$AE$16,$U17:$U36) -> 252 | AF17: =+SUMIF($N17:$N36,$AF$16,$U17:$U36) -> 399 | AG17: =+SUMIF($N17:$N36,$AG$16,$U17:$U36) -> 378 | AH17: =+SUMIF($N17:$N36,$AH$16,$U17:$U36) -> 602 | AI17: =+SUMIF($N17:$N36,$AI$16,$U17:$U36) -> 900 | AJ17: =+SUMIF($N17:$N36,$AJ$16,$U17:$U36) -> 1027.2 | AK17: =+SUMIF($N17:$N36,$AK$16,$U17:$U36) -> 0 | AL17: =+SUMIF($N17:$N36,$AL$16,$U17:$U36) -> 0 | AM17: =+SUMIF($N17:$N36,$AM$16,$U17:$U36) -> 0 | AN17: =+SUMIF($N17:$N36,$AN$16,$U17:$U36) -> 594 | AO17: =+SUMIF($N17:$N36,$AO$16,$U17:$U36) -> 0 | AP17: =+SUMIF($N17:$N36,$AP$16,$U17:$U36) -> 0 | AQ17: =+SUMIF($N17:$N36,$AQ$16,$U17:$U36) -> 342 | AR17: =+SUMIF($N17:$N36,$AR$16,$U17:$U36) -> 312
N18: 14001481 | O18: CALZADA | Q18: 48 | R18: 8.4 | T18: 1 | U18: =+Q18*R18*T18 -> 403.2 | W18: 2
N19: 14000772 | O19: CALZADA | Q19: 51 | R19: 9 | T19: 1 | U19: =+Q19*R19*T19 -> 459 | W19: 3
N20: 14000741 | O20: CALZADA | Q20: 48 | R20: 9 | T20: 1 | U20: =+Q20*R20*T20 -> 432 | W20: 4
N21: 14000718 | O21: CALZADA | Q21: 27 | R21: 9 | T21: 1 | U21: =+Q21*R21*T21 -> 243 | W21: 5
N22: 14001678 | O22: CALZADA | Q22: 28 | R22: 9 | T22: 1 | U22: =+Q22*R22*T22 -> 252 | W22: 6
N23: 14001545 | O23: CALZADA | Q23: 57 | R23: 7 | T23: 1 | U23: =+Q23*R23*T23 -> 399 | W23: 7
N24: 14001517 | O24: CALZADA | Q24: 54 | R24: 7 | T24: 1 | U24: =+Q24*R24*T24 -> 378 | W24: 8
N25: 14001156 | O25: CALZADA | Q25: 86 | R25: 7 | T25: 1 | U25: =+Q25*R25*T25 -> 602 | W25: 9
N26: 14001367 | O26: CALZADA | Q26: 90 | R26: 10 | T26: 1 | U26: =+Q26*R26*T26 -> 900 | W26: 10
N27: 14000126 | O27: CALZADA | Q27: 96 | R27: 10.7 | T27: 1 | U27: =+Q27*R27*T27 -> 1027.2 | W27: 11
N31: 14001506 | O31: CALZADA | Q31: 66 | R31: 9 | T31: 1 | U31: =+Q31*R31*T31 -> 594 | W31: 15
N34: 14001619 | O34: CALZADA | Q34: 57 | R34: 6 | T34: 1 | U34: =+Q34*R34*T34 -> 342 | W34: 18
N35: 14001616 | O35: CALZADA | Q35: 52 | R35: 6 | T35: 1 | U35: =+Q35*R35*T35 -> 312 | W35: 19
N37: SUBTOTAL | U37: =SUM(U17:U36) -> 6721.4
N38: OBSERVACIONES:
D43: CONTRATISTA | N43: INTERVENTORIA
D44: APROBÓ | N44: APORBÓ
D45: Firma: | N45: Firma:
D48: Nombre: | E48: =+#REF! -> #REF! | N48: Nombre: | O48: =+#REF! -> #REF!
D49: Cargo: | E49: =+#REF! -> #REF! | N49: Cargo: | O49: =+#REF! -> #REF!
F51: MEMORIAS DE CANTIDADES DE OBRA EJECUTADA | P51: MEMORIA
F53: CONTROL DE OBRA | P53: 2 | Q53: de | R53: 147 | V53: =+IF(C62="","",1) -> 1
D55: CONTRATO DE OBRA: | F55: FDLM-137-2019 | J55: CONTRATISTA: | L55: CONSULTORIA Y CONSTRUCCION - CON & CON S.A.S. | Q55: NIT: | R55: 830.041.411-0
D56: OBJETO DEL CONTRATO: | F56: EJECUTAR A PRECIOS UNITARIOS FIJOS POR LA MODALIDAD DE MONTO AGOTABLE, LAS OBRAS Y ACTIVIDADES PARA LA CONSERVACION DE LA MALLA VIAL Y ESPACIO PUBLICO DE LA LOCALIDAD DE LOS MARTIRES
D58: VERSION | E58: V1 | F58: FECHA | I58: 44058 | O58: ELABORÓ: | P58: JAVIER HERNANDO PERILLA VACCA
D60: UPZ: | K60: BARRIO:
A62: =+E62 -> 1.02 | B62: =+U86 -> 6631.074 | C62: 2 | D62: ITEM: | E62: 1.02 | F62: DESCRIPCION: | H62: EXCAVACION MECANICA EN MATERIAL COMUN (Incluye Cargue) | N62: UNIDAD: | Q62: M2
D64: REGISTRO FOTOGRAFICO | N64: CIV | O64: OBSERVACIONES | Q64: DIMENSIONES | T64: CANTIDAD | U64: TOTAL ACUMULADO
Q65: Long. | R65: Ancho | S65: Alto
N66: 14001469 | O66: CALZADA - ESTRUCTURA | Q66: 45 | R66: 8.4 | S66: 1.15 | T66: 1 | U66: =+Q66*R66*S66*T66 -> 434.7 | W66: 1 | Y66: =+C62 -> 2 | Z66: =+SUMIF($N66:$N85,$Z$16,$U66:$U85) -> 434.7 | AA66: =+SUMIF($N66:$N85,$AA$16,$U66:$U85) -> 463.68 | AB66: =+SUMIF($N66:$N85,$AB$16,$U66:$U85) -> 408.51 | AC66: =+SUMIF($N66:$N85,$AC$16,$U66:$U85) -> 384.48 | AD66: =+SUMIF($N66:$N85,$AD$16,$U66:$U85) -> 216.27 | AE66: =+SUMIF($N66:$N85,$AE$16,$U66:$U85) -> 224.28 | AF66: =+SUMIF($N66:$N85,$AF$16,$U66:$U85) -> 458.85 | AG66: =+SUMIF($N66:$N85,$AG$16,$U66:$U85) -> 434.7 | AH66: =+SUMIF($N66:$N85,$AH$16,$U66:$U85) -> 487.62 | AI66: =+SUMIF($N66:$N85,$AI$16,$U66:$U85) -> 936 | AJ66: =+SUMIF($N66:$N85,$AJ$16,$U66:$U85) -> 996.384 | AK66: =+SUMIF($N66:$N85,$AK$16,$U66:$U85) -> 0 | AL66: =+SUMIF($N66:$N85,$AL$16,$U66:$U85) -> 0 | AM66: =+SUMIF($N66:$N85,$AM$16,$U66:$U85) -> 0 | AN66: =+SUMIF($N66:$N85,$AN$16,$U66:$U85) -> 564.3 | AO66: =+SUMIF($N66:$N85,$AO$16,$U66:$U85) -> 0 | AP66: =+SUMIF($N66:$N85,$AP$16,$U66:$U85) -> 0 | AQ66: =+SUMIF($N66:$N85,$AQ$16,$U66:$U85) -> 324.9 | AR66: =+SUMIF($N66:$N85,$AR$16,$U66:$U85) -> 296.4
...

Sheet RESUMEN GENERAL
A1: CONTRATO CO-137-2019
A3: CONTRATAR A PRECIOS UNITARIOS FIJOS SIN FORMULA DE REAJUSTE POR MONTO AGOTABLE EL DIAGNOSTICO Y LAS OBRAS DE MANTENIMIENTO Y/O REHABILITACION DE LA MALLA VIAL Y DEL ESPACIO PUBLICO DE LA LOCALIDAD DE LOS MÁRTIRES
A5: CUADRO GENERAL SEGMENTOS PARA INTERVENCION
A7: N° | B7: CIV | C7: EJE | D7: DESDE | E7: HASTA | F7: ELEMENTO | G7: LONGITUD (ML) | H7: ANCHO (ML) | I7: AREA (M2) PRELIMINAR | J7: INTERVENCION PROPUESTA | K7: TIPO DE PAVIMENTO | L7: COSTO DIRECTO POR CIV | M7: COSTO TOTAL POR CIV | N7: COSTO TOTAL CON MODELACION | O7: COSTO TOTAL SIN MODELACION
A8: 1 | B8: 14001469 | C8: CL 1F | D8: KR 24A | E8: KR 24B | F8: CALZADA | G8: 45 | H8: 8.4 | I8: =+G8*H8 -> 378 | J8: REHABILITACION | K8: FLEXIBLE | L8: =+LOOKUP(A8,'PRESUPUESTO DE OBRA'!$J$196:$AU$196,'PRESUPUESTO DE OBRA'!$J$180:$AU$180) -> 271748363 | M8: =+LOOKUP(A8,'PRESUPUESTO DE OBRA'!$J$196:$AU$196,'PRESUPUESTO DE OBRA'!$J$194:$AU$194) -> 4.1541235e+08 | N8: =+M8 -> 4.1541235e+08
A9: 2 | B9: 14001481 | C9: CL 1F | D9: KR 24 | E9: KR 24A | F9: CALZADA | G9: 48 | H9: 8.4 | I9: =+G9*H9 -> 403.2 | J9: REHABILITACION | K9: FLEXIBLE | L9: =+LOOKUP(A9,'PRESUPUESTO DE OBRA'!$J$196:$AU$196,'PRESUPUESTO DE OBRA'!$J$180:$AU$180) -> 258473451 | M9: =+LOOKUP(A9,'PRESUPUESTO DE OBRA'!$J$196:$AU$196,'PRESUPUESTO DE OBRA'!$J$194:$AU$194) -> 3.9511945e+08 | N9: =+M9 -> 3.9511945e+08
A10: 3 | B10: 14000772 | C10: KR 25A | D10: AC 6 | E10: CL 6BIS | F10: CALZADA | G10: 51 | H10: 9 | I10: =+G10*H10 -> 459 | J10: REHABILITACION | K10: RIGIDO | L10: =+LOOKUP(A10,'PRESUPUESTO DE OBRA'!$J$196:$AU$196,'PRESUPUESTO DE OBRA'!$J$180:$AU$180) -> 335038983 | M10: =+LOOKUP(A10,'PRESUPUESTO DE OBRA'!$J$196:$AU$196,'PRESUPUESTO DE OBRA'!$J$194:$AU$194) -> 5.1216254e+08 | O10: =+M10 -> 5.1216254e+08
A11: 4 | B11: 14000741 | C11: KR 25A | D11: CL 6BIS | E11: CL 6A | F11: CALZADA | G11: 48 | H11: 9 | I11: =+G11*H11 -> 432 | J11: REHABILITACION | K11: RIGIDO | L11: =+LOOKUP(A11,'PRESUPUESTO DE OBRA'!$J$196:$AU$196,'PRESUPUESTO DE OBRA'!$J$180:$AU$180) -> 354537487 | M11: =+LOOKUP(A11,'PRESUPUESTO DE OBRA'!$J$196:$AU$196,'PRESUPUESTO DE OBRA'!$J$194:$AU$194) -> 5.4196923e+08 | O11: =+M11 -> 5.4196923e+08
A12: 5 | B12: 14000718 | C12: KR 25A | D12: CL 6A | E12: CL 7 | F12: CALZADA | G12: 27 | H12: 9 | I12: =+G12*H12 -> 243 | J12: REHABILITACION | K12: RIGIDO | L12: =+LOOKUP(A12,'PRESUPUESTO DE OBRA'!$J$196:$AU$196,'PRESUPUESTO DE OBRA'!$J$180:$AU$180) -> 218439113 | M12: =+LOOKUP(A12,'PRESUPUESTO DE OBRA'!$J$196:$AU$196,'PRESUPUESTO DE OBRA'!$J$194:$AU$194) -> 3.3392034e+08 | O12: =+M12 -> 3.3392034e+08
A13: 6 | B13: 14001678 | C13: KR 25A | D13: CL 7 | E13: CL 7BIS | F13: CALZADA | G13: 28 | H13: 9 | I13: =+G13*H13 -> 252 | J13: REHABILITACION | K13: RIGIDO | L13: =+LOOKUP(A13,'PRESUPUESTO DE OBRA'!$J$196:$AU$196,'PRESUPUESTO DE OBRA'!$J$180:$AU$180) -> 231878633 | M13: =+LOOKUP(A13,'PRESUPUESTO DE OBRA'!$J$196:$AU$196,'PRESUPUESTO DE OBRA'!$J$194:$AU$194) -> 3.5446487e+08 | O13: =+M13 -> 3.5446487e+08
A14: 7 | B14: 14001545 | C14: CL 1ABIS | D14: AC 1 | E14: KR 26 | F14: CALZADA | G14: 57 | H14: 7 | I14: =+G14*H14 -> 399 | J14: REHABILITACION | K14: FLEXIBLE | L14: =+LOOKUP(A14,'PRESUPUESTO DE OBRA'!$J$196:$AU$196,'PRESUPUESTO DE OBRA'!$J$180:$AU$180) -> 210379846 | M14: =+LOOKUP(A14,'PRESUPUESTO DE OBRA'!$J$196:$AU$196,'PRESUPUESTO DE OBRA'!$J$194:$AU$194) -> 3.2160041e+08 | N14: =+M14 -> 3.2160041e+08
A15: 8 | B15: 14001517 | C15: KR 26 | D15: CL 1ABIS | E15: CL 1B | F15: CALZADA | G15: 54 | H15: 7 | I15: =+G15*H15 -> 378 | J15: REHABILITACION | K15: FLEXIBLE | L15: =+LOOKUP(A15,'PRESUPUESTO DE OBRA'!$J$196:$AU$196,'PRESUPUESTO DE OBRA'!$J$180:$AU$180) -> 214363743 | M15: =+LOOKUP(A15,'PRESUPUESTO DE OBRA'!$J$196:$AU$196,'PRESUPUESTO DE OBRA'!$J$194:$AU$194) -> 3.2769046e+08 | N15: =+M15 -> 3.2769046e+08
A16: 9 | B16: 14001156 | C16: CL 2B | D16: KR 25A | E16: KR 26 | F16: CALZADA | G16: 86 | H16: 7 | I16: =+G16*H16 -> 602 | J16: REHABILITACION | K16: FLEXIBLE | L16: =+LOOKUP(A16,'PRESUPUESTO DE OBRA'!$J$196:$AU$196,'PRESUPUESTO DE OBRA'!$J$180:$AU$180) -> 288034501 | M16: =+LOOKUP(A16,'PRESUPUESTO DE OBRA'!$J$196:$AU$196,'PRESUPUESTO DE OBRA'!$J$194:$AU$194) -> 4.4030841e+08 | O16: =+M16 -> 4.4030841e+08
A17: 10 | B17: 14001367 | C17: CL 1B | D17: KR 27A | E17: KR 28 | F17: CALZADA | G17: 90 | H17: 10 | I17: =+G17*H17 -> 900 | J17: MANTENIMIENTO | K17: FLEXIBLE | L17: =+LOOKUP(A17,'PRESUPUESTO DE OBRA'!$J$196:$AU$196,'PRESUPUESTO DE OBRA'!$J$180:$AU$180) -> 465868173 | M17: =+LOOKUP(A17,'PRESUPUESTO DE OBRA'!$J$196:$AU$196,'PRESUPUESTO DE OBRA'!$J$194:$AU$194) -> 7.1215661e+08 | N17: =+M17 -> 7.1215661e+08
A18: 11 | B18: 14000126 | C18: KR 24 | D18: CL 22A | E18: DG 22B BIS | F18: CALZADA | G18: 96 | H18: 10.7 | I18: =+G18*H18 -> 1027.2 | J18: MANTENIMIENTO | K18: FLEXIBLE | L18: =+LOOKUP(A18,'PRESUPUESTO DE OBRA'!$J$196:$AU$196,'PRESUPUESTO DE OBRA'!$J$180:$AU$180) -> 468079296 | M18: =+LOOKUP(A18,'PRESUPUESTO DE OBRA'!$J$196:$AU$196,'PRESUPUESTO DE OBRA'!$J$194:$AU$194) -> 7.1553668e+08 | O18: =+M18 -> 7.1553668e+08
A19: 12 | B19: 14000550 | C19: CL 12A | D19: KR 20 | E19: KR 21 | F19: CALZADA | G19: 60 | H19: 6 | I19: =+G19*H19 -> 360 | J19: MANTENIMIENTO | K19: FLEXIBLE | L19: =+LOOKUP(A19,'PRESUPUESTO DE OBRA'!$J$196:$AU$196,'PRESUPUESTO DE OBRA'!$J$180:$AU$180) -> 0 | M19: 0 | O19: =+M19 -> 0
A20: 13 | B20: 14001058 | C20: KR 26 | D20: CL 2C | E20: CL 3 | F20: CALZADA | G20: 58.4 | H20: 7 | I20: =+G20*H20 -> 408.8 | J20: REHABILITACION | K20: FLEXIBLE | L20: =+LOOKUP(A20,'PRESUPUESTO DE OBRA'!$J$196:$AU$196,'PRESUPUESTO DE OBRA'!$J$180:$AU$180) -> 0 | M20: 0 | N20: =+M20 -> 0
A21: 14 | B21: 14000205 | C21: CL 17 | D21: KR 28A | E21: KR 30 | F21: CALZADA | G21: 165 | H21: 7.6 | I21: =+G21*H21 -> 1254 | J21: REHABILITACION | K21: RIGIDO | L21: =+LOOKUP(A21,'PRESUPUESTO DE OBRA'!$J$196:$AU$196,'PRESUPUESTO DE OBRA'!$J$180:$AU$180) -> 0 | M21: 0 | N21: =+M21 -> 0
A22: 15 | B22: 14001506 | C22: KR 18 | D22: CL 2 | E22: CL 3 | F22: CALZADA | G22: 66 | H22: 9 | I22: =+G22*H22 -> 594 | J22: MANTENIMIENTO | K22: FLEXIBLE | L22: =+LOOKUP(A22,'PRESUPUESTO DE OBRA'!$J$196:$AU$196,'PRESUPUESTO DE OBRA'!$J$180:$AU$180) -> 296540284 | M22: =+LOOKUP(A22,'PRESUPUESTO DE OBRA'!$J$196:$AU$196,'PRESUPUESTO DE OBRA'!$J$194:$AU$194) -> 4.533109e+08 | N22: =+M22 -> 4.533109e+08
A23: 16 | B23: 14001265 | C23: KR 25 | D23: CL 2 | E23: CL 2A | F23: CALZADA | G23: 57 | H23: 8 | I23: =+G23*H23 -> 456 | J23: MANTENIMIENTO | K23: FLEXIBLE | L23: =+LOOKUP(A23,'PRESUPUESTO DE OBRA'!$J$196:$AU$196,'PRESUPUESTO DE OBRA'!$J$180:$AU$180) -> 0 | M23: 0 | N23: =+M23 -> 0
A24: 17 | B24: 14000282 | C24: CL 15 | D24: KR 27 | E24: KR 28A | F24: CALZADA | G24: 157.7 | H24: 12 | I24: =+G24*H24 -> 1892.4 | J24: REHABILITACION | K24: RIGIDO | L24: =+LOOKUP(A24,'PRESUPUESTO DE OBRA'!$J$196:$AU$196,'PRESUPUESTO DE OBRA'!$J$180:$AU$180) -> 0 | M24: 0 | N24: =+M24 -> 0
A25: 18 | B25: 14001619 | C25: CL 1C | D25: KR 19A | E25: KR 19BBIS | F25: CALZADA | G25: 57 | H25: 6 | I25: =+G25*H25 -> 342 | J25: REHABILITACION | K25: FLEXIBLE | L25: =+LOOKUP(A25,'PRESUPUESTO DE OBRA'!$J$196:$AU$196,'PRESUPUESTO DE OBRA'!$J$180:$AU$180) -> 206086024 | M25: =+LOOKUP(A25,'PRESUPUESTO DE OBRA'!$J$196:$AU$196,'PRESUPUESTO DE OBRA'!$J$194:$AU$194) -> 3.150366e+08 | O25: =+M25 -> 3.150366e+08
A26: 19 | B26: 14001616 | C26: CL 1C | D26: KR 19BBIS | E26: KR 19C | F26: CALZADA | G26: 52 | H26: 6 | I26: =+G26*H26 -> 312 | J26: REHABILITACION | K26: FLEXIBLE | L26: =+LOOKUP(A26,'PRESUPUESTO DE OBRA'!$J$196:$AU$196,'PRESUPUESTO DE OBRA'!$J$180:$AU$180) -> 193394176 | M26: =+LOOKUP(A26,'PRESUPUESTO DE OBRA'!$J$196:$AU$196,'PRESUPUESTO DE OBRA'!$J$194:$AU$194) -> 2.95635e+08 | O26: =+M26 -> 2.95635e+08
F28: AREA TOTAL | I28: =SUM(I8:I27) -> 11092.6 | J28: COSTO TOTAL DIRECTO | L28: =SUM(L8:L27)+3 -> 4012862076 | M28: =SUM(M8:M27)+3 -> 6.1343238e+09 | N28: =SUM(N8:N27)+3 -> 2.6252902e+09 | O28: =SUM(O8:O27)+3 -> 3.5090337e+09
A31: ADMINISTRACIÓN | F31: 0.2289 | L31: =+$L$28*F31 -> 9.1854413e+08
A32: IMPREVISTOS | F32: 0.01 | L32: =+$L$28*F32 -> 40128621
A33: UTILIDAD | F33: 0.07 | L33: =+$L$28*F33 -> 2.8090035e+08
A34: COSTO TOTAL A.I.U. | F34: =SUM(F31:F33) -> 0.3089 | L34: =+$L$28*F34 -> 1.2395731e+09
A35: COSTO TOTAL OBRA INCLUYE A.I.U. | L35: =+L28+L34+1 -> 5.2524352e+09
A36: COSTO ACTIVIDADES AMBIENTALES y SST( B ) | F36: 0.029565104 | L36: =+$L$35*F36 -> 1.5528879e+08
A37: COSTO ACTIVIDADES SOCIALES ( C ) | F37: 0.027195258 | L37: =+$L$35*F37 -> 1.4284133e+08
A38: COSTO PLAN DE MANEJO DE TRAFICO ( D ) | F38: 0.012272219 | L38: =+$L$35*F38 -> 64459036
A39: TOTAL OBRAS ( A+B+C+D ) | L39: =+L35+L36+L37+L38 -> 5.6150243e+09
A40: COSTOS ESTIMADOS PARA ENSAYOS DE LABORATORIO ( E) (INCLUYE AJUSTES E IVA) | F40: 0.0041022695 | L40: =+L39*F40 -> 23034343
A41: COSTO ESTIMADO DE AJUSTES A ESTUDIOS Y DISEÑOS ( F ) (INCLUYE IVA) | L41: 337110102
A42: VALOR TOTAL SIN AJUSTES, OBRAS COMPLEMENTARIAS Y/O ADICIONALES = | L42: =+L39+L40+L41 -> 5.9751688e+09
A43: PROVISION PARA AJUSTES, OBRAS COMPLEMENTARIAS Y/O ADICIONALES (SOLO OBRA) , INCLUYE COSTOS INDIRECTOS (G) | F43: 0.026636081 | L43: =+L42*F43 -> 1.5915508e+08
A44: PROTOCOLO BIOSEGURIDAD - TRANSPORTE SEGURO (CONSIDERANDO 5 FRENTES DE OBRA) | F44: 1 | G44: 250000000 | L44: =+F44*G44 -> 250000000
A45: VALOR TOTAL DELCONTRATO APROXIMADO AL PESO = | L45: =+L42+L43+L44 -> 6.3843239e+09
A48: RESUMEN PARA ADICIÓN
...

Sheet JUSTIFICACION NPs
A1: EJECUTAR A PRECIOS UNITARIOS FIJOS POR LA MODALIDAD DE MONTO AGOTABLE, LAS OBRAS Y ACTIVIDADES PARA LA CONSERVACION DE LA MALLA VIAL Y ESPACIO PUBLICO DE LA LOCALIDAD DE LOS MARTIRES
A5: CONTRATO DE OBRA CO-137-2019
A7: RELACION DE ITEMS NO PREVISTOS N° 1
A9: NP | B9: 1 | C9: CODIGO IDU | D9: 4747 | E9: DESCRIPCION | F9: SUBBASE GRANULAR CLASE B (SBG_B) CON RECICLADO DE CONCRETO (Suministro, Extendido, Nivelación, Humedecimiento y Compactación con vibrocompactador) | G9: UN | H9: M3 | I9: VALOR UNITARIO | J9: 126267
A10: JUSTIFICACION
A14: NP | B14: 2 | C14: CODIGO IDU | D14: 4743 | E14: DESCRIPCION | F14: BASE GRANULAR CLASE B (BG_B) CON RECICLADO DE CONCRETO (Suministro, Extendido, Nivelación, Humedecimiento y Compactación con vibrocompactador) | G14: UN | H14: M3 | I14: VALOR UNITARIO | J14: 129709
A15: JUSTIFICACION
A19: NP | B19: 3 | C19: CODIGO IDU | D19: 7897 | E19: DESCRIPCION | F19: BASE ESTABILIZADA CON ASFALTO EN CALIENTE MEZCLADA EN PLANTA (Incluye suministro, extendido, nivelación y compactación). | G19: UN | H19: M3 | I19: VALOR UNITARIO | J19: 592875
A20: JUSTIFICACION
A24: NP | B24: 4 | C24: CODIGO IDU | D24: 6473 | E24: DESCRIPCION | F24: ESTABILIZACIÓN DE SUBRASANTE CON RAJÓN, INCLUYE EQUIPO DE COMPACTACIÓN (Suministro, extendido a mano, nivelación y compactación con retroexcavadora sobre oruga y benitín de 1 tonelada incluyen operario y combustible. | G24: UN | H24: M3 | I24: VALOR UNITARIO | J24: 107660
A25: JUSTIFICACION
A29: NP | B29: 5 | C29: CODIGO IDU | D29: 7713 | E29: DESCRIPCION | F29: (DOVELAS) ACERO LISO PARA TRANSFERENCIA DE LOSAS D= 1 1/2" (NO INCLUYE CANASTILLA). SUMINISTRO E INSTALACIÓN. | G29: UN | H29: KG | I29: VALOR UNITARIO | J29: 4260
A30: JUSTIFICACION
A34: NP | B34: 6 | C34: CODIGO IDU | D34: 5404 | E34: DESCRIPCION | F34: CANASTILLA PASAJUNTAS (Incluye suministro y fijación) | G34: UN | H34: KG | I34: VALOR UNITARIO | J34: 4510
A35: JUSTIFICACION
A39: NP | B39: 7 | C39: CODIGO IDU | D39: 6204 | E39: DESCRIPCION | F39: SELLO DE JUNTAS CON ICOPOR Y SIKAFLEX 1A SELLADO DE JUNTAS (300cc) (Incluye suministro e instalación) | G39: UN | H39: ML | I39: VALOR UNITARIO | J39: 16640
A40: JUSTIFICACION
A44: NP | B44: 8 | C44: CODIGO IDU | D44: 4252 | E44: DESCRIPCION | F44: PLACA CUBIERTA D=1.70m POZO INSPEC. (Fundida en Sitio. Inc. Sum, Formalet., Refuerzo e Inst. Incl.Tapa en Polipropileno) | G44: UN | H44: UN | I44: VALOR UNITARIO | J44: 1875596
A45: JUSTIFICACION
A49: NP | B49: 9 | C49: CODIGO IDU | D49: 3394 | E49: DESCRIPCION | F49: LOSA DE CONCRETO MR41 (Suministro, Formaleteado, Colocación y Acabado. No Incluye Acero, Curado, Juntas) | G49: UN | H49: M3 | I49: VALOR UNITARIO | J49: 501501
A50: JUSTIFICACION
A54: NP | B54: 10 | C54: CODIGO IDU | D54: 3486 | E54: DESCRIPCION | F54: DEMOLICIÓN CONCRETO ESTRUCTURAL (Incluye Cargue manual). No incluye transporte y disposición final de sobrantes. | G54: UN | H54: M3 | I54: VALOR UNITARIO | J54: 155956
A55: JUSTIFICACION
A59: NP | B59: 11 | C59: CODIGO IDU | D59: 4753 | E59: DESCRIPCION | F59: SUBBASE GRANULAR CLASE A (SBG_A) CON RECICLADO DE CONCRETO HIDRAULICO (Suministro, Extendido Manual, Humedecimiento y Compactación con vibrocompactador) | G59: UN | H59: M3 | I59: VALOR UNITARIO | J59: 133693
A60: JUSTIFICACION
A64: NP | B64: 12 | C64: CODIGO IDU | D64: 4755 | E64: DESCRIPCION | F64: SUBBASE GRANULAR CLASE C (SBG_C) CON RECICLADO DE CONCRETO HIDRAULICO (Suministro, Extendido Manual, Humedecimiento y Compactación) | G64: UN | H64: M3 | I64: VALOR UNITARIO | J64: 132146
A65: JUSTIFICACION
A69: NP | B69: 13 | C69: CODIGO IDU | D69: 5196 | E69: DESCRIPCION | F69: DEMOLICIÓN DE CONCRETO: ESPESORES 8cm A 15cm. (Incluye retiro de material, transporte y disposición final de escombros en sitio autorizado). | G69: UN | H69: M3 | I69: VALOR UNITARIO | J69: 74088
A70: JUSTIFICACION
A74: NP | B74: 14 | C74: CODIGO IDU | D74: 5197 | E74: DESCRIPCION | F74: DEMOLICIÓN DE CONCRETO: ESPESORES 16cm A 25cm. (Incluye retiro de material, transporte y disposición final de escombros en sitio autorizado). | G74: UN | H74: M3 | I74: VALOR UNITARIO | J74: 80314
A75: JUSTIFICACION
A79: NP | B79: 15 | C79: CODIGO IDU | D79: 7898 | E79: DESCRIPCION | F79: LOSA DE CONCRETO MR45 ACELERADO A 3 DÍAS (SUMINISTRO, FORMALETEADO, COLOCACIÓN Y ACABADO. No incluye acero, curado y juntas). | G79: UN | H79: M3 | I79: VALOR UNITARIO | J79: 771611
A80: JUSTIFICACION
A84: NP | B84: 16 | C84: CODIGO IDU | D84: 8606 | E84: DESCRIPCION | F84: DEMOLICIÓN PISOS DE CONCRETO - RAMPAS VEHICULARES Y PEATONALES EXISTENTES. (Espesor variable hasta 0.10 m. Incluye Cargue, transporte y disposición final de sobrantes escombrera autorizada). | G84: UN | H84: M2 | I84: VALOR UNITARIO | J84: 9530
A85: JUSTIFICACION
A89: NP | B89: 17 | C89: CODIGO IDU | D89: 8622 | E89: DESCRIPCION | F89: GEOTEXTIL TEJIDO PARA SEPARACIÓN SUBRASANTE/CAPAS GRANULARES (Incluye Suministro e Instalación) | G89: UN | H89: M2 | I89: VALOR UNITARIO | J89: 7176
A90: JUSTIFICACION
A94: NP | B94: 18 | C94: CODIGO IDU | D94: 3811 | E94: DESCRIPCION | F94: CORTE DE PAVIMENTO - INCLUYE EQUIPO: CORTADORA DE CONCRETO INCLUYE OPERARIO Y COMBUSTIBLE. INCLUYE DISCO DIAMANTADO ASFALTO-CONCRETO 350 mm, AGUA Y MANO DE OBRA | G94: UN | H94: ML | I94: VALOR UNITARIO | J94: 1733
A95: JUSTIFICACION
A99: NP | B99: 19 | C99: CODIGO IDU | D99: 4233 | E99: DESCRIPCION | F99: MALLA ELECTROSOLDADA 0.15x0.15m, D=5mm, 5mm (Incluye Suministro, Fijación e Instalación) | G99: UN | H99: KG | I99: VALOR UNITARIO | J99: 3854
...
