Workbook
Name BD_2020: #REF!
Name Database: #REF!
Name voltotal: #REF!

Sheet Base_Datos_LE_Cuntitativa
A1: PARCELA | B1: ARBOL | C1: CODIGO | D1: ESPECIE | E1: DIAMETRO NORMAL | F1: ALTURA | G1: AREA BASAL | H1: TROZAS ASERRIO | I1: VOLUMEN ASERRIO | J1: TROZAS ESTIBA | K1: VOLUMEN ESTIBA | L1: TROZAS DEPULPA | M1: VOLUMEN DE PULPA | N1: TROZAS COMERCIALES | O1: VOLUMEN COMERCIAL | P1: TROZAS NO COMERCIALES | Q1: VOLUMEN NO COMERCIAL | R1: TOTAL DE TROZAS | S1: TOTAL DE VOLUMEN
A2: 383 | B2: 1 | C2: 9185 | D2: Pinus oocarpa | E2: 27.4 | F2: 22.526424 | G2: 0.058964553 | H2: =[1]DESPIECE_ASERRIO!BK2 -> 4 | I2: =[1]DESPIECE_ASERRIO!BN2 -> 0.4076355 | J2: =[1]DESPIECE_ESTIBA!BK2 -> 1 | K2: =[1]DESPIECE_ESTIBA!BN2 -> 0.039800699 | L2: =[1]DESPIECE_PULPA!BC2 -> 4 | M2: =[1]DESPIECE_PULPA!BD2 -> 0.030203709 | N2: =SUM(H2,J2,L2) -> 9 | O2: =SUM(I2,K2,M2) -> 0.47763991 | P2: =[1]DESPIECE_NO_COMERCIAL!BC2 -> 1 | Q2: =[1]DESPIECE_NO_COMERCIAL!BD2 -> 0.00091355992 | R2: =SUM(N2,P2) -> 10 | S2: =SUM(O2,Q2) -> 0.47855347
A3: 383 | B3: 2 | C3: 9186 | D3: Pinus oocarpa | E3: 36.1 | F3: 27.098908 | G3: 0.10235387 | H3: =[1]DESPIECE_ASERRIO!BK3 -> 6 | I3: =[1]DESPIECE_ASERRIO!BN3 -> 0.94132283 | J3: =[1]DESPIECE_ESTIBA!BK3 -> 1 | K3: =[1]DESPIECE_ESTIBA!BN3 -> 0.040041734 | L3: =[1]DESPIECE_PULPA!BC3 -> 3 | M3: =[1]DESPIECE_PULPA!BD3 -> 0.024675971 | N3: =SUM(H3,J3,L3) -> 10 | O3: =SUM(I3,K3,M3) -> 1.0060405 | P3: =[1]DESPIECE_NO_COMERCIAL!BC3 -> 1 | Q3: =[1]DESPIECE_NO_COMERCIAL!BD3 -> 0.0014580002 | R3: =SUM(N3,P3) -> 11 | S3: =SUM(O3,Q3) -> 1.0074985
A4: 383 | B4: 3 | C4: 9187 | D4: Pinus oocarpa | E4: 23.5 | F4: 19.980381 | G4: 0.043373614 | H4: =[1]DESPIECE_ASERRIO!BK4 -> 2 | I4: =[1]DESPIECE_ASERRIO!BN4 -> 0.17402108 | J4: =[1]DESPIECE_ESTIBA!BK4 -> 1 | K4: =[1]DESPIECE_ESTIBA!BN4 -> 0.047552151 | L4: =[1]DESPIECE_PULPA!BC4 -> 5 | M4: =[1]DESPIECE_PULPA!BD4 -> 0.046570557 | N4: =SUM(H4,J4,L4) -> 8 | O4: =SUM(I4,K4,M4) -> 0.26814379 | P4: =[1]DESPIECE_NO_COMERCIAL!BC4 -> 1 | Q4: =[1]DESPIECE_NO_COMERCIAL!BD4 -> 0.0012809668 | R4: =SUM(N4,P4) -> 9 | S4: =SUM(O4,Q4) -> 0.26942476
A5: 383 | B5: 4 | C5: 9188 | D5: Pinus oocarpa | E5: 32.5 | F5: 25.356923 | G5: 0.082957681 | H5: =[1]DESPIECE_ASERRIO!BK5 -> 5 | I5: =[1]DESPIECE_ASERRIO!BN5 -> 0.68181471 | J5: =[1]DESPIECE_ESTIBA!BK5 -> 1 | K5: =[1]DESPIECE_ESTIBA!BN5 -> 0.045244932 | L5: =[1]DESPIECE_PULPA!BC5 -> 4 | M5: =[1]DESPIECE_PULPA!BD5 -> 0.034536426 | N5: =SUM(H5,J5,L5) -> 10 | O5: =SUM(I5,K5,M5) -> 0.76159607 | P5: =[1]DESPIECE_NO_COMERCIAL!BC5 -> 1 | Q5: =[1]DESPIECE_NO_COMERCIAL!BD5 -> 0.0008540174 | R5: =SUM(N5,P5) -> 11 | S5: =SUM(O5,Q5) -> 0.76245008
A6: 383 | B6: 5 | C6: 9189 | D6: Pinus oocarpa | E6: 42.5 | F6: 29.805277 | G6: 0.14186254 | H6: =[1]DESPIECE_ASERRIO!BK6 -> 7 | I6: =[1]DESPIECE_ASERRIO!BN6 -> 1.4703328 | J6: =[1]DESPIECE_ESTIBA!BK6 -> 1 | K6: =[1]DESPIECE_ESTIBA!BN6 -> 0.045715586 | L6: =[1]DESPIECE_PULPA!BC6 -> 3 | M6: =[1]DESPIECE_PULPA!BD6 -> 0.027792866 | N6: =SUM(H6,J6,L6) -> 11 | O6: =SUM(I6,K6,M6) -> 1.5438412 | P6: =[1]DESPIECE_NO_COMERCIAL!BC6 -> 1 | Q6: =[1]DESPIECE_NO_COMERCIAL!BD6 -> 0.0011152536 | R6: =SUM(N6,P6) -> 12 | S6: =SUM(O6,Q6) -> 1.5449565
A7: 383 | B7: 6 | C7: 9190 | D7: Pinus oocarpa | E7: 28.3 | F7: 23.062334 | G7: 0.062901754 | H7: =[1]DESPIECE_ASERRIO!BK7 -> 4 | I7: =[1]DESPIECE_ASERRIO!BN7 -> 0.4412688 | J7: =[1]DESPIECE_ESTIBA!BK7 -> 1 | K7: =[1]DESPIECE_ESTIBA!BN7 -> 0.044806434 | L7: =[1]DESPIECE_PULPA!BC7 -> 4 | M7: =[1]DESPIECE_PULPA!BD7 -> 0.036113403 | N7: =SUM(H7,J7,L7) -> 9 | O7: =SUM(I7,K7,M7) -> 0.52218864 | P7: =[1]DESPIECE_NO_COMERCIAL!BC7 -> 1 | Q7: =[1]DESPIECE_NO_COMERCIAL!BD7 -> 0.0017218163 | R7: =SUM(N7,P7) -> 10 | S7: =SUM(O7,Q7) -> 0.52391045
A8: 383 | B8: 7 | C8: 9191 | D8: Pinus oocarpa | E8: 31.6 | F8: 24.891251 | G8: 0.078426719 | H8: =[1]DESPIECE_ASERRIO!BK8 -> 5 | I8: =[1]DESPIECE_ASERRIO!BN8 -> 0.63628883 | J8: =[1]DESPIECE_ESTIBA!BK8 -> 1 | K8: =[1]DESPIECE_ESTIBA!BN8 -> 0.040485725 | L8: =[1]DESPIECE_PULPA!BC8 -> 3 | M8: =[1]DESPIECE_PULPA!BD8 -> 0.026565401 | N8: =SUM(H8,J8,L8) -> 9 | O8: =SUM(I8,K8,M8) -> 0.70333996 | P8: =[1]DESPIECE_NO_COMERCIAL!BC8 -> 2 | Q8: =[1]DESPIECE_NO_COMERCIAL!BD8 -> 0.0026120422 | R8: =SUM(N8,P8) -> 11 | S8: =SUM(O8,Q8) -> 0.705952
A9: 383 | B9: 8 | C9: 9192 | D9: Pinus oocarpa | E9: 37.4 | F9: 27.685544 | G9: 0.10985835 | H9: =[1]DESPIECE_ASERRIO!BK9 -> 6 | I9: =[1]DESPIECE_ASERRIO!BN9 -> 1.027008 | J9: =[1]DESPIECE_ESTIBA!BK9 -> 1 | K9: =[1]DESPIECE_ESTIBA!BN9 -> 0.046503399 | L9: =[1]DESPIECE_PULPA!BC9 -> 3 | M9: =[1]DESPIECE_PULPA!BD9 -> 0.030654967 | N9: =SUM(H9,J9,L9) -> 10 | O9: =SUM(I9,K9,M9) -> 1.1041664 | P9: =[1]DESPIECE_NO_COMERCIAL!BC9 -> 1 | Q9: =[1]DESPIECE_NO_COMERCIAL!BD9 -> 0.0027525987 | R9: =SUM(N9,P9) -> 11 | S9: =SUM(O9,Q9) -> 1.106919
A10: 383 | B10: 9 | C10: 9193 | D10: Pinus oocarpa | E10: 24.1 | F10: 20.398437 | G10: 0.045616711 | H10: =[1]DESPIECE_ASERRIO!BK10 -> 3 | I10: =[1]DESPIECE_ASERRIO!BN10 -> 0.25713765 | J10: =[1]DESPIECE_ESTIBA!BK10 -> 1 | K10: =[1]DESPIECE_ESTIBA!BN10 -> 0.04145302 | L10: =[1]DESPIECE_PULPA!BC10 -> 4 | M10: =[1]DESPIECE_PULPA!BD10 -> 0.034070734 | N10: =SUM(H10,J10,L10) -> 8 | O10: =SUM(I10,K10,M10) -> 0.33266141 | P10: =[1]DESPIECE_NO_COMERCIAL!BC10 -> 2 | Q10: =[1]DESPIECE_NO_COMERCIAL!BD10 -> 0.0018894675 | R10: =SUM(N10,P10) -> 10 | S10: =SUM(O10,Q10) -> 0.33455087
A11: 383 | B11: 10 | C11: 9194 | D11: Pinus oocarpa | E11: 29.8 | F11: 23.918738 | G11: 0.069746499 | H11: =[1]DESPIECE_ASERRIO!BK11 -> 4 | I11: =[1]DESPIECE_ASERRIO!BN11 -> 0.46924443 | J11: =[1]DESPIECE_ESTIBA!BK11 -> 1 | K11: =[1]DESPIECE_ESTIBA!BN11 -> 0.042087423 | L11: =[1]DESPIECE_PULPA!BC11 -> 4 | M11: =[1]DESPIECE_PULPA!BD11 -> 0.031935669 | N11: =SUM(H11,J11,L11) -> 9 | O11: =SUM(I11,K11,M11) -> 0.54326752 | P11: =[1]DESPIECE_NO_COMERCIAL!BC11 -> 1 | Q11: =[1]DESPIECE_NO_COMERCIAL!BD11 -> 0.00085448817 | R11: =SUM(N11,P11) -> 10 | S11: =SUM(O11,Q11) -> 0.54412201
A12: 383 | B12: 11 | C12: 9195 | D12: Pinus oocarpa | E12: 26.7 | F12: 22.097291 | G12: 0.05599025 | H12: =[1]DESPIECE_ASERRIO!BK12 -> 3 | I12: =[1]DESPIECE_ASERRIO!BN12 -> 0.30722786 | J12: =[1]DESPIECE_ESTIBA!BK12 -> 1 | K12: =[1]DESPIECE_ESTIBA!BN12 -> 0.046405654 | L12: =[1]DESPIECE_PULPA!BC12 -> 4 | M12: =[1]DESPIECE_PULPA!BD12 -> 0.039142142 | N12: =SUM(H12,J12,L12) -> 8 | O12: =SUM(I12,K12,M12) -> 0.39277566 | P12: =[1]DESPIECE_NO_COMERCIAL!BC12 -> 2 | Q12: =[1]DESPIECE_NO_COMERCIAL!BD12 -> 0.0026714633 | R12: =SUM(N12,P12) -> 10 | S12: =SUM(O12,Q12) -> 0.39544712
A13: 383 | B13: 12 | C13: 9196 | D13: Pinus oocarpa | E13: 39.7 | F13: 28.675165 | G13: 0.12378582 | H13: =[1]DESPIECE_ASERRIO!BK13 -> 6 | I13: =[1]DESPIECE_ASERRIO!BN13 -> 1.1248587 | J13: =[1]DESPIECE_ESTIBA!BK13 -> 1 | K13: =[1]DESPIECE_ESTIBA!BN13 -> 0.0452536 | L13: =[1]DESPIECE_PULPA!BC13 -> 3 | M13: =[1]DESPIECE_PULPA!BD13 -> 0.028522088 | N13: =SUM(H13,J13,L13) -> 10 | O13: =SUM(I13,K13,M13) -> 1.1986344 | P13: =[1]DESPIECE_NO_COMERCIAL!BC13 -> 1 | Q13: =[1]DESPIECE_NO_COMERCIAL!BD13 -> 0.0018363114 | R13: =SUM(N13,P13) -> 11 | S13: =SUM(O13,Q13) -> 1.2004707
... A88: 384 | B88: 36 | C88: 9271 | D88: Pinus oocarpa | E88: 27.1 | F88: 22.343868 | G88: 0.057680427 | H88: =[1]DESPIECE_ASERRIO!BK88 -> 4 | I88: =[1]DESPIECE_ASERRIO!BN88 -> 0.39671642 | J88: =[1]DESPIECE_ESTIBA!BK88 -> 0 | K88: =[1]DESPIECE_ESTIBA!BN88 -> 0 | L88: =[1]DESPIECE_PULPA!BC88 -> 4 | M88: =[1]DESPIECE_PULPA!BD88 -> 0.04212893 | N88: =SUM(H88,J88,L88) -> 8 | O88: =SUM(I88,K88,M88) -> 0.43884535 | P88: =[1]DESPIECE_NO_COMERCIAL!BC88 -> 2 | Q88: =[1]DESPIECE_NO_COMERCIAL!BD88 -> 0.0034112165 | R88: =SUM(N88,P88) -> 10 | S88: =SUM(O88,Q88) -> 0.44225656
I89: =SUM(I2:I88) -> 34.203084 | K89: =SUM(K2:K88) -> 3.210565 | M89: =SUM(M2:M88) -> 3.1749044 | O89: =SUM(O2:O88) -> 40.588553 | Q89: =SUM(Q2:Q88) -> 0.17071775 | S89: =SUM(S2:S88) -> 40.759271

Sheet TD
A3: PARCELA | B3: Suma de VOLUMEN ASERRIO | C3: Suma de VOLUMEN ESTIBA | D3: Suma de VOLUMEN DE PULPA | E3: Suma de VOLUMEN NO COMERCIAL
A4: 383 | B4: 12.221586 | C4: 0.69842596 | D4: 0.55196313 | E4: 0.024636453
A5: 384 | B5: 8.799444 | C5: 1.3349689 | D5: 1.3540556 | E5: 0.073011169
A6: 385 | B6: 13.182054 | C6: 1.1771701 | D6: 1.2688857 | E6: 0.073070125
A7: Total general | B7: 34.203084 | C7: 3.210565 | D7: 3.1749044 | E7: 0.17071775

Sheet APOYO
B2: PARCELA | C2: Promedio de DIAMETRO NORMAL | D2: Promedio de ALTURA | E2: Cuenta arboles | F2: Suma de AREA BASAL | G2: Suma de VOLUMEN ASERRIO | H2: Suma de VOLUMEN ESTIBA | I2: Suma de VOLUMEN DE PULPA | J2: Suma de VOLUMEN NO COMERCIAL
B3: 383 | C3: 32.464706 | D3: 25.013297 | E3: 17 | F3: 1.4650197 | G3: 12.221586 | H3: 0.69842596 | I3: 0.55196313 | J3: 0.024636453
B4: 384 | C4: 23.580556 | D4: 19.705041 | E4: 36 | F4: 1.6410981 | G4: 8.799444 | H4: 1.3349689 | I4: 1.3540556 | J4: 0.073011169
B5: 385 | C5: 26.841176 | D5: 21.877075 | E5: 34 | F5: 2.0002599 | G5: 13.182054 | H5: 1.1771701 | I5: 1.2688857 | J5: 0.073070125
B6: PROMEDIO | C6: =AVERAGE(C3:C5) -> 27.628813 | D6: =AVERAGE(D3:D5) -> 22.198471 | E6: =AVERAGE(E3:E5) -> 29 | F6: =AVERAGE(F3:F5) -> 1.7021259 | G6: =AVERAGE(G3:G5) -> 11.401028 | H6: =AVERAGE(H3:H5) -> 1.0701883 | I6: =AVERAGE(I3:I5) -> 1.0583015 | J6: =AVERAGE(J3:J5) -> 0.056905916
F8: =(F6*10000)/400 -> 42.553147 | G8: =(G6*10000)/400 -> 285.0257 | H8: =(H6*10000)/400 -> 26.754708 | I8: =(I6*10000)/400 -> 26.457537 | J8: =(J6*10000)/400 -> 1.4226479
G9: =SUM(G8:J8) -> 339.66059

Sheet EDAD
A2: Fecha de establecimiento estimada | B2: 38183 | D2: 15/07/2004
A3: Fecha de medición actual | B3: 44226
A4: Diferencia en dias acumulados hasta la fecha | B4: =B3-B2 -> 6043
A5: Edad estimada | B5: =B4/12/30 -> 16.786111

Sheet HD
B6: ARBOL | C6: 383 | D6: 384 | E6: 385
B7: 1 | C7: 31.64962 | D7: 29.99922 | E7: 28.591418
B8: 2 | C8: 29.805277 | D8: 25.099833 | E8: 28.380179
B9: 3 | C9: 28.675165 | D9: 24.680013 | E9: 27.993033
B10: 4 | C10: 28.07985 | D10: 22.343868 | E10: 27.006786
B11: 5 | C11: 27.685544 | D11: 22.097291 | E11: 24.838693
B12: 6 | C12: 27.098908 | D12: 21.783823 | E12: 24.680013
B13: 7 | C13: 25.356923 | D13: 21.464314 | E13: 24.412123
B14: 8 | C14: 24.891251 | D14: 21.464314 | E14: 24.303744
B15: 9 | C15: 24.194651 | D15: 21.269611 | E15: 23.918738
B16: 10 | C16: 24.084836 | D16: 21.269611 | E16: 23.352745
B17: 11 | C17: 23.918738 | D17: 21.204198 | E17: 23.352745
B18: 12 | C18: 23.062334 | D18: 21.006399 | E18: 23.17911
... B23: 17 | C23: 19.980381 | D23: 20.120907 | E23: 21.656757
B24: 18 | D24: 20.120907 | E24: 21.138527
B25: 19 | D25: 20.050793 | E25: 20.939938
B26: 20 | D26: 20.050793 | E26: 20.603577
B27: 21 | D27: 19.259311 | E27: 20.535479
B28: 22 | D28: 19.03673 | E28: 20.190726
B29: 23 | D29: 18.886666 | E29: 19.695704
B30: 24 | D30: 18.886666 | E30: 19.623765
B31: 25 | D31: 18.735231 | E31: 19.332845
B32: 26 | D32: 18.582401 | E32: 19.03673
B33: 27 | D33: 18.505454 | E33: 18.811121
B34: 28 | D34: 18.505454 | E34: 18.658992
B35: 29 | D35: 17.471229 | E35: 18.505454
... B40: 34 | D40: 15.1865 | E40: 17.055618
B41: 35 | D41: 15.1865
B42: 36 | D42: 10.7888
C43: =AVERAGE(C7:C10) -> 29.552478 | D43: =AVERAGE(D7:D10) -> 25.530734 | E43: =AVERAGE(E7:E10) -> 27.992854

Sheet RESUMEN_PARCELA
B2: PARCELA | C2: EDAD CALCULADA | D2: DIAMETRO NORMAL PROMEDIO | E2: ALTURA TOTAL PROMEDIO | F2: NUMERO DE ARBOLES | G2: AREA BASAL | H2: ALTURA DOMINANTE | I2: VOLUMEN
I3: TOTAL | J3: ASERRIO | K3: ESTIBA | L3: PULPA | M3: NO COMERCIAL
B4: =APOYO!B3 -> 383 | C4: 16.786111 | D4: =APOYO!C3 -> 32.464706 | E4: =APOYO!D3 -> 25.013297 | F4: =APOYO!E3 -> 17 | G4: =APOYO!F3 -> 1.4650197 | H4: 29.552478 | I4: =SUM(J4:M4) -> 13.496611 | J4: =APOYO!G3 -> 12.221586 | K4: =APOYO!H3 -> 0.69842596 | L4: =APOYO!I3 -> 0.55196313 | M4: =APOYO!J3 -> 0.024636453
B5: =APOYO!B4 -> 384 | C5: 16.786111 | D5: =APOYO!C4 -> 23.580556 | E5: =APOYO!D4 -> 19.705041 | F5: =APOYO!E4 -> 36 | G5: =APOYO!F4 -> 1.6410981 | H5: 25.530734 | I5: =SUM(J5:M5) -> 11.56148 | J5: =APOYO!G4 -> 8.799444 | K5: =APOYO!H4 -> 1.3349689 | L5: =APOYO!I4 -> 1.3540556 | M5: =APOYO!J4 -> 0.073011169
B6: =APOYO!B5 -> 385 | C6: 16.786111 | D6: =APOYO!C5 -> 26.841176 | E6: =APOYO!D5 -> 21.877075 | F6: =APOYO!E5 -> 34 | G6: =APOYO!F5 -> 2.0002599 | H6: 27.992854 | I6: =SUM(J6:M6) -> 15.70118 | J6: =APOYO!G5 -> 13.182054 | K6: =APOYO!H5 -> 1.1771701 | L6: =APOYO!I5 -> 1.2688857 | M6: =APOYO!J5 -> 0.073070125
B7: Total general | C7: =AVERAGE(C4:C6) -> 16.786111 | D7: =AVERAGE(D4:D6) -> 27.628813 | E7: =AVERAGE(E4:E6) -> 22.198471 | F7: =AVERAGE(F4:F6) -> 29 | G7: =AVERAGE(G4:G6) -> 1.7021259 | H7: =AVERAGE(H4:H6) -> 27.692022 | I7: =AVERAGE(I4:I6) -> 13.586424 | J7: =AVERAGE(J4:J6) -> 11.401028 | ... M7: =AVERAGE(M4:M6) -> 0.056905916
F9: =(F7*10000)/400 -> 725 | G9: =(G7*10000)/400 -> 42.553147 | I9: =(I7*10000)/400 -> 339.66059 | J9: =(J7*10000)/400 -> 285.0257 | K9: =(K7*10000)/400 -> 26.754708 | L9: =(L7*10000)/400 -> 26.457537 | M9: =(M7*10000)/400 -> 1.4226479
