Workbook
Name Database: #REF!
Name BD_2020: #REF!
Name voltotal: #REF!

Sheet Base_Datos_LE_Cuntitativa
A1: PARCELA | B1: ARBOL | C1: CODIGO | D1: ESPECIE | E1: DIAMETRO NORMAL | F1: ALTURA | G1: AREA BASAL | H1: TROZAS ASERRIO | I1: VOLUMEN ASERRIO | J1: TROZAS ESTIBA | K1: VOLUMEN ESTIBA | L1: TROZAS DEPULPA | M1: VOLUMEN DE PULPA | N1: TROZAS COMERCIALES | O1: VOLUMEN COMERCIAL | P1: TROZAS NO COMERCIALES | Q1: VOLUMEN NO COMERCIAL | R1: TOTAL DE TROZAS | S1: TOTAL DE VOLUMEN
A2: 383 | B2: 1 | C2: 9185 | D2: Pinus oocarpa | E2: 27.4 | F2: 22.526424 | G2: 0.058964553 | H2: =[1]DESPIECE_ASERRIO!BK2 -> 4 | I2: =[1]DESPIECE_ASERRIO!BN2 -> 0.4076355 | J2: =[1]DESPIECE_ESTIBA!BK2 -> 1 | K2: =[1]DESPIECE_ESTIBA!BN2 -> 0.039800699 | L2: =[1]DESPIECE_PULPA!BC2 -> 4 | M2: =[1]DESPIECE_PULPA!BD2 -> 0.030203709 | N2: =SUM(H2,J2,L2) -> 9 | O2: =SUM(I2,K2,M2) -> 0.47763991 | P2: =[1]DESPIECE_NO_COMERCIAL!BC2 -> 1 | Q2: =[1]DESPIECE_NO_COMERCIAL!BD2 -> 0.00091355992 | R2: =SUM(N2,P2) -> 10 | S2: =SUM(O2,Q2) -> 0.47855347
A3: 383 | B3: 2 | C3: 9186 | D3: Pinus oocarpa | E3: 36.1 | F3: 27.098908 | G3: 0.10235387 | H3: =[1]DESPIECE_ASERRIO!BK3 -> 6 | I3: =[1]DESPIECE_ASERRIO!BN3 -> 0.94132283 | J3: =[1]DESPIECE_ESTIBA!BK3 -> 1 | K3: =[1]DESPIECE_ESTIBA!BN3 -> 0.040041734 | L3: =[1]DESPIECE_PULPA!BC3 -> 3 | M3: =[1]DESPIECE_PULPA!BD3 -> 0.024675971 | N3: =SUM(H3,J3,L3) -> 10 | O3: =SUM(I3,K3,M3) -> 1.0060405 | P3: =[1]DESPIECE_NO_COMERCIAL!BC3 -> 1 | Q3: =[1]DESPIECE_NO_COMERCIAL!BD3 -> 0.0014580002 | R3: =SUM(N3,P3) -> 11 | S3: =SUM(O3,Q3) -> 1.0074985
A4: 383 | B4: 3 | C4: 9187 | D4: Pinus oocarpa | E4: 23.5 | F4: 19.980381 | G4: 0.043373614 | H4: =[1]DESPIECE_ASERRIO!BK4 -> 2 | I4: =[1]DESPIECE_ASERRIO!BN4 -> 0.17402108 | J4: =[1]DESPIECE_ESTIBA!BK4 -> 1 | K4: =[1]DESPIECE_ESTIBA!BN4 -> 0.047552151 | L4: =[1]DESPIECE_PULPA!BC4 -> 5 | M4: =[1]DESPIECE_PULPA!BD4 -> 0.046570557 | N4: =SUM(H4,J4,L4) -> 8 | O4: =SUM(I4,K4,M4) -> 0.26814379 | P4: =[1]DESPIECE_NO_COMERCIAL!BC4 -> 1 | Q4: =[1]DESPIECE_NO_COMERCIAL!BD4 -> 0.0012809668 | R4: =SUM(N4,P4) -> 9 | S4: =SUM(O4,Q4) -> 0.26942476
A5: 383 | B5: 4 | C5: 9188 | D5: Pinus oocarpa | E5: 32.5 | F5: 25.356923 | G5: 0.082957681 | H5: =[1]DESPIECE_ASERRIO!BK5 -> 5 | I5: =[1]DESPIECE_ASERRIO!BN5 -> 0.68181471 | J5: =[1]DESPIECE_ESTIBA!BK5 -> 1 | K5: =[1]DESPIECE_ESTIBA!BN5 -> 0.045244932 | L5: =[1]DESPIECE_PULPA!BC5 -> 4 | M5: =[1]DESPIECE_PULPA!BD5 -> 0.034536426 | N5: =SUM(H5,J5,L5) -> 10 | O5: =SUM(I5,K5,M5) -> 0.76159607 | P5: =[1]DESPIECE_NO_COMERCIAL!BC5 -> 1 | Q5: =[1]DESPIECE_NO_COMERCIAL!BD5 -> 0.0008540174 | R5: =SUM(N5,P5) -> 11 | S5: =SUM(O5,Q5) -> 0.76245008
A6: 383 | B6: 5 | C6: 9189 | D6: Pinus oocarpa | E6: 42.5 | F6: 29.805277 | G6: 0.14186254 | H6: =[1]DESPIECE_ASERRIO!BK6 -> 7 | I6: =[1]DESPIECE_ASERRIO!BN6 -> 1.4703328 | J6: =[1]DESPIECE_ESTIBA!BK6 -> 1 | K6: =[1]DESPIECE_ESTIBA!BN6 -> 0.045715586 | L6: =[1]DESPIECE_PULPA!BC6 -> 3 | M6: =[1]DESPIECE_PULPA!BD6 -> 0.027792866 | N6: =SUM(H6,J6,L6) -> 11 | O6: =SUM(I6,K6,M6) -> 1.5438412 | P6: =[1]DESPIECE_NO_COMERCIAL!BC6 -> 1 | Q6: =[1]DESPIECE_NO_COMERCIAL!BD6 -> 0.0011152536 | R6: =SUM(N6,P6) -> 12 | S6: =SUM(O6,Q6) -> 1.5449565
A7: 383 | B7: 6 | C7: 9190 | D7: Pinus oocarpa | E7: 28.3 | F7: 23.062334 | G7: 0.062901754 | H7: =[1]DESPIECE_ASERRIO!BK7 -> 4 | I7: =[1]DESPIECE_ASERRIO!BN7 -> 0.4412688 | J7: =[1]DESPIECE_ESTIBA!BK7 -> 1 | K7: =[1]DESPIECE_ESTIBA!BN7 -> 0.044806434 | L7: =[1]DESPIECE_PULPA!BC7 -> 4 | M7: =[1]DESPIECE_PULPA!BD7 -> 0.036113403 | N7: =SUM(H7,J7,L7) -> 9 | O7: =SUM(I7,K7,M7) -> 0.52218864 | P7: =[1]DESPIECE_NO_COMERCIAL!BC7 -> 1 | Q7: =[1]DESPIECE_NO_COMERCIAL!BD7 -> 0.0017218163 | R7: =SUM(N7,P7) -> 10 | S7: =SUM(O7,Q7) -> 0.52391045
A8: 383 | B8: 7 | C8: 9191 | D8: Pinus oocarpa | E8: 31.6 | F8: 24.891251 | G8: 0.078426719 | H8: =[1]DESPIECE_ASERRIO!BK8 -> 5 | I8: =[1]DESPIECE_ASERRIO!BN8 -> 0.63628883 | J8: =[1]DESPIECE_ESTIBA!BK8 -> 1 | K8: =[1]DESPIECE_ESTIBA!BN8 -> 0.040485725 | L8: =[1]DESPIECE_PULPA!BC8 -> 3 | M8: =[1]DESPIECE_PULPA!BD8 -> 0.026565401 | N8: =SUM(H8,J8,L8) -> 9 | O8: =SUM(I8,K8,M8) -> 0.70333996 | P8: =[1]DESPIECE_NO_COMERCIAL!BC8 -> 2 | Q8: =[1]DESPIECE_NO_COMERCIAL!BD8 -> 0.0026120422 | R8: =SUM(N8,P8) -> 11 | S8: =SUM(O8,Q8) -> 0.705952
A9: 383 | B9: 8 | C9: 9192 | D9: Pinus oocarpa | E9: 37.4 | F9: 27.685544 | G9: 0.10985835 | H9: =[1]DESPIECE_ASERRIO!BK9 -> 6 | I9: =[1]DESPIECE_ASERRIO!BN9 -> 1.027008 | J9: =[1]DESPIECE_ESTIBA!BK9 -> 1 | K9: =[1]DESPIECE_ESTIBA!BN9 -> 0.046503399 | L9: =[1]DESPIECE_PULPA!BC9 -> 3 | M9: =[1]DESPIECE_PULPA!BD9 -> 0.030654967 | N9: =SUM(H9,J9,L9) -> 10 | O9: =SUM(I9,K9,M9) -> 1.1041664 | P9: =[1]DESPIECE_NO_COMERCIAL!BC9 -> 1 | Q9: =[1]DESPIECE_NO_COMERCIAL!BD9 -> 0.0027525987 | R9: =SUM(N9,P9) -> 11 | S9: =SUM(O9,Q9) -> 1.106919
A10: 383 | B10: 9 | C10: 9193 | D10: Pinus oocarpa | E10: 24.1 | F10: 20.398437 | G10: 0.045616711 | H10: =[1]DESPIECE_ASERRIO!BK10 -> 3 | I10: =[1]DESPIECE_ASERRIO!BN10 -> 0.25713765 | J10: =[1]DESPIECE_ESTIBA!BK10 -> 1 | K10: =[1]DESPIECE_ESTIBA!BN10 -> 0.04145302 | L10: =[1]DESPIECE_PULPA!BC10 -> 4 | M10: =[1]DESPIECE_PULPA!BD10 -> 0.034070734 | N10: =SUM(H10,J10,L10) -> 8 | O10: =SUM(I10,K10,M10) -> 0.33266141 | P10: =[1]DESPIECE_NO_COMERCIAL!BC10 -> 2 | Q10: =[1]DESPIECE_NO_COMERCIAL!BD10 -> 0.0018894675 | R10: =SUM(N10,P10) -> 10 | S10: =SUM(O10,Q10) -> 0.33455087
A11: 383 | B11: 10 | C11: 9194 | D11: Pinus oocarpa | E11: 29.8 | F11: 23.918738 | G11: 0.069746499 | H11: =[1]DESPIECE_ASERRIO!BK11 -> 4 | I11: =[1]DESPIECE_ASERRIO!BN11 -> 0.46924443 | J11: =[1]DESPIECE_ESTIBA!BK11 -> 1 | K11: =[1]DESPIECE_ESTIBA!BN11 -> 0.042087423 | L11: =[1]DESPIECE_PULPA!BC11 -> 4 | M11: =[1]DESPIECE_PULPA!BD11 -> 0.031935669 | N11: =SUM(H11,J11,L11) -> 9 | O11: =SUM(I11,K11,M11) -> 0.54326752 | P11: =[1]DESPIECE_NO_COMERCIAL!BC11 -> 1 | Q11: =[1]DESPIECE_NO_COMERCIAL!BD11 -> 0.00085448817 | R11: =SUM(N11,P11) -> 10 | S11: =SUM(O11,Q11) -> 0.54412201
A12: 383 | B12: 11 | C12: 9195 | D12: Pinus oocarpa | E12: 26.7 | F12: 22.097291 | G12: 0.05599025 | H12: =[1]DESPIECE_ASERRIO!BK12 -> 3 | I12: =[1]DESPIECE_ASERRIO!BN12 -> 0.30722786 | J12: =[1]DESPIECE_ESTIBA!BK12 -> 1 | K12: =[1]DESPIECE_ESTIBA!BN12 -> 0.046405654 | L12: =[1]DESPIECE_PULPA!BC12 -> 4 | M12: =[1]DESPIECE_PULPA!BD12 -> 0.039142142 | N12: =SUM(H12,J12,L12) -> 8 | O12: =SUM(I12,K12,M12) -> 0.39277566 | P12: =[1]DESPIECE_NO_COMERCIAL!BC12 -> 2 | Q12: =[1]DESPIECE_NO_COMERCIAL!BD12 -> 0.0026714633 | R12: =SUM(N12,P12) -> 10 | S12: =SUM(O12,Q12) -> 0.39544712
A13: 383 | B13: 12 | C13: 9196 | D13: Pinus oocarpa | E13: 39.7 | F13: 28.675165 | G13: 0.12378582 | H13: =[1]DESPIECE_ASERRIO!BK13 -> 6 | I13: =[1]DESPIECE_ASERRIO!BN13 -> 1.1248587 | J13: =[1]DESPIECE_ESTIBA!BK13 -> 1 | K13: =[1]DESPIECE_ESTIBA!BN13 -> 0.0452536 | L13: =[1]DESPIECE_PULPA!BC13 -> 3 | M13: =[1]DESPIECE_PULPA!BD13 -> 0.028522088 | N13: =SUM(H13,J13,L13) -> 10 | O13: =SUM(I13,K13,M13) -> 1.1986344 | P13: =[1]DESPIECE_NO_COMERCIAL!BC13 -> 1 | Q13: =[1]DESPIECE_NO_COMERCIAL!BD13 -> 0.0018363114 | R13: =SUM(N13,P13) -> 11 | S13: =SUM(O13,Q13) -> 1.2004707
... A88: 384 | B88: 36 | C88: 9271 | D88: Pinus oocarpa | E88: 27.1 | F88: 22.343868 | G88: 0.057680427 | H88: =[1]DESPIECE_ASERRIO!BK88 -> 4 | I88: =[1]DESPIECE_ASERRIO!BN88 -> 0.39671642 | J88: =[1]DESPIECE_ESTIBA!BK88 -> 0 | K88: =[1]DESPIECE_ESTIBA!BN88 -> 0 | L88: =[1]DESPIECE_PULPA!BC88 -> 4 | M88: =[1]DESPIECE_PULPA!BD88 -> 0.04212893 | N88: =SUM(H88,J88,L88) -> 8 | O88: =SUM(I88,K88,M88) -> 0.43884535 | P88: =[1]DESPIECE_NO_COMERCIAL!BC88 -> 2 | Q88: =[1]DESPIECE_NO_COMERCIAL!BD88 -> 0.0034112165 | R88: =SUM(N88,P88) -> 10 | S88: =SUM(O88,Q88) -> 0.44225656
I89: =SUM(I2:I88) -> 34.203084 | K89: =SUM(K2:K88) -> 3.210565 | M89: =SUM(M2:M88) -> 3.1749044 | O89: =SUM(O2:O88) -> 40.588553 | Q89: =SUM(Q2:Q88) -> 0.17071775 | S89: =SUM(S2:S88) -> 40.759271

Sheet TD
A3: PARCELA | B3: Suma de VOLUMEN ASERRIO | C3: Suma de VOLUMEN ESTIBA | D3: Suma de VOLUMEN DE PULPA | E3: Suma de VOLUMEN NO COMERCIAL
A4: 383 | B4: 12.221586 | C4: 0.69842596 | D4: 0.55196313 | E4: 0.024636453
A5: 384 | B5: 8.799444 | C5: 1.3349689 | D5: 1.3540556 | E5: 0.073011169
A6: 385 | B6: 13.182054 | C6: 1.1771701 | D6: 1.2688857 | E6: 0.073070125
A7: Total general | B7: 34.203084 | C7: 3.210565 | D7: 3.1749044 | E7: 0.17071775

Sheet APOYO
J2: DIAMETRO | X2: AREA BASAL | AL2: VOLUMEN | AZ2: DISTRIBUCION VOLUMEN
B3: PARCELA | C3: NUMERO DE ARBOLES | D3: NUMERO DE ARBOLES | E3: DIMETRO NORMAL PROMEDIO | F3: ALTURA PROMEDIO | G3: AREA BASAL | H3: AREA BASAL | J3: PARCELA | K3: 10-20 | L3: 20-30 | M3: 30-40 | N3: 40-50 | O3: Total general | Q3: PARCELA | R3: 10-20 | S3: 20-30 | T3: 30-40 | U3: 40-50 | V3: Total general | X3: PARCELA | Y3: 10-20 | Z3: 20-30 | AA3: 30-40 | AB3: 40-50 | AC3: Total general | AE3: PARCELA | AF3: 10-20 | AG3: 20-30 | AH3: 30-40 | AI3: 40-50 | AJ3: Total general | AL3: PARCELA | AM3: 10-20 | AN3: 20-30 | AO3: 30-40 | AP3: 40-50 | AQ3: Total general | AS3: PARCELA | AT3: 10-20 | AU3: 20-30 | AV3: 30-40 | AW3: 40-50 | AX3: Total general | AZ3: PARCELA | BA3: Suma de VOLUMEN ASERRIO | BB3: Suma de VOLUMEN ESTIBA | BC3: Suma de VOLUMEN DE PULPA | BD3: Suma de VOLUMEN NO COMERCIAL | BF3: PARCELA | BG3: Suma de VOLUMEN ASERRIO | BH3: Suma de VOLUMEN ESTIBA | BI3: Suma de VOLUMEN DE PULPA | BJ3: Suma de VOLUMEN NO COMERCIAL
B4: 383 | C4: 17 | D4: =(C4*10000)/400 -> 425 | E4: 32.464706 | F4: 25.013297 | G4: 1.4650197 | H4: =(G4*10000)/400 -> 36.625492 | J4: 383 | L4: 7 | M4: 8 | N4: 2 | O4: =SUM(K4:N4) -> 17 | Q4: =J4 -> 383 | R4: =(IF(K4>0,K4,0)*10000)/400 -> 0 | S4: =(IF(L4>0,L4,0)*10000)/400 -> 175 | T4: =(IF(M4>0,M4,0)*10000)/400 -> 200 | U4: =(IF(N4>0,N4,0)*10000)/400 -> 50 | V4: =SUM(R4:U4) -> 425 | X4: 383 | Z4: 0.39009549 | AA4: 0.7558562 | AB4: 0.319068 | AC4: =SUM(Y4:AB4) -> 1.4650197 | AE4: =X4 -> 383 | AF4: =(IF(Y4>0,Y4,0)*10000)/400 -> 0 | AG4: =(IF(Z4>0,Z4,0)*10000)/400 -> 9.7523872 | AH4: =(IF(AA4>0,AA4,0)*10000)/400 -> 18.896405 | AI4: =(IF(AB4>0,AB4,0)*10000)/400 -> 7.9767001 | AJ4: =SUM(AF4:AI4) -> 36.625492 | AL4: 383 | AN4: 2.9162173 | AO4: 6.9818463 | AP4: 3.5985475 | AQ4: =SUM(AM4:AP4) -> 13.496611 | AS4: =AL4 -> 383 | AT4: =(IF(AM4>0,AM4,0)*10000)/400 -> 0 | AU4: =(IF(AN4>0,AN4,0)*10000)/400 -> 72.905434 | AV4: =(IF(AO4>0,AO4,0)*10000)/400 -> 174.54616 | AW4: =(IF(AP4>0,AP4,0)*10000)/400 -> 89.963687 | AX4: =SUM(AT4:AW4) -> 337.41528 | AZ4: 383 | BA4: 12.221586 | BB4: 0.69842596 | BC4: 0.55196313 | BD4: 0.024636453 | BF4: =AZ4 -> 383 | BG4: =(BA4*10000)/400 -> 305.53964 | BH4: =(BB4*10000)/400 -> 17.460649 | BI4: =(BC4*10000)/400 -> 13.799078 | BJ4: =(BD4*10000)/400 -> 0.61591134
B5: 384 | C5: 36 | D5: =(C5*10000)/400 -> 900 | E5: 23.580556 | F5: 19.705041 | G5: 1.6410981 | H5: =(G5*10000)/400 -> 41.027453 | J5: 384 | K5: 7 | L5: 26 | M5: 2 | N5: 1 | O5: =SUM(K5:N5) -> 36 | Q5: =J5 -> 384 | R5: =(IF(K5>0,K5,0)*10000)/400 -> 175 | S5: =(IF(L5>0,L5,0)*10000)/400 -> 650 | T5: =(IF(M5>0,M5,0)*10000)/400 -> 50 | U5: =(IF(N5>0,N5,0)*10000)/400 -> 25 | V5: =SUM(R5:U5) -> 900 | X5: 384 | Y5: 0.1691245 | Z5: 1.1698749 | AA5: 0.15687857 | AB5: 0.14522012 | AC5: =SUM(Y5:AB5) -> 1.6410981 | AE5: =X5 -> 384 | AF5: =(IF(Y5>0,Y5,0)*10000)/400 -> 4.2281125 | AG5: =(IF(Z5>0,Z5,0)*10000)/400 -> 29.246873 | AH5: =(IF(AA5>0,AA5,0)*10000)/400 -> 3.9219643 | AI5: =(IF(AB5>0,AB5,0)*10000)/400 -> 3.630503 | AJ5: =SUM(AF5:AI5) -> 41.027453 | AL5: 384 | AM5: 0.73025954 | AN5: 7.9729411 | AO5: 1.3906754 | AP5: 1.4676036 | AQ5: =SUM(AM5:AP5) -> 11.56148 | AS5: =AL5 -> 384 | AT5: =(IF(AM5>0,AM5,0)*10000)/400 -> 18.256488 | AU5: =(IF(AN5>0,AN5,0)*10000)/400 -> 199.32353 | AV5: =(IF(AO5>0,AO5,0)*10000)/400 -> 34.766886 | AW5: =(IF(AP5>0,AP5,0)*10000)/400 -> 36.69009 | AX5: =SUM(AT5:AW5) -> 289.03699 | AZ5: 384 | BA5: 8.799444 | BB5: 1.3349689 | BC5: 1.3540556 | BD5: 0.073011169 | BF5: =AZ5 -> 384 | BG5: =(BA5*10000)/400 -> 219.9861 | BH5: =(BB5*10000)/400 -> 33.374223 | BI5: =(BC5*10000)/400 -> 33.85139 | BJ5: =(BD5*10000)/400 -> 1.8252792
B6: 385 | C6: 34 | D6: =(C6*10000)/400 -> 850 | E6: 26.841176 | F6: 21.877075 | G6: 2.0002599 | H6: =(G6*10000)/400 -> 50.006497 | J6: 385 | K6: 1 | L6: 25 | M6: 8 | O6: =SUM(K6:N6) -> 34 | Q6: =J6 -> 385 | R6: =(IF(K6>0,K6,0)*10000)/400 -> 25 | S6: =(IF(L6>0,L6,0)*10000)/400 -> 625 | T6: =(IF(M6>0,M6,0)*10000)/400 -> 200 | U6: =(IF(N6>0,N6,0)*10000)/400 -> 0 | V6: =SUM(R6:U6) -> 850 | X6: 385 | Y6: 0.030480517 | Z6: 1.2110769 | AA6: 0.75870248 | AC6: =SUM(Y6:AB6) -> 2.0002599 | AE6: =X6 -> 385 | AF6: =(IF(Y6>0,Y6,0)*10000)/400 -> 0.76201293 | AG6: =(IF(Z6>0,Z6,0)*10000)/400 -> 30.276922 | AH6: =(IF(AA6>0,AA6,0)*10000)/400 -> 18.967562 | AI6: =(IF(AB6>0,AB6,0)*10000)/400 -> 0 | AJ6: =SUM(AF6:AI6) -> 50.006497 | AL6: 385 | AM6: 0.15349235 | AN6: 8.6620577 | AO6: 6.8856301 | AQ6: =SUM(AM6:AP6) -> 15.70118 | AS6: =AL6 -> 385 | AT6: =(IF(AM6>0,AM6,0)*10000)/400 -> 3.8373087 | AU6: =(IF(AN6>0,AN6,0)*10000)/400 -> 216.55144 | AV6: =(IF(AO6>0,AO6,0)*10000)/400 -> 172.14075 | AW6: =(IF(AP6>0,AP6,0)*10000)/400 -> 0 | AX6: =SUM(AT6:AW6) -> 392.5295 | AZ6: 385 | BA6: 13.182054 | BB6: 1.1771701 | BC6: 1.2688857 | BD6: 0.073070125 | BF6: =AZ6 -> 385 | BG6: =(BA6*10000)/400 -> 329.55136 | BH6: =(BB6*10000)/400 -> 29.429252 | BI6: =(BC6*10000)/400 -> 31.722142 | BJ6: =(BD6*10000)/400 -> 1.8267531
B7: Total general | C7: =AVERAGE(C4:C6) -> 29 | D7: =AVERAGE(D4:D6) -> 725 | E7: =AVERAGE(E4:E6) -> 27.628813 | F7: =AVERAGE(F4:F6) -> 22.198471 | G7: =AVERAGE(G4:G6) -> 1.7021259 | H7: =AVERAGE(H4:H6) -> 42.553147 | J7: Total general | K7: =SUM(K4:K6) -> 8 | L7: =SUM(L4:L6) -> 58 | M7: =SUM(M4:M6) -> 18 | N7: =SUM(N4:N6) -> 3 | O7: =SUM(O4:O6) -> 87 | Q7: Total general | R7: =AVERAGE(R4:R6) -> 66.666667 | S7: =AVERAGE(S4:S6) -> 483.33333 | T7: =AVERAGE(T4:T6) -> 150 | U7: =AVERAGE(U4:U6) -> 25 | V7: =AVERAGE(V4:V6) -> 725 | X7: Total general | Y7: =AVERAGE(Y4:Y6) -> 0.099802508 | Z7: =AVERAGE(Z4:Z6) -> 0.92368243 | AA7: =AVERAGE(AA4:AA6) -> 0.55714575 | AB7: =AVERAGE(AB4:AB6) -> 0.23214406 | AC7: =AVERAGE(AC4:AC6) -> 1.7021259 | AE7: Total general | AF7: =AVERAGE(AF4:AF6) -> 1.6633751 | AG7: =AVERAGE(AG4:AG6) -> 23.092061 | AH7: =AVERAGE(AH4:AH6) -> 13.928644 | AI7: =AVERAGE(AI4:AI6) -> 3.8690677 | AJ7: =AVERAGE(AJ4:AJ6) -> 42.553147 | AL7: Total general | AM7: =AVERAGE(AM4:AM6) -> 0.44187594 | AN7: =AVERAGE(AN4:AN6) -> 6.517072 | AO7: =AVERAGE(AO4:AO6) -> 5.0860506 | AP7: =AVERAGE(AP4:AP6) -> 2.5330755 | AQ7: =AVERAGE(AQ4:AQ6) -> 13.586424 | AS7: Total general | AT7: =AVERAGE(AT4:AT6) -> 7.364599 | AU7: =AVERAGE(AU4:AU6) -> 162.9268 | AV7: =AVERAGE(AV4:AV6) -> 127.15127 | AW7: =AVERAGE(AW4:AW6) -> 42.217926 | AX7: =AVERAGE(AX4:AX6) -> 339.66059 | AZ7: Total general | BA7: =AVERAGE(BA4:BA6) -> 11.401028 | BB7: =AVERAGE(BB4:BB6) -> 1.0701883 | BC7: =AVERAGE(BC4:BC6) -> 1.0583015 | BD7: =AVERAGE(BD4:BD6) -> 0.056905916 | BF7: Total general | BG7: =AVERAGE(BG4:BG6) -> 285.0257 | BH7: =AVERAGE(BH4:BH6) -> 26.754708 | BI7: =AVERAGE(BI4:BI6) -> 26.457537 | BJ7: =AVERAGE(BJ4:BJ6) -> 1.4226479
AJ8: =SUM(AF8:AI8) -> 0 | AX8: =SUM(AT8:AW8) -> 0 | BG8: =SUM(BG7:BJ7) -> 339.66059

Sheet IDR
B2: PARCELA | C2: NUMERO DE ARBOLES | D2: DIMETRO NORMAL PROMEDIO | E2: IDR
B3: =APOYO!B4 -> 383 | C3: =APOYO!D4 -> 425 | D3: =APOYO!E4 -> 32.464706 | E3: =C3*((D3/25)^-1.7126) -> 271.68002
B4: =APOYO!B5 -> 384 | C4: =APOYO!D5 -> 900 | D4: =APOYO!E5 -> 23.580556 | E4: =C4*((D4/25)^-1.7126) -> 994.7605
B5: =APOYO!B6 -> 385 | C5: =APOYO!D6 -> 850 | D5: =APOYO!E6 -> 26.841176 | E5: =C5*((D5/25)^-1.7126) -> 752.60215
B6: Total general | C6: =AVERAGE(C3:C5) -> 725 | D6: =AVERAGE(D3:D5) -> 27.628813 | E6: =AVERAGE(E3:E5) -> 673.01422

Sheet ESTRUCTURA DIAMETRICA
B2: PARCELA | C2: 10-20 | D2: 20-30 | E2: 30-40 | F2: 40-50 | G2: Total general
B3: =APOYO!Q4 -> 383 | C3: =APOYO!R4 -> 0 | D3: =APOYO!S4 -> 175 | E3: =APOYO!T4 -> 200 | F3: =APOYO!U4 -> 50 | G3: =SUM(C3:F3) -> 425
B4: =APOYO!Q5 -> 384 | C4: =APOYO!R5 -> 175 | D4: =APOYO!S5 -> 650 | E4: =APOYO!T5 -> 50 | F4: =APOYO!U5 -> 25 | G4: =SUM(C4:F4) -> 900
B5: =APOYO!Q6 -> 385 | C5: =APOYO!R6 -> 25 | D5: =APOYO!S6 -> 625 | E5: =APOYO!T6 -> 200 | F5: =APOYO!U6 -> 0 | G5: =SUM(C5:F5) -> 850
B6: PROMEDIO | C6: =AVERAGE(C3:C5) -> 66.666667 | D6: =AVERAGE(D3:D5) -> 483.33333 | E6: =AVERAGE(E3:E5) -> 150 | F6: =AVERAGE(F3:F5) -> 25 | G6: =AVERAGE(G3:G5) -> 725
B24: CD | C24: NA | D24: %
B25: 10-20 | C25: =C6 -> 66.666667 | D25: =C25/$C$29 -> 0.091954023
B26: 20-30 | C26: =D6 -> 483.33333 | D26: =C26/$C$29 -> 0.66666667
B27: 30-40 | C27: =E6 -> 150 | D27: =C27/$C$29 -> 0.20689655
B28: 40-50 | C28: =F6 -> 25 | D28: =C28/$C$29 -> 0.034482759
B29: TOTAL | C29: =SUM(C25:C28) -> 725 | D29: =SUM(D25:D28) -> 1

Sheet AREA BASAL
B2: PARCELA | C2: 10-20 | D2: 20-30 | E2: 30-40 | F2: 40-50 | G2: Total general
B3: =APOYO!Q4 -> 383 | C3: =APOYO!AF4 -> 0 | D3: =APOYO!AG4 -> 9.7523872 | E3: =APOYO!AH4 -> 18.896405 | F3: =APOYO!AI4 -> 7.9767001 | G3: =SUM(C3:F3) -> 36.625492
B4: =APOYO!Q5 -> 384 | C4: =APOYO!AF5 -> 4.2281125 | D4: =APOYO!AG5 -> 29.246873 | E4: =APOYO!AH5 -> 3.9219643 | F4: =APOYO!AI5 -> 3.630503 | G4: =SUM(C4:F4) -> 41.027453
B5: =APOYO!Q6 -> 385 | C5: =APOYO!AF6 -> 0.76201293 | D5: =APOYO!AG6 -> 30.276922 | E5: =APOYO!AH6 -> 18.967562 | F5: =APOYO!AI6 -> 0 | G5: =SUM(C5:F5) -> 50.006497
B6: PROMEDIO | C6: =AVERAGE(C3:C5) -> 1.6633751 | D6: =AVERAGE(D3:D5) -> 23.092061 | E6: =AVERAGE(E3:E5) -> 13.928644 | F6: =AVERAGE(F3:F5) -> 3.8690677 | G6: =AVERAGE(G3:G5) -> 42.553147
B20: CD | C20: NA | D20: %
B21: 10-20 | C21: =C6 -> 1.6633751 | D21: =C21/$C$25 -> 0.039089356
B22: 20-30 | C22: =D6 -> 23.092061 | D22: =C22/$C$25 -> 0.54266399
B23: 30-40 | C23: =E6 -> 13.928644 | D23: =C23/$C$25 -> 0.32732347
B24: 40-50 | C24: =F6 -> 3.8690677 | D24: =C24/$C$25 -> 0.090923185
B25: TOTAL | C25: =SUM(C21:C24) -> 42.553147 | D25: =SUM(D21:D24) -> 1
N70: S

Sheet VOLUMEN
B2: PARCELA | C2: 10-20 | D2: 20-30 | E2: 30-40 | F2: 40-50 | G2: Total general
B3: =APOYO!Q4 -> 383 | C3: =APOYO!AT4 -> 0 | D3: =APOYO!AU4 -> 72.905434 | E3: =APOYO!AV4 -> 174.54616 | F3: =APOYO!AW4 -> 89.963687 | G3: =SUM(C3:F3) -> 337.41528
B4: =APOYO!Q5 -> 384 | C4: =APOYO!AT5 -> 18.256488 | D4: =APOYO!AU5 -> 199.32353 | E4: =APOYO!AV5 -> 34.766886 | F4: =APOYO!AW5 -> 36.69009 | G4: =SUM(C4:F4) -> 289.03699
B5: =APOYO!Q6 -> 385 | C5: =APOYO!AT6 -> 3.8373087 | D5: =APOYO!AU6 -> 216.55144 | E5: =APOYO!AV6 -> 172.14075 | F5: =APOYO!AW6 -> 0 | G5: =SUM(C5:F5) -> 392.5295
B6: PROMEDIO | C6: =AVERAGE(C3:C5) -> 7.364599 | D6: =AVERAGE(D3:D5) -> 162.9268 | E6: =AVERAGE(E3:E5) -> 127.15127 | F6: =AVERAGE(F3:F5) -> 42.217926 | G6: =AVERAGE(G3:G5) -> 339.66059
B21: CD | C21: NA | D21: %
B22: 10-20 | C22: =C6 -> 7.364599 | D22: =C22/$C$26 -> 0.02168223
B23: 20-30 | C23: =D6 -> 162.9268 | D23: =C23/$C$26 -> 0.47967531
B24: 30-40 | C24: =E6 -> 127.15127 | D24: =C24/$C$26 -> 0.37434801
B25: 40-50 | C25: =F6 -> 42.217926 | D25: =C25/$C$26 -> 0.12429445
B26: TOTAL | C26: =SUM(C22:C25) -> 339.66059 | D26: =SUM(D22:D25) -> 1

Sheet DISTRIBUCION DE VOLUMENES
B2: PARCELA | C2: VOLUMEN ASERRIO | D2: VOLUMEN ESTIBA | E2: VOLUMEN PULPA | F2: VOLUMEN NO COMERCIAL | G2: VOLUMEN TOTAL
B3: =APOYO!BF4 -> 383 | C3: =APOYO!BG4 -> 305.53964 | D3: =APOYO!BH4 -> 17.460649 | E3: =APOYO!BI4 -> 13.799078 | F3: =APOYO!BJ4 -> 0.61591134 | G3: =SUM(C3:F3) -> 337.41528
B4: =APOYO!BF5 -> 384 | C4: =APOYO!BG5 -> 219.9861 | D4: =APOYO!BH5 -> 33.374223 | E4: =APOYO!BI5 -> 33.85139 | F4: =APOYO!BJ5 -> 1.8252792 | G4: =SUM(C4:F4) -> 289.03699
B5: =APOYO!BF6 -> 385 | C5: =APOYO!BG6 -> 329.55136 | D5: =APOYO!BH6 -> 29.429252 | E5: =APOYO!BI6 -> 31.722142 | F5: =APOYO!BJ6 -> 1.8267531 | G5: =SUM(C5:F5) -> 392.5295
B6: PROMEDIO | C6: =AVERAGE(C3:C5) -> 285.0257 | D6: =AVERAGE(D3:D5) -> 26.754708 | E6: =AVERAGE(E3:E5) -> 26.457537 | F6: =AVERAGE(F3:F5) -> 1.4226479 | G6: =AVERAGE(G3:G5) -> 339.66059
B22: PARCELA | C22: VOLUMEN ASERRIO | D22: VOLUMEN ESTIBA | E22: VOLUMEN PULPA | F22: VOLUMEN NO COMERCIAL | G22: VOLUMEN TOTAL
B23: =B3 -> 383 | C23: =C3/$G3 -> 0.90552995 | D23: =D3/$G3 -> 0.051748247 | E23: =E3/$G3 -> 0.040896424 | F23: =F3/$G3 -> 0.0018253807 | G23: =SUM(C23:F23) -> 1
B24: =B4 -> 384 | C24: =C4/$G4 -> 0.76110016 | D24: =D4/$G4 -> 0.11546696 | E24: =E4/$G4 -> 0.11711785 | F24: =F4/$G4 -> 0.0063150367 | G24: =SUM(C24:F24) -> 1
B25: =B5 -> 385 | C25: =C5/$G5 -> 0.83955818 | D25: =D5/$G5 -> 0.07497335 | E25: =E5/$G5 -> 0.08081467 | F25: =F5/$G5 -> 0.0046537983 | G25: =SUM(C25:F25) -> 1
B26: PROMEDIO | C26: =AVERAGE(C23:C25) -> 0.8353961 | D26: =AVERAGE(D23:D25) -> 0.080729519 | E26: =AVERAGE(E23:E25) -> 0.079609646 | F26: =AVERAGE(F23:F25) -> 0.0042647386 | G26: =AVERAGE(G23:G25) -> 1

Sheet IMA
B2: EDAD | D2: PARCELA | E2: DIMETRO NORMAL PROMEDIO | F2: ALTURA TOTAL PROMEDIO | G2: AREA BASAL | H2: VOLUMEN TOTAL
B3: 16.786111 | D3: =APOYO!B4 -> 383 | E3: =APOYO!E4/$B$3 -> 1.9340219 | F3: =APOYO!F4/$B$3 -> 1.4901186 | G3: =APOYO!H4/$B$3 -> 2.1818926 | H3: =APOYO!AX4/$B$3 -> 20.100861
D4: =APOYO!B5 -> 384 | E4: =APOYO!E5/$B$3 -> 1.4047658 | F4: =APOYO!F5/$B$3 -> 1.1738896 | G4: =APOYO!H5/$B$3 -> 2.4441309 | H4: =APOYO!AX5/$B$3 -> 17.218818
D5: =APOYO!B6 -> 385 | E5: =APOYO!E6/$B$3 -> 1.599011 | F5: =APOYO!F6/$B$3 -> 1.3032843 | G5: =APOYO!H6/$B$3 -> 2.9790401 | H5: =APOYO!AX6/$B$3 -> 23.384184
D6: Total general | E6: =AVERAGE(E3:E5) -> 1.6459329 | F6: =AVERAGE(F3:F5) -> 1.3224308 | G6: =AVERAGE(G3:G5) -> 2.5350212 | H6: =AVERAGE(H3:H5) -> 20.234621
