Workbook
Name \0: #REF!
Name \00: #REF!
Name \a: #REF!
Name \a: #REF!
Name \a: #REF!
Name \AA: #REF!
Name \b: #REF!
Name \bb: #REF!
Name \E: #REF!
Name \EE: #REF!
Name \G: #REF!
Name \k: #REF!
Name \l: #REF!
Name \M: #REF!
Name \ñ: #REF!
Name \P: #REF!
Name \R: #REF!
Name \s: #REF!
Name \s: #REF!
Name \s: #REF!
Name \V: #REF!
Name \X: 'ANALISIS DE PRECIO UNITARIO '!ERR
Name \X: 'APU (Contratista)'!ERR
Name \X: [0]!ERR
Name \Z: 'ANALISIS DE PRECIO UNITARIO '!ERR
Name \Z: 'APU (Contratista)'!ERR
Name \Z: [0]!ERR
Name _________AFC1: #REF!
Name _________AFC3: #REF!
Name _________AFC5: #REF!
Name _________BGC1: #REF!
Name _________BGC3: #REF!
Name _________BGC5: #REF!
Name _________CAC1: #REF!
Name _________CAC3: #REF!
Name _________CAC5: #REF!
Name _________PJ50: #REF!
Name _________PJ50: #REF!
Name _________PJ50: #REF!
Name _________SBC1: #REF!
Name _________SBC3: #REF!
Name _________SBC5: #REF!
Name ________AFC1: #REF!
Name ________AFC3: #REF!
Name ________AFC5: #REF!
Name ________BGC1: #REF!
Name ________BGC3: #REF!
Name ________BGC5: #REF!
Name ________CAC1: #REF!
Name ________CAC3: #REF!
Name ________CAC5: #REF!
Name ________MA2: #REF!
Name ________MA2: #REF!
Name ________MA2: #REF!
Name ________PJ50: #REF!
Name ________PJ50: #REF!
Name ________PJ50: #REF!
Name ________SBC1: #REF!
Name ________SBC3: #REF!
Name ________SBC5: #REF!

Sheet PRESUPUESTO OFICIAL (Entidad)
B1: Formulario 1 - Propuesta económica - Documento tipo de selección abreviada de menor cuantía - versión 1
B2: Versión: 1 del 21 de agosto de 2025
C5: FORMULARIO 1
C6: PRESUPUESTO OFICIAL
C7: [La entidad puede utilizar este formulario de detalle del presupuesto oficial para determinar las condiciones bajo las cuales los proponentes analizarán y presentarán su propuesta económica de forma detallada, sin perjuicio que la entidad pueda modificarlo o establecer la presentación de la oferta económica con un formulario distinto al indicado.]
C9: Adicionalmente, cuando el proceso de contratación es estructurado por precios unitarios, la Entidad debe aplicar las notas 1, 2 y 3 del presente formulario y las casillas de "Descripción", "Porcentaje" de la Administración, Imprevisto, Utilidad y total A.I.U. resaltadas en colo amarillo. Tratándose de otras modalidades de precio, la Entidad puede o no configurar los mismos aspectos.
C11: Nº | D11: ITEM DE PAGO | E11: ESPECIFICACIONES | G11: DESCRIPCION | H11: UND. | I11: CANTIDAD | J11: VALOR UNITARIO | K11: VALOR TOTAL
E12: GENERAL | F12: PARTICULAR
C13: 1 | D13: PREELIMINARES
C14: 1.1.1 | D14: 1.1.1 | E14: 1.1.1 | G14: LOCALIZACIÓN Y REPLANTEO DE OBRA ARQUITECTÓNICA | H14: m² | I14: 119.94873 | J14: 4857 | K14: =+J14*I14 -> 582591
C15: 1.1.2 | D15: 1.1.2 | E15: 1.1.2 | G15: DESMONTE DE RECUBRIMIENTO DE TANQUE | H15: m² | I15: 73 | J15: 20523 | K15: =+J15*I15 -> 1498179
C16: 1.1.3 | D16: 1.1.3 | E16: 1.1.3 | G16: DESMONTE DE ESTRUCTURA METALICA | H16: m² | I16: 378 | J16: 33650 | K16: =+J16*I16 -> 12719700
C17: 1.1.4 | D17: 1.1.4 | E17: 1.1.4 | G17: REGATA PARA INSTALACIÓN DE TUBERÍA DE Ø 1/2" A Ø 2" (INCLUYE RESANE) | H17: ml | I17: 5 | J17: 19741 | K17: =+J17*I17 -> 98705
C18: 1.1.5 | D18: 1.1.5 | E18: 1.1.5 | G18: DESMONTE PUERTAS Y VENTANAS | H18: m² | I18: 35 | J18: 7280 | K18: =+J18*I18 -> 254800
C19: 1.1.6 | D19: 1.1.6 | E19: 1.1.6 | G19: CERRAMIENTO EN MALLA VERDE H=2.10M | H19: ml | I19: 15 | J19: 31481 | K19: =+J19*I19 -> 472215
C20: 1.1.7 | D20: 1.1.7 | E20: 1.1.7 | G20: DESCAPOTE | H20: m² | I20: 114 | J20: 11963 | K20: =+J20*I20 -> 1363782
C21: 1.1.8 | D21: 1.1.8 | E21: 1.1.8 | G21: LIMPIEZA MANUAL-MECÁNICA TIPO SSPC SP2 Y SSPC SP3 PARA ESTRUCTURA METÁLICA DE CUBIERTA DE CONSTRUCCIÓN EXISTENTE. INLCUYE SISTEMA DE RECUBRIMIENTO PARA LA ESTRUCTURA METÁLICA MEDIANTE IMPRIMANTE EPÓXICO FOSFATO DE CINC TIPO SIKA O SIMILAR | H21: m² | I21: 769.99997 | J21: 78594 | K21: =+J21*I21 -> 60517378
C22: 1.1.9 | D22: 1.1.9 | E22: 1.1.9 | G22: DEMOLICION DE ENCHAPE DE PISOS Y PAREDES | H22: m² | I22: 83 | J22: 24508 | K22: =+J22*I22 -> 2034164
C23: 1.1.10 | D23: 1.1.10 | E23: 1.1.10 | G23: DESMONTE DE CUBIERTA | H23: m² | I23: 236 | J23: 19172 | K23: =+J23*I23 -> 4524592
C24: 1.1.11 | D24: 1.1.11 | E24: 1.1.11 | G24: DEMOLICIÓN DE CERRAMIENTO EXISTENTE EN MALLA ESLABONADA CON TUBERÍA DE METAL | H24: M2 | I24: 188 | J24: 38919 | K24: =+J24*I24 -> 7316772
C25: 1.1.12 | D25: 1.1.12 | E25: 1.1.12 | G25: DEMOLICIÓN MUROS 0.15M | H25: m² | I25: 125.69999 | J25: 18003 | K25: =+J25*I25 -> 2262977
... C27: 1.1.14 | D27: 1.1.14 | E27: 1.1.14 | G27: DESMONTE DE MUEBLE DE MADERA | H27: Un | I27: 40 | J27: 22710 | K27: =+J27*I27 -> 908400
G28: TOTAL PREELIMINARES | K28: =+SUM(K14:K27) -> 94579966
C29: 2 | D29: MOVIMIENTO DE TIERRAS
C30: 2.1.1 | D30: 2.1.1 | E30: 2.1.1 | G30: EXCAVACIÓN MANUAL EN MATERIAL COMÚN. INCLUYE CARGUE, TRANSPORTE Y DISPOSICIÓN FINAL DE SOBRANTES A SITIO AUTORIZADO DE 0 -2,00 MTS. | H30: m³ | I30: 51 | J30: 46677 | K30: =+J30*I30 -> 2380527
C31: 2.1.2 | D31: 2.1.2 | E31: 2.1.2 | G31: RELLENO Y COMPACTACIÓN CON MATERIAL DE EXCAVACIÓN SELECCIONADO | H31: m³ | I31: 23 | J31: 17831 | K31: =+J31*I31 -> 410113
G32: TOTAL MOVIMIENTO DE TIERRAS | K32: =+SUM(K30:K31) -> 2790640
C33: 3 | D33: CIMENTACIÓN
C34: 3.1.1 | D34: 3.1.1 | E34: 3.1.1 | G34: NIVELACIÓN, COMFORMACIÓN Y COMPACTACIÓN DE CAPA SUBRASANTE HASTA ALCANZAR CBR=95% DEL PROCTOR MODIFICADO | H34: m² | I34: 110 | J34: 25313 | K34: =+J34*I34 -> 2784430
C35: 3.1.2 | D35: 3.1.2 | E35: 3.1.2 | G35: SOLADO DE LIMPIEZA EN CONCRETO DE 2.000 PSI DE E=0.05 M SEGÚN PLANOS. INCLUYE MATERIALES, MANO DE OBRA, EQUIPOS Y HERRAMIENTAS NECESARIAS | H35: m² | I35: 110 | J35: 34118 | K35: =+J35*I35 -> 3752980
C36: 3.1.3 | D36: 3.1.3 | E36: 3.1.3 | G36: VIGAS DE CIMENTACION EN CONCRETO DE 4.000 PSI IMPERMEABILIZADO SEGÚN PLANOS. INCLUYE MANO DE OBRA, FORMALETAS, EQUIPOS Y HERRAMIENTAS NECESARIAS, NO INCLUYE ACERO DE REFUERZO | H36: m³ | I36: 7 | J36: 1362593 | K36: =+J36*I36 -> 9538151
C37: 3.1.4 | D37: 3.1.4 | E37: 3.1.4 | G37: PEDESTAL EN CONCRETO DE 3.000 PSI IMPERMEABILIZADO SEGÚN PLANOS, INCLUYE MANO DE OBRA, FORMALETAS Y EQUIPO NECESARIO, NO INCLUYE ACERO DE REFUERZO | H37: m³ | I37: 1.6799997 | J37: 1514658 | K37: =+J37*I37 -> 2544625
C38: 3.1.5 | D38: 3.1.5 | E38: 3.1.5 | G38: PLACA DE CONTRAPISO EN CONCRETO DE 3.000 PSI IMPERMEABILIZADO, SEGÚN PLANOS. INCLUYE MANO DE OBRA, FORMALETAS, EQUIPOS Y HERRAMIENTAS NECESARIAS, E=0.12 M, NO INCLUYE ACERO DE REFUERZO | H38: m² | I38: 36 | J38: 288169 | K38: =+J38*I38 -> 10374084
C39: 3.1.6 | D39: 3.1.6 | E39: 3.1.6 | G39: ZAPATA EN CONCRETO DE 3.000 PSI IMPERMEABILIZADO SEGÚN PLANOS. INCLUYE, MANO DE OBRA, FORMALETAS, EQUIPOS Y HERRAMIENTAS NECESARIAS, NO INCLUYE ACERO DE REFUERZO | H39: m³ | I39: 1.8299995 | J39: 1393116 | K39: =+J39*I39 -> 2549401.6
C40: 3.1.7 | D40: 3.1.7 | E40: 3.1.7 | G40: ALISTADO PISOS MORTERO 1:4 IMPERMEABILIZADO e: 0,04m | H40: m2 | I40: 40 | J40: 53133 | K40: =+J40*I40 -> 2125320
C41: 3.1.8 | D41: 3.1.8 | E41: 3.1.8 | G41: ANCLAJES 3/8" * 2" (Incluye perforación y adhesivo epóxico) | H41: Un | I41: 20 | J41: 48459 | K41: =+J41*I41 -> 969180
C42: 3.1.9 | D42: 3.1.9 | E42: 3.1.9 | G42: CAJA DE INSPECCIÓN 0.60 X 0.60 MTS. | H42: Un | I42: 2 | J42: 1911863 | K42: =+J42*I42 -> 3823726
G43: TOTAL CIMENTACIÓN | K43: =+SUM(K34:K42) -> 38461898
C44: 4 | D44: INSTALACIONES ELECTRICAS
C45: 4.1.1 | D45: 4.1.1 | E45: 4.1.1 | G45: TOMA CORRIENTE DOBLE MONOFASICA 15A./120V | H45: un | I45: 6 | J45: 23365 | K45: =+J45*I45 -> 140190
...

Sheet PROPUESTA ECONOMICA(Proponente)
B1: Formulario 1 - Propuesta económica - Documento tipo de selección abreviada de menor cuantía - versión 1
B2: Versión: 1 del 21 de agosto de 2025
C5: FORMULARIO 1
C6: PROPUESTA ECONOMICA
C7: [La entidad puede utilizar este formulario de presentación de propuesta económica de forma detallada, sin perjuicio que la entidad pueda modificarlo o establecer la presentación de la oferta económica con un formulario distinto al indicado.] [Los proponentes emplearán el formulario establecido por la entidad para determinar su propuesta económica conforme al Formulario 1 - Presupuesto Oficial publicado por la Entidad] [En caso de modificar el formulario, es importante tener en cuenta que no se deben incluir causales de rechazo, reglas o parámetros contrarios a los definidos en el documento base. Los términos del proceso solo se encuentran en el Documento Base, por lo que la Entidad no deberá incluir ningún tipo de notas que se configuren en reglas contrarias a las definidas en dicho documento, las notas únicamente pueden ser aclaratorias para efectos del diligenciamiento del formato]
C9: Cuando el proceso de contratación es estructurado por precios unitarios, la Entidad debe aplicar las notas 1, 2 y 3 del presente formato y las casillas de "Descripción", "Porcentaje" de la Administración, Imprevisto, Utilidad y total A.I.U. resaltadas en color amarillo.
C11: Nº | D11: ITEM DE PAGO | E11: ESPECIFICACIONES | G11: DESCRIPCION | H11: UND. | I11: CANTIDAD | J11: VALOR UNITARIO | K11: VALOR TOTAL
E12: GENERAL | F12: PARTICULAR
C13: 1 | D13: PREELIMINARES
C14: 1.1.1 | D14: 1.1.1 | E14: 1.1.1 | G14: LOCALIZACIÓN Y REPLANTEO DE OBRA ARQUITECTÓNICA | H14: m² | I14: =+'PRESUPUESTO OFICIAL (Entidad)'!I14 -> 119.94873 | K14: =+J14*I14 -> 0
C15: 1.1.2 | D15: 1.1.2 | E15: 1.1.2 | G15: DESMONTE DE RECUBRIMIENTO DE TANQUE | H15: m² | I15: =+'PRESUPUESTO OFICIAL (Entidad)'!I15 -> 73 | K15: =+J15*I15 -> 0
C16: 1.1.3 | D16: 1.1.3 | E16: 1.1.3 | G16: DESMONTE DE ESTRUCTURA METALICA | H16: m² | I16: =+'PRESUPUESTO OFICIAL (Entidad)'!I16 -> 378 | K16: =+J16*I16 -> 0
C17: 1.1.4 | D17: 1.1.4 | E17: 1.1.4 | G17: REGATA PARA INSTALACIÓN DE TUBERÍA DE Ø 1/2" A Ø 2" (INCLUYE RESANE) | H17: ml | I17: =+'PRESUPUESTO OFICIAL (Entidad)'!I17 -> 5 | K17: =+J17*I17 -> 0
C18: 1.1.5 | D18: 1.1.5 | E18: 1.1.5 | G18: DESMONTE PUERTAS Y VENTANAS | H18: m² | I18: =+'PRESUPUESTO OFICIAL (Entidad)'!I18 -> 35 | K18: =+J18*I18 -> 0
C19: 1.1.6 | D19: 1.1.6 | E19: 1.1.6 | G19: CERRAMIENTO EN MALLA VERDE H=2.10M | H19: ml | I19: =+'PRESUPUESTO OFICIAL (Entidad)'!I19 -> 15 | K19: =+J19*I19 -> 0
C20: 1.1.7 | D20: 1.1.7 | E20: 1.1.7 | G20: DESCAPOTE | H20: m² | I20: =+'PRESUPUESTO OFICIAL (Entidad)'!I20 -> 114 | K20: =+J20*I20 -> 0
C21: 1.1.8 | D21: 1.1.8 | E21: 1.1.8 | G21: LIMPIEZA MANUAL-MECÁNICA TIPO SSPC SP2 Y SSPC SP3 PARA ESTRUCTURA METÁLICA DE CUBIERTA DE CONSTRUCCIÓN EXISTENTE. INLCUYE SISTEMA DE RECUBRIMIENTO PARA LA ESTRUCTURA METÁLICA MEDIANTE IMPRIMANTE EPÓXICO FOSFATO DE CINC TIPO SIKA O SIMILAR | H21: m² | I21: =+'PRESUPUESTO OFICIAL (Entidad)'!I21 -> 769.99997 | K21: =+J21*I21 -> 0
C22: 1.1.9 | D22: 1.1.9 | E22: 1.1.9 | G22: DEMOLICION DE ENCHAPE DE PISOS Y PAREDES | H22: m² | I22: =+'PRESUPUESTO OFICIAL (Entidad)'!I22 -> 83 | K22: =+J22*I22 -> 0
C23: 1.1.10 | D23: 1.1.10 | E23: 1.1.10 | G23: DESMONTE DE CUBIERTA | H23: m² | I23: =+'PRESUPUESTO OFICIAL (Entidad)'!I23 -> 236 | K23: =+J23*I23 -> 0
C24: 1.1.11 | D24: 1.1.11 | E24: 1.1.11 | G24: DEMOLICIÓN DE CERRAMIENTO EXISTENTE EN MALLA ESLABONADA CON TUBERÍA DE METAL | H24: M2 | I24: =+'PRESUPUESTO OFICIAL (Entidad)'!I24 -> 188 | K24: =+J24*I24 -> 0
C25: 1.1.12 | D25: 1.1.12 | E25: 1.1.12 | G25: DEMOLICIÓN MUROS 0.15M | H25: m² | I25: =+'PRESUPUESTO OFICIAL (Entidad)'!I25 -> 125.69999 | K25: =+J25*I25 -> 0
... C27: 1.1.14 | D27: 1.1.14 | E27: 1.1.14 | G27: DESMONTE DE MUEBLE DE MADERA | H27: Un | I27: =+'PRESUPUESTO OFICIAL (Entidad)'!I27 -> 40 | K27: =+J27*I27 -> 0
G28: TOTAL PREELIMINARES | K28: =+SUM(K14:K27) -> 0
C29: 2 | D29: MOVIMIENTO DE TIERRAS
C30: 2.1.1 | D30: 2.1.1 | E30: 2.1.1 | G30: EXCAVACIÓN MANUAL EN MATERIAL COMÚN. INCLUYE CARGUE, TRANSPORTE Y DISPOSICIÓN FINAL DE SOBRANTES A SITIO AUTORIZADO DE 0 -2,00 MTS. | H30: m³ | I30: =+'PRESUPUESTO OFICIAL (Entidad)'!I30 -> 51 | K30: =+J30*I30 -> 0
C31: 2.1.2 | D31: 2.1.2 | E31: 2.1.2 | G31: RELLENO Y COMPACTACIÓN CON MATERIAL DE EXCAVACIÓN SELECCIONADO | H31: m³ | I31: =+'PRESUPUESTO OFICIAL (Entidad)'!I31 -> 23 | K31: =+J31*I31 -> 0
G32: TOTAL MOVIMIENTO DE TIERRAS | K32: =+SUM(K30:K31) -> 0
C33: 3 | D33: CIMENTACIÓN
C34: 3.1.1 | D34: 3.1.1 | E34: 3.1.1 | G34: NIVELACIÓN, COMFORMACIÓN Y COMPACTACIÓN DE CAPA SUBRASANTE HASTA ALCANZAR CBR=95% DEL PROCTOR MODIFICADO | H34: m² | I34: =+'PRESUPUESTO OFICIAL (Entidad)'!I34 -> 110 | K34: =+J34*I34 -> 0
C35: 3.1.2 | D35: 3.1.2 | E35: 3.1.2 | G35: SOLADO DE LIMPIEZA EN CONCRETO DE 2.000 PSI DE E=0.05 M SEGÚN PLANOS. INCLUYE MATERIALES, MANO DE OBRA, EQUIPOS Y HERRAMIENTAS NECESARIAS | H35: m² | I35: =+'PRESUPUESTO OFICIAL (Entidad)'!I35 -> 110 | K35: =+J35*I35 -> 0
C36: 3.1.3 | D36: 3.1.3 | E36: 3.1.3 | G36: VIGAS DE CIMENTACION EN CONCRETO DE 4.000 PSI IMPERMEABILIZADO SEGÚN PLANOS. INCLUYE MANO DE OBRA, FORMALETAS, EQUIPOS Y HERRAMIENTAS NECESARIAS, NO INCLUYE ACERO DE REFUERZO | H36: m³ | I36: =+'PRESUPUESTO OFICIAL (Entidad)'!I36 -> 7 | K36: =+J36*I36 -> 0
C37: 3.1.4 | D37: 3.1.4 | E37: 3.1.4 | G37: PEDESTAL EN CONCRETO DE 3.000 PSI IMPERMEABILIZADO SEGÚN PLANOS, INCLUYE MANO DE OBRA, FORMALETAS Y EQUIPO NECESARIO, NO INCLUYE ACERO DE REFUERZO | H37: m³ | I37: =+'PRESUPUESTO OFICIAL (Entidad)'!I37 -> 1.6799997 | K37: =+J37*I37 -> 0
C38: 3.1.5 | D38: 3.1.5 | E38: 3.1.5 | G38: PLACA DE CONTRAPISO EN CONCRETO DE 3.000 PSI IMPERMEABILIZADO, SEGÚN PLANOS. INCLUYE MANO DE OBRA, FORMALETAS, EQUIPOS Y HERRAMIENTAS NECESARIAS, E=0.12 M, NO INCLUYE ACERO DE REFUERZO | H38: m² | I38: =+'PRESUPUESTO OFICIAL (Entidad)'!I38 -> 36 | K38: =+J38*I38 -> 0
C39: 3.1.6 | D39: 3.1.6 | E39: 3.1.6 | G39: ZAPATA EN CONCRETO DE 3.000 PSI IMPERMEABILIZADO SEGÚN PLANOS. INCLUYE, MANO DE OBRA, FORMALETAS, EQUIPOS Y HERRAMIENTAS NECESARIAS, NO INCLUYE ACERO DE REFUERZO | H39: m³ | I39: =+'PRESUPUESTO OFICIAL (Entidad)'!I39 -> 1.8299995 | K39: =+J39*I39 -> 0
C40: 3.1.7 | D40: 3.1.7 | E40: 3.1.7 | G40: ALISTADO PISOS MORTERO 1:4 IMPERMEABILIZADO e: 0,04m | H40: m2 | I40: =+'PRESUPUESTO OFICIAL (Entidad)'!I40 -> 40 | K40: =+J40*I40 -> 0
C41: 3.1.8 | D41: 3.1.8 | E41: 3.1.8 | G41: ANCLAJES 3/8" * 2" (Incluye perforación y adhesivo epóxico) | H41: Un | I41: =+'PRESUPUESTO OFICIAL (Entidad)'!I41 -> 20 | K41: =+J41*I41 -> 0
C42: 3.1.9 | D42: 3.1.9 | E42: 3.1.9 | G42: CAJA DE INSPECCIÓN 0.60 X 0.60 MTS. | H42: Un | I42: =+'PRESUPUESTO OFICIAL (Entidad)'!I42 -> 2 | K42: =+J42*I42 -> 0
G43: TOTAL CIMENTACIÓN | K43: =+SUM(K34:K42) -> 0
C44: 4 | D44: INSTALACIONES ELECTRICAS
C45: 4.1.1 | D45: 4.1.1 | E45: 4.1.1 | G45: TOMA CORRIENTE DOBLE MONOFASICA 15A./120V | H45: un | I45: =+'PRESUPUESTO OFICIAL (Entidad)'!I45 -> 6 | K45: =+J45*I45 -> 0
...

Sheet ANALISIS DE PRECIO UNITARIO 
C3: ANÁLISIS DE PRECIOS UNTARIOS | J3: Página No. 1 de 1
C4: “OBRA PÚBLICA PARA LA ADECUACIÓN, AMPLIACIÓN Y EL MANTENIMIENTO CORRECTIVO Y MEJORATIVO DE LAS INSTALACIONES DEL GRUPO AÉREO DEL CASANARE”.
C8: Actividad | F8: Tipo | G8: U.M. | H8: Cantidad | I8: Vr.Unitario | J8: Vr. Total
D9: Preeliminares
D10: LOCALIZACIÓN Y REPLANTEO DE OBRA ARQUITECTÓNICA | G10: M2 | J10: =+J18+J19+J20+J21 -> 4857
E11: PITA ALGODÓN # 18 POR 70 MT. | F11: Ins | G11: UN | H11: 0.019948345 | I11: 12100 | J11: =+I11*H11 -> 241.37498
E12: ALAMBRE NEGRO RECOCIDO 25K CALIBRE 14 | F12: Ins | G12: kg | H12: 0.050006436 | I12: 5996 | J12: =+I12*H12 -> 299.83859
E13: LARGUERO ABARCO 4 X 2 | F13: Ins | G13: ML | H13: 0.02 | I13: 4847 | J13: =+I13*H13 -> 96.94
E14: PUNTILLA CON CABEZA 2 | F14: Ins | G14: lb | H14: 0.01 | I14: 5640 | J14: =+I14*H14 -> 56.4
D15: 50011 | E15: CUADRILLA ALBAÑILERIA (OFICIAL + AYUDANTE) | F15: Ins | G15: hh | H15: 0.1 | I15: 30000 | J15: =+I15*H15 -> 3000
E16: TRANSPORTE FERRETERÍA | F16: Ins | G16: kg | H16: 0.11 | I16: 50 | J16: =+I16*H16 -> 5.5
E17: HERRAMIENTA MENOR | F17: Ins | G17: % | H17: 5 | I17: =+J15 -> 3000 | J17: =+I17*H17% -> 150
J18: =SUM(J11:J17) -> 3850.0536
H19: A | I19: 0.21154089 | J19: =+J18*I19 -> 814.44375
H20: I | I20: 0.01 | J20: =+J18*I20 -> 38.500536
H21: U | I21: 0.04 | J21: =+J18*I21 -> 154.00214
D23: DESMONTE DE RECUBRIMIENTO DE TANQUE | G23: m² | J23: =+J26+J27+J28+J29 -> 20523
E24: CUADRILLA ALBAÑILERIA (2 AYUDANTES) | F24: Ins | G24: hh | H24: 0.81978124 | I24: 18898 | J24: =+I24*H24 -> 15492.226
E25: HERRAMIENTA MENOR | F25: Ins | G25: % | H25: 5.0088 | I25: =+J24 -> 15492.226 | J25: =+I25*H25% -> 775.97461
J26: =SUM(J24:J25) -> 16268.2
H27: A | I27: =I19 -> 0.21154089 | J27: =+J26*I27 -> 3441.3896
H28: I | I28: =I20 -> 0.01 | J28: =+J26*I28 -> 162.682
H29: U | I29: =I21 -> 0.04 | J29: =+J26*I29 -> 650.72802
D30: DESMONTE DE ESTRUCTURA METALICA | G30: m² | J30: =+J37+J38+J39+J40 -> 33650
E31: DISCO ABRASIVO CORTE METAL 4 1/2 X 0.045 PULGADAS | F31: Ins | G31: un | H31: 0.50014344 | I31: 4700 | J31: =+I31*H31 -> 2350.6742
J32: =+I32*H32 -> 0
D33: 40002 | E33: ANDAMIO CERTIFICADO | F33: Ins | G33: d | H33: 0.1 | I33: 30033 | J33: =+I33*H33 -> 3003.3
E34: PULIDORA 4-1/2 900W 110V SIN DISCO | F34: Ins | G34: d | H34: 0.5 | I34: 14695.23 | J34: =+I34*H34 -> 7347.615
E35: CUADRILLA ACABADOS (2 AYUDANTES) | F35: Ins | G35: hh | H35: 0.6 | I35: 22178 | J35: =+I35*H35 -> 13306.8
E36: HERRAMIENTA MENOR | F36: Ins | G36: % | H36: 5 | I36: 13306.8 | J36: =+I36*H36% -> 665.34
J37: =SUM(J31:J36) -> 26673.729
H38: A | I38: =$I$27 -> 0.21154089 | J38: =+J37*I38 -> 5642.5844
H39: I | I39: =$I$28 -> 0.01 | J39: =+J37*I39 -> 266.73729
H40: U | I40: =$I$29 -> 0.04 | J40: =+J37*I40 -> 1066.9492
D42: REGATA PARA INSTALACIÓN DE TUBERÍA DE Ø 1/2" A Ø 2" (INCLUYE RESANE) | G42: ml | J42: =+J51+J52+J53+J54 -> 19741
E43: PULIDORA 4 1/2 (ALQUILER) | F43: Ins | G43: d | H43: 0.30000599 | I43: 20640 | J43: =+I43*H43 -> 6192.1236
E44: SIKA-1 ADITIVO IMPERMEABILIZANTE PARA MORTEROS | F44: Ins | G44: kg | H44: 0.02 | I44: 29474.75 | J44: =+I44*H44 -> 589.495
E45: ARENA DE PEÑA | F45: Ins | G45: m³ | H45: 0.02 | I45: 160000 | J45: =+I45*H45 -> 3200
E46: AYUDANTE ALBAÑILERIA (A) | F46: Ins | G46: hh | H46: 0.5 | I46: 9449 | J46: =+I46*H46 -> 4724.5
E47: TRANSPORTE FERRETERÍA | F47: Ins | G47: kg | H47: 1.22 | I47: 50 | J47: =+I47*H47 -> 61
...

Sheet APU (Contratista)
C3: ANÁLISIS DE PRECIOS UNTARIOS | J3: Página No. 1 de 1
C4: “OBRA PÚBLICA PARA LA ADECUACIÓN, AMPLIACIÓN Y EL MANTENIMIENTO CORRECTIVO Y MEJORATIVO DE LAS INSTALACIONES DEL GRUPO AÉREO DEL CASANARE”.
C8: Actividad | F8: Tipo | G8: U.M. | H8: Cantidad | I8: Vr.Unitario | J8: Vr. Total
D9: Preeliminares
D10: LOCALIZACIÓN Y REPLANTEO DE OBRA ARQUITECTÓNICA | G10: M2 | J10: =+J18+J19+J20+J21 -> 0
E11: PITA ALGODÓN # 18 POR 70 MT. | F11: Ins | G11: UN | H11: 0.019948345 | J11: =+I11*H11 -> 0
E12: ALAMBRE NEGRO RECOCIDO 25K CALIBRE 14 | F12: Ins | G12: kg | H12: 0.050006436 | J12: =+I12*H12 -> 0
E13: LARGUERO ABARCO 4 X 2 | F13: Ins | G13: ML | H13: 0.02 | J13: =+I13*H13 -> 0
E14: PUNTILLA CON CABEZA 2 | F14: Ins | G14: lb | H14: 0.01 | J14: =+I14*H14 -> 0
D15: 50011 | E15: CUADRILLA ALBAÑILERIA (OFICIAL + AYUDANTE) | F15: Ins | G15: hh | H15: 0.1 | J15: =+I15*H15 -> 0
E16: TRANSPORTE FERRETERÍA | F16: Ins | G16: kg | H16: 0.11 | J16: =+I16*H16 -> 0
E17: HERRAMIENTA MENOR | F17: Ins | G17: % | H17: 5 | J17: =+I17*H17% -> 0
J18: =SUM(J11:J17) -> 0
H19: A | J19: =+J18*I19 -> 0
H20: I | J20: =+J18*I20 -> 0
H21: U | J21: =+J18*I21 -> 0
D23: DESMONTE DE RECUBRIMIENTO DE TANQUE | G23: m² | J23: =+J26+J27+J28+J29 -> 0
E24: CUADRILLA ALBAÑILERIA (2 AYUDANTES) | F24: Ins | G24: hh | H24: 0.81978124 | J24: =+I24*H24 -> 0
E25: HERRAMIENTA MENOR | F25: Ins | G25: % | H25: 5.0088 | J25: =+I25*H25% -> 0
J26: =SUM(J24:J25) -> 0
H27: A | I27: =I19 -> 0 | J27: =+J26*I27 -> 0
H28: I | I28: =I20 -> 0 | J28: =+J26*I28 -> 0
H29: U | I29: =I21 -> 0 | J29: =+J26*I29 -> 0
D30: DESMONTE DE ESTRUCTURA METALICA | G30: m² | J30: =+J37+J38+J39+J40 -> 0
E31: DISCO ABRASIVO CORTE METAL 4 1/2 X 0.045 PULGADAS | F31: Ins | G31: un | H31: 0.50014344 | J31: =+I31*H31 -> 0
J32: =+I32*H32 -> 0
D33: 40002 | E33: ANDAMIO CERTIFICADO | F33: Ins | G33: d | H33: 0.1 | J33: =+I33*H33 -> 0
E34: PULIDORA 4-1/2 900W 110V SIN DISCO | F34: Ins | G34: d | H34: 0.5 | J34: =+I34*H34 -> 0
E35: CUADRILLA ACABADOS (2 AYUDANTES) | F35: Ins | G35: hh | H35: 0.6 | J35: =+I35*H35 -> 0
E36: HERRAMIENTA MENOR | F36: Ins | G36: % | H36: 5 | J36: =+I36*H36% -> 0
J37: =SUM(J31:J36) -> 0
H38: A | I38: =$I$27 -> 0 | J38: =+J37*I38 -> 0
H39: I | I39: =$I$28 -> 0 | J39: =+J37*I39 -> 0
H40: U | I40: =$I$29 -> 0 | J40: =+J37*I40 -> 0
D42: REGATA PARA INSTALACIÓN DE TUBERÍA DE Ø 1/2" A Ø 2" (INCLUYE RESANE) | G42: ml | J42: =+J51+J52+J53+J54 -> 0
E43: PULIDORA 4 1/2 (ALQUILER) | F43: Ins | G43: d | H43: 0.30000599 | J43: =+I43*H43 -> 0
E44: SIKA-1 ADITIVO IMPERMEABILIZANTE PARA MORTEROS | F44: Ins | G44: kg | H44: 0.02 | J44: =+I44*H44 -> 0
E45: ARENA DE PEÑA | F45: Ins | G45: m³ | H45: 0.02 | J45: =+I45*H45 -> 0
E46: AYUDANTE ALBAÑILERIA (A) | F46: Ins | G46: hh | H46: 0.5 | J46: =+I46*H46 -> 0
E47: TRANSPORTE FERRETERÍA | F47: Ins | G47: kg | H47: 1.22 | J47: =+I47*H47 -> 0
...

Sheet Hoja1
