Workbook
Name Print_Area: 'Resumen - Evaluación jurídica'!$B$11:$D$61

Sheet Resumen - Evaluación jurídica
C2: SERVICIO NACIONAL DE APRENDIZAJE - SENA | D2: Código: GCCON-F-038
C4: CONSOLIDADO | D4: V.03 | J4: G153 | K4: F13
C5: EVALUACIÓN JURÍDICA - PROCESO NRO. [NRO. DE PROCESO] DE [2023]
I6: ="='P-"&J6&"'!"&$J$4 -> ='P-1'!G153 | J6: 1 | K6: ="='P-"&J6&"'!"&$K$4 -> ='P-1'!F13
B7: OBJETO | C7: [REALIZAR MANTENIMIENTO PREVENTIVO, PREDICTIVO Y CORRECTIVO A TODO COSTO, INCLUIDO MANO DE OBRA A LA MAQUINARIA AGRICOLA DEL CENTRO PECUARIO Y AGROEMPRESARIAL DE LA REGIONAL CALDAS] | I7: ="='P-"&J7&"'!"&$J$4 -> ='P-2'!G153 | J7: 2 | K7: ="='P-"&J7&"'!"&$K$4 -> ='P-2'!F13
I8: ="='P-"&J8&"'!"&$J$4 -> ='P-3'!G153 | J8: 3 | K8: ="='P-"&J8&"'!"&$K$4 -> ='P-3'!F13
I9: ="='P-"&J9&"'!"&$J$4 -> ='P-4'!G153 | J9: 4 | K9: ="='P-"&J9&"'!"&$K$4 -> ='P-4'!F13
I10: ="='P-"&J10&"'!"&$J$4 -> ='P-5'!G153 | J10: 5 | K10: ="='P-"&J10&"'!"&$K$4 -> ='P-5'!F13
B11: NRO. | C11: NOMBRE PROPONENTE | D11: CALIFICACIÓN | I11: ="='P-"&J11&"'!"&$J$4 -> ='P-6'!G153 | J11: 6 | K11: ="='P-"&J11&"'!"&$K$4 -> ='P-6'!F13
B12: P-1 | C12: ='P-1'!F13 -> ANDRÉS ANIBAL VILLA FARFÁN | D12: ='P-1'!G153 -> CUMPLE | I12: ="='P-"&J12&"'!"&$J$4 -> ='P-7'!G153 | J12: 7 | K12: ="='P-"&J12&"'!"&$K$4 -> ='P-7'!F13
B13: P-2 | C13: ='[1]P-2'!F13 -> #REF! | D13: ='[1]P-2'!G153 -> #REF! | I13: ="='P-"&J13&"'!"&$J$4 -> ='P-8'!G153 | J13: 8 | K13: ="='P-"&J13&"'!"&$K$4 -> ='P-8'!F13
B14: P-3 | C14: ='[2]P-3'!F13 -> #REF! | D14: ='[2]P-3'!G153 -> #REF! | I14: ="='P-"&J14&"'!"&$J$4 -> ='P-9'!G153 | J14: 9 | K14: ="='P-"&J14&"'!"&$K$4 -> ='P-9'!F13
B15: P-4 | C15: ='[3]P-4'!F13 -> #REF! | D15: ='[3]P-4'!G153 -> #REF! | I15: ="='P-"&J15&"'!"&$J$4 -> ='P-10'!G153 | J15: 10 | K15: ="='P-"&J15&"'!"&$K$4 -> ='P-10'!F13
B16: P-5 | C16: ='[4]P-5'!F13 -> #REF! | D16: ='[4]P-5'!G153 -> #REF! | I16: ="='P-"&J16&"'!"&$J$4 -> ='P-11'!G153 | J16: 11 | K16: ="='P-"&J16&"'!"&$K$4 -> ='P-11'!F13
B17: P-6 | C17: ='[5]P-6'!F13 -> #REF! | D17: ='[5]P-6'!G153 -> #REF! | I17: ="='P-"&J17&"'!"&$J$4 -> ='P-12'!G153 | J17: 12 | K17: ="='P-"&J17&"'!"&$K$4 -> ='P-12'!F13
B18: P-7 | C18: ='[6]P-7'!F13 -> #REF! | D18: ='[6]P-7'!G153 -> #REF! | I18: ="='P-"&J18&"'!"&$J$4 -> ='P-13'!G153 | J18: 13 | K18: ="='P-"&J18&"'!"&$K$4 -> ='P-13'!F13
B19: P-8 | C19: ='[7]P-8'!F13 -> #REF! | D19: ='[7]P-8'!G153 -> #REF! | I19: ="='P-"&J19&"'!"&$J$4 -> ='P-14'!G153 | J19: 14 | K19: ="='P-"&J19&"'!"&$K$4 -> ='P-14'!F13
B20: P-9 | C20: ='[8]P-9'!F13 -> #REF! | D20: ='[8]P-9'!G153 -> #REF! | I20: ="='P-"&J20&"'!"&$J$4 -> ='P-15'!G153 | J20: 15 | K20: ="='P-"&J20&"'!"&$K$4 -> ='P-15'!F13
B21: P-10 | C21: ='[9]P-10'!F13 -> #REF! | D21: ='[9]P-10'!G153 -> #REF! | I21: ="='P-"&J21&"'!"&$J$4 -> ='P-16'!G153 | J21: 16 | K21: ="='P-"&J21&"'!"&$K$4 -> ='P-16'!F13
B22: P-11 | C22: ='[10]P-11'!F13 -> #REF! | D22: ='[10]P-11'!G153 -> #REF! | I22: ="='P-"&J22&"'!"&$J$4 -> ='P-17'!G153 | J22: 17 | K22: ="='P-"&J22&"'!"&$K$4 -> ='P-17'!F13
B23: P-12 | C23: ='[11]P-12'!F13 -> #REF! | D23: ='[11]P-12'!G153 -> #REF! | I23: ="='P-"&J23&"'!"&$J$4 -> ='P-18'!G153 | J23: 18 | K23: ="='P-"&J23&"'!"&$K$4 -> ='P-18'!F13
B24: P-13 | C24: ='[12]P-13'!F13 -> #REF! | D24: ='[12]P-13'!G153 -> #REF! | I24: ="='P-"&J24&"'!"&$J$4 -> ='P-19'!G153 | J24: 19 | K24: ="='P-"&J24&"'!"&$K$4 -> ='P-19'!F13
B25: P-14 | C25: ='[13]P-14'!F13 -> #REF! | D25: ='[13]P-14'!G153 -> #REF! | I25: ="='P-"&J25&"'!"&$J$4 -> ='P-20'!G153 | J25: 20 | K25: ="='P-"&J25&"'!"&$K$4 -> ='P-20'!F13
B26: P-15 | C26: ='[14]P-15'!F13 -> #REF! | D26: ='[14]P-15'!G153 -> #REF! | I26: ="='P-"&J26&"'!"&$J$4 -> ='P-21'!G153 | J26: 21 | K26: ="='P-"&J26&"'!"&$K$4 -> ='P-21'!F13
B27: P-16 | C27: ='[15]P-16'!F13 -> #REF! | D27: ='[15]P-16'!G153 -> #REF! | I27: ="='P-"&J27&"'!"&$J$4 -> ='P-22'!G153 | J27: 22 | K27: ="='P-"&J27&"'!"&$K$4 -> ='P-22'!F13
B28: P-17 | C28: ='[16]P-17'!F13 -> #REF! | D28: ='[16]P-17'!G153 -> #REF! | I28: ="='P-"&J28&"'!"&$J$4 -> ='P-23'!G153 | J28: 23 | K28: ="='P-"&J28&"'!"&$K$4 -> ='P-23'!F13
B29: P-18 | C29: ='[17]P-18'!F13 -> #REF! | D29: ='[17]P-18'!G153 -> #REF! | I29: ="='P-"&J29&"'!"&$J$4 -> ='P-24'!G153 | J29: 24 | K29: ="='P-"&J29&"'!"&$K$4 -> ='P-24'!F13
B30: P-19 | C30: ='[18]P-19'!F13 -> #REF! | D30: ='[18]P-19'!G153 -> #REF! | I30: ="='P-"&J30&"'!"&$J$4 -> ='P-25'!G153 | J30: 25 | K30: ="='P-"&J30&"'!"&$K$4 -> ='P-25'!F13
B31: P-20 | C31: ='[19]P-20'!F13 -> #REF! | D31: ='[19]P-20'!G153 -> #REF! | I31: ="='P-"&J31&"'!"&$J$4 -> ='P-26'!G153 | J31: 26 | K31: ="='P-"&J31&"'!"&$K$4 -> ='P-26'!F13
I32: ="='P-"&J32&"'!"&$J$4 -> ='P-27'!G153 | J32: 27 | K32: ="='P-"&J32&"'!"&$K$4 -> ='P-27'!F13
I33: ="='P-"&J33&"'!"&$J$4 -> ='P-28'!G153 | J33: 28 | K33: ="='P-"&J33&"'!"&$K$4 -> ='P-28'!F13
B34: NOTA 1. Si el resultado de la evaluación es "NO CUMPLE", el oferente deberá subsanar la propuesta durante el término establecido en el cronograma del proceso o la ley, según el caso. Por regla general, la subsanación solo se permite para la evaluación preliminar. | I34: ="='P-"&J34&"'!"&$J$4 -> ='P-29'!G153 | J34: 29 | K34: ="='P-"&J34&"'!"&$K$4 -> ='P-29'!F13
I36: ="='P-"&J36&"'!"&$J$4 -> ='P-30'!G153 | J36: 30 | K36: ="='P-"&J36&"'!"&$K$4 -> ='P-30'!F13
B38: NOTA 2. Si el oferente, durante el término del traslado no subsanó o subsanó incorrectamente su oferta, el resultado de la evaluación es "RECHAZADO". Tal calificación se podra observar en el Informe consolidado.
B42: OBSERVACIONES
B48: CUMPLE | D48: =COUNTIF(D12:D31,F126) -> 1
B49: NO CUMPLE | D49: =COUNTIF(D12:D31,F127) -> 0
B50: RECHAZADO | D50: =COUNTIF(D12:D31,F128) -> 0
B51: TOTAL | D51: =SUM(D48:D50) -> 1
C56: FAUSTO TÉLLEZ MARÍN
...

Sheet P-1
E2: SERVICIO NACIONAL DE APRENDIZAJE - SENA | L2: Código: GCCON-F-038
E4: ='Resumen - Evaluación jurídica'!C5 -> EVALUACIÓN JURÍDICA - PROCESO NRO. [NRO. DE PROCESO] DE [2023] | L4: V.03
C6: OBJETO | E6: ='Resumen - Evaluación jurídica'!C7 -> [REALIZAR MANTENIMIENTO PREVENTIVO, PREDICTIVO Y CORRECTIVO A TODO COSTO, INCLUIDO MANO DE OBRA A LA MAQUINARIA AGRICOLA DEL CENTRO PECUARIO Y AGROEMPRESARIAL DE LA REGIONAL CALDAS]
D11: Proponente nro. | E11: 1 | I11: Lotes | J11: N.A. | K11: Número(s) | L11: N/A
D13: Nombre del proponente: | F13: ANDRÉS ANIBAL VILLA FARFÁN
D15: Integrante 1: | L15: %Participación
D17: Integrante 2: | L17: %Participación
D19: Integrante 3: | L19: %Participación
D21: Integrante 4: | L21: %Participación
Q23: SÍ
Q24: NO
D25: REQUISITO | M25: CUMPLE | Q25: N.A.
C27: 1 | D27: Documento de proponente plural | L27: N.A.
C28: 1.1 | D28: Forma de unión | M28: N.A. | Q28: N.A.
C29: 1.2 | D29: Objeto | M29: N.A. | Q29: Unión Temporal
C30: 1.3 | D30: Vigencia | M30: N.A. | Q30: Consorcio
C31: 1.4 | D31: Participación | M31: N.A. | Q31: Promesa de sociedad futura
C32: 1.5 | D32: Otros | M32: N.A.
D34: NOTA
C36: 2 | D36: Carta de presentación de la propuesta en el formato de la entidad | M36: SÍ
C37: 2.1 | D37: Aval de la propuesta y consulta de antecedentes del profesional (COPNIA o similares) | M37: N.A.
D39: NOTA
C41: 3 | D41: Documento de identificación del Representante legal o Persona natural (PN) | M41: SÍ
D43: NOTA
C45: 4 | D45: Documento que acredite la situación militar definida | M45: SÍ
D47: NOTA
C49: 5 | D49: Certificado de existencia y representación legal (CERL) o Registro mercantil (RM) | M49: SÍ
D51: NOTA
C53: 6 | D53: Validación de la información del CERL o del RM
C54: 6.1 | D54: Expedición | M54: SÍ
C55: 6.2 | D55: Objeto social relacionado | M55: SÍ
C56: 6.3 | D56: Facultades | M56: SÍ
C57: 6.4 | D57: Constitución y vigencia | M57: SÍ
C58: 6.5 | D58: Tamaño | M58: SÍ
C59: 6.6 | D59: Domicilio | M59: SÍ
C60: 6.7 | D60: Otros | M60: N.A.
D62: NOTA
C64: 7 | D64: Registro Único de Proponentes – RUP | M64: N.A.
D66: NOTA
C68: 8 | D68: Validación de la información del RUP
...

Sheet P-2
E2: SERVICIO NACIONAL DE APRENDIZAJE - SENA | L2: Código: GCCON-F-038
E4: ='Resumen - Evaluación jurídica'!C5 -> EVALUACIÓN JURÍDICA - PROCESO NRO. [NRO. DE PROCESO] DE [2023] | L4: V.03
C6: OBJETO | E6: ='Resumen - Evaluación jurídica'!C7 -> [REALIZAR MANTENIMIENTO PREVENTIVO, PREDICTIVO Y CORRECTIVO A TODO COSTO, INCLUIDO MANO DE OBRA A LA MAQUINARIA AGRICOLA DEL CENTRO PECUARIO Y AGROEMPRESARIAL DE LA REGIONAL CALDAS]
D11: Proponente nro. | I11: Lotes | J11: N.A. | K11: Número(s)
D13: Nombre del proponente:
D15: Integrante 1: | L15: %Participación
D17: Integrante 2: | L17: %Participación
D19: Integrante 3: | L19: %Participación
D21: Integrante 4: | L21: %Participación
Q23: SÍ
Q24: NO
D25: REQUISITO | M25: CUMPLE | Q25: N.A.
C27: 1 | D27: Documento de proponente plural | L27: N.A.
C28: 1.1 | D28: Forma de unión | M28: NO | Q28: N.A.
C29: 1.2 | D29: Objeto | M29: NO | Q29: Unión Temporal
C30: 1.3 | D30: Vigencia | M30: NO | Q30: Consorcio
C31: 1.4 | D31: Participación | M31: NO | Q31: Promesa de sociedad futura
C32: 1.5 | D32: Otros | M32: NO
D34: NOTA
C36: 2 | D36: Carta de presentación de la propuesta en el formato de la entidad | M36: NO
C37: 2.1 | D37: Aval de la propuesta y consulta de antecedentes del profesional (COPNIA o similares) | M37: NO
D39: NOTA
C41: 3 | D41: Documento de identificación del Representante legal o Persona natural (PN) | M41: NO
D43: NOTA
C45: 4 | D45: Documento que acredite la situación militar definida | M45: NO
D47: NOTA
C49: 5 | D49: Certificado de existencia y representación legal (CERL) o Registro mercantil (RM) | M49: NO
D51: NOTA
C53: 6 | D53: Validación de la información del CERL o del RM
C54: 6.1 | D54: Expedición | M54: NO
C55: 6.2 | D55: Objeto social relacionado | M55: NO
C56: 6.3 | D56: Facultades | M56: NO
C57: 6.4 | D57: Constitución y vigencia | M57: NO
C58: 6.5 | D58: Tamaño | M58: NO
C59: 6.6 | D59: Domicilio | M59: NO
C60: 6.7 | D60: Otros | M60: NO
D62: NOTA
C64: 7 | D64: Registro Único de Proponentes – RUP | M64: NO
D66: NOTA
C68: 8 | D68: Validación de la información del RUP
...

Sheet P-3
E2: SERVICIO NACIONAL DE APRENDIZAJE - SENA | L2: Código: GCCON-F-038
E4: ='Resumen - Evaluación jurídica'!C5 -> EVALUACIÓN JURÍDICA - PROCESO NRO. [NRO. DE PROCESO] DE [2023] | L4: V.02
C6: OBJETO | E6: ='Resumen - Evaluación jurídica'!C7 -> [REALIZAR MANTENIMIENTO PREVENTIVO, PREDICTIVO Y CORRECTIVO A TODO COSTO, INCLUIDO MANO DE OBRA A LA MAQUINARIA AGRICOLA DEL CENTRO PECUARIO Y AGROEMPRESARIAL DE LA REGIONAL CALDAS]
D11: Proponente nro. | I11: Lotes | J11: N.A. | K11: Número(s)
D13: Nombre del proponente:
D15: Integrante 1: | L15: %Participación
D17: Integrante 2: | L17: %Participación
D19: Integrante 3: | L19: %Participación
D21: Integrante 4: | L21: %Participación
Q23: SÍ
Q24: NO
D25: REQUISITO | M25: CUMPLE | Q25: N.A.
C27: 1 | D27: Documento de proponente plural | L27: N.A.
C28: 1.1 | D28: Forma de unión | M28: NO | Q28: N.A.
C29: 1.2 | D29: Objeto | M29: NO | Q29: Unión Temporal
C30: 1.3 | D30: Vigencia | M30: NO | Q30: Consorcio
C31: 1.4 | D31: Participación | M31: NO | Q31: Promesa de sociedad futura
C32: 1.5 | D32: Otros | M32: NO
D34: NOTA
C36: 2 | D36: Carta de presentación de la propuesta en el formato de la entidad | M36: NO
C37: 2.1 | D37: Aval de la propuesta y consulta de antecedentes del profesional (COPNIA o similares) | M37: NO
D39: NOTA
C41: 3 | D41: Documento de identificación del Representante legal o Persona natural (PN) | M41: NO
D43: NOTA
C45: 4 | D45: Documento que acredite la situación militar definida | M45: NO
D47: NOTA
C49: 5 | D49: Certificado de existencia y representación legal (CERL) o Registro mercantil (RM) | M49: NO
D51: NOTA
C53: 6 | D53: Validación de la información del CERL o del RM
C54: 6.1 | D54: Expedición | M54: NO
C55: 6.2 | D55: Objeto social relacionado | M55: NO
C56: 6.3 | D56: Facultades | M56: NO
C57: 6.4 | D57: Constitución y vigencia | M57: NO
C58: 6.5 | D58: Tamaño | M58: NO
C59: 6.6 | D59: Domicilio | M59: NO
C60: 6.7 | D60: Otros | M60: NO
D62: NOTA
C64: 7 | D64: Registro Único de Proponentes – RUP | M64: NO
D66: NOTA
C68: 8 | D68: Validación de la información del RUP
...

Sheet P-4
E2: SERVICIO NACIONAL DE APRENDIZAJE - SENA | L2: Código: GCCON-F-038
E4: ='Resumen - Evaluación jurídica'!C5 -> EVALUACIÓN JURÍDICA - PROCESO NRO. [NRO. DE PROCESO] DE [2023] | L4: V.03
C6: OBJETO | E6: ='Resumen - Evaluación jurídica'!C7 -> [REALIZAR MANTENIMIENTO PREVENTIVO, PREDICTIVO Y CORRECTIVO A TODO COSTO, INCLUIDO MANO DE OBRA A LA MAQUINARIA AGRICOLA DEL CENTRO PECUARIO Y AGROEMPRESARIAL DE LA REGIONAL CALDAS]
D11: Proponente nro. | I11: Lotes | J11: N.A. | K11: Número(s)
D13: Nombre del proponente:
D15: Integrante 1: | L15: %Participación
D17: Integrante 2: | L17: %Participación
D19: Integrante 3: | L19: %Participación
D21: Integrante 4: | L21: %Participación
Q23: SÍ
Q24: NO
D25: REQUISITO | M25: CUMPLE | Q25: N.A.
C27: 1 | D27: Documento de proponente plural | L27: N.A.
C28: 1.1 | D28: Forma de unión | M28: NO | Q28: N.A.
C29: 1.2 | D29: Objeto | M29: NO | Q29: Unión Temporal
C30: 1.3 | D30: Vigencia | M30: NO | Q30: Consorcio
C31: 1.4 | D31: Participación | M31: NO | Q31: Promesa de sociedad futura
C32: 1.5 | D32: Otros | M32: NO
D34: NOTA
C36: 2 | D36: Carta de presentación de la propuesta en el formato de la entidad | M36: NO
C37: 2.1 | D37: Aval de la propuesta y consulta de antecedentes del profesional (COPNIA o similares) | M37: NO
D39: NOTA
C41: 3 | D41: Documento de identificación del Representante legal o Persona natural (PN) | M41: NO
D43: NOTA
C45: 4 | D45: Documento que acredite la situación militar definida | M45: NO
D47: NOTA
C49: 5 | D49: Certificado de existencia y representación legal (CERL) o Registro mercantil (RM) | M49: NO
D51: NOTA
C53: 6 | D53: Validación de la información del CERL o del RM
C54: 6.1 | D54: Expedición | M54: NO
C55: 6.2 | D55: Objeto social relacionado | M55: NO
C56: 6.3 | D56: Facultades | M56: NO
C57: 6.4 | D57: Constitución y vigencia | M57: NO
C58: 6.5 | D58: Tamaño | M58: NO
C59: 6.6 | D59: Domicilio | M59: NO
C60: 6.7 | D60: Otros | M60: NO
D62: NOTA
C64: 7 | D64: Registro Único de Proponentes – RUP | M64: NO
D66: NOTA
C68: 8 | D68: Validación de la información del RUP
...
