Workbook
Name \a: #REF!
Name \a: #REF!
Name \b: #REF!
Name \b: #REF!
Name \c: #REF!
Name \c: #REF!
Name \eliminar: #REF!
Name \eliminar: [1]RESUM96!#REF!
Name \eliminar1: #REF!
Name \eliminar1: [1]RESUM96!#REF!
Name \i: #REF!
Name \i: [2]INSUMOS!#REF!
Name \m: #REF!
Name \m: [2]INSUMOS!#REF!
Name \o: #REF!
Name \o: #REF!
Name \q: #REF!
Name \q: #REF!
Name \r: #REF!
Name \r: #REF!
Name \t: #REF!
Name \t: [2]INSUMOS!#REF!
Name \x: #REF!
Name \x: [2]INSUMOS!#REF!
Name \z: #REF!
Name \z: #REF!
Name _: #REF!
Name _: #REF!
Name _________________________________apu1: #REF!
Name _________________________________apu1: [2]INSUMOS!#REF!
Name ________________________________apu1: #REF!
Name ________________________________apu1: [2]INSUMOS!#REF!
Name _______________________________apu1: #REF!
Name _______________________________apu1: [2]INSUMOS!#REF!
Name ______________________________apu1: #REF!
Name ______________________________apu1: [2]INSUMOS!#REF!
Name ____________________________apu1: #REF!
Name ____________________________apu1: [2]INSUMOS!#REF!
Name ___________________________apu1: #REF!
Name ___________________________apu1: [2]INSUMOS!#REF!
Name __________________________apu1: #REF!
Name __________________________apu1: [2]INSUMOS!#REF!
Name _________________________apu1: #REF!
Name _________________________apu1: [2]INSUMOS!#REF!
Name ________________________apu1: #REF!
Name ________________________apu1: [2]INSUMOS!#REF!
Name _______________________apu1: #REF!
Name _______________________apu1: [2]INSUMOS!#REF!
Name _____________________apu1: #REF!
Name _____________________apu1: [2]INSUMOS!#REF!
Name ____________________apu1: #REF!
Name ____________________apu1: [2]INSUMOS!#REF!
Name ___________________apu1: #REF!
Name ___________________apu1: [2]INSUMOS!#REF!
Name __________________apu1: #REF!
Name __________________apu1: [2]INSUMOS!#REF!
Name _________________apu1: #REF!
Name _________________apu1: [2]INSUMOS!#REF!
Name ________________apu1: #REF!
Name ________________apu1: [2]INSUMOS!#REF!

Sheet PPTO
A1: PRESUPUESTO PAVIMENTO CALLE URBANA EN EL MUNICIPIO DE ANORI DEPARTAMENTO DE ANTOQUIA
A3: ÍTEM | B3: DESCRIPCION | C3: UNIDAD | D3: CANTIDAD | E3: VR. UNITARIO | F3: VR. TOTAL
A4: 1 | B4: PRELIMINARES
A5: 1.1 | B5: =+'1,1'!F4 -> LOCALIZACION Y REPLANTEO CON EQUIPO TOPOGRAFICO | C5: m2 | D5: =CANTIDADES!M4 -> 3987.5 | E5: ='1,1'!H28 -> 2923 | F5: =ROUND(D5*E5,0) -> 11655463
A6: 2 | B6: PAVIMENTO
A7: 2.1 | B7: DEMOLICION DE CONCRETO | C7: m2 | D7: =CANTIDADES!M9 -> 3987.5 | E7: =+'2,1'!H21 -> 44945.334 | F7: =ROUND(D7*E7,0) -> 179219520
A8: 2.2 | B8: EXCAVACION EN MATERIAL COMUN DE LA EXPLANACION (Cajeo y Nivelacion) | C8: m3 | D8: =CANTIDADES!M13 -> 687.84375 | E8: ='2,2'!H29 -> 38640 | F8: =ROUND(D8*E8,0) -> 26578283
A9: 2.3 | B9: CARGUE, TRANSPORTE Y BOTADA DE MATERIAL PROVENIENTE DE LAS EXCAVACIONES Y VOLADURAS DE ROCA. INCLUYE TRANSPORTES INTERNOS, PALEROS, DERECHO DE BOTADERO. SE DEBE HACER EN BOTADEROS OFICIALES AUTORIZADOS POR LA ENTIDAD COMPETENTE O HASTA EL SITIO QUE INDIQUE LA INTERVENTORÍA. SU MEDIDA SERÁ EN SITIO. | C9: m3 | D9: =CANTIDADES!M18 -> 777.5625 | E9: ='2,3'!H28 -> 51962 | F9: =ROUND(D9*E9,0) -> 40403703
A10: 2.4 | B10: SUMINISTRO EXTENDIDA Y COMPACTACION DE BASE GRANULAR TIPO INVIAS | C10: m3 | D10: =CANTIDADES!M22 -> 687.84375 | E10: ='2,4,'!H29 -> 250610 | F10: =ROUND(D10*E10,0) -> 172380522
A11: 2.5 | B11: GEOTEXTIL NT 1600 | C11: m2 | D11: =CANTIDADES!M26 -> 3987.5 | E11: ='2,5'!H26 -> 8028 | F11: =ROUND(D11*E11,0) -> 32011650
A12: 2.6 | B12: CONSTRUCCION DE PLACA EN CONCRETO MR 40 E =0,15 MTS (4000psi). | C12: m3 | D12: =CANTIDADES!M31 -> 598.125 | E12: =+'2,6,'!H36 -> 1523198 | F12: =ROUND(D12*E12,0) -> 911062804
A13: 2.7 | B13: SARDINEL EN CONCRETO PREFABRICADO TIPO A10 | C13: ml | D13: =CANTIDADES!M35 -> 1300 | E13: ='2,7,'!H34 -> 86385 | F13: =ROUND(D13*E13,0) -> 112300500
A14: 2.8 | B14: Suministro, transporte y construcción de sumidero tipo B en concreto de 280 kg/cm2. incluye reja de sumidero tipo b, formaleta y todos los elementos necesarios para su correcta construcción y funcionamiento. Incluye tuberia novafort 12". | C14: Und | D14: =CANTIDADES!M40 -> 3 | E14: ='2,8'!H36 -> 2061897 | F14: =ROUND(D14*E14,0) -> 6185691
A15: 2.9 | B15: ACERO DE REFUERZO FY= 60.000 PSI. Incluye acero de 3/4" para dóvelas y acero de 3/8" para barras de anclaje según diseño | C15: Kg | D15: =CANTIDADES!M45 -> 4709.2375 | E15: ='2,9'!H36 -> 10621 | F15: =ROUND(D15*E15,0) -> 50016811
A16: TOTAL COSTOS DIRECTOS | F16: =SUM(F5:F15) -> 1541814947
B17: ADMINISTRACION | D17: =+'FORMULARIO AIU'!C46 -> 0.27031464 | E17: =F16*D17 -> 4.1677515e+08
B18: UTILIDAD | D18: 0.05 | E18: =D18*F16 -> 77090747
A19: TOTAL COSTOS INDIRECTOS | E19: =E17+E18 -> 4.938659e+08
B20: PMT | E20: =PMT!E18 -> 10621251
B21: PMA | E21: =PMA!G38 -> 22138952
A22: TOTAL COSTO DE OBRA | E22: =E19+F16+E20+E21 -> 2.0684411e+09
A23: TOTAL COSTO DE INTERVENTORIA | B23: TOTAL COSTO DE INTERVENTORIA | E23: =+'FORM-INTER'!G30 -> 1.598904e+08
A24: TOTAL PROYECTO | E24: =+E22+E23 -> 2.2283315e+09
A29: JOHAN DARIO RAMIREZ VASQUEZ
A30: INGENIERO CIVIL
A31: C.C. 1,022,325,937
A32: T.P No. 25202-37162 CND

Sheet CANTIDADES
D2: =PPTO!A5 -> 1.1 | E2: =PPTO!B5 -> LOCALIZACION Y REPLANTEO CON EQUIPO TOPOGRAFICO
I3: LARGO | J3: ANCHO | K3: ALTO | L3: CANTIDAD | M3: TOTAL
I4: 725 | J4: 5.5 | L4: 1 | M4: =I4*J4*L4 -> 3987.5
L5: TOTAL | M5: =M4 -> 3987.5
D7: =PPTO!A7 -> 2.1 | E7: =PPTO!B7 -> DEMOLICION DE CONCRETO | I7: LARGO | J7: ANCHO | K7: ALTO | L7: CANTIDAD | M7: TOTAL
I8: 725 | J8: 5.5 | K8: 0 | L8: 1 | M8: =I8*J8*L8 -> 3987.5
L9: TOTAL | M9: =M8 -> 3987.5
D11: =PPTO!A8 -> 2.2 | E11: =PPTO!B8 -> EXCAVACION EN MATERIAL COMUN DE LA EXPLANACION (Cajeo y Nivelacion) | I11: LARGO | J11: ANCHO | K11: ESPESOR | L11: CANTIDAD | M11: TOTAL
I12: =I4 -> 725 | J12: 5.5 | K12: 0.15 | L12: 1.15 | M12: =I12*J12*K12*L12 -> 687.84375
L13: TOTAL | M13: =M12 -> 687.84375
D15: =PPTO!A9 -> 2.3 | E15: =PPTO!B9 -> CARGUE, TRANSPORTE Y BOTADA DE MATERIAL PROVENIENTE DE LAS EXCAVACIONES Y VOLADURAS DE ROCA. INCLUYE TRANSPORTES INTERNOS, PALEROS, DERECHO DE BOTADERO. SE DEBE HACER EN BOTADEROS OFICIALES AUTORIZADOS POR LA ENTIDAD COMPETENTE O HASTA EL SITIO QUE INDIQUE LA INTERVENTORÍA. SU MEDIDA SERÁ EN SITIO. | I15: LARGO | J15: ANCHO | K15: ESPESOR | L15: CANTIDAD | M15: TOTAL
I17: =M9*0.15 -> 598.125 | L17: 1.3 | M17: =I17*L17 -> 777.5625
L18: TOTAL | M18: =M17 -> 777.5625
D20: =PPTO!A10 -> 2.4 | E20: =PPTO!B10 -> SUMINISTRO EXTENDIDA Y COMPACTACION DE BASE GRANULAR TIPO INVIAS | I20: LARGO | J20: ANCHO | K20: ESPESOR | L20: CANTIDAD | M20: TOTAL
I21: 725 | J21: 5.5 | K21: 0.15 | L21: 1.15 | M21: =I21*J21*K21*L21 -> 687.84375
L22: TOTAL | M22: =SUM(M21) -> 687.84375
D24: =PPTO!A11 -> 2.5 | E24: =PPTO!B11 -> GEOTEXTIL NT 1600 | I24: LARGO | J24: ANCHO | K24: ESPESOR | L24: CANTIDAD | M24: TOTAL
I25: =I21 -> 725 | J25: 5.5 | M25: =I25*J25 -> 3987.5
L26: TOTAL | M26: =SUM(M25) -> 3987.5
D28: =PPTO!A12 -> 2.6 | E28: =PPTO!B12 -> CONSTRUCCION DE PLACA EN CONCRETO MR 40 E =0,15 MTS (4000psi). | I28: LARGO | J28: ANCHO | K28: ESPESOR | L28: CANTIDAD | M28: TOTAL
I30: 725 | J30: 5.5 | K30: 0.15 | L30: 1 | M30: =I30*J30*K30*L30 -> 598.125
L31: TOTAL | M31: =SUM(M30) -> 598.125
D33: =PPTO!A13 -> 2.7 | E33: =PPTO!B13 -> SARDINEL EN CONCRETO PREFABRICADO TIPO A10 | I33: LARGO | J33: ANCHO | K33: ESPESOR | L33: CANTIDAD | M33: TOTAL
I34: =650 -> 650 | L34: 2 | M34: =I34*L34 -> 1300
L35: TOTAL | M35: =SUM(M34) -> 1300
D37: =PPTO!A14 -> 2.8 | E37: =PPTO!B14 -> Suministro, transporte y construcción de sumidero tipo B en concreto de 280 kg/cm2. incluye reja de sumidero tipo b, formaleta y todos los elementos necesarios para su correcta construcción y funcionamiento. Incluye tuberia novafort 12". | I37: LARGO | J37: ANCHO | K37: ESPESOR | L37: CANTIDAD | M37: TOTAL
L39: 3 | M39: =L39 -> 3
L40: TOTAL | M40: =SUM(M39) -> 3
D42: =PPTO!A15 -> 2.9 | E42: =PPTO!B15 -> ACERO DE REFUERZO FY= 60.000 PSI. Incluye acero de 3/4" para dóvelas y acero de 3/8" para barras de anclaje según diseño | I42: DIAMETRO | J42: PESO(Kg/m) | K42: AREA | L42: # PASADORES (Kg/m2) | M42: TOTAL
E43: BARRA DE ANCLAJE | I43: 3/8" | J43: 0.56 | K43: =+M5 -> 3987.5 | L43: 0.169 | M43: =+L43*K43 -> 673.8875
E44: DOVELA | I44: 3/4" | J44: =36/16.1 -> 2.2360248 | K44: =+K43 -> 3987.5 | L44: 1.012 | M44: =+L44*K44 -> 4035.35
L45: TOTAL | M45: =SUM(M43:M44) -> 4709.2375

Sheet 1,1
A1: REPUBLICIA DE COLOMBIA - DEPARTAMENTO DE ANTIOQUIA - MUNICIPIO DE ANORI | C1: ANÁLISIS DE PRECIOS UNITARIOS
G3: NOVIEMBRE DE 2025
A4: PAVIMENTACION DE VIA URBANA EN EL MUNICIPIO DE ANORI DEPARTAMENTO DE ANTIOQUIA | D4: ITEM: | E4: ='[103]PRESUPUESTO GENERAL'!A8 -> 1.1 | F4: ='[103]PRESUPUESTO GENERAL'!B8 -> LOCALIZACION Y REPLANTEO CON EQUIPO TOPOGRAFICO
F6: UNIDAD: | G6: ='[103]PRESUPUESTO GENERAL'!C8 -> M2
A7: I. EQUIPO
A8: Descripción | C8: Cantidad | D8: Tarifa/Hora | F8: Rendimiento | G8: Valor-Unit
A9: Herramienta menor | C9: 1 | D9: 875 | F9: 0.008 | G9: =D9*F9 -> 7
A10: Estacion, nivel topografico | C10: 1 | D10: 40500 | F10: 0.007 | G10: =D10*F10 -> 283.5
G11: Sub-Total | H11: =G10+G9 -> 290.5
A12: II. MATERIALES EN OBRA
A13: Descripción | C13: Unidad | D13: Precio-Unit | F13: Cantidad | G13: Valor-Unit
A14: PINTURA AEROSOL | C14: FRASCO | D14: 8000 | F14: 0.02 | G14: =+D14*F14 -> 160
A15: ESTACAS | C15: UNID | D15: 680 | F15: 1 | G15: =F15*D15 -> 680
G16: Sub-Total | H16: =SUM(G14:G15) -> 840
A17: III. TRANSPORTES
A18: Material | B18: Vol-peso o Cant. | C18: Distancia | D18: M³-Km | F18: Tarifa | G18: Valor-Unit
G20: Sub-Total | H20: =SUM(G19:G19) -> 0
A21: IV. MANO DE OBRA
A22: Trabajador | B22: Jornal | C22: Prestaciones | D22: Jornal Total | F22: Rendimiento | G22: Valor-Unit
A23: Topógrafo | B23: =D23/C23 -> 128399.7 | C23: 1.85 | D23: ='MANO DE OBRA'!F67 -> 237539.45 | F23: 0.005 | G23: =+D23*F23 -> 1187.6972 | I23: =+B23*1.08 -> 138671.68
A24: Cadenero | B24: =D24/C24 -> 65367.12 | C24: 1.85 | D24: ='MANO DE OBRA'!F45 -> 120929.17 | F24: =F23 -> 0.005 | G24: =+D24*F24 -> 604.64586
G26: Sub-Total | H26: =SUM(G23:G24) -> 1792.3431
E28: Total Costo Directo | H28: =ROUND((H26+H20+H16+H11),0) -> 2923
A29: V. COSTOS INDIRECTOS
A30: Descripción | F30: Porcentaje | G30: Valor-Total
A31: Administración | F31: 0.275 | G31: =+F31*H28 -> 803.825
A32: Utilidad | F32: 0.05 | G32: =+F32*H28 -> 146.15
G33: Sub-Total | H33: =SUM(G31:G32) -> 949.975
C35: Precio unitario total aproximado al peso | H35: =ROUND(H33+H28,0) -> 3873
A37: JOHAN DARIO RAMIREZ VASQUEZ
A38: INGENIERO CIVIL
A39: C.C. 1,022,325,937
A40: T.P No. 25202-37162 CND

Sheet 2,1
A1: ='2,2'!A1:B2 -> REPUBLICIA DE COLOMBIA - DEPARTAMENTO DE ANTIOQUIA - MUNICIPIO DE ANORI | C1: ANÁLISIS DE PRECIOS UNITARIOS
G3: NOVIEMBRE DE 2025
A4: ='2,2'!A4:C4 -> PAVIMENTACION DE VIA URBANA EN EL MUNICIPIO DE ANORI DEPARTAMENTO DE ANTIOQUIA | D4: ITEM: | E4: =PPTO!A7 -> 2.1 | F4: =PPTO!B7 -> DEMOLICION DE CONCRETO
F6: UNIDAD: | G6: =PPTO!C7 -> m2
A7: I. EQUIPO
A8: Descripción | C8: Tipo | D8: Tarifa/Hora | F8: Rendimiento | G8: Valor-Unit
A9: Retroexcavadora con martillo rompedor | D9: 195000 | F9: =1/11 -> 0.090909091 | G9: =D9*F9 -> 17727.273
A10: Herramienta menor | F10: 0.1 | G10: =F10*H19 -> 2474.3692
G13: Sub-Total | H13: =SUM(G9:G11) -> 20201.642
A14: IV. MANO DE OBRA
A15: Trabajador | B15: Jornal | C15: Prestaciones | D15: Jornal Total | F15: Rendimiento | G15: Valor-Unit
A16: Oficial | B16: =D16/C16 -> 99217.95 | C16: 1.85 | D16: ='MANO DE OBRA'!F33 -> 183553.21 | F16: 12 | G16: =D16/F16 -> 15296.101
A17: 1 Ayudantes | B17: =D17/C17 -> 61281.675 | C17: 1.85 | D17: ='MANO DE OBRA'!F16 -> 113371.1 | F17: 12 | G17: =+D17/F17 -> 9447.5916
G19: Sub-Total | H19: =SUM(G16:G17) -> 24743.692
G21: total | H21: =+H13+H19 -> 44945.334
A22: V. COSTOS INDIRECTOS
A23: Descripción | F23: Porcentaje | G23: Valor-Total
A24: Administración | F24: 0.275 | G24: =+H21*F24 -> 12359.967
A25: Utilidad | F25: 0.05 | G25: =+H21*F25 -> 2247.2667
G26: Sub-Total | H26: =SUM(G24:G25) -> 14607.234
C28: Precio unitario total aproximado al peso | H28: =+H21+H26 -> 59552.568
A30: JOHAN DARIO RAMIREZ VASQUEZ
A31: INGENIERO CIVIL
A32: C.C. 1,022,325,937
A33: T.P No. 25202-37162 CND

Sheet 2,2
A1: REPUBLICIA DE COLOMBIA - DEPARTAMENTO DE ANTIOQUIA - MUNICIPIO DE ANORI | C1: ANÁLISIS DE PRECIOS UNITARIOS
G3: NOVIEMBRE DE 2025
A4: PAVIMENTACION DE VIA URBANA EN EL MUNICIPIO DE ANORI DEPARTAMENTO DE ANTIOQUIA | D4: ITEM: | E4: =PPTO!A8 -> 2.2 | F4: =PPTO!B8 -> EXCAVACION EN MATERIAL COMUN DE LA EXPLANACION (Cajeo y Nivelacion)
F5: UNIDAD: | G5: =PPTO!C8 -> m3
A6: I. EQUIPO
A7: Descripción | C7: Tipo | D7: Tarifa/Hora | F7: Rendimiento | G7: Valor-Unit
A8: Motoniveladora | D8: 195000 | F8: 0.08 | G8: =D8*F8 -> 15600
A9: Retroexcavadora de llantas | D9: 135000 | F9: 0.035181481 | G9: =D9*F9 -> 4749.5
A10: Cilindro compactador | D10: 132000 | F10: =F8 -> 0.08 | G10: =D10*F10 -> 10560
A11: Carro tanque | D11: 80000 | F11: 0.08 | G11: =D11*F11 -> 6400
A12: Herramienta menor (10% M.O) | F12: 0.1 | G12: =F12*H27 -> 120.96322
G14: Sub-Total | H14: =SUM(G8:G12) -> 37430.463
A15: II. MATERIALES EN OBRA
A16: Descripción | C16: Unidad | D16: Precio-Unit | F16: Cantidad | G16: Valor-Unit
G18: Sub-Total | H18: =SUM(G17:G17) -> 0
A19: III. TRANSPORTES
A20: Material | B20: Vol-peso o Cant. | C20: Distancia | D20: M³-Km | F20: Tarifa | G20: Valor-Unit
G22: Sub-Total | H22: =SUM(G21:G21) -> 0
A23: IV. MANO DE OBRA
A24: Trabajador | B24: Jornal | C24: Prestaciones | D24: Jornal Total | F24: Rendimiento | G24: Valor-Unit
A25: Ayudante (2) | B25: =D25/C25 -> 77333.333 | C25: 1.85 | D25: ='[103]MANO DE OBRA'!F19 -> 143066.67 | F25: 270.01586 | G25: =D25/F25 -> 529.84542
A26: Oficial | B26: =D26/C26 -> 99217.95 | C26: =C25 -> 1.85 | D26: ='MANO DE OBRA'!F33 -> 183553.21 | F26: =F25 -> 270.01586 | G26: =D26/F26 -> 679.78676
G27: Sub-Total | H27: =G26+G25 -> 1209.6322
E29: Total Costo Directo | H29: =ROUND(H27+H14+H18+H22,0) -> 38640
A30: V. COSTOS INDIRECTOS
A31: Descripción | F31: Porcentaje | G31: Valor-Total
A32: Administración | F32: 0.275 | G32: =+F32*H29 -> 10626
A33: Utilidad | F33: 0.05 | G33: =+F33*H29 -> 1932
G34: Sub-Total | H34: =SUM(G32:G33) -> 12558
C36: Precio unitario total aproximado al peso | H36: =ROUND(H34+H29,0) -> 51198
A38: JOHAN DARIO RAMIREZ VASQUEZ
A39: INGENIERO CIVIL
A40: C.C. 1,022,325,937
A41: T.P No. 25202-37162 CND

Sheet 2,3
A1: ='2,2'!A1:B2 -> REPUBLICIA DE COLOMBIA - DEPARTAMENTO DE ANTIOQUIA - MUNICIPIO DE ANORI | C1: ANÁLISIS DE PRECIOS UNITARIOS
G3: NOVIEMBRE DE 2025
A4: ='2,2'!A4:C4 -> PAVIMENTACION DE VIA URBANA EN EL MUNICIPIO DE ANORI DEPARTAMENTO DE ANTIOQUIA | D4: ITEM: | E4: ='[103]PRESUPUESTO GENERAL'!A12 -> 2.2 | F4: =PPTO!B9 -> CARGUE, TRANSPORTE Y BOTADA DE MATERIAL PROVENIENTE DE LAS EXCAVACIONES Y VOLADURAS DE ROCA. INCLUYE TRANSPORTES INTERNOS, PALEROS, DERECHO DE BOTADERO. SE DEBE HACER EN BOTADEROS OFICIALES AUTORIZADOS POR LA ENTIDAD COMPETENTE O HASTA EL SITIO QUE INDIQUE LA INTERVENTORÍA. SU MEDIDA SERÁ EN SITIO.
F6: UNIDAD: | G6: ='[103]PRESUPUESTO GENERAL'!C12 -> M3
A7: I. EQUIPO
A8: Descripción | C8: Tipo | D8: Tarifa/Hora | F8: Rendimiento | G8: Valor-Unit
A9: Retroexcavadora | D9: 135000 | F9: 9.4201309 | G9: =D9/F9 -> 14331.011
A10: Herramienta menor | F10: 0.1 | G10: =F10*H26 -> 375.55
G13: Sub-Total | H13: =SUM(G9:G11) -> 14706.561
A14: II. MATERIALES EN OBRA
A15: Descripción | C15: Unidad | D15: Precio-Unit | F15: Cantidad | G15: Valor-Unit
A16: Derecho de diposicion | D16: 9500 | F16: 1 | G16: =D16*F16 -> 9500
G17: Sub-Total | H17: =SUM(G16:G16) -> 9500
A18: III. TRANSPORTES
A19: Material | B19: Vol-peso o Cant. | C19: Distancia | D19: M³-Km | F19: Tarifa | G19: Valor-Unit
A20: Sobrantes | B20: 1.2 | C20: 5 | D20: =B20*C20 -> 6 | F20: 4000 | G20: =+D20*F20 -> 24000
G21: Sub-Total | H21: =SUM(G20:G20) -> 24000
A22: IV. MANO DE OBRA
A23: Trabajador | B23: Jornal | C23: Prestaciones | D23: Jornal Total | F23: Rendimiento | G23: Valor-Unit
A24: 1 Ayudantes | B24: =D24/C24 -> 40600 | C24: 1.85 | D24: ='[103]MANO DE OBRA'!F16 -> 75110 | F24: 20 | G24: =+D24/F24 -> 3755.5
G26: Sub-Total | H26: =SUM(G24:G24) -> 3755.5
E28: Total Costo Directo | H28: =ROUND(H13+H17+H21+H26,0) -> 51962
A29: V. COSTOS INDIRECTOS
A30: Descripción | F30: Porcentaje | G30: Valor-Total
A31: Administración | F31: 0.275 | G31: =+F31*H28 -> 14289.55
A32: Utilidad | F32: 0.05 | G32: =+F32*H28 -> 2598.1
G33: Sub-Total | H33: =SUM(G31:G32) -> 16887.65
C35: Precio unitario total aproximado al peso | H35: =ROUND(H33+H28,0) -> 68850
A37: JOHAN DARIO RAMIREZ VASQUEZ
A38: INGENIERO CIVIL
A39: C.C. 1,022,325,937
A40: T.P No. 25202-37162 CND

Sheet 2,4,
A1: ='2,2'!A1:B2 -> REPUBLICIA DE COLOMBIA - DEPARTAMENTO DE ANTIOQUIA - MUNICIPIO DE ANORI | C1: ANÁLISIS DE PRECIOS UNITARIOS
G3: NOVIEMBRE DE 2025
A4: ='2,2'!A4:C4 -> PAVIMENTACION DE VIA URBANA EN EL MUNICIPIO DE ANORI DEPARTAMENTO DE ANTIOQUIA | D4: ITEM: | E4: =PPTO!A10 -> 2.4 | F4: =PPTO!B10 -> SUMINISTRO EXTENDIDA Y COMPACTACION DE BASE GRANULAR TIPO INVIAS
F5: UNIDAD: | G5: ='[103]PRESUPUESTO GENERAL'!C14 -> M3/COMP
A6: I. EQUIPO
A7: Descripción | C7: Tipo | D7: Tarifa/Hora | F7: Rendimiento | G7: Valor-Unit
A8: Motoniveladora | D8: 195000 | F8: 30 | G8: =D8/F8 -> 6500
A9: Carrotanque | D9: 80000 | F9: 30 | G9: =D9/F9 -> 2666.6667
A10: Cilindro compactador | D10: 132000 | F10: 30 | G10: =D10/F10 -> 4400
A11: Herramienta menor | D11: 87.5 | F11: 1 | G11: =+D11*F11 -> 87.5
G13: Sub-Total | H13: =SUM(G8:G11) -> 13654.167
A14: II. MATERIALES EN OBRA
A15: Descripción | C15: Unidad | D15: Precio-Unit | F15: Cantidad | G15: Valor-Unit
A16: Base granular tipo INVIAS | C16: M3 | D16: 88000 | F16: 1.1 | G16: =+D16*F16 -> 96800
G18: Sub-Total | H18: =SUM(G16:G16) -> 96800
A19: III. TRANSPORTES
A20: Material | B20: Vol-peso o Cant. | C20: Distancia | D20: M³-Km | F20: Tarifa | G20: Valor-Unit
A21: Subbase granular | B21: 1.1 | C21: 95 | D21: =+B21*C21 -> 104.5 | F21: 1300 | G21: =+D21*F21 -> 135850
G22: Sub-Total | H22: =SUM(G21:G21) -> 135850
A23: IV. MANO DE OBRA
A24: Trabajador | B24: Jornal | C24: Prestaciones | D24: Jornal Total | F24: Rendimiento | G24: Valor-Unit
A25: 1 Ayudante | B25: =D25/C25 -> 61281.675 | C25: 1.85 | D25: ='MANO DE OBRA'!F16 -> 113371.1 | F25: 26.331519 | G25: =D25/F25 -> 4305.5283
G27: Sub-Total | H27: =SUM(G25:G25) -> 4305.5283
E29: Total Costo Directo | H29: =ROUND(H13+H18+H22+H27,0) -> 250610
A30: V. COSTOS INDIRECTOS
A31: Descripción | F31: Porcentaje | G31: Valor-Total
A32: Administración | F32: 0.275 | G32: =+F32*H29 -> 68917.75
A33: Utilidad | F33: 0.05 | G33: =+F33*H29 -> 12530.5
G34: Sub-Total | H34: =SUM(G32:G33) -> 81448.25
C36: Precio unitario total aproximado al peso | H36: =ROUND(H34+H29,0) -> 332058
A38: JOHAN DARIO RAMIREZ VASQUEZ
A39: INGENIERO CIVIL
A40: C.C. 1,022,325,937
A41: T.P No. 25202-37162 CND

Sheet 2,5
A1: ='2,2'!A1:B2 -> REPUBLICIA DE COLOMBIA - DEPARTAMENTO DE ANTIOQUIA - MUNICIPIO DE ANORI | C1: ANÁLISIS DE PRECIOS UNITARIOS
G3: NOVIEMBRE DE 2025
A4: ='2,2'!A4:C4 -> PAVIMENTACION DE VIA URBANA EN EL MUNICIPIO DE ANORI DEPARTAMENTO DE ANTIOQUIA | D4: ITEM: | E4: =PPTO!A11 -> 2.5 | F4: =PPTO!B11 -> GEOTEXTIL NT 1600
F5: UNIDAD: | G5: =+'[103]PRESUPUESTO GENERAL'!C15 -> M2
A6: I. EQUIPO
A7: Descripción | C7: Tipo | D7: Tarifa/Hora | F7: Rendimiento | G7: Valor-Unit
A8: Herramienta menor | D8: 0 | F8: 0.1 | G8: =+(G22+G23)*F8 -> 318.5188
G10: Sub-Total | H10: =SUM(G8:G8) -> 318.5188
A11: II. MATERIALES EN OBRA
A12: Descripción | C12: Unidad | D12: Precio-Unit | F12: Cantidad | G12: Valor-Unit
A13: Geotextil tejido a base de polipropileno, con una resistencia a la tracción longitudinal de 18 kN/m, una resistencia a la tracción transversal de 16 kN/m, una apertura de cono al ensayo de perforación dinámica según ISO 13433 inferior a 17 mm, resistencia CBR a punzonamiento 2 kN y una masa superficial de 83 g/m². | C13: M2 | D13: 3600 | F13: 1.05 | G13: =+D13*F13 -> 3780
A14: Piqueta de anclaje de acero, en forma de L, de 6 mm de diámetro, para sujeción de redes y mallas al terreno. | C14: Unidad | D14: 372.04 | F14: 2 | G14: =+F14*D14 -> 744.08
G15: Sub-Total | H15: =+G14+G13 -> 4524.08
A16: III. TRANSPORTES
A17: Material | B17: Vol-peso o Cant. | C17: Distancia | D17: M³-Km | F17: Tarifa | G17: Valor-Unit
D18: =+B18*C18 -> 0 | G18: =+D18*F18 -> 0
G19: Sub-Total | H19: =SUM(G18:G18) -> 0
A20: IV. MANO DE OBRA
A21: Trabajador | B21: Jornal | C21: Prestaciones | D21: Jornal Total | F21: Rendimiento | G21: Valor-Unit
A22: 1 Ayudante | B22: =D22/C22 -> 61281.675 | C22: 1.85 | D22: ='MANO DE OBRA'!F16 -> 113371.1 | F22: 50 | G22: =D22/F22 -> 2267.422
A23: Oficial | B23: =D23/C23 -> 99217.95 | C23: 1.85 | D23: ='MANO DE OBRA'!F33 -> 183553.21 | F23: 200 | G23: =D23/F23 -> 917.76604
G24: Sub-Total | H24: =+G23+G22 -> 3185.188
E26: Total Costo Directo | H26: =ROUND(H10+H15+H19+H24,0) -> 8028
A27: V. COSTOS INDIRECTOS
A28: Descripción | F28: Porcentaje | G28: Valor-Total
A29: Administración | F29: 0.275 | G29: =+F29*H26 -> 2207.7
A30: Utilidad | F30: 0.05 | G30: =+F30*H26 -> 401.4
G31: Sub-Total | H31: =SUM(G29:G30) -> 2609.1
C33: Precio unitario total aproximado al peso | H33: =ROUND(H31+H26,0) -> 10637
A35: JOHAN DARIO RAMIREZ VASQUEZ
A36: INGENIERO CIVIL
A37: C.C. 1,022,325,937
A38: T.P No. 25202-37162 CND

Sheet 2,6,
A1: ='2,4,'!A1:B2 -> REPUBLICIA DE COLOMBIA - DEPARTAMENTO DE ANTIOQUIA - MUNICIPIO DE ANORI | C1: ANÁLISIS DE PRECIOS UNITARIOS
G3: NOVIEMBRE DE 2025
A4: ='2,4,'!A4:C4 -> PAVIMENTACION DE VIA URBANA EN EL MUNICIPIO DE ANORI DEPARTAMENTO DE ANTIOQUIA | D4: ITEM: | E4: =PPTO!A12 -> 2.6 | F4: =PPTO!B12 -> CONSTRUCCION DE PLACA EN CONCRETO MR 40 E =0,15 MTS (4000psi).
F5: UNIDAD: | G5: =PPTO!C12 -> m3
A6: I. EQUIPO
A7: Descripción | C7: Cantidad | D7: Tarifa/Hora | F7: Rendimiento | G7: Valor-Unit
A8: Aspersor manual | C8: 1 | D8: 3500 | F8: 0.16 | G8: =D8*F8 -> 560
A9: Compresor (barrido y soplado) | C9: 1 | D9: 85000 | F9: =F8 -> 0.16 | G9: =D9*F9 -> 13600
A10: Cortadora de pavimento | C10: 1 | D10: 24000 | F10: =F9 -> 0.16 | G10: =D10*F10 -> 3840
A11: Formaleta metálica (concreto hidráulico) | C11: 1 | D11: 2000 | F11: =F10 -> 0.16 | G11: =D11*F11 -> 320
A12: Regla vibratoria | C12: 1 | D12: 17000 | F12: =F11 -> 0.16 | G12: =D12*F12 -> 2720
A13: Vibrador de concreto | C13: 1 | D13: 7000 | F13: =F12 -> 0.16 | G13: =D13*F13 -> 1120
A14: Herramienta menor | F14: 0.1 | G14: =F14*H34 -> 46968.027
G15: Sub-Total | H15: =SUM(G8:G14) -> 69128.027
A16: II. MATERIALES EN OBRA
A17: Descripción | C17: Unidad | D17: Precio-Unit | F17: Cantidad | G17: Valor-Unit
A18: Sello de poliuretano en cinta para juntas en pavimentos de concreto hidraulico. | C18: m | D18: 1500 | F18: ='[104]500.1.1'!K60 -> 1.808 | G18: =+D18*F18 -> 2712
A19: Sello de silicona o sellador autonivelante | C19: m | D19: 10200 | F19: ='[104]500.1.1'!K61 -> 1.29 | G19: =+D19*F19 -> 13158
A20: Emulsion acuosa de parafina para curado de concreto, que evite la pérdida prematura de humedad de concretos y morteros | C20: Kg | D20: 8296.0085 | F20: ='[104]500.1.1'!K62 -> 1.31622 | G20: =+D20*F20 -> 10919.372
A21: Concreto hidráulico MR-40 | C21: m3 | D21: 1.05 | F21: 654000 | G21: =+D21*F21 -> 686700
G23: Sub-Total | H23: =SUM(G18:G22) -> 713489.37
A24: III. TRANSPORTES
A25: Material | B25: Vol-peso o Cant. | C25: Distancia | D25: M³-Km | F25: Tarifa | G25: Valor-Unit
A26: =A21 -> Concreto hidráulico MR-40 | B26: 1.05 | C26: 172 | D26: =+B26*C26 -> 180.6 | F26: 1500 | G26: =+D26*F26 -> 270900
G28: Sub-Total | H28: =SUM(G26:G27) -> 270900
A29: IV. MANO DE OBRA
A30: Trabajador | B30: Jornal | C30: Prestaciones | D30: Jornal Total | F30: Rendimiento | G30: Valor-Unit
A31: Oficial | B31: =D31/C31 -> 99217.95 | C31: 1.85 | D31: ='MANO DE OBRA'!F33 -> 183553.21 | F31: 2 | G31: =D31/F31 -> 91776.604
A32: Obrero (7) | B32: =D32/C32 -> 408544.5 | C32: =C31 -> 1.85 | D32: ='MANO DE OBRA'!F24 -> 755807.33 | F32: =F31 -> 2 | G32: =D32/F32 -> 377903.66
G34: Sub-Total | H34: =SUM(G31:G32) -> 469680.27
E36: Total Costo Directo | H36: =ROUND(H15+H23+H28+H34,0) -> 1523198
A37: V. COSTOS INDIRECTOS
A38: Descripción | F38: Porcentaje | G38: Valor-Total
A39: Administración | F39: 0.275 | G39: =+F39*H36 -> 418879.45
A40: Utilidad | F40: 0.05 | G40: =+F40*H36 -> 76159.9
G41: Sub-Total | H41: =SUM(G39:G40) -> 495039.35
C43: Precio unitario total aproximado al peso | H43: =ROUND(H41+H36,0) -> 2018237
A45: JOHAN DARIO RAMIREZ VASQUEZ
A46: INGENIERO CIVIL
A47: C.C. 1,022,325,937
...

Sheet 2,7,
A1: ='2,4,'!A1:B2 -> REPUBLICIA DE COLOMBIA - DEPARTAMENTO DE ANTIOQUIA - MUNICIPIO DE ANORI | C1: ANÁLISIS DE PRECIOS UNITARIOS
G3: NOVIEMBRE DE 2025
A4: ='2,4,'!A4:C4 -> PAVIMENTACION DE VIA URBANA EN EL MUNICIPIO DE ANORI DEPARTAMENTO DE ANTIOQUIA | D4: ITEM: | E4: =PPTO!A13 -> 2.7 | F4: =PPTO!B13 -> SARDINEL EN CONCRETO PREFABRICADO TIPO A10
F5: UNIDAD: | G5: ='[103]PRESUPUESTO GENERAL'!C17 -> ML
A6: I. EQUIPO
A7: Descripción | C7: Tipo | D7: Tarifa/Hora | F7: Rendimiento | G7: Valor-Unit
A10: Herramienta menor | C10: Global | G10: 287.5
G12: Sub-Total | H12: =SUM(G8:G11) -> 287.5
A13: II. MATERIALES EN OBRA
A14: Descripción | C14: Unidad | D14: Precio-Unit | F14: Cantidad | G14: Valor-Unit
A15: SARDINEL PREFABRICADO A10 | C15: m | D15: 39000 | F15: 1.25 | G15: =+D15*F15 -> 48750
A16: MORTERO DE PEGA 1:4 | C16: m3 | D16: 480000 | F16: 0.006 | G16: =+D16*F16 -> 2880
A17: MORTERO DE NIVELACIÓN | C17: m3 | D17: 480000 | F17: 0.008 | G17: =+D17*F17 -> 3840
G21: Sub-Total | H21: =SUM(G15:G20) -> 55470
A22: III. TRANSPORTES
A23: Material | B23: Vol-peso o Cant. | C23: Distancia | D23: M³-Km | F23: Tarifa | G23: Valor-Unit
A24: SARDINEL PREFABRICADO A10 | B24: 0.08 | C24: 172 | D24: =B24*C24 -> 13.76 | F24: 1500 | G24: =F24*D24 -> 20640
G26: Sub-Total | H26: =SUM(G24:G25) -> 20640
A27: IV. MANO DE OBRA
A28: Trabajador | B28: Jornal | C28: Prestaciones | D28: Jornal Total | F28: Rendimiento | G28: Valor-Unit
A29: Oficial | B29: =D29/C29 -> 99217.95 | C29: 1.85 | D29: ='MANO DE OBRA'!F33 -> 183553.21 | F29: 40 | G29: =+D29/F29 -> 4588.8302
A30: Obrero (2) | B30: =D30/C30 -> 116727 | C30: =C29 -> 1.85 | D30: ='MANO DE OBRA'!F19 -> 215944.95 | F30: 40 | G30: =+D30/F30 -> 5398.6238
G32: Sub-Total | H32: =SUM(G29:G30) -> 9987.4539
E34: Total Costo Directo | H34: =ROUND(H12+H21+H26+H32,0) -> 86385
A35: V. COSTOS INDIRECTOS
A36: Descripción | F36: Porcentaje | G36: Valor-Total
A37: Administración | F37: 0.275 | G37: =+F37*H34 -> 23755.875
A38: Utilidad | F38: 0.05 | G38: =+F38*H34 -> 4319.25
G39: Sub-Total | H39: =SUM(G37:G38) -> 28075.125
C41: Precio unitario total aproximado al peso | H41: =ROUND(H39+H34,0) -> 114460
A43: JOHAN DARIO RAMIREZ VASQUEZ
A44: INGENIERO CIVIL
A45: C.C. 1,022,325,937
A46: T.P No. 25202-37162 CND

Sheet 2,8
A1: ='2,4,'!A1:B2 -> REPUBLICIA DE COLOMBIA - DEPARTAMENTO DE ANTIOQUIA - MUNICIPIO DE ANORI | E1: ANÁLISIS DE PRECIOS UNITARIOS
G3: NOVIEMBRE DE 2025
A4: ='2,4,'!A4:C4 -> PAVIMENTACION DE VIA URBANA EN EL MUNICIPIO DE ANORI DEPARTAMENTO DE ANTIOQUIA | D4: ITEM: | E4: =PPTO!A14 -> 2.8 | F4: =PPTO!B14 -> Suministro, transporte y construcción de sumidero tipo B en concreto de 280 kg/cm2. incluye reja de sumidero tipo b, formaleta y todos los elementos necesarios para su correcta construcción y funcionamiento. Incluye tuberia novafort 12".
F5: UNIDAD: | G5: UN
A7: Descripción | D7: Tipo | E7: Tarifa/Hora | F7: Rendimiento | G7: Valor-Unit.
A8: Herramienta menor | G8: 2400
G9: 0
G10: Sub-Total | H10: =SUM(G8:G9) -> 2400
A11: II. MATERIALES EN OBRA
A12: Descripción | D12: Unidad | E12: Precio-Unit. | F12: Cantidad | G12: Valor-Unit.
A13: Cemento Gris | D13: KG | E13: 880 | F13: 120 | G13: =F13*E13 -> 105600
A14: Arena | D14: M3 | E14: 100000 | F14: 0.47 | G14: =F14*E14 -> 47000
A15: Tuberia Novafort 12" | D15: Und | E15: 560000 | F15: 1.5 | G15: =E15*F15 -> 840000
A16: Gravilla 3/4" | D16: M3 | E16: 200000 | F16: 0.27 | G16: =F16*E16 -> 54000
A17: Formaleta | D17: GLB | E17: 35000 | F17: 1 | G17: =F17*E17 -> 35000
A18: Rejilla en varilla de 1 1/2" y angulo de marco | D18: UND | E18: 285000 | F18: 1 | G18: =F18*E18 -> 285000
A19: Angulo para soporte de rejilla | D19: Ml | E19: 24000 | F19: 4 | G19: =F19*E19 -> 96000
G22: Sub-Total | H22: =SUM(G12:G21) -> 1462600
A23: III. TRANSPORTES
A24: Material | C24: Vol. Peso ó Cant. | D24: Distancia | E24: M3-Km | F24: Tarifa | G24: Valor-Unit.
A25: Arena | C25: =F14 -> 0.47 | D25: 172 | E25: =D25*C25 -> 80.84 | F25: 1500 | G25: =F25*E25 -> 121260
A26: Gravilla 3/4" | C26: =F16 -> 0.27 | D26: 172 | E26: =D26*C26 -> 46.44 | F26: 1500 | G26: =F26*E26 -> 69660
G27: 0
G28: 0
G29: Sub-Total | H29: =SUM(G25:G28) -> 190920
A30: IV. MANO DE OBRA
A31: Trabajador | C31: Jornal | D31: Prestaciones | E31: Jornal Total | F31: Rendimiento | G31: Valor-Unit.
A32: 1 Oficial | C32: =E32/D32 -> 99217.95 | D32: 1.85 | E32: ='MANO DE OBRA'!F33 -> 183553.21 | F32: 1.25 | G32: =E32/F32 -> 146842.57
A33: Obreros (3) | C33: =E33/D33 -> 175090.5 | D33: =D32 -> 1.85 | E33: ='MANO DE OBRA'!F20 -> 323917.43 | F33: =F32 -> 1.25 | G33: =E33/F33 -> 259133.94
G35: Sub-Total | H35: =SUM(G32:G34) -> 405976.51
E36: Total Costo Directo ajustado al peso | H36: =ROUND((H35+H29+H22+H10),0) -> 2061897
E38: ADMINISTRACION | G38: 0.275 | H38: =H36*G38 -> 567021.68
E39: UTILIDAD | G39: 0.05 | H39: =G39*H36 -> 103094.85
E40: Total Costo Indirecto ajustado al peso | H40: =ROUND((H39+H38+H36),0) -> 2732014
A42: JOHAN DARIO RAMIREZ VASQUEZ
A43: INGENIERO CIVIL
A44: C.C. 1,022,325,937
A45: T.P No. 25202-37162 CND

Sheet 2,9
A1: ='2,4,'!A1:B2 -> REPUBLICIA DE COLOMBIA - DEPARTAMENTO DE ANTIOQUIA - MUNICIPIO DE ANORI | C1: ANÁLISIS DE PRECIOS UNITARIOS
G3: NOVIEMBRE DE 2025
A4: ='2,4,'!A4:C4 -> PAVIMENTACION DE VIA URBANA EN EL MUNICIPIO DE ANORI DEPARTAMENTO DE ANTIOQUIA | D4: ITEM: | E4: =PPTO!A15 -> 2.9 | F4: =PPTO!B15 -> ACERO DE REFUERZO FY= 60.000 PSI. Incluye acero de 3/4" para dóvelas y acero de 3/8" para barras de anclaje según diseño
F5: UNIDAD: | G5: =PPTO!C15 -> Kg
A6: I. EQUIPO
A7: Descripción | C7: Cantidad | D7: Tarifa/Hora | F7: Rendimiento | G7: Valor-Unit
A8: Herramienta menor | F8: 0.1 | G8: =F8*H28 -> 0
G15: Sub-Total | H15: =SUM(G8:G14) -> 0
A16: II. MATERIALES EN OBRA
A17: Descripción | C17: Unidad | D17: Precio-Unit | F17: Cantidad | G17: Valor-Unit
A18: Barras de transferencia de carga (3/8'') | C18: Kg | D18: 6200 | F18: =1.092/3 -> 0.364 | G18: =+D18*F18 -> 2256.8
A19: Barras de unión de 3/4" | C19: Kg | D19: 6200 | F19: 1.0821429 | G19: =+D19*F19 -> 6709.2857
A20: Alambre quemado | C20: Kg | D20: 6800 | F20: 0.025 | G20: =D20*F20 -> 170
G23: Sub-Total | H23: =SUM(G18:G22) -> 9136.0857
A24: III. TRANSPORTES
A25: Material | B25: Vol-peso o Cant. | C25: Distancia | D25: M³-Km | F25: Tarifa | G25: Valor-Unit
G28: Sub-Total | H28: =SUM(G26:G27) -> 0
A29: IV. MANO DE OBRA
A30: Trabajador | B30: Jornal | C30: Prestaciones | D30: Jornal Total | F30: Rendimiento | G30: Valor-Unit
A31: Oficial | B31: =D31/C31 -> 99217.95 | C31: 1.85 | D31: ='MANO DE OBRA'!F33 -> 183553.21 | F31: 200 | G31: =D31/F31 -> 917.76604
A32: Obrero (1) | B32: =D32/C32 -> 61281.675 | C32: =C31 -> 1.85 | D32: ='MANO DE OBRA'!F16 -> 113371.1 | F32: 200 | G32: =D32/F32 -> 566.85549
G34: Sub-Total | H34: =SUM(G31:G32) -> 1484.6215
E36: Total Costo Directo | H36: =ROUND(H15+H23+H28+H34,0) -> 10621
A37: V. COSTOS INDIRECTOS
A38: Descripción | F38: Porcentaje | G38: Valor-Total
A39: Administración | F39: 0.275 | G39: =+F39*H36 -> 2920.775
A40: Utilidad | F40: 0.05 | G40: =+F40*H36 -> 531.05
G41: Sub-Total | H41: =SUM(G39:G40) -> 3451.825
C43: Precio unitario total aproximado al peso | H43: =ROUND(H41+H36,0) -> 14073
A45: JOHAN DARIO RAMIREZ VASQUEZ
A46: INGENIERO CIVIL
A47: C.C. 1,022,325,937
A48: T.P No. 25202-37162 CND

Sheet MANO DE OBRA
B1: INSTITUTO NACIONAL DE VÍAS SUBDIRECCIÓN DE PLANIFICACIÓN DE INFRAESTRUCTURA ANÁLISIS DE PRECIOS UNITARIOS DE REFERENCIA REGIONALIZADOS 2022
B4: LISTADO DE MANO DE OBRA
B5: unidad | D5: Ítem | F5: VALOR ($ COP) | G5: OBSERVACIONES
B6: mes | D6: Salario mínimo legal mensual vigente - SMLMV básico 2026 | F6: 1750905
B7: mes | D7: Subsidio de transporte 2026 | F7: 249095
B8: mes | D8: Salario mínimo legal mensual vigente - SMLMV 2026 + Subsidio de transporte 2026 | F8: =F6+F7 -> 2000000
B9: día | D9: Jornal + subsidio de transporte 2026 | F9: =F8/30 -> 66666.667
B10: % | D10: Factor prestacional INVIAS vigente | F10: 0.85
B11: día | D11: Jornal básico con factor prestacional | F11: =(F6/30)+((F6/30)*F10) -> 107972.48
B12: mes | D12: salario basico SMLMV 2026 con factor prestacional | F12: =F6+(F10*F6) -> 3239174.2
B14: # | C14: Código | D14: unidad | E14: Insumo | F14: Precio ($ COP) | G14: Factor de Jornal 2026 | H14: OBSERVACIONES
B15: 1 | C15: A0100030 | D15: día | E15: Maestro | F15: =+$F$11*G15 -> 269931.19 | G15: 2.5
B16: 2 | C16: A0100150 | D16: día | E16: Ayudante | F16: =+$F$11*G16 -> 113371.1 | G16: 1.05
B17: 3 | C17: A0100190 | D17: día | E17: Almacenista | F17: =+$F$11*G17 -> 113371.1 | G17: 1.05
B18: 4 | C18: A0030010 | D18: día | E18: Obrero | F18: =+$F$11*G18 -> 107972.48 | G18: 1
B19: 5 | C19: A0030020 | D19: día | E19: Obrero (2) | F19: =+$F$11*G19 -> 215944.95 | G19: 2
B20: 6 | C20: A0030030 | D20: día | E20: Obrero (3) | F20: =+$F$11*G20 -> 323917.43 | G20: 3
B21: 7 | C21: A0030040 | D21: día | E21: Obrero (4) | F21: =+$F$11*G21 -> 431889.9 | G21: 4
B22: 8 | C22: A0030050 | D22: día | E22: Obrero (5) | F22: =+$F$11*G22 -> 539862.38 | G22: 5
B23: 9 | C23: A0030060 | D23: día | E23: Obrero (6) | F23: =+$F$11*G23 -> 647834.85 | G23: 6
B24: 10 | C24: A0030070 | D24: día | E24: Obrero (7) | F24: =+$F$11*G24 -> 755807.33 | G24: 7
B25: 11 | C25: A0030080 | D25: día | E25: Obrero (8) | F25: =+$F$11*G25 -> 863779.8 | G25: 8
B26: 12 | C26: A0030090 | D26: día | E26: Obrero (9) | F26: =+$F$11*G26 -> 971752.28 | G26: 9
... B45: 31 | C45: A0010010 | D45: día | E45: Cadenero | F45: =+$F$11*G45 -> 120929.17 | G45: 1.12
B46: 32 | C46: A0100240 | D46: día | E46: Cadeneros (2) | F46: =+$F$11*G46 -> 241858.34 | G46: =+G45*2 -> 2.24
B47: 33 | C47: A0100220 | D47: día | E47: Carpintero | F47: =+$F$11*G47 -> 215944.95 | G47: 2
B48: 34 | C48: A0100130 | D48: día | E48: Armador | F48: =+$F$11*G48 -> 113371.1 | G48: 1.05
B49: 35 | C49: A0050010 | D49: día | E49: Paletero | F49: =+$F$11*G49 -> 107972.48 | G49: 1
B50: 36 | C50: A0050020 | D50: día | E50: Paletero (2) | F50: =+$F$11*G50 -> 215944.95 | G50: 2
B51: 37 | C51: A0070010 | D51: día | E51: Rastrillero | F51: =+$F$11*G51 -> 138204.77 | G51: 1.28
B52: 38 | C52: A0070020 | D52: día | E52: Rastrilleros (2) | F52: =+$F$11*G52 -> 276409.54 | G52: 2.56
B53: 39 | C53: A0100140 | D53: día | E53: Cortador | F53: =+$F$11*G53 -> 140364.22 | G53: 1.3
B54: 40 | C54: A0100092 | D54: día | E54: Operador prueba de integridad | F54: =+$F$11*G54 -> 229981.37 | G54: 2.13
B55: 41 | C55: A0100280 | D55: día | E55: Operador de maquinaria pesada | F55: =+$F$11*G55 -> 229981.37 | G55: 2.13
B56: 42 | C56: A0060010 | D56: día | E56: Perforador | F56: =+$F$11*G56 -> 183553.21 | G56: 1.7
B57: 43 | C57: A0100040 | D57: día | E57: Perforador + Ayudante1 + Ayudante2 | F57: =+$F$11*G57 -> 410295.41 | G57: 3.8
B58: 44 | C58: A0080010 | D58: día | E58: Soldador | F58: =+$F$11*G58 -> 183553.21 | G58: 1.7
... B79: 65 | C79: A0100230 | D79: día | E79: Inspector de fabricacion montaje y pintura | F79: =+$F$11*G79 -> 237539.45 | G79: 2.2

Sheet FORMULARIO AIU
B1: =+PPTO!A1 -> PRESUPUESTO PAVIMENTO CALLE URBANA EN EL MUNICIPIO DE ANORI DEPARTAMENTO DE ANTOQUIA
B2: =+[15]PRESTACIONES!$B$2 -> PRESUPUESTO
B3: FORMULARIO AIU
A5: DISCRIMINACIÓN A.I.U. (ADMINISTRACIÓN, IMPREVISTOS Y UTILIDADES)
A7: No. | B7: DESCRIPCION | C7: CANT | D7: VALOR MENSUAL | E7: % PREST | F7: DEDICACIÓN | G7: MESES | H7: VALOR PARCIAL
A9: No. | B9: DESCRIPCION | C9: CANT | D9: VALOR MENSUAL | E9: % PREST | F9: DEDICACIÓN | G9: MESES | H9: VALOR PARCIAL
A11: 1 | B11: PERSONAL PROFESIONAL Y TÉCNICO | H11: =+SUM(H12:H16) -> 89669424
B12: Profesional Director de Obra | C12: 1 | D12: 6420000 | E12: 1.58 | F12: 0.5 | G12: 4 | H12: =+ROUND(C12*D12*E12*F12*G12,0) -> 20287200
B13: Profesional Residente de obra | C13: 1 | D13: 4815000 | E13: 1.58 | F13: 1 | G13: 4 | H13: =+ROUND(C13*D13*E13*F13*G13,0) -> 30430800
B14: Tecnólogo Social | C14: 1 | D14: 3424000 | E14: 1.58 | F14: 0.3 | G14: 4 | H14: =+ROUND(C14*D14*E14*F14*G14,0) -> 6491904
B15: Tecnólogo Ambiental | C15: 1 | D15: 3424000 | E15: 1.58 | F15: 0.5 | G15: 4 | H15: =+ROUND(C15*D15*E15*F15*G15,0) -> 10819840
B16: Tecnólogo SST | C16: 1 | D16: 3424000 | E16: 1.58 | F16: 1 | G16: 4 | H16: =+ROUND(C16*D16*E16*F16*G16,0) -> 21639680
A17: 2 | B17: PERSONAL TECNICO NO PROFESIONAL | H17: =+SUM(H18:H19) -> 28835400
B18: Encargado de Campamento (nocturno), incluye horas extras recargos nocturnos, prestaciones sociales, costos operativos inherentes al servicio y demás prestaciones de ley | C18: 1 | D18: 2369000 | E18: 1.65 | F18: 1 | G18: 4 | H18: =+ROUND(C18*D18*E18*F18*G18,0) -> 15635400
B19: Almacenista | C19: 1 | D19: 2000000 | E19: 1.65 | F19: 1 | G19: 4 | H19: =+ROUND(C19*D19*E19*F19*G19,0) -> 13200000
A20: 3 | B20: GASTOS DE OFICINA CENTRAL | H20: =+SUM(H21:H22) -> 1320000
B21: Secretaria oficina central | C21: 1 | D21: 2000000 | E21: 1.65 | F21: 0.05 | G21: 4 | H21: =+ROUND(C21*D21*E21*F21*G21,0) -> 660000
B22: Mensajero | C22: 1 | D22: 2000000 | E22: 1.65 | F22: 0.05 | G22: 4 | H22: =+ROUND(C22*D22*E22*F22*G22,0) -> 660000
A23: 4 | B23: INSTALACIONES PROVISIONALES | H23: =+SUM(H24:H25) -> 6050000
B24: Oficina (Incluye arrendamiento y servicios públicos) Mensual | C24: 1 | D24: 1300000 | E24: 1 | G24: 4 | H24: =+ROUND(C24*D24*E24*G24,0) -> 5200000
B25: Dotacion de oficinas (muebles y enseres) Durante toda la obra | C25: 1 | D25: 850000 | E25: 1 | G25: 1 | H25: =+ROUND(C25*D25*E25*G25,0) -> 850000
A26: 5 | B26: SISTEMAS DE CÓMPUTO Y COMUNICACIÓN | H26: =+SUM(H27:H29) -> 6400000
B27: Computador B (Con office) Mensual | C27: 5 | D27: 200000 | E27: 1 | G27: 4 | H27: =+ROUND(C27*D27*E27*G27,0) -> 4000000
B28: Impresora (una sola vez afectada unicamente por la dedicación) | C28: 1 | D28: 300000 | E28: 1 | G28: 4 | H28: =+ROUND(C28*D28*E28*G28,0) -> 1200000
B29: Comunicaciones (Telefono, celular, fax, Internet, etc.) Mensual | C29: 2 | D29: 150000 | E29: 1 | G29: 4 | H29: =+ROUND(C29*D29*E29*G29,0) -> 1200000
A30: 6 | B30: PAPELERIA Y OTROS COSTOS | H30: =+SUM(H31:H32) -> 1350000
B31: Elaboración y entrega de planos record (unidad) | C31: 5 | D31: 150000 | E31: 1 | G31: 1 | H31: =+ROUND(C31*D31*E31,0) -> 750000
B32: Papeleria Mensual, fotocopias, edición informes, registros fotográficos entre otros | C32: 1 | D32: 150000 | E32: 1 | G32: 4 | H32: =+ROUND(C32*D32*E32*G32,0) -> 600000
A33: 7 | B33: INVERSION AMBIENTAL | H33: =+H34 -> 18604161
B34: Según anexo Formulario 7. | H34: =ROUND(+PMA!G36,0) -> 18604161
A37: 9 | B37: LABORATORIO | H37: =+H38 -> 4900000
B38: Ensayos de laboratorio (incluye diseños de mezclas para concreto, fallo de cilindros de concreto, ensayo de proctor modificado, ensayos a elementos prefabricados, ensayos de resistencia al acero de refuerzo y estructuras metálicas y todos los ensayos y diseños necesarios para la correcta ejecucion y funcionamiento de las obras. | C38: global | D38: 4900000 | H38: =+ROUND(D38,0) -> 4900000
A39: 10 | B39: GASTOS LEGALIZACIÓN DEL CONTRATO | H39: =H40 -> 31457557
B40: Pólizas | C40: 1 | H40: =ROUND(POLIZA!G19,0) -> 31457557
A41: 11 | B41: OTROS GASTOS | H41: =+H42 -> 228188612
B42: Otros gastos (Impuestos) Incluye: - 4% Estampilla de adulto Mayor - 1% pro hospital - 2,5% Estampilla Pro-deporte y Recreación - 1,5% Estampilla pro cultura - 5% Fondo de seguridad - 8x1000 Rética a contrato (5%) | C42: 0.148 | H42: =+ROUND(C42*H45,0) -> 228188612
B43: SUBTOTAL DE COSTOS DE ADMINISTRACION | H43: =+H41+H39+H37+H35+H33+H30+H26+H23+H20+H17+H11 -> 416775154
B44: COSTOS DIRECTO (Obra Civil) | H44: =+PPTO!F16 -> 1541814947
B45: COSTO DIRECTO TOTAL | H45: =+H44 -> 1541814947
B46: ADMINISTRACION | C46: =+H43/H45 -> 0.27031464 | H46: =+ROUND(C46*H45,0) -> 416775154
...

Sheet POLIZA
B2: PAVIMENTO CALLE URBANA EN EL MUNICIPIO DE ANORI DEPARTAMENTO DE ANTOQUIA
B3: VALOR GASTOS LEGALIZACION
B5: VALOR DEL CONTRATO ( $ ) | C5: =PPTO!F16*1.27 -> 1.958105e+09
B6: PLAZO DEL CONTRATO (Dias) | C6: 120
B7: ANTICIPO | C7: 0.4
B9: TIPO DE GARANTÍA | C9: VALOR ASEGURADO | E9: COBERTURA ( Dias ) | F9: TASA anual | G9: PRIMA
C10: % | D10: VALOR
B11: Cumplimiento | C11: 0.2 | D11: =C5*C11 -> 3.91621e+08 | E11: =C6+(6*30) -> 300 | F11: 0.005 | G11: =(D11*F11)/360*E11 -> 1631754.2
B12: Buen Manejo y Correcta Inversión del Anticipo | C12: 100% del anticipo | D12: =C5*C7 -> 7.8324199e+08 | E12: =C6+(6*30) -> 300 | F12: 0.005 | G12: =(D12*F12)/360*E12 -> 3263508.3
B13: Salarios y Prestaciones Sociales | C13: 0.2 | D13: =$C$5*C13 -> 3.91621e+08 | E13: =C6+(3*360) -> 1200 | F13: 0.005 | G13: =(D13*F13)/360*E13 -> 6527016.6
B14: Estabilidad y Calidad de la Obras | C14: 0.2 | D14: =$C$5*C14 -> 3.91621e+08 | E14: =C6+(5*360) -> 1920 | F14: 0.005 | G14: =(D14*F14)/360*E14 -> 10443227
B15: Responsabilidad Civil | C15: 2000 SMMLV | D15: =2000*[105]PRESTACIONES!D11 -> 2600000000 | E15: =C6 -> 120 | F15: 0.005 | G15: =(D15*F15)/360*E15 -> 4333333.3
B16: Subtotal Prima | G16: =SUM(G11:G15) -> 26198839
B17: Gastos de expedición | G17: 236083 | I17: =+'FORMULARIO AIU'!K46 -> 0
B18: I.V.A. | G18: =ROUND((G16+G17)*19%,0) -> 5022635
B19: TOTAL POLIZAS | G19: =ROUND(SUM(G16:G18),0) -> 31457557
B21: Relación | C21: =G19/C5 -> 0.016065307
B23: Nota: Debido a que la mayoría de las obras a ejecutar no representan un mayor riesgo para la comunidad, ya que son obras menores, no se considera necesario tener en cuenta la póliza Todo Riesgo en Construcción.

Sheet PMT
B2: =+POLIZA!B2 -> PAVIMENTO CALLE URBANA EN EL MUNICIPIO DE ANORI DEPARTAMENTO DE ANTOQUIA
B4: PLAN DE MANEJO DE TRANSITO - PMT
B6: SEÑAL | C6: CATIDAD | D6: PRECIO UNITARIO | E6: PRECIO TOTAL
B7: Elaboracion de diseño de PMT, para el proyecto | C7: 1 | D7: 2500000 | E7: =+C7*D7 -> 2500000
B8: Máxima velocidad: poste reglamentario mas aviso | C8: 3 | D8: 255400 | E8: =+C8*D8 -> 766200
B9: Vía cerrada: poste reglamentario mas aviso | C9: 3 | D9: 255400 | E9: =+C9*D9 -> 766200
B10: Hombres trabajando con tablero y tripode | C10: 3 | D10: 365832 | E10: =+C10*D10 -> 1097496
B11: Maquinaría en la vía con tablero y tripode | C11: 3 | D11: 365832 | E11: =+C11*D11 -> 1097496
B12: Proyección de gravilla con tablero y tripode | C12: 3 | D12: 365832 | E12: =+C12*D12 -> 1097496
B13: Conos PVC cinta reflectiva H = 70 cm | C13: 10 | D13: 46800 | E13: =+C13*D13 -> 468000
B14: Delineadores compuestos (balizas)+ 3ml cinta de peligro | C14: 20 | D14: 48560 | E14: =+C14*D14 -> 971200
B15: Paletas abanderados, material plástico y fibra | C15: 4 | D15: 40333.333 | E15: =+C15*D15 -> 161333.33
B16: SUBTOTAL | E16: =ROUND(SUM(E7:E15),0) -> 8925421
D17: IVA (19%) | E17: =E16*0.19 -> 1695830
D18: TOTAL | E18: =SUM(E16:E17) -> 10621251

Sheet PMA
B2: =+PMT!B2 -> PAVIMENTO CALLE URBANA EN EL MUNICIPIO DE ANORI DEPARTAMENTO DE ANTOQUIA
B3: INVERSIÓN AMBIENTAL OFICIAL
B4: FORMULARIO 7
B6: ITEM | C6: DESCRIPCION | D6: UNIDAD | E6: CANTIDAD | F6: VALOR UNITARIO | G6: VALOR TOTAL
B7: 1 | C7: GESTIÓN SOCIAL
B8: 1.1 | C8: Información y divulgación volantes | D8: un | E8: 50 | F8: 400 | G8: =+E8*F8 -> 20000
B9: 1.2 | C9: Buzón de sugerencia PQR | D9: un | E9: 1 | F9: 200000 | G9: =+E9*F9 -> 200000
B10: 2 | C10: GESTIÓN AMBIENTAL (Manejo de Residuos Sólidos)
B11: 2.2 | C11: Canecas de 5 galones (1 juego de tres recipientes, considerar campamento y frentes de obra) | D11: un | E11: 2 | F11: 16972 | G11: =+E11*F11 -> 33944
B12: 2.3 | C12: Plástico negro calibre 4 ancho de 2 m | D12: kg | E12: 150 | F12: 4476.6667 | G12: =+E12*F12 -> 671500
B13: 2.4 | C13: Canecas de 55 galones (1 juego de tres recipientes, considerar campamento y frentes de obra) | D13: un | E13: 2 | F13: 100254 | G13: =+E13*F13 -> 200508
B14: 2.5 | C14: Baños portatiles | D14: un | E14: 2 | F14: =5000000*1.19 -> 5950000 | G14: =+E14*F14 -> 11900000
B15: 3 | C15: SEGURIDAD Y SALUD EN EL TRABAJO (SST)
B16: 3.1 | C16: Ubicación y dotación de campamentos
B17: 3.1.1 | C17: Señales de oficina - avisos en poliestileno de 30 x 50 cm (uso de EPP, extintor, camilla, botiquín, salida de evacuación, sustancias peligrosas, etc) | D17: un | E17: 10 | F17: 18540 | G17: =+E17*F17 -> 185400
B18: 3.1.2 | C18: Camilla rígida en madera 180 mts x 0.45 mts* | D18: un | E18: 2 | F18: 174200 | G18: =+E18*F18 -> 348400
B19: 3.1.3 | C19: Extintor ABC 10 LB (mas dos recargas) | D19: un | E19: 2 | F19: 93223.333 | G19: =+E19*F19 -> 186446.67
B20: 3.1.4 | C20: Botiquín cruz roja de primeros auxilios ref 115 en lona | D20: un | E20: 2 | F20: 55755.333 | G20: =+E20*F20 -> 111510.67
B21: 3.2 | C21: Demarcación del área de trabajos
B22: 3.2.1 | C22: Estacón en madera común, para instalación de malla verde | D22: un | E22: 90 | F22: 6600 | G22: =+E22*F22 -> 594000
B23: 3.2.2 | C23: Malla verde para protección | D23: m | E23: =+E22*2.5 -> 225 | F23: 1603.3333 | G23: =+E23*F23 -> 360750
B24: 3.3 | C24: Transporte de personal, Materiales y Equipos
B25: 3.3.1 | C25: Lona para vehículo (volqueta o camión) de 1,50 x 0,80 m, impresión injekt resistente a la intemperie | D25: un | E25: 4 | F25: 48917.333 | G25: =+E25*F25 -> 195669.33
B26: 3.4 | C26: Dotación
B27: 3.4.1 | C27: Botas caucho | D27: par | E27: 20 | F27: 35850 | G27: =+E27*F27 -> 717000
B28: 3.4.2 | C28: Chalecos reflectivos para obreros | D28: un | E28: =+E27 -> 20 | F28: 12000 | G28: =+E28*F28 -> 240000
B29: 3.4.3 | C29: Abrigos plásticos | D29: un | E29: =+E28 -> 20 | F29: 41520 | G29: =+E29*F29 -> 830400
B30: 3.4.4 | C30: Capas plásticas | D30: un | E30: =+E29 -> 20 | F30: 20000 | G30: =+E30*F30 -> 400000
B31: 3.4.5 | C31: Casco dielectrico amarillo | D31: un | E31: =+E30 -> 20 | F31: 25000 | G31: =+E31*F31 -> 500000
B32: 3.4.6 | C32: Casco de seguridad blanco tipo ingeniero | D32: un | E32: =+'[105]FORMULARIO 6'!D9+'[105]FORMULARIO 6'!D10+'[105]FORMULARIO 6'!D11+'[105]FORMULARIO 6'!D12+'[105]FORMULARIO 6'!D13+'[105]FORMULARIO 6'!D14+4 -> 10 | F32: 42500 | G32: =+E32*F32 -> 425000
B33: 3.5 | C33: Imagen institucional
B34: 3.5.1 | C34: Chalecos para ingenieros y tecnologos | D34: un | E34: =+'[105]FORMULARIO 6'!D9+'[105]FORMULARIO 6'!D10+'[105]FORMULARIO 6'!D11+'[105]FORMULARIO 6'!D12+'[105]FORMULARIO 6'!D13+'[105]FORMULARIO 6'!D14 -> 6 | F34: 63038.667 | G34: =+F34*E34 -> 378232
B35: 3.5.2 | C35: Carné Trabajadores | D35: un | E35: 20 | F35: 5270 | G35: =+F35*E35 -> 105400
C36: SUBTOTAL INVERSION AMBIENTAL | G36: =ROUND(SUM(G8:G35),0) -> 18604161
F37: IVA (19%) | G37: =G36*0.19 -> 3534790.6
F38: TOTAL | G38: =SUM(G36:G37) -> 22138952
B40: OBSERVACIONES:

Sheet FORM-INTER
A1: MUNICIPIO
A2: INTERVENTORÍA TÉCNICA, ADMINISTRATIVA, FINANCIERA, LEGAL Y AMBIENTAL
A3: PRESUPUESTO INTERVENTORÍA
A4: ITEM | B4: CARGO/OFICIO | C4: CANTIDAD | D4: SUELDO Y/O TARIFA MENSUAL | E4: DEDICACIÓN | F4: DURACIÓN (Mes) | G4: VALOR PARCIAL ($)
A5: A. | B5: COSTOS DIRECTOS DE PERSONAL
A6: 1 | B6: Personal Profesional
A7: 1.1 | B7: DIRECTOR DE INTERVENTORÍA | C7: 1 | D7: 6420000 | E7: 0.5 | F7: 5 | G7: =IFERROR(IF(C7="","-",D7*E7*F7*C7),0) -> 16050000
A8: 1.2 | B8: RESIDENTE DE INTERVENTORÍA | C8: 1 | D8: 4815000 | E8: 1 | F8: 5 | G8: =IFERROR(IF(C8="","-",D8*E8*F8*C8),0) -> 24075000
A9: 1.5 | B9: TECNOLOGO SOCIAL | C9: 1 | D9: 3424000 | E9: 0.3 | F9: 5 | G9: =IFERROR(IF(C9="","-",D9*E9*F9*C9),0) -> 5136000
A10: 1.6 | B10: TECNOLOGO AMBIENTAL | C10: 1 | D10: 3424000 | E10: 0.5 | F10: 5 | G10: =IFERROR(IF(C10="","-",D10*E10*F10*C10),0) -> 8560000
A11: 1.7 | B11: TECNOLOGO SST | C11: 1 | D11: 3424000 | E11: 1 | F11: 5 | G11: =IFERROR(IF(C11="","-",D11*E11*F11*C11),0) -> 17120000
B12: Subtotal Costos Directos de Personal | G12: =SUM(G7:G11) -> 70941000
F13: ARL | G13: MAS DE 2 SMMLV - RIEGO V
C14: FACTOR MULTIPLICADOR | G14: =+'FACTOR XDOR'!F35 -> 1.75
F15: TOTAL COSTOS DE PERSONAL INCLUIDO FACTOR MUTIPLICADOR (A) | G15: =G12*G14 -> 124146750
A16: B. | B16: OTROS COSTOS
B17: DESCRIPCIÓN | C17: UNIDAD | D17: CANTIDAD | E17: VALOR UNITARIO | F17: DURACION | G17: VALOR PARCIAL ($)
A18: 1 | B18: PAPELERIA Y COPIAS | C18: mes | D18: 1 | E18: 100000 | F18: 5 | G18: =IFERROR(IF(D18="","-",D18*E18*F18),0) -> 500000
A19: 2 | B19: SERVICIOS PUBLICOS (Incluye energia, agua e internet) | C19: mes | D19: 1 | E19: 150000 | F19: 5 | G19: =IFERROR(IF(D19="","-",D19*E19*F19),0) -> 750000
A20: 3 | B20: ALQUILER OFICINA CENTRAL | C20: mes | D20: 1 | E20: 700000 | F20: 5 | G20: =IFERROR(IF(D20="","-",D20*E20*F20),0) -> 3500000
A21: 5 | B21: EQUIPOS DE COMPUTO Y MUEBLES | C21: mes | D21: 5 | E21: 100000 | F21: 5 | G21: =IFERROR(IF(D21="","-",D21*E21*F21),0) -> 2500000
A22: 6 | B22: POLIZAS | C22: GB | E22: =IFERROR('POL INTERV'!H22,"") -> 2964930 | G22: =IFERROR(IF(E22="","",E22),0) -> 2964930
G23: =IFERROR(IF(D23="","-",D23*E23*F23),0) -> -
G24: =IFERROR(IF(D24="","-",D24*E24*F24),0) -> -
B26: SUBTOTAL OTROS COSTOS DIRECTOS (B+C) | G26: =SUM(G18:G22) -> 10214930
F28: TOTAL COSTOS DE PERSONAL + OTROS COSTOS DIRECTOS (A+B+C) | G28: =G15+G26 -> 134361680
E29: IVA% | F29: 0.19 | G29: =G28*F29 -> 25528719
F30: VALOR TOTAL DE LA OFERTA INCLUIDO EL IVA | G30: =G28+G29 -> 1.598904e+08

Sheet FACTOR XDOR
A1: FACTOR MULTIPLICADOR INTERVENTORÍA
E2: RIESGO | F2: VI | G2: RIESGO | H2: I | I2: RIESGO | J2: V
E3: MAS DE 2 SMMLV | G3: HASTA DE 2 SMMLV | I3: HASTA DE 2 SMLV
A5: ITEM | B5: DESCRIPCION | E5: PORCENTAJE PARCIAL | F5: PORCENTAJE TOTAL | G5: PORCENTAJE PARCIAL | H5: PORCENTAJE TOTAL | I5: PORCENTAJE PARCIAL | J5: PORCENTAJE TOTAL
A6: A | B6: SALARIO BÁSICO | F6: =SUM(E7) -> 100 | H6: =SUM(G7) -> 100 | J6: =SUM(I7) -> 100
B7: Nómina Total Mensual | E7: 100 | G7: 100 | I7: 100
A9: B | B9: PRESTACIONES SOCIALES | F9: =SUM(E10:E25) -> 59.54 | H9: =SUM(G10:G25) -> 69.499877 | J9: =SUM(I10:I25) -> 75.939877
B10: AUXILIO TRANSPORTE | G10: 14.049877 | I10: 14.049877
B11: CESANTIAS | E11: 8.33 | G11: 8.33 | I11: 8.33
B12: INT. CESANTIAS | E12: 1 | G12: 1 | I12: 1
B13: PRIMA | E13: 8.33 | G13: 8.33 | I13: 8.33
B14: VACACIONES | E14: 4.17 | G14: 4.17 | I14: 4.17
B15: SENA | E15: 2 | G15: 2 | I15: 2
B16: ICBF | E16: 3 | G16: 3 | I16: 3
B17: CAJAS | E17: 4 | G17: 4 | I17: 4
B18: FIC | E18: 0.25 | G18: 0.25 | I18: 0.25
B19: SALUD | E19: 8.5 | G19: 8.5 | I19: 8.5
B20: PENSIONES | E20: 12 | G20: 12 | I20: 12
B21: ARP | E21: 6.96 | G21: 0.52 | I21: 6.96
B22: DOTACIÓN | E22: 1 | G22: 3.35 | I22: 3.35
B23: Examenes médicosingreso y retiro
A27: C | B27: COSTOS INDIRECTOS ADMINISTRATIVOS | F27: =+E28 -> 0 | H27: =+G28 -> 0 | J27: =+I28 -> 0
A29: D | B29: COSTOS DE TASAS Y CONTRIBUCIONES (A+B)* | F29: =SUM(E30:E31) -> 0 | H29: =SUM(G30:G31) -> 0 | J29: =SUM(I30:I31) -> 0
A32: E | B32: HONORARIOS (UTILIDADES) 10% de (A+B+C+D) | C32: 0.1 | D32: (A+B+C) | F32: =(F29+F9+F6)*C32 -> 15.954 | H32: =(H29+H9+H6)*C32 -> 16.949988 | J32: =(J29+J9+J6)*C32 -> 17.593988
B33: TOTAL A+B+C+D | E33: Redondeado | F33: =+ROUND(SUM(F6:F32),0) -> 175 | G33: Redondeado | H33: =+ROUND(SUM(H6:H32),0) -> 186 | I33: Redondeado | J33: =+ROUND(SUM(J6:J32),0) -> 194
A35: FACTOR MULTIPLICADOR % | F35: =F33/100 -> 1.75 | H35: =H33/100 -> 1.86 | J35: =J33/100 -> 1.94

Sheet POL INTERV
B2: DEPARTAMENTO DE ANTIOQUIA
B3: 0
B4: INTERVENTORÍA TÉCNICA, ADMINISTRATIVA, FINANCIERA, LEGAL Y AMBIENTAL PARA PAVIMENTO CALLE URBANA EN EL MUNICIPIO DE ANORI DEPARTAMENTO DE ANTOQUIA
B6: CÁLCULO DE PÓLIZAS DE INTERVENTORÍA
B8: VALOR DEL CONTRATO ( $ ) | C8: ='FORM-INTER'!G15*1.2879 -> 1.598886e+08 | D8: =+IFERROR(C8/C18,"") -> 112.32076
B9: PLAZO DEL CONTRATO | C9: =+'FORM-INTER'!$F$8 -> 5 | D9: =+IFERROR(C9*30,"") -> 150
B12: TIPO DE GARANTÍA | C12: VALOR ASEGURADO | F12: COBERTURA ( DÍAS ) | G12: TASA ANUAL | H12: PRIMA
C13: % | D13: BASE | E13: VALOR
B14: CUMPLIMIENTO | C14: 0.2 | D14: =+$C$8 -> 1.598886e+08 | E14: =+IFERROR(C14*D14,"") -> 31977720 | F14: =+IFERROR($D$9+180,"") -> 330 | G14: 0.002 | H14: =+IFERROR(G14*E14*F14/360,"") -> 58625.82
B15: SALARIOS Y PRESTACIONES SOCIALES | C15: 0.2 | D15: =+$C$8 -> 1.598886e+08 | E15: =+IFERROR(C15*D15,"") -> 31977720 | F15: =+IFERROR($D$9+1080,"") -> 1230 | G15: 0.0015 | H15: =+IFERROR(G15*E15*F15/360,"") -> 163885.81
B16: CALIDAD DEL SERVICIO | C16: 0.2 | D16: =+$C$8 -> 1.598886e+08 | E16: =+IFERROR(C16*D16,"") -> 31977720 | F16: =+IF($C$8="","",1800) -> 1800 | G16: 0.0022 | H16: =+IFERROR(G16*E16*F16/360,"") -> 351754.92
B17: DECRETO 1082 SMMLV RESPONSABILIDAD CIVIL | C17: SMMLV | D17: MONTO ASEGURABLE | F17: PLAZO MESES | G17: TASA ANUAL | H17: PRIMA
B18: =IF(C8="","",IF(D8<=1500,200,IF(D8<=2500,300,IF(D8<=5000,400,IF(D8<=10000,500,"5%"))))) -> 200 | C18: 1423500 | D18: =+IFERROR(IF(D8>10000,D8+5%,B18*C18),"") -> 284700000 | F18: =+$C$9 -> 5 | G18: 0.002 | H18: =+IFERROR(G18*F18*D18/12,"") -> 237250
B19: SUBTOTAL PRIMA | H19: =IFERROR(ROUND(IF(SUM(H14:H16,H18)=0,"",SUM(H14:H16,H18)),0),"") -> 811517
B20: GASTOS DE EXPEDICIÓN | H20: =IFERROR(ROUND(IF(SUM(H15:H17,H19)=0,"",SUM(H15:H17,H19)),0),"") -> 1327158
B21: I.V.A. | H21: =IFERROR(ROUND(IF(SUM(H16:H18,H20)=0,"",SUM(H16:H18,H20)),0),"") -> 1916163
B22: TOTAL POLIZAS | H22: =IFERROR(ROUND(IF(SUM(H17:H19,H21)=0,"",SUM(H17:H19,H21)),0),"") -> 2964930
B23: % DEL COSTO DIRECTO DEL PERSONAL | H23: =+IFERROR(ROUND(H22/#REF!,4),"")
