Workbook

Sheet Necesidades
A1: 5. OFERTA TECNICA ECONOMICA El suscrito, obrando en representación de __________________________, ofrezco contratar con el Centro del Diseño y Manufactura del Cuero del Servicio Nacional de Aprendizaje SENA Regional Antioquia, cuyo objeto es: 5_9201_166 PRESTAR EL SERVICIO DE TRANSPORTE PARA EL DESPLAZAMIENTO DE LOS APRENDICES DENTRO Y FUERA DEL ÁREA METROPOLITANA QUE PARTICIPAN DE LAS ACTIVIDADES PROGRAMADAS EN EL PLAN DE BIENESTAR AL APRENDIZ, PERTENECIENTES AL CENTRO DEL DISEÑO Y MANUFACTURA DEL CUERO.
A2: CODIGO UNSPSC | B2: ITEM | C2: RUTA DE IDA | E2: RUTA DE REGRESO | G2: VEHÍCULO (CAPACIDAD -PERSONAS) | H2: VALOR PRECIO TECHO | I2: VALOR OFERTADO POR EL PROVEEDOR
A3: 78111803 | B3: 1 | C3: ITAGUI | D3: AMAGA | E3: AMAGA | F3: ITAGUI | G3: 20 | H3: 1026587 | I3: 0
A4: 78111803 | B4: 2 | C4: ITAGUI | D4: AMAGA | E4: AMAGA | F4: ITAGUI | G4: 40 | H4: 1192042.3 | I4: 0
A5: 78111803 | B5: 3 | C5: ITAGUI | D5: BARBOSA | E5: BARBOSA | F5: ITAGUI | G5: 20 | H5: 1072568.3 | I5: 0
A6: 78111803 | B6: 4 | C6: ITAGUI | D6: BARBOSA | E6: BARBOSA | F6: ITAGUI | G6: 40 | H6: 1257754.7 | I6: 0
A7: 78111803 | B7: 5 | C7: ITAGUI | D7: BELLO | E7: BELLO | F7: ITAGUI | G7: 20 | H7: 740499 | I7: 0
A8: 78111803 | B8: 6 | C8: ITAGUI | D8: BELLO | E8: BELLO | F8: ITAGUI | G8: 40 | H8: 862933 | I8: 0
A9: 78111803 | B9: 7 | C9: ITAGUI | D9: CALDAS | E9: CALDAS | F9: ITAGUI | G9: 20 | H9: 731688.33 | I9: 0
A10: 78111803 | B10: 8 | C10: ITAGUI | D10: CALDAS | E10: CALDAS | F10: ITAGUI | G10: 40 | H10: 860548 | I10: 0
A11: 78111803 | B11: 9 | C11: ITAGUI | D11: CISNEROS | E11: CISNEROS | F11: ITAGUI | G11: 20 | H11: 1557430.3 | I11: 0
A12: 78111803 | B12: 10 | C12: ITAGUI | D12: CISNEROS | E12: CISNEROS | F12: ITAGUI | G12: 40 | H12: 1714989 | I12: 0
A13: 78111803 | B13: 11 | C13: ITAGUI | D13: COCORNÁ | E13: COCORNÁ | F13: ITAGUI | G13: 20 | H13: 1593638 | I13: 0
A14: 78111803 | B14: 12 | C14: ITAGUI | D14: COCORNÁ | E14: COCORNÁ | F14: ITAGUI | G14: 40 | H14: 1924165.3 | I14: 0
... A60: 78111803 | B60: 58 | C60: ITAGUI | D60: VENECIA | E60: VENECIA | F60: ITAGUI | G60: 40 | H60: 1606958 | I60: 0
A61: VALOR TOTAL | H61: =SUM(H3:H60) -> 68897893 | I61: =SUM(I3:I60) -> 0
B65: Nombre o Razón Social del Proponente: ___________________________ NIT ___________________________________________________________ Nombre del Representante Legal: _________________________________ C. C. Nº ___________________________ de__________________________ FIRMA: ________________________________________________________

Sheet POD
A1: PRESUPUESTO OFICIAL DISPONIBLE
A2: Lote No. | B2: Valor POD | C2: Asignación | D2: Necesidades | E2: Diferencia
A3: =Necesidades!#REF! -> #REF! | B3: 54281811 | C3: 246300000 | D3: =SUM(B3:B5) -> #REF! | E3: =C3-D3 -> #REF!
A4: =Necesidades!#REF! -> #REF! | B4: =Necesidades!#REF! -> #REF!
A5: =Necesidades!#REF! -> #REF! | B5: 47999717
A6: =Necesidades!#REF! -> #REF! | B6: =Necesidades!#REF! -> #REF! | C6: 124375329 | D6: =SUM(B6:B12) -> #REF! | E6: =C6-D6 -> #REF!
A7: =Necesidades!#REF! -> #REF! | B7: =Necesidades!#REF! -> #REF!
A8: =Necesidades!#REF! -> #REF! | B8: =Necesidades!#REF! -> #REF!
A9: =Necesidades!#REF! -> #REF! | B9: =Necesidades!#REF! -> #REF!
A10: =Necesidades!#REF! -> #REF! | B10: =Necesidades!#REF! -> #REF!
A11: =Necesidades!#REF! -> #REF! | B11: =Necesidades!#REF! -> #REF!
A12: =Necesidades!#REF! -> #REF! | B12: =Necesidades!#REF! -> #REF!
A13: =Necesidades!#REF! -> #REF! | B13: =Necesidades!#REF! -> #REF! | C13: 47014153 | D13: =SUM(B13:B15) -> #REF! | E13: =C13-B13-B14-B15-B16-B17 -> #REF!
A14: =Necesidades!#REF! -> #REF! | B14: =Necesidades!#REF! -> #REF!
A15: =Necesidades!#REF! -> #REF! | B15: =Necesidades!#REF! -> #REF!
A16: =Necesidades!#REF! -> #REF! | B16: =Necesidades!#REF! -> #REF! | F16: =E13-E16 -> #REF!
A17: =Necesidades!#REF! -> #REF! | B17: =Necesidades!#REF! -> #REF!
A18: =Necesidades!#REF! -> #REF! | B18: =Necesidades!#REF! -> #REF! | C18: 157000000 | D18: =SUM(B18:B24) -> #REF! | E18: =C18-D18 -> #REF!
A19: =Necesidades!#REF! -> #REF! | B19: =Necesidades!#REF! -> #REF!
A20: =Necesidades!#REF! -> #REF! | B20: =Necesidades!#REF! -> #REF!
A21: =Necesidades!#REF! -> #REF! | B21: =Necesidades!#REF! -> #REF!
A22: =Necesidades!#REF! -> #REF! | B22: =Necesidades!#REF! -> #REF!
A23: =Necesidades!#REF! -> #REF! | B23: =Necesidades!#REF! -> #REF!
A24: =Necesidades!#REF! -> #REF! | B24: =Necesidades!#REF! -> #REF!
A25: =Necesidades!#REF! -> #REF! | B25: =Necesidades!#REF! -> #REF! | C25: 40000000 | D25: =B25 -> #REF! | E25: =C25-D25 -> #REF!
B27: =SUM(B3:B25) -> #REF!

Sheet UNSPSC
A1: =POD!A3 -> #REF!
A2: 42121506 | B2: Sets de instrumentos quirúrgicos para uso veterinario | E2: UNSPSC – Decreto 1082 de 2015
A3: 42121801 | B3: Máquina para inseminación artificial | E3: ITEM | F3: GRUPO | G3: SEGMENTO | H3: FAMILIA | I3: CLASE
A4: 21102401 | B4: Equipo para apicultura | E4: 1 | F4: (E) Productos de Uso Final | G4: 42000000 | H4: 42120000 | I4: 42121500
A5: 42121604 | B5: Productos para el sistema musculo esquelético o nervioso para uso veterinario | E5: 2 | F5: (C) Maquinaria, Herramientas, Equipo Industrial y Vehìculos | G5: 21000000 | H5: 21100000 | I5: 21102400
A6: 42121602 | B6: Productos para sangre o formación de sangre para uso veterinario | E6: 3 | F6: (E) Productos de Uso Final | G6: 42000000 | H6: 42120000 | I6: 42121600
A7: 10101703 | B7: Tilapia viva | E7: 4 | F7: (A) Material Vivo Animal y Vegetal | G7: 10000000 | H7: 10100000 | I7: 10101700
A8: 10121702 | B8: Alimento granulado para peces | E8: 5 | F8: (A) Material Vivo Animal y Vegetal | G8: 10000000 | H8: 10120000 | I8: 10121700
A10: =POD!A4 -> #REF! | E10: UNSPSC – Decreto 1082 de 2015
A11: 10151502 | B11: Semillas o plántulas de zanahoria | E11: ITEM | F11: GRUPO | G11: SEGMENTO | H11: FAMILIA | I11: CLASE
A12: 10171608 | B12: Fertilizante micro elemento | E12: 1 | F12: (A) Material Vivo Animal y Vegetal | G12: 10000000 | H12: 10150000 | I12: 10151500
A13: 10191509 | B13: Insecticidas | E13: 2 | F13: (A) Material Vivo Animal y Vegetal | G13: 10000000 | H13: 10170000 | I13: 10171600
A14: 51211624 | B14: Antídoto y eméticos | E14: 3 | F14: (E) Productos de Uso Final | G14: 51000000 | H14: 51210000 | I14: 51211600
A15: 21101700 | B15: Maquinaria agrícola parta cosechr | E15: 4 | F15: (C) Maquinaria, Herramientas, Equipo Industrial y Vehìculos | G15: 21000000 | H15: 21100000 | I15: 21102300
A16: 21102305 | B16: Material para sombras para agricultura | E16: 5 | F16: (A) Material Vivo Animal y Vegetal | G16: 10000000 | H16: 10170000 | I16: 10171700
A17: 10171702 | B17: Fungicidas
A19: =Necesidades!#REF! -> #REF! | E19: UNSPSC – Decreto 1082 de 2015
A20: 12352207 | B20: Cultivos y fluidos | E20: ITEM | F20: GRUPO | G20: SEGMENTO | H20: FAMILIA | I20: CLASE
A21: 51102706 | B21: Antisepticos | E21: 1 | F21: (B) Materias Primas | G21: 12000000 | H21: 12350000 | I21: 12352200
A22: 50131600 | B22: Huevos y sustitutos | E22: 2 | F22: (E) Productos de Uso Final | G22: 51000000 | H22: 51100000 | I22: 51102700
A23: 50111500 | B23: Carne y aves del corral | E23: 3 | F23: (E) Productos de Uso Final | G23: 50000000 | H23: 50130000 | I23: 50131600
A24: 50201706 | B24: Café | E24: 4 | F24: (B) Materias Primas | G24: 12000000 | H24: 12350000 | I24: 12352200
A25: 12352207 | B25: Cultivos y fluidos | E25: 5 | F25: (E) Productos de Uso Final | G25: 50000000 | H25: 50160000 | I25: 50161500
A26: 50161509 | B26: Azucares naturales o productos endulzantes
A28: =Necesidades!#REF! -> #REF! | E28: UNSPSC – Decreto 1082 de 2015
A29: 46182306 | B29: Arneses o cinturones de seguridad | E29: ITEM | F29: GRUPO | G29: SEGMENTO | H29: FAMILIA | I29: CLASE
A30: 46181539 | B30: Guantes anti vibraciones | E30: 1 | F30: (E) Productos de Uso Final | G30: 46000000 | H30: 46180000 | I30: 46182300
E31: 2 | F31: (E) Productos de Uso Final | G31: 46000000 | H31: 46180000 | I31: 46181500
A32: =Necesidades!#REF! -> #REF!
A33: 41111621 | B33: Calibradores | E33: UNSPSC – Decreto 1082 de 2015
A34: 44101808 | B34: Calculadoras científicas | E34: ITEM | F34: GRUPO | G34: SEGMENTO | H34: FAMILIA | I34: CLASE
A35: 14111519 | B35: Papeles cartulina | E35: 1 | F35: (D) Componentes y suministros | G35: 41000000 | H35: 41110000 | I35: 41111600
A36: 41111502 | B36: Balanzas de laboratorio | E36: 2 | F36: (D) Componentes y suministros | G36: 44000000 | H36: 44100000 | I36: 44101800
A37: 60103109 | B37: Instrumentos de dibujo geométrico para la pizarra | E37: 3 | F37: (B) Materias Primas | G37: 14000000 | H37: 14110000 | I37: 14111500
A38: 60141101 | B38: Juegos educativos | E38: 4 | F38: (E) Productos de Uso Final | G38: 60000000 | H38: 60100000 | I38: 60103100
A39: 39121440 | B39: Cable de extensión eléctrica | E39: 5 | F39: (D) Componentes y suministros | G39: 39000000 | H39: 39120000 | I39: 39121400
A41: =Necesidades!#REF! -> #REF! | E41: UNSPSC – Decreto 1082 de 2015
A42: 50201706 | B42: Café | E42: ITEM | F42: GRUPO | G42: SEGMENTO | H42: FAMILIA | I42: CLASE
A43: 50161500 | B43: Chocolates, azucares, edulcorantes, productos | E43: 1 | F43: (D) Componentes y suministros | G43: 41000000 | H43: 41110000 | I43: 41115600
A44: 12352207 | B44: Cultivos y fluidos | E44: 2 | F44: (E) Productos de Uso Final | G44: 50000000 | H44: 50200000 | I44: 50201700
...

Sheet RUBROS
A1: DESPLAZADOS | G1: PRODUCCIÓN DE CENTROS
A2: 920610 | B2: C-3602-1300-7-0-3602031-02 | C2: NACIÓN | G2: 920634 | H2: C-3603-1300-14-0-3603025-02 | I2: PROPIOS
A3: 47014153 | G3: 157000000
A4: {=POD!A13:A15} -> #REF! | B4: {=POD!B13:B15} -> #REF! | C4: =SUM(_xlfn.ANCHORARRAY(B4)) -> #REF! | D4: Subsede | G4: {=POD!A18:A24} -> #REF! | H4: {=POD!B18:B24} -> #REF! | I4: Textil - Lab calidad
A5: #REF! | B5: #REF! | G5: #REF! | H5: #REF! | I5: Textil - TICS
A6: #REF! | B6: #REF! | G6: #REF! | H6: #REF! | I6: Subsede
A7: {=POD!A16:A17} -> #REF! | B7: {=POD!B16:B17} -> #REF! | C7: =SUM(_xlfn.ANCHORARRAY(B7)) -> #REF! | D7: Medellìn | G7: #REF! | H7: #REF!
A8: #REF! | B8: #REF! | G8: #REF! | H8: #REF!
B9: =A3-B4-B5-B6-B7-B8 -> #REF! | G9: #REF! | H9: #REF! | I9: Subsede TICS
G10: #REF! | H10: #REF! | I10: Lab calidad
H11: =G3-H4-H5-H6-H7-H8-H9-H10 -> #REF!
A12: FIC
A13: 920618 | B13: C-3603-1300-14-0-3603025-02 | C13: PROPIOS
A14: 40000000
A15: =POD!A25 -> #REF! | B15: =POD!B25 -> #REF!
A17: TOTAL | B17: =SUM(B15:B16) -> #REF! | G17: 920638 | H17: C-3602-1300-8-0-3602035-02 | I17: NACIÓN
A18: DIFERENCIA | B18: =A14-B17 -> #REF! | G18: 246300000
G19: =POD!A3 -> #REF! | H19: =POD!B3 -> 54281811
G20: =POD!A4 -> #REF! | H20: =POD!B4 -> #REF!
A21: REGULAR | G21: =POD!A5 -> #REF! | H21: =POD!B5 -> 47999717
A22: 920645 | B22: C-3603-1300-14-0-3603025-02 | C22: NACIÓN
A23: 124375329 | G23: TOTAL | H23: =SUM(H19:H22) -> #REF!
A24: =POD!A6 -> #REF! | B24: =POD!B6 -> #REF! | C24: =B24 -> #REF! | D24: TICS | G24: DIFERENCIA | H24: =G18-H23 -> #REF!
A25: =POD!A7 -> #REF! | B25: =POD!B7 -> #REF! | D25: Textil
A26: =POD!A8 -> #REF! | B26: =POD!B8 -> #REF! | C26: =SUM(B26:B29) -> #REF! | D26: subsede
A27: =POD!A9 -> #REF! | B27: =POD!B9 -> #REF!
A28: =POD!A10 -> #REF! | B28: =POD!B10 -> #REF!
A29: =POD!A11 -> #REF! | B29: =POD!B11 -> #REF!
A30: =POD!A12 -> #REF! | B30: =POD!B12 -> #REF! | C30: =B30+B25 -> #REF! | D30: Textil
B31: =A23-B24-B25-B26-B27-B28-B29-B30 -> #REF!
G32: NACIÓN | H32: =B4+B5+B6+B7+B8+H19+H20+H21+B24+B25+B26+B27+B28+B29+B30 -> #REF!
G33: PROPIOS | H33: =B15+H4+H5+H6+H7+H8+H9+H10 -> #REF!

Sheet ESTUDIO PREVIO AUMENTADO
A1: ESTUDIO DE MERCADO SUBASTA INVERSA DE MATERIALES DE FORMACIÓN
A3: Lote 1: Pecuario SER | E3: Lote 1: Pecuario SER
A4: TIPO | B4: CÓDIGO DE BIEN | C4: CODIGO ELEMENTO | D4: CÓDIGO UNSPSC | E4: ITEM | F4: DESCRIPCIÓN DEL ELEMENTOS | G4: UNIDAD DE MEDIDA | J4: CANTIDAD SOLICITADA | K4: COLANTA | N4: RED AGRO | Q4: IVANAGRO | T4: ARANGO HERMANOS | W4: AGROTRILLADORA | Z4: PROMEDIO
K5: VALOR UNITARIO | L5: % IVA | M5: VALOR TOTAL | N5: VALOR UNITARIO | O5: % IVA | P5: VALOR TOTAL | Q5: VALOR UNITARIO | R5: % IVA | S5: VALOR TOTAL | T5: VALOR UNITARIO | U5: % IVA | V5: VALOR TOTAL | W5: VALOR UNITARIO | X5: % IVA | Y5: VALOR TOTAL | Z5: VALOR UNITARIO | AA5: % IVA | AB5: VALOR TOTAL
A6: 5 | B6: 142121612 | C6: 245394 | D6: 42142609 | E6: 1 | F6: JERINGA 20ML | G6: UNIDAD | J6: 2000 | K6: 420 | L6: 0.19 | M6: =K6*J6 -> 840000 | N6: 744 | O6: 0.19 | P6: =N6*J6 -> 1488000 | Q6: 480 | R6: 0.19 | S6: =Q6*J6 -> 960000 | T6: 0 | U6: 0.19 | V6: =T6*J6 -> 0 | W6: 588 | X6: 0.19 | Y6: =W6*J6 -> 1176000 | Z6: =SUM(K6+N6+Q6+T6+W6)/4 -> 558 | AA6: 0.19 | AB6: =Z6*J6 -> 1116000
A7: 5 | B7: 142121612 | C7: 245394 | D7: 42142609 | E7: 2 | F7: JERINGA 10ML | G7: UNIDAD | J7: 2000 | K7: 275 | L7: 0.19 | M7: =K7*J7 -> 550000 | N7: 480 | O7: 0.19 | P7: =N7*J7 -> 960000 | Q7: 275 | R7: 0.19 | S7: =Q7*J7 -> 550000 | T7: 0 | U7: 0.19 | V7: =T7*J7 -> 0 | W7: 420 | X7: 0.19 | Y7: =W7*J7 -> 840000 | Z7: =SUM(K7+N7+Q7+T7+W7)/4 -> 362.5 | AA7: 0.19 | AB7: =Z7*J7 -> 725000
A8: 5 | B8: 142142521 | C8: 276090 | D8: 42142523 | E8: 3 | F8: AGUJA CALIBRE 16 x 11/2 | G8: UNIDAD | J8: 2000 | K8: 105 | L8: 0.19 | M8: =K8*J8 -> 210000 | N8: 99 | O8: 0.19 | P8: =N8*J8 -> 198000 | Q8: 105 | R8: 0.19 | S8: =Q8*J8 -> 210000 | T8: 0 | U8: 0.19 | V8: =T8*J8 -> 0 | W8: 126 | X8: 0.19 | Y8: =W8*J8 -> 252000 | Z8: =SUM(K8+N8+Q8+T8+W8)/4 -> 108.75 | AA8: 0.19 | AB8: =Z8*J8 -> 217500
A9: 5 | B9: 142121612 | C9: 254234 | D9: 42132203 | E9: 4 | F9: GUANTE DE PALPACION (OBSTETRICO) | G9: UNIDAD | J9: 2000 | K9: 200 | L9: 0.19 | M9: =K9*J9 -> 400000 | N9: 413 | O9: 0.19 | P9: =N9*J9 -> 826000 | Q9: 230 | R9: 0.19 | S9: =Q9*J9 -> 460000 | T9: 0 | U9: 0.19 | V9: =T9*J9 -> 0 | W9: 415 | X9: 0.19 | Y9: =W9*J9 -> 830000 | Z9: =SUM(K9+N9+Q9+T9+W9)/4 -> 314.5 | AA9: 0.19 | AB9: =Z9*J9 -> 629000
A10: 5 | B10: 142121611 | C10: 235254 | D10: 42121601 | E10: 5 | F10: OXITETRACICLINA MK | G10: FRASCO x 500ml | J10: 45 | K10: 31122 | L10: 0 | M10: =K10*J10 -> 1400490 | N10: 31783 | O10: 0 | P10: =N10*J10 -> 1430235 | Q10: 33000 | R10: 0 | S10: =Q10*J10 -> 1485000 | T10: 0 | U10: 0 | V10: =T10*J10 -> 0 | W10: 30300 | X10: 0 | Y10: =W10*J10 -> 1363500 | Z10: =SUM(K10+N10+Q10+T10+W10)/4 -> 31551.25 | AA10: 0 | AB10: =Z10*J10 -> 1419806.2
A11: 5 | B11: 142221903 | C11: 233742 | D11: 42142614 | E11: 6 | F11: VENOCLISIS (MACROGOTEO) | G11: UNIDAD | J11: 180 | K11: 1067 | L11: 0 | M11: =K11*J11 -> 192060 | N11: 1529 | O11: 0 | P11: =N11*J11 -> 275220 | Q11: 1197 | R11: 0 | S11: =Q11*J11 -> 215460 | T11: 0 | U11: 0 | V11: =T11*J11 -> 0 | W11: 1200 | X11: 0 | Y11: =W11*J11 -> 216000 | Z11: =SUM(K11+N11+Q11+T11+W11)/4 -> 1248.25 | AA11: 0 | AB11: =Z11*J11 -> 224685
A12: 5 | B12: 142121611 | C12: 238780 | D12: 42121601 | E12: 7 | F12: ALBENDAZOL | G12: FRASCO 100ml | J12: 50 | K12: 18721 | L12: 0 | M12: =K12*J12 -> 936050 | N12: 12337 | O12: 0 | P12: =N12*J12 -> 616850 | Q12: 18700 | R12: 0 | S12: =Q12*J12 -> 935000 | T12: 0 | U12: 0 | V12: =T12*J12 -> 0 | W12: 85700 | X12: 0 | Y12: =W12*J12 -> 4285000 | Z12: =SUM(K12+N12+Q12+T12+W12)/4 -> 33864.5 | AA12: 0 | AB12: =Z12*J12 -> 1693225
A13: 5 | B13: 142121611 | C13: 254936 | D13: 42121607 | E13: 8 | F13: CALFOSVIT | G13: FRASCO 250ml | J13: 50 | K13: 88073 | L13: 0 | M13: =K13*J13 -> 4403650 | N13: 101794 | O13: 0 | P13: =N13*J13 -> 5089700 | Q13: 103550 | R13: 0 | S13: =Q13*J13 -> 5177500 | T13: 0 | U13: 0 | V13: =T13*J13 -> 0 | W13: 93300 | X13: 0 | Y13: =W13*J13 -> 4665000 | Z13: =SUM(K13+N13+Q13+T13+W13)/4 -> 96679.25 | AA13: 0 | AB13: =Z13*J13 -> 4833962.5
A14: 5 | B14: 142121611 | C14: 284325 | D14: 42121602 | E14: 9 | F14: DEXTROSA AL 5% | G14: BOLSA x 500ml | J14: 150 | K14: 0 | L14: 0 | M14: =K14*J14 -> 0 | N14: 2571 | O14: 0 | P14: =N14*J14 -> 385650 | Q14: 3000 | R14: 0 | S14: =Q14*J14 -> 450000 | T14: 0 | U14: 0 | V14: =T14*J14 -> 0 | W14: 3400 | X14: 0 | Y14: =W14*J14 -> 510000 | Z14: =SUM(K14+N14+Q14+T14+W14)/3 -> 2990.3333 | AA14: 0 | AB14: =Z14*J14 -> 448550
A15: 5 | B15: 142121612 | C15: 235314 | D15: 42121801 | E15: 10 | F15: FUNDA PARA INSEMINACION BOVINOS | G15: PAQUETE x 50und | J15: 40 | K15: 9716 | L15: 0 | M15: =K15*J15 -> 388640 | N15: 14013 | O15: 0 | P15: =N15*J15 -> 560520 | Q15: 12800 | R15: 0 | S15: =Q15*J15 -> 512000 | T15: 0 | U15: 0 | V15: =T15*J15 -> 0 | W15: 15000 | X15: 0 | Y15: =W15*J15 -> 600000 | Z15: =SUM(K15+N15+Q15+T15+W15)/4 -> 12882.25 | AA15: 0 | AB15: =Z15*J15 -> 515290
A16: 5 | B16: 142121612 | C16: 252520 | D16: 42121801 | E16: 11 | F16: CATETER DE INSEMINACION BOVINOS | G16: PAQUETE x 25und | J16: 40 | K16: 13682 | L16: 0 | M16: =K16*J16 -> 547280 | N16: 0 | O16: 0 | P16: =N16*J16 -> 0 | Q16: 12550 | R16: 0 | S16: =Q16*J16 -> 502000 | T16: 0 | U16: 0 | V16: =T16*J16 -> 0 | W16: 17800 | X16: 0 | Y16: =W16*J16 -> 712000 | Z16: =SUM(K16+N16+Q16+T16+W16)/3 -> 14677.333 | AA16: 0 | AB16: =Z16*J16 -> 587093.33
A17: 5 | B17: 142121612 | C17: 247869 | D17: 10111300 | E17: 12 | F17: CINTA BOVIMETRICA | G17: UNIDAD | J17: 15 | K17: 24730 | L17: 0.19 | M17: =K17*J17 -> 370950 | N17: 0 | O17: 0.19 | P17: =N17*J17 -> 0 | Q17: 23550 | R17: 0.19 | S17: =Q17*J17 -> 353250 | T17: 0 | U17: 0.19 | V17: =T17*J17 -> 0 | W17: 0 | X17: 0.19 | Y17: =W17*J17 -> 0 | Z17: =SUM(K17+N17+Q17+T17+W17)/4 -> 12070 | AA17: 0.19 | AB17: =Z17*J17 -> 181050
A18: 5 | B18: 142121612 | C18: 243471 | D18: 42121506 | E18: 13 | F18: KIT INSTRUMENTAL QUIRURGICO Contiene: - Pinza de disección de 14 cm - Pinza de disección con garra de 14 cm - Pinza mosquito de 14 cm - Tijera de operación recta - Tijera de operación curva 14 cm - Mangos para bisturí No. 3 y No 4 - Sonda acanalada - Indicador para mostrar profundidad y dirección de la herida | G18: UNIDAD | J18: 15 | K18: 0 | L18: 0.19 | M18: =K18*J18 -> 0 | N18: 0 | O18: 0.19 | P18: =N18*J18 -> 0 | Q18: 57500 | R18: 0.19 | S18: =Q18*J18 -> 862500 | T18: 105042 | U18: 0.19 | V18: =T18*J18 -> 1575630 | W18: 0 | X18: 0.19 | Y18: =W18*J18 -> 0 | Z18: =SUM(K18+N18+Q18+T18+W18)/2 -> 81271 | AA18: 0.19 | AB18: =Z18*J18 -> 1219065
A19: 5 | B19: 142121611 | C19: 284136 | D19: 42121500 | E19: 14 | F19: KIT CON TEST Y RAQUETA (CALIFORNIA MASTITIS TEST) (El kit contiene un (1) litro de reactivo Sodio dodecyl sulfato y una raqueta de color negra donde se realiza el analisis) | G19: UNIDAD | J19: 15 | K19: 0 | L19: 0 | M19: =K19*J19 -> 0 | N19: 0 | O19: 0 | P19: =N19*J19 -> 0 | Q19: 18200 | R19: 0 | S19: =Q19*J19 -> 273000 | T19: 21000 | U19: 0 | V19: =T19*J19 -> 315000 | W19: 22900 | X19: 0 | Y19: =W19*J19 -> 343500 | Z19: =SUM(K19+N19+Q19+T19+W19)/3 -> 20700 | AA19: 0 | AB19: =Z19*J19 -> 310500
A20: 5 | B20: 142121611 | C20: 240674 | D20: 42121604 | E20: 15 | F20: FINADYNE | G20: FRASCOX50ml | J20: 20 | K20: 135393 | L20: 0 | M20: =K20*J20 -> 2707860 | N20: 148825 | O20: 0 | P20: =N20*J20 -> 2976500 | Q20: 146850 | R20: 0 | S20: =Q20*J20 -> 2937000 | T20: 0 | U20: 0 | V20: =T20*J20 -> 0 | W20: 126700 | X20: 0 | Y20: =W20*J20 -> 2534000 | Z20: =SUM(K20+N20+Q20+T20+W20)/4 -> 139442 | AA20: 0 | AB20: =Z20*J20 -> 2788840
A21: 5 | B21: 142121611 | C21: 236171 | D21: 42121605 | E21: 16 | F21: CALMAFOS | G21: FRASCOX500ml | J21: 20 | K21: 27940 | L21: 0 | M21: =K21*J21 -> 558800 | N21: 30775 | O21: 0 | P21: =N21*J21 -> 615500 | Q21: 31750 | R21: 0 | S21: =Q21*J21 -> 635000 | T21: 0 | U21: 0 | V21: =T21*J21 -> 0 | W21: 28500 | X21: 0 | Y21: =W21*J21 -> 570000 | Z21: =SUM(K21+N21+Q21+T21+W21)/4 -> 29741.25 | AA21: 0 | AB21: =Z21*J21 -> 594825
A22: 5 | B22: 142121611 | C22: 247867 | D22: 42121604 | E22: 17 | F22: VETALGINA | G22: FRASCOX50ml | J22: 20 | K22: 43324 | L22: 0 | M22: =K22*J22 -> 866480 | N22: 47723 | O22: 0 | P22: =N22*J22 -> 954460 | Q22: 47150 | R22: 0 | S22: =Q22*J22 -> 943000 | T22: 0 | U22: 0 | V22: =T22*J22 -> 0 | W22: 43800 | X22: 0 | Y22: =W22*J22 -> 876000 | Z22: =SUM(K22+N22+Q22+T22+W22)/4 -> 45499.25 | AA22: 0 | AB22: =Z22*J22 -> 909985
A23: 5 | B23: 231802 | C23: 121102402 | D23: 10101903 | E23: 18 | F23: NUCLEO DE ABEJAS (Africanizadas, de 4 marcos, con reina fecundada y población) (Deben ser abejas africanizadas seleccionadas y con registros. NO se aceptan abejas con cruces europeos) | G23: UNIDAD | J23: 25 | K23: 200000 | L23: 0 | M23: =K23*J23 -> 5000000 | N23: 260000 | O23: 0 | P23: =N23*J23 -> 6500000 | Q23: 280000 | R23: 0 | S23: =Q23*J23 -> 7000000 | T23: =SUM(K23+N23+Q23)/3 -> 246666.67 | U23: 0 | V23: =T23*J23 -> 6166666.7 | AB23: =V23 -> 6166666.7
A24: 5 | B24: 231803 | C24: 121102402 | D24: 21102401 | E24: 19 | F24: ALZA PROFUNDA (cámara de cría o alza profunda para miel fabricada en madera de pino canadiense recuperado, roble, cedro, campano disponible con baño en aceite de linaza, parafinada o pintada. MEDIDAS: 25cm Alto x 41.6cm Ancho x 50.7 Largo) | G24: UNIDAD | J24: 25 | K24: 31000 | L24: 0 | M24: =K24*J24 -> 775000 | N24: 43000 | O24: 0 | P24: =N24*J24 -> 1075000 | Q24: 45000 | R24: 0 | S24: =Q24*J24 -> 1125000 | T24: =SUM(K24+N24+Q24)/3 -> 39666.667 | U24: 0 | V24: =T24*J24 -> 991666.67 | AB24: =V24 -> 991666.67
A25: 5 | B25: 231804 | C25: 121102402 | D25: 21102401 | E25: 20 | F25: PANAL ALAMBRADO ALZA PROFUNDA (Cuadros ojaleteados y alambrados, 23cm Alto x 3.5 Ancho x 48.3 Largo) | G25: UNIDAD | J25: 260 | K25: 2900 | L25: 0 | M25: =K25*J25 -> 754000 | N25: 3900 | O25: 0 | P25: =N25*J25 -> 1014000 | Q25: 4200 | R25: 0 | S25: =Q25*J25 -> 1092000 | T25: =SUM(K25+N25+Q25)/3 -> 3666.6667 | U25: 0 | V25: =T25*J25 -> 953333.33 | AB25: =V25 -> 953333.33
A26: 5 | B26: 231805 | C26: 121102402 | D26: 21102401 | E26: 21 | F26: LAMINA DE CERA ALZA PROFUNDA (Láminas de cera estampada de alta calidad, garantizadas, medidas 41cm largo x 19cm Ancho) | G26: UNIDAD | J26: 260 | K26: 3300 | L26: 0 | M26: =K26*J26 -> 858000 | N26: 4300 | O26: 0 | P26: =N26*J26 -> 1118000 | Q26: 4400 | R26: 0 | S26: =Q26*J26 -> 1144000 | T26: =SUM(K26+N26+Q26)/3 -> 4000 | U26: 0 | V26: =T26*J26 -> 1040000 | AB26: =V26 -> 1040000
A27: 5 | B27: 231806 | C27: 121102402 | D27: 21102401 | E27: 22 | F27: TECHO METALICO (Techo Fabricado en madera de pino canadiense completamente forrado en aluminio) | G27: UNIDAD | J27: 30 | K27: 21000 | L27: 0 | M27: =K27*J27 -> 630000 | N27: 29000 | O27: 0 | P27: =N27*J27 -> 870000 | Q27: 32000 | R27: 0 | S27: =Q27*J27 -> 960000 | T27: =SUM(K27+N27+Q27)/3 -> 27333.333 | U27: 0 | V27: =T27*J27 -> 820000 | AB27: =V27 -> 820000
A28: 5 | B28: 231807 | C28: 121102402 | D28: 21102401 | E28: 23 | F28: PIQUERA (Fondo o piquera en madera. MEDIDAS: 56cm Largo x 41.6 Ancho x 4.5 Alto) | G28: UNIDAD | J28: 30 | K28: 20000 | L28: 0 | M28: =K28*J28 -> 600000 | N28: 27000 | O28: 0 | P28: =N28*J28 -> 810000 | Q28: 28000 | R28: 0 | S28: =Q28*J28 -> 840000 | T28: =SUM(K28+N28+Q28)/3 -> 25000 | U28: 0 | V28: =T28*J28 -> 750000 | AB28: =V28 -> 750000
A29: 5 | B29: 250978 | C29: 121102402 | D29: 21102401 | E29: 24 | F29: CAMARA DE MIEL DE ALZA MEDIANA (Fabricado en madera, medidas 50.7cm Largo x 41.6cm Ancho x 15cm Alto) | G29: UNIDAD | J29: 55 | K29: 27000 | L29: 0 | M29: =K29*J29 -> 1485000 | N29: 37000 | O29: 0 | P29: =N29*J29 -> 2035000 | Q29: 39000 | R29: 0 | S29: =Q29*J29 -> 2145000 | T29: =SUM(K29+N29+Q29)/3 -> 34333.333 | U29: 0 | V29: =T29*J29 -> 1888333.3 | AB29: =V29 -> 1888333.3
A30: 5 | B30: 231804 | C30: 121102402 | D30: 10121702 | E30: 25 | F30: PANAL ALAMBRADO ALZA MELARIA (Cuadros de media alza ojaleteados y alambrados. Medidas: 13.7cm Alto x 4cm Ancho x 48.3 Largo) | G30: UNIDAD | J30: 390 | K30: 2500 | L30: 0 | M30: =K30*J30 -> 975000 | N30: 3400 | O30: 0 | P30: =N30*J30 -> 1326000 | Q30: 3600 | R30: 0 | S30: =Q30*J30 -> 1404000 | T30: =SUM(K30+N30+Q30)/3 -> 3166.6667 | U30: 0 | V30: =T30*J30 -> 1235000 | AB30: =V30 -> 1235000
A31: 5 | B31: 231805 | C31: 121102402 | D31: 21102401 | E31: 26 | F31: LAMINA DE CERA ALZA MELARIA (Láminas de cera estampada de alta calidad, garantizadas. Medidas: MEDIDAS: 41,7 cm largo x 12 cm Ancho) | G31: UNIDAD | J31: 390 | K31: 1700 | L31: 0 | M31: =K31*J31 -> 663000 | N31: 2500 | O31: 0 | P31: =N31*J31 -> 975000 | Q31: 2700 | R31: 0 | S31: =Q31*J31 -> 1053000 | T31: =SUM(K31+N31+Q31)/3 -> 2300 | U31: 0 | V31: =T31*J31 -> 897000 | AB31: =V31 -> 897000
A32: 5 | B32: 266753 | C32: 121102402 | D32: 21102401 | E32: 27 | F32: SUBTAPA (Tapa interior fabricada en madera, medidas 57cm Largo x 48cm Ancho x 5cm Alto) | G32: UNIDAD | J32: 25 | K32: 17000 | L32: 0 | M32: =K32*J32 -> 425000 | N32: 23000 | O32: 0 | P32: =N32*J32 -> 575000 | Q32: 25000 | R32: 0 | S32: =Q32*J32 -> 625000 | T32: =SUM(K32+N32+Q32)/3 -> 21666.667 | U32: 0 | V32: =T32*J32 -> 541666.67 | AB32: =V32 -> 541666.67
A33: 5 | B33: 243883 | C33: 121102402 | D33: 21102401 | E33: 28 | F33: REJILLA EXCLUIDORA (Excluidor de reina. En madera o en plastico. Medidas: 50.7cm Largo x 41.6cm Ancho x 2cm Alto) | G33: UNIDAD | J33: 25 | K33: 23000 | L33: 0 | M33: =K33*J33 -> 575000 | N33: 31000 | O33: 0 | P33: =N33*J33 -> 775000 | Q33: 33000 | R33: 0 | S33: =Q33*J33 -> 825000 | T33: =SUM(K33+N33+Q33)/3 -> 29000 | U33: 0 | V33: =T33*J33 -> 725000 | AB33: =V33 -> 725000
A34: 5 | B34: 231951 | C34: 121102402 | D34: 21102401 | E34: 29 | F34: ALIMENTADOR (Elaborado en acrílico, Con capacidad de 3 litros, interior se utilice flotadores o malla, con soportes en aluminio, color: Blanco y alta durabilidad) | G34: UNIDAD | J34: 25 | K34: 32000 | L34: 0 | M34: =K34*J34 -> 800000 | N34: 42000 | O34: 0 | P34: =N34*J34 -> 1050000 | Q34: 44000 | R34: 0 | S34: =Q34*J34 -> 1100000 | T34: =SUM(K34+N34+Q34)/3 -> 39333.333 | U34: 0 | V34: =T34*J34 -> 983333.33 | AB34: =V34 -> 983333.33
... A38: 5 | B38: 231809 | C38: 121102402 | D38: 21102401 | E38: 33 | F38: OVEROL APICOLA (Overol enterizo en dril sencillo No 6 100% algodón; manga larga con elásticos en puños y tobillos, cremallera de doble cierre con 2 deslizadores en la parte frontal, con 2 bolsillos en la camisa, 6 bolsillos en el pantalón; resorte en la cintura. Careta en dril No 6 parte de atrás y el frontal con malla plástica incorporada al overol con cremalleras. Color: Blanco, beige, caqui, gris Talla: 40, 42, 44 y 46) | G38: UNIDAD | J38: 25 | K38: 170000 | L38: 0 | M38: =K38*J38 -> 4250000 | N38: 185000 | O38: 0 | P38: =N38*J38 -> 4625000 | Q38: 195000 | R38: 0 | S38: =Q38*J38 -> 4875000 | T38: =SUM(K38+N38+Q38)/3 -> 183333.33 | U38: 0 | V38: =T38*J38 -> 4583333.3 | AB38: =V38 -> 4583333.3
A39: 5 | B39: 150121552 | C39: 240689 | D39: 10101703 | E39: 34 | F39: Alevinos de Tilapia Roja x 3.0 cm | G39: Unidad | J39: 22000 | K39: 0 | L39: 0 | M39: =K39*J39 -> 0 | N39: 310 | O39: 0 | P39: =N39*J39 -> 6820000 | Q39: 305 | R39: 0 | S39: =Q39*J39 -> 6710000 | T39: 350 | U39: 0 | V39: =T39*J39 -> 7700000 | W39: =SUM(K39+N39+Q39+T39)/3 -> 321.66667 | X39: 0 | Y39: =W39*J39 -> 7076666.7 | AB39: =Y39 -> 7076666.7
A40: 5 | B40: 110101729 | C40: 261494 | D40: 10101702 | E40: 35 | F40: Alevinos Americanos de Trucha Arco-Iris x 3.5 cm | G40: Unidad | J40: 22000 | K40: 0 | L40: 0 | M40: =K40*J40 -> 0 | N40: 510 | O40: 0 | P40: =N40*J40 -> 11220000 | Q40: 510 | R40: 0 | S40: =Q40*J40 -> 11220000 | T40: 520 | U40: 0 | V40: =T40*J40 -> 11440000 | W40: =SUM(K40+N40+Q40+T40)/3 -> 513.33333 | X40: 0 | Y40: =W40*J40 -> 11293333 | AB40: =Y40 -> 11293333
A41: 5 | B41: 110121510 | C41: 233329 | D41: 121702 | E41: 36 | F41: Concentrado Comercial para mojarra inicio x 40 kg con nivel de Proteina de 45% en pellets extruidos de 1.5 mm | G41: Bulto | J41: 15 | K41: 230415 | L41: 0.05 | M41: =K41*J41 -> 3456225 | N41: 227450 | O41: 0.05 | P41: =N41*J41 -> 3411750 | Q41: 0 | R41: 0.05 | S41: =Q41*J41 -> 0 | T41: 235500 | U41: 0.05 | V41: =T41*J41 -> 3532500 | W41: =SUM(K41+N41+Q41+T41)/3 -> 231121.67 | X41: 0.05 | Y41: =W41*J41 -> 3466825 | AB41: =Y41 -> 3466825
A42: 5 | B42: 110121510 | C42: 270868 | D42: 10127702 | E42: 37 | F42: Concentrado Comercial para trucha levante x 20 kg con nivel de Proteina de 50% en pellets extruidos de 1.5 mm | G42: Bulto | J42: 15 | K42: 218831 | L42: 0.05 | M42: =K42*J42 -> 3282465 | N42: 198000 | O42: 0.05 | P42: =N42*J42 -> 2970000 | Q42: 0 | R42: 0.05 | S42: =Q42*J42 -> 0 | T42: 192000 | U42: 0.05 | V42: =T42*J42 -> 2880000 | W42: =SUM(K42+N42+Q42+T42)/3 -> 202943.67 | X42: 0.05 | Y42: =W42*J42 -> 3044155 | AB42: =Y42 -> 3044155
A43: TOTAL | AB43: =SUM(AB6:AB42) -> 68310690
A45: Lote 2 Agricola SER | E45: Lote 2 Agricola SER
...

Sheet PLAZO DE EJECUCIÒN
A1: PLAZO DE EJECUCIÒN
A2: Lote No. | B2: Valor POD | C2: Asignación | D2: Necesidades | E2: Diferencia | G2: Plazo de Ejecuciòn | H2: Lugar de Ejecuciòn
A3: =Necesidades!#REF! -> #REF! | B3: =Necesidades!#REF! -> #REF! | C3: 246300000 | D3: =SUM(B3:B5) -> #REF! | E3: =C3-D3 -> #REF! | G3: 4 meses calendario | H3: SAN PEDRO DE LOS MILAGROS, BELMIRA, ENTRERRIOS, DONMATIAS, YARUMAL, CAMPAMENTO, ANGOSTURA, CAROLINA DEL PRINCIPE, GOMEZ PLATA, GUADALUPE, VALDIVIA, BRICEÑO, SAN JOSE DE LA MONTAÑA, SAN ANDRES DE CUERQUIA, TOLEDO, ITUANGO, SANTA ROSA DE OSOS Y LAS VEREDAS Y CORREGIMIENTOS DE CADA UNO DE LOS 17 MUNICIPIOS DEL NORTE DE ANTIOQUIA
A4: =Necesidades!#REF! -> #REF! | B4: =Necesidades!#REF! -> #REF! | G4: 4 meses calendario
A5: =Necesidades!#REF! -> #REF! | B5: =Necesidades!#REF! -> #REF! | G5: 4 meses calendario
A6: =Necesidades!#REF! -> #REF! | B6: =Necesidades!#REF! -> #REF! | C6: 124375329 | D6: =SUM(B6:B12) -> #REF! | E6: =C6-D6 -> #REF! | G6: 2 meses calendario | H6: Medellìn
A7: =Necesidades!#REF! -> #REF! | B7: =Necesidades!#REF! -> #REF! | G7: 2 meses calendario | H7: Medellìn
A8: =Necesidades!#REF! -> #REF! | B8: =Necesidades!#REF! -> #REF! | G8: 5 meses calendario | H8: Santa Rosa de Osos y los 17 municipios adscritos a la subsede son: Angostura, Belmira, Briceño, Campamento, Carolina del Príncipe, Don Matías, Entrerríos, Gómez Plata, Guadalupe, Ituango, San Andrés de Cuerquia, San José de la Montaña, San Pedro de los Milagros, Santa Rosa de Osos, Toledo, Valdivia, Yarumal
A9: =Necesidades!#REF! -> #REF! | B9: =Necesidades!#REF! -> #REF! | G9: 2 meses calendario
A10: =Necesidades!#REF! -> #REF! | B10: =Necesidades!#REF! -> #REF! | G10: 2 meses calendario
A11: =Necesidades!#REF! -> #REF! | B11: =Necesidades!#REF! -> #REF! | G11: 2 meses calendario
A12: =Necesidades!#REF! -> #REF! | B12: =Necesidades!#REF! -> #REF! | G12: 3 meses calendario | H12: Medellìn
A13: =Necesidades!#REF! -> #REF! | B13: =Necesidades!#REF! -> #REF! | C13: 47014153 | D13: =SUM(B13:B15) -> #REF! | E13: =C13-B13-B14-B15-B16-B17 -> #REF! | G13: 5 meses calendario | H13: Santa Rosa de Osos y los 17 municipios adscritos a la subsede son: Angostura, Belmira, Briceño, Campamento, Carolina del Príncipe, Don Matías, Entrerríos, Gómez Plata, Guadalupe, Ituango, San Andrés de Cuerquia, San José de la Montaña, San Pedro de los Milagros, Santa Rosa de Osos, Toledo, Valdivia, Yarumal
A14: =Necesidades!#REF! -> #REF! | B14: =Necesidades!#REF! -> #REF! | G14: 2 meses calendario
A15: =Necesidades!#REF! -> #REF! | B15: =Necesidades!#REF! -> #REF! | G15: 2 meses calendario
A16: =Necesidades!#REF! -> #REF! | B16: =Necesidades!#REF! -> #REF! | F16: =E13-E16 -> #REF! | G16: 3 meses calendario | H16: Medellìn
A17: =Necesidades!#REF! -> #REF! | B17: =Necesidades!#REF! -> #REF! | G17: 3 meses calendario | H17: Medellìn
A18: =Necesidades!#REF! -> #REF! | B18: =Necesidades!#REF! -> #REF! | C18: 157000000 | D18: =SUM(B18:B24) -> #REF! | E18: =C18-D18 -> #REF! | G18: 3 meses calendario | H18: Medellìn
A19: =Necesidades!#REF! -> #REF! | B19: =Necesidades!#REF! -> #REF! | G19: 2 meses calendario | H19: Medellìn
A20: =Necesidades!#REF! -> #REF! | B20: =Necesidades!#REF! -> #REF! | G20: 5 meses calendario | H20: Santa Rosa de Osos y los 17 municipios adscritos a la subsede son: Angostura, Belmira, Briceño, Campamento, Carolina del Príncipe, Don Matías, Entrerríos, Gómez Plata, Guadalupe, Ituango, San Andrés de Cuerquia, San José de la Montaña, San Pedro de los Milagros, Santa Rosa de Osos, Toledo, Valdivia, Yarumal
A21: =Necesidades!#REF! -> #REF! | B21: =Necesidades!#REF! -> #REF! | G21: 2 meses calendario | H21: Santa Rosa de Osos y los 17 municipios adscritos a la subsede son: Angostura, Belmira, Briceño, Campamento, Carolina del Príncipe, Don Matías, Entrerríos, Gómez Plata, Guadalupe, Ituango, San Andrés de Cuerquia, San José de la Montaña, San Pedro de los Milagros, Santa Rosa de Osos, Toledo, Valdivia, Yarumal
A22: =Necesidades!#REF! -> #REF! | B22: =Necesidades!#REF! -> #REF! | G22: 2 meses calendario | H22: Santa Rosa de Osos y los 17 municipios adscritos a la subsede son: Angostura, Belmira, Briceño, Campamento, Carolina del Príncipe, Don Matías, Entrerríos, Gómez Plata, Guadalupe, Ituango, San Andrés de Cuerquia, San José de la Montaña, San Pedro de los Milagros, Santa Rosa de Osos, Toledo, Valdivia, Yarumal
A23: =Necesidades!#REF! -> #REF! | B23: =Necesidades!#REF! -> #REF! | G23: 2 meses calendario | H23: Sede Medellìn y Subsede Santa Rosa de Osos y los 17 municipios adscritos a la subsede son: Angostura, Belmira, Briceño, Campamento, Carolina del Príncipe, Don Matías, Entrerríos, Gómez Plata, Guadalupe, Ituango, San Andrés de Cuerquia, San José de la Montaña, San Pedro de los Milagros, Santa Rosa de Osos, Toledo, Valdivia, Yarumal
A24: =Necesidades!#REF! -> #REF! | B24: =Necesidades!#REF! -> #REF! | G24: 4 meses calendario | H24: Medellìn
A25: =Necesidades!#REF! -> #REF! | B25: =Necesidades!#REF! -> #REF! | C25: 40000000 | D25: =B25 -> #REF! | E25: =C25-D25 -> #REF! | G25: 2 meses calendario | H25: Santa Rosa de Osos y los 17 municipios adscritos a la subsede son: Angostura, Belmira, Briceño, Campamento, Carolina del Príncipe, Don Matías, Entrerríos, Gómez Plata, Guadalupe, Ituango, San Andrés de Cuerquia, San José de la Montaña, San Pedro de los Milagros, Santa Rosa de Osos, Toledo, Valdivia, Yarumal
B27: =SUM(B3:B25) -> #REF!
A28: UNSPSC – Decreto 1082 de 2015
A29: ITEM | B29: GRUPO | C29: SEGMENTO | D29: FAMILIA | E29: CLASE
A30: 1 | B30: (B) Materias Primas | C30: 12000000 | D30: 12350000 | E30: 12352500
A31: 2 | B31: (E) Productos de uso Final | C31: 51000000 | D31: 51190000 | E31: 51191600
A32: 3 | B32: (B) Materias Primas | C32: 12000000 | D32: 12350000 | E32: 12352400
A33: 4 | B33: (B) Materias Primas | C33: 12000000 | D33: 12160000 | E33: 1lote 61700
A34: 5 | B34: (D) Componentes y Suministros | C34: 41000000 | D34: 41100000 | E34: 41103800
