Workbook
Name tdRepliesUniqueIdentifierCol_lnkRepliesUniqueIdentifierViewLink_0: 'INICIAL PRECIO ARTIFICIALME (2)'!#REF!
Name tdRepliesUniqueIdentifierCol_lnkRepliesUniqueIdentifierViewLink_0: 'PRECIO CON CORRECCION'!#REF!
Name tdRepliesUniqueIdentifierCol_lnkRepliesUniqueIdentifierViewLink_0: TODAS!#REF!
Name tdRepliesUniqueIdentifierCol_lnkRepliesUniqueIdentifierViewLink_0: 'VERIFICACION DE OFERTAS'!#REF!
Name tdRepliesUniqueIdentifierCol_lnkRepliesUniqueIdentifierViewLink_1: 'INICIAL PRECIO ARTIFICIALME (2)'!#REF!
Name tdRepliesUniqueIdentifierCol_lnkRepliesUniqueIdentifierViewLink_1: 'PRECIO CON CORRECCION'!#REF!
Name tdRepliesUniqueIdentifierCol_lnkRepliesUniqueIdentifierViewLink_1: TODAS!#REF!
Name tdRepliesUniqueIdentifierCol_lnkRepliesUniqueIdentifierViewLink_1: 'VERIFICACION DE OFERTAS'!#REF!
Name tdRepliesUniqueIdentifierCol_lnkRepliesUniqueIdentifierViewLink_10: 'INICIAL PRECIO ARTIFICIALME (2)'!#REF!
Name tdRepliesUniqueIdentifierCol_lnkRepliesUniqueIdentifierViewLink_10: 'PRECIO CON CORRECCION'!#REF!
Name tdRepliesUniqueIdentifierCol_lnkRepliesUniqueIdentifierViewLink_10: TODAS!#REF!
Name tdRepliesUniqueIdentifierCol_lnkRepliesUniqueIdentifierViewLink_10: 'VERIFICACION DE OFERTAS'!#REF!
Name tdRepliesUniqueIdentifierCol_lnkRepliesUniqueIdentifierViewLink_11: 'INICIAL PRECIO ARTIFICIALME (2)'!#REF!
Name tdRepliesUniqueIdentifierCol_lnkRepliesUniqueIdentifierViewLink_11: 'PRECIO CON CORRECCION'!#REF!
Name tdRepliesUniqueIdentifierCol_lnkRepliesUniqueIdentifierViewLink_11: TODAS!#REF!
Name tdRepliesUniqueIdentifierCol_lnkRepliesUniqueIdentifierViewLink_11: 'VERIFICACION DE OFERTAS'!#REF!
Name tdRepliesUniqueIdentifierCol_lnkRepliesUniqueIdentifierViewLink_12: 'INICIAL PRECIO ARTIFICIALME (2)'!#REF!
Name tdRepliesUniqueIdentifierCol_lnkRepliesUniqueIdentifierViewLink_12: 'PRECIO CON CORRECCION'!#REF!
Name tdRepliesUniqueIdentifierCol_lnkRepliesUniqueIdentifierViewLink_12: TODAS!#REF!
Name tdRepliesUniqueIdentifierCol_lnkRepliesUniqueIdentifierViewLink_12: 'VERIFICACION DE OFERTAS'!#REF!
Name tdRepliesUniqueIdentifierCol_lnkRepliesUniqueIdentifierViewLink_13: 'INICIAL PRECIO ARTIFICIALME (2)'!#REF!
Name tdRepliesUniqueIdentifierCol_lnkRepliesUniqueIdentifierViewLink_13: 'PRECIO CON CORRECCION'!#REF!
Name tdRepliesUniqueIdentifierCol_lnkRepliesUniqueIdentifierViewLink_13: TODAS!#REF!
Name tdRepliesUniqueIdentifierCol_lnkRepliesUniqueIdentifierViewLink_13: 'VERIFICACION DE OFERTAS'!#REF!
Name tdRepliesUniqueIdentifierCol_lnkRepliesUniqueIdentifierViewLink_14: 'INICIAL PRECIO ARTIFICIALME (2)'!#REF!
Name tdRepliesUniqueIdentifierCol_lnkRepliesUniqueIdentifierViewLink_14: 'PRECIO CON CORRECCION'!#REF!
Name tdRepliesUniqueIdentifierCol_lnkRepliesUniqueIdentifierViewLink_14: TODAS!#REF!
Name tdRepliesUniqueIdentifierCol_lnkRepliesUniqueIdentifierViewLink_14: 'VERIFICACION DE OFERTAS'!#REF!
Name tdRepliesUniqueIdentifierCol_lnkRepliesUniqueIdentifierViewLink_15: 'INICIAL PRECIO ARTIFICIALME (2)'!#REF!
Name tdRepliesUniqueIdentifierCol_lnkRepliesUniqueIdentifierViewLink_15: 'PRECIO CON CORRECCION'!#REF!
Name tdRepliesUniqueIdentifierCol_lnkRepliesUniqueIdentifierViewLink_15: TODAS!#REF!
Name tdRepliesUniqueIdentifierCol_lnkRepliesUniqueIdentifierViewLink_15: 'VERIFICACION DE OFERTAS'!#REF!
Name tdRepliesUniqueIdentifierCol_lnkRepliesUniqueIdentifierViewLink_16: 'INICIAL PRECIO ARTIFICIALME (2)'!#REF!
Name tdRepliesUniqueIdentifierCol_lnkRepliesUniqueIdentifierViewLink_16: 'PRECIO CON CORRECCION'!#REF!
Name tdRepliesUniqueIdentifierCol_lnkRepliesUniqueIdentifierViewLink_16: TODAS!#REF!
Name tdRepliesUniqueIdentifierCol_lnkRepliesUniqueIdentifierViewLink_16: 'VERIFICACION DE OFERTAS'!#REF!
Name tdRepliesUniqueIdentifierCol_lnkRepliesUniqueIdentifierViewLink_17: 'INICIAL PRECIO ARTIFICIALME (2)'!#REF!
Name tdRepliesUniqueIdentifierCol_lnkRepliesUniqueIdentifierViewLink_17: 'PRECIO CON CORRECCION'!#REF!
Name tdRepliesUniqueIdentifierCol_lnkRepliesUniqueIdentifierViewLink_17: TODAS!#REF!
Name tdRepliesUniqueIdentifierCol_lnkRepliesUniqueIdentifierViewLink_17: 'VERIFICACION DE OFERTAS'!#REF!
Name tdRepliesUniqueIdentifierCol_lnkRepliesUniqueIdentifierViewLink_18: 'INICIAL PRECIO ARTIFICIALME (2)'!#REF!
Name tdRepliesUniqueIdentifierCol_lnkRepliesUniqueIdentifierViewLink_18: 'PRECIO CON CORRECCION'!#REF!
Name tdRepliesUniqueIdentifierCol_lnkRepliesUniqueIdentifierViewLink_18: TODAS!#REF!
Name tdRepliesUniqueIdentifierCol_lnkRepliesUniqueIdentifierViewLink_18: 'VERIFICACION DE OFERTAS'!#REF!
Name tdRepliesUniqueIdentifierCol_lnkRepliesUniqueIdentifierViewLink_19: 'INICIAL PRECIO ARTIFICIALME (2)'!#REF!
Name tdRepliesUniqueIdentifierCol_lnkRepliesUniqueIdentifierViewLink_19: 'PRECIO CON CORRECCION'!#REF!
Name tdRepliesUniqueIdentifierCol_lnkRepliesUniqueIdentifierViewLink_19: TODAS!#REF!
Name tdRepliesUniqueIdentifierCol_lnkRepliesUniqueIdentifierViewLink_19: 'VERIFICACION DE OFERTAS'!#REF!
Name tdRepliesUniqueIdentifierCol_lnkRepliesUniqueIdentifierViewLink_2: 'INICIAL PRECIO ARTIFICIALME (2)'!#REF!
Name tdRepliesUniqueIdentifierCol_lnkRepliesUniqueIdentifierViewLink_2: 'PRECIO CON CORRECCION'!#REF!
Name tdRepliesUniqueIdentifierCol_lnkRepliesUniqueIdentifierViewLink_2: TODAS!#REF!
Name tdRepliesUniqueIdentifierCol_lnkRepliesUniqueIdentifierViewLink_2: 'VERIFICACION DE OFERTAS'!#REF!
Name tdRepliesUniqueIdentifierCol_lnkRepliesUniqueIdentifierViewLink_20: 'INICIAL PRECIO ARTIFICIALME (2)'!#REF!
Name tdRepliesUniqueIdentifierCol_lnkRepliesUniqueIdentifierViewLink_20: 'PRECIO CON CORRECCION'!#REF!
Name tdRepliesUniqueIdentifierCol_lnkRepliesUniqueIdentifierViewLink_20: TODAS!#REF!
Name tdRepliesUniqueIdentifierCol_lnkRepliesUniqueIdentifierViewLink_20: 'VERIFICACION DE OFERTAS'!#REF!
Name tdRepliesUniqueIdentifierCol_lnkRepliesUniqueIdentifierViewLink_21: 'INICIAL PRECIO ARTIFICIALME (2)'!#REF!
Name tdRepliesUniqueIdentifierCol_lnkRepliesUniqueIdentifierViewLink_21: 'PRECIO CON CORRECCION'!#REF!
Name tdRepliesUniqueIdentifierCol_lnkRepliesUniqueIdentifierViewLink_21: TODAS!#REF!
Name tdRepliesUniqueIdentifierCol_lnkRepliesUniqueIdentifierViewLink_21: 'VERIFICACION DE OFERTAS'!#REF!

Sheet Hoja1
A1: Lista de ofertas
A2: Referencia de oferta | B2: Entidad | C2: Evaluación | D2: Oferta
A3: CONSORCIO SERES SAN AGUSTIN | B3: CONSORCIO SERES SAN AGUSTIN | C3: Oferta rechazada | D3: 0
A4: SVLPOB0001-25 - San Agustin | B4: ARGECO | C4: Oferta rechazada | D4: 0
A5: SVLPOB0001-25ia | B5: CONSORCIO C&D 2025 | C5: Oferta rechazada | D5: 0
A6: CONSORCIO VIAL SA -H | B6: CONSORCIO VIAL SA-H | C6: Oferta aceptada | D6: 5112752361
A7: SVLPOB0001-25 | B7: CONSORCIO HUELLAS SAN AGUSTIN | C7: Oferta rechazada | D7: 0
A8: SAN AGUSTIN HUILA - TIKAL | B8: CONSORCIO TIKAL | C8: Oferta rechazada | D8: 0
A9: SILCONS SAS - SVLPOB0001-25 | B9: SILCONS SAS | C9: Oferta aceptada | D9: 5160303503
A10: SVLPOB0001-25 GOBERNACIÓN DEL HUILA (CONSORCIO ARQUEOLÓGICO SAN AGUSTIN) | B10: CONSORCIO ARQUEOLÓGICO SAN AGUSTIN | C10: Oferta aceptada | D10: 4.9869229e+09
A11: CONSORCIO REDBYG | B11: CONSORCIO REDBYG | C11: Oferta aceptada | D11: 5129845159
A12: CONSORCIO VIAS 2CP | B12: CONSORCIO VIAS 2CP | C12: Oferta aceptada | D12: 5164001589
A13: CONSORCIO SAN AGUSTIN I | B13: CONSORCIO SAN AGUSTIN I | C13: Oferta aceptada | D13: 5094261710
A14: CONSORCIO VIAS SAN AGUSTIN 2025 | B14: CONSORCIO VIAS SAN AGUSTIN 2025 | C14: Oferta rechazada | D14: 0
... A70: ARCA SVLPOB0001-25 HUILA | B70: Arca Megaproyectos SAS | C70: Oferta aceptada | D70: 5156303960

Sheet VERIFICACION DE OFERTAS
B2: PROPUESTAS | C2: PROPONENTES | D2: PROPUESTA ECONÓMICA | E2: OFERTA SECOP | F2: RECHAZOS OFERTA ECONOMICA | G2: VALOR PROPUESTA ECONÓMICA | H2: REQUERIMEINTO PRECIO ARTIFICIALMENTE BAJO | I2: OBSERVACION
B3: 81 | C3: CONSORCIO EDIFICIO CENTRAL | D3: 1.9215243e+09 | F3: RECHAZADO | H3: =IF(G3>$G$67,"OK","REQUERIR") -> REQUERIR
B4: 77 | C4: CONINCAG SAS | D4: 1.8637327e+09 | F4: RECHAZADO | H4: =IF(G4>$G$67,"OK","REQUERIR") -> REQUERIR
B5: 74 | C5: CONSORCIO MANASSA 28 | D5: 1.8675064e+09 | E5: =+D5 -> 1.8675064e+09 | G5: =+E5 -> 1.8675064e+09 | H5: =IF(G5>$G$67,"OK","REQUERIR") -> OK
B6: 73 | C6: CONSORCIO SANTANA 2025 | D6: 1.8631888e+09 | E6: =+D6 -> 1.8631888e+09 | G6: =+E6 -> 1.8631888e+09 | H6: =IF(G6>$G$67,"OK","REQUERIR") -> OK
B7: 72 | C7: Fundacion Espeletia | D7: 1.834841e+09 | E7: =+D7 -> 1.834841e+09 | G7: =+E7 -> 1.834841e+09 | H7: =IF(G7>$G$67,"OK","REQUERIR") -> REQUERIR
B8: 71 | C8: Consorcio CONSTRUCTOR CENTRAL | D8: 1.8579391e+09 | E8: =+D8 -> 1.8579391e+09 | G8: =+E8 -> 1.8579391e+09 | H8: =IF(G8>$G$67,"OK","REQUERIR") -> OK
B9: 69 | C9: CONSORCIO INGEGOBER | D9: 1.8651617e+09 | F9: RECHAZADO | H9: =IF(G9>$G$67,"OK","REQUERIR") -> REQUERIR
B10: 66 | C10: CONSORCIO ARCUM | D10: 1.8614113e+09 | E10: =+D10 -> 1.8614113e+09 | G10: =+E10 -> 1.8614113e+09 | H10: =IF(G10>$G$67,"OK","REQUERIR") -> OK
B11: 65 | C11: CONSORCIO SANTA RITA | D11: 1.893037e+09 | F11: RECHAZADO | H11: =IF(G11>$G$67,"OK","REQUERIR") -> REQUERIR
B12: 64 | C12: CONSORCIO OBRAS GMJ 2025 | D12: 1.8926652e+09 | E12: =+D12 -> 1.8926652e+09 | G12: =+E12 -> 1.8926652e+09 | H12: =IF(G12>$G$67,"OK","REQUERIR") -> OK
B13: 63 | C13: CONSORCIO INACAL NEIVA | D13: 1.8800857e+09 | E13: =+D13 -> 1.8800857e+09 | G13: =+E13 -> 1.8800857e+09 | H13: =IF(G13>$G$67,"OK","REQUERIR") -> OK
B14: 62 | C14: BRACO COMPANY S.A.S ZOMAC | D14: 1.9123188e+09 | E14: =+D14 -> 1.9123188e+09 | G14: =+E14 -> 1.9123188e+09 | H14: =IF(G14>$G$67,"OK","REQUERIR") -> OK
B15: 61 | C15: TELEACCESS LTDA | D15: 1.8873033e+09 | E15: =+D15 -> 1.8873033e+09 | G15: =+E15 -> 1.8873033e+09 | H15: =IF(G15>$G$67,"OK","REQUERIR") -> OK
B16: 60 | C16: 3G INGENERIA AVANZADA SAS | D16: 1.8467217e+09 | E16: =+D16 -> 1.8467217e+09 | G16: =+E16 -> 1.8467217e+09 | H16: =IF(G16>$G$67,"OK","REQUERIR") -> OK
B17: 59 | C17: CONSORCIO HUILA DUOVAL 324 | D17: 1.8540754e+09 | F17: RECHAZADO | H17: =IF(G17>$G$67,"OK","REQUERIR") -> REQUERIR
B18: 58 | C18: CONSORCIO GPIng | D18: 1.8371757e+09 | F18: RECHAZADO | H18: =IF(G18>$G$67,"OK","REQUERIR") -> REQUERIR
B19: 57 | C19: CONSORCIO SANLORENZO | D19: 1.8704546e+09 | E19: =+D19 -> 1.8704546e+09 | G19: =+E19 -> 1.8704546e+09 | H19: =IF(G19>$G$67,"OK","REQUERIR") -> OK
B20: 54 | C20: CONSORCIO OCIDAN HUILA-13 | D20: 1.8647464e+09 | E20: =+D20 -> 1.8647464e+09 | G20: =+E20 -> 1.8647464e+09 | H20: =IF(G20>$G$67,"OK","REQUERIR") -> OK
B21: 53 | C21: CONSORCIO PROHAL 2025 | D21: 1.8734265e+09 | F21: RECHAZADO | H21: =IF(G21>$G$67,"OK","REQUERIR") -> REQUERIR
B22: 52 | C22: ZION CONSTRUCCIONES SAS | D22: 1.8913215e+09 | E22: =+D22 -> 1.8913215e+09 | G22: =+E22 -> 1.8913215e+09 | H22: =IF(G22>$G$67,"OK","REQUERIR") -> OK
B23: 51 | C23: CONSORCIO E&C HUILA | D23: 1.904256e+09 | E23: =+D23 -> 1.904256e+09 | G23: =+E23 -> 1.904256e+09 | H23: =IF(G23>$G$67,"OK","REQUERIR") -> OK
B24: 50 | C24: MONVAL GROUP | D24: 1.8950456e+09 | E24: =+D24 -> 1.8950456e+09 | G24: =+E24 -> 1.8950456e+09 | H24: =IF(G24>$G$67,"OK","REQUERIR") -> OK
B25: 49 | C25: CONSORCIO CASTILLO | D25: 1.8671131e+09 | E25: =+D25 -> 1.8671131e+09 | G25: =+E25 -> 1.8671131e+09 | H25: =IF(G25>$G$67,"OK","REQUERIR") -> OK
B26: 48 | C26: CONSORCIO CENTRAL MIV | D26: 1.8508276e+09 | E26: =+D26 -> 1.8508276e+09 | G26: =+E26 -> 1.8508276e+09 | H26: =IF(G26>$G$67,"OK","REQUERIR") -> OK
B27: 46 | C27: UNION TEMPORAL INNOVA | D27: 1.8827596e+09 | F27: RECHAZADO | H27: =IF(G27>$G$67,"OK","REQUERIR") -> REQUERIR
B28: 45 | C28: Adecuaciones jeroca | D28: 1.8670212e+09 | E28: =+D28 -> 1.8670212e+09 | G28: =+E28 -> 1.8670212e+09 | H28: =IF(G28>$G$67,"OK","REQUERIR") -> OK
B29: 44 | C29: CONSORCIO HUILA 2025 | D29: 1.8651492e+09 | E29: =+D29 -> 1.8651492e+09 | G29: =+E29 -> 1.8651492e+09 | H29: =IF(G29>$G$67,"OK","REQUERIR") -> OK
B30: 43 | C30: INGENIERIA RH | D30: 1.8828356e+09 | E30: =+D30 -> 1.8828356e+09 | G30: =+E30 -> 1.8828356e+09 | H30: =IF(G30>$G$67,"OK","REQUERIR") -> OK
B31: 42 | C31: CONSORCIO CE OBRAS HUILA | D31: 1.8342918e+09 | E31: =+D31 -> 1.8342918e+09 | G31: =+E31 -> 1.8342918e+09 | H31: =IF(G31>$G$67,"OK","REQUERIR") -> REQUERIR
B32: 41 | C32: CONSORCIO HUILA 2D | D32: 1.8733439e+09 | E32: =+D32 -> 1.8733439e+09 | G32: =+E32 -> 1.8733439e+09 | H32: =IF(G32>$G$67,"OK","REQUERIR") -> OK
B33: 39 | C33: CONSORCIO MEGAHUILA | D33: 1.8603139e+09 | E33: =+D33 -> 1.8603139e+09 | G33: =+E33 -> 1.8603139e+09 | H33: =IF(G33>$G$67,"OK","REQUERIR") -> OK
B34: 38 | C34: CONSORCIO OBRAS BIENES | D34: 1.8540051e+09 | E34: =+D34 -> 1.8540051e+09 | G34: =+E34 -> 1.8540051e+09 | H34: =IF(G34>$G$67,"OK","REQUERIR") -> OK
B35: 37 | C35: CONSORCIO CENTRAL V&V | D35: 1.890015e+09 | E35: =+D35 -> 1.890015e+09 | G35: =+E35 -> 1.890015e+09 | H35: =IF(G35>$G$67,"OK","REQUERIR") -> OK
B36: 36 | C36: CONSORCIO ADECUACIONES 2CP | D36: 1.8625895e+09 | E36: =+D36 -> 1.8625895e+09 | G36: =+E36 -> 1.8625895e+09 | H36: =IF(G36>$G$67,"OK","REQUERIR") -> OK
B37: 35 | C37: CONSORCIO MEJORAMIENTO ARSAF | D37: 1.8376335e+09 | E37: =+D37 -> 1.8376335e+09 | G37: =+E37 -> 1.8376335e+09 | H37: =IF(G37>$G$67,"OK","REQUERIR") -> REQUERIR
B38: 33 | C38: CONSORCIO TURPIAL 2025 | D38: 1.8535522e+09 | E38: =+D38 -> 1.8535522e+09 | G38: =+E38 -> 1.8535522e+09 | H38: =IF(G38>$G$67,"OK","REQUERIR") -> OK
B39: 31 | C39: CONSORCIO ADECUACIONES HUILA 04 | D39: 1.8936516e+09 | E39: =+D39 -> 1.8936516e+09 | G39: =+E39 -> 1.8936516e+09 | H39: =IF(G39>$G$67,"OK","REQUERIR") -> OK
B40: 30 | C40: CONSORCIO OPITA 25 | D40: 1.8837952e+09 | F40: RECHAZADO | H40: =IF(G40>$G$67,"OK","REQUERIR") -> REQUERIR
B41: 29 | C41: DRV INGENIERIA SAS | D41: 1.811816e+09 | E41: =+D41 -> 1.811816e+09 | G41: =+E41 -> 1.811816e+09 | H41: =IF(G41>$G$67,"OK","REQUERIR") -> REQUERIR
...

Sheet MAB 1-aceptando 72
B2: PROPUESTA | C2: PROPONENTE | D2: PROPUESTA ECONÓMICA | E2: SECOP | F2: CORRECCIÓN ARITMÉTICA | G2: VALOR PROPUESTA ECONÓMICA | H2: MAYOR O MENOR | I2: PUNTOS | J2: PUNTUACION INICIAL | K2: TOTAL PUNTUACIÓN
B3: =+'VERIFICACION DE OFERTAS'!B3 -> 81 | C3: ='VERIFICACION DE OFERTAS'!C3 -> CONSORCIO EDIFICIO CENTRAL | D3: ='VERIFICACION DE OFERTAS'!D3 -> 1.9215243e+09 | F3: ='VERIFICACION DE OFERTAS'!F3 -> RECHAZADO
B4: =+'VERIFICACION DE OFERTAS'!B4 -> 77 | C4: ='VERIFICACION DE OFERTAS'!C4 -> CONINCAG SAS | D4: ='VERIFICACION DE OFERTAS'!D4 -> 1.8637327e+09 | F4: ='VERIFICACION DE OFERTAS'!F4 -> RECHAZADO
B5: =+'VERIFICACION DE OFERTAS'!B5 -> 74 | C5: ='VERIFICACION DE OFERTAS'!C5 -> CONSORCIO MANASSA 28 | D5: ='VERIFICACION DE OFERTAS'!D5 -> 1.8675064e+09 | E5: ='VERIFICACION DE OFERTAS'!E5 -> 1.8675064e+09 | F5: ='VERIFICACION DE OFERTAS'!F5 -> 0 | G5: =+E5 -> 1.8675064e+09 | H5: =IF(G5>=$F$67,"MAYOR","MENOR") -> MAYOR | I5: =IF(H5="MAYOR",(((59.5*(1-((ABS($F$67-G5))/$F$67))))),(((59.5*(1-((($F$67-G5))/$F$67)))))) -> 59.071418 | J5: =+#REF! -> #REF! | K5: =I5+J5 -> #REF!
B6: =+'VERIFICACION DE OFERTAS'!B6 -> 73 | C6: ='VERIFICACION DE OFERTAS'!C6 -> CONSORCIO SANTANA 2025 | D6: ='VERIFICACION DE OFERTAS'!D6 -> 1.8631888e+09 | E6: ='VERIFICACION DE OFERTAS'!E6 -> 1.8631888e+09 | F6: ='VERIFICACION DE OFERTAS'!F6 -> 0 | G6: =+E6 -> 1.8631888e+09 | H6: =IF(G6>=$F$67,"MAYOR","MENOR") -> MAYOR | I6: =IF(H6="MAYOR",(((59.5*(1-((ABS($F$67-G6))/$F$67))))),(((59.5*(1-((($F$67-G6))/$F$67)))))) -> 59.209972 | J6: =+#REF! -> #REF! | K6: =I6+J6 -> #REF!
B7: =+'VERIFICACION DE OFERTAS'!B7 -> 72 | C7: ='VERIFICACION DE OFERTAS'!C7 -> Fundacion Espeletia | D7: ='VERIFICACION DE OFERTAS'!D7 -> 1.834841e+09 | E7: ='VERIFICACION DE OFERTAS'!E7 -> 1.834841e+09 | F7: ='VERIFICACION DE OFERTAS'!F7 -> 0 | G7: =+E7 -> 1.834841e+09 | H7: =IF(G7>=$F$67,"MAYOR","MENOR") -> MENOR | I7: =IF(H7="MAYOR",(((59.5*(1-((ABS($F$67-G7))/$F$67))))),(((59.5*(1-((($F$67-G7))/$F$67)))))) -> 58.880341 | J7: =+#REF! -> #REF! | K7: =I7+J7 -> #REF!
B8: =+'VERIFICACION DE OFERTAS'!B8 -> 71 | C8: ='VERIFICACION DE OFERTAS'!C8 -> Consorcio CONSTRUCTOR CENTRAL | D8: ='VERIFICACION DE OFERTAS'!D8 -> 1.8579391e+09 | E8: ='VERIFICACION DE OFERTAS'!E8 -> 1.8579391e+09 | F8: ='VERIFICACION DE OFERTAS'!F8 -> 0 | G8: =+E8 -> 1.8579391e+09 | H8: =IF(G8>=$F$67,"MAYOR","MENOR") -> MAYOR | I8: =IF(H8="MAYOR",(((59.5*(1-((ABS($F$67-G8))/$F$67))))),(((59.5*(1-((($F$67-G8))/$F$67)))))) -> 59.378434 | J8: =+#REF! -> #REF! | K8: =I8+J8 -> #REF!
B9: =+'VERIFICACION DE OFERTAS'!B9 -> 69 | C9: ='VERIFICACION DE OFERTAS'!C9 -> CONSORCIO INGEGOBER | D9: ='VERIFICACION DE OFERTAS'!D9 -> 1.8651617e+09 | F9: ='VERIFICACION DE OFERTAS'!F9 -> RECHAZADO
B10: =+'VERIFICACION DE OFERTAS'!B10 -> 66 | C10: ='VERIFICACION DE OFERTAS'!C10 -> CONSORCIO ARCUM | D10: ='VERIFICACION DE OFERTAS'!D10 -> 1.8614113e+09 | E10: ='VERIFICACION DE OFERTAS'!E10 -> 1.8614113e+09 | F10: ='VERIFICACION DE OFERTAS'!F10 -> 0 | G10: =+E10 -> 1.8614113e+09 | H10: =IF(G10>=$F$67,"MAYOR","MENOR") -> MAYOR | I10: =IF(H10="MAYOR",(((59.5*(1-((ABS($F$67-G10))/$F$67))))),(((59.5*(1-((($F$67-G10))/$F$67)))))) -> 59.267011 | J10: =+#REF! -> #REF! | K10: =I10+J10 -> #REF!
B11: =+'VERIFICACION DE OFERTAS'!B11 -> 65 | C11: ='VERIFICACION DE OFERTAS'!C11 -> CONSORCIO SANTA RITA | D11: ='VERIFICACION DE OFERTAS'!D11 -> 1.893037e+09 | F11: ='VERIFICACION DE OFERTAS'!F11 -> RECHAZADO
B12: =+'VERIFICACION DE OFERTAS'!B12 -> 64 | C12: ='VERIFICACION DE OFERTAS'!C12 -> CONSORCIO OBRAS GMJ 2025 | D12: ='VERIFICACION DE OFERTAS'!D12 -> 1.8926652e+09 | E12: ='VERIFICACION DE OFERTAS'!E12 -> 1.8926652e+09 | F12: ='VERIFICACION DE OFERTAS'!F12 -> 0 | G12: =+E12 -> 1.8926652e+09 | H12: =IF(G12>=$F$67,"MAYOR","MENOR") -> MAYOR | I12: =IF(H12="MAYOR",(((59.5*(1-((ABS($F$67-G12))/$F$67))))),(((59.5*(1-((($F$67-G12))/$F$67)))))) -> 58.26407 | J12: =+#REF! -> #REF! | K12: =I12+J12 -> #REF!
B13: =+'VERIFICACION DE OFERTAS'!B13 -> 63 | C13: ='VERIFICACION DE OFERTAS'!C13 -> CONSORCIO INACAL NEIVA | D13: ='VERIFICACION DE OFERTAS'!D13 -> 1.8800857e+09 | E13: ='VERIFICACION DE OFERTAS'!E13 -> 1.8800857e+09 | F13: ='VERIFICACION DE OFERTAS'!F13 -> 0 | G13: =+E13 -> 1.8800857e+09 | H13: =IF(G13>=$F$67,"MAYOR","MENOR") -> MAYOR | I13: =IF(H13="MAYOR",(((59.5*(1-((ABS($F$67-G13))/$F$67))))),(((59.5*(1-((($F$67-G13))/$F$67)))))) -> 58.667749 | J13: =+#REF! -> #REF! | K13: =I13+J13 -> #REF!
B14: =+'VERIFICACION DE OFERTAS'!B14 -> 62 | C14: ='VERIFICACION DE OFERTAS'!C14 -> BRACO COMPANY S.A.S ZOMAC | D14: ='VERIFICACION DE OFERTAS'!D14 -> 1.9123188e+09 | E14: ='VERIFICACION DE OFERTAS'!E14 -> 1.9123188e+09 | F14: ='VERIFICACION DE OFERTAS'!F14 -> 0 | G14: =+E14 -> 1.9123188e+09 | H14: =IF(G14>=$F$67,"MAYOR","MENOR") -> MAYOR | I14: =IF(H14="MAYOR",(((59.5*(1-((ABS($F$67-G14))/$F$67))))),(((59.5*(1-((($F$67-G14))/$F$67)))))) -> 57.633384 | J14: =+#REF! -> #REF! | K14: =I14+J14 -> #REF!
B15: =+'VERIFICACION DE OFERTAS'!B15 -> 61 | C15: ='VERIFICACION DE OFERTAS'!C15 -> TELEACCESS LTDA | D15: ='VERIFICACION DE OFERTAS'!D15 -> 1.8873033e+09 | E15: ='VERIFICACION DE OFERTAS'!E15 -> 1.8873033e+09 | F15: ='VERIFICACION DE OFERTAS'!F15 -> 0 | G15: =+E15 -> 1.8873033e+09 | H15: =IF(G15>=$F$67,"MAYOR","MENOR") -> MAYOR | I15: =IF(H15="MAYOR",(((59.5*(1-((ABS($F$67-G15))/$F$67))))),(((59.5*(1-((($F$67-G15))/$F$67)))))) -> 58.436135 | J15: =+#REF! -> #REF! | K15: =I15+J15 -> #REF!
B16: =+'VERIFICACION DE OFERTAS'!B16 -> 60 | C16: ='VERIFICACION DE OFERTAS'!C16 -> 3G INGENERIA AVANZADA SAS | D16: ='VERIFICACION DE OFERTAS'!D16 -> 1.8467217e+09 | E16: ='VERIFICACION DE OFERTAS'!E16 -> 1.8467217e+09 | F16: ='VERIFICACION DE OFERTAS'!F16 -> 0 | G16: =+E16 -> 1.8467217e+09 | H16: =IF(G16>=$F$67,"MAYOR","MENOR") -> MENOR | I16: =IF(H16="MAYOR",(((59.5*(1-((ABS($F$67-G16))/$F$67))))),(((59.5*(1-((($F$67-G16))/$F$67)))))) -> 59.261595 | J16: =+#REF! -> #REF! | K16: =I16+J16 -> #REF!
B17: =+'VERIFICACION DE OFERTAS'!B17 -> 59 | C17: ='VERIFICACION DE OFERTAS'!C17 -> CONSORCIO HUILA DUOVAL 324 | D17: ='VERIFICACION DE OFERTAS'!D17 -> 1.8540754e+09 | F17: ='VERIFICACION DE OFERTAS'!F17 -> RECHAZADO
B18: =+'VERIFICACION DE OFERTAS'!B18 -> 58 | C18: ='VERIFICACION DE OFERTAS'!C18 -> CONSORCIO GPIng | D18: ='VERIFICACION DE OFERTAS'!D18 -> 1.8371757e+09 | F18: ='VERIFICACION DE OFERTAS'!F18 -> RECHAZADO
B19: =+'VERIFICACION DE OFERTAS'!B19 -> 57 | C19: ='VERIFICACION DE OFERTAS'!C19 -> CONSORCIO SANLORENZO | D19: ='VERIFICACION DE OFERTAS'!D19 -> 1.8704546e+09 | E19: ='VERIFICACION DE OFERTAS'!E19 -> 1.8704546e+09 | F19: ='VERIFICACION DE OFERTAS'!F19 -> 0 | G19: =+E19 -> 1.8704546e+09 | H19: =IF(G19>=$F$67,"MAYOR","MENOR") -> MAYOR | I19: =IF(H19="MAYOR",(((59.5*(1-((ABS($F$67-G19))/$F$67))))),(((59.5*(1-((($F$67-G19))/$F$67)))))) -> 58.97681 | J19: =+#REF! -> #REF! | K19: =I19+J19 -> #REF!
B20: =+'VERIFICACION DE OFERTAS'!B20 -> 54 | C20: ='VERIFICACION DE OFERTAS'!C20 -> CONSORCIO OCIDAN HUILA-13 | D20: ='VERIFICACION DE OFERTAS'!D20 -> 1.8647464e+09 | E20: ='VERIFICACION DE OFERTAS'!E20 -> 1.8647464e+09 | F20: ='VERIFICACION DE OFERTAS'!F20 -> 0 | G20: =+E20 -> 1.8647464e+09 | H20: =IF(G20>=$F$67,"MAYOR","MENOR") -> MAYOR | I20: =IF(H20="MAYOR",(((59.5*(1-((ABS($F$67-G20))/$F$67))))),(((59.5*(1-((($F$67-G20))/$F$67)))))) -> 59.159987 | J20: =+#REF! -> #REF! | K20: =I20+J20 -> #REF!
B21: =+'VERIFICACION DE OFERTAS'!B21 -> 53 | C21: ='VERIFICACION DE OFERTAS'!C21 -> CONSORCIO PROHAL 2025 | D21: ='VERIFICACION DE OFERTAS'!D21 -> 1.8734265e+09 | F21: ='VERIFICACION DE OFERTAS'!F21 -> RECHAZADO
B22: =+'VERIFICACION DE OFERTAS'!B22 -> 52 | C22: ='VERIFICACION DE OFERTAS'!C22 -> ZION CONSTRUCCIONES SAS | D22: ='VERIFICACION DE OFERTAS'!D22 -> 1.8913215e+09 | E22: ='VERIFICACION DE OFERTAS'!E22 -> 1.8913215e+09 | F22: ='VERIFICACION DE OFERTAS'!F22 -> 0 | G22: =+E22 -> 1.8913215e+09 | H22: =IF(G22>=$F$67,"MAYOR","MENOR") -> MAYOR | I22: =IF(H22="MAYOR",(((59.5*(1-((ABS($F$67-G22))/$F$67))))),(((59.5*(1-((($F$67-G22))/$F$67)))))) -> 58.307189 | J22: =+#REF! -> #REF! | K22: =I22+J22 -> #REF!
B23: =+'VERIFICACION DE OFERTAS'!B23 -> 51 | C23: ='VERIFICACION DE OFERTAS'!C23 -> CONSORCIO E&C HUILA | D23: ='VERIFICACION DE OFERTAS'!D23 -> 1.904256e+09 | E23: ='VERIFICACION DE OFERTAS'!E23 -> 1.904256e+09 | F23: ='VERIFICACION DE OFERTAS'!F23 -> 0 | G23: =+E23 -> 1.904256e+09 | H23: =IF(G23>=$F$67,"MAYOR","MENOR") -> MAYOR | I23: =IF(H23="MAYOR",(((59.5*(1-((ABS($F$67-G23))/$F$67))))),(((59.5*(1-((($F$67-G23))/$F$67)))))) -> 57.892119 | J23: =+#REF! -> #REF! | K23: =I23+J23 -> #REF!
B24: =+'VERIFICACION DE OFERTAS'!B24 -> 50 | C24: ='VERIFICACION DE OFERTAS'!C24 -> MONVAL GROUP | D24: ='VERIFICACION DE OFERTAS'!D24 -> 1.8950456e+09 | E24: ='VERIFICACION DE OFERTAS'!E24 -> 1.8950456e+09 | F24: ='VERIFICACION DE OFERTAS'!F24 -> 0 | G24: =+E24 -> 1.8950456e+09 | H24: =IF(G24>=$F$67,"MAYOR","MENOR") -> MAYOR | I24: =IF(H24="MAYOR",(((59.5*(1-((ABS($F$67-G24))/$F$67))))),(((59.5*(1-((($F$67-G24))/$F$67)))))) -> 58.187682 | J24: =+#REF! -> #REF! | K24: =I24+J24 -> #REF!
B25: =+'VERIFICACION DE OFERTAS'!B25 -> 49 | C25: ='VERIFICACION DE OFERTAS'!C25 -> CONSORCIO CASTILLO | D25: ='VERIFICACION DE OFERTAS'!D25 -> 1.8671131e+09 | E25: ='VERIFICACION DE OFERTAS'!E25 -> 1.8671131e+09 | F25: ='VERIFICACION DE OFERTAS'!F25 -> 0 | G25: =+E25 -> 1.8671131e+09 | H25: =IF(G25>=$F$67,"MAYOR","MENOR") -> MAYOR | I25: =IF(H25="MAYOR",(((59.5*(1-((ABS($F$67-G25))/$F$67))))),(((59.5*(1-((($F$67-G25))/$F$67)))))) -> 59.084039 | J25: =+#REF! -> #REF! | K25: =I25+J25 -> #REF!
B26: =+'VERIFICACION DE OFERTAS'!B26 -> 48 | C26: ='VERIFICACION DE OFERTAS'!C26 -> CONSORCIO CENTRAL MIV | D26: ='VERIFICACION DE OFERTAS'!D26 -> 1.8508276e+09 | E26: ='VERIFICACION DE OFERTAS'!E26 -> 1.8508276e+09 | F26: ='VERIFICACION DE OFERTAS'!F26 -> 0 | G26: =+E26 -> 1.8508276e+09 | H26: =IF(G26>=$F$67,"MAYOR","MENOR") -> MENOR | I26: =IF(H26="MAYOR",(((59.5*(1-((ABS($F$67-G26))/$F$67))))),(((59.5*(1-((($F$67-G26))/$F$67)))))) -> 59.393357 | J26: =+#REF! -> #REF! | K26: =I26+J26 -> #REF!
B27: =+'VERIFICACION DE OFERTAS'!B27 -> 46 | C27: ='VERIFICACION DE OFERTAS'!C27 -> UNION TEMPORAL INNOVA | D27: ='VERIFICACION DE OFERTAS'!D27 -> 1.8827596e+09 | F27: ='VERIFICACION DE OFERTAS'!F27 -> RECHAZADO
B28: =+'VERIFICACION DE OFERTAS'!B28 -> 45 | C28: ='VERIFICACION DE OFERTAS'!C28 -> Adecuaciones jeroca | D28: ='VERIFICACION DE OFERTAS'!D28 -> 1.8670212e+09 | E28: ='VERIFICACION DE OFERTAS'!E28 -> 1.8670212e+09 | F28: ='VERIFICACION DE OFERTAS'!F28 -> 0 | G28: =+E28 -> 1.8670212e+09 | H28: =IF(G28>=$F$67,"MAYOR","MENOR") -> MAYOR | I28: =IF(H28="MAYOR",(((59.5*(1-((ABS($F$67-G28))/$F$67))))),(((59.5*(1-((($F$67-G28))/$F$67)))))) -> 59.086989 | J28: =+#REF! -> #REF! | K28: =I28+J28 -> #REF!
B29: =+'VERIFICACION DE OFERTAS'!B29 -> 44 | C29: ='VERIFICACION DE OFERTAS'!C29 -> CONSORCIO HUILA 2025 | D29: ='VERIFICACION DE OFERTAS'!D29 -> 1.8651492e+09 | E29: ='VERIFICACION DE OFERTAS'!E29 -> 1.8651492e+09 | F29: ='VERIFICACION DE OFERTAS'!F29 -> 0 | G29: =+E29 -> 1.8651492e+09 | H29: =IF(G29>=$F$67,"MAYOR","MENOR") -> MAYOR | I29: =IF(H29="MAYOR",(((59.5*(1-((ABS($F$67-G29))/$F$67))))),(((59.5*(1-((($F$67-G29))/$F$67)))))) -> 59.147061 | J29: =+#REF! -> #REF! | K29: =I29+J29 -> #REF!
B30: =+'VERIFICACION DE OFERTAS'!B30 -> 43 | C30: ='VERIFICACION DE OFERTAS'!C30 -> INGENIERIA RH | D30: ='VERIFICACION DE OFERTAS'!D30 -> 1.8828356e+09 | E30: ='VERIFICACION DE OFERTAS'!E30 -> 1.8828356e+09 | F30: ='VERIFICACION DE OFERTAS'!F30 -> 0 | G30: =+E30 -> 1.8828356e+09 | H30: =IF(G30>=$F$67,"MAYOR","MENOR") -> MAYOR | I30: =IF(H30="MAYOR",(((59.5*(1-((ABS($F$67-G30))/$F$67))))),(((59.5*(1-((($F$67-G30))/$F$67)))))) -> 58.579503 | J30: =+#REF! -> #REF! | K30: =I30+J30 -> #REF!
B31: =+'VERIFICACION DE OFERTAS'!B31 -> 42 | C31: ='VERIFICACION DE OFERTAS'!C31 -> CONSORCIO CE OBRAS HUILA | D31: ='VERIFICACION DE OFERTAS'!D31 -> 1.8342918e+09 | F31: RECHAZADO
B32: =+'VERIFICACION DE OFERTAS'!B32 -> 41 | C32: ='VERIFICACION DE OFERTAS'!C32 -> CONSORCIO HUILA 2D | D32: ='VERIFICACION DE OFERTAS'!D32 -> 1.8733439e+09 | E32: ='VERIFICACION DE OFERTAS'!E32 -> 1.8733439e+09 | F32: ='VERIFICACION DE OFERTAS'!F32 -> 0 | G32: =+E32 -> 1.8733439e+09 | H32: =IF(G32>=$F$67,"MAYOR","MENOR") -> MAYOR | I32: =IF(H32="MAYOR",(((59.5*(1-((ABS($F$67-G32))/$F$67))))),(((59.5*(1-((($F$67-G32))/$F$67)))))) -> 58.884094 | J32: =+#REF! -> #REF! | K32: =I32+J32 -> #REF!
B33: =+'VERIFICACION DE OFERTAS'!B33 -> 39 | C33: ='VERIFICACION DE OFERTAS'!C33 -> CONSORCIO MEGAHUILA | D33: ='VERIFICACION DE OFERTAS'!D33 -> 1.8603139e+09 | E33: ='VERIFICACION DE OFERTAS'!E33 -> 1.8603139e+09 | F33: ='VERIFICACION DE OFERTAS'!F33 -> 0 | G33: =+E33 -> 1.8603139e+09 | H33: =IF(G33>=$F$67,"MAYOR","MENOR") -> MAYOR | I33: =IF(H33="MAYOR",(((59.5*(1-((ABS($F$67-G33))/$F$67))))),(((59.5*(1-((($F$67-G33))/$F$67)))))) -> 59.302228 | J33: =+#REF! -> #REF! | K33: =I33+J33 -> #REF!
B34: =+'VERIFICACION DE OFERTAS'!B34 -> 38 | C34: ='VERIFICACION DE OFERTAS'!C34 -> CONSORCIO OBRAS BIENES | D34: ='VERIFICACION DE OFERTAS'!D34 -> 1.8540051e+09 | E34: ='VERIFICACION DE OFERTAS'!E34 -> 1.8540051e+09 | F34: ='VERIFICACION DE OFERTAS'!F34 -> 0 | G34: =+E34 -> 1.8540051e+09 | H34: =IF(G34>=$F$67,"MAYOR","MENOR") -> MENOR | I34: =IF(H34="MAYOR",(((59.5*(1-((ABS($F$67-G34))/$F$67))))),(((59.5*(1-((($F$67-G34))/$F$67)))))) -> 59.495323 | J34: =+#REF! -> #REF! | K34: =I34+J34 -> #REF!
B35: =+'VERIFICACION DE OFERTAS'!B35 -> 37 | C35: ='VERIFICACION DE OFERTAS'!C35 -> CONSORCIO CENTRAL V&V | D35: ='VERIFICACION DE OFERTAS'!D35 -> 1.890015e+09 | E35: ='VERIFICACION DE OFERTAS'!E35 -> 1.890015e+09 | F35: ='VERIFICACION DE OFERTAS'!F35 -> 0 | G35: =+E35 -> 1.890015e+09 | H35: =IF(G35>=$F$67,"MAYOR","MENOR") -> MAYOR | I35: =IF(H35="MAYOR",(((59.5*(1-((ABS($F$67-G35))/$F$67))))),(((59.5*(1-((($F$67-G35))/$F$67)))))) -> 58.349115 | J35: =+#REF! -> #REF! | K35: =I35+J35 -> #REF!
B36: =+'VERIFICACION DE OFERTAS'!B36 -> 36 | C36: ='VERIFICACION DE OFERTAS'!C36 -> CONSORCIO ADECUACIONES 2CP | D36: ='VERIFICACION DE OFERTAS'!D36 -> 1.8625895e+09 | E36: ='VERIFICACION DE OFERTAS'!E36 -> 1.8625895e+09 | F36: ='VERIFICACION DE OFERTAS'!F36 -> 0 | G36: =+E36 -> 1.8625895e+09 | H36: =IF(G36>=$F$67,"MAYOR","MENOR") -> MAYOR | I36: =IF(H36="MAYOR",(((59.5*(1-((ABS($F$67-G36))/$F$67))))),(((59.5*(1-((($F$67-G36))/$F$67)))))) -> 59.229203 | J36: =+#REF! -> #REF! | K36: =I36+J36 -> #REF!
B37: =+'VERIFICACION DE OFERTAS'!B37 -> 35 | C37: ='VERIFICACION DE OFERTAS'!C37 -> CONSORCIO MEJORAMIENTO ARSAF | D37: ='VERIFICACION DE OFERTAS'!D37 -> 1.8376335e+09 | F37: RECHAZADO
B38: =+'VERIFICACION DE OFERTAS'!B38 -> 33 | C38: ='VERIFICACION DE OFERTAS'!C38 -> CONSORCIO TURPIAL 2025 | D38: ='VERIFICACION DE OFERTAS'!D38 -> 1.8535522e+09 | E38: ='VERIFICACION DE OFERTAS'!E38 -> 1.8535522e+09 | F38: ='VERIFICACION DE OFERTAS'!F38 -> 0 | G38: =+E38 -> 1.8535522e+09 | H38: =IF(G38>=$F$67,"MAYOR","MENOR") -> MENOR | I38: =IF(H38="MAYOR",(((59.5*(1-((ABS($F$67-G38))/$F$67))))),(((59.5*(1-((($F$67-G38))/$F$67)))))) -> 59.480788 | J38: =+#REF! -> #REF! | K38: =I38+J38 -> #REF!
B39: =+'VERIFICACION DE OFERTAS'!B39 -> 31 | C39: ='VERIFICACION DE OFERTAS'!C39 -> CONSORCIO ADECUACIONES HUILA 04 | D39: ='VERIFICACION DE OFERTAS'!D39 -> 1.8936516e+09 | E39: ='VERIFICACION DE OFERTAS'!E39 -> 1.8936516e+09 | F39: ='VERIFICACION DE OFERTAS'!F39 -> 0 | G39: =+E39 -> 1.8936516e+09 | H39: =IF(G39>=$F$67,"MAYOR","MENOR") -> MAYOR | I39: =IF(H39="MAYOR",(((59.5*(1-((ABS($F$67-G39))/$F$67))))),(((59.5*(1-((($F$67-G39))/$F$67)))))) -> 58.232417 | J39: =+#REF! -> #REF! | K39: =I39+J39 -> #REF!
B40: =+'VERIFICACION DE OFERTAS'!B40 -> 30 | C40: ='VERIFICACION DE OFERTAS'!C40 -> CONSORCIO OPITA 25 | D40: ='VERIFICACION DE OFERTAS'!D40 -> 1.8837952e+09 | F40: ='VERIFICACION DE OFERTAS'!F40 -> RECHAZADO
B41: =+'VERIFICACION DE OFERTAS'!B41 -> 29 | C41: ='VERIFICACION DE OFERTAS'!C41 -> DRV INGENIERIA SAS | D41: ='VERIFICACION DE OFERTAS'!D41 -> 1.811816e+09 | F41: RECHAZADO
...

Sheet Hoja2
D4: Lista de ofertas
D5: Referencia de oferta | E5: Entidad | F5: Evaluación | G5: Presentada | H5: Oferta
D6: OFERTA SHALOM SAN ANTONIO | E6: CONSORCIO SHALOM SAN ANTONIO | F6: Oferta rechazada | G6: 46017.416 | H6: 0
D7: CONSORCIO SAN ANTONIO 07 - PARQUE DIDACTICO ATLANTICO No. LP 03-2025 | E7: CONSORCIO SAN ANTONIO 07 | F7: Oferta aceptada | G7: 46017.41 | H7: 1351860436
D8: MNSILPOP007-2025 - UNION TEMPORAL INGENIERIA CYG | E8: UNION TEMPORAL INGENIERIA CYG | F8: Oferta rechazada | G8: 46017.407 | H8: 0
D9: GR NEIVA 007 | E9: CONSORCIO POBLADO HUILA 26 | F9: Oferta aceptada | G9: 46017.405 | H9: 1372811045
D10: MNSILPOP007-2025 IYM | E10: IMAGEN Y MARCA S.A.S. | F10: Oferta aceptada | G10: 46017.404 | H10: 1365008570
D11: AGA SAN ANTONIO copia | E11: CONSORCIO AGA SAN ANTONIO | F11: Oferta aceptada | G11: 46017.403 | H11: 1369299255
D12: ADECUACIONES TRUMEJ SAN ANTONIO | E12: TRUMEJ SAN ANTONIO | F12: Oferta aceptada | G12: 46017.401 | H12: 1372344911
D13: Oferta Neiva | E13: CONSORCIO JACON | F13: Oferta aceptada | G13: 46017.399 | H13: 1378583870
D14: CONSORCIO PARQUES URBANOS | E14: CONSORCIO PARQUES URBANOS | F14: Oferta aceptada | G14: 46017.395 | H14: 1365076455
D15: CONSORCIO ALIANZA ESTRATEGICA MYM | E15: CONSORCIO ALIANZA ESTRATEGICA MYM | F15: Oferta rechazada | G15: 46017.393 | H15: 0
D16: MNSILPOP007-2025 UT CENTRO POBLADO | E16: UNION TEMPORAL CENTRO POBLADO | F16: Oferta rechazada | G16: 46017.378 | H16: 0
D17: UNION TEMPORAL OBRAS CENTRO 2025 | E17: UT OBRAS CENTRO 2025 | F17: Oferta rechazada | G17: 46017.377 | H17: 0
... D40: UNIÓN TEMPORAL MEJORAMIENTO URBANO ANACONIA | E40: UNIÓN TEMPORAL MEJORAMIENTO URBANO ANACONIA | F40: Oferta rechazada | G40: 46014.706 | H40: 0

Sheet TODAS
C2: PROPONENTES | D2: PROPUESTA ECONÓMICA | E2: OFERTA SECOP | F2: RECHAZOS OFERTA ECONOMICA | G2: VALOR PROPUESTA ECONÓMICA | H2: REQUERIMEINTO PRECIO ARTIFICIALMENTE BAJO | I2: OBSERVACION
B3: 44 | C3: CONSORCIO NUEVA GRANADA | G3: 1438892730 | H3: =IF(G3>$G$72,"OK","REQUERIR") -> OK
B4: 41 | C4: CONSORCIO YACHAL | G4: 1419294728 | H4: =IF(G4>$G$72,"OK","REQUERIR") -> OK
B5: 40 | C5: CONSORCIO PROMETEO | G5: 1399975340 | H5: =IF(G5>$G$72,"OK","REQUERIR") -> OK
B6: 36 | C6: CONSORCIO VÍA NEIVA 4029 | G6: 1419589605 | H6: =IF(G6>$G$72,"OK","REQUERIR") -> OK
B7: 29 | C7: CONSORCIO NEIVA WR | G7: 1415695870 | H7: =IF(G7>$G$72,"OK","REQUERIR") -> OK
B8: 28 | C8: CONSORCIO VIAL NEIVA | G8: 1436643986 | H8: =IF(G8>$G$72,"OK","REQUERIR") -> OK
B9: 27 | C9: PAVINCI 11-2025 | G9: 1426046317 | H9: =IF(G9>$G$72,"OK","REQUERIR") -> OK
B10: 24 | C10: CS INFRA - CR | G10: 1431230551 | H10: =IF(G10>$G$72,"OK","REQUERIR") -> OK
B11: 22 | C11: U.T. VIA ZONA URBANA | G11: 1430660190 | H11: =IF(G11>$G$72,"OK","REQUERIR") -> OK
B12: 21 | C12: CONSORCIO JC 08 NEIVA | G12: 1432648420 | H12: =IF(G12>$G$72,"OK","REQUERIR") -> OK
B13: 19 | C13: UT RED-VIAL 25 | G13: 1432156357 | H13: =IF(G13>$G$72,"OK","REQUERIR") -> OK
B14: 17 | C14: CONSORCIO OMEGA NEIVA | G14: 1402988715 | H14: =IF(G14>$G$72,"OK","REQUERIR") -> OK
... B21: 1 | C21: CONSORCIO SOLINGCO | G21: 1421682769 | H21: =IF(G21>$G$72,"OK","REQUERIR") -> OK
G70: =MEDIAN(G3:G21) -> 1421682769
G71: =_xlfn.STDEV.P(G3:G21) -> 22582572
G72: =+G70-G71 -> 1.3991002e+09

Sheet MAB 
B2: PROPUESTA | C2: PROPONENTE | D2: PROPUESTA ECONÓMICA | E2: SECOP | F2: CORRECCIÓN ARITMÉTICA | G2: VALOR PROPUESTA ECONÓMICA | H2: MAYOR O MENOR | I2: PUNTOS | J2: PUNTUACION INICIAL | K2: TOTAL PUNTUACIÓN
C3: =+'INICIAL PRECIO ARTIFICIALME (2)'!#REF! -> #REF! | D3: =+'INICIAL PRECIO ARTIFICIALME (2)'!#REF! -> #REF! | E3: =+D3 -> #REF! | F3: =+'INICIAL PRECIO ARTIFICIALME (2)'!#REF! -> #REF! | G3: =+E3 -> #REF! | H3: =IF(G3>=$F$49,"MAYOR","MENOR") -> #REF! | I3: =IF(H3="MAYOR",(((59.5*(1-((ABS($F$49-G3))/$F$49))))),(((59.5*(1-((($F$49-G3))/$F$49)))))) -> #REF! | J3: 40.5 | K3: =I3+J3 -> #REF!
C4: =+'INICIAL PRECIO ARTIFICIALME (2)'!#REF! -> #REF! | D4: =+'INICIAL PRECIO ARTIFICIALME (2)'!#REF! -> #REF! | E4: =+D4 -> #REF! | F4: =+'INICIAL PRECIO ARTIFICIALME (2)'!#REF! -> #REF! | G4: =+E4 -> #REF! | H4: =IF(G4>=$F$49,"MAYOR","MENOR") -> #REF! | I4: =IF(H4="MAYOR",(((59.5*(1-((ABS($F$49-G4))/$F$49))))),(((59.5*(1-((($F$49-G4))/$F$49)))))) -> #REF! | J4: 40.5 | K4: =I4+J4 -> #REF!
C5: =+'INICIAL PRECIO ARTIFICIALME (2)'!#REF! -> #REF! | D5: =+'INICIAL PRECIO ARTIFICIALME (2)'!#REF! -> #REF! | E5: =+D5 -> #REF! | F5: =+'INICIAL PRECIO ARTIFICIALME (2)'!#REF! -> #REF! | G5: =+E5 -> #REF! | H5: =IF(G5>=$F$49,"MAYOR","MENOR") -> #REF! | I5: =IF(H5="MAYOR",(((59.5*(1-((ABS($F$49-G5))/$F$49))))),(((59.5*(1-((($F$49-G5))/$F$49)))))) -> #REF! | J5: 40.5 | K5: =I5+J5 -> #REF!
C6: =+'INICIAL PRECIO ARTIFICIALME (2)'!#REF! -> #REF! | D6: =+'INICIAL PRECIO ARTIFICIALME (2)'!#REF! -> #REF! | E6: =+D6 -> #REF! | F6: =+'INICIAL PRECIO ARTIFICIALME (2)'!#REF! -> #REF! | G6: =+E6 -> #REF! | H6: =IF(G6>=$F$49,"MAYOR","MENOR") -> #REF! | I6: =IF(H6="MAYOR",(((59.5*(1-((ABS($F$49-G6))/$F$49))))),(((59.5*(1-((($F$49-G6))/$F$49)))))) -> #REF! | J6: 40.5 | K6: =I6+J6 -> #REF!
C7: =+'INICIAL PRECIO ARTIFICIALME (2)'!#REF! -> #REF! | D7: =+'INICIAL PRECIO ARTIFICIALME (2)'!#REF! -> #REF! | E7: =+D7 -> #REF! | F7: =+'INICIAL PRECIO ARTIFICIALME (2)'!#REF! -> #REF! | G7: =+E7 -> #REF! | H7: =IF(G7>=$F$49,"MAYOR","MENOR") -> #REF! | I7: =IF(H7="MAYOR",(((59.5*(1-((ABS($F$49-G7))/$F$49))))),(((59.5*(1-((($F$49-G7))/$F$49)))))) -> #REF! | J7: 40.5 | K7: =I7+J7 -> #REF!
C8: =+'INICIAL PRECIO ARTIFICIALME (2)'!#REF! -> #REF! | D8: =+'INICIAL PRECIO ARTIFICIALME (2)'!#REF! -> #REF! | E8: =+D8 -> #REF! | F8: =+'INICIAL PRECIO ARTIFICIALME (2)'!#REF! -> #REF! | G8: =+E8 -> #REF! | H8: =IF(G8>=$F$49,"MAYOR","MENOR") -> #REF! | I8: =IF(H8="MAYOR",(((59.5*(1-((ABS($F$49-G8))/$F$49))))),(((59.5*(1-((($F$49-G8))/$F$49)))))) -> #REF! | J8: 40.5 | K8: =I8+J8 -> #REF!
C9: =+'INICIAL PRECIO ARTIFICIALME (2)'!#REF! -> #REF! | D9: =+'INICIAL PRECIO ARTIFICIALME (2)'!#REF! -> #REF! | E9: =+D9 -> #REF! | F9: =+'INICIAL PRECIO ARTIFICIALME (2)'!#REF! -> #REF! | G9: =+E9 -> #REF! | H9: =IF(G9>=$F$49,"MAYOR","MENOR") -> #REF! | I9: =IF(H9="MAYOR",(((59.5*(1-((ABS($F$49-G9))/$F$49))))),(((59.5*(1-((($F$49-G9))/$F$49)))))) -> #REF! | J9: 40.5 | K9: =I9+J9 -> #REF!
C10: =+'INICIAL PRECIO ARTIFICIALME (2)'!#REF! -> #REF! | D10: =+'INICIAL PRECIO ARTIFICIALME (2)'!#REF! -> #REF! | E10: =+D10 -> #REF! | F10: =+'INICIAL PRECIO ARTIFICIALME (2)'!#REF! -> #REF! | G10: =+E10 -> #REF! | H10: =IF(G10>=$F$49,"MAYOR","MENOR") -> #REF! | I10: =IF(H10="MAYOR",(((59.5*(1-((ABS($F$49-G10))/$F$49))))),(((59.5*(1-((($F$49-G10))/$F$49)))))) -> #REF! | J10: 40.5 | K10: =I10+J10 -> #REF!
C11: =+'INICIAL PRECIO ARTIFICIALME (2)'!#REF! -> #REF! | D11: =+'INICIAL PRECIO ARTIFICIALME (2)'!#REF! -> #REF! | E11: =+D11 -> #REF! | F11: =+'INICIAL PRECIO ARTIFICIALME (2)'!#REF! -> #REF! | G11: =+E11 -> #REF! | H11: =IF(G11>=$F$49,"MAYOR","MENOR") -> #REF! | I11: =IF(H11="MAYOR",(((59.5*(1-((ABS($F$49-G11))/$F$49))))),(((59.5*(1-((($F$49-G11))/$F$49)))))) -> #REF! | J11: 40.5 | K11: =I11+J11 -> #REF!
C12: =+'INICIAL PRECIO ARTIFICIALME (2)'!#REF! -> #REF! | D12: =+'INICIAL PRECIO ARTIFICIALME (2)'!#REF! -> #REF! | E12: =+D12 -> #REF! | F12: =+'INICIAL PRECIO ARTIFICIALME (2)'!#REF! -> #REF! | G12: =+E12 -> #REF! | H12: =IF(G12>=$F$49,"MAYOR","MENOR") -> #REF! | I12: =IF(H12="MAYOR",(((59.5*(1-((ABS($F$49-G12))/$F$49))))),(((59.5*(1-((($F$49-G12))/$F$49)))))) -> #REF! | J12: 40.5 | K12: =I12+J12 -> #REF!
C13: =+'INICIAL PRECIO ARTIFICIALME (2)'!#REF! -> #REF! | D13: =+'INICIAL PRECIO ARTIFICIALME (2)'!#REF! -> #REF! | E13: =+D13 -> #REF! | F13: =+'INICIAL PRECIO ARTIFICIALME (2)'!#REF! -> #REF! | G13: =+E13 -> #REF! | H13: =IF(G13>=$F$49,"MAYOR","MENOR") -> #REF! | I13: =IF(H13="MAYOR",(((59.5*(1-((ABS($F$49-G13))/$F$49))))),(((59.5*(1-((($F$49-G13))/$F$49)))))) -> #REF! | J13: 40.5 | K13: =I13+J13 -> #REF!
C14: =+'INICIAL PRECIO ARTIFICIALME (2)'!#REF! -> #REF! | D14: =+'INICIAL PRECIO ARTIFICIALME (2)'!#REF! -> #REF! | E14: =+D14 -> #REF! | F14: =+'INICIAL PRECIO ARTIFICIALME (2)'!#REF! -> #REF! | G14: =+E14 -> #REF! | H14: =IF(G14>=$F$49,"MAYOR","MENOR") -> #REF! | I14: =IF(H14="MAYOR",(((59.5*(1-((ABS($F$49-G14))/$F$49))))),(((59.5*(1-((($F$49-G14))/$F$49)))))) -> #REF! | J14: 40.5 | K14: =I14+J14 -> #REF!
... C29: =+'INICIAL PRECIO ARTIFICIALME (2)'!#REF! -> #REF! | D29: =+'INICIAL PRECIO ARTIFICIALME (2)'!#REF! -> #REF! | E29: =+D29 -> #REF! | F29: =+'INICIAL PRECIO ARTIFICIALME (2)'!#REF! -> #REF! | G29: =+E29 -> #REF! | H29: =IF(G29>=$F$49,"MAYOR","MENOR") -> #REF! | I29: =IF(H29="MAYOR",(((59.5*(1-((ABS($F$49-G29))/$F$49))))),(((59.5*(1-((($F$49-G29))/$F$49)))))) -> #REF! | J29: 40.5 | K29: =I29+J29 -> #REF!
C30: =+'INICIAL PRECIO ARTIFICIALME (2)'!#REF! -> #REF! | D30: =+'INICIAL PRECIO ARTIFICIALME (2)'!#REF! -> #REF! | E30: =+D30 -> #REF! | F30: =+'INICIAL PRECIO ARTIFICIALME (2)'!#REF! -> #REF! | H30: =IF(G30>=$F$49,"MAYOR","MENOR") -> #REF! | I30: =IF(H30="MAYOR",(((59.5*(1-((ABS($F$49-G30))/$F$49))))),(((59.5*(1-((($F$49-G30))/$F$49)))))) -> #REF! | J30: 40.5 | K30: =I30+J30 -> #REF!
C31: =+'INICIAL PRECIO ARTIFICIALME (2)'!C15 -> CONSORCIO BIZANCIO 59 | D31: =+'INICIAL PRECIO ARTIFICIALME (2)'!G15 -> 1375905151 | E31: =+D31 -> 1375905151 | F31: =+'INICIAL PRECIO ARTIFICIALME (2)'!H15 -> OK | G31: =+E31 -> 1375905151 | H31: =IF(G31>=$F$49,"MAYOR","MENOR") -> #REF! | I31: =IF(H31="MAYOR",(((59.5*(1-((ABS($F$49-G31))/$F$49))))),(((59.5*(1-((($F$49-G31))/$F$49)))))) -> #REF! | J31: 40.5 | K31: =I31+J31 -> #REF!
C32: =+'INICIAL PRECIO ARTIFICIALME (2)'!C16 -> CONSORCIO ARENZANO | D32: =+'INICIAL PRECIO ARTIFICIALME (2)'!G16 -> 1307432034 | E32: =+D32 -> 1307432034 | F32: =+'INICIAL PRECIO ARTIFICIALME (2)'!H16 -> REQUERIR | G32: =+E32 -> 1307432034 | H32: =IF(G32>=$F$49,"MAYOR","MENOR") -> #REF! | I32: =IF(H32="MAYOR",(((59.5*(1-((ABS($F$49-G32))/$F$49))))),(((59.5*(1-((($F$49-G32))/$F$49)))))) -> #REF! | J32: 40.5 | K32: =I32+J32 -> #REF!
C33: =+'INICIAL PRECIO ARTIFICIALME (2)'!#REF! -> #REF! | D33: =+'INICIAL PRECIO ARTIFICIALME (2)'!#REF! -> #REF! | E33: =+D33 -> #REF! | F33: =+'INICIAL PRECIO ARTIFICIALME (2)'!#REF! -> #REF! | G33: =+E33 -> #REF! | H33: =IF(G33>=$F$49,"MAYOR","MENOR") -> #REF! | I33: =IF(H33="MAYOR",(((59.5*(1-((ABS($F$49-G33))/$F$49))))),(((59.5*(1-((($F$49-G33))/$F$49)))))) -> #REF! | J33: 40.5 | K33: =I33+J33 -> #REF!
C34: =+'INICIAL PRECIO ARTIFICIALME (2)'!#REF! -> #REF! | D34: =+'INICIAL PRECIO ARTIFICIALME (2)'!#REF! -> #REF! | E34: =+D34 -> #REF! | F34: =+'INICIAL PRECIO ARTIFICIALME (2)'!#REF! -> #REF! | G34: =+E34 -> #REF! | H34: =IF(G34>=$F$49,"MAYOR","MENOR") -> #REF! | I34: =IF(H34="MAYOR",(((59.5*(1-((ABS($F$49-G34))/$F$49))))),(((59.5*(1-((($F$49-G34))/$F$49)))))) -> #REF! | J34: 40.5 | K34: =I34+J34 -> #REF!
C35: =+'INICIAL PRECIO ARTIFICIALME (2)'!#REF! -> #REF! | D35: =+'INICIAL PRECIO ARTIFICIALME (2)'!#REF! -> #REF! | E35: =+D35 -> #REF! | F35: =+'INICIAL PRECIO ARTIFICIALME (2)'!#REF! -> #REF! | G35: =+E35 -> #REF! | H35: =IF(G35>=$F$49,"MAYOR","MENOR") -> #REF! | I35: =IF(H35="MAYOR",(((59.5*(1-((ABS($F$49-G35))/$F$49))))),(((59.5*(1-((($F$49-G35))/$F$49)))))) -> #REF! | J35: 40.5 | K35: =I35+J35 -> #REF!
C36: =+'INICIAL PRECIO ARTIFICIALME (2)'!#REF! -> #REF! | D36: =+'INICIAL PRECIO ARTIFICIALME (2)'!#REF! -> #REF! | E36: =+D36 -> #REF! | F36: =+'INICIAL PRECIO ARTIFICIALME (2)'!#REF! -> #REF! | G36: =+E36 -> #REF! | H36: =IF(G36>=$F$49,"MAYOR","MENOR") -> #REF! | I36: =IF(H36="MAYOR",(((59.5*(1-((ABS($F$49-G36))/$F$49))))),(((59.5*(1-((($F$49-G36))/$F$49)))))) -> #REF! | J36: 40.5 | K36: =I36+J36 -> #REF!
C37: =+'INICIAL PRECIO ARTIFICIALME (2)'!C17 -> CONSORCIO NEIVA 725 | D37: =+'INICIAL PRECIO ARTIFICIALME (2)'!G17 -> 1368869443 | E37: =+D37 -> 1368869443 | F37: =+'INICIAL PRECIO ARTIFICIALME (2)'!H17 -> OK | G37: =+E37 -> 1368869443 | H37: =IF(G37>=$F$49,"MAYOR","MENOR") -> #REF! | I37: =IF(H37="MAYOR",(((59.5*(1-((ABS($F$49-G37))/$F$49))))),(((59.5*(1-((($F$49-G37))/$F$49)))))) -> #REF! | J37: 40.5 | K37: =I37+J37 -> #REF!
C38: =+'INICIAL PRECIO ARTIFICIALME (2)'!#REF! -> #REF! | D38: =+'INICIAL PRECIO ARTIFICIALME (2)'!#REF! -> #REF! | E38: =+D38 -> #REF! | F38: =+'INICIAL PRECIO ARTIFICIALME (2)'!#REF! -> #REF! | H38: =IF(G38>=$F$49,"MAYOR","MENOR") -> #REF! | I38: =IF(H38="MAYOR",(((59.5*(1-((ABS($F$49-G38))/$F$49))))),(((59.5*(1-((($F$49-G38))/$F$49)))))) -> #REF! | J38: 40.5 | K38: =I38+J38 -> #REF!
C39: =+'INICIAL PRECIO ARTIFICIALME (2)'!C18 -> Consorcio Neiva parque 2025 | D39: =+'INICIAL PRECIO ARTIFICIALME (2)'!G18 -> 1372403466 | E39: =+D39 -> 1372403466 | F39: =+'INICIAL PRECIO ARTIFICIALME (2)'!H18 -> OK | G39: =+E39 -> 1372403466 | H39: =IF(G39>=$F$49,"MAYOR","MENOR") -> #REF! | I39: =IF(H39="MAYOR",(((59.5*(1-((ABS($F$49-G39))/$F$49))))),(((59.5*(1-((($F$49-G39))/$F$49)))))) -> #REF! | J39: 40.5 | K39: =I39+J39 -> #REF!
C40: =+'INICIAL PRECIO ARTIFICIALME (2)'!C19 -> CONSORCIO O. E. ANACONIA | D40: =+'INICIAL PRECIO ARTIFICIALME (2)'!G19 -> 1365316288 | E40: =+D40 -> 1365316288 | F40: =+'INICIAL PRECIO ARTIFICIALME (2)'!H19 -> OK | G40: =+E40 -> 1365316288 | H40: =IF(G40>=$F$49,"MAYOR","MENOR") -> #REF! | I40: =IF(H40="MAYOR",(((59.5*(1-((ABS($F$49-G40))/$F$49))))),(((59.5*(1-((($F$49-G40))/$F$49)))))) -> #REF! | J40: 40.5 | K40: =I40+J40 -> #REF!
C41: =+'INICIAL PRECIO ARTIFICIALME (2)'!C20 -> PETRA INGENIERIA Y CONSTRUCCIONES SAS | D41: =+'INICIAL PRECIO ARTIFICIALME (2)'!G20 -> 1367601745 | E41: =+D41 -> 1367601745 | F41: =+'INICIAL PRECIO ARTIFICIALME (2)'!H20 -> OK | G41: =+E41 -> 1367601745 | H41: =IF(G41>=$F$49,"MAYOR","MENOR") -> #REF! | I41: =IF(H41="MAYOR",(((59.5*(1-((ABS($F$49-G41))/$F$49))))),(((59.5*(1-((($F$49-G41))/$F$49)))))) -> #REF! | J41: 40.5 | K41: =I41+J41 -> #REF!
C42: =+'INICIAL PRECIO ARTIFICIALME (2)'!#REF! -> #REF! | D42: =+'INICIAL PRECIO ARTIFICIALME (2)'!#REF! -> #REF! | E42: =+D42 -> #REF! | F42: =+'INICIAL PRECIO ARTIFICIALME (2)'!#REF! -> #REF! | G42: =+E42 -> #REF! | H42: =IF(G42>=$F$49,"MAYOR","MENOR") -> #REF! | I42: =IF(H42="MAYOR",(((59.5*(1-((ABS($F$49-G42))/$F$49))))),(((59.5*(1-((($F$49-G42))/$F$49)))))) -> #REF! | J42: 40.5 | K42: =I42+J42 -> #REF!
C43: =+'INICIAL PRECIO ARTIFICIALME (2)'!#REF! -> #REF! | D43: =+'INICIAL PRECIO ARTIFICIALME (2)'!#REF! -> #REF! | E43: =+D43 -> #REF! | F43: =+'INICIAL PRECIO ARTIFICIALME (2)'!#REF! -> #REF! | G43: =+E43 -> #REF! | H43: =IF(G43>=$F$49,"MAYOR","MENOR") -> #REF! | I43: =IF(H43="MAYOR",(((59.5*(1-((ABS($F$49-G43))/$F$49))))),(((59.5*(1-((($F$49-G43))/$F$49)))))) -> #REF! | J43: 40.5 | K43: =I43+J43 -> #REF!
C44: =+'INICIAL PRECIO ARTIFICIALME (2)'!#REF! -> #REF! | D44: =+'INICIAL PRECIO ARTIFICIALME (2)'!#REF! -> #REF! | E44: =+D44 -> #REF! | F44: =+'INICIAL PRECIO ARTIFICIALME (2)'!#REF! -> #REF! | G44: =+E44 -> #REF! | H44: =IF(G44>=$F$49,"MAYOR","MENOR") -> #REF! | I44: =IF(H44="MAYOR",(((59.5*(1-((ABS($F$49-G44))/$F$49))))),(((59.5*(1-((($F$49-G44))/$F$49)))))) -> #REF! | J44: 40.5 | K44: =I44+J44 -> #REF!
E46: MENOR VALOR | F46: =MIN(G3:G44) -> #REF!
E47: PROMEDIO SIMPLE | F47: =AVERAGE(G3:G44) -> #REF!
E49: PROMEDIO ARITMETICO | F49: =((F46+F47)/2) -> #REF!

Sheet MAB 1-aceptando 42
B2: PROPUESTA | C2: PROPONENTE | D2: PROPUESTA ECONÓMICA | E2: SECOP | F2: CORRECCIÓN ARITMÉTICA | G2: VALOR PROPUESTA ECONÓMICA | H2: MAYOR O MENOR | I2: PUNTOS | J2: PUNTUACION INICIAL | K2: TOTAL PUNTUACIÓN
B3: =+'VERIFICACION DE OFERTAS'!B3 -> 81 | C3: ='VERIFICACION DE OFERTAS'!C3 -> CONSORCIO EDIFICIO CENTRAL | D3: ='VERIFICACION DE OFERTAS'!D3 -> 1.9215243e+09 | F3: ='VERIFICACION DE OFERTAS'!F3 -> RECHAZADO
B4: =+'VERIFICACION DE OFERTAS'!B4 -> 77 | C4: ='VERIFICACION DE OFERTAS'!C4 -> CONINCAG SAS | D4: ='VERIFICACION DE OFERTAS'!D4 -> 1.8637327e+09 | F4: ='VERIFICACION DE OFERTAS'!F4 -> RECHAZADO
B5: =+'VERIFICACION DE OFERTAS'!B5 -> 74 | C5: ='VERIFICACION DE OFERTAS'!C5 -> CONSORCIO MANASSA 28 | D5: ='VERIFICACION DE OFERTAS'!D5 -> 1.8675064e+09 | E5: ='VERIFICACION DE OFERTAS'!E5 -> 1.8675064e+09 | F5: ='VERIFICACION DE OFERTAS'!F5 -> 0 | G5: =+E5 -> 1.8675064e+09 | H5: =IF(G5>=$F$67,"MAYOR","MENOR") -> MAYOR | I5: =IF(H5="MAYOR",(((59.5*(1-((ABS($F$67-G5))/$F$67))))),(((59.5*(1-((($F$67-G5))/$F$67)))))) -> 59.062336 | J5: =+#REF! -> #REF! | K5: =I5+J5 -> #REF!
B6: =+'VERIFICACION DE OFERTAS'!B6 -> 73 | C6: ='VERIFICACION DE OFERTAS'!C6 -> CONSORCIO SANTANA 2025 | D6: ='VERIFICACION DE OFERTAS'!D6 -> 1.8631888e+09 | E6: ='VERIFICACION DE OFERTAS'!E6 -> 1.8631888e+09 | F6: ='VERIFICACION DE OFERTAS'!F6 -> 0 | G6: =+E6 -> 1.8631888e+09 | H6: =IF(G6>=$F$67,"MAYOR","MENOR") -> MAYOR | I6: =IF(H6="MAYOR",(((59.5*(1-((ABS($F$67-G6))/$F$67))))),(((59.5*(1-((($F$67-G6))/$F$67)))))) -> 59.200911 | J6: =+#REF! -> #REF! | K6: =I6+J6 -> #REF!
B7: =+'VERIFICACION DE OFERTAS'!B7 -> 72 | C7: ='VERIFICACION DE OFERTAS'!C7 -> Fundacion Espeletia | D7: ='VERIFICACION DE OFERTAS'!D7 -> 1.834841e+09 | F7: RECHAZADO
B8: =+'VERIFICACION DE OFERTAS'!B8 -> 71 | C8: ='VERIFICACION DE OFERTAS'!C8 -> Consorcio CONSTRUCTOR CENTRAL | D8: ='VERIFICACION DE OFERTAS'!D8 -> 1.8579391e+09 | E8: ='VERIFICACION DE OFERTAS'!E8 -> 1.8579391e+09 | F8: ='VERIFICACION DE OFERTAS'!F8 -> 0 | G8: =+E8 -> 1.8579391e+09 | H8: =IF(G8>=$F$67,"MAYOR","MENOR") -> MAYOR | I8: =IF(H8="MAYOR",(((59.5*(1-((ABS($F$67-G8))/$F$67))))),(((59.5*(1-((($F$67-G8))/$F$67)))))) -> 59.369399 | J8: =+#REF! -> #REF! | K8: =I8+J8 -> #REF!
B9: =+'VERIFICACION DE OFERTAS'!B9 -> 69 | C9: ='VERIFICACION DE OFERTAS'!C9 -> CONSORCIO INGEGOBER | D9: ='VERIFICACION DE OFERTAS'!D9 -> 1.8651617e+09 | F9: ='VERIFICACION DE OFERTAS'!F9 -> RECHAZADO
B10: =+'VERIFICACION DE OFERTAS'!B10 -> 66 | C10: ='VERIFICACION DE OFERTAS'!C10 -> CONSORCIO ARCUM | D10: ='VERIFICACION DE OFERTAS'!D10 -> 1.8614113e+09 | E10: ='VERIFICACION DE OFERTAS'!E10 -> 1.8614113e+09 | F10: ='VERIFICACION DE OFERTAS'!F10 -> 0 | G10: =+E10 -> 1.8614113e+09 | H10: =IF(G10>=$F$67,"MAYOR","MENOR") -> MAYOR | I10: =IF(H10="MAYOR",(((59.5*(1-((ABS($F$67-G10))/$F$67))))),(((59.5*(1-((($F$67-G10))/$F$67)))))) -> 59.257958 | J10: =+#REF! -> #REF! | K10: =I10+J10 -> #REF!
B11: =+'VERIFICACION DE OFERTAS'!B11 -> 65 | C11: ='VERIFICACION DE OFERTAS'!C11 -> CONSORCIO SANTA RITA | D11: ='VERIFICACION DE OFERTAS'!D11 -> 1.893037e+09 | F11: ='VERIFICACION DE OFERTAS'!F11 -> RECHAZADO
B12: =+'VERIFICACION DE OFERTAS'!B12 -> 64 | C12: ='VERIFICACION DE OFERTAS'!C12 -> CONSORCIO OBRAS GMJ 2025 | D12: ='VERIFICACION DE OFERTAS'!D12 -> 1.8926652e+09 | E12: ='VERIFICACION DE OFERTAS'!E12 -> 1.8926652e+09 | F12: ='VERIFICACION DE OFERTAS'!F12 -> 0 | G12: =+E12 -> 1.8926652e+09 | H12: =IF(G12>=$F$67,"MAYOR","MENOR") -> MAYOR | I12: =IF(H12="MAYOR",(((59.5*(1-((ABS($F$67-G12))/$F$67))))),(((59.5*(1-((($F$67-G12))/$F$67)))))) -> 58.254866 | J12: =+#REF! -> #REF! | K12: =I12+J12 -> #REF!
B13: =+'VERIFICACION DE OFERTAS'!B13 -> 63 | C13: ='VERIFICACION DE OFERTAS'!C13 -> CONSORCIO INACAL NEIVA | D13: ='VERIFICACION DE OFERTAS'!D13 -> 1.8800857e+09 | E13: ='VERIFICACION DE OFERTAS'!E13 -> 1.8800857e+09 | F13: ='VERIFICACION DE OFERTAS'!F13 -> 0 | G13: =+E13 -> 1.8800857e+09 | H13: =IF(G13>=$F$67,"MAYOR","MENOR") -> MAYOR | I13: =IF(H13="MAYOR",(((59.5*(1-((ABS($F$67-G13))/$F$67))))),(((59.5*(1-((($F$67-G13))/$F$67)))))) -> 58.658606 | J13: =+#REF! -> #REF! | K13: =I13+J13 -> #REF!
B14: =+'VERIFICACION DE OFERTAS'!B14 -> 62 | C14: ='VERIFICACION DE OFERTAS'!C14 -> BRACO COMPANY S.A.S ZOMAC | D14: ='VERIFICACION DE OFERTAS'!D14 -> 1.9123188e+09 | E14: ='VERIFICACION DE OFERTAS'!E14 -> 1.9123188e+09 | F14: ='VERIFICACION DE OFERTAS'!F14 -> 0 | G14: =+E14 -> 1.9123188e+09 | H14: =IF(G14>=$F$67,"MAYOR","MENOR") -> MAYOR | I14: =IF(H14="MAYOR",(((59.5*(1-((ABS($F$67-G14))/$F$67))))),(((59.5*(1-((($F$67-G14))/$F$67)))))) -> 57.624084 | J14: =+#REF! -> #REF! | K14: =I14+J14 -> #REF!
B15: =+'VERIFICACION DE OFERTAS'!B15 -> 61 | C15: ='VERIFICACION DE OFERTAS'!C15 -> TELEACCESS LTDA | D15: ='VERIFICACION DE OFERTAS'!D15 -> 1.8873033e+09 | E15: ='VERIFICACION DE OFERTAS'!E15 -> 1.8873033e+09 | F15: ='VERIFICACION DE OFERTAS'!F15 -> 0 | G15: =+E15 -> 1.8873033e+09 | H15: =IF(G15>=$F$67,"MAYOR","MENOR") -> MAYOR | I15: =IF(H15="MAYOR",(((59.5*(1-((ABS($F$67-G15))/$F$67))))),(((59.5*(1-((($F$67-G15))/$F$67)))))) -> 58.426957 | J15: =+#REF! -> #REF! | K15: =I15+J15 -> #REF!
B16: =+'VERIFICACION DE OFERTAS'!B16 -> 60 | C16: ='VERIFICACION DE OFERTAS'!C16 -> 3G INGENERIA AVANZADA SAS | D16: ='VERIFICACION DE OFERTAS'!D16 -> 1.8467217e+09 | E16: ='VERIFICACION DE OFERTAS'!E16 -> 1.8467217e+09 | F16: ='VERIFICACION DE OFERTAS'!F16 -> 0 | G16: =+E16 -> 1.8467217e+09 | H16: =IF(G16>=$F$67,"MAYOR","MENOR") -> MENOR | I16: =IF(H16="MAYOR",(((59.5*(1-((ABS($F$67-G16))/$F$67))))),(((59.5*(1-((($F$67-G16))/$F$67)))))) -> 59.270576 | J16: =+#REF! -> #REF! | K16: =I16+J16 -> #REF!
B17: =+'VERIFICACION DE OFERTAS'!B17 -> 59 | C17: ='VERIFICACION DE OFERTAS'!C17 -> CONSORCIO HUILA DUOVAL 324 | D17: ='VERIFICACION DE OFERTAS'!D17 -> 1.8540754e+09 | F17: ='VERIFICACION DE OFERTAS'!F17 -> RECHAZADO
B18: =+'VERIFICACION DE OFERTAS'!B18 -> 58 | C18: ='VERIFICACION DE OFERTAS'!C18 -> CONSORCIO GPIng | D18: ='VERIFICACION DE OFERTAS'!D18 -> 1.8371757e+09 | F18: ='VERIFICACION DE OFERTAS'!F18 -> RECHAZADO
B19: =+'VERIFICACION DE OFERTAS'!B19 -> 57 | C19: ='VERIFICACION DE OFERTAS'!C19 -> CONSORCIO SANLORENZO | D19: ='VERIFICACION DE OFERTAS'!D19 -> 1.8704546e+09 | E19: ='VERIFICACION DE OFERTAS'!E19 -> 1.8704546e+09 | F19: ='VERIFICACION DE OFERTAS'!F19 -> 0 | G19: =+E19 -> 1.8704546e+09 | H19: =IF(G19>=$F$67,"MAYOR","MENOR") -> MAYOR | I19: =IF(H19="MAYOR",(((59.5*(1-((ABS($F$67-G19))/$F$67))))),(((59.5*(1-((($F$67-G19))/$F$67)))))) -> 58.967714 | J19: =+#REF! -> #REF! | K19: =I19+J19 -> #REF!
B20: =+'VERIFICACION DE OFERTAS'!B20 -> 54 | C20: ='VERIFICACION DE OFERTAS'!C20 -> CONSORCIO OCIDAN HUILA-13 | D20: ='VERIFICACION DE OFERTAS'!D20 -> 1.8647464e+09 | E20: ='VERIFICACION DE OFERTAS'!E20 -> 1.8647464e+09 | F20: ='VERIFICACION DE OFERTAS'!F20 -> 0 | G20: =+E20 -> 1.8647464e+09 | H20: =IF(G20>=$F$67,"MAYOR","MENOR") -> MAYOR | I20: =IF(H20="MAYOR",(((59.5*(1-((ABS($F$67-G20))/$F$67))))),(((59.5*(1-((($F$67-G20))/$F$67)))))) -> 59.150919 | J20: =+#REF! -> #REF! | K20: =I20+J20 -> #REF!
B21: =+'VERIFICACION DE OFERTAS'!B21 -> 53 | C21: ='VERIFICACION DE OFERTAS'!C21 -> CONSORCIO PROHAL 2025 | D21: ='VERIFICACION DE OFERTAS'!D21 -> 1.8734265e+09 | F21: ='VERIFICACION DE OFERTAS'!F21 -> RECHAZADO
B22: =+'VERIFICACION DE OFERTAS'!B22 -> 52 | C22: ='VERIFICACION DE OFERTAS'!C22 -> ZION CONSTRUCCIONES SAS | D22: ='VERIFICACION DE OFERTAS'!D22 -> 1.8913215e+09 | E22: ='VERIFICACION DE OFERTAS'!E22 -> 1.8913215e+09 | F22: ='VERIFICACION DE OFERTAS'!F22 -> 0 | G22: =+E22 -> 1.8913215e+09 | H22: =IF(G22>=$F$67,"MAYOR","MENOR") -> MAYOR | I22: =IF(H22="MAYOR",(((59.5*(1-((ABS($F$67-G22))/$F$67))))),(((59.5*(1-((($F$67-G22))/$F$67)))))) -> 58.297991 | J22: =+#REF! -> #REF! | K22: =I22+J22 -> #REF!
B23: =+'VERIFICACION DE OFERTAS'!B23 -> 51 | C23: ='VERIFICACION DE OFERTAS'!C23 -> CONSORCIO E&C HUILA | D23: ='VERIFICACION DE OFERTAS'!D23 -> 1.904256e+09 | E23: ='VERIFICACION DE OFERTAS'!E23 -> 1.904256e+09 | F23: ='VERIFICACION DE OFERTAS'!F23 -> 0 | G23: =+E23 -> 1.904256e+09 | H23: =IF(G23>=$F$67,"MAYOR","MENOR") -> MAYOR | I23: =IF(H23="MAYOR",(((59.5*(1-((ABS($F$67-G23))/$F$67))))),(((59.5*(1-((($F$67-G23))/$F$67)))))) -> 57.882859 | J23: =+#REF! -> #REF! | K23: =I23+J23 -> #REF!
B24: =+'VERIFICACION DE OFERTAS'!B24 -> 50 | C24: ='VERIFICACION DE OFERTAS'!C24 -> MONVAL GROUP | D24: ='VERIFICACION DE OFERTAS'!D24 -> 1.8950456e+09 | E24: ='VERIFICACION DE OFERTAS'!E24 -> 1.8950456e+09 | F24: ='VERIFICACION DE OFERTAS'!F24 -> 0 | G24: =+E24 -> 1.8950456e+09 | H24: =IF(G24>=$F$67,"MAYOR","MENOR") -> MAYOR | I24: =IF(H24="MAYOR",(((59.5*(1-((ABS($F$67-G24))/$F$67))))),(((59.5*(1-((($F$67-G24))/$F$67)))))) -> 58.178467 | J24: =+#REF! -> #REF! | K24: =I24+J24 -> #REF!
B25: =+'VERIFICACION DE OFERTAS'!B25 -> 49 | C25: ='VERIFICACION DE OFERTAS'!C25 -> CONSORCIO CASTILLO | D25: ='VERIFICACION DE OFERTAS'!D25 -> 1.8671131e+09 | E25: ='VERIFICACION DE OFERTAS'!E25 -> 1.8671131e+09 | F25: ='VERIFICACION DE OFERTAS'!F25 -> 0 | G25: =+E25 -> 1.8671131e+09 | H25: =IF(G25>=$F$67,"MAYOR","MENOR") -> MAYOR | I25: =IF(H25="MAYOR",(((59.5*(1-((ABS($F$67-G25))/$F$67))))),(((59.5*(1-((($F$67-G25))/$F$67)))))) -> 59.074959 | J25: =+#REF! -> #REF! | K25: =I25+J25 -> #REF!
B26: =+'VERIFICACION DE OFERTAS'!B26 -> 48 | C26: ='VERIFICACION DE OFERTAS'!C26 -> CONSORCIO CENTRAL MIV | D26: ='VERIFICACION DE OFERTAS'!D26 -> 1.8508276e+09 | E26: ='VERIFICACION DE OFERTAS'!E26 -> 1.8508276e+09 | F26: ='VERIFICACION DE OFERTAS'!F26 -> 0 | G26: =+E26 -> 1.8508276e+09 | H26: =IF(G26>=$F$67,"MAYOR","MENOR") -> MENOR | I26: =IF(H26="MAYOR",(((59.5*(1-((ABS($F$67-G26))/$F$67))))),(((59.5*(1-((($F$67-G26))/$F$67)))))) -> 59.402357 | J26: =+#REF! -> #REF! | K26: =I26+J26 -> #REF!
B27: =+'VERIFICACION DE OFERTAS'!B27 -> 46 | C27: ='VERIFICACION DE OFERTAS'!C27 -> UNION TEMPORAL INNOVA | D27: ='VERIFICACION DE OFERTAS'!D27 -> 1.8827596e+09 | F27: ='VERIFICACION DE OFERTAS'!F27 -> RECHAZADO
B28: =+'VERIFICACION DE OFERTAS'!B28 -> 45 | C28: ='VERIFICACION DE OFERTAS'!C28 -> Adecuaciones jeroca | D28: ='VERIFICACION DE OFERTAS'!D28 -> 1.8670212e+09 | E28: ='VERIFICACION DE OFERTAS'!E28 -> 1.8670212e+09 | F28: ='VERIFICACION DE OFERTAS'!F28 -> 0 | G28: =+E28 -> 1.8670212e+09 | H28: =IF(G28>=$F$67,"MAYOR","MENOR") -> MAYOR | I28: =IF(H28="MAYOR",(((59.5*(1-((ABS($F$67-G28))/$F$67))))),(((59.5*(1-((($F$67-G28))/$F$67)))))) -> 59.077909 | J28: =+#REF! -> #REF! | K28: =I28+J28 -> #REF!
B29: =+'VERIFICACION DE OFERTAS'!B29 -> 44 | C29: ='VERIFICACION DE OFERTAS'!C29 -> CONSORCIO HUILA 2025 | D29: ='VERIFICACION DE OFERTAS'!D29 -> 1.8651492e+09 | E29: ='VERIFICACION DE OFERTAS'!E29 -> 1.8651492e+09 | F29: ='VERIFICACION DE OFERTAS'!F29 -> 0 | G29: =+E29 -> 1.8651492e+09 | H29: =IF(G29>=$F$67,"MAYOR","MENOR") -> MAYOR | I29: =IF(H29="MAYOR",(((59.5*(1-((ABS($F$67-G29))/$F$67))))),(((59.5*(1-((($F$67-G29))/$F$67)))))) -> 59.13799 | J29: =+#REF! -> #REF! | K29: =I29+J29 -> #REF!
B30: =+'VERIFICACION DE OFERTAS'!B30 -> 43 | C30: ='VERIFICACION DE OFERTAS'!C30 -> INGENIERIA RH | D30: ='VERIFICACION DE OFERTAS'!D30 -> 1.8828356e+09 | E30: ='VERIFICACION DE OFERTAS'!E30 -> 1.8828356e+09 | F30: ='VERIFICACION DE OFERTAS'!F30 -> 0 | G30: =+E30 -> 1.8828356e+09 | H30: =IF(G30>=$F$67,"MAYOR","MENOR") -> MAYOR | I30: =IF(H30="MAYOR",(((59.5*(1-((ABS($F$67-G30))/$F$67))))),(((59.5*(1-((($F$67-G30))/$F$67)))))) -> 58.570347 | J30: =+#REF! -> #REF! | K30: =I30+J30 -> #REF!
B31: =+'VERIFICACION DE OFERTAS'!B31 -> 42 | C31: ='VERIFICACION DE OFERTAS'!C31 -> CONSORCIO CE OBRAS HUILA | D31: ='VERIFICACION DE OFERTAS'!D31 -> 1.8342918e+09 | E31: ='VERIFICACION DE OFERTAS'!E31 -> 1.8342918e+09 | F31: ='VERIFICACION DE OFERTAS'!F31 -> 0 | G31: =+E31 -> 1.8342918e+09 | H31: =IF(G31>=$F$67,"MAYOR","MENOR") -> MENOR | I31: =IF(H31="MAYOR",(((59.5*(1-((ABS($F$67-G31))/$F$67))))),(((59.5*(1-((($F$67-G31))/$F$67)))))) -> 58.87164 | J31: =+#REF! -> #REF! | K31: =I31+J31 -> #REF!
B32: =+'VERIFICACION DE OFERTAS'!B32 -> 41 | C32: ='VERIFICACION DE OFERTAS'!C32 -> CONSORCIO HUILA 2D | D32: ='VERIFICACION DE OFERTAS'!D32 -> 1.8733439e+09 | E32: ='VERIFICACION DE OFERTAS'!E32 -> 1.8733439e+09 | F32: ='VERIFICACION DE OFERTAS'!F32 -> 0 | G32: =+E32 -> 1.8733439e+09 | H32: =IF(G32>=$F$67,"MAYOR","MENOR") -> MAYOR | I32: =IF(H32="MAYOR",(((59.5*(1-((ABS($F$67-G32))/$F$67))))),(((59.5*(1-((($F$67-G32))/$F$67)))))) -> 58.874984 | J32: =+#REF! -> #REF! | K32: =I32+J32 -> #REF!
B33: =+'VERIFICACION DE OFERTAS'!B33 -> 39 | C33: ='VERIFICACION DE OFERTAS'!C33 -> CONSORCIO MEGAHUILA | D33: ='VERIFICACION DE OFERTAS'!D33 -> 1.8603139e+09 | E33: ='VERIFICACION DE OFERTAS'!E33 -> 1.8603139e+09 | F33: ='VERIFICACION DE OFERTAS'!F33 -> 0 | G33: =+E33 -> 1.8603139e+09 | H33: =IF(G33>=$F$67,"MAYOR","MENOR") -> MAYOR | I33: =IF(H33="MAYOR",(((59.5*(1-((ABS($F$67-G33))/$F$67))))),(((59.5*(1-((($F$67-G33))/$F$67)))))) -> 59.293181 | J33: =+#REF! -> #REF! | K33: =I33+J33 -> #REF!
B34: =+'VERIFICACION DE OFERTAS'!B34 -> 38 | C34: ='VERIFICACION DE OFERTAS'!C34 -> CONSORCIO OBRAS BIENES | D34: ='VERIFICACION DE OFERTAS'!D34 -> 1.8540051e+09 | E34: ='VERIFICACION DE OFERTAS'!E34 -> 1.8540051e+09 | F34: ='VERIFICACION DE OFERTAS'!F34 -> 0 | G34: =+E34 -> 1.8540051e+09 | H34: =IF(G34>=$F$67,"MAYOR","MENOR") -> MAYOR | I34: =IF(H34="MAYOR",(((59.5*(1-((ABS($F$67-G34))/$F$67))))),(((59.5*(1-((($F$67-G34))/$F$67)))))) -> 59.495661 | J34: =+#REF! -> #REF! | K34: =I34+J34 -> #REF!
B35: =+'VERIFICACION DE OFERTAS'!B35 -> 37 | C35: ='VERIFICACION DE OFERTAS'!C35 -> CONSORCIO CENTRAL V&V | D35: ='VERIFICACION DE OFERTAS'!D35 -> 1.890015e+09 | E35: ='VERIFICACION DE OFERTAS'!E35 -> 1.890015e+09 | F35: ='VERIFICACION DE OFERTAS'!F35 -> 0 | G35: =+E35 -> 1.890015e+09 | H35: =IF(G35>=$F$67,"MAYOR","MENOR") -> MAYOR | I35: =IF(H35="MAYOR",(((59.5*(1-((ABS($F$67-G35))/$F$67))))),(((59.5*(1-((($F$67-G35))/$F$67)))))) -> 58.339924 | J35: =+#REF! -> #REF! | K35: =I35+J35 -> #REF!
B36: =+'VERIFICACION DE OFERTAS'!B36 -> 36 | C36: ='VERIFICACION DE OFERTAS'!C36 -> CONSORCIO ADECUACIONES 2CP | D36: ='VERIFICACION DE OFERTAS'!D36 -> 1.8625895e+09 | E36: ='VERIFICACION DE OFERTAS'!E36 -> 1.8625895e+09 | F36: ='VERIFICACION DE OFERTAS'!F36 -> 0 | G36: =+E36 -> 1.8625895e+09 | H36: =IF(G36>=$F$67,"MAYOR","MENOR") -> MAYOR | I36: =IF(H36="MAYOR",(((59.5*(1-((ABS($F$67-G36))/$F$67))))),(((59.5*(1-((($F$67-G36))/$F$67)))))) -> 59.220146 | J36: =+#REF! -> #REF! | K36: =I36+J36 -> #REF!
B37: =+'VERIFICACION DE OFERTAS'!B37 -> 35 | C37: ='VERIFICACION DE OFERTAS'!C37 -> CONSORCIO MEJORAMIENTO ARSAF | D37: ='VERIFICACION DE OFERTAS'!D37 -> 1.8376335e+09 | F37: RECHAZADO
B38: =+'VERIFICACION DE OFERTAS'!B38 -> 33 | C38: ='VERIFICACION DE OFERTAS'!C38 -> CONSORCIO TURPIAL 2025 | D38: ='VERIFICACION DE OFERTAS'!D38 -> 1.8535522e+09 | E38: ='VERIFICACION DE OFERTAS'!E38 -> 1.8535522e+09 | F38: ='VERIFICACION DE OFERTAS'!F38 -> 0 | G38: =+E38 -> 1.8535522e+09 | H38: =IF(G38>=$F$67,"MAYOR","MENOR") -> MENOR | I38: =IF(H38="MAYOR",(((59.5*(1-((ABS($F$67-G38))/$F$67))))),(((59.5*(1-((($F$67-G38))/$F$67)))))) -> 59.489802 | J38: =+#REF! -> #REF! | K38: =I38+J38 -> #REF!
