Workbook
Name PRINT_AREA: #N/A
Name PRINT_AREA_MI: #N/A
Name PRINT_TITLES: #N/A
Name PRINT_TITLES_MI: #N/A

Sheet LISTA DE OFERENTES
A2: ALCALDIA LOCAL DE TEUSAQUILLO
A4: LISTA DE OFERENTES CMA-001-2020
A5: No. | B5: NOMBRE
A6: 1 | B6: CONSORCIO INTERVENTORÍA BOGOTÁ 2020
A7: 2 | B7: CONSORCIO TEUSAQUILLO
A8: 3 | B8: INTERVENTORIA Y CONSTRUCIVILES SAS
A9: 4 | B9: CELQO S.A.S.
A10: 5 | B10: R&M CONSTRUCCIONES E INTERVENTORIAS S.A.S
A11: 6 | B11: TEUSAQUILLO HC
A12: 7 | B12: CONSORCIO TEUSAQUILLO
A13: 8 | B13: CONSORCIO RM 2020
A14: 9 | B14: CONSORCIO INTERMALLA VIAL 2021
A15: 10 | B15: CONSORCIO VIAL ET
A16: 11 | B16: CONSORCIO AR-MUR 1
A17: 12 | B17: CONSORCIO TEUSAQUILLO
... A26: 21 | B26: CONSORCIO LA GRAN VIA

Sheet REQUISITOS HAB
A1: FONDO DE DESARROLLO LOCAL DE TEUSAQUILLO
A2: FDLT-CMA-001-2020
A3: REQUISITOS HABILITANTES
A5: No. | B5: OFERENTE | C5: TECNICO | D5: JURIDICO | E5: FINANCIERO | F5: CONSOLIDADO | G5: OBSERVACIONES
A6: 1 | B6: ='LISTA DE OFERENTES'!B6 -> CONSORCIO INTERVENTORÍA BOGOTÁ 2020 | C6: NO CUMPLE | D6: CUMPLE | E6: CUMPLE | F6: NO CUMPLE
A7: 2 | B7: ='LISTA DE OFERENTES'!B7 -> CONSORCIO TEUSAQUILLO | C7: CUMPLE | D7: CUMPLE | E7: CUMPLE | F7: CUMPLE
A8: 3 | B8: ='LISTA DE OFERENTES'!B8 -> INTERVENTORIA Y CONSTRUCIVILES SAS | C8: NO CUMPLE | D8: CUMPLE | E8: CUMPLE | F8: NO CUMPLE
A9: 4 | B9: ='LISTA DE OFERENTES'!B9 -> CELQO S.A.S. | C9: NO CUMPLE | D9: CUMPLE | E9: CUMPLE | F9: NO CUMPLE
A10: 5 | B10: ='LISTA DE OFERENTES'!B10 -> R&M CONSTRUCCIONES E INTERVENTORIAS S.A.S | C10: CUMPLE | D10: CUMPLE | E10: CUMPLE | F10: CUMPLE
A11: 6 | B11: ='LISTA DE OFERENTES'!B11 -> TEUSAQUILLO HC | C11: CUMPLE | D11: CUMPLE | E11: CUMPLE | F11: CUMPLE
A12: 7 | B12: ='LISTA DE OFERENTES'!B12 -> CONSORCIO TEUSAQUILLO | C12: CUMPLE | D12: CUMPLE | E12: CUMPLE | F12: CUMPLE
A13: 8 | B13: ='LISTA DE OFERENTES'!B13 -> CONSORCIO RM 2020 | C13: CUMPLE | D13: CUMPLE | E13: CUMPLE | F13: CUMPLE
A14: 9 | B14: ='LISTA DE OFERENTES'!B14 -> CONSORCIO INTERMALLA VIAL 2021 | C14: CUMPLE | D14: CUMPLE | E14: CUMPLE | F14: CUMPLE
A15: 10 | B15: ='LISTA DE OFERENTES'!B15 -> CONSORCIO VIAL ET | C15: CUMPLE | D15: CUMPLE | E15: CUMPLE | F15: CUMPLE
A16: 11 | B16: ='LISTA DE OFERENTES'!B16 -> CONSORCIO AR-MUR 1 | C16: CUMPLE | D16: CUMPLE | E16: CUMPLE | F16: CUMPLE
A17: 12 | B17: ='LISTA DE OFERENTES'!B17 -> CONSORCIO TEUSAQUILLO | C17: CUMPLE | D17: CUMPLE | E17: CUMPLE | F17: CUMPLE
... A26: 21 | B26: ='LISTA DE OFERENTES'!B26 -> CONSORCIO LA GRAN VIA | C26: CUMPLE | D26: CUMPLE | E26: CUMPLE | F26: CUMPLE

Sheet FACTOR 1
B2: OFERTAS VÁLIDAS
B4: N° | C4: No. Propuesta | D4: OFERENTE | E4: SALARIOS VÁLIDOS | F4: CONTRATOS | G4: PROMEDIO
B5: 1 | C5: 2 | D5: CONSORCIO TEUSAQUILLO | E5: 1564.22 | F5: 2 | G5: =E5/F5 -> 782.11
B6: 2 | C6: 5 | D6: R&M CONSTRUCCIONES E INTERVENTORIAS S.A.S | E6: 2293.87 | F6: 4 | G6: =E6/F6 -> 573.4675
B7: 3 | C7: 6 | D7: TEUSAQUILLO HC | E7: 2146.85 | F7: 5 | G7: =E7/F7 -> 429.37
B8: 4 | C8: 7 | D8: CONSORCIO TEUSAQUILLO | E8: 1545.81 | F8: 4 | G8: =E8/F8 -> 386.4525
B9: 5 | C9: 8 | D9: CONSORCIO RM 2020 | E9: 1319.27 | F9: 3 | G9: =E9/F9 -> 439.75667
B10: 6 | C10: 9 | D10: CONSORCIO INTERMALLA VIAL 2021 | E10: 3910.81 | F10: 5 | G10: =E10/F10 -> 782.162
B11: 7 | C11: 10 | D11: CONSORCIO VIAL ET | E11: 5528.68 | F11: 6 | G11: =E11/F11 -> 921.44667
B12: 8 | C12: 11 | D12: CONSORCIO AR-MUR 1 | E12: 894.47 | F12: 2 | G12: =E12/F12 -> 447.235
B13: 9 | C13: 12 | D13: CONSORCIO TEUSAQUILLO | E13: 1847.17 | F13: 2 | G13: =E13/F13 -> 923.585
B14: 10 | C14: 13 | D14: MIRS | E14: 1903.5 | F14: 3 | G14: =E14/F14 -> 634.5
B15: 11 | C15: 14 | D15: HACE INGENIEROS SAS | E15: 3761.11 | F15: 6 | G15: =E15/F15 -> 626.85167
B16: 12 | C16: 15 | D16: CONSORCIO TEUSA 2021 | E16: 2772.48 | F16: 2 | G16: =E16/F16 -> 1386.24
... B21: 17 | C21: 21 | D21: CONSORCIO LA GRAN VIA | E21: 2326.89 | F21: 6 | G21: =E21/F21 -> 387.815

Sheet FACTOR 2
B2: N° | C2: No. Propuesta | D2: OFERENTE | E2: SALARIOS VÁLIDOS
B3: 1 | C3: 2 | D3: CONSORCIO TEUSAQUILLO | E3: 1564.22
B4: 2 | C4: 5 | D4: R&M CONSTRUCCIONES E INTERVENTORIAS S.A.S | E4: 2293.87
B5: 3 | C5: 6 | D5: TEUSAQUILLO HC | E5: 2146.85
B6: 4 | C6: 7 | D6: CONSORCIO TEUSAQUILLO | E6: 1545.81
B7: 5 | C7: 8 | D7: CONSORCIO RM 2020 | E7: 1319.27 | G7: TRM VIGENTE 23 DICIEMBRE DE 2020 | K7: 3444.9
B8: 6 | C8: 9 | D8: CONSORCIO INTERMALLA VIAL 2021 | E8: 3910.81
B9: 7 | C9: 10 | D9: CONSORCIO VIAL ET | E9: 5528.68 | G9: FORMULA SELECCIONADA SEGÚN TRM
B10: 8 | C10: 11 | D10: CONSORCIO AR-MUR 1 | E10: 894.47
B11: 9 | C11: 12 | D11: CONSORCIO TEUSAQUILLO | E11: 1847.17
B12: 10 | C12: 13 | D12: MIRS | E12: 1903.5
B13: 11 | C13: 14 | D13: HACE INGENIEROS SAS | E13: 3761.11
B14: 12 | C14: 15 | D14: CONSORCIO TEUSA 2021 | E14: 2772.48
B15: 13 | C15: 16 | D15: CONSORCIO DS6 | E15: 3486.63
B16: 14 | C16: 18 | D16: CONSORCIO INTERVIAL TEUSAQUILLO | E16: 2681.58
B17: 15 | C17: 19 | D17: GNG INGENIERIA S.A.S | E17: 4049.31
B18: 16 | C18: 20 | D18: CONSORCIO VIAS HB 2020 | E18: 1823.28
B19: 17 | C19: 21 | D19: CONSORCIO LA GRAN VIA | E19: 2326.89 | G19: MEDIA ARITMÉTICA ALTA
A22: Se ordenan de Mayor a menor los valores de smmlv para establecer el Mayor valor
B24: N° | C24: No. Propuesta | D24: OFERENTE | E24: SALARIOS VÁLIDOS
B25: 7 | C25: 10 | D25: CONSORCIO VIAL ET | E25: 5528.68
B26: 15 | C26: 19 | D26: GNG INGENIERIA S.A.S | E26: 4049.31
B27: 6 | C27: 9 | D27: CONSORCIO INTERMALLA VIAL 2021 | E27: 3910.81
B28: 11 | C28: 14 | D28: HACE INGENIEROS SAS | E28: 3761.11
B29: 13 | C29: 16 | D29: CONSORCIO DS6 | E29: 3486.63
B30: 12 | C30: 15 | D30: CONSORCIO TEUSA 2021 | E30: 2772.48
B31: 14 | C31: 18 | D31: CONSORCIO INTERVIAL TEUSAQUILLO | E31: 2681.58
B32: 17 | C32: 21 | D32: CONSORCIO LA GRAN VIA | E32: 2326.89
B33: 2 | C33: 5 | D33: R&M CONSTRUCCIONES E INTERVENTORIAS S.A.S | E33: 2293.87 | G33: Vmax | H33: =E25 -> 5528.68
B34: 3 | C34: 6 | D34: TEUSAQUILLO HC | E34: 2146.85
B35: 10 | C35: 13 | D35: MIRS | E35: 1903.5 | G35: X: Promedio Aritmético Simple | J35: =AVERAGE(E25:E41) -> 2579.7606
B36: 9 | C36: 12 | D36: CONSORCIO TEUSAQUILLO | E36: 1847.17
B37: 16 | C37: 20 | D37: CONSORCIO VIAS HB 2020 | E37: 1823.28 | G37: Xa: Media Aritmética Alta | J37: =(H33+J35)/2 -> 4054.2203
B38: 1 | C38: 2 | D38: CONSORCIO TEUSAQUILLO | E38: 1564.22
B39: 4 | C39: 7 | D39: CONSORCIO TEUSAQUILLO | E39: 1545.81 | G39: Pmax: | H39: 10
B40: 5 | C40: 8 | D40: CONSORCIO RM 2020 | E40: 1319.27
B41: 8 | C41: 11 | D41: CONSORCIO AR-MUR 1 | E41: 894.47
C51: No. Propuesta | D51: OFERENTE | E51: PUNTAJE
C52: 19 | D52: GNG INGENIERIA S.A.S | E52: 10 | F52: Corresponde al oferente que más cerca del valor de la media aritmética alta (4054.22)
C53: 10 | D53: CONSORCIO VIAL ET | E53: =((1-ABS(($J$37-E25)/$J$37))*$H$39)-10 -> -3.6368515
C54: 9 | D54: CONSORCIO INTERMALLA VIAL 2021 | E54: =((1-ABS(($J$37-E27)/$J$37))*$H$39)-10 -> -0.35373089
C55: 14 | D55: HACE INGENIEROS SAS | E55: =((1-ABS(($J$37-E28)/$J$37))*$H$39)-10 -> -0.72297575
C56: 16 | D56: CONSORCIO DS6 | E56: =((1-ABS(($J$37-E29)/$J$37))*$H$39)-10 -> -1.3999987
C57: 15 | D57: CONSORCIO TEUSA 2021 | E57: =((1-ABS(($J$37-E30)/$J$37))*$H$39)-10 -> -3.1614964
C58: 18 | D58: CONSORCIO INTERVIAL TEUSAQUILLO | E58: =((1-ABS(($J$37-E31)/$J$37))*$H$39)-10 -> -3.3857072
C59: 21 | D59: CONSORCIO LA GRAN VIA | E59: =((1-ABS(($J$37-E32)/$J$37))*$H$39)-10 -> -4.2605734
C60: 5 | D60: R&M CONSTRUCCIONES E INTERVENTORIAS S.A.S | E60: =((1-ABS(($J$37-E33)/$J$37))*$H$39)-10 -> -4.3420193
C61: 6 | D61: TEUSAQUILLO HC | E61: =((1-ABS(($J$37-E34)/$J$37))*$H$39)-10 -> -4.7046538
C62: 13 | D62: MIRS | E62: =((1-ABS(($J$37-E35)/$J$37))*$H$39)-10 -> -5.3048925
C63: 12 | D63: CONSORCIO TEUSAQUILLO | E63: =((1-ABS(($J$37-E36)/$J$37))*$H$39)-10 -> -5.4438342
C64: 20 | D64: CONSORCIO VIAS HB 2020 | E64: =((1-ABS(($J$37-E37)/$J$37))*$H$39)-10 -> -5.5027604
C65: 2 | D65: CONSORCIO TEUSAQUILLO | E65: =((1-ABS(($J$37-E38)/$J$37))*$H$39)-10 -> -6.1417489
... C68: 11 | D68: CONSORCIO AR-MUR 1 | E68: =((1-ABS(($J$37-E41)/$J$37))*$H$39)-10 -> -7.7937311
B71: Dado a que los puntajes después de aplicar la fórmula, son valores negativos, se procede a dar cero (0) puntos al resto de oferentes
C73: No. Propuesta | D73: OFERENTE | E73: PUNTAJE
C74: 19 | D74: GNG INGENIERIA S.A.S | E74: 10
C75: 10 | D75: CONSORCIO VIAL ET | E75: 0
C76: 9 | D76: CONSORCIO INTERMALLA VIAL 2021 | E76: 0
C77: 14 | D77: HACE INGENIEROS SAS | E77: 0
C78: 16 | D78: CONSORCIO DS6 | E78: 0
C79: 15 | D79: CONSORCIO TEUSA 2021 | E79: 0
C80: 18 | D80: CONSORCIO INTERVIAL TEUSAQUILLO | E80: 0
C81: 21 | D81: CONSORCIO LA GRAN VIA | E81: 0
C82: 5 | D82: R&M CONSTRUCCIONES E INTERVENTORIAS S.A.S | E82: 0
C83: 6 | D83: TEUSAQUILLO HC | E83: 0
C84: 13 | D84: MIRS | E84: 0
C85: 12 | D85: CONSORCIO TEUSAQUILLO | E85: 0
... C90: 11 | D90: CONSORCIO AR-MUR 1 | E90: 0

Sheet PONDERABLES
B2: CONSOLIDADO PUNTAJES CMA 001-2020 FDLT
A4: N° | B4: No. Propuesta | C4: OFERENTE | D4: FACTOR 1 | E4: CAPACITACION | F4: INDUSTRIA NACIONAL | G4: V.P. DISCAPACIDAD | H4: FACTOR 2 | I4: TOTAL
A5: 1 | B5: 2 | C5: CONSORCIO TEUSAQUILLO | D5: 77 | E5: 2 | F5: 10 | G5: 1 | H5: ='FACTOR 2'!E87 -> 0 | I5: =H5+G5+F5+E5+D5 -> 90
A6: 2 | B6: 5 | C6: R&M CONSTRUCCIONES E INTERVENTORIAS S.A.S | D6: 77 | E6: 2 | F6: 10 | G6: 1 | H6: ='FACTOR 2'!E82 -> 0 | I6: =H6+G6+F6+E6+D6 -> 90
A7: 3 | B7: 6 | C7: TEUSAQUILLO HC | D7: 77 | E7: 2 | F7: 10 | G7: 1 | H7: ='FACTOR 2'!E83 -> 0 | I7: =H7+G7+F7+E7+D7 -> 90
A8: 4 | B8: 7 | C8: CONSORCIO TEUSAQUILLO | D8: 77 | E8: 2 | F8: 10 | G8: 1 | H8: ='FACTOR 2'!E88 -> 0 | I8: =H8+G8+F8+E8+D8 -> 90
A9: 5 | B9: 8 | C9: CONSORCIO RM 2020 | D9: 77 | E9: 2 | F9: 10 | G9: 1 | H9: ='FACTOR 2'!E89 -> 0 | I9: =H9+G9+F9+E9+D9 -> 90
A10: 6 | B10: 9 | C10: CONSORCIO INTERMALLA VIAL 2021 | D10: 77 | E10: 2 | F10: 10 | G10: 1 | H10: ='FACTOR 2'!E76 -> 0 | I10: =H10+G10+F10+E10+D10 -> 90
A11: 7 | B11: 10 | C11: CONSORCIO VIAL ET | D11: 77 | E11: 2 | F11: 10 | G11: 1 | H11: ='FACTOR 2'!E75 -> 0 | I11: =H11+G11+F11+E11+D11 -> 90
A12: 8 | B12: 11 | C12: CONSORCIO AR-MUR 1 | D12: 77 | E12: 2 | F12: 10 | G12: 1 | H12: ='FACTOR 2'!E89 -> 0 | I12: =H12+G12+F12+E12+D12 -> 90
A13: 9 | B13: 12 | C13: CONSORCIO TEUSAQUILLO | D13: 77 | E13: 2 | F13: 10 | G13: 1 | H13: ='FACTOR 2'!E85 -> 0 | I13: =H13+G13+F13+E13+D13 -> 90
A14: 10 | B14: 13 | C14: MIRS | D14: 77 | E14: 2 | F14: 10 | G14: 1 | H14: ='FACTOR 2'!E84 -> 0 | I14: =H14+G14+F14+E14+D14 -> 90
A15: 11 | B15: 14 | C15: HACE INGENIEROS SAS | D15: 77 | E15: 2 | F15: 10 | G15: 1 | H15: ='FACTOR 2'!E77 -> 0 | I15: =H15+G15+F15+E15+D15 -> 90
A16: 12 | B16: 15 | C16: CONSORCIO TEUSA 2021 | D16: 77 | E16: 2 | F16: 10 | G16: 1 | H16: ='FACTOR 2'!E79 -> 0 | I16: =H16+G16+F16+E16+D16 -> 90
A17: 13 | B17: 16 | C17: CONSORCIO DS6 | D17: 77 | E17: 2 | F17: 10 | G17: 1 | H17: ='FACTOR 2'!E78 -> 0 | I17: =H17+G17+F17+E17+D17 -> 90
A18: 14 | B18: 18 | C18: CONSORCIO INTERVIAL TEUSAQUILLO | D18: 77 | E18: 2 | F18: 10 | G18: 1 | H18: ='FACTOR 2'!E80 -> 0 | I18: =H18+G18+F18+E18+D18 -> 90
A19: 15 | B19: 19 | C19: GNG INGENIERIA S.A.S | D19: 77 | E19: 2 | F19: 10 | G19: 1 | H19: ='FACTOR 2'!E74 -> 10 | I19: =H19+G19+F19+E19+D19 -> 100 | J19: ELIGIBILIDAD 1
A20: 16 | B20: 20 | C20: CONSORCIO VIAS HB 2020 | D20: 77 | E20: 2 | F20: 10 | G20: 1 | H20: ='FACTOR 2'!E86 -> 0 | I20: =H20+G20+F20+E20+D20 -> 90
A21: 17 | B21: 21 | C21: CONSORCIO LA GRAN VIA | D21: 77 | E21: 2 | F21: 10 | G21: 1 | H21: ='FACTOR 2'!E81 -> 0 | I21: =H21+G21+F21+E21+D21 -> 90
B23: Observaciones: Para el caso del Proponente CONSORCIO TEUSAQUILLO HC, respecto al puntaje de vinculación de personal con discapacidad, Una vez valorados los argumentos expuestos en su escrito de observaciones y verificada nuevamente los documentos inicialmente allegados con su propuesta, se constata que efectivamente el integrante CAYCO SAS, realizó oportunamente la solicitud de renovación ante el ministerio de trabajo de la CONSTATACIÓN DE VINCULACIÓN DE TRABAJADORES EN SITUACION DE DISCAPACIDAD en fecha 5 de octubre de 2020, es decir previo al vencimiento de la vigencia de la constancia aportada. Por lo anterior y en aplicación de lo dispuesto por el artículo 35 del Decreto Ley 019 de 2019 que establece que “ARTÍCULO 35. SOLICITUD DE RENOVACIÓN DE PERMISOS, LICENCIAS O AUTORIZACIONES. Cuando el ordenamiento jurídico permita la renovación de un permiso, licencia o autorización, y el particular la solicite dentro de los plazos previstos en la normatividad vigente, con el lleno de la totalidad de requisitos exigidos para ese fin, la vigencia del permiso, licencia o autorización se entenderá prorrogada hasta tanto se produzca la decisión de fondo por parte de la entidad competente sobre dicha renovación. Si no existe plazo legal para solicitar la renovación o prorroga del permiso, licencia o autorización, ésta deberá presentarse cinco días antes del vencimiento del permiso, licencia o autorización, con los efectos señalados en el inciso anterior” se modificará el informe final de evaluación y se realizará la asignación del puntaje correspondiente por este aspecto.
