Workbook

Sheet Ficha Avance
D1: Dirección Ejecutiva de Administración Judicial | J1: SIGCMA
A5: FICHA DE AVANCE DE EJECUCIÓN DE CONTRATO
A7: A. INFORMACIÓN GENERAL
A8: Entidad | B8: NACION -CONSEJO SUPERIOR DE LA JUDICATURA | G8: Contrato / Convenio | I8: No. interno | K8: 082 DE 2023
A9: Fecha reporte | B9: =+TODAY() -> 46084 | D9: Ficha No. | E9: 1 | I9: No. SECOP o TVEC | K9: CO1.PCCNTR.5293634
A10: Supervisor(a) AFCJ | B10: RODRIGO JOSE ZABALETA BAÑOL | G10: Fecha (AAAA-MM-DD) | I10: Suscripción | K10: 18 de agosto de 2023
A11: Supervisión Técnica | B11: Unidad Responsable | D11: División de Mantenimiento y Mejoramiento | I11: Inicio | K11: 31 de agosto de 2023
B12: Nombre supervisor(a) | D12: Néstor Andrés Sánchez Hernández | I12: Terminación (inicialmente pactada) | K12: 45291
A13: Interventoría (si aplica) | B13: No aplica | I13: Terminación definitiva (incluídas prórrogas, si aplica) | K13: 45291
A14: Contratista | B14: Razón social | D14: DETECTA CORP S.A. | G14: Plazo inicial | J14: 45291
B15: NIT | D15: 800090427 | G15: Plazo final | J15: 45291
A16: Modalidad de Selección | D16: CONTRATACIÓN DIRECTA | G16: Valor Inicial | J16: 60000000
A17: No. proceso de selección | D17: CD-045-2023 | G17: Valor total (Incluídas adiciones) | J17: =+J16+E42 -> 60000000
A18: Pertenece al Plan Operativo | D18: SI | F18: NO | G18: % Avance | H18: Ejecución presupuestal | J18: 0
A19: Link consulta en SECOP o TVEC | H19: Tiempo | J19: 0
H20: Entregables (si aplica) | J20: 0
A21: Objeto | B21: Prestar el servicio de mantenimiento integral para los equipos de rayos X marca Smith Detection y el arco detector de metales marca CEIA | J21: Lugar de ejecución | K21: Bogotá D.C.
A23: Póliza No. | B23: 33-44-101238863 | D23: Aseguradora | F23: Vigencia | H23: Amparos
F24: Desde | G24: Hasta
A25: Fecha aprobación | B25: 45166 | D25: Mundial de Seguros S.A. | F25: 45156 | G25: 45473 | H25: Cumplimiento
F26: 45156 | G26: 46387 | H26: Pago de salarios, prestaciones sociales legales e indemnizaciones laborales.
F27: 45156 | G27: 45473 | H27: Calidad del servicio
F28: 45156 | G28: 45473 | H28: Calidad de los bienes
A29: Modificaciones a la póliza
A30: Tipo de modificación | D30: Fecha | E30: Observaciones
A33: B. MODIFICACIONES
A34: Tipo | B34: Modificación No. | C34: No. SECOP o TVEC | D34: Fecha | E34: Valor (Si aplica) | F34: Desde (AAAA-MM-DD) | G34: Hasta (AAAA-MM-DD) | H34: Tiempo | J34: Comentarios / Observaciones (Registrar #RP, #CDP y Unidad Ejecutora, en caso de adiciones o reducciones)
A36: ADICIÓN | E36: 0 | H36: =IF(DATEDIF(F36,G36,"y")=0,"", DATEDIF(F36,G36,"y") & " años ") & IF(DATEDIF(F36,G36,"ym")=0,"",DATEDIF(F36,G36,"ym") & " meses ") & IF(DATEDIF(F36,G36,"md")=0,"",DATEDIF(F36,G36,"md") & " días")
A37: PRÓRROGA | E37: -
A38: OTROSÍ | E38: - | H38: =IF(DATEDIF(F38,G38,"y")=0,"", DATEDIF(F38,G38,"y") & " años ") & IF(DATEDIF(F38,G38,"ym")=0,"",DATEDIF(F38,G38,"ym") & " meses ") & IF(DATEDIF(F38,G38,"md")=0,"",DATEDIF(F38,G38,"md") & " días")
A39: REDUCCIÓN | H39: =IF(DATEDIF(F39,G39,"y")=0,"", DATEDIF(F39,G39,"y") & " años ") & IF(DATEDIF(F39,G39,"ym")=0,"",DATEDIF(F39,G39,"ym") & " meses ") & IF(DATEDIF(F39,G39,"md")=0,"",DATEDIF(F39,G39,"md") & " días")
A40: ADICIÓN | H40: =IF(DATEDIF(F40,G40,"y")=0,"", DATEDIF(F40,G40,"y") & " años ") & IF(DATEDIF(F40,G40,"ym")=0,"",DATEDIF(F40,G40,"ym") & " meses ") & IF(DATEDIF(F40,G40,"md")=0,"",DATEDIF(F40,G40,"md") & " días")
A42: Total adiciones | E42: =+SUM(E36:E40) -> 0
A44: C. INFORMACIÓN PRESUPUESTAL
A46: Unidad Ejecutora | B46: CDP | D46: Rubro(s) (Posición catálogo del gasto) | G46: Valor CDP | I46: Movimientos | J46: Registro Presupuestal
B47: No. | C47: Fecha | J47: No. | K47: Fecha | L47: Valor
A48: 02 - CONSEJO SUPERIOR DE LA JUDICATURA | B48: 10923 | C48: 44966 | D48: A-02-02-02-008-007 SERVICIOS DE MANTENIMIENTO, REPARACIÓN E INSTALACIÓN (EXCEPTO SERVICIOS DE CONSTRUCCIÓN | G48: 12000000 | I48: N/A | J48: 207923 | K48: 45156 | L48: 12000000
A50: 03 - CORTE SUPREMA DE JUSTICIA | B50: 4323 | C50: 44966 | D50: A-02-02-02-008-007 SERVICIOS DE MANTENIMIENTO, REPARACIÓN E INSTALACIÓN (EXCEPTO SERVICIOS DE CONSTRUCCIÓN | G50: 12000000 | J50: 40323 | K50: 45156 | L50: 12000000
A52: 04 - CONSEJO DE ESTADO | B52: 4523 | C52: 44966 | D52: A-02-02-02-008-007 SERVICIOS DE MANTENIMIENTO, REPARACIÓN E INSTALACIÓN (EXCEPTO SERVICIOS DE CONSTRUCCIÓN | G52: 12000000 | J52: 28023 | K52: 45156 | L52: 12000000
A53: 05 - CORTE CONSTITUCIONAL | B53: 4323 | C53: 44966 | D53: A-02-02-02-008-007 SERVICIOS DE MANTENIMIENTO, REPARACIÓN E INSTALACIÓN (EXCEPTO SERVICIOS DE CONSTRUCCIÓN | G53: 12000000 | J53: 27123 | K53: 45156 | L53: 12000000
...

Sheet Inf. Supervisión AFCJ
D1: DIRECCION EJECUTIVA DE ADMINISTRACION JUDICIAL
A3: INFORME DE SUPERVISION TÉCNICA, ADMINISTRATIVA, FINANCIERA, CONTABLE Y JURÍDICA
A5: =+'Ficha Avance'!$A$7:$L$7 -> A. INFORMACIÓN GENERAL
A6: Fecha de Presentación del informe | C6: Período del Informe - Entregable No.1 | F6: Contratista | J6: Pago No.
F7: Razón social | I7: NIT
A8: =TODAY() -> 46084 | C8: 26 DE DICIEMBRE DE 2025 AL 26 DE ENERO DE 2026 | F8: CONSTRUCCIONES C8 SAS | I8: 901.539.197-5 | J8: 1 | L8: NO
A9: Objeto contractual | C9: Contratar la Intervención, mantenimiento, mejoramiento y restauración integral de la plazoleta y la terraza del Edificio Antiguo Palacio de las Comunicaciones – Telecom. | H9: Nombres Supervisores
H10: Sup. Técnica | J10: CECONSA SAS
H11: Sup. AFJC | J11: CECONSA SAS
A13: CONTRATO / CONVENIO | C13: No. Interno | D13: No. SECOP o TEVC (Si aplica) | F13: Tipo | G13: Valor Inicial del Contrato | H13: Póliza No. | J13: BQ-100111469 | K13: Vigencia póliza: | L13: 47118
A14: CONTRATO | C14: 003 de 2025 | D14: CO1.PCCNTR.8650425 | F14: CONTRATO DE OBRA CIVIL | G14: 1375401740 | H14: Aseguradora | J14: COMPAÑÍA MUNDIAL DE SEGUROS S.A. | K14: Fecha aprobación | L14: 46017
A16: Fecha de suscripción | C16: 45989 | G16: Fecha de terminación (inicialmente pactada) | K16: 46022
A17: Fecha de inicio | C17: 46017 | G17: Fecha final (incluídas prórrogas, si aplica) | K17: 46142
A19: B. MODIFICACIONES
A20: Tipo | B20: Modificación No. (consecutivo) | C20: No. SECOP o TVEC | D20: Fecha | E20: Valor (Si aplica) | F20: Desde (AAAA-MM-DD) | G20: Hasta (AAAA-MM-DD) | H20: Tiempo (años, meses y días) | K20: Comentarios / Observaciones (Registrar #RP, #CDP y Unidad Ejecutora, en caso de adiciones o reducciones)
A22: OTROSÍ | B22: 1 | D22: 46021 | E22: 670358633 | F22: 46023 | G22: 46142 | H22: 4 meses
E23: =+'Ficha Avance'!E37 -> - | K23: =+'Ficha Avance'!J37:L37 -> 0
D24: ='Ficha Avance'!D38 -> 0 | E24: =+'Ficha Avance'!E38 -> - | F24: =+'Ficha Avance'!F38 -> 0 | G24: =+'Ficha Avance'!G38 -> 0 | I24: =+'Ficha Avance'!H38:I38 -> 0 | K24: =+'Ficha Avance'!J38:L38 -> 0
D25: ='Ficha Avance'!D39 -> 0 | F25: =+'Ficha Avance'!F39 -> 0 | G25: =+'Ficha Avance'!G39 -> 0 | I25: =+'Ficha Avance'!H39:I39 -> 0 | K25: =+'Ficha Avance'!J39:L39 -> 0
D26: ='Ficha Avance'!D40 -> 0 | F26: =+'Ficha Avance'!F40 -> 0 | G26: =+'Ficha Avance'!G40 -> 0 | I26: =+'Ficha Avance'!H40:I40 -> 0 | K26: =+'Ficha Avance'!J40:L40 -> 0
D27: Total adiciones | E27: =SUM(E22:E26) -> 670358633
A29: C. INFORMACIÓN FINANCIERA
A31: Unidad Ejecutora | B31: CDP | F31: Registro Presupuestal
B32: No. | C32: Fecha | D32: Rubro(s) (Posición catálogo del gasto) | E32: Valor CDP | F32: No. RP | G32: Fecha del RP | H32: Valor RP | I32: Total Pagos Realizados con el RP | J32: % de Ejecución del RP | K32: Liberaciones | L32: Saldo Por Utilizar RP
A33: 27-01-02-000 | B33: 2025 | C33: 45957 | D33: C-2701-0800-37-20111D-2701019-02 ADQUIS. DE BYS - DESPACHOS JUDICIALES ADECUADOS Y DOTADOS - MODERNIZACIÓN DE LA INFRAESTRUCTURA FÍSICA DE LA RAMA JUDICIAL COMO INSTRUMENTO ESTRATÉGICO DE ACCESO A LA JUSTICIA A NIVEL NACIONAL | E33: 2045760373 | F33: 2225 | G33: 28-11-2025 | H33: 2045760373 | I33: =SUMIFS($F$53:$F$102,$A$53:$A$102,$F33,$B$53:$B$102,$A33,$C$53:$C$102,$D33) -> 0 | J33: =IFERROR(I33/H33,0) -> 0 | L33: =H33-I33-K33 -> 2045760373
I34: =SUMIFS($F$53:$F$102,$A$53:$A$102,$F34,$B$53:$B$102,$A34,$C$53:$C$102,$D34) -> 0 | J34: =IFERROR(I34/H34,0) -> 0 | L34: =H34-I34-K34 -> 0
I35: =SUMIFS($F$53:$F$102,$A$53:$A$102,$F35,$B$53:$B$102,$A35,$C$53:$C$102,$D35) -> 0 | J35: =IFERROR(I35/H35,0) -> 0 | L35: =H35-I35-K35 -> 0
I36: =SUMIFS($F$53:$F$102,$A$53:$A$102,$F36,$B$53:$B$102,$A36,$C$53:$C$102,$D36) -> 0 | J36: =IFERROR(I36/H36,0) -> 0 | L36: =H36-I36-K36 -> 0
I37: =SUMIFS($F$53:$F$102,$A$53:$A$102,$F37,$B$53:$B$102,$A37,$C$53:$C$102,$D37) -> 0 | J37: =IFERROR(I37/H37,0) -> 0 | L37: =H37-I37-K37 -> 0
I38: =SUMIFS($F$53:$F$102,$A$53:$A$102,$F38,$B$53:$B$102,$A38,$C$53:$C$102,$D38) -> 0 | J38: =IFERROR(I38/H38,0) -> 0 | L38: =H38-I38-K38 -> 0
I39: =SUMIFS($F$53:$F$102,$A$53:$A$102,$F39,$B$53:$B$102,$A39,$C$53:$C$102,$D39) -> 0 | J39: =IFERROR(I39/H39,0) -> 0 | L39: =H39-I39-K39 -> 0
I40: =SUMIFS($F$53:$F$102,$A$53:$A$102,$F40,$B$53:$B$102,$A40,$C$53:$C$102,$D40) -> 0 | J40: =IFERROR(I40/H40,0) -> 0 | L40: =H40-I40-K40 -> 0
I41: =SUMIFS($F$53:$F$102,$A$53:$A$102,$F41,$B$53:$B$102,$A41,$C$53:$C$102,$D41) -> 0 | J41: =IFERROR(I41/H41,0) -> 0 | L41: =H41-I41-K41 -> 0
I42: =SUMIFS($F$53:$F$102,$A$53:$A$102,$F42,$B$53:$B$102,$A42,$C$53:$C$102,$D42) -> 0 | J42: =IFERROR(I42/H42,0) -> 0 | L42: =H42-I42-K42 -> 0
I43: =SUMIFS($F$53:$F$102,$A$53:$A$102,$F43,$B$53:$B$102,$A43,$C$53:$C$102,$D43) -> 0 | J43: =IFERROR(I43/H43,0) -> 0 | L43: =H43-I43-K43 -> 0
A44: Total | E44: =SUM(E33:E43) -> 2045760373 | F44: Total | H44: =SUM(H33:H43) -> 2045760373 | I44: =SUM(I33:I43) -> 0 | J44: =SUM(J33:J43) -> 0 | K44: =SUM(K33:K43) -> 0 | L44: =SUM(L33:L43) -> 2045760373
A46: Valor inicial del contrato | D46: =G14 -> 1375401740 | G46: =+'Ficha Avance'!A60 -> Saldo por pagar a la fecha | K46: =D48-D49 -> 2045760373
A47: Valor Adiciones o Reucciones | D47: =+E27 -> 670358633
A48: =+'Ficha Avance'!G17 -> Valor total (Incluídas adiciones) | D48: =+D46+D47 -> 2045760373
A49: =+'Ficha Avance'!A59:C59 -> Total pagado a la fecha (incluido anticipo) | D49: =F103 -> 0 | E49: =$H$103 -> 0 | G49: Valor anticipo (Si aplica) | J49: =+'Ficha Avance'!I59 -> 0 | K49: =+'Ficha Avance'!J59 -> 0
...

Sheet Hoja1
D1: DIRECCION EJECUTIVA DE ADMINISTRACION JUDICIAL
A3: INFORME DE SUPERVISION TÉCNICA, ADMINISTRATIVA, FINANCIERA, CONTABLE Y JURÍDICA
A4: =+'Ficha Avance'!$A$7:$L$7 -> A. INFORMACIÓN GENERAL
A5: Fecha de Presentación del informe | C5: Período del Informe y/ Entregable | F5: Contratista | I5: Pago Realizados No.
F6: Razón social | H6: NIT
A7: 45279
A8: Objeto contractual | H8: Nombres Supervisores
H9: Sup. Técnica
H10: Sup. AFJC
A12: CONTRATO / CONVENIO | C12: No. Interno | D12: No. SECOP o TEVC (Si aplica) | F12: Tipo | H12: Póliza No. | J12: Vigencia póliza:
A13: CONTRATO | H13: Aseguradora | J13: Fecha aprobación
A15: Fecha de suscripción | G15: Fecha de terminación (inicialmente pactada)
A16: Fecha de inicio | G16: Fecha final (incluídas prórrogas, si aplica)

Sheet Control de pagos
A1: MATRIZ DE CONTROL DE PAGOS
A2: Contrato N° | B2: No. Interno | C2: 082 de 2023 | E2: Modalidad de Selección | F2: =+'Ficha Avance'!D16 -> CONTRATACIÓN DIRECTA | I2: Objeto | J2: Prestar el servicio de mantenimiento integral para los equipos de rayos X marca Smith Detection y el arco detector de metales marca CEIA
B3: No. SECOP o TVEC | C3: CO1.PCCNTR.5293634 | E3: Proceso de selección | F3: =+'Ficha Avance'!D17 -> CD-045-2023
A5: Contratista | B5: Razón social | C5: =+'Ficha Avance'!D14 -> DETECTA CORP S.A. | E5: Dirección | F5: Avenida Calle 26 No 96J-66 Bogotá | I5: e-mail | J5: contabilidad@detectacorp.com
B6: NIT | C6: =+'Ficha Avance'!D15 -> 800090427 | E6: Teléfono | F6: (601) 2968900
A8: Supervisor(a) AFCJ | B8: =+'Ficha Avance'!B10:F10 -> RODRIGO JOSE ZABALETA BAÑOL | G8: Fecha de suscripción | I8: =+'Ficha Avance'!K10 -> 18 de agosto de 2023 | K8: Fecha terminación (inicialmente pactada) | M8: 45291
A9: Supervisión Técnica | B9: Unidad Responsable | D9: =+'Ficha Avance'!D11:F11 -> División de Mantenimiento y Mejoramiento | G9: Fecha de inicio | I9: =+'Ficha Avance'!K11 -> 31 de agosto de 2023 | K9: Terminación definitiva (incluídas prórrogas, si aplica) | M9: 45291
B10: Nombre supervisor(a) | D10: =+'Ficha Avance'!D12:F12 -> Néstor Andrés Sánchez Hernández
A12: Rubro | B12: C-2701-0800-36-0-2701048-021
A13: Valor inicial | B13: 60000000
A14: Valor adiciones | B14: 0 | C14: 0 | D14: 0 | E14: 0
A15: Valor total | B15: 60000000
A16: Forma de pago | B16: De acuerdo a lo pactado en el contrato.
A17: Fecha oportuna Liquidación
A19: UNIDAD | B19: 02 | C19: 03 | D19: 04 | E19: 05 | F19: 08 | G19: 09 | H19: TOTAL | I19: FACTURA | K19: FECHA RADICADO EN OLIMPIA IT | L19: FECHA APROBACIÓN SUPERVISOR (en olimpia IT) | M19: PERÍODO FACTURADO | N19: MEMORANDO PAGO | P19: OBLIGACIÓN | R19: ORDEN DE PAGO SIIF | S19: FECHA | T19: ORDEN DE PAGO SIIF UNIDAD 03 | U19: FECHA | V19: ORDEN DE PAGO SIIF UNIDAD 04 | W19: FECHA | X19: ORDEN DE PAGO SIIF UNIDAD 05 | Y19: FECHA
A20: CDP | I20: No. | J20: Fecha | N20: No. | O20: Fecha | P20: No. | Q20: Fecha
A21: RP VIGENCIA
A22: VALOR | B22: 12000000 | C22: 12000000 | D22: 12000000 | E22: 12000000 | G22: 12000000 | H22: =SUM(B22:G22) -> 60000000
A23: VALOR FACTURADO | B23: 513633 | C23: 800768 | D23: 800768 | E23: 800768 | G23: 800768 | H23: =SUM(B23:G23) -> 3716705
H24: =SUM(B24:F24) -> 0
H25: =SUM(B25:F25) -> 0
H26: =SUM(B26:F26) -> 0
H27: =SUM(B27:F27) -> 0
H28: =SUM(B28:F28) -> 0
H29: =SUM(B29:F29) -> 0
H30: =SUM(B30:F30) -> 0
H31: =SUM(B31:F31) -> 0
H32: =SUM(B32:F32) -> 0
H33: =SUM(B33:F33) -> 0
A34: CDP
A35: RP VIGENCIA
A36: VALOR | H36: =B36+C36+D36+E36 -> 0
A37: VALOR FACTURADO | H37: =SUM(B37:F37) -> 0
H38: =SUM(B38:F38) -> 0
H39: =SUM(B39:F39) -> 0
H40: =SUM(B40:F40) -> 0
H41: =SUM(B41:F41) -> 0
H42: =SUM(B42:F42) -> 0
H43: =SUM(B43:F43) -> 0
H44: =SUM(B44:F44) -> 0
...

Sheet Datos
A1: TIPO DE MODIFICACIÓN | B1: FECHA | C1: RANGO MAX Y MIN | D1: Fórmula conteo tiempo (quitando datos en ceros) | E1: MODALIDAD DE SELECCIÓN | G1: UNIDADES EJECUTORAS | I1: AMPAROS
A2: PRÓRROGA | B2: 01/01/2000 | C2: 0 | D2: .=SI(SIFECHA(fecha inicial,fecha final,"y")=0,"", SIFECHA(fecha inicial,fecha final,"y") & " años ") & SI(SIFECHA(fecha inicial,fecha final,"ym")=0,"",SIFECHA(fecha inicial,fecha final,"ym") & " meses ") & SI(SIFECHA(fecha inicial,fecha final,"md")=0,"",SIFECHA(fecha inicial,fecha final,"md") & " días") | E2: LICITACIÓN PÚBLICA | G2: 27-01-02-000 | I2: Cumplimiento
A3: ADICIÓN | B3: 31/12/2050 | C3: 1 | E3: SELECCIÓN ABREVIADA MENOR CUANTÍA | G3: 27-01-03-000 | I3: Responsabilidad Civil Extracontractual
A4: OTROSÍ | E4: SELECCIÓN ABREVIADA SUBASTA INVERSA | G4: 27-01-04-000 | I4: Buen manejo y correcta inversión del anticipo
A5: SUSPENSIÓN | E5: SELECCIÓN ABREVIADA AMP | G5: 27-01-05-000 | I5: Pago anticipado
A6: REINICIO | E6: MÍNIMA CUANTÍA | G6: 27-01-08-000 | I6: Pago de salarios, prestaciones sociales legales e indemnizaciones laborales.
A7: REDUCCIÓN | E7: GRANDES SUPERFICIES TVEC | G7: 27-01-09-000 | I7: Estabilidad y calidad de la obra
A8: CAMBIO DE SUPERVISIÓN | E8: CONTRATACIÓN DIRECTA | G8: 27-01-02-032 | I8: Calidad del servicio
A9: Condicionante | E9: CONCURSO DE MÉRITOS | G9: 27-01-01-200 | I9: Calidad de los bienes
A10: =+'Inf. Supervisión AFCJ'!D23 -> 0 | G10: 27-01-01-300
G11: 27-01-01-400
G12: 27-01-01-500
A13: CONTRATO | G13: 27-01-01-800
A14: CONVENIO | G14: 27-01-01-900
G17: PRÓRROGA
G18: ADICIÓN
G19: OTROSÍ
G20: SUSPENSIÓN
G21: REINICIO
G22: REDUCCIÓN
G23: CAMBIO DE SUPERVISIÓN
