Workbook

Sheet ANEXO ECONOMICO nov, dic y ener
C2: SALARIOS 2025 | D2: SALARIOS 2026 | E2: INSUMOS
B3: TIEMPO COMPLETO | C3: =+'[1]Costos Operarios'!C33 -> 2576000 | D3: =+'[1]Costos Operarios'!H36 -> 3458319.9 | E3: 200000
B4: MEDIO TIEMPO | C4: =+'[1]Costos Operarios'!D33 -> 1470900 | D4: =+'[1]Costos Operarios'!I36 -> 1968955.5 | E4: 110000
B5: COORDINADOR | C5: 0 | E5: 0
B6: 3 HORAS 3 DIAS A LA SEMANA | C6: 574516 | D6: =+'[1]Costos Operarios'!J36 -> 794464.26 | E6: 100000
B7: AIU (%) | C7: 0.1 | P7: =+P8/30*27 -> 3112487.9
P8: =+P13/2 -> 3458319.9
A10: COSTO MENSUAL POR OPERARIO | J10: VIGENCIA 2025 | S10: 2026
A11: MUNICIPIOS | B11: UBICACIÓN | C11: Cantidad | D11: Costo | E11: AIU (%) | F11: Subtotal | G11: Base Gravable | H11: IVA (19%) | I11: TOTAL | J11: Total Costo Mensual por operario | K11: Total Costo Mes X insumos de aseo | L11: NOVIEMBRE DEL 19-30 DEL 2025 (12 Dias) | N11: Diciembre del 01 al 30 2025 (30 Dias) insumos (medio tiempo y 3*3, 15 dias), | P11: COSTO MES OPERARIO + 23,2 % DE INCREMENTO PARA 2026 | Q11: INSUMOS DE ASEO | R11: TOTAL MES OPERARIO CON INSUMOS DE ASEO VIGENCICA 2026 | S11: ENERO DEL 2026 | U11: total enero | V11: total enero sin insumos
L12: V, medios humanos | M12: V, Insumos | N12: V, medios humanos | O12: V, Insumos | S12: 27 | T12: 3
A13: CUCUTA | B13: Palacio Justicia Cúcuta torre A (PISO No 1) | C13: 2 | D13: =+$C$3 -> 2576000 | E13: =+ROUND((D13*$C$7),0) -> 257600 | F13: =+E13+D13 -> 2833600 | G13: =+ROUND((F13*10%),0) -> 283360 | H13: =ROUND((E13*19%),0) -> 48944 | I13: =+H13+F13 -> 2882544 | J13: =+I13*C13 -> 5765088 | K13: =+$E$3*C13 -> 400000 | L13: =+J13/30*12 -> 2306035.2 | M13: =+K13/30*12 -> 160000 | N13: =+K13 -> 400000 | O13: =+J13 -> 5765088 | P13: =+$D$3*C13 -> 6916639.7 | Q13: =+K13 -> 400000 | R13: =+Q13+P13 -> 7316639.7 | S13: =+(P13/30*$S$12)+(Q13/30*$S$12) -> 6584975.7 | T13: =SUM('[1]ANEXO ECONOMICO MODIFICACION 3'!N13:N14) -> 582727.6 | U13: =SUM(S13:T13) -> 7167703.3 | V13: =+U13-Q13 -> 6767703.3
B14: Palacio Justicia Cúcuta torre A (PISO No 2) | C14: 2 | D14: =+$C$3 -> 2576000 | E14: =+ROUND((D14*$C$7),0) -> 257600 | F14: =+E14+D14 -> 2833600 | G14: =+ROUND((F14*10%),0) -> 283360 | H14: =ROUND((E14*19%),0) -> 48944 | I14: =+H14+F14 -> 2882544 | J14: =+I14*C14 -> 5765088 | K14: =+$E$3*C14 -> 400000 | L14: =+J14/30*12 -> 2306035.2 | M14: =+K14/30*12 -> 160000 | N14: =+K14 -> 400000 | O14: =+J14 -> 5765088 | P14: =+$D$3*C14 -> 6916639.7 | Q14: =+K14 -> 400000 | R14: =+Q14+P14 -> 7316639.7 | S14: =+(P14/30*$S$12)+(Q14/30*$S$12) -> 6584975.7 | T14: =SUM('[1]ANEXO ECONOMICO MODIFICACION 3'!N15:N16) -> 582727.6 | U14: =SUM(S14:T14) -> 7167703.3 | V14: =+U14-Q14 -> 6767703.3
B15: Palacio Justicia Cúcuta torre A (PISO No 3) | C15: 2 | D15: =+$C$3 -> 2576000 | E15: =+ROUND((D15*$C$7),0) -> 257600 | F15: =+E15+D15 -> 2833600 | G15: =+ROUND((F15*10%),0) -> 283360 | H15: =ROUND((E15*19%),0) -> 48944 | I15: =+H15+F15 -> 2882544 | J15: =+I15*C15 -> 5765088 | K15: =+$E$3*C15 -> 400000 | L15: =+J15/30*12 -> 2306035.2 | M15: =+K15/30*12 -> 160000 | N15: =+K15 -> 400000 | O15: =+J15 -> 5765088 | P15: =+$D$3*C15 -> 6916639.7 | Q15: =+K15 -> 400000 | R15: =+Q15+P15 -> 7316639.7 | S15: =+(P15/30*$S$12)+(Q15/30*$S$12) -> 6584975.7 | T15: =SUM('[1]ANEXO ECONOMICO MODIFICACION 3'!N17:N18) -> 582727.6 | U15: =SUM(S15:T15) -> 7167703.3 | V15: =+U15-Q15 -> 6767703.3
B16: Palacio Justicia Cúcuta torre A (PISO No 4) | C16: 2 | D16: =+$C$3 -> 2576000 | E16: =+ROUND((D16*$C$7),0) -> 257600 | F16: =+E16+D16 -> 2833600 | G16: =+ROUND((F16*10%),0) -> 283360 | H16: =ROUND((E16*19%),0) -> 48944 | I16: =+H16+F16 -> 2882544 | J16: =+I16*C16 -> 5765088 | K16: =+$E$3*C16 -> 400000 | L16: =+J16/30*12 -> 2306035.2 | M16: =+K16/30*12 -> 160000 | N16: =+K16 -> 400000 | O16: =+J16 -> 5765088 | P16: =+$D$3*C16 -> 6916639.7 | Q16: =+K16 -> 400000 | R16: =+Q16+P16 -> 7316639.7 | S16: =+(P16/30*$S$12)+(Q16/30*$S$12) -> 6584975.7 | T16: =SUM('[1]ANEXO ECONOMICO MODIFICACION 3'!N19:N20) -> 582727.6 | U16: =SUM(S16:T16) -> 7167703.3 | V16: =+U16-Q16 -> 6767703.3
B17: Palacio Justicia Cúcuta torre B (PISO 1 y 2) | C17: 1 | D17: =+$C$3 -> 2576000 | E17: =+ROUND((D17*$C$7),0) -> 257600 | F17: =+E17+D17 -> 2833600 | G17: =+ROUND((F17*10%),0) -> 283360 | H17: =ROUND((E17*19%),0) -> 48944 | I17: =+H17+F17 -> 2882544 | J17: =+I17*C17 -> 2882544 | K17: =+$E$3*C17 -> 200000 | L17: =+J17/30*12 -> 1153017.6 | M17: =+K17/30*12 -> 80000 | N17: =+K17 -> 200000 | O17: =+J17 -> 2882544 | P17: =+$D$3*C17 -> 3458319.9 | Q17: =+K17 -> 200000 | R17: =+Q17+P17 -> 3658319.9 | S17: =+(P17/30*$S$12)+(Q17/30*$S$12) -> 3292487.9 | T17: =+R17/30*T12 -> 365831.99 | U17: =SUM(S17:T17) -> 3658319.9 | V17: =+U17-Q17 -> 3458319.9
B18: Palacio Justicia Cúcuta torre C (PISO 1) | C18: 2 | D18: =+$C$3 -> 2576000 | E18: =+ROUND((D18*$C$7),0) -> 257600 | F18: =+E18+D18 -> 2833600 | G18: =+ROUND((F18*10%),0) -> 283360 | H18: =ROUND((E18*19%),0) -> 48944 | I18: =+H18+F18 -> 2882544 | J18: =+I18*C18 -> 5765088 | K18: =+$E$3*C18 -> 400000 | L18: =+J18/30*12 -> 2306035.2 | M18: =+K18/30*12 -> 160000 | N18: =+K18 -> 400000 | O18: =+J18 -> 5765088 | P18: =+$D$3*C18 -> 6916639.7 | Q18: =+K18 -> 400000 | R18: =+Q18+P18 -> 7316639.7 | S18: =+(P18/30*$S$12)+(Q18/30*$S$12) -> 6584975.7 | T18: =SUM('[1]ANEXO ECONOMICO MODIFICACION 3'!N22:N23) -> 582727.6 | U18: =SUM(S18:T18) -> 7167703.3 | V18: =+U18-Q18 -> 6767703.3
B19: Palacio Justicia Cúcuta torre C (PISO 2) | C19: 2 | D19: =+$C$3 -> 2576000 | E19: =+ROUND((D19*$C$7),0) -> 257600 | F19: =+E19+D19 -> 2833600 | G19: =+ROUND((F19*10%),0) -> 283360 | H19: =ROUND((E19*19%),0) -> 48944 | I19: =+H19+F19 -> 2882544 | J19: =+I19*C19 -> 5765088 | K19: =+$E$3*C19 -> 400000 | L19: =+J19/30*12 -> 2306035.2 | M19: =+K19/30*12 -> 160000 | N19: =+K19 -> 400000 | O19: =+J19 -> 5765088 | P19: =+$D$3*C19 -> 6916639.7 | Q19: =+K19 -> 400000 | R19: =+Q19+P19 -> 7316639.7 | S19: =+(P19/30*$S$12)+(Q19/30*$S$12) -> 6584975.7 | T19: =+R19/30*T12 -> 731663.97 | U19: =SUM(S19:T19) -> 7316639.7 | V19: =+U19-Q19 -> 6916639.7
B20: Palacio Justicia Cúcuta torre C (PISO 3) | C20: 2 | D20: =+$C$3 -> 2576000 | E20: =+ROUND((D20*$C$7),0) -> 257600 | F20: =+E20+D20 -> 2833600 | G20: =+ROUND((F20*10%),0) -> 283360 | H20: =ROUND((E20*19%),0) -> 48944 | I20: =+H20+F20 -> 2882544 | J20: =+I20*C20 -> 5765088 | K20: =+$E$3*C20 -> 400000 | L20: =+J20/30*12 -> 2306035.2 | M20: =+K20/30*12 -> 160000 | N20: =+K20 -> 400000 | O20: =+J20 -> 5765088 | P20: =+$D$3*C20 -> 6916639.7 | Q20: =+K20 -> 400000 | R20: =+Q20+P20 -> 7316639.7 | S20: =+(P20/30*$S$12)+(Q20/30*$S$12) -> 6584975.7 | T20: =SUM('[1]ANEXO ECONOMICO MODIFICACION 3'!N25:N26) -> 582727.6 | U20: =SUM(S20:T20) -> 7167703.3 | V20: =+U20-Q20 -> 6767703.3
B21: Palacio Justicia Cúcuta torre C (PISO 4) | C21: 2 | D21: =+$C$3 -> 2576000 | E21: =+ROUND((D21*$C$7),0) -> 257600 | F21: =+E21+D21 -> 2833600 | G21: =+ROUND((F21*10%),0) -> 283360 | H21: =ROUND((E21*19%),0) -> 48944 | I21: =+H21+F21 -> 2882544 | J21: =+I21*C21 -> 5765088 | K21: =+$E$3*C21 -> 400000 | L21: =+J21/30*12 -> 2306035.2 | M21: =+K21/30*12 -> 160000 | N21: =+K21 -> 400000 | O21: =+J21 -> 5765088 | P21: =+$D$3*C21 -> 6916639.7 | Q21: =+K21 -> 400000 | R21: =+Q21+P21 -> 7316639.7 | S21: =+(P21/30*$S$12)+(Q21/30*$S$12) -> 6584975.7 | T21: =+R21/30*T12 -> 731663.97 | U21: =SUM(S21:T21) -> 7316639.7 | V21: =+U21-Q21 -> 6916639.7
B22: Palacio Justicia Cúcuta torre C (Sotanos y archivos) | C22: 1 | D22: =+$C$3 -> 2576000 | E22: =+ROUND((D22*$C$7),0) -> 257600 | F22: =+E22+D22 -> 2833600 | G22: =+ROUND((F22*10%),0) -> 283360 | H22: =ROUND((E22*19%),0) -> 48944 | I22: =+H22+F22 -> 2882544 | J22: =+I22*C22 -> 2882544 | K22: =+$E$3*C22 -> 200000 | L22: =+J22/30*12 -> 1153017.6 | M22: =+K22/30*12 -> 80000 | N22: =+K22 -> 200000 | O22: =+J22 -> 2882544 | P22: =+$D$3*C22 -> 3458319.9 | Q22: =+K22 -> 200000 | R22: =+Q22+P22 -> 3658319.9 | S22: =+(P22/30*$S$12)+(Q22/30*$S$12) -> 3292487.9 | T22: =+R22/30*T12 -> 365831.99 | U22: =SUM(S22:T22) -> 3658319.9 | V22: =+U22-Q22 -> 3458319.9
B23: SEDE CESPA | C23: 1 | D23: =+$C$3 -> 2576000 | E23: =+ROUND((D23*$C$7),0) -> 257600 | F23: =+E23+D23 -> 2833600 | G23: =+ROUND((F23*10%),0) -> 283360 | H23: =ROUND((E23*19%),0) -> 48944 | I23: =+H23+F23 -> 2882544 | J23: =+I23*C23 -> 2882544 | K23: =+$E$3*C23 -> 200000 | L23: =+J23/30*12 -> 1153017.6 | M23: =+K23/30*12 -> 80000 | N23: =+K23 -> 200000 | O23: =+J23 -> 2882544 | P23: =+$D$3*C23 -> 3458319.9 | Q23: =+K23 -> 200000 | R23: =+Q23+P23 -> 3658319.9 | S23: =+(P23/30*$S$12)+(Q23/30*$S$12) -> 3292487.9 | T23: =+R23/30*T12 -> 365831.99 | U23: =SUM(S23:T23) -> 3658319.9 | V23: =+U23-Q23 -> 3458319.9
B24: JUZGADO BANCO DE BOGOTA | C24: 1 | D24: =+$C$3 -> 2576000 | E24: =+ROUND((D24*$C$7),0) -> 257600 | F24: =+E24+D24 -> 2833600 | G24: =+ROUND((F24*10%),0) -> 283360 | H24: =ROUND((E24*19%),0) -> 48944 | I24: =+H24+F24 -> 2882544 | J24: =+I24*C24 -> 2882544 | K24: =+$E$3*C24 -> 200000 | L24: =+J24/30*12 -> 1153017.6 | M24: =+K24/30*12 -> 80000 | N24: =+K24 -> 200000 | O24: =+J24 -> 2882544 | P24: =+$D$3*C24 -> 3458319.9 | Q24: =+K24 -> 200000 | R24: =+Q24+P24 -> 3658319.9 | S24: =+(P24/30*$S$12)+(Q24/30*$S$12) -> 3292487.9 | T24: =+'[1]ANEXO ECONOMICO MODIFICACION 3'!N30 -> 216895.6 | U24: =SUM(S24:T24) -> 3509383.5 | V24: =+U24-Q24 -> 3309383.5
B25: JUZGADOS ATALAYA | C25: 1 | D25: =+$C$3 -> 2576000 | E25: =+ROUND((D25*$C$7),0) -> 257600 | F25: =+E25+D25 -> 2833600 | G25: =+ROUND((F25*10%),0) -> 283360 | H25: =ROUND((E25*19%),0) -> 48944 | I25: =+H25+F25 -> 2882544 | J25: =+I25*C25 -> 2882544 | K25: =+$E$3*C25 -> 200000 | L25: =+J25/30*12 -> 1153017.6 | M25: =+K25/30*12 -> 80000 | N25: =+K25 -> 200000 | O25: =+J25 -> 2882544 | P25: =+$D$3*C25 -> 3458319.9 | Q25: =+K25 -> 200000 | R25: =+Q25+P25 -> 3658319.9 | S25: =+(P25/30*$S$12)+(Q25/30*$S$12) -> 3292487.9 | T25: =+'[1]ANEXO ECONOMICO MODIFICACION 3'!N31 -> 216895.6 | U25: =SUM(S25:T25) -> 3509383.5 | V25: =+U25-Q25 -> 3309383.5
B26: TEMIS | C26: 2 | D26: =+$C$3 -> 2576000 | E26: =+ROUND((D26*$C$7),0) -> 257600 | F26: =+E26+D26 -> 2833600 | G26: =+ROUND((F26*10%),0) -> 283360 | H26: =ROUND((E26*19%),0) -> 48944 | I26: =+H26+F26 -> 2882544 | J26: =+I26*C26 -> 5765088 | K26: =+$E$3*C26 -> 400000 | L26: =+J26/30*12 -> 2306035.2 | M26: =+K26/30*12 -> 160000 | N26: =+K26 -> 400000 | O26: =+J26 -> 5765088 | P26: =+$D$3*C26 -> 6916639.7 | Q26: =+K26 -> 400000 | R26: =+Q26+P26 -> 7316639.7 | S26: =+(P26/30*$S$12)+(Q26/30*$S$12) -> 6584975.7 | T26: =SUM('[1]ANEXO ECONOMICO MODIFICACION 3'!N32:N33) -> 582727.6 | U26: =SUM(S26:T26) -> 7167703.3 | V26: =+U26-Q26 -> 6767703.3
B27: EDIFICIO LEYDI | C27: 1 | D27: =+$C$3 -> 2576000 | E27: =+ROUND((D27*$C$7),0) -> 257600 | F27: =ROUND((+E27+D27),0) -> 2833600 | G27: =+ROUND((F27*10%),0) -> 283360 | H27: =ROUND((E27*19%),0) -> 48944 | I27: =+H27+F27 -> 2882544 | J27: =+I27*C27 -> 2882544 | K27: =+$E$3*C27 -> 200000 | L27: =+J27/30*12 -> 1153017.6 | M27: =+K27/30*12 -> 80000 | N27: =+K27 -> 200000 | O27: =+J27 -> 2882544 | P27: =+$D$3*C27 -> 3458319.9 | Q27: =+K27 -> 200000 | R27: =+Q27+P27 -> 3658319.9 | S27: =+(P27/30*$S$12)+(Q27/30*$S$12) -> 3292487.9 | T27: =+R27/30*T12 -> 365831.99 | U27: =SUM(S27:T27) -> 3658319.9 | V27: =+U27-Q27 -> 3458319.9
B28: MANTENIMIENTO CON ALTURAS | C28: 6 | D28: =+$C$3 -> 2576000 | E28: =+ROUND((D28*$C$7),0) -> 257600 | F28: =ROUND((+E28+D28),0) -> 2833600 | G28: =+ROUND((F28*10%),0) -> 283360 | H28: =ROUND((E28*19%),0) -> 48944 | I28: =+H28+F28 -> 2882544 | J28: =+I28*C28 -> 17295264 | K28: 0 | L28: =+J28/30*12 -> 6918105.6 | M28: =+K28/30*12 -> 0 | N28: =+K28 -> 0 | O28: =+J28 -> 17295264 | P28: =+$D$3*C28 -> 20749919 | Q28: =+K28 -> 0 | R28: =+Q28+P28 -> 20749919 | S28: =+(P28/30*$S$12)+(Q28/30*$S$12) -> 18674927 | T28: =+'[1]ANEXO ECONOMICO MODIFICACION 3'!N35 -> 1729160 | U28: =SUM(S28:T28) -> 20404087 | V28: =+U28-Q28 -> 20404087
A29: PATIOS | B29: PALACIO DE JUSTICIA PATIOS | C29: 2 | D29: =+$C$3 -> 2576000 | E29: =+ROUND((D29*$C$7),0) -> 257600 | F29: =ROUND((+E29+D29),0) -> 2833600 | G29: =+ROUND((F29*10%),0) -> 283360 | H29: =ROUND((E29*19%),0) -> 48944 | I29: =+H29+F29 -> 2882544 | J29: =+I29*C29 -> 5765088 | K29: =+$E$3*C29 -> 400000 | L29: =+J29/30*12 -> 2306035.2 | M29: =+K29/30*12 -> 160000 | N29: =+K29 -> 400000 | O29: =+J29 -> 5765088 | P29: =+$D$3*C29 -> 6916639.7 | Q29: =+K29 -> 400000 | R29: =+Q29+P29 -> 7316639.7 | S29: =+(P29/30*$S$12)+(Q29/30*$S$12) -> 6584975.7 | T29: =+R29/30*T12 -> 731663.97 | U29: =SUM(S29:T29) -> 7316639.7 | V29: =+U29-Q29 -> 6916639.7
B30: MANTENIMIENTO CON ALTURAS | C30: 1 | D30: =+$C$3 -> 2576000 | E30: =+ROUND((D30*$C$7),0) -> 257600 | F30: =ROUND((+E30+D30),0) -> 2833600 | G30: =+ROUND((F30*10%),0) -> 283360 | H30: =ROUND((E30*19%),0) -> 48944 | I30: =+H30+F30 -> 2882544 | J30: =+I30*C30 -> 2882544 | K30: 0 | L30: =+J30/30*12 -> 1153017.6 | M30: =+K30/30*12 -> 0 | N30: =+K30 -> 0 | O30: =+J30 -> 2882544 | P30: =+$D$3*C30 -> 3458319.9 | Q30: =+K30 -> 0 | R30: =+Q30+P30 -> 3458319.9 | S30: =+(P30/30*$S$12)+(Q30/30*$S$12) -> 3112487.9 | T30: =+R30/30*T12 -> 345831.99 | U30: =SUM(S30:T30) -> 3458319.9 | V30: =+U30-Q30 -> 3458319.9
A31: PAMPLONA | B31: Palacio Justicia de Pamplona | C31: 2 | D31: =+$C$3 -> 2576000 | E31: =+ROUND((D31*$C$7),0) -> 257600 | F31: =ROUND((+E31+D31),0) -> 2833600 | G31: =+ROUND((F31*10%),0) -> 283360 | H31: =ROUND((E31*19%),0) -> 48944 | I31: =+H31+F31 -> 2882544 | J31: =+I31*C31 -> 5765088 | K31: =+$E$3*C31 -> 400000 | L31: =+J31/30*12 -> 2306035.2 | M31: =+K31/30*12 -> 160000 | N31: =+K31 -> 400000 | O31: =+J31 -> 5765088 | P31: =+$D$3*C31 -> 6916639.7 | Q31: =+K31 -> 400000 | R31: =+Q31+P31 -> 7316639.7 | S31: =+(P31/30*$S$12)+(Q31/30*$S$12) -> 6584975.7 | T31: =+R31/30*T12 -> 731663.97 | U31: =SUM(S31:T31) -> 7316639.7 | V31: =+U31-Q31 -> 6916639.7
B32: MANTENIMIENTO CON ALTURAS | C32: 1 | D32: =+$C$3 -> 2576000 | E32: =+ROUND((D32*$C$7),0) -> 257600 | F32: =ROUND((+E32+D32),0) -> 2833600 | G32: =+ROUND((F32*10%),0) -> 283360 | H32: =ROUND((E32*19%),0) -> 48944 | I32: =+H32+F32 -> 2882544 | J32: =+I32*C32 -> 2882544 | K32: 0 | L32: =+J32/30*12 -> 1153017.6 | M32: =+K32/30*12 -> 0 | N32: =+K32 -> 0 | O32: =+J32 -> 2882544 | P32: =+$D$3*C32 -> 3458319.9 | Q32: =+K32 -> 0 | R32: =+Q32+P32 -> 3458319.9 | S32: =+(P32/30*$S$12)+(Q32/30*$S$12) -> 3112487.9 | T32: =+R32/30*T12 -> 345831.99 | U32: =SUM(S32:T32) -> 3458319.9 | V32: =+U32-Q32 -> 3458319.9
A33: OCAÑA | B33: Palacio de Justicia de Ocaña | C33: 3 | D33: =+$C$3 -> 2576000 | E33: =+ROUND((D33*$C$7),0) -> 257600 | F33: =ROUND((+E33+D33),0) -> 2833600 | G33: =+ROUND((F33*10%),0) -> 283360 | H33: =ROUND((E33*19%),0) -> 48944 | I33: =+H33+F33 -> 2882544 | J33: =+I33*C33 -> 8647632 | K33: =+$E$3*C33 -> 600000 | L33: =+J33/30*12 -> 3459052.8 | M33: =+K33/30*12 -> 240000 | N33: =+K33 -> 600000 | O33: =+J33 -> 8647632 | P33: =+$D$3*C33 -> 10374960 | Q33: =+K33 -> 600000 | R33: =+Q33+P33 -> 10974960 | S33: =+(P33/30*$S$12)+(Q33/30*$S$12) -> 9877463.6 | T33: =SUM('[1]ANEXO ECONOMICO MODIFICACION 3'!N40:N41) -> 948559.6 | U33: =SUM(S33:T33) -> 10826023 | V33: =+U33-Q33 -> 10226023
B34: MANTENIMIENTO CON ALTURAS | C34: 1 | D34: =+$C$3 -> 2576000 | E34: =+ROUND((D34*$C$7),0) -> 257600 | F34: =ROUND((+E34+D34),0) -> 2833600 | G34: =+ROUND((F34*10%),0) -> 283360 | H34: =ROUND((E34*19%),0) -> 48944 | I34: =+H34+F34 -> 2882544 | J34: =+I34*C34 -> 2882544 | K34: 0 | L34: =+J34/30*12 -> 1153017.6 | M34: =+K34/30*12 -> 0 | N34: =+K34 -> 0 | O34: =+J34 -> 2882544 | P34: =+$D$3*C34 -> 3458319.9 | Q34: =+K34 -> 0 | R34: =+Q34+P34 -> 3458319.9 | S34: =+(P34/30*$S$12)+(Q34/30*$S$12) -> 3112487.9 | T34: =+R34/30*T12 -> 345831.99 | U34: =SUM(S34:T34) -> 3458319.9 | V34: =+U34-Q34 -> 3458319.9
A35: ARAUCA | B35: CESPA ARAUCA 3 | C35: 1 | D35: =+$C$3 -> 2576000 | E35: =+ROUND((D35*$C$7),0) -> 257600 | F35: =ROUND((+E35+D35),0) -> 2833600 | G35: =+ROUND((F35*10%),0) -> 283360 | H35: =ROUND((E35*19%),0) -> 48944 | I35: =+H35+F35 -> 2882544 | J35: =+I35*C35 -> 2882544 | K35: =+$E$3*C35 -> 200000 | L35: =+J35/30*12 -> 1153017.6 | M35: =+K35/30*12 -> 80000 | N35: =+K35 -> 200000 | O35: =+J35 -> 2882544 | P35: =+$D$3*C35 -> 3458319.9 | Q35: =+K35 -> 200000 | R35: =+Q35+P35 -> 3658319.9 | S35: =+(P35/30*$S$12)+(Q35/30*$S$12) -> 3292487.9 | T35: =+R35/30*T12 -> 365831.99 | U35: =SUM(S35:T35) -> 3658319.9 | V35: =+U35-Q35 -> 3458319.9
B36: PALACIO DE JUSTICIA ARAUCA VIEJO | C36: 1 | D36: =+$C$3 -> 2576000 | E36: =+ROUND((D36*$C$7),0) -> 257600 | F36: =ROUND((+E36+D36),0) -> 2833600 | G36: =+ROUND((F36*10%),0) -> 283360 | H36: =ROUND((E36*19%),0) -> 48944 | I36: =+H36+F36 -> 2882544 | J36: =+I36*C36 -> 2882544 | K36: =+$E$3*C36 -> 200000 | L36: =+J36/30*12 -> 1153017.6 | M36: =+K36/30*12 -> 80000 | N36: =+K36 -> 200000 | O36: =+J36 -> 2882544 | P36: =+$D$3*C36 -> 3458319.9 | Q36: =+K36 -> 200000 | R36: =+Q36+P36 -> 3658319.9 | S36: =+(P36/30*$S$12)+(Q36/30*$S$12) -> 3292487.9 | T36: =+R36/30*T12 -> 365831.99 | U36: =SUM(S36:T36) -> 3658319.9 | V36: =+U36-Q36 -> 3458319.9
B37: MANTENIMIENTO CON ALTURAS (P.J.VIEJO) | C37: 2 | D37: =+$C$3 -> 2576000 | E37: =+ROUND((D37*$C$7),0) -> 257600 | F37: =ROUND((+E37+D37),0) -> 2833600 | G37: =+ROUND((F37*10%),0) -> 283360 | H37: =ROUND((E37*19%),0) -> 48944 | I37: =+H37+F37 -> 2882544 | J37: =+I37*C37 -> 5765088 | K37: 0 | L37: =+J37/30*12 -> 2306035.2 | M37: =+K37/30*12 -> 0 | N37: =+K37 -> 0 | O37: =+J37 -> 5765088 | P37: =+$D$3*C37 -> 6916639.7 | Q37: =+K37 -> 0 | R37: =+Q37+P37 -> 6916639.7 | S37: =+(P37/30*$S$12)+(Q37/30*$S$12) -> 6224975.7 | T37: =+R37/30*T12 -> 691663.97 | U37: =SUM(S37:T37) -> 6916639.7 | V37: =+U37-Q37 -> 6916639.7
B38: Palacio de Justicia de Arauca NUEVO 1 | C38: 4 | D38: =+$C$3 -> 2576000 | E38: =+ROUND((D38*$C$7),0) -> 257600 | F38: =ROUND((+E38+D38),0) -> 2833600 | G38: =+ROUND((F38*10%),0) -> 283360 | H38: =ROUND((E38*19%),0) -> 48944 | I38: =+H38+F38 -> 2882544 | J38: =+I38*C38 -> 11530176 | K38: =+$E$3*C38 -> 800000 | L38: =+J38/30*12 -> 4612070.4 | M38: =+K38/30*12 -> 320000 | N38: =+K38 -> 800000 | O38: =+J38 -> 11530176 | P38: =+$D$3*C38 -> 13833279 | Q38: =+K38 -> 800000 | R38: =+Q38+P38 -> 14633279 | S38: =+(P38/30*$S$12)+(Q38/30*$S$12) -> 13169951 | T38: =SUM('[1]ANEXO ECONOMICO MODIFICACION 3'!N46:N47) -> 1314391.6 | U38: =SUM(S38:T38) -> 14484343 | V38: =+U38-Q38 -> 13684343
B39: MANTENIMIENTO CON ALTURAS (NUEVO) | C39: 1 | D39: =+$C$3 -> 2576000 | E39: =+ROUND((D39*$C$7),0) -> 257600 | F39: =ROUND((+E39+D39),0) -> 2833600 | G39: =+ROUND((F39*10%),0) -> 283360 | H39: =ROUND((E39*19%),0) -> 48944 | I39: =+H39+F39 -> 2882544 | J39: =+I39*C39 -> 2882544 | K39: 0 | L39: =+J39/30*12 -> 1153017.6 | M39: =+K39/30*12 -> 0 | N39: =+K39 -> 0 | O39: =+J39 -> 2882544 | P39: =+$D$3*C39 -> 3458319.9 | Q39: =+K39 -> 0 | R39: =+Q39+P39 -> 3458319.9 | S39: =+(P39/30*$S$12)+(Q39/30*$S$12) -> 3112487.9 | T39: =+R39/30*$T$12 -> 345831.99 | U39: =SUM(S39:T39) -> 3458319.9 | V39: =+U39-Q39 -> 3458319.9
B40: JUZGADO PROMISCUO TAME | C40: 1 | D40: =+$C$3 -> 2576000 | E40: =+ROUND((D40*$C$7),0) -> 257600 | F40: =ROUND((+E40+D40),0) -> 2833600 | G40: =+ROUND((F40*10%),0) -> 283360 | H40: =ROUND((E40*19%),0) -> 48944 | I40: =+H40+F40 -> 2882544 | J40: =+I40*C40 -> 2882544 | K40: =+$E$3*C40 -> 200000 | L40: =+J40/30*12 -> 1153017.6 | M40: =+K40/30*12 -> 80000 | N40: =+K40 -> 200000 | O40: =+J40 -> 2882544 | P40: =+$D$3*C40 -> 3458319.9 | Q40: =+K40 -> 200000 | R40: =+Q40+P40 -> 3658319.9 | S40: =+(P40/30*$S$12)+(Q40/30*$S$12) -> 3292487.9 | T40: =+R40/30*$T$12 -> 365831.99 | U40: =SUM(S40:T40) -> 3658319.9 | V40: =+U40-Q40 -> 3458319.9
B41: Juzgado penales saravena | C41: 1 | D41: =+$C$3 -> 2576000 | E41: =+ROUND((D41*$C$7),0) -> 257600 | F41: =ROUND((+E41+D41),0) -> 2833600 | G41: =+ROUND((F41*10%),0) -> 283360 | H41: =ROUND((E41*19%),0) -> 48944 | I41: =+H41+F41 -> 2882544 | J41: =+I41*C41 -> 2882544 | K41: =+$E$3*C41 -> 200000 | L41: =+J41/30*12 -> 1153017.6 | M41: =+K41/30*12 -> 80000 | N41: =+K41 -> 200000 | O41: =+J41 -> 2882544 | P41: =+$D$3*C41 -> 3458319.9 | Q41: =+K41 -> 200000 | R41: =+Q41+P41 -> 3658319.9 | S41: =+(P41/30*$S$12)+(Q41/30*$S$12) -> 3292487.9 | T41: =+R41/30*$T$12 -> 365831.99 | U41: =SUM(S41:T41) -> 3658319.9 | V41: =+U41-Q41 -> 3458319.9
A42: VILLA ROSARIO | B42: Edificio los pinos Juzgados Prom, Municipales de vila Rosario | C42: 1 | D42: =+$C$4 -> 1470900 | E42: =+ROUND((D42*$C$7),0) -> 147090 | F42: =ROUND((+E42+D42),0) -> 1617990 | G42: =+ROUND((F42*10%),0) -> 161799 | H42: =ROUND((E42*19%),0) -> 27947 | I42: =+F42+H42 -> 1645937 | J42: =+I42*C42 -> 1645937 | K42: =+$E$4*C42 -> 110000 | L42: =+J42/30*12 -> 658374.8 | M42: =+K42/30*12 -> 44000 | N42: =+K42/30*15 -> 55000 | O42: =+J42/30*15 -> 822968.5 | P42: =+$D$4*C42 -> 1968955.5 | Q42: =+K42 -> 110000 | R42: =+Q42+P42 -> 2078955.5 | S42: =+(R42/2)/15*12 -> 831582.19 | T42: =+'[1]ANEXO ECONOMICO MODIFICACION 3'!N51 -> 207895.6 | U42: =SUM(S42:T42) -> 1039477.8 | V42: =+(U42)-(Q42/2) -> 984477.79
...

Sheet ANEXO ECONOMICO MODIFICACION 3
C2: SALARIOS 2025 | D2: SALARIOS 2026 | E2: INSUMOS
B3: TIEMPO COMPLETO | C3: =+'[1]Costos Operarios'!C33 -> 2576000 | D3: =+'[1]Costos Operarios'!H33 -> 3090545 | E3: 200000 | F3: =D3-D4 -> 1330978
B4: MEDIO TIEMPO | C4: =+'[1]Costos Operarios'!D33 -> 1470900 | D4: =+'[1]Costos Operarios'!I33 -> 1759567 | E4: 110000
B5: COORDINADOR | C5: 0 | E5: 0
B6: 3 HORAS 3 DIAS A LA SEMANA | C6: 574516 | D6: =+'[1]Costos Operarios'!J33 -> 709977 | E6: 100000
B7: AIU (%) | C7: 0.1
A10: CONDICIONES ACTUALES DEL CONTRATO - COSTO MENSUAL POR OPERARIO DE CONFORMIDAD A LA MODIFICACION 2 | Q10: CONDICIONES CONTRATO CON LA MODIFICACION 3 | S10: COSTO MES OPERARIO + 2.4% INCREMENTO | T10: IMPLEMENTOS | U10: TOTAL COSTO MES MAS IMPLEMENTOS | V10: VALOR DEL 01/ENE/2023 AL 30/JUN/2023
A11: MUNICIPIOS | B11: UBICACIÓN | C11: Cantidad | D11: Costo | E11: AIU (%) | F11: Subtotal | G11: Base Gravable | H11: IVA (19%) | I11: TOTAL | J11: Total Costo Mensual por operario | K11: ENERO 2026 | N11: FEBRERO 2026 | O11: MARZO 2026 | P11: ABIRL 2026 | Q11: MAYO 2026 | R11: JUNIO 2026
K12: 27 | L12: 3 | M12: Total | N12: (MES COMPLETO) | O12: 30 | P12: (MES COMPLETO) | Q12: (MES COMPLETO) | R12: (MES COMPLETO)
A13: CUCUTA | B13: Palacio Justicia Cúcuta torre A (PISO No 1) | C13: 1 | D13: =+D3 -> 3090545 | E13: =+ROUND((D13*$C$7),0) -> 309055 | F13: =+E13+D13 -> 3399600 | G13: =+ROUND((F13*10%),0) -> 339960 | H13: =ROUND((E13*19%),0) -> 58720 | I13: =+H13+F13 -> 3458320 | J13: =+I13*C13 -> 3458320 | K13: =+('ANEXO ECONOMICO nov, dic y ener'!D3/30)*27 -> 3112487.9 | L13: =+J13/30*3 -> 345832 | M13: =SUM(K13:L13) -> 3458319.9 | N13: =SUM($J13) -> 3458320 | O13: =+J13/30*O12 -> 3458320 | P13: =SUM($J13) -> 3458320 | Q13: =+P13 -> 3458320 | R13: =+P13 -> 3458320 | S13: =ROUND((#REF!+(#REF!*$D$13)),0) -> #REF! | T13: =+#REF! -> #REF! | U13: =S13+T13 -> #REF! | V13: =+U13*6 -> #REF! | W13: =+V13+#REF! -> #REF!
C14: 1 | D14: =+D4 -> 1759567 | E14: =+ROUND((D14*$C$7),0) -> 175957 | F14: =+E14+D14 -> 1935524 | G14: =+ROUND((F14*10%),0) -> 193552 | H14: =ROUND((E14*19%),0) -> 33432 | I14: =+H14+F14 -> 1968956 | J14: =+I14*C14 -> 1968956 | K14: =+'ANEXO ECONOMICO nov, dic y ener'!D3/30*27 -> 3112487.9 | L14: =+J14/30*3 -> 196895.6 | M14: =SUM(K14:L14) -> 3309383.5 | N14: =SUM($J14) -> 1968956 | O14: =+J14/30*O12 -> 1968956 | P14: =SUM($J14) -> 1968956 | Q14: =SUM($J13) -> 3458320 | R14: =SUM($J13) -> 3458320
B15: Palacio Justicia Cúcuta torre A (PISO No 2) | C15: 1 | D15: =+D3 -> 3090545 | E15: =+ROUND((D15*$C$7),0) -> 309055 | F15: =+E15+D15 -> 3399600 | G15: =+ROUND((F15*10%),0) -> 339960 | H15: =ROUND((E15*19%),0) -> 58720 | I15: =+H15+F15 -> 3458320 | J15: =+I15*C15 -> 3458320 | K15: =+$K$13 -> 3112487.9 | L15: =+J15/30*3 -> 345832 | M15: =SUM(K15:L15) -> 3458319.9 | N15: =SUM($J15) -> 3458320 | O15: =+J15/30*O12 -> 3458320 | P15: =SUM($J15) -> 3458320 | Q15: =+P15 -> 3458320 | R15: =+P15 -> 3458320 | S15: =ROUND((#REF!+(#REF!*$D$13)),0) -> #REF! | T15: =+#REF! -> #REF! | U15: =S15+T15 -> #REF! | V15: =+U15*6 -> #REF! | W15: =+V15+#REF! -> #REF!
C16: 1 | D16: =+D4 -> 1759567 | E16: =+ROUND((D16*$C$7),0) -> 175957 | F16: =+E16+D16 -> 1935524 | G16: =+ROUND((F16*10%),0) -> 193552 | H16: =ROUND((E16*19%),0) -> 33432 | I16: =+H16+F16 -> 1968956 | J16: =+I16*C16 -> 1968956 | K16: =+$K$13 -> 3112487.9 | L16: =+J16/30*3 -> 196895.6 | M16: =SUM(K16:L16) -> 3309383.5 | N16: =SUM($J16) -> 1968956 | O16: =+J16/30*O12 -> 1968956 | P16: =SUM($J16) -> 1968956 | Q16: =+P16 -> 1968956 | R16: =+P16 -> 1968956
B17: Palacio Justicia Cúcuta torre A (PISO No 3) | C17: 1 | D17: =+D3 -> 3090545 | E17: =+ROUND((D17*$C$7),0) -> 309055 | F17: =+E17+D17 -> 3399600 | G17: =+ROUND((F17*10%),0) -> 339960 | H17: =ROUND((E17*19%),0) -> 58720 | I17: =+H17+F17 -> 3458320 | J17: =+I17*C17 -> 3458320 | K17: =+$K$13 -> 3112487.9 | L17: =+J17/30*3 -> 345832 | M17: =SUM(K17:L17) -> 3458319.9 | N17: =SUM($J17) -> 3458320 | O17: =+J17/30*O12 -> 3458320 | P17: =SUM($J17) -> 3458320 | Q17: =+P17 -> 3458320 | R17: =+P17 -> 3458320 | S17: =ROUND((#REF!+(#REF!*$D$13)),0) -> #REF! | T17: =+#REF! -> #REF! | U17: =S17+T17 -> #REF! | V17: =+U17*6 -> #REF! | W17: =+V17+#REF! -> #REF!
C18: 1 | D18: =+D4 -> 1759567 | E18: =+ROUND((D18*$C$7),0) -> 175957 | F18: =+E18+D18 -> 1935524 | G18: =+ROUND((F18*10%),0) -> 193552 | H18: =ROUND((E18*19%),0) -> 33432 | I18: =+H18+F18 -> 1968956 | J18: =+I18*C18 -> 1968956 | K18: =+$K$13 -> 3112487.9 | L18: =+J18/30*3 -> 196895.6 | M18: =SUM(K18:L18) -> 3309383.5 | N18: =SUM($J18) -> 1968956 | O18: =+J18/30*O12 -> 1968956 | P18: =SUM($J18) -> 1968956 | Q18: =+P18 -> 1968956 | R18: =+P18 -> 1968956
B19: Palacio Justicia Cúcuta torre A (PISO No 4) | C19: 1 | D19: =+D3 -> 3090545 | E19: =+ROUND((D19*$C$7),0) -> 309055 | F19: =+E19+D19 -> 3399600 | G19: =+ROUND((F19*10%),0) -> 339960 | H19: =ROUND((E19*19%),0) -> 58720 | I19: =+H19+F19 -> 3458320 | J19: =+I19*C19 -> 3458320 | K19: =+$K$13 -> 3112487.9 | L19: =+J19/30*3 -> 345832 | M19: =SUM(K19:L19) -> 3458319.9 | N19: =SUM($J19) -> 3458320 | O19: =+J19/30*O12 -> 3458320 | P19: =SUM($J19) -> 3458320 | Q19: =+P19 -> 3458320 | R19: =+P19 -> 3458320 | S19: =ROUND((#REF!+(#REF!*$D$13)),0) -> #REF! | T19: =+#REF! -> #REF! | U19: =S19+T19 -> #REF! | V19: =+U19*6 -> #REF! | W19: =+V19+#REF! -> #REF!
C20: 1 | D20: =+D4 -> 1759567 | E20: =+ROUND((D20*$C$7),0) -> 175957 | F20: =+E20+D20 -> 1935524 | G20: =+ROUND((F20*10%),0) -> 193552 | H20: =ROUND((E20*19%),0) -> 33432 | I20: =+H20+F20 -> 1968956 | J20: =+I20*C20 -> 1968956 | K20: =+$K$13 -> 3112487.9 | L20: =+J20/30*3 -> 196895.6 | M20: =SUM(K20:L20) -> 3309383.5 | N20: =SUM($J20) -> 1968956 | O20: =+J20/30*O12 -> 1968956 | P20: =SUM($J20) -> 1968956 | Q20: =+P20 -> 1968956 | R20: =+P20 -> 1968956
B21: Palacio Justicia Cúcuta torre B (PISO 1 y 2) | C21: 1 | D21: =+D3 -> 3090545 | E21: =+ROUND((D21*$C$7),0) -> 309055 | F21: =+E21+D21 -> 3399600 | G21: =+ROUND((F21*10%),0) -> 339960 | H21: =ROUND((E21*19%),0) -> 58720 | I21: =+H21+F21 -> 3458320 | J21: =+I21*C21 -> 3458320 | K21: =+$K$13 -> 3112487.9 | L21: =+J21/30*3 -> 345832 | M21: =SUM(K21:L21) -> 3458319.9 | N21: =SUM($J21) -> 3458320 | O21: =+J21/30*O12 -> 3458320 | P21: =SUM($J21) -> 3458320 | Q21: =+P21 -> 3458320 | R21: =+P21 -> 3458320 | S21: =ROUND((#REF!+(#REF!*$D$13)),0) -> #REF! | T21: =+#REF! -> #REF! | U21: =S21+T21 -> #REF! | V21: =+U21*6 -> #REF! | W21: =+V21+#REF! -> #REF!
B22: Palacio Justicia Cúcuta torre C (PISO 1) | C22: 1 | D22: =+D3 -> 3090545 | E22: =+ROUND((D22*$C$7),0) -> 309055 | F22: =+E22+D22 -> 3399600 | G22: =+ROUND((F22*10%),0) -> 339960 | H22: =ROUND((E22*19%),0) -> 58720 | I22: =+H22+F22 -> 3458320 | J22: =+I22*C22 -> 3458320 | K22: =+$K$13 -> 3112487.9 | L22: =+J22/30*3 -> 345832 | M22: =SUM(K22:L22) -> 3458319.9 | N22: =SUM($J22) -> 3458320 | O22: =+J22/30*O12 -> 3458320 | P22: =SUM($J22) -> 3458320 | Q22: =+P22 -> 3458320 | R22: =+P22 -> 3458320 | S22: =ROUND((#REF!+(#REF!*$D$13)),0) -> #REF! | T22: =+#REF! -> #REF! | U22: =S22+T22 -> #REF! | V22: =+U22*6 -> #REF! | W22: =+V22+#REF! -> #REF!
C23: 1 | D23: =+D4 -> 1759567 | E23: =+ROUND((D23*$C$7),0) -> 175957 | F23: =+E23+D23 -> 1935524 | G23: =+ROUND((F23*10%),0) -> 193552 | H23: =ROUND((E23*19%),0) -> 33432 | I23: =+H23+F23 -> 1968956 | J23: =+I23*C23 -> 1968956 | K23: =+$K$13 -> 3112487.9 | L23: =+J23/30*3 -> 196895.6 | M23: =SUM(K23:L23) -> 3309383.5 | N23: =SUM($J23) -> 1968956 | O23: =+J23/30*O12 -> 1968956 | P23: =SUM($J23) -> 1968956 | Q23: =+P23 -> 1968956 | R23: =+P23 -> 1968956
B24: Palacio Justicia Cúcuta torre C (PISO 2) | C24: 2 | D24: =+D3 -> 3090545 | E24: =+ROUND((D24*$C$7),0) -> 309055 | F24: =+E24+D24 -> 3399600 | G24: =+ROUND((F24*10%),0) -> 339960 | H24: =ROUND((E24*19%),0) -> 58720 | I24: =+H24+F24 -> 3458320 | J24: =+I24*C24 -> 6916640 | K24: =+$K$13*C24 -> 6224975.7 | L24: =+J24/30*3 -> 691664 | M24: =SUM(K24:L24) -> 6916639.7 | N24: =SUM($J24) -> 6916640 | O24: =+J24/30*O12 -> 6916640 | P24: =SUM($J24) -> 6916640 | Q24: =+P24 -> 6916640 | R24: =+P24 -> 6916640 | S24: =ROUND((#REF!+(#REF!*$D$13)),0) -> #REF! | T24: =+#REF! -> #REF! | U24: =S24+T24 -> #REF! | V24: =+U24*6 -> #REF! | W24: =+V24+#REF! -> #REF!
B25: Palacio Justicia Cúcuta torre C (PISO 3) | C25: 1 | D25: =+D3 -> 3090545 | E25: =+ROUND((D25*$C$7),0) -> 309055 | F25: =+E25+D25 -> 3399600 | G25: =+ROUND((F25*10%),0) -> 339960 | H25: =ROUND((E25*19%),0) -> 58720 | I25: =+H25+F25 -> 3458320 | J25: =+I25*C25 -> 3458320 | K25: =+$K$13*C25 -> 3112487.9 | L25: =+J25/30*3 -> 345832 | M25: =SUM(K25:L25) -> 3458319.9 | N25: =SUM($J25) -> 3458320 | O25: =+J25/30*O12 -> 3458320 | P25: =SUM($J25) -> 3458320 | Q25: =+P25 -> 3458320 | R25: =+P25 -> 3458320 | S25: =ROUND((#REF!+(#REF!*$D$13)),0) -> #REF! | T25: =+#REF! -> #REF! | U25: =S25+T25 -> #REF! | V25: =+U25*6 -> #REF! | W25: =+V25+#REF! -> #REF!
C26: 1 | D26: =+D4 -> 1759567 | E26: =+ROUND((D26*$C$7),0) -> 175957 | F26: =+E26+D26 -> 1935524 | G26: =+ROUND((F26*10%),0) -> 193552 | H26: =ROUND((E26*19%),0) -> 33432 | I26: =+H26+F26 -> 1968956 | J26: =+I26*C26 -> 1968956 | K26: =+$K$13*C26 -> 3112487.9 | L26: =+J26/30*3 -> 196895.6 | M26: =SUM(K26:L26) -> 3309383.5 | N26: =SUM($J26) -> 1968956 | O26: =+J26/30*O12 -> 1968956 | P26: =SUM($J26) -> 1968956 | Q26: =SUM($J25) -> 3458320 | R26: =SUM($J25) -> 3458320
B27: Palacio Justicia Cúcuta torre C (PISO 4) | C27: 2 | D27: =+D3 -> 3090545 | E27: =+ROUND((D27*$C$7),0) -> 309055 | F27: =+E27+D27 -> 3399600 | G27: =+ROUND((F27*10%),0) -> 339960 | H27: =ROUND((E27*19%),0) -> 58720 | I27: =+H27+F27 -> 3458320 | J27: =+I27*C27 -> 6916640 | K27: =+$K$13*C27 -> 6224975.7 | L27: =+J27/30*3 -> 691664 | M27: =SUM(K27:L27) -> 6916639.7 | N27: =SUM($J27) -> 6916640 | O27: =+J27/30*O12 -> 6916640 | P27: =SUM($J27) -> 6916640 | Q27: =+P27 -> 6916640 | R27: =+P27 -> 6916640 | S27: =ROUND((#REF!+(#REF!*$D$13)),0) -> #REF! | T27: =+#REF! -> #REF! | U27: =S27+T27 -> #REF! | V27: =+U27*6 -> #REF! | W27: =+V27+#REF! -> #REF!
B28: Palacio Justicia Cúcuta torre C (Sotanos y archivos) | C28: 1 | D28: =+D3 -> 3090545 | E28: =+ROUND((D28*$C$7),0) -> 309055 | F28: =+E28+D28 -> 3399600 | G28: =+ROUND((F28*10%),0) -> 339960 | H28: =ROUND((E28*19%),0) -> 58720 | I28: =+H28+F28 -> 3458320 | J28: =+I28*C28 -> 3458320 | K28: =+$K$13*C28 -> 3112487.9 | L28: =+J28/30*3 -> 345832 | M28: =SUM(K28:L28) -> 3458319.9 | N28: =SUM($J28) -> 3458320 | O28: =+J28/30*O12 -> 3458320 | P28: =SUM($J28) -> 3458320 | Q28: =+P28 -> 3458320 | R28: =+P28 -> 3458320 | S28: =ROUND((#REF!+(#REF!*$D$13)),0) -> #REF! | T28: =+#REF! -> #REF! | U28: =S28+T28 -> #REF! | V28: =+U28*6 -> #REF! | W28: =+V28+#REF! -> #REF!
B29: SEDE CESPA | C29: 1 | D29: =+D3 -> 3090545 | E29: =+ROUND((D29*$C$7),0) -> 309055 | F29: =+E29+D29 -> 3399600 | G29: =+ROUND((F29*10%),0) -> 339960 | H29: =ROUND((E29*19%),0) -> 58720 | I29: =+H29+F29 -> 3458320 | J29: =+I29*C29 -> 3458320 | K29: =+$K$13*C29 -> 3112487.9 | L29: =+J29/30*3 -> 345832 | M29: =SUM(K29:L29) -> 3458319.9 | N29: =SUM($J29) -> 3458320 | O29: =+J29/30*O12 -> 3458320 | P29: =SUM($J29) -> 3458320 | Q29: =+P29 -> 3458320 | R29: =+P29 -> 3458320 | S29: =ROUND((#REF!+(#REF!*$D$13)),0) -> #REF! | T29: =+#REF! -> #REF! | U29: =S29+T29 -> #REF! | V29: =+U29*6 -> #REF! | W29: =+V29+#REF! -> #REF!
B30: JUZGADO BANCO DE BOGOTA | C30: 1 | D30: =+D4 -> 1759567 | E30: =+ROUND((D30*$C$7),0) -> 175957 | F30: =+E30+D30 -> 1935524 | G30: =+ROUND((F30*10%),0) -> 193552 | H30: =ROUND((E30*19%),0) -> 33432 | I30: =+H30+F30 -> 1968956 | J30: =+I30*C30 -> 1968956 | K30: =+$K$13*C30 -> 3112487.9 | L30: =+J30/30*3 -> 196895.6 | M30: =SUM(K30:L30) -> 3309383.5 | N30: =SUM($J30) -> 1968956 | O30: =+J30/30*O12 -> 1968956 | P30: =SUM($J30) -> 1968956 | Q30: =+P30 -> 1968956 | R30: =+P30 -> 1968956 | S30: =ROUND((#REF!+(#REF!*$D$13)),0) -> #REF! | T30: =+#REF! -> #REF! | U30: =S30+T30 -> #REF! | V30: =+U30*6 -> #REF! | W30: =+V30+#REF! -> #REF!
B31: JUZGADOS ATALAYA | C31: 1 | D31: =+D4 -> 1759567 | E31: =+ROUND((D31*$C$7),0) -> 175957 | F31: =+E31+D31 -> 1935524 | G31: =+ROUND((F31*10%),0) -> 193552 | H31: =ROUND((E31*19%),0) -> 33432 | I31: =+H31+F31 -> 1968956 | J31: =+I31*C31 -> 1968956 | K31: =+$K$13*C31 -> 3112487.9 | L31: =+J31/30*3 -> 196895.6 | M31: =SUM(K31:L31) -> 3309383.5 | N31: =SUM($J31) -> 1968956 | O31: =+J31/30*O12 -> 1968956 | P31: =SUM($J31) -> 1968956 | Q31: =+P31 -> 1968956 | R31: =+P31 -> 1968956 | S31: =ROUND((#REF!+(#REF!*$D$13)),0) -> #REF! | T31: =+#REF! -> #REF! | U31: =S31+T31 -> #REF! | V31: =+U31*6 -> #REF! | W31: =+V31+#REF! -> #REF!
B32: TEMIS | C32: 1 | D32: =+D3 -> 3090545 | E32: =+ROUND((D32*$C$7),0) -> 309055 | F32: =+E32+D32 -> 3399600 | G32: =+ROUND((F32*10%),0) -> 339960 | H32: =ROUND((E32*19%),0) -> 58720 | I32: =+H32+F32 -> 3458320 | J32: =+I32*C32 -> 3458320 | K32: =+$K$13*C32 -> 3112487.9 | L32: =+J32/30*3 -> 345832 | M32: =SUM(K32:L32) -> 3458319.9 | N32: =SUM($J32) -> 3458320 | O32: =+J32/30*O12 -> 3458320 | P32: =SUM($J32) -> 3458320 | Q32: =+P32 -> 3458320 | R32: =+P32 -> 3458320 | S32: =ROUND((#REF!+(#REF!*$D$13)),0) -> #REF! | T32: =+#REF! -> #REF! | U32: =S32+T32 -> #REF! | V32: =+U32*6 -> #REF! | W32: =+V32+#REF! -> #REF!
C33: 1 | D33: =+D4 -> 1759567 | E33: =+ROUND((D33*$C$7),0) -> 175957 | F33: =+E33+D33 -> 1935524 | G33: =+ROUND((F33*10%),0) -> 193552 | H33: =ROUND((E33*19%),0) -> 33432 | I33: =+H33+F33 -> 1968956 | J33: =+I33*C33 -> 1968956 | K33: =+$K$13*C33 -> 3112487.9 | L33: =+J33/30*3 -> 196895.6 | M33: =SUM(K33:L33) -> 3309383.5 | N33: =SUM($J33) -> 1968956 | O33: =+J33/30*O12 -> 1968956 | P33: =SUM($J33) -> 1968956 | Q33: =+P33 -> 1968956 | R33: =+P33 -> 1968956
B34: EDIFICIO LEYDI | C34: 1 | D34: =+D3 -> 3090545 | E34: =+ROUND((D34*$C$7),0) -> 309055 | F34: =+E34+D34 -> 3399600 | G34: =+ROUND((F34*10%),0) -> 339960 | H34: =ROUND((E34*19%),0) -> 58720 | I34: =+H34+F34 -> 3458320 | J34: =+I34*C34 -> 3458320 | K34: =+$K$13*C34 -> 3112487.9 | L34: =+J34/30*3 -> 345832 | M34: =SUM(K34:L34) -> 3458319.9 | N34: =SUM($J34) -> 3458320 | O34: =+J34/30*O12 -> 3458320 | P34: =SUM($J34) -> 3458320 | Q34: =+P34 -> 3458320 | R34: =+P34 -> 3458320 | S34: =ROUND((#REF!+(#REF!*$D$13)),0) -> #REF! | T34: =+#REF! -> #REF! | U34: =S34+T34 -> #REF! | V34: =+U34*6 -> #REF! | W34: =+V34+#REF! -> #REF!
B35: MANTENIMIENTO CON ALTURAS | C35: 5 | D35: =+D3 -> 3090545 | E35: =+ROUND((D35*$C$7),0) -> 309055 | F35: =+E35+D35 -> 3399600 | G35: =+ROUND((F35*10%),0) -> 339960 | H35: =ROUND((E35*19%),0) -> 58720 | I35: =+H35+F35 -> 3458320 | J35: =+I35*C35 -> 17291600 | K35: =+$K$13*6 -> 18674927 | L35: =+J35/30*3 -> 1729160 | M35: =SUM(K35:L35) -> 20404087 | N35: =SUM($J35) -> 17291600 | O35: =+J35/30*O12 -> 17291600 | P35: =SUM($J35) -> 17291600 | Q35: =+P35 -> 17291600 | R35: =+P35 -> 17291600 | S35: =ROUND((#REF!+(#REF!*$D$13)),0) -> #REF! | T35: =+#REF! -> #REF! | U35: =S35+T35 -> #REF! | V35: =+U35*6 -> #REF! | W35: =+V35+#REF! -> #REF!
A36: PATIOS | B36: PALACIO DE JUSTICIA PATIOS | C36: 2 | D36: =+D3 -> 3090545 | E36: =+ROUND((D36*$C$7),0) -> 309055 | F36: =+E36+D36 -> 3399600 | G36: =+ROUND((F36*10%),0) -> 339960 | H36: =ROUND((E36*19%),0) -> 58720 | I36: =+H36+F36 -> 3458320 | J36: =+I36*C36 -> 6916640 | K36: =+$K$13*C36 -> 6224975.7 | L36: =+J36/30*3 -> 691664 | M36: =SUM(K36:L36) -> 6916639.7 | N36: =SUM($J36) -> 6916640 | O36: =+J36/30*O12 -> 6916640 | P36: =SUM($J36) -> 6916640 | Q36: =+P36 -> 6916640 | R36: =+P36 -> 6916640 | S36: =ROUND((#REF!+(#REF!*$D$13)),0) -> #REF! | T36: =+#REF! -> #REF! | U36: =S36+T36 -> #REF! | V36: =+U36*6 -> #REF! | W36: =+V36+#REF! -> #REF!
B37: MANTENIMIENTO CON ALTURAS | C37: 1 | D37: =+D3 -> 3090545 | E37: =+ROUND((D37*$C$7),0) -> 309055 | F37: =+E37+D37 -> 3399600 | G37: =+ROUND((F37*10%),0) -> 339960 | H37: =ROUND((E37*19%),0) -> 58720 | I37: =+H37+F37 -> 3458320 | J37: =+I37*C37 -> 3458320 | K37: =+$K$13*C37 -> 3112487.9 | L37: =+J37/30*3 -> 345832 | M37: =SUM(K37:L37) -> 3458319.9 | N37: =SUM($J37) -> 3458320 | O37: =+J37/30*O12 -> 3458320 | P37: =SUM($J37) -> 3458320 | Q37: =+P37 -> 3458320 | R37: =+P37 -> 3458320 | S37: =ROUND((#REF!+(#REF!*$D$13)),0) -> #REF! | T37: =+#REF! -> #REF! | U37: =S37+T37 -> #REF! | V37: =+U37*6 -> #REF! | W37: =+V37+#REF! -> #REF!
A38: PAMPLONA | B38: Palacio Justicia de Pamplona | C38: 2 | D38: =+D3 -> 3090545 | E38: =+ROUND((D38*$C$7),0) -> 309055 | F38: =+E38+D38 -> 3399600 | G38: =+ROUND((F38*10%),0) -> 339960 | H38: =ROUND((E38*19%),0) -> 58720 | I38: =+H38+F38 -> 3458320 | J38: =+I38*C38 -> 6916640 | K38: =+$K$13*C38 -> 6224975.7 | L38: =+J38/30*3 -> 691664 | M38: =SUM(K38:L38) -> 6916639.7 | N38: =SUM($J38) -> 6916640 | O38: =+J38/30*O12 -> 6916640 | P38: =SUM($J38) -> 6916640 | Q38: =+P38 -> 6916640 | R38: =+P38 -> 6916640 | S38: =ROUND((#REF!+(#REF!*$D$13)),0) -> #REF! | T38: =+#REF! -> #REF! | U38: =S38+T38 -> #REF! | V38: =+U38*6 -> #REF! | W38: =+V38+#REF! -> #REF!
B39: MANTENIMIENTO CON ALTURAS | C39: 1 | D39: =+D3 -> 3090545 | E39: =+ROUND((D39*$C$7),0) -> 309055 | F39: =+E39+D39 -> 3399600 | G39: =+ROUND((F39*10%),0) -> 339960 | H39: =ROUND((E39*19%),0) -> 58720 | I39: =+H39+F39 -> 3458320 | J39: =+I39*C39 -> 3458320 | K39: =+$K$13*C39 -> 3112487.9 | L39: =+J39/30*3 -> 345832 | M39: =SUM(K39:L39) -> 3458319.9 | N39: =SUM($J39) -> 3458320 | O39: =+J39/30*O12 -> 3458320 | P39: =SUM($J39) -> 3458320 | Q39: =+P39 -> 3458320 | R39: =+P39 -> 3458320 | S39: =ROUND((#REF!+(#REF!*$D$13)),0) -> #REF! | T39: =+#REF! -> #REF! | U39: =S39+T39 -> #REF! | V39: =+U39*6 -> #REF! | W39: =+V39+#REF! -> #REF!
A40: OCAÑA | B40: Palacio de Justicia de Ocaña | C40: 2 | D40: =+D3 -> 3090545 | E40: =+ROUND((D40*$C$7),0) -> 309055 | F40: =+E40+D40 -> 3399600 | G40: =+ROUND((F40*10%),0) -> 339960 | H40: =ROUND((E40*19%),0) -> 58720 | I40: =+H40+F40 -> 3458320 | J40: =+I40*C40 -> 6916640 | K40: =+$K$13*C40 -> 6224975.7 | L40: =+J40/30*3 -> 691664 | M40: =SUM(K40:L40) -> 6916639.7 | N40: =SUM($J40) -> 6916640 | O40: =+J40/30*O12 -> 6916640 | P40: =SUM($J40) -> 6916640 | Q40: =+P40 -> 6916640 | R40: =+P40 -> 6916640 | S40: =ROUND((#REF!+(#REF!*$D$13)),0) -> #REF! | T40: =+#REF! -> #REF! | U40: =S40+T40 -> #REF! | V40: =+U40*6 -> #REF! | W40: =+V40+#REF! -> #REF!
C41: 1 | D41: =+D4 -> 1759567 | E41: =+ROUND((D41*$C$7),0) -> 175957 | F41: =+E41+D41 -> 1935524 | G41: =+ROUND((F41*10%),0) -> 193552 | H41: =ROUND((E41*19%),0) -> 33432 | I41: =+H41+F41 -> 1968956 | J41: =+I41*C41 -> 1968956 | K41: =+$K$13*C41 -> 3112487.9 | L41: =+J41/30*3 -> 196895.6 | M41: =SUM(K41:L41) -> 3309383.5 | N41: =SUM($J41) -> 1968956 | O41: =+J41/30*O12 -> 1968956 | P41: =SUM($J41) -> 1968956 | Q41: =SUM($J13) -> 3458320 | R41: =SUM($J13) -> 3458320
B42: MANTENIMIENTO CON ALTURAS | C42: 1 | D42: =+D3 -> 3090545 | E42: =+ROUND((D42*$C$7),0) -> 309055 | F42: =+E42+D42 -> 3399600 | G42: =+ROUND((F42*10%),0) -> 339960 | H42: =ROUND((E42*19%),0) -> 58720 | I42: =+H42+F42 -> 3458320 | J42: =+I42*C42 -> 3458320 | K42: =+$K$13*C42 -> 3112487.9 | L42: =+J42/30*3 -> 345832 | M42: =SUM(K42:L42) -> 3458319.9 | N42: =SUM($J42) -> 3458320 | O42: =+J42/30*O12 -> 3458320 | P42: =SUM($J42) -> 3458320 | Q42: =+P42 -> 3458320 | R42: =+P42 -> 3458320 | S42: =ROUND((#REF!+(#REF!*$D$13)),0) -> #REF! | T42: =+#REF! -> #REF! | U42: =S42+T42 -> #REF! | V42: =+U42*6 -> #REF! | W42: =+V42+#REF! -> #REF!
A43: ARAUCA | B43: CESPA ARAUCA 3 | C43: 1 | D43: =+D3 -> 3090545 | E43: =+ROUND((D43*$C$7),0) -> 309055 | F43: =+E43+D43 -> 3399600 | G43: =+ROUND((F43*10%),0) -> 339960 | H43: =ROUND((E43*19%),0) -> 58720 | I43: =+H43+F43 -> 3458320 | J43: =+I43*C43 -> 3458320 | K43: =+$K$13*C43 -> 3112487.9 | L43: =+J43/30*3 -> 345832 | M43: =SUM(K43:L43) -> 3458319.9 | N43: =SUM($J43) -> 3458320 | O43: =+J43/30*O12 -> 3458320 | P43: =SUM($J43) -> 3458320 | Q43: =+P43 -> 3458320 | R43: =+P43 -> 3458320 | S43: =ROUND((#REF!+(#REF!*$D$13)),0) -> #REF! | T43: =+#REF! -> #REF! | U43: =S43+T43 -> #REF! | V43: =+U43*6 -> #REF! | W43: =+V43+#REF! -> #REF!
...

Sheet CONTROL DE PAGOS
A1: ASEO NORTE DE SANTANDER Y ARAUCA
A2: ASECOLBA
A3: C-092-2025
B5: PORCENTAJES | C5: =SUM(C13*$F$5/F13) -> 0.038770508 | D5: =SUM(D13*$F$5/$F$13) -> 0.95365217 | E5: =SUM(E13*$F$5/$F$13) -> 0.0075773257 | F5: 1
B6: Numero CDP | C6: 2425 | D6: 10425 | E6: 1725 | G6: Valor max adicionar
B7: REGIS, PRESU 2025 | C7: 29525 | D7: 129025 | E7: 16325 | F7: N/A
B8: REGIS, PRESU 2026 | F8: N/A
B9: UNIDAD | C9: U2 | D9: U8 | E9: U9 | F9: total
B10: CONTRATO-2025 | C10: 7847126 | D10: 249927227 | E10: 1533646 | F10: =SUM(C10:E10) -> 259307999
B11: DISMINUCION No 01 saldo 2025 | D11: 3131 | F11: =SUM(D11:E11) -> 3131
B12: CONTRATO-2026 | C12: 49719390 | D12: 1166060259 | E12: 9717180 | F12: =SUM(C12:E12) -> 1225496829
B13: TOTAL | C13: =SUM(C10:C12) -> 57566516 | D13: =+D10-D11+D12 -> 1415984355 | E13: =SUM(E10:E12) -> 11250826 | F13: =+F10-F11+F12 -> 1484801697
A15: PAGOS | B15: FECHA | C15: U2 | D15: U8 | E15: U9 | F15: TOTAL | G15: % de avance | H15: FECHA DE FACTURACIÓN sugerida | I15: No factura | J15: ESTADO
A16: 1 | B16: 3 dias de noviembre 2025 por 19 operarios T,C. | C16: =+$F$16*C5 -> 406502.34 | D16: =+$F$16*D5 -> 9998884.7 | E16: =+$F$16*E5 -> 79447.002 | F16: 10484834 | G16: =SUM((F16)*$F$5/$F$13) -> 0.0070614372 | H16: 45961 | I16: ELA No | J16: APROBADA TACITAMENTE
A17: 2 | B17: 45992 | C17: 7440625 | D17: 239928341 | E17: 1454199 | F17: =SUM(C17:E17) -> 248823165 | G17: =SUM((F17)*$F$5/$F$13) -> 0.16758007 | H17: 45962 | I17: ELA No 5086 | J17: APROBADA 26 DIC/2025
A18: 3 | B18: 46023 | C18: =+F18*$C$5 -> 7740037.3 | D18: =+F18*$D$5 -> 1.9038449e+08 | E18: =+F18*$E$5 -> 1512716.4 | F18: =+'[1]ANEXO ECONOMICO nov, dic y ener'!V88 -> 1.9963724e+08 | G18: =SUM((F18)*$F$5/$F$13) -> 0.13445381 | H18: 46052
A19: 4 | B19: 46054 | C19: =+F19*$C$5 -> 7622353.9 | D19: =+F19*$D$5 -> 1.8748979e+08 | E19: =+F19*$E$5 -> 1489716.3 | F19: =+'ANEXO ECONOMICO MODIFICACION 3'!N97 -> 196601859 | G19: =SUM((F19)*$F$5/$F$13) -> 0.13240951 | H19: 46080
A20: 5 | B20: 46082 | C20: =+F20*$C$5 -> 7622353.9 | D20: =+F20*$D$5 -> 1.8748979e+08 | E20: =+F20*$E$5 -> 1489716.3 | F20: =+'[1]ANEXO ECONOMICO MODIFICACION 3'!P97 -> 196601859 | G20: =SUM((F20)*$F$5/$F$13) -> 0.13240951 | H20: 46111
A21: 6 | B21: 46113 | C21: =+F21*$C$5 -> 7622353.9 | D21: =+F21*$D$5 -> 1.8748979e+08 | E21: =+F21*$E$5 -> 1489716.3 | F21: =+'ANEXO ECONOMICO MODIFICACION 3'!P97 -> 196601859 | G21: =SUM((F21)*$F$5/$F$13) -> 0.13240951 | H21: 46142
A22: 7 | B22: 46143 | C22: =+F22*$C$5 -> 7841119.7 | D22: =+F22*$D$5 -> 1.9287085e+08 | E22: =+F22*$E$5 -> 1532472 | F22: =+'ANEXO ECONOMICO MODIFICACION 3'!Q97 -> 202244442 | G22: =SUM((F22)*$F$5/$F$13) -> 0.13620973 | H22: 46171
A23: 8 | B23: 46174 | C23: =+F23*$C$5 -> 7841119.7 | D23: =+F23*$D$5 -> 1.9287085e+08 | E23: =+F23*$E$5 -> 1532472 | F23: =+'ANEXO ECONOMICO MODIFICACION 3'!R97 -> 202244442 | G23: =SUM((F23)*$F$5/$F$13) -> 0.13620973 | H23: 46203
G24: =SUM((F24)*$F$5/$F$13) -> 0
A25: TOTAL | C25: =SUM(C16:C23) -> 54136466 | D25: =SUM(D16:D23) -> 1.3885228e+09 | E25: =SUM(E16:E23) -> 10580455 | F25: =SUM(C25:E25) -> 1.4532397e+09 | G25: =SUM(G16:G24) -> 0.97874329
A26: QUEDA | C26: =+C13-C25 -> 3430050.1 | D26: =+D13-D25 -> 27461574 | E26: =+E13-E25 -> 670370.67 | F26: =+F13-F25 -> 31561995 | G26: =SUM(F5-G25) -> 0.021256707
B29: CORREO: | C29: siifnacion.facturaelectronica@minhacienda.gov.co
B30: CODIGO PCI UNIDAD 02 | C30: #$27-01-01-217;C-092-2025;jgamboave@cendoj.ramajudicial.gov.co#$
B31: CODIGO PCI UNIDAD 08 | C31: #$27-01-01-817;C-092-2025;jgamboave@cendoj.ramajudicial.gov.co#$
B32: CODIGO PCI UNIDAD 09 | C32: #$27-01-01-917;C-092-2025;jgamboave@cendoj.ramajudicial.gov.co#$
