Workbook
Name _Hlk192149780: Hoja1!#REF!

Sheet EVALUACIONES
B1: PROCESO No. | C1: MC-018-2026
B2: OBJETO GENERAL: | C2: ADQUISICIÓN DE INSUMOS Y ELEMENTOS PARA LA ATENCIÓN DE EMERGENCIAS, DESTINADOS A FORTALECER LA CAPACIDAD DE RESPUESTA DEL MUNICIPIO DE CHINCHINÁ EN EL MARCO DEL SISTEMA DE GESTIÓN DE SEGURIDAD Y SALUD EN EL TRABAJO (SG-SST) Y LA GESTIÓN DEL RIESGO
B3: PRESUPUESTO OFICIAL | C3: 16386465
B4: FECHA APERTURA SOBRE ECONOMICO | C4: 46142
B6: NOMBRE | C6: CC/NIT | D6: VALOR PROPUESTA | E6: CRITERIO | F6: OBSERVACIONES
A7: 1 | B7: =+'01 CALDAS'!B5:E5 -> CALDAS MEDICAS SAS | D7: =+VLRMINIMO!C8 -> 12917000 | E7: NO CUMPLE | F7: Solicitar aclaración por precios artificialmente bajos
B13: ANA MARÍA GÓMEZ URIBE
B14: SECRETARIA ADMINISTRATIVA Y FINANCIERA
B15: MIEMBRO DEL COMITÉ EVALUADOR
B17: Proyectó: Cristian Leyton Mejia, Asesor Financiero - Contratista

Sheet VLRMINIMO
B1: PROCESO No. | C1: =+EVALUACIONES!C1 -> MC-018-2026
B2: OBJETO GENERAL: | C2: =+EVALUACIONES!C2 -> ADQUISICIÓN DE INSUMOS Y ELEMENTOS PARA LA ATENCIÓN DE EMERGENCIAS, DESTINADOS A FORTALECER LA CAPACIDAD DE RESPUESTA DEL MUNICIPIO DE CHINCHINÁ EN EL MARCO DEL SISTEMA DE GESTIÓN DE SEGURIDAD Y SALUD EN EL TRABAJO (SG-SST) Y LA GESTIÓN DEL RIESGO
B3: PRESUPUESTO OFICIAL | C3: =+EVALUACIONES!C3 -> 16386465
B4: FECHA APERTURA SOBRE ECONOMICO | C4: =+EVALUACIONES!C4 -> 46142
B5: VALOR MÍNIMO ACEPTABLE
B7: NOMBRE | C7: VALOR | D7: CRITERIO
A8: 1 | B8: =+'01 CALDAS'!B5:E5 -> CALDAS MEDICAS SAS | C8: =+'01 CALDAS'!G18 -> 12917000 | D8: =IF(C11<=C8,"CUMPLE","NO CUMPLE") -> NO CUMPLE
B11: VALOR MÍNIMO ACEPTABLE | C11: =+C12*0.8 -> 13109172
B12: PRESUPUESTO OFICIAL | C12: =+'01 CALDAS'!I18 -> 16386465
B15: ANA MARÍA GÓMEZ URIBE
B16: SECRETARIA ADMINISTRATIVA Y FINANCIERA
B17: MIEMBRO DEL COMITÉ EVALUADOR
B19: =+EVALUACIONES!B17 -> Proyectó: Cristian Leyton Mejia, Asesor Financiero - Contratista

Sheet 01 CALDAS
A1: PROCESO No. | B1: =+EVALUACIONES!C1 -> MC-018-2026
A2: OBJETO GENERAL: | B2: =+EVALUACIONES!C2 -> ADQUISICIÓN DE INSUMOS Y ELEMENTOS PARA LA ATENCIÓN DE EMERGENCIAS, DESTINADOS A FORTALECER LA CAPACIDAD DE RESPUESTA DEL MUNICIPIO DE CHINCHINÁ EN EL MARCO DEL SISTEMA DE GESTIÓN DE SEGURIDAD Y SALUD EN EL TRABAJO (SG-SST) Y LA GESTIÓN DEL RIESGO
A3: PRESUPUESTO OFICIAL | B3: =+EVALUACIONES!C3 -> 16386465
A4: FECHA APERTURA SOBRE ECONOMICO | B4: =+EVALUACIONES!C4 -> 46142
A5: PROPONENTE | B5: =+Hoja1!J1 -> CALDAS MEDICAS SAS
A6: NIT | B6: =+EVALUACIONES!C7 -> 0
A8: ITEM | B8: CANT | C8: Unidad de medida | D8: PRODUCTO | E8: DESCRIPCION | F8: VALOR UNITARIO OFERTA | G8: VALOR TOTAL OFERTA | H8: VALOR UNITARIO PROCESO | I8: VALOR TOTAL PROCESO | J8: VALOR TOTAL PROCESO
A9: 1 | B9: =+Hoja1!B2 -> 23 | C9: =+Hoja1!D2 -> UND | D9: =+Hoja1!C2 -> Camilla de Primeros Auxilios | E9: =+D9 -> Camilla de Primeros Auxilios | G9: 4485000 | H9: =+Hoja1!E8 -> 0 | I9: =+Hoja1!F2-2 -> 6148923 | J9: =IF(G9<=I9,"CUMPLE","NO CUMPLE") -> CUMPLE
A10: 2 | B10: =+Hoja1!B3 -> 23 | C10: =+Hoja1!D3 -> UND | D10: =+Hoja1!C3 -> Botiquín de Emergencia Tipo A | E10: =+D10 -> Botiquín de Emergencia Tipo A | G10: 2990000 | H10: =+Hoja1!E6 -> 0 | I10: =+Hoja1!F3-2 -> 3330398 | J10: =IF(G10<=I10,"CUMPLE","NO CUMPLE") -> CUMPLE
A11: 3 | B11: =+Hoja1!B4 -> 23 | C11: =+Hoja1!D4 -> UND | D11: =+Hoja1!C4 -> Cuello Ortopédico | E11: =+D11 -> Cuello Ortopédico | G11: 529000 | H11: =+Hoja1!E7 -> 0 | I11: =+Hoja1!F4-1 -> 1281421 | J11: =IF(G11<=I11,"CUMPLE","NO CUMPLE") -> CUMPLE
A12: 4 | B12: =+Hoja1!B5 -> 30 | C12: =+Hoja1!D5 -> UND | D12: =+Hoja1!C5 -> Canguro Brigada de Emergencia | E12: =+D12 -> Canguro Brigada de Emergencia | G12: 2454000 | H12: =+Hoja1!E6 -> 0 | I12: =+Hoja1!F5+2 -> 2454000 | J12: =IF(G12<=I12,"CUMPLE","NO CUMPLE") -> CUMPLE
A13: 5 | B13: =+Hoja1!B6 -> 3 | C13: =+Hoja1!D6 -> UND | D13: =+Hoja1!C6 -> Tensiómetros | E13: =+D13 -> Tensiómetros | G13: 255000 | H13: =+Hoja1!E7 -> 0 | I13: =+Hoja1!F6 -> 578569 | J13: =IF(G13<=I13,"CUMPLE","NO CUMPLE") -> CUMPLE
A14: 6 | B14: =+Hoja1!B7 -> 3 | C14: =+Hoja1!D7 -> UND | D14: =+Hoja1!C7 -> Glucómetro | E14: =+D14 -> Glucómetro | G14: 174000 | H14: =+Hoja1!E6 -> 0 | I14: =+Hoja1!F7 -> 364284 | J14: =IF(G14<=I14,"CUMPLE","NO CUMPLE") -> CUMPLE
A15: 7 | B15: =+Hoja1!B8 -> 3 | C15: =+Hoja1!D8 -> UND | D15: =+Hoja1!C8 -> Oxímetro | E15: =+D15 -> Oxímetro | G15: 255000 | H15: =+Hoja1!E7 -> 0 | I15: =+Hoja1!F8 -> 323999 | J15: =IF(G15<=I15,"CUMPLE","NO CUMPLE") -> CUMPLE
A16: 8 | B16: =+Hoja1!B9 -> 1 | C16: =+Hoja1!D9 -> UND | D16: =+Hoja1!C9 -> Bascula para Medir el Peso Corporal | E16: =+D16 -> Bascula para Medir el Peso Corporal | G16: 150000 | H16: =+Hoja1!E8 -> 0 | I16: =+Hoja1!F9 -> 155714 | J16: =IF(G16<=I16,"CUMPLE","NO CUMPLE") -> CUMPLE
A17: 9 | B17: =+Hoja1!B10 -> 25 | C17: =+Hoja1!D10 -> UND | D17: =+Hoja1!C10 -> Casco con Barbuquejo Sencillo | E17: =+D17 -> Casco con Barbuquejo Sencillo | G17: 1625000 | H17: =+Hoja1!E9 -> 0 | I17: =+Hoja1!F10 -> 1749157 | J17: =IF(G17<=I17,"CUMPLE","NO CUMPLE") -> CUMPLE
G18: =SUM(G9:G17) -> 12917000 | I18: =SUM(I9:I17) -> 16386465 | J18: =IF(G18<=I18,"CUMPLE","NO CUMPLE") -> CUMPLE

Sheet 02 ITEJEC
A1: PROCESO No. | B1: =+EVALUACIONES!C1 -> MC-018-2026
A2: OBJETO GENERAL: | B2: =+EVALUACIONES!C2 -> ADQUISICIÓN DE INSUMOS Y ELEMENTOS PARA LA ATENCIÓN DE EMERGENCIAS, DESTINADOS A FORTALECER LA CAPACIDAD DE RESPUESTA DEL MUNICIPIO DE CHINCHINÁ EN EL MARCO DEL SISTEMA DE GESTIÓN DE SEGURIDAD Y SALUD EN EL TRABAJO (SG-SST) Y LA GESTIÓN DEL RIESGO
A3: PRESUPUESTO OFICIAL | B3: =+EVALUACIONES!C3 -> 16386465
A4: FECHA APERTURA SOBRE ECONOMICO | B4: =+EVALUACIONES!C4 -> 46142
A5: PROPONENTE | B5: =+Hoja1!#REF! -> #REF!
A6: NIT | B6: =+EVALUACIONES!C7 -> 0
A8: ITEM | B8: CANT | C8: Unidad de medida | D8: PRODUCTO | E8: DESCRIPCION | F8: VALOR UNITARIO OFERTA | G8: VALOR TOTAL OFERTA | H8: VALOR UNITARIO PROCESO | I8: VALOR TOTAL PROCESO | J8: VALOR TOTAL PROCESO
A9: 1 | B9: =+Hoja1!B9 -> 1 | D9: =+Hoja1!#REF! -> #REF! | E9: =+D9 -> #REF! | F9: 53103 | G9: =+B9*F9 -> 53103 | H9: =+Hoja1!E9 -> 0 | I9: =+B9*H9 -> 0 | J9: =IF(G9<=I9,"CUMPLE","NO CUMPLE") -> NO CUMPLE
A10: 2 | B10: =+Hoja1!#REF! -> #REF! | D10: =+Hoja1!#REF! -> #REF! | E10: =+D10 -> #REF! | F10: 120487 | G10: =+B10*F10 -> #REF! | H10: =+Hoja1!#REF! -> #REF! | I10: =+B10*H10 -> #REF! | J10: =IF(G10<=I10,"CUMPLE","NO CUMPLE") -> #REF!
A11: 3 | B11: =+Hoja1!#REF! -> #REF! | D11: =+Hoja1!#REF! -> #REF! | E11: =+D11 -> #REF! | F11: 120487 | G11: =+B11*F11 -> #REF! | H11: =+Hoja1!#REF! -> #REF! | I11: =+B11*H11 -> #REF! | J11: =IF(G11<=I11,"CUMPLE","NO CUMPLE") -> #REF!
A12: 4 | B12: =+Hoja1!#REF! -> #REF! | D12: =+Hoja1!#REF! -> #REF! | E12: =+D12 -> #REF! | F12: 100584 | G12: =+B12*F12 -> #REF! | H12: =+Hoja1!#REF! -> #REF! | I12: =+B12*H12 -> #REF! | J12: =IF(G12<=I12,"CUMPLE","NO CUMPLE") -> #REF!
A13: 5 | B13: =+Hoja1!#REF! -> #REF! | D13: =+Hoja1!#REF! -> #REF! | E13: =+D13 -> #REF! | F13: 341120 | G13: =+B13*F13 -> #REF! | H13: =+Hoja1!#REF! -> #REF! | I13: =+B13*H13 -> #REF! | J13: =IF(G13<=I13,"CUMPLE","NO CUMPLE") -> #REF!
A14: 6 | B14: =+Hoja1!#REF! -> #REF! | D14: =+Hoja1!#REF! -> #REF! | E14: =+D14 -> #REF! | F14: 136106 | G14: =+B14*F14 -> #REF! | H14: =+Hoja1!#REF! -> #REF! | I14: =+B14*H14 -> #REF! | J14: =IF(G14<=I14,"CUMPLE","NO CUMPLE") -> #REF!
A15: 7 | B15: =+Hoja1!#REF! -> #REF! | D15: =+Hoja1!#REF! -> #REF! | E15: =+D15 -> #REF! | F15: 120487 | G15: =+B15*F15 -> #REF! | H15: =+Hoja1!#REF! -> #REF! | I15: =+B15*H15 -> #REF! | J15: =IF(G15<=I15,"CUMPLE","NO CUMPLE") -> #REF!
A16: 8 | B16: 2 | D16: =+Hoja1!#REF! -> #REF! | E16: =+D16 -> #REF! | F16: 143692 | G16: =+B16*F16 -> 287384 | H16: =+Hoja1!#REF! -> #REF! | I16: =+B16*H16 -> #REF! | J16: =IF(G16<=I16,"CUMPLE","NO CUMPLE") -> #REF!
A17: 9 | B17: =+Hoja1!#REF! -> #REF! | D17: =+Hoja1!#REF! -> #REF! | E17: =+D17 -> #REF! | F17: 150877 | G17: =+B17*F17 -> #REF! | H17: =+Hoja1!#REF! -> #REF! | I17: =+B17*H17 -> #REF! | J17: =IF(G17<=I17,"CUMPLE","NO CUMPLE") -> #REF!
A18: 10 | B18: =+Hoja1!#REF! -> #REF! | D18: =+Hoja1!#REF! -> #REF! | E18: =+D18 -> #REF! | F18: 114299 | G18: =+B18*F18 -> #REF! | H18: =+Hoja1!#REF! -> #REF! | I18: =+B18*H18 -> #REF! | J18: =IF(G18<=I18,"CUMPLE","NO CUMPLE") -> #REF!
A19: 11 | B19: =+Hoja1!#REF! -> #REF! | D19: =+Hoja1!#REF! -> #REF! | E19: =+D19 -> #REF! | F19: 370726 | G19: =+B19*F19 -> #REF! | H19: =+Hoja1!#REF! -> #REF! | I19: =+B19*H19 -> #REF! | J19: =IF(G19<=I19,"CUMPLE","NO CUMPLE") -> #REF!
A20: 12 | B20: =+Hoja1!#REF! -> #REF! | D20: =+Hoja1!#REF! -> #REF! | E20: =+D20 -> #REF! | F20: 267747 | G20: =+B20*F20 -> #REF! | H20: =+Hoja1!#REF! -> #REF! | I20: =+B20*H20 -> #REF! | J20: =IF(G20<=I20,"CUMPLE","NO CUMPLE") -> #REF!
A21: 13 | B21: =+Hoja1!#REF! -> #REF! | D21: =+Hoja1!#REF! -> #REF! | E21: =+D21 -> #REF! | F21: 47897 | G21: =+B21*F21 -> #REF! | H21: =+Hoja1!#REF! -> #REF! | I21: =+B21*H21 -> #REF! | J21: =IF(G21<=I21,"CUMPLE","NO CUMPLE") -> #REF!
A22: 14 | B22: =+Hoja1!#REF! -> #REF! | D22: =+Hoja1!#REF! -> #REF! | E22: =+D22 -> #REF! | F22: 60011 | G22: =+B22*F22 -> #REF! | H22: =+Hoja1!#REF! -> #REF! | I22: =+B22*H22 -> #REF! | J22: =IF(G22<=I22,"CUMPLE","NO CUMPLE") -> #REF!
A23: 15 | B23: =+Hoja1!#REF! -> #REF! | D23: =+Hoja1!#REF! -> #REF! | E23: =+D23 -> #REF! | F23: 135549 | G23: =+B23*F23 -> #REF! | H23: =+Hoja1!#REF! -> #REF! | I23: =+B23*H23 -> #REF! | J23: =IF(G23<=I23,"CUMPLE","NO CUMPLE") -> #REF!
A24: 16 | B24: =+Hoja1!#REF! -> #REF! | D24: =+Hoja1!#REF! -> #REF! | E24: =+D24 -> #REF! | F24: 52902 | G24: =+B24*F24 -> #REF! | H24: =+Hoja1!#REF! -> #REF! | I24: =+B24*H24 -> #REF! | J24: =IF(G24<=I24,"CUMPLE","NO CUMPLE") -> #REF!
A25: 17 | B25: =+Hoja1!#REF! -> #REF! | D25: =+Hoja1!#REF! -> #REF! | E25: =+D25 -> #REF! | F25: 416107 | G25: =+B25*F25 -> #REF! | H25: =+Hoja1!#REF! -> #REF! | I25: =+B25*H25 -> #REF! | J25: =IF(G25<=I25,"CUMPLE","NO CUMPLE") -> #REF!
A26: 18 | B26: =+Hoja1!#REF! -> #REF! | D26: =+Hoja1!#REF! -> #REF! | E26: =+D26 -> #REF! | F26: 706520 | G26: =+B26*F26 -> #REF! | H26: =+Hoja1!#REF! -> #REF! | I26: =+B26*H26 -> #REF! | J26: =IF(G26<=I26,"CUMPLE","NO CUMPLE") -> #REF!
A27: 19 | B27: =+Hoja1!#REF! -> #REF! | D27: =+Hoja1!#REF! -> #REF! | E27: =+D27 -> #REF! | F27: 30940 | G27: =+B27*F27 -> #REF! | H27: =+Hoja1!#REF! -> #REF! | I27: =+B27*H27 -> #REF! | J27: =IF(G27<=I27,"CUMPLE","NO CUMPLE") -> #REF!
A28: 20 | B28: =+Hoja1!#REF! -> #REF! | D28: =+Hoja1!#REF! -> #REF! | E28: =+D28 -> #REF! | F28: 278808 | G28: =+B28*F28 -> #REF! | H28: =+Hoja1!#REF! -> #REF! | I28: =+B28*H28 -> #REF! | J28: =IF(G28<=I28,"CUMPLE","NO CUMPLE") -> #REF!
G29: =SUM(G9:G28) -> #REF! | I29: =SUM(I9:I28) -> #REF! | J29: =IF(G29<=I29,"CUMPLE","NO CUMPLE") -> #REF!

Sheet Hoja1
A1: N° | B1: CANT | C1: PRODUCTO | D1: UNIDAD | E1: VALOR TECHO UNITARIO INCLUIDO IVA | F1: VALOR TECHO TOTAL INCLUIDO IVA | H1: DIANA CAROLINA SALAZAR ROSAS | I1: COMERCIALIZADORA INTERNACIONAL PRESTIGE S.A.S. | J1: CALDAS MEDICAS SAS
A2: 1 | B2: 23 | C2: Camilla de Primeros Auxilios | D2: UND | F2: 6148925 | H2: 14308180 | I2: 15352000 | J2: 4485000
A3: 2 | B3: 23 | C3: Botiquín de Emergencia Tipo A | D3: UND | F3: 3330400 | J3: 2990000
A4: 3 | B4: 23 | C4: Cuello Ortopédico | D4: UND | F4: 1281422 | J4: 529000
A5: 4 | B5: 30 | C5: Canguro Brigada de Emergencia | D5: UND | F5: 2453998 | J5: 2454000
A6: 5 | B6: 3 | C6: Tensiómetros | D6: UND | F6: 578569 | J6: 255000
A7: 6 | B7: 3 | C7: Glucómetro | D7: UND | F7: 364284 | J7: 174000
A8: 7 | B8: 3 | C8: Oxímetro | D8: UND | F8: 323999 | J8: 150000
A9: 8 | B9: 1 | C9: Bascula para Medir el Peso Corporal | D9: UND | F9: 155714 | J9: 1625000
A10: 9 | B10: 25 | C10: Casco con Barbuquejo Sencillo | D10: UND | F10: 1749157 | J10: 255000
C11: Total | E11: =SUM(E2:E10) -> 0 | F11: =SUM(F2:F10) -> 16386468 | H11: =SUM(H2:H10) -> 14308180 | I11: =SUM(I2:I10) -> 15352000 | J11: =SUM(J2:J10) -> 12917000
H14: Valor Mínimo | I14: =MIN(H11:J11) -> 12917000
