Workbook
Name \0: #REF!
Name \00: #REF!
Name \a: #REF!
Name \a: #REF!
Name \a: #REF!
Name \a: #REF!
Name \a: #REF!
Name \a: #REF!
Name \a: #REF!
Name \a: #REF!
Name \a: #REF!
Name \a: #REF!
Name \a: #REF!
Name \a: #REF!
Name \a: #REF!
Name \a: #REF!
Name \a: #REF!
Name \a: #REF!
Name \a: #REF!
Name \a: #REF!
Name \a: #REF!
Name \a: #REF!
Name \a: #REF!
Name \a: #REF!
Name \a: #REF!
Name \a: #REF!
Name \a: #REF!
Name \a: #REF!
Name \a: #REF!
Name \a: #REF!
Name \AA: [1]LIQUIDACION!#REF!
Name \b: [2]STRSUMM0!#REF!
Name \bb: [2]STRSUMM0!#REF!
Name \E: #REF!
Name \EE: #REF!
Name \G: #REF!
Name \k: '[3]7422CW00'!#REF!
Name \l: [4]STRSUMM0!#REF!
Name \M: #REF!
Name \ñ: '[5]7422CW00'!#REF!
Name \P: #REF!
Name \R: #REF!
Name \s: #REF!
Name \s: #REF!
Name \s: #REF!
Name \s: #REF!
Name \s: #REF!
Name \s: #REF!
Name \s: #REF!
Name \s: #REF!
Name \s: #REF!
Name \s: #REF!
Name \s: #REF!
Name \s: #REF!
Name \s: #REF!
Name \s: #REF!
Name \s: #REF!
Name \s: #REF!
Name \s: #REF!
Name \s: #REF!

Sheet PRESUPUESTO OFICIAL (Entidad)
C3: Formulario 1 - Propuesta económica - Documento tipo de mínima cuantía de obra pública de infraestructura de transporte - versión 2
C4: Código | D4: CCE-EICP-FM-32 | E4: Versión | F4: 2
C5: FORMULARIO 1
C6: PRESUPUESTO OFICIAL
C7: [La Entidad puede utilizar este formulario de detalle del presupuesto oficial para determinar las condiciones bajo las cuales los Proponentes analizarán y presentarán su propuesta económica de forma detallada, sin perjuicio que la Entidad pueda modificarlo o establecer la presentación de la oferta económica con un formulario distinto al indicado.] [El presente Formulario aplica para los Procesos de Contratación que tengan como forma de pago precios unitarios. Tratándose de otras modalidades de pago, la Entidad debe ajustarlo cuando corresponde a: precio global, llave en mano, administración delegada, reembolso de gastos o cualquier otra forma de pago.]
C9: Adicionalmente, cuando el proceso de contratación es estructurado por precios unitarios, la Entidad debe aplicar las notas 1, 2 y 3 del presente formulario y las casillas de "Descripción", "Porcentaje" de la Administración, Imprevisto, Utilidad y total A.I.U. resaltadas en color amarillo. Tratándose de otras modalidades de precio, la Entidad puede o no configurar los mismos aspectos.
C11: Nº | D11: ÍTEM DE PAGO | E11: ESPECIFICACIONES | G11: DESCRIPCIÓN | H11: UND. | I11: CANTIDAD | J11: VALOR UNITARIO | K11: VALOR TOTAL
E12: GENERAL | F12: PARTICULAR
C13: CAPITULO 1 | G13: DEMOLICIONES Y PREPARACIÓN | K13: =SUM(K14:K17) -> 423770
C14: 1.1 | D14: 1.1 | G14: DEMOLICIÓN DE PISO (SALA DE JUNTAS) | H14: M2 | I14: 1.2 | J14: =+'APU 1.1'!O86 -> 58711 | K14: =+ROUND(J14*I14,0) -> 70453
C15: 1.2 | D15: 1.2 | G15: DEMOLICIÓN MURO MAMPOSTERIA (BAÑO Y MONITOREO) | H15: M2 | I15: 1.82 | J15: =+'APU 1.2'!O86 -> 84027 | K15: =+ROUND(J15*I15,0) -> 152929
C16: 1.3 | D16: 1.3 | G16: DESMONTE APARATO SANITARIO | H16: UND | I16: 1 | J16: =+'APU 1.3'!O86 -> 70515 | K16: =+ROUND(J16*I16,0) -> 70515
C17: 1.4 | D17: 1.4 | G17: DESMONTE DE MUEBLES | H17: UND | I17: 1 | J17: =+'APU 1.4'!O86 -> 129873 | K17: =+ROUND(J17*I17,0) -> 129873
C18: CAPITULO 2 | G18: PISOS Y ACABADOS | K18: =SUM(K19) -> 96864
C19: 2.1 | D19: 2.1 | G19: NIVELACIÓN Y ENCHAPE (SALA DE JUNTAS) | H19: M2 | I19: 1.2 | J19: =+'APU 2.1'!O86 -> 80720 | K19: =+ROUND(J19*I19,0) -> 96864
C20: CAPITULO 3 | G20: ENCHAPES | K20: =SUM(K21) -> 241049
C21: 3.1 | D21: 3.1 | G21: SUMINISTRO, TRANSPORTE E INSTALACION CERAMICA PISO PIEDRACID DESERTSTONE TIPO ALFA O SIMILAR. COLOR (INCLUYE BOQUILLA). INCLUYE MORTERO DE PEGA Y/O NIVELACIÓN | H21: M2 | I21: 1.2 | J21: =+'APU 3.1'!O86 -> 200874 | K21: =+ROUND(J21*I21,0) -> 241049
C22: CAPITULO 4 | G22: BAÑOS Y GRIFERIA | K22: =SUM(K23:K27) -> 21850900
C23: 4.1 | D23: 4.1 | G23: SUMINISTRO, TRANSPORTE E INSTALACION TAZA TIPO INSTITUCIONAL BAJO CONSUMO POR DESCARGA, COLOR BLANCO CORONA TAZA ADRIATICA PLUS ENTRADA POSTERIOR VALVULA PUSH O SIMILAR. | H23: UND | I23: 4 | J23: =+'APU 4.1'!O86 -> 2175519 | K23: =+ROUND(J23*I23,0) -> 8702076
C24: 4.2 | D24: 4.2 | G24: SUMINISTRO, TRANSPORTE E INSTALACION LAVAMANOS MUEBLE CON GRIFERIA DE SENSOR REFERENCIA CORONA ECO SMART O SIMILAR | H24: UND | I24: 2 | J24: =+'APU 4.2'!O86 -> 1446492 | K24: =+ROUND(J24*I24,0) -> 2892984
C25: 4.3 | D25: 4.3 | G25: ENCHAPES PISO PARED Y GUARDA ESCOBA CERAMICA TIPO ALFA | H25: M2 | I25: 11.34 | J25: =+'APU 4.3'!O86 -> 176038 | K25: =+ROUND(J25*I25,0) -> 1996271
C26: 4.4 | D26: 4.4 | G26: SUMINISTRO TRASNPORTE E INSTALACION DE DIVISIONES PARA BAÑOS EN LAMINA DE ACERO INOXIDABLE | H26: M2 | I26: 5.6 | J26: =+'APU 4.4'!O86 -> 1431337 | K26: =+ROUND(J26*I26,0) -> 8015487
C27: 4.5 | D27: 4.5 | G27: INSTALACION DE PUERTA PARA BAÑO | H27: UND | I27: 1 | J27: =+'APU 4.5'!O86 -> 244082 | K27: =+ROUND(J27*I27,0) -> 244082
C28: CAPITULO 5 | G28: PINTURA Y ACABADOS | K28: =SUM(K29:K30) -> 5392588
C29: 5.1 | D29: 5.1 | G29: SUMINISTRO, TRANSPORTE E INSTALACION ESTUCO Y VINILO 3 MANOS SOBRE MURO INTERIOR (INCLUYE ESTUCO, 1 MANO EN PINTURA TIPO 2 Y DOS MANOS EN PINTURA TIPO 1, FILOS Y DILATACIONES). COLOR SEGÚN DISEÑO POR M2. | H29: M2 | I29: 10 | J29: =+'APU 5.1'!O86 -> 32366 | K29: =+ROUND(J29*I29,0) -> 323660
C30: 5.2 | D30: 5.2 | G30: SUMINISTRO, TRANSPORTE E INSTALACIÓN A TODO COSTO DE MURO EN SUPERBOARD 8 MM PINTADO Y TERMINADO ACRILTEX (DOS CARAS). INCLUYE PERFILERÍA Y TODO LO NECESARIO PARA SU CORRECTA INSTALACIÓN. | H30: M2 | I30: 16.76 | J30: =+'APU 5.2'!O86 -> 302442 | K30: =+ROUND(J30*I30,0) -> 5068928
C31: CAPITULO 6 | G31: REDES ELECTRICAS | K31: =SUM(K32:K36) -> 9524408
C32: 6.1 | D32: 6.1 | G32: SUMINISTRO, TRANSPORTE E INSTALACION SALIDA TOMACORRIENTE NORMAL DOBLE PT EN TUBERIA CONDUIT EMT 1/2", CABLE No 12 AWG | H32: UND | I32: 15 | J32: =+'APU 6.1'!O86 -> 290935 | K32: =+ROUND(J32*I32,0) -> 4364025
C33: 6.2 | D33: 6.2 | G33: SUMINISTRO, TRANSPORTE E INSTALACION SALIDA PARA LUMINARIA CUADRADA 60X60, INCLUYE LUMINARIA, TOMACORRIENTE NORMAL DOBLE PT EN TUBERIA CONDUIT EMT 1/2", CABLE No 14 AWG, CLAVIJA Y CABLE ENCUAHCETADO | H33: UND | I33: 10 | J33: =+'APU 6.2'!O86 -> 276867 | K33: =+ROUND(J33*I33,0) -> 2768670
C34: 6.3 | D34: 6.3 | G34: SUMINISTRO, TRANSPORTE E INSTALACION SALIDA PARA LUMINARIA CUADRADA 30X30, INCLUYE LUMINARIA, TOMACORRIENTE NORMAL DOBLE PT EN TUBERIA CONDUIT EMT 1/2", CABLE No 14 AWG, CLAVIJA Y CABLE ENCUAHCETADO | H34: UND | I34: 4 | J34: =+'APU 6.3'!O86 -> 268477 | K34: =+ROUND(J34*I34,0) -> 1073908
C35: 6.4 | D35: 6.4 | G35: SUMINISTRO, TRANSPORTE E INSTALACION SALIDA INTERRUPTOR DOBLE EN TUBERIA CONDUIT EMT 1/2", CABLE No 14 AWG | H35: UND | I35: 4 | J35: =+'APU 6.4'!O86 -> 277613 | K35: =+ROUND(J35*I35,0) -> 1110452
C36: 6.5 | D36: 6.5 | G36: SUMINISTRO, TRANSPORTE E INSTALACION SALIDA INTERRUPTOR SENCILLO EN TUBERIA CONDUIT EMT 1/2", CABLE No 14 AWG | H36: UND | I36: 1 | J36: =+'APU 6.5'!O86 -> 207353 | K36: =+ROUND(J36*I36,0) -> 207353
C37: CAPITULO 7 | G37: REDES ELECTRICAS - AREA DE MONITOREO | K37: =SUM(K38:K46) -> 11493654
C38: 7.1 | D38: 7.1 | G38: SUMINISTRO, TRANSPORTE E INSTALACION DE GABINETE DE PISO CON RODACHINES 150X60X60 CMS | H38: UND | I38: 1 | J38: =+'APU 7.1'!O86 -> 1950019 | K38: =+ROUND(J38*I38,0) -> 1950019
C39: 7.2 | D39: 7.2 | G39: SUMINISTRO, TRANSPORTE E INSTALACION SWITCH 16 PUERTOS GIGABIT TP-LINK TL-SG1016D | H39: UND | I39: 2 | J39: =+'APU 7.2'!O86 -> 499796 | K39: =+ROUND(J39*I39,0) -> 999592
C40: 7.3 | D40: 7.3 | G40: SUMINISTRO, TRANSPORTE E INSTALACION BANDEJA VENTILADA MEDIANA 28 CM 19 | H40: ML | I40: 4 | J40: =+'APU 7.3'!O86 -> 127827 | K40: =+ROUND(J40*I40,0) -> 511308
C41: 7.4 | D41: 7.4 | G41: SUMINISTRO, TRANSPORTE E INSTALACION MULTITOMA HORIZONTAL 8SS P/A | H41: UND | I41: 1 | J41: =+'APU 7.4'!O86 -> 405808 | K41: =+ROUND(J41*I41,0) -> 405808
C42: 7.5 | D42: 7.5 | G42: SUMINISTRO, TRANSPORTE E INSTALACION BATERIA 12V 7AMP | H42: UND | I42: 4 | J42: =+'APU 7.5'!O86 -> 116329 | K42: =+ROUND(J42*I42,0) -> 465316
C43: 7.6 | D43: 7.6 | G43: SUMINISTRO, TRANSPORTE E INSTALACION CABLE UTP CAT 6 INTERIOR 100% COBRE | H43: ML | I43: 870 | J43: =+'APU 7.6'!O86 -> 4143 | K43: =+ROUND(J43*I43,0) -> 3604410
C44: 7.7 | D44: 7.7 | G44: SUMINISTRO, TRANSPORTE E INSTALACION JACK CAT 6 UTP AZUL | H44: UND | I44: 20 | J44: =+'APU 7.7'!O86 -> 40977 | K44: =+ROUND(J44*I44,0) -> 819540
...

Sheet PROPUESTA ECONOMICA(Proponente)
C3: Formulario 1 - Propuesta económica - Documento tipo de mínima cuantía de obra pública de infraestructura de transporte - versión 2
C4: Código | D4: CCE-EICP-FM-32 | E4: Versión | F4: 2
C5: FORMULARIO 1
C6: PROPUESTA ECONÓMICA
C7: [ El Proponente puede usar el presente formulario de presentación para determinar su propuesta económica conforme al Formulario 1 - Presupuesto Oficial por la Entidad]
C9: Cuando el proceso de contratación es estructurado por Precios Unitarios, la Entidad debe aplicar las notas 1, 2 y 3 del presente formato y las casillas de "Descripción", "Porcentaje" de la Administración, Imprevisto, Utilidad y total A.I.U. resaltadas en color amarillo.
C11: Nº | D11: ÍTEM DE PAGO | E11: ESPECIFICACIONES | G11: DESCRIPCIÓN | H11: UND. | I11: CANTIDAD | J11: VALOR UNITARIO | K11: VALOR TOTAL
E12: GENERAL | F12: PARTICULAR
C13: CAPITULO 1 | G13: DEMOLICIONES Y PREPARACIÓN
C14: 1.1 | D14: 1.1 | G14: DEMOLICIÓN DE PISO (SALA DE JUNTAS) | H14: M2 | I14: 1.2
C15: 1.2 | D15: 1.2 | G15: DEMOLICIÓN MURO MAMPOSTERIA (BAÑO Y MONITOREO) | H15: M2 | I15: 1.82
C16: 1.3 | D16: 1.3 | G16: DESMONTE APARATO SANITARIO | H16: UND | I16: 1
C17: 1.4 | D17: 1.4 | G17: DESMONTE DE MUEBLES | H17: UND | I17: 1
C18: CAPITULO 2 | G18: PISOS Y ACABADOS
C19: 2.1 | D19: 2.1 | G19: NIVELACIÓN Y ENCHAPE (SALA DE JUNTAS) | H19: M2 | I19: 1.2
C20: CAPITULO 3 | G20: ENCHAPES
C21: 3.1 | D21: 3.1 | G21: SUMINISTRO, TRANSPORTE E INSTALACION CERAMICA PISO PIEDRACID DESERTSTONE TIPO ALFA O SIMILAR. COLOR (INCLUYE BOQUILLA). INCLUYE MORTERO DE PEGA Y/O NIVELACIÓN | H21: M2 | I21: 1.2
C22: CAPITULO 4 | G22: BAÑOS Y GRIFERIA
C23: 4.1 | D23: 4.1 | G23: SUMINISTRO, TRANSPORTE E INSTALACION TAZA TIPO INSTITUCIONAL BAJO CONSUMO POR DESCARGA, COLOR BLANCO CORONA TAZA ADRIATICA PLUS ENTRADA POSTERIOR VALVULA PUSH O SIMILAR. | H23: UND | I23: 4
C24: 4.2 | D24: 4.2 | G24: SUMINISTRO, TRANSPORTE E INSTALACION LAVAMANOS MUEBLE CON GRIFERIA DE SENSOR REFERENCIA CORONA ECO SMART O SIMILAR | H24: UND | I24: 2
C25: 4.3 | D25: 4.3 | G25: ENCHAPES PISO PARED Y GUARDA ESCOBA CERAMICA TIPO ALFA | H25: M2 | I25: 11.34
C26: 4.4 | D26: 4.4 | G26: SUMINISTRO TRASNPORTE E INSTALACION DE DIVISIONES PARA BAÑOS EN LAMINA DE ACERO INOXIDABLE | H26: M2 | I26: 5.6
C27: 4.5 | D27: 4.5 | G27: INSTALACION DE PUERTA PARA BAÑO | H27: UND | I27: 1
C28: CAPITULO 5 | G28: PINTURA Y ACABADOS
C29: 5.1 | D29: 5.1 | G29: SUMINISTRO, TRANSPORTE E INSTALACION ESTUCO Y VINILO 3 MANOS SOBRE MURO INTERIOR (INCLUYE ESTUCO, 1 MANO EN PINTURA TIPO 2 Y DOS MANOS EN PINTURA TIPO 1, FILOS Y DILATACIONES). COLOR SEGÚN DISEÑO POR M2. | H29: M2 | I29: 10
C30: 5.2 | D30: 5.2 | G30: SUMINISTRO, TRANSPORTE E INSTALACIÓN A TODO COSTO DE MURO EN SUPERBOARD 8 MM PINTADO Y TERMINADO ACRILTEX (DOS CARAS). INCLUYE PERFILERÍA Y TODO LO NECESARIO PARA SU CORRECTA INSTALACIÓN. | H30: M2 | I30: 16.76
C31: CAPITULO 6 | G31: REDES ELECTRICAS
C32: 6.1 | D32: 6.1 | G32: SUMINISTRO, TRANSPORTE E INSTALACION SALIDA TOMACORRIENTE NORMAL DOBLE PT EN TUBERIA CONDUIT EMT 1/2", CABLE No 12 AWG | H32: UND | I32: 15
C33: 6.2 | D33: 6.2 | G33: SUMINISTRO, TRANSPORTE E INSTALACION SALIDA PARA LUMINARIA CUADRADA 60X60, INCLUYE LUMINARIA, TOMACORRIENTE NORMAL DOBLE PT EN TUBERIA CONDUIT EMT 1/2", CABLE No 14 AWG, CLAVIJA Y CABLE ENCUAHCETADO | H33: UND | I33: 10
C34: 6.3 | D34: 6.3 | G34: SUMINISTRO, TRANSPORTE E INSTALACION SALIDA PARA LUMINARIA CUADRADA 30X30, INCLUYE LUMINARIA, TOMACORRIENTE NORMAL DOBLE PT EN TUBERIA CONDUIT EMT 1/2", CABLE No 14 AWG, CLAVIJA Y CABLE ENCUAHCETADO | H34: UND | I34: 4
C35: 6.4 | D35: 6.4 | G35: SUMINISTRO, TRANSPORTE E INSTALACION SALIDA INTERRUPTOR DOBLE EN TUBERIA CONDUIT EMT 1/2", CABLE No 14 AWG | H35: UND | I35: 4
C36: 6.5 | D36: 6.5 | G36: SUMINISTRO, TRANSPORTE E INSTALACION SALIDA INTERRUPTOR SENCILLO EN TUBERIA CONDUIT EMT 1/2", CABLE No 14 AWG | H36: UND | I36: 1
C37: CAPITULO 7 | G37: REDES ELECTRICAS - AREA DE MONITOREO
C38: 7.1 | D38: 7.1 | G38: SUMINISTRO, TRANSPORTE E INSTALACION DE GABINETE DE PISO CON RODACHINES 150X60X60 CMS | H38: UND | I38: 1
C39: 7.2 | D39: 7.2 | G39: SUMINISTRO, TRANSPORTE E INSTALACION SWITCH 16 PUERTOS GIGABIT TP-LINK TL-SG1016D | H39: UND | I39: 2
C40: 7.3 | D40: 7.3 | G40: SUMINISTRO, TRANSPORTE E INSTALACION BANDEJA VENTILADA MEDIANA 28 CM 19 | H40: ML | I40: 4
C41: 7.4 | D41: 7.4 | G41: SUMINISTRO, TRANSPORTE E INSTALACION MULTITOMA HORIZONTAL 8SS P/A | H41: UND | I41: 1
C42: 7.5 | D42: 7.5 | G42: SUMINISTRO, TRANSPORTE E INSTALACION BATERIA 12V 7AMP | H42: UND | I42: 4
C43: 7.6 | D43: 7.6 | G43: SUMINISTRO, TRANSPORTE E INSTALACION CABLE UTP CAT 6 INTERIOR 100% COBRE | H43: ML | I43: 870
C44: 7.7 | D44: 7.7 | G44: SUMINISTRO, TRANSPORTE E INSTALACION JACK CAT 6 UTP AZUL | H44: UND | I44: 20
...

Sheet AIU
C4: GOBERNACIÓN DE CALDAS
C5: INSTITUTO DE FINANCIAMIENTO, PROMOCIÓN Y DESARROLLO DE CALDAS
C6: CALCULO A.I.U.
I9: FECHA
J10: (Día) | K10: (Mes) | L10: (Año)
C12: OBRA: Mejoramiento y adecuación del área administrativa y comercial del Aeropuerto La Nubia de Manizales, Caldas, de acuerdo con el plan de reactivación económica
C16: Valor estimado de la Obra | F16: Valor | G16: =+'PRESUPUESTO OFICIAL (Entidad)'!K47 -> 49023233
C17: Plazo estimado de ejecución | F17: Meses | G17: 1
C19: CAPITULO | D19: TIPO DE GASTO | E19: UN | F19: CANTIDAD. | G19: Destinación | H19: VLOR UNITARIO (mes) | I19: Factor Prestacional. | J19: VLOR TOTAL | K19: SUMA | L19: PORCENTAJE
C21: 1 | D21: GASTOS GENERALES. | L21: =+L22 -> 0.14583773
C22: 1.1 | D22: MANO DE OBRA | K22: =SUM(J23:J26) -> 7149436.8 | L22: =+K22/$G$16 -> 0.14583773
D23: Ingeniero inspector | E23: Un | F23: 1 | G23: 0.5 | H23: 4800000 | I23: 0.489466 | J23: =+F23*G23*$G$17*H23*(1+I23) -> 3574718.4
D24: Inspector SST | E24: Un | F24: 1 | G24: 1 | H24: 3500000 | I24: 0.489466 | J24: =+F23*G23*$G$17*H23*(1+I23) -> 3574718.4
C27: 2 | D27: GASTOS INDIRECTOS. | L27: =+L31+L36 -> 0.1445
C28: 2.1 | D28: LEGALIZACION.
D29: Factor Multiplicador
C31: 2.2 | D31: POLIZAS | K31: =SUM(J32:J35) -> 529450.92 | L31: =+K31/$G$16 -> 0.0108
D32: Cumplimiento | E32: % | F32: 0.0004 | H32: =+$G$16 -> 49023233 | J32: =+H32*F32 -> 19609.293 | L32: =+J32/$G$16 -> 0.0004
D33: Estabilidad | E33: % | F33: 0.0056 | H33: =+$G$16 -> 49023233 | J33: =+H33*F33 -> 274530.1 | L33: =+J33/$G$16 -> 0.0056
D34: Pago de salarios, prestaciones sociales legales e indemnizaciones laborales | E34: % | F34: 0.0029 | H34: =+$G$16 -> 49023233 | J34: =+H34*F34 -> 142167.38 | L34: =+J34/$G$16 -> 0.0029
D35: Responsabilidad Civil | E35: % | F35: 0.0019 | H35: =+$G$16 -> 49023233 | J35: =+H35*F35 -> 93144.143 | L35: =+J35/$G$16 -> 0.0019
C36: 2.3 | D36: IMPUESTOS Y VALORES AGREGADOS | K36: =SUM(J37:J43) -> 6554406.3 | L36: =+K36/$G$16 -> 0.1337
D37: Contribución Especial (Seguridad Ciudadana) | E37: % | F37: 0.05 | H37: =+$G$16 -> 49023233 | J37: =+H37*F37 -> 2451161.6 | L37: =+J37/$G$16 -> 0.05
D38: Estampillas para el bienestar del adulto mayor | E38: % | F38: 0.03 | H38: =+$G$16 -> 49023233 | J38: =+H38*F38 -> 1470697 | L38: =+J38/$G$16 -> 0.03
D39: Estampillas Pro - Universidades. | E39: % | F39: 0.01 | H39: =+$G$16 -> 49023233 | J39: =+H39*F39 -> 490232.33 | L39: =+J39/$G$16 -> 0.01
D40: Estampilla Prodesarrollo | E40: % | F40: 0.02 | H40: =+$G$16 -> 49023233 | J40: =+H40*F40 -> 980464.66 | L40: =+J40/$G$16 -> 0.02
D41: Estampilla ProHospital | E41: % | F41: 0.01 | H41: =+$G$16 -> 49023233 | J41: =+H41*F41 -> 490232.33 | L41: =+J41/$G$16 -> 0.01
D42: Estampilla ProCultura | E42: % | F42: 0.01 | H42: =+$G$16 -> 49023233 | J42: =+H42*F42 -> 490232.33 | L42: =+J42/$G$16 -> 0.01
D43: Industria y Comercio 3,7 x 1.000 sobre valor total. | E43: % | F43: 0.0037 | H43: =+$G$16 -> 49023233 | J43: =+H43*F43 -> 181385.96 | L43: =+J43/$G$16 -> 0.0037
D44: TOTAL GASTOS INDIRECTOS DE ADMINISTRACION. | K44: =SUM(K22:K43) -> 14233294 | L44: =+ROUND(L27+L21,2) -> 0.29
D45: IMPREVISTO: | L45: 0
D46: UTILIDAD (+ IVA).: | K46: 0.05 | L46: 0.05
D47: A.I.U. | L47: =+L44+L45+L46 -> 0.34

Sheet APU 1.1
C3: Formulario 1 - Propuesta económica - Documento tipo de mínima cuantía de obra pública de infraestructura de transporte - versión 2
C4: Código | D4: CCE-EICP-FM-32 | E4: Versión | F4: 2
D8: INSTITUTO DE FINANCIAMIENTO PROMOCION Y DESARROLLO DE CALDAS
L9: VERSIÓN
D10: INFI I.P - XXXX - 2026
L11: PÁGINA | M11: 1 | N11: DE | O11: 1
D13: ANALISIS DE PRECIOS UNITARIOS
L15: FECHA | M15: DD | N15: MM | O15: AA
M16: 27 | N16: 4 | O16: 2026
C17: ÍTEMS DE LA PROPUESTA ECONÓMICA | I17: ÍTEMS NO PREVISTOS
C21: DATOS ESPECÍFICOS
C23: ÍTEM | D23: DESCRIPCIÓN | M23: UNIDAD | O23: CANTIDAD
C24: =+'PRESUPUESTO OFICIAL (Entidad)'!C14 -> 1.1 | D24: =+'PRESUPUESTO OFICIAL (Entidad)'!G14 -> DEMOLICIÓN DE PISO (SALA DE JUNTAS) | M24: =+'PRESUPUESTO OFICIAL (Entidad)'!H14 -> M2
C25: I. EQUIPO
C28: DESCRIPCIÓN | H28: MARCA | J28: TIPO | L28: TARIFA/HORA | M28: RENDIMIENTO | O28: Vr. UNITARIO
C29: Rotomartillo Eléctrico (11kg) | L29: 15200 | M29: 0.5 | O29: =+L29*M29 -> 7600
O30: =+L30*M30 -> 0
O31: =+L31*M31 -> 0
O32: =+L32*M32 -> 0
O33: =+L33*M33 -> 0
C35: HERRRAMIENTA MENOR | L35: 0.05 | O35: =+O74*L35 -> 1248.45
C36: SUBTOTAL $ | O36: =ROUND(SUM(O29:O35),0) -> 8848
C37: II. MATERIALES
C40: DESCRIPCIÓN | K40: UNIDAD | L40: CANTIDAD | M40: PRECIO UNIT. | O40: Vr. UNITARIO
C41: Sacos de polipropileno (bultos) | K41: UNIDAD | L41: 2 | M41: 1350 | O41: =+M41*L41 -> 2700
C42: Cinta de señalización/peligro | K42: M | L42: 0.5 | M42: 400 | O42: =+M42*L42 -> 200
O43: =+M43*L43 -> 0
O44: =+M44*L44 -> 0
O45: =+M45*L45 -> 0
O46: =+M46*L46 -> 0
O47: =+M47*L47 -> 0
O48: =+M48*L48 -> 0
O49: =+M49*L49 -> 0
O50: =+M50*L50 -> 0
C52: SUBTOTAL $ | O52: =ROUND(SUM(O41:O51),0) -> 2900
C53: III. TRANSPORTES
C56: MATERIAL | J56: VOL. o PESO | K56: DISTANCIA | L56: M2/ M3 o Ton/Km | M56: TARIFA | O56: Vr. UNITARIO
C57: Acarreo interno (trasiego manual) | J57: 1 | K57: 1 | L57: =+J57*K57 -> 1 | M57: 1897 | O57: =+M57*L57 -> 1897
C58: Disposición final (Escombrera) | J58: 1 | K58: 1 | L58: =+J58*K58 -> 1 | M58: 5200 | O58: =+M58*L58 -> 5200
L59: =+J59*K59 -> 0 | O59: =+M59*L59 -> 0
...

Sheet APU 1.2
C3: Formulario 1 - Propuesta económica - Documento tipo de mínima cuantía de obra pública de infraestructura de transporte - versión 2
C4: Código | D4: CCE-EICP-FM-32 | E4: Versión | F4: 2
D8: INSTITUTO DE FINANCIAMIENTO PROMOCION Y DESARROLLO DE CALDAS
L9: VERSIÓN
D10: INFI I.P - XXXX - 2026
L11: PÁGINA | M11: 1 | N11: DE | O11: 1
D13: ANALISIS DE PRECIOS UNITARIOS
L15: FECHA | M15: DD | N15: MM | O15: AA
M16: 27 | N16: 4 | O16: 2026
C17: ÍTEMS DE LA PROPUESTA ECONÓMICA | I17: ÍTEMS NO PREVISTOS
C21: DATOS ESPECÍFICOS
C23: ÍTEM | D23: DESCRIPCIÓN | M23: UNIDAD | O23: CANTIDAD
C24: =+'PRESUPUESTO OFICIAL (Entidad)'!C15 -> 1.2 | D24: =+'PRESUPUESTO OFICIAL (Entidad)'!G15 -> DEMOLICIÓN MURO MAMPOSTERIA (BAÑO Y MONITOREO) | M24: =+'PRESUPUESTO OFICIAL (Entidad)'!H15 -> M2 | O24: 1
C25: I. EQUIPO
C28: DESCRIPCIÓN | H28: MARCA | J28: TIPO | L28: TARIFA/HORA | M28: RENDIMIENTO | O28: Vr. UNITARIO
C29: Rotomartillo Ligero / Cincelador | L29: 15200 | M29: 0.6 | O29: =+L29*M29 -> 9120
O30: =+L30*M30 -> 0
O31: =+L31*M31 -> 0
O32: =+L32*M32 -> 0
O33: =+L33*M33 -> 0
C35: HERRRAMIENTA MENOR | L35: 0.05 | O35: =+O74*L35 -> 1785.25
C36: SUBTOTAL $ | O36: =ROUND(SUM(O29:O35),0) -> 10905
C37: II. MATERIALES
C40: DESCRIPCIÓN | K40: UNIDAD | L40: CANTIDAD | M40: PRECIO UNIT. | O40: Vr. UNITARIO
C41: Sacos de fibra (bultos) | K41: UND | L41: 4 | M41: 1350 | O41: =+M41*L41 -> 5400
C42: Plástico de protección (calibre 4) | K42: M2 | L42: 2 | M42: 1800 | O42: =+M42*L42 -> 3600
O43: =+M43*L43 -> 0
O44: =+M44*L44 -> 0
O45: =+M45*L45 -> 0
O46: =+M46*L46 -> 0
O47: =+M47*L47 -> 0
O48: =+M48*L48 -> 0
O49: =+M49*L49 -> 0
O50: =+M50*L50 -> 0
C52: SUBTOTAL $ | O52: =ROUND(SUM(O41:O51),0) -> 9000
C53: III. TRANSPORTES
C56: MATERIAL | J56: VOL. o PESO | K56: DISTANCIA | L56: M3 o Ton/Km | M56: TARIFA | O56: Vr. UNITARIO
C57: Acarreo interno y bajada de escombro | J57: 1 | K57: 1 | L57: =+J57*K57 -> 1 | M57: 1897 | O57: =+M57*L57 -> 1897
C58: Disposición final (Escombrera) | J58: 1 | K58: 1 | L58: =+J58*K58 -> 1 | M58: 5200 | O58: =+M58*L58 -> 5200
L59: =+J59*K59 -> 0 | O59: =+M59*L59 -> 0
...

Sheet APU 1.3
C3: Formulario 1 - Propuesta económica - Documento tipo de mínima cuantía de obra pública de infraestructura de transporte - versión 2
C4: Código | D4: CCE-EICP-FM-32 | E4: Versión | F4: 2
D8: INSTITUTO DE FINANCIAMIENTO PROMOCION Y DESARROLLO DE CALDAS
L9: VERSIÓN
D10: INFI I.P - XXXX - 2026
L11: PÁGINA | M11: 1 | N11: DE | O11: 1
D13: ANALISIS DE PRECIOS UNITARIOS
L15: FECHA | M15: DD | N15: MM | O15: AA
M16: 27 | N16: 4 | O16: 2026
C17: ÍTEMS DE LA PROPUESTA ECONÓMICA | I17: ÍTEMS NO PREVISTOS
C21: DATOS ESPECÍFICOS
C23: ÍTEM | D23: DESCRIPCIÓN | M23: UNIDAD | O23: CANTIDAD
C24: =+'PRESUPUESTO OFICIAL (Entidad)'!C16 -> 1.3 | D24: =+'PRESUPUESTO OFICIAL (Entidad)'!G16 -> DESMONTE APARATO SANITARIO | M24: =+'PRESUPUESTO OFICIAL (Entidad)'!H16 -> UND | O24: 1
C25: I. EQUIPO
C28: DESCRIPCIÓN | H28: MARCA | J28: TIPO | L28: TARIFA/HORA | M28: RENDIMIENTO | O28: Vr. UNITARIO
C29: Kit de Plomería (Llaves/Pinzas) | L29: 1500 | M29: 1 | O29: =+L29*M29 -> 1500
O30: =+L30*M30 -> 0
O31: =+L31*M31 -> 0
O32: =+L32*M32 -> 0
O33: =+L33*M33 -> 0
C35: HERRRAMIENTA MENOR | L35: 0.05 | O35: =+O74*L35 -> 1872.65
C36: SUBTOTAL $ | O36: =ROUND(SUM(O29:O35),0) -> 3373
C37: II. MATERIALES
C40: DESCRIPCIÓN | K40: UNIDAD | L40: CANTIDAD | M40: PRECIO UNIT. | O40: Vr. UNITARIO
C41: Tapón provisional / Neopreno o Trapo | K41: UND | L41: 1 | M41: 3500 | O41: =+M41*L41 -> 3500
C42: Cinta de teflón / Sellante | K42: GL | L42: 1 | M42: 1200 | O42: =+M42*L42 -> 1200
O43: =+M43*L43 -> 0
O44: =+M44*L44 -> 0
O45: =+M45*L45 -> 0
O46: =+M46*L46 -> 0
O47: =+M47*L47 -> 0
O48: =+M48*L48 -> 0
O49: =+M49*L49 -> 0
O50: =+M50*L50 -> 0
C52: SUBTOTAL $ | O52: =ROUND(SUM(O41:O51),0) -> 4700
C53: III. TRANSPORTES
C56: MATERIAL | J56: VOL. o PESO | K56: DISTANCIA | L56: M3 o Ton/Km | M56: TARIFA | O56: Vr. UNITARIO
C57: Acarreo Acarreo interno (hasta zona de carga) | J57: 1 | K57: 1 | L57: =+J57*K57 -> 1 | M57: 1897 | O57: =+M57*L57 -> 1897
C58: Disposición final (Escombrera) | J58: 1 | K58: 1 | L58: =+J58*K58 -> 1 | M58: 5200 | O58: =+M58*L58 -> 5200
L59: =+J59*K59 -> 0 | O59: =+M59*L59 -> 0
...

Sheet APU 1.4
C3: Formulario 1 - Propuesta económica - Documento tipo de mínima cuantía de obra pública de infraestructura de transporte - versión 2
C4: Código | D4: CCE-EICP-FM-32 | E4: Versión | F4: 2
D8: INSTITUTO DE FINANCIAMIENTO PROMOCION Y DESARROLLO DE CALDAS
L9: VERSIÓN
D10: INFI I.P - XXXX - 2026
L11: PÁGINA | M11: 1 | N11: DE | O11: 1
D13: ANALISIS DE PRECIOS UNITARIOS
L15: FECHA | M15: DD | N15: MM | O15: AA
M16: 27 | N16: 4 | O16: 2026
C17: ÍTEMS DE LA PROPUESTA ECONÓMICA | I17: ÍTEMS NO PREVISTOS
C21: DATOS ESPECÍFICOS
C23: ÍTEM | D23: DESCRIPCIÓN | M23: UNIDAD | O23: CANTIDAD
C24: =+'PRESUPUESTO OFICIAL (Entidad)'!C17 -> 1.4 | D24: =+'PRESUPUESTO OFICIAL (Entidad)'!G17 -> DESMONTE DE MUEBLES | M24: =+'PRESUPUESTO OFICIAL (Entidad)'!H17 -> UND | O24: 1
C25: I. EQUIPO
C28: DESCRIPCIÓN | H28: MARCA | J28: TIPO | L28: TARIFA/HORA | M28: RENDIMIENTO | O28: Vr. UNITARIO
C29: Atornillador Eléctrico (Desgaste/Uso) | L29: 3500 | M29: 1.5 | O29: =+L29*M29 -> 5250
O30: =+L30*M30 -> 0
O31: =+L31*M31 -> 0
O32: =+L32*M32 -> 0
O33: =+L33*M33 -> 0
C35: HERRRAMIENTA MENOR | L35: 0.05 | O35: =+O74*L35 -> 3870.15
C36: SUBTOTAL $ | O36: =ROUND(SUM(O29:O35),0) -> 9120
C37: II. MATERIALES
C40: DESCRIPCIÓN | K40: UNIDAD | L40: CANTIDAD | M40: PRECIO UNIT. | O40: Vr. UNITARIO
C41: Cinta de enmascarar / Marcación | K41: ROLLO | L41: 0.2 | M41: 6500 | O41: =+M41*L41 -> 1300
C42: Estopa / Limpieza | K42: GLB | L42: 1 | M42: 2000 | O42: =+M42*L42 -> 2000
O43: =+M43*L43 -> 0
O44: =+M44*L44 -> 0
O45: =+M45*L45 -> 0
O46: =+M46*L46 -> 0
O47: =+M47*L47 -> 0
O48: =+M48*L48 -> 0
O49: =+M49*L49 -> 0
O50: =+M50*L50 -> 0
C52: SUBTOTAL $ | O52: =ROUND(SUM(O41:O51),0) -> 3300
C53: III. TRANSPORTES
C56: MATERIAL | J56: VOL. o PESO | K56: DISTANCIA | L56: M3 o Ton/Km | M56: TARIFA | O56: Vr. UNITARIO
C57: Acarreo interno (trasiego manual) | J57: 1 | K57: 1 | L57: =+J57*K57 -> 1 | M57: 1897 | O57: =+M57*L57 -> 1897
C58: Disposición de madera/aglomerado | J58: 1 | K58: 1 | L58: =+J58*K58 -> 1 | M58: 5200 | O58: =+M58*L58 -> 5200
L59: =+J59*K59 -> 0 | O59: =+M59*L59 -> 0
...

Sheet APU 2.1
C3: Formulario 1 - Propuesta económica - Documento tipo de mínima cuantía de obra pública de infraestructura de transporte - versión 2
C4: Código | D4: CCE-EICP-FM-32 | E4: Versión | F4: 2
D8: INSTITUTO DE FINANCIAMIENTO PROMOCION Y DESARROLLO DE CALDAS
L9: VERSIÓN
D10: INFI I.P - XXXX - 2026
L11: PÁGINA | M11: 1 | N11: DE | O11: 1
D13: ANALISIS DE PRECIOS UNITARIOS
L15: FECHA | M15: DD | N15: MM | O15: AA
M16: 27 | N16: 4 | O16: 2026
C17: ÍTEMS DE LA PROPUESTA ECONÓMICA | I17: ÍTEMS NO PREVISTOS
C21: DATOS ESPECÍFICOS
C23: ÍTEM | D23: DESCRIPCIÓN | M23: UNIDAD | O23: CANTIDAD
C24: =+'PRESUPUESTO OFICIAL (Entidad)'!C19 -> 2.1 | D24: =+'PRESUPUESTO OFICIAL (Entidad)'!G19 -> NIVELACIÓN Y ENCHAPE (SALA DE JUNTAS) | M24: =+'PRESUPUESTO OFICIAL (Entidad)'!H19 -> M2 | O24: 1
C25: I. EQUIPO
C28: DESCRIPCIÓN | H28: MARCA | J28: TIPO | L28: TARIFA/HORA | M28: RENDIMIENTO | O28: Vr. UNITARIO
C29: Mezcladora de 1 bulto (Alquiler) | L29: 18000 | M29: 0.2 | O29: =+L29*M29 -> 3600
O30: =+L30*M30 -> 0
O31: =+L31*M31 -> 0
O32: =+L32*M32 -> 0
O33: =+L33*M33 -> 0
C35: HERRRAMIENTA MENOR | L35: 0.05 | O35: =+O74*L35 -> 1248.45
C36: SUBTOTAL $ | O36: =ROUND(SUM(O29:O35),0) -> 4848
C37: II. MATERIALES
C40: DESCRIPCIÓN | K40: UNIDAD | L40: CANTIDAD | M40: PRECIO UNIT. | O40: Vr. UNITARIO
C41: Arena de río / Triturada | K41: M3 | L41: 0.055 | M41: 115000 | O41: =+M41*L41 -> 6325
C42: Cemento Gris (Uso Gral) | K42: BULTO | L42: 0.45 | M42: 42000 | O42: =+M42*L42 -> 18900
C43: Aditivo de adherencia (SikaLatex o sim) | K43: KG | L43: 0.2 | M43: 16500 | O43: =+M43*L43 -> 3300
O44: =+M44*L44 -> 0
O45: =+M45*L45 -> 0
O46: =+M46*L46 -> 0
O47: =+M47*L47 -> 0
O48: =+M48*L48 -> 0
O49: =+M49*L49 -> 0
O50: =+M50*L50 -> 0
C52: SUBTOTAL $ | O52: =ROUND(SUM(O41:O51),0) -> 28525
C53: III. TRANSPORTES
C56: MATERIAL | J56: VOL. o PESO | K56: DISTANCIA | L56: M3 o Ton/Km | M56: TARIFA | O56: Vr. UNITARIO
C57: Acarreo interno (trasiego manual) | J57: 1 | K57: 1 | L57: =+J57*K57 -> 1 | M57: 1897 | O57: =+M57*L57 -> 1897
L58: =+J58*K58 -> 0 | O58: =+M58*L58 -> 0
L59: =+J59*K59 -> 0 | O59: =+M59*L59 -> 0
...

Sheet APU 3.1
C3: Formulario 1 - Propuesta económica - Documento tipo de mínima cuantía de obra pública de infraestructura de transporte - versión 2
C4: Código | D4: CCE-EICP-FM-32 | E4: Versión | F4: 2
D8: INSTITUTO DE FINANCIAMIENTO PROMOCION Y DESARROLLO DE CALDAS
L9: VERSIÓN
D10: INFI I.P - XXXX - 2026
L11: PÁGINA | M11: 1 | N11: DE | O11: 1
D13: ANALISIS DE PRECIOS UNITARIOS
L15: FECHA | M15: DD | N15: MM | O15: AA
M16: 27 | N16: 4 | O16: 2026
C17: ÍTEMS DE LA PROPUESTA ECONÓMICA | I17: ÍTEMS NO PREVISTOS
C21: DATOS ESPECÍFICOS
C23: ÍTEM | D23: DESCRIPCIÓN | M23: UNIDAD | O23: CANTIDAD
C24: =+'PRESUPUESTO OFICIAL (Entidad)'!C21 -> 3.1 | D24: =+'PRESUPUESTO OFICIAL (Entidad)'!G21 -> SUMINISTRO, TRANSPORTE E INSTALACION CERAMICA PISO PIEDRACID DESERTSTONE TIPO ALFA O SIMILAR. COLOR (INCLUYE BOQUILLA). INCLUYE MORTERO DE PEGA Y/O NIVELACIÓN | M24: =+'PRESUPUESTO OFICIAL (Entidad)'!H21 -> M2 | O24: 1
C25: I. EQUIPO
C28: DESCRIPCIÓN | H28: MARCA | J28: TIPO | L28: TARIFA/HORA | M28: RENDIMIENTO | O28: Vr. UNITARIO
C29: Cortadora de cerámica (Desgaste) | L29: 1 | M29: 2500 | O29: =+L29*M29 -> 2500
O30: =+L30*M30 -> 0
O31: =+L31*M31 -> 0
O32: =+L32*M32 -> 0
O33: =+L33*M33 -> 0
C35: HERRRAMIENTA MENOR | L35: 0.05 | O35: =+O74*L35 -> 1473.15
C36: SUBTOTAL $ | O36: =ROUND(SUM(O29:O35),0) -> 3973
C37: II. MATERIALES
C40: DESCRIPCIÓN | K40: UNIDAD | L40: CANTIDAD | M40: PRECIO UNIT. | O40: Vr. UNITARIO
C41: Cerámica Desertstone (Alfa/Sim) | K41: M2 | L41: 1.07 | M41: 68900 | O41: =+M41*L41 -> 73723
C42: Cemento Gris (para nivelación) | K42: BULTO | L42: 0.45 | M42: 42000 | O42: =+M42*L42 -> 18900
C43: Arena de río lavada | K43: M3 | L43: 0.05 | M43: 118000 | O43: =+M43*L43 -> 5900
C44: Pegante Cerámico (Interiores/Gris) | K44: KG | L44: 5 | M44: 2200 | O44: =+M44*L44 -> 11000
C45: Boquilla técnica (color arena/gris) | K45: KG | L45: 0.5 | M45: 6500 | O45: =+M45*L45 -> 3250
C46: Crucetas/Niveladores plásticos | K46: UND | L46: 12 | M46: 150 | O46: =+M46*L46 -> 1800
O47: =+M47*L47 -> 0
O48: =+M48*L48 -> 0
O49: =+M49*L49 -> 0
O50: =+M50*L50 -> 0
C52: SUBTOTAL $ | O52: =ROUND(SUM(O41:O51),0) -> 114573
C53: III. TRANSPORTES
C56: MATERIAL | J56: VOL. o PESO | K56: DISTANCIA | L56: M3 o Ton/Km | M56: TARIFA | O56: Vr. UNITARIO
C57: Acarreo interno (trasiego manual) | J57: 1 | K57: 1 | L57: =+J57*K57 -> 1 | M57: 1897 | O57: =+M57*L57 -> 1897
L58: =+J58*K58 -> 0 | O58: =+M58*L58 -> 0
L59: =+J59*K59 -> 0 | O59: =+M59*L59 -> 0
...

Sheet APU 4.1
C3: Formulario 1 - Propuesta económica - Documento tipo de mínima cuantía de obra pública de infraestructura de transporte - versión 2
C4: Código | D4: CCE-EICP-FM-32 | E4: Versión | F4: 2
D8: INSTITUTO DE FINANCIAMIENTO PROMOCION Y DESARROLLO DE CALDAS
L9: VERSIÓN
D10: INFI I.P - XXXX - 2026
L11: PÁGINA | M11: 1 | N11: DE | O11: 1
D13: ANALISIS DE PRECIOS UNITARIOS
L15: FECHA | M15: DD | N15: MM | O15: AA
M16: 27 | N16: 4 | O16: 2026
C17: ÍTEMS DE LA PROPUESTA ECONÓMICA | I17: ÍTEMS NO PREVISTOS
C21: DATOS ESPECÍFICOS
C23: ÍTEM | D23: DESCRIPCIÓN | M23: UNIDAD | O23: CANTIDAD
C24: =+'PRESUPUESTO OFICIAL (Entidad)'!C23 -> 4.1 | D24: =+'PRESUPUESTO OFICIAL (Entidad)'!G23 -> SUMINISTRO, TRANSPORTE E INSTALACION TAZA TIPO INSTITUCIONAL BAJO CONSUMO POR DESCARGA, COLOR BLANCO CORONA TAZA ADRIATICA PLUS ENTRADA POSTERIOR VALVULA PUSH O SIMILAR. | M24: =+'PRESUPUESTO OFICIAL (Entidad)'!H23 -> UND | O24: 1
C25: I. EQUIPO
C28: DESCRIPCIÓN | H28: MARCA | J28: TIPO | L28: TARIFA/HORA | M28: RENDIMIENTO | O28: Vr. UNITARIO
C29: Taladro Percutor / Broca Diamantada | L29: 8500 | M29: 0.5 | O29: =+L29*M29 -> 4250
O30: =+L30*M30 -> 0
O31: =+L31*M31 -> 0
O32: =+L32*M32 -> 0
O33: =+L33*M33 -> 0
C35: HERRRAMIENTA MENOR | L35: 0.05 | O35: =+O74*L35 -> 3575
C36: SUBTOTAL $ | O36: =ROUND(SUM(O29:O35),0) -> 7825
C37: II. MATERIALES
C40: DESCRIPCIÓN | K40: UNIDAD | L40: CANTIDAD | M40: PRECIO UNIT. | O40: Vr. UNITARIO
C41: Taza Adriática Plus (Blanco) | K41: UND | L41: 1 | M41: 1097000 | O41: =+M41*L41 -> 1097000
C42: Válvula de descarga Push | K42: UND | L42: 1 | M42: 385000 | O42: =+M42*L42 -> 385000
C43: Brida Sanitaria de 4" (Sello hermético) | K43: UND | L43: 1 | M43: 32500 | O43: =+M43*L43 -> 32500
C44: Tornillos de fijación en acero inox | K44: SET | L44: 1 | M44: 23000 | O44: =+M44*L44 -> 23000
C45: Silicona Fungicida (Antihongos) | K45: UND | L45: 0.2 | M45: 24000 | O45: =+M45*L45 -> 4800
O46: =+M46*L46 -> 0
O47: =+M47*L47 -> 0
O48: =+M48*L48 -> 0
O49: =+M49*L49 -> 0
O50: =+M50*L50 -> 0
C52: SUBTOTAL $ | O52: =ROUND(SUM(O41:O51),0) -> 1542300
C53: III. TRANSPORTES
C56: MATERIAL | J56: VOL. o PESO | K56: DISTANCIA | L56: M3 o Ton/Km | M56: TARIFA | O56: Vr. UNITARIO
C57: Acarreo interno | J57: 1 | K57: 1 | L57: =+J57*K57 -> 1 | M57: 1897 | O57: =+M57*L57 -> 1897
L58: =+J58*K58 -> 0 | O58: =+M58*L58 -> 0
L59: =+J59*K59 -> 0 | O59: =+M59*L59 -> 0
...

Sheet APU 4.2
C3: Formulario 1 - Propuesta económica - Documento tipo de mínima cuantía de obra pública de infraestructura de transporte - versión 2
C4: Código | D4: CCE-EICP-FM-32 | E4: Versión | F4: 2
D8: INSTITUTO DE FINANCIAMIENTO PROMOCION Y DESARROLLO DE CALDAS
L9: VERSIÓN
D10: INFI I.P - XXXX - 2026
L11: PÁGINA | M11: 1 | N11: DE | O11: 1
D13: ANALISIS DE PRECIOS UNITARIOS
L15: FECHA | M15: DD | N15: MM | O15: AA
M16: 27 | N16: 4 | O16: 2026
C17: ÍTEMS DE LA PROPUESTA ECONÓMICA | I17: ÍTEMS NO PREVISTOS
C21: DATOS ESPECÍFICOS
C23: ÍTEM | D23: DESCRIPCIÓN | M23: UNIDAD | O23: CANTIDAD
C24: =+'PRESUPUESTO OFICIAL (Entidad)'!C24 -> 4.2 | D24: =+'PRESUPUESTO OFICIAL (Entidad)'!G24 -> SUMINISTRO, TRANSPORTE E INSTALACION LAVAMANOS MUEBLE CON GRIFERIA DE SENSOR REFERENCIA CORONA ECO SMART O SIMILAR | M24: =+'PRESUPUESTO OFICIAL (Entidad)'!H24 -> UND | O24: 1
C25: I. EQUIPO
C28: DESCRIPCIÓN | H28: MARCA | J28: TIPO | L28: TARIFA/HORA | M28: RENDIMIENTO | O28: Vr. UNITARIO
C29: Nivel Láser / Atornillador | L29: 5500 | M29: 1 | O29: =+L29*M29 -> 5500
O30: =+L30*M30 -> 0
O31: =+L31*M31 -> 0
O32: =+L32*M32 -> 0
O33: =+L33*M33 -> 0
C35: HERRRAMIENTA MENOR | L35: 0.05 | O35: =+O74*L35 -> 3575
C36: SUBTOTAL $ | O36: =ROUND(SUM(O29:O35),0) -> 9075
C37: II. MATERIALES
C40: DESCRIPCIÓN | K40: UNIDAD | L40: CANTIDAD | M40: PRECIO UNIT. | O40: Vr. UNITARIO
C41: Lavamanos mueble | K41: UND | L41: 1 | M41: 513000 | O41: =+M41*L41 -> 513000
C42: Grifería Sensor Corona Eco Smart | K42: UND | L42: 1 | M42: 245000 | O42: =+M42*L42 -> 245000
C43: Kit Desagüe + Sifón | K43: UND | L43: 1 | M43: 95000 | O43: =+M43*L43 -> 95000
C44: Acoples flexibles + Válvula de paso | K44: SET | L44: 1 | M44: 45000 | O44: =+M44*L44 -> 45000
C45: Silicona Neutra (Grado Sanitario) | K45: UND | L45: 0.5 | M45: 28000 | O45: =+M45*L45 -> 14000
C46: Soporte metálico oculto (Ménsulas) | K46: PAR | L46: 1 | M46: 85000 | O46: =+M46*L46 -> 85000
O47: =+M47*L47 -> 0
O48: =+M48*L48 -> 0
O49: =+M49*L49 -> 0
O50: =+M50*L50 -> 0
C52: SUBTOTAL $ | O52: =ROUND(SUM(O41:O51),0) -> 997000
C53: III. TRANSPORTES
C56: MATERIAL | J56: VOL. o PESO | K56: DISTANCIA | L56: M3 o Ton/Km | M56: TARIFA | O56: Vr. UNITARIO
C57: Acarreo interno | J57: 1 | K57: 1 | L57: =+J57*K57 -> 1 | M57: 1897 | O57: =+M57*L57 -> 1897
L58: =+J58*K58 -> 0 | O58: =+M58*L58 -> 0
L59: =+J59*K59 -> 0 | O59: =+M59*L59 -> 0
...

Sheet APU 4.3
C3: Formulario 1 - Propuesta económica - Documento tipo de mínima cuantía de obra pública de infraestructura de transporte - versión 2
C4: Código | D4: CCE-EICP-FM-32 | E4: Versión | F4: 2
D8: INSTITUTO DE FINANCIAMIENTO PROMOCION Y DESARROLLO DE CALDAS
L9: VERSIÓN
D10: INFI I.P - XXXX - 2026
L11: PÁGINA | M11: 1 | N11: DE | O11: 1
D13: ANALISIS DE PRECIOS UNITARIOS
L15: FECHA | M15: DD | N15: MM | O15: AA
M16: 27 | N16: 4 | O16: 2026
C17: ÍTEMS DE LA PROPUESTA ECONÓMICA | I17: ÍTEMS NO PREVISTOS
C21: DATOS ESPECÍFICOS
C23: ÍTEM | D23: DESCRIPCIÓN | M23: UNIDAD | O23: CANTIDAD
C24: =+'PRESUPUESTO OFICIAL (Entidad)'!C25 -> 4.3 | D24: =+'PRESUPUESTO OFICIAL (Entidad)'!G25 -> ENCHAPES PISO PARED Y GUARDA ESCOBA CERAMICA TIPO ALFA | M24: =+'PRESUPUESTO OFICIAL (Entidad)'!H25 -> M2 | O24: 1
C25: I. EQUIPO
C28: DESCRIPCIÓN | H28: MARCA | J28: TIPO | L28: TARIFA/HORA | M28: RENDIMIENTO | O28: Vr. UNITARIO
C29: Cortadora de cerámica (Desgaste) | L29: 2500 | M29: 1 | O29: =+L29*M29 -> 2500
O30: =+L30*M30 -> 0
O31: =+L31*M31 -> 0
O32: =+L32*M32 -> 0
O33: =+L33*M33 -> 0
C35: HERRRAMIENTA MENOR | L35: 0.05 | O35: =+O74*L35 -> 1248.45
C36: SUBTOTAL $ | O36: =ROUND(SUM(O29:O35),0) -> 3748
C37: II. MATERIALES
C40: DESCRIPCIÓN | K40: UNIDAD | L40: CANTIDAD | M40: PRECIO UNIT. | O40: Vr. UNITARIO
C41: Cerámica tipo Alfa | K41: M2 | L41: 1.07 | M41: 68138 | O41: =+M41*L41 -> 72907.66
C42: Cemento Gris (para nivelación) | K42: BULTO | L42: 0.2 | M42: 42000 | O42: =+M42*L42 -> 8400
C43: Arena de río lavada | K43: M3 | L43: 0.05 | M43: 118000 | O43: =+M43*L43 -> 5900
C44: Pegante Cerámico (Interiores/Gris) | K44: KG | L44: 4 | M44: 2200 | O44: =+M44*L44 -> 8800
C45: Boquilla técnica (color arena/gris) | K45: KG | L45: 0.5 | M45: 6500 | O45: =+M45*L45 -> 3250
C46: Crucetas/Niveladores plásticos | K46: UND | L46: 10 | M46: 150 | O46: =+M46*L46 -> 1500
O47: =+M47*L47 -> 0
O48: =+M48*L48 -> 0
O49: =+M49*L49 -> 0
O50: =+M50*L50 -> 0
C52: SUBTOTAL $ | O52: =ROUND(SUM(O41:O51),0) -> 100758
C53: III. TRANSPORTES
C56: MATERIAL | J56: VOL. o PESO | K56: DISTANCIA | L56: M3 o Ton/Km | M56: TARIFA | O56: Vr. UNITARIO
C57: Acarreo interno | J57: 1 | K57: 1 | L57: =+J57*K57 -> 1 | M57: 1897 | O57: =+M57*L57 -> 1897
L58: =+J58*K58 -> 0 | O58: =+M58*L58 -> 0
L59: =+J59*K59 -> 0 | O59: =+M59*L59 -> 0
...

Sheet APU 4.4
C3: Formulario 1 - Propuesta económica - Documento tipo de mínima cuantía de obra pública de infraestructura de transporte - versión 2
C4: Código | D4: CCE-EICP-FM-32 | E4: Versión | F4: 2
D8: INSTITUTO DE FINANCIAMIENTO PROMOCION Y DESARROLLO DE CALDAS
L9: VERSIÓN
D10: INFI I.P - XXXX - 2026
L11: PÁGINA | M11: 1 | N11: DE | O11: 1
D13: ANALISIS DE PRECIOS UNITARIOS
L15: FECHA | M15: DD | N15: MM | O15: AA
M16: 27 | N16: 4 | O16: 2026
C17: ÍTEMS DE LA PROPUESTA ECONÓMICA | I17: ÍTEMS NO PREVISTOS
C21: DATOS ESPECÍFICOS
C23: ÍTEM | D23: DESCRIPCIÓN | M23: UNIDAD | O23: CANTIDAD
C24: =+'PRESUPUESTO OFICIAL (Entidad)'!C26 -> 4.4 | D24: =+'PRESUPUESTO OFICIAL (Entidad)'!G26 -> SUMINISTRO TRASNPORTE E INSTALACION DE DIVISIONES PARA BAÑOS EN LAMINA DE ACERO INOXIDABLE | M24: =+'PRESUPUESTO OFICIAL (Entidad)'!H26 -> M2 | O24: 1
C25: I. EQUIPO
C28: DESCRIPCIÓN | H28: MARCA | J28: TIPO | L28: TARIFA/HORA | M28: RENDIMIENTO | O28: Vr. UNITARIO
C29: Taladro / Pulidora (acabados) | L29: 6500 | M29: 2 | O29: =+L29*M29 -> 13000
O30: =+L30*M30 -> 0
O31: =+L31*M31 -> 0
O32: =+L32*M32 -> 0
O33: =+L33*M33 -> 0
C35: HERRRAMIENTA MENOR | L35: 0.05 | O35: =+O74*L35 -> 2860
C36: SUBTOTAL $ | O36: =ROUND(SUM(O29:O35),0) -> 15860
C37: II. MATERIALES
C40: DESCRIPCIÓN | K40: UNIDAD | L40: CANTIDAD | M40: PRECIO UNIT. | O40: Vr. UNITARIO
C41: Panel Lateral Acero Inox (1.50x1.80m) | K41: M2 | L41: 1 | M41: 453000 | O41: =+M41*L41 -> 453000
C42: Puerta Acero Inox (0.60x1.80m) | K42: M2 | L42: 1 | M42: 326667 | O42: =+M42*L42 -> 326667
C43: Pilastras de anclaje (Soportes) | K43: M2 | L43: 1 | M43: 106667 | O43: =+M43*L43 -> 106667
C44: Kit Herrajes (Bisagras/Pasador/Perchero) | K44: SET | L44: 0.3 | M44: 235000 | O44: =+M44*L44 -> 70500
C45: Chazos de expansión en Acero Inox | K45: SET | L45: 0.5 | M45: 72742 | O45: =+M45*L45 -> 36371
O46: =+M46*L46 -> 0
O47: =+M47*L47 -> 0
O48: =+M48*L48 -> 0
O49: =+M49*L49 -> 0
O50: =+M50*L50 -> 0
C52: SUBTOTAL $ | O52: =ROUND(SUM(O41:O51),0) -> 993205
C53: III. TRANSPORTES
C56: MATERIAL | J56: VOL. o PESO | K56: DISTANCIA | L56: M3 o Ton/Km | M56: TARIFA | O56: Vr. UNITARIO
C57: Acarreo interno | J57: 1 | K57: 1 | L57: =+J57*K57 -> 1 | M57: 1897 | O57: =+M57*L57 -> 1897
L58: =+J58*K58 -> 0 | O58: =+M58*L58 -> 0
L59: =+J59*K59 -> 0 | O59: =+M59*L59 -> 0
...

Sheet APU 4.5
C3: Formulario 1 - Propuesta económica - Documento tipo de mínima cuantía de obra pública de infraestructura de transporte - versión 2
C4: Código | D4: CCE-EICP-FM-32 | E4: Versión | F4: 2
D8: INSTITUTO DE FINANCIAMIENTO PROMOCION Y DESARROLLO DE CALDAS
L9: VERSIÓN
D10: INFI I.P - XXXX - 2026
L11: PÁGINA | M11: 1 | N11: DE | O11: 1
D13: ANALISIS DE PRECIOS UNITARIOS
L15: FECHA | M15: DD | N15: MM | O15: AA
M16: 27 | N16: 4 | O16: 2026
C17: ÍTEMS DE LA PROPUESTA ECONÓMICA | I17: ÍTEMS NO PREVISTOS
C21: DATOS ESPECÍFICOS
C23: ÍTEM | D23: DESCRIPCIÓN | M23: UNIDAD | O23: CANTIDAD
C24: =+'PRESUPUESTO OFICIAL (Entidad)'!C27 -> 4.5 | D24: =+'PRESUPUESTO OFICIAL (Entidad)'!G27 -> INSTALACION DE PUERTA PARA BAÑO | M24: =+'PRESUPUESTO OFICIAL (Entidad)'!H27 -> UND | O24: 1
C25: I. EQUIPO
C28: DESCRIPCIÓN | H28: MARCA | J28: TIPO | L28: TARIFA/HORA | M28: RENDIMIENTO | O28: Vr. UNITARIO
O29: =+L29*M29 -> 0
O30: =+L30*M30 -> 0
O31: =+L31*M31 -> 0
O32: =+L32*M32 -> 0
O33: =+L33*M33 -> 0
C35: HERRRAMIENTA MENOR | L35: 0.05 | O35: =+O74*L35 -> 7490.65
C36: SUBTOTAL $ | O36: =ROUND(SUM(O29:O35),0) -> 7491
C37: II. MATERIALES
C40: DESCRIPCIÓN | K40: UNIDAD | L40: CANTIDAD | M40: PRECIO UNIT. | O40: Vr. UNITARIO
C41: BISAGRAS ALUMINIO 3" | K41: UND | L41: 4 | M41: 5121 | O41: =+M41*L41 -> 20484
O42: =+M42*L42 -> 0
O43: =+M43*L43 -> 0
O44: =+M44*L44 -> 0
O45: =+M45*L45 -> 0
O46: =+M46*L46 -> 0
O47: =+M47*L47 -> 0
O48: =+M48*L48 -> 0
O49: =+M49*L49 -> 0
O50: =+M50*L50 -> 0
C52: SUBTOTAL $ | O52: =ROUND(SUM(O41:O51),0) -> 20484
C53: III. TRANSPORTES
C56: MATERIAL | J56: VOL. o PESO | K56: DISTANCIA | L56: M3 o Ton/Km | M56: TARIFA | O56: Vr. UNITARIO
C57: Acarreo interno | J57: 2.3 | K57: 1 | L57: =+J57*K57 -> 2.3 | M57: 1897 | O57: =+M57*L57 -> 4363.1
L58: =+J58*K58 -> 0 | O58: =+M58*L58 -> 0
L59: =+J59*K59 -> 0 | O59: =+M59*L59 -> 0
...

Sheet APU 5.1
C3: Formulario 1 - Propuesta económica - Documento tipo de mínima cuantía de obra pública de infraestructura de transporte - versión 2
C4: Código | D4: CCE-EICP-FM-32 | E4: Versión | F4: 2
D8: INSTITUTO DE FINANCIAMIENTO PROMOCION Y DESARROLLO DE CALDAS
L9: VERSIÓN
D10: INFI I.P - XXXX - 2026
L11: PÁGINA | M11: 1 | N11: DE | O11: 1
D13: ANALISIS DE PRECIOS UNITARIOS
L15: FECHA | M15: DD | N15: MM | O15: AA
M16: 27 | N16: 4 | O16: 2026
C17: ÍTEMS DE LA PROPUESTA ECONÓMICA | I17: ÍTEMS NO PREVISTOS
C21: DATOS ESPECÍFICOS
C23: ÍTEM | D23: DESCRIPCIÓN | M23: UNIDAD | O23: CANTIDAD
C24: =+'PRESUPUESTO OFICIAL (Entidad)'!C29 -> 5.1 | D24: =+'PRESUPUESTO OFICIAL (Entidad)'!G29 -> SUMINISTRO, TRANSPORTE E INSTALACION ESTUCO Y VINILO 3 MANOS SOBRE MURO INTERIOR (INCLUYE ESTUCO, 1 MANO EN PINTURA TIPO 2 Y DOS MANOS EN PINTURA TIPO 1, FILOS Y DILATACIONES). COLOR SEGÚN DISEÑO POR M2. | M24: =+'PRESUPUESTO OFICIAL (Entidad)'!H29 -> M2 | O24: 1
C25: I. EQUIPO
C28: DESCRIPCIÓN | H28: MARCA | J28: TIPO | L28: TARIFA/HORA | M28: RENDIMIENTO | O28: Vr. UNITARIO
O29: =+L29*M29 -> 0
O30: =+L30*M30 -> 0
O31: =+L31*M31 -> 0
O32: =+L32*M32 -> 0
O33: =+L33*M33 -> 0
C35: HERRRAMIENTA MENOR | L35: 0.05 | O35: =+O74*L35 -> 572
C36: SUBTOTAL $ | O36: =ROUND(SUM(O29:O35),0) -> 572
C37: II. MATERIALES
C40: DESCRIPCIÓN | K40: UNIDAD | L40: CANTIDAD | M40: PRECIO UNIT. | O40: Vr. UNITARIO
C41: Estuco Plástico (Listo para usar) | K41: KG | L41: 1.1 | M41: 3000 | O41: =+M41*L41 -> 3300
C42: Vinilo Tipo 2 (Base/Imprimante) | K42: GAL | L42: 0.04 | M42: 58000 | O42: =+M42*L42 -> 2320
C43: Vinilo Tipo 1 (Acabado Lavable) | K43: GAL | L43: 0.04 | M43: 79000 | O43: =+M43*L43 -> 3160
C44: Lijas (Grano 120 - 180 - 240) | K44: PLIEGO | L44: 0.3 | M44: 2800 | O44: =+M44*L44 -> 840
C45: Guarda-filos de PVC / Cinta | K45: ML | L45: 0.25 | M45: 2500 | O45: =+M45*L45 -> 625
O46: =+M46*L46 -> 0
O47: =+M47*L47 -> 0
O48: =+M48*L48 -> 0
O49: =+M49*L49 -> 0
O50: =+M50*L50 -> 0
C52: SUBTOTAL $ | O52: =ROUND(SUM(O41:O51),0) -> 10245
C53: III. TRANSPORTES
C56: MATERIAL | J56: VOL. o PESO | K56: DISTANCIA | L56: M3 o Ton/Km | M56: TARIFA | O56: Vr. UNITARIO
C57: Acarreo interno (trasiego manual) | J57: 1 | K57: 1 | L57: =+J57*K57 -> 1 | M57: 1897 | O57: =+M57*L57 -> 1897
L58: =+J58*K58 -> 0 | O58: =+M58*L58 -> 0
L59: =+J59*K59 -> 0 | O59: =+M59*L59 -> 0
...

Sheet APU 5.2
C3: Formulario 1 - Propuesta económica - Documento tipo de mínima cuantía de obra pública de infraestructura de transporte - versión 2
C4: Código | D4: CCE-EICP-FM-32 | E4: Versión | F4: 2
D8: INSTITUTO DE FINANCIAMIENTO PROMOCION Y DESARROLLO DE CALDAS
L9: VERSIÓN
D10: INFI I.P - XXXX - 2026
L11: PÁGINA | M11: 1 | N11: DE | O11: 1
D13: ANALISIS DE PRECIOS UNITARIOS
L15: FECHA | M15: DD | N15: MM | O15: AA
M16: 27 | N16: 4 | O16: 2026
C17: ÍTEMS DE LA PROPUESTA ECONÓMICA | I17: ÍTEMS NO PREVISTOS
C21: DATOS ESPECÍFICOS
C23: ÍTEM | D23: DESCRIPCIÓN | M23: UNIDAD | O23: CANTIDAD
C24: =+'PRESUPUESTO OFICIAL (Entidad)'!C30 -> 5.2 | D24: =+'PRESUPUESTO OFICIAL (Entidad)'!G30 -> SUMINISTRO, TRANSPORTE E INSTALACIÓN A TODO COSTO DE MURO EN SUPERBOARD 8 MM PINTADO Y TERMINADO ACRILTEX (DOS CARAS). INCLUYE PERFILERÍA Y TODO LO NECESARIO PARA SU CORRECTA INSTALACIÓN. | M24: =+'PRESUPUESTO OFICIAL (Entidad)'!H30 -> M2 | O24: 1
C25: I. EQUIPO
C28: DESCRIPCIÓN | H28: MARCA | J28: TIPO | L28: TARIFA/HORA | M28: RENDIMIENTO | O28: Vr. UNITARIO
C29: Cortadora de disco / Pulidora | L29: 7500 | M29: 0.5 | O29: =+L29*M29 -> 3750
C30: Atornillador de Impacto | L30: 4800 | M30: 1 | O30: =+L30*M30 -> 4800
O31: =+L31*M31 -> 0
O32: =+L32*M32 -> 0
O33: =+L33*M33 -> 0
C35: HERRRAMIENTA MENOR | L35: 0.05 | O35: =+O74*L35 -> 1716
C36: SUBTOTAL $ | O36: =ROUND(SUM(O29:O35),0) -> 10266
C37: II. MATERIALES
C40: DESCRIPCIÓN | K40: UNIDAD | L40: CANTIDAD | M40: PRECIO UNIT. | O40: Vr. UNITARIO
C41: Placa Superboard 8 mm (1.22 x 2.44) | K41: M2 | L41: 2.15 | M41: 38000 | O41: =+M41*L41 -> 81700
C42: Estructura Galvanizada (Canal y Paral) | K42: ML | L42: 4.1 | M42: 15200 | O42: =+M42*L42 -> 62320
C43: Tornillo Ensamble y Placa (Punta Broca) | K43: UND | L43: 30 | M43: 110 | O43: =+M43*L43 -> 3300
C44: Cinta de malla (Fibra de vidrio) | K44: ML | L44: 3.2 | M44: 950 | O44: =+M44*L44 -> 3040
C45: Masilla para Juntas Superboard (Epóxica) | K45: KG | L45: 1.2 | M45: 12800 | O45: =+M45*L45 -> 15360
C46: Pintura Acriltex (Acabado Sanitario) | K46: GAL | L46: 0.1 | M46: 135000 | O46: =+M46*L46 -> 13500
O47: =+M47*L47 -> 0
O48: =+M48*L48 -> 0
O49: =+M49*L49 -> 0
O50: =+M50*L50 -> 0
C52: SUBTOTAL $ | O52: =ROUND(SUM(O41:O51),0) -> 179220
C53: III. TRANSPORTES
C56: MATERIAL | J56: VOL. o PESO | K56: DISTANCIA | L56: M3 o Ton/Km | M56: TARIFA | O56: Vr. UNITARIO
C57: Acarreo interno (trasiego manual) | J57: 1 | K57: 1 | L57: =+J57*K57 -> 1 | M57: 1897 | O57: =+M57*L57 -> 1897
L58: =+J58*K58 -> 0 | O58: =+M58*L58 -> 0
L59: =+J59*K59 -> 0 | O59: =+M59*L59 -> 0
...

Sheet APU 6.1
C3: Formulario 1 - Propuesta económica - Documento tipo de mínima cuantía de obra pública de infraestructura de transporte - versión 2
C4: Código | D4: CCE-EICP-FM-32 | E4: Versión | F4: 2
D8: INSTITUTO DE FINANCIAMIENTO PROMOCION Y DESARROLLO DE CALDAS
L9: VERSIÓN
D10: INFI I.P - XXXX - 2026
L11: PÁGINA | M11: 1 | N11: DE | O11: 1
D13: ANALISIS DE PRECIOS UNITARIOS
L15: FECHA | M15: DD | N15: MM | O15: AA
M16: 27 | N16: 4 | O16: 2026
C17: ÍTEMS DE LA PROPUESTA ECONÓMICA | I17: ÍTEMS NO PREVISTOS
C21: DATOS ESPECÍFICOS
C23: ÍTEM | D23: DESCRIPCIÓN | M23: UNIDAD | O23: CANTIDAD
C24: =+'PRESUPUESTO OFICIAL (Entidad)'!C32 -> 6.1 | D24: =+'PRESUPUESTO OFICIAL (Entidad)'!G32 -> SUMINISTRO, TRANSPORTE E INSTALACION SALIDA TOMACORRIENTE NORMAL DOBLE PT EN TUBERIA CONDUIT EMT 1/2", CABLE No 12 AWG | M24: =+'PRESUPUESTO OFICIAL (Entidad)'!H32 -> UND | O24: 1
C25: I. EQUIPO
C28: DESCRIPCIÓN | H28: MARCA | J28: TIPO | L28: TARIFA/HORA | M28: RENDIMIENTO | O28: Vr. UNITARIO
O29: =+L29*M29 -> 0
O30: =+L30*M30 -> 0
O31: =+L31*M31 -> 0
O32: =+L32*M32 -> 0
O33: =+L33*M33 -> 0
C35: HERRRAMIENTA MENOR | L35: 0.05 | O35: =+O74*L35 -> 5348.1
C36: SUBTOTAL $ | O36: =ROUND(SUM(O29:O35),0) -> 5348
C37: II. MATERIALES
C40: DESCRIPCIÓN | K40: UNIDAD | L40: CANTIDAD | M40: PRECIO UNIT. | O40: Vr. UNITARIO
C41: TOMACORRIENTE DOBLE CON POLO A TIERRA NEMA 5-15-R | K41: UND | L41: 1 | M41: 17275 | O41: =+M41*L41 -> 17275
C42: TUBO CONDUIT GALVANIZADA EMT 1/2" | K42: M | L42: 5 | M42: 5100 | O42: =+M42*L42 -> 25500
C43: SUMINISTRO DE CINTA AISLANTE SCOTH | K43: ML | L43: 0.05 | M43: 21306 | O43: =+M43*L43 -> 1065.3
C44: CHAZO Y TORNILLO | K44: UND | L44: 4 | M44: 286 | O44: =+M44*L44 -> 1144
C45: CABLE 12 AWG HFFR LS 600V | K45: M | L45: 15.5 | M45: 2520 | O45: =+M45*L45 -> 39060
C46: UNION EMT 1/2" | K46: UND | L46: 1 | M46: 931 | O46: =+M46*L46 -> 931
C47: TERMINAL EMT 1/2" | K47: UND | L47: 2 | M47: 1630 | O47: =+M47*L47 -> 3260
C48: CURVA EMT 1/2" | K48: UND | L48: 1 | M48: 1320 | O48: =+M48*L48 -> 1320
C49: CAJA RECTANGULAR RAWELT 1/2" 2X4 | K49: UND | L49: 1 | M49: 7859 | O49: =+M49*L49 -> 7859
C50: CONECTOR RESORTE ROJO-AMR 3M | K50: UND | L50: 3 | M50: 1403 | O50: =+M50*L50 -> 4209
C51: ABRAZADERA METALICA DOBLE ALA TUBO EMT 1/2" | K51: UND | L51: 2 | M51: 643 | O51: =+M51*L51 -> 1286
C52: SUBTOTAL $ | O52: =ROUND(SUM(O41:O51),0) -> 102909
C53: III. TRANSPORTES
C56: MATERIAL | J56: VOL. o PESO | K56: DISTANCIA | L56: M3 o Ton/Km | M56: TARIFA | O56: Vr. UNITARIO
C57: Acarreo interno | J57: 1 | K57: 1 | L57: =+J57*K57 -> 1 | M57: 1897 | O57: =+M57*L57 -> 1897
L58: =+J58*K58 -> 0 | O58: =+M58*L58 -> 0
...

Sheet APU 6.2
C3: Formulario 1 - Propuesta económica - Documento tipo de mínima cuantía de obra pública de infraestructura de transporte - versión 2
C4: Código | D4: CCE-EICP-FM-32 | E4: Versión | F4: 2
D8: INSTITUTO DE FINANCIAMIENTO PROMOCION Y DESARROLLO DE CALDAS
L9: VERSIÓN
D10: INFI I.P - XXXX - 2026
L11: PÁGINA | M11: 1 | N11: DE | O11: 1
D13: ANALISIS DE PRECIOS UNITARIOS
L15: FECHA | M15: DD | N15: MM | O15: AA
M16: 27 | N16: 4 | O16: 2026
C17: ÍTEMS DE LA PROPUESTA ECONÓMICA | I17: ÍTEMS NO PREVISTOS
C21: DATOS ESPECÍFICOS
C23: ÍTEM | D23: DESCRIPCIÓN | M23: UNIDAD | O23: CANTIDAD
C24: =+'PRESUPUESTO OFICIAL (Entidad)'!C33 -> 6.2 | D24: =+'PRESUPUESTO OFICIAL (Entidad)'!G33 -> SUMINISTRO, TRANSPORTE E INSTALACION SALIDA PARA LUMINARIA CUADRADA 60X60, INCLUYE LUMINARIA, TOMACORRIENTE NORMAL DOBLE PT EN TUBERIA CONDUIT EMT 1/2", CABLE No 14 AWG, CLAVIJA Y CABLE ENCUAHCETADO | M24: =+'PRESUPUESTO OFICIAL (Entidad)'!H33 -> UND | O24: 1
C25: I. EQUIPO
C28: DESCRIPCIÓN | H28: MARCA | J28: TIPO | L28: TARIFA/HORA | M28: RENDIMIENTO | O28: Vr. UNITARIO
O29: =+L29*M29 -> 0
O30: =+L30*M30 -> 0
O31: =+L31*M31 -> 0
O32: =+L32*M32 -> 0
O33: =+L33*M33 -> 0
C35: HERRRAMIENTA MENOR | L35: 0.05 | O35: =+O74*L35 -> 2674.05
C36: SUBTOTAL $ | O36: =ROUND(SUM(O29:O35),0) -> 2674
C37: II. MATERIALES
C40: DESCRIPCIÓN | K40: UNIDAD | L40: CANTIDAD | M40: PRECIO UNIT. | O40: Vr. UNITARIO
C41: ACCESORIOS DE FIJACION | K41: UND | L41: 4 | M41: 2562 | O41: =+M41*L41 -> 10248
C42: CAJA OCTOGONAL GALVANIZADA (CAJA EMP GALV.OCTAGONAL 4") | K42: UND | L42: 1 | M42: 2672 | O42: =+M42*L42 -> 2672
C43: PRENSA ESTOPA ALUMINIO 3/4" NPT | K43: UND | L43: 1 | M43: 9220 | O43: =+M43*L43 -> 9220
C44: TAPA CIEGA CON IMPACTO GALVANIZADA CUADRADA 4X4" | K44: UND | L44: 1 | M44: 1560 | O44: =+M44*L44 -> 1560
C45: SUMINISTRO DE CINTA AISLANTE SCOTH | K45: ML | L45: 0.2 | M45: 21306 | O45: =+M45*L45 -> 4261.2
C46: CABLE 12 AWG HFFR LS 600V | K46: ML | L46: 9.45 | M46: 2693 | O46: =+M46*L46 -> 25448.85
C47: CABLE ENCAUCHETADO 3X14 AWG | K47: ML | L47: 1.5 | M47: 7176 | O47: =+M47*L47 -> 10764
C48: CONECTOR RESORTE ROJO-AMR 3M | K48: UND | L48: 3 | M48: 1403 | O48: =+M48*L48 -> 4209
C49: TUBO CONDUIT SCH40 3/4" | K49: ML | L49: 3 | M49: 4594 | O49: =+M49*L49 -> 13782
C50: TERMINAL PVC SCH40 3/4" | K50: UND | L50: 2 | M50: 1300 | O50: =+M50*L50 -> 2600
C51: LUMINARIA CUADRADA DE 60X60 | K51: UND | L51: 1 | M51: 63800 | O51: =+M51*L51 -> 63800
C52: SUBTOTAL $ | O52: =ROUND(SUM(O41:O51),0) -> 148565
C53: III. TRANSPORTES
C56: MATERIAL | J56: VOL. o PESO | K56: DISTANCIA | L56: M3 o Ton/Km | M56: TARIFA | O56: Vr. UNITARIO
C57: Acarreo interno | J57: 1 | K57: 1 | L57: =+J57*K57 -> 1 | M57: 1897 | O57: =+M57*L57 -> 1897
L58: =+J58*K58 -> 0 | O58: =+M58*L58 -> 0
...

Sheet APU 6.3
C3: Formulario 1 - Propuesta económica - Documento tipo de mínima cuantía de obra pública de infraestructura de transporte - versión 2
C4: Código | D4: CCE-EICP-FM-32 | E4: Versión | F4: 2
D8: INSTITUTO DE FINANCIAMIENTO PROMOCION Y DESARROLLO DE CALDAS
L9: VERSIÓN
D10: INFI I.P - XXXX - 2026
L11: PÁGINA | M11: 1 | N11: DE | O11: 1
D13: ANALISIS DE PRECIOS UNITARIOS
L15: FECHA | M15: DD | N15: MM | O15: AA
M16: 27 | N16: 4 | O16: 2026
C17: ÍTEMS DE LA PROPUESTA ECONÓMICA | I17: ÍTEMS NO PREVISTOS
C21: DATOS ESPECÍFICOS
C23: ÍTEM | D23: DESCRIPCIÓN | M23: UNIDAD | O23: CANTIDAD
C24: =+'PRESUPUESTO OFICIAL (Entidad)'!C34 -> 6.3 | D24: =+'PRESUPUESTO OFICIAL (Entidad)'!G34 -> SUMINISTRO, TRANSPORTE E INSTALACION SALIDA PARA LUMINARIA CUADRADA 30X30, INCLUYE LUMINARIA, TOMACORRIENTE NORMAL DOBLE PT EN TUBERIA CONDUIT EMT 1/2", CABLE No 14 AWG, CLAVIJA Y CABLE ENCUAHCETADO | M24: =+'PRESUPUESTO OFICIAL (Entidad)'!H34 -> UND | O24: 1
C25: I. EQUIPO
C28: DESCRIPCIÓN | H28: MARCA | J28: TIPO | L28: TARIFA/HORA | M28: RENDIMIENTO | O28: Vr. UNITARIO
O29: =+L29*M29 -> 0
O30: =+L30*M30 -> 0
O31: =+L31*M31 -> 0
O32: =+L32*M32 -> 0
O33: =+L33*M33 -> 0
C35: HERRRAMIENTA MENOR | L35: 0.05 | O35: =+O74*L35 -> 2674.05
C36: SUBTOTAL $ | O36: =ROUND(SUM(O29:O35),0) -> 2674
C37: II. MATERIALES
C40: DESCRIPCIÓN | K40: UNIDAD | L40: CANTIDAD | M40: PRECIO UNIT. | O40: Vr. UNITARIO
C41: ACCESORIOS DE FIJACION | K41: UND | L41: 4 | M41: 2562 | O41: =+M41*L41 -> 10248
C42: CAJA OCTOGONAL GALVANIZADA (CAJA EMP GALV.OCTAGONAL 4") | K42: UND | L42: 1 | M42: 2672 | O42: =+M42*L42 -> 2672
C43: PRENSA ESTOPA ALUMINIO 3/4" NPT | K43: UND | L43: 1 | M43: 9220 | O43: =+M43*L43 -> 9220
C44: TAPA CIEGA CON IMPACTO GALVANIZADA CUADRADA 4X4" | K44: UND | L44: 1 | M44: 1560 | O44: =+M44*L44 -> 1560
C45: SUMINISTRO DE CINTA AISLANTE SCOTH | K45: ML | L45: 0.2 | M45: 21306 | O45: =+M45*L45 -> 4261.2
C46: CABLE 12 AWG HFFR LS 600V | K46: ML | L46: 9.45 | M46: 2693 | O46: =+M46*L46 -> 25448.85
C47: CABLE ENCAUCHETADO 3X14 AWG | K47: ML | L47: 1.5 | M47: 7176 | O47: =+M47*L47 -> 10764
C48: CONECTOR RESORTE ROJO-AMR 3M | K48: UND | L48: 3 | M48: 1403 | O48: =+M48*L48 -> 4209
C49: TUBO CONDUIT SCH40 3/4" | K49: ML | L49: 3 | M49: 4594 | O49: =+M49*L49 -> 13782
C50: TERMINAL PVC SCH40 3/4" | K50: UND | L50: 2 | M50: 1300 | O50: =+M50*L50 -> 2600
C51: LUMINARIA CUADRADA DE 30X30 | K51: UND | L51: 1 | M51: 57539 | O51: =+M51*L51 -> 57539
C52: SUBTOTAL $ | O52: =ROUND(SUM(O41:O51),0) -> 142304
C53: III. TRANSPORTES
C56: MATERIAL | J56: VOL. o PESO | K56: DISTANCIA | L56: M3 o Ton/Km | M56: TARIFA | O56: Vr. UNITARIO
C57: Acarreo interno | J57: 1 | K57: 1 | L57: =+J57*K57 -> 1 | M57: 1897 | O57: =+M57*L57 -> 1897
L58: =+J58*K58 -> 0 | O58: =+M58*L58 -> 0
...

Sheet APU 6.4
C3: Formulario 1 - Propuesta económica - Documento tipo de mínima cuantía de obra pública de infraestructura de transporte - versión 2
C4: Código | D4: CCE-EICP-FM-32 | E4: Versión | F4: 2
D8: INSTITUTO DE FINANCIAMIENTO PROMOCION Y DESARROLLO DE CALDAS
L9: VERSIÓN
D10: INFI I.P - XXXX - 2026
L11: PÁGINA | M11: 1 | N11: DE | O11: 1
D13: ANALISIS DE PRECIOS UNITARIOS
L15: FECHA | M15: DD | N15: MM | O15: AA
M16: 27 | N16: 4 | O16: 2026
C17: ÍTEMS DE LA PROPUESTA ECONÓMICA | I17: ÍTEMS NO PREVISTOS
C21: DATOS ESPECÍFICOS
C23: ÍTEM | D23: DESCRIPCIÓN | M23: UNIDAD | O23: CANTIDAD
C24: =+'PRESUPUESTO OFICIAL (Entidad)'!C35 -> 6.4 | D24: =+'PRESUPUESTO OFICIAL (Entidad)'!G35 -> SUMINISTRO, TRANSPORTE E INSTALACION SALIDA INTERRUPTOR DOBLE EN TUBERIA CONDUIT EMT 1/2", CABLE No 14 AWG | M24: =+'PRESUPUESTO OFICIAL (Entidad)'!H35 -> UND | O24: 1
C25: I. EQUIPO
C28: DESCRIPCIÓN | H28: MARCA | J28: TIPO | L28: TARIFA/HORA | M28: RENDIMIENTO | O28: Vr. UNITARIO
O29: =+L29*M29 -> 0
O30: =+L30*M30 -> 0
O31: =+L31*M31 -> 0
O32: =+L32*M32 -> 0
O33: =+L33*M33 -> 0
C35: HERRRAMIENTA MENOR | L35: 0.05 | O35: =+O74*L35 -> 5080.7
C36: SUBTOTAL $ | O36: =ROUND(SUM(O29:O35),0) -> 5081
C37: II. MATERIALES
C40: DESCRIPCIÓN | K40: UNIDAD | L40: CANTIDAD | M40: PRECIO UNIT. | O40: Vr. UNITARIO
C41: INTERRUPTOR DOBLE | K41: UND | L41: 1 | M41: 10623 | O41: =+M41*L41 -> 10623
C42: TUBO CONDUIT GALVANIZADA EMT 1/2" | K42: M | L42: 5 | M42: 5565 | O42: =+M42*L42 -> 27825
C43: SUMINISTRO DE CINTA AISLANTE SCOTH | K43: ML | L43: 0.05 | M43: 21306 | O43: =+M43*L43 -> 1065.3
C44: CHAZO Y TORNILLO | K44: UND | L44: 4 | M44: 286 | O44: =+M44*L44 -> 1144
C45: CABLE 12 AWG HFFR LS 600V | K45: M | L45: 15.5 | M45: 2520 | O45: =+M45*L45 -> 39060
C46: UNION EMT 1/2" | K46: UND | L46: 1 | M46: 931 | O46: =+M46*L46 -> 931
C47: TERMINAL EMT 1/2" | K47: UND | L47: 2 | M47: 1630 | O47: =+M47*L47 -> 3260
C48: CURVA EMT 1/2" | K48: UND | L48: 1 | M48: 1320 | O48: =+M48*L48 -> 1320
C49: CAJA RECTANGULAR RAWELT 1/2" 2X4 | K49: UND | L49: 1 | M49: 7859 | O49: =+M49*L49 -> 7859
C50: CONECTOR RESORTE ROJO-AMR 3M | K50: UND | L50: 3 | M50: 1403 | O50: =+M50*L50 -> 4209
C51: ABRAZADERA METALICA DOBLE ALA TUBO EMT 1/2" | K51: UND | L51: 2 | M51: 643 | O51: =+M51*L51 -> 1286
C52: SUBTOTAL $ | O52: =ROUND(SUM(O41:O51),0) -> 98582
C53: III. TRANSPORTES
C56: MATERIAL | J56: VOL. o PESO | K56: DISTANCIA | L56: M3 o Ton/Km | M56: TARIFA | O56: Vr. UNITARIO
C57: Acarreo interno | J57: 1 | K57: 1 | L57: =+J57*K57 -> 1 | M57: 1897 | O57: =+M57*L57 -> 1897
L58: =+J58*K58 -> 0 | O58: =+M58*L58 -> 0
...

Sheet APU 6.5
C3: Formulario 1 - Propuesta económica - Documento tipo de mínima cuantía de obra pública de infraestructura de transporte - versión 2
C4: Código | D4: CCE-EICP-FM-32 | E4: Versión | F4: 2
D8: INSTITUTO DE FINANCIAMIENTO PROMOCION Y DESARROLLO DE CALDAS
L9: VERSIÓN
D10: INFI I.P - XXXX - 2026
L11: PÁGINA | M11: 1 | N11: DE | O11: 1
D13: ANALISIS DE PRECIOS UNITARIOS
L15: FECHA | M15: DD | N15: MM | O15: AA
M16: 27 | N16: 4 | O16: 2026
C17: ÍTEMS DE LA PROPUESTA ECONÓMICA | I17: ÍTEMS NO PREVISTOS
C21: DATOS ESPECÍFICOS
C23: ÍTEM | D23: DESCRIPCIÓN | M23: UNIDAD | O23: CANTIDAD
C24: =+'PRESUPUESTO OFICIAL (Entidad)'!C36 -> 6.5 | D24: =+'PRESUPUESTO OFICIAL (Entidad)'!G36 -> SUMINISTRO, TRANSPORTE E INSTALACION SALIDA INTERRUPTOR SENCILLO EN TUBERIA CONDUIT EMT 1/2", CABLE No 14 AWG | M24: =+'PRESUPUESTO OFICIAL (Entidad)'!H36 -> UND | O24: 1
C25: I. EQUIPO
C28: DESCRIPCIÓN | H28: MARCA | J28: TIPO | L28: TARIFA/HORA | M28: RENDIMIENTO | O28: Vr. UNITARIO
O29: =+L29*M29 -> 0
O30: =+L30*M30 -> 0
O31: =+L31*M31 -> 0
O32: =+L32*M32 -> 0
O33: =+L33*M33 -> 0
C35: HERRRAMIENTA MENOR | L35: 0.05 | O35: =+O74*L35 -> 2674.05
C36: SUBTOTAL $ | O36: =ROUND(SUM(O29:O35),0) -> 2674
C37: II. MATERIALES
C40: DESCRIPCIÓN | K40: UNIDAD | L40: CANTIDAD | M40: PRECIO UNIT. | O40: Vr. UNITARIO
C41: INTERRUPTOR SENCILLO | K41: UND | L41: 1 | M41: 10016 | O41: =+M41*L41 -> 10016
C42: TUBO CONDUIT GALVANIZADA EMT 1/2" | K42: M | L42: 5 | M42: 5565 | O42: =+M42*L42 -> 27825
C43: SUMINISTRO DE CINTA AISLANTE SCOTH | K43: ML | L43: 0.05 | M43: 21306 | O43: =+M43*L43 -> 1065.3
C44: CHAZO Y TORNILLO | K44: UND | L44: 4 | M44: 286 | O44: =+M44*L44 -> 1144
C45: CABLE 12 AWG HFFR LS 600V | K45: M | L45: 15.5 | M45: 2520 | O45: =+M45*L45 -> 39060
C46: UNION EMT 1/2" | K46: UND | L46: 1 | M46: 931 | O46: =+M46*L46 -> 931
C47: TERMINAL EMT 1/2" | K47: UND | L47: 2 | M47: 1630 | O47: =+M47*L47 -> 3260
C48: CURVA EMT 1/2" | K48: UND | L48: 1 | M48: 1320 | O48: =+M48*L48 -> 1320
C49: CAJA RECTANGULAR RAWELT 1/2" 2X4 | K49: UND | L49: 1 | M49: 7859 | O49: =+M49*L49 -> 7859
C50: CONECTOR RESORTE ROJO-AMR 3M | K50: UND | L50: 3 | M50: 1403 | O50: =+M50*L50 -> 4209
C51: ABRAZADERA METALICA DOBLE ALA TUBO EMT 1/2" | K51: UND | L51: 2 | M51: 643
C52: SUBTOTAL $ | O52: =ROUND(SUM(O41:O51),0) -> 96689
C53: III. TRANSPORTES
C56: MATERIAL | J56: VOL. o PESO | K56: DISTANCIA | L56: M3 o Ton/Km | M56: TARIFA | O56: Vr. UNITARIO
C57: Acarreo interno | J57: 1 | K57: 1 | L57: =+J57*K57 -> 1 | M57: 1897 | O57: =+M57*L57 -> 1897
L58: =+J58*K58 -> 0 | O58: =+M58*L58 -> 0
...

Sheet APU 7.1
C3: Formulario 1 - Propuesta económica - Documento tipo de mínima cuantía de obra pública de infraestructura de transporte - versión 2
C4: Código | D4: CCE-EICP-FM-32 | E4: Versión | F4: 2
D8: INSTITUTO DE FINANCIAMIENTO PROMOCION Y DESARROLLO DE CALDAS
L9: VERSIÓN
D10: INFI I.P - XXXX - 2026
L11: PÁGINA | M11: 1 | N11: DE | O11: 1
D13: ANALISIS DE PRECIOS UNITARIOS
L15: FECHA | M15: DD | N15: MM | O15: AA
M16: 27 | N16: 4 | O16: 2026
C17: ÍTEMS DE LA PROPUESTA ECONÓMICA | I17: ÍTEMS NO PREVISTOS
C21: DATOS ESPECÍFICOS
C23: ÍTEM | D23: DESCRIPCIÓN | M23: UNIDAD | O23: CANTIDAD
C24: =+'PRESUPUESTO OFICIAL (Entidad)'!C38 -> 7.1 | D24: =+'PRESUPUESTO OFICIAL (Entidad)'!G38 -> SUMINISTRO, TRANSPORTE E INSTALACION DE GABINETE DE PISO CON RODACHINES 150X60X60 CMS | M24: =+'PRESUPUESTO OFICIAL (Entidad)'!H38 -> UND | O24: 1
C25: I. EQUIPO
C28: DESCRIPCIÓN | H28: MARCA | J28: TIPO | L28: TARIFA/HORA | M28: RENDIMIENTO | O28: Vr. UNITARIO
O29: =+L29*M29 -> 0
O30: =+L30*M30 -> 0
O31: =+L31*M31 -> 0
O32: =+L32*M32 -> 0
O33: =+L33*M33 -> 0
