Workbook

Sheet ANEXO1
A2: ANEXO 1 - ANALISIS DE COTIZACIONES 2026
B3: REALIZAR LAS OBRAS DE MANTENIMIENTO, ADECUACIÓN, REMODELACIÓN Y MEJORAMIENTO DE LA INFRAESTRUCTURA FÍSICA, INCLUYENDO REDES ELÉCTRICAS, HIDRÁULICAS Y DEMÁS INSTALACIONES TÉCNICAS ASOCIADAS, EN SEDES DEL NIVEL CENTRAL DE LA FISCALÍA GENERAL DE LA NACIÓN – FASE V, BAJO LA MODALIDAD DE PRECIOS UNITARIOS SIN FÓRMULA DE REAJUSTE.”
I5: COTIZACIÓN 1 | L5: COTIZACIÓN 2 | O5: COTIZACIÓN 3 | R5: ANALISIS DE VALORES | Z5: ANALISIS COTIZACIONES 2026
A6: Nº | B6: ÍTEM DE PAGO | C6: ESPECIFICACIONES | E6: DESCRIPCIÓN | F6: UND. | G6: CANTIDAD | I6: INFINIA SAS | L6: TRE-D INGENIERIA Y SOLUCIONES S.A.S. | O6: ALCALA SAS
I7: VALOR UNITARIO | J7: VALOR TOTAL | L7: VALOR UNITARIO | M7: VALOR TOTAL | O7: VALOR UNITARIO | P7: VALOR TOTAL | R7: COTIZACION MAS BAJA | S7: COTIZACION MAS ALTA | T7: PROMEDIO | U7: PORCENTAJE DIFERENCIAL (PROMEDIO/BAJA) | V7: MEDIA ARITMETICA BAJA | Z7: VALOR UNITARIO | AA7: VALOR TOTAL
C8: GENERAL | D8: PARTICULAR | U8: 25 % < / >
E9: PRELIMINARES
A10: 1.1 | E10: Demolición muros en mampostería | F10: M2 | G10: 1 | I10: 54000 | J10: =ROUND((I10*$G10),2) -> 54000 | L10: 33885.747 | M10: =ROUND((L10*$G10),2) -> 33885.75 | O10: 69351.261 | P10: =ROUND((O10*$G10),2) -> 69351.26 | R10: =ROUND(MIN(I10,L10),2) -> 33885.75 | S10: =ROUND(AVERAGE(I10,L10),2) -> 43942.87 | T10: =ROUND(MAX(I10,L10),2) -> 54000 | U10: =+(T10/R10)-1 -> 0.59359023 | V10: =+ROUND(AVERAGE(R10,S10),2) -> 38914.31 | Z10: =V10 -> 38914.31 | AA10: =ROUND((Z10*$G10),2) -> 38914.31
A11: 1.2 | E11: Desmonte de manto asfaltico existente | F11: M2 | G11: 1 | I11: 38400 | J11: =ROUND((I11*$G11),2) -> 38400 | L11: 19273.917 | M11: =ROUND((L11*$G11),2) -> 19273.92 | O11: 27090.336 | P11: =ROUND((O11*$G11),2) -> 27090.34 | R11: =ROUND(MIN(L11,O11),2) -> 19273.92 | S11: =ROUND(AVERAGE(L11,O11),2) -> 23182.13 | T11: =ROUND(MAX(L11,O11),2) -> 27090.34 | U11: =+(T11/R11)-1 -> 0.40554386 | V11: =+ROUND(AVERAGE(R11,S11),2) -> 21228.03 | Z11: =V11 -> 21228.03 | AA11: =ROUND((Z11*$G11),2) -> 21228.03
A12: 1.3 | E12: Demolición de mortero de nivelación existente | F12: M2 | G12: 1 | I12: 21600 | J12: =ROUND((I12*$G12),2) -> 21600 | L12: 19040.256 | M12: =ROUND((L12*$G12),2) -> 19040.26 | O12: 21672.269 | P12: =ROUND((O12*$G12),2) -> 21672.27 | R12: =ROUND(MIN(I12,L12,O12),2) -> 19040.26 | S12: =ROUND(AVERAGE(I12,L12,O12),2) -> 20770.84 | T12: =ROUND(MAX(I12,L12,O12),2) -> 21672.27 | U12: =+(T12/R12)-1 -> 0.13823393 | V12: =+ROUND(AVERAGE(R12,S12),2) -> 19905.55 | Z12: =T12 -> 21672.27 | AA12: =ROUND((Z12*$G12),2) -> 21672.27
A13: 1.4 | E13: Demolición de medias cañas | F13: ML | G13: 1 | I13: 10800 | J13: =ROUND((I13*$G13),2) -> 10800 | L13: 14282.974 | M13: =ROUND((L13*$G13),2) -> 14282.97 | O13: 16254.202 | P13: =ROUND((O13*$G13),2) -> 16254.2 | R13: =ROUND(MIN(I13,L13,O13),2) -> 10800 | S13: =ROUND(AVERAGE(I13,L13,O13),2) -> 13779.06 | T13: =ROUND(MAX(I13,L13,O13),2) -> 16254.2 | U13: =+(T13/R13)-1 -> 0.50501852 | V13: =+ROUND(AVERAGE(R13,S13),2) -> 12289.53 | Z13: =V13 -> 12289.53 | AA13: =ROUND((Z13*$G13),2) -> 12289.53
A14: 1.5 | E14: Desmonte de domos acrílicos | F14: UN | G14: 1 | I14: 144000 | J14: =ROUND((I14*$G14),2) -> 144000 | L14: 16158.441 | M14: =ROUND((L14*$G14),2) -> 16158.44 | O14: 43344.538 | P14: =ROUND((O14*$G14),2) -> 43344.54 | R14: =ROUND(MIN(L14),2) -> 16158.44 | S14: =ROUND(AVERAGE(L14),2) -> 16158.44 | T14: =ROUND(MAX(L14),2) -> 16158.44 | U14: =+(T14/R14)-1 -> 0 | V14: =+ROUND(AVERAGE(R14,S14),2) -> 16158.44 | Z14: =V14 -> 16158.44 | AA14: =ROUND((Z14*$G14),2) -> 16158.44
A15: 1.6 | E15: Desmonte de flanches galvanizados desde 0.20 cm hasta 0.80 cm (incluye disposición final) | F15: ML | G15: 1 | I15: 33600 | J15: =ROUND((I15*$G15),2) -> 33600 | L15: 11054.995 | M15: =ROUND((L15*$G15),2) -> 11054.99 | O15: 13003.361 | P15: =ROUND((O15*$G15),2) -> 13003.36 | R15: =ROUND(MIN(L15,O15),2) -> 11054.99 | S15: =ROUND(AVERAGE(L15,O15),2) -> 12029.18 | T15: =ROUND(MAX(L15,O15),2) -> 13003.36 | U15: =+(T15/R15)-1 -> 0.17624349 | V15: =+ROUND(AVERAGE(R15,S15),2) -> 11542.09 | Z15: =T15 -> 13003.36 | AA15: =ROUND((Z15*$G15),2) -> 13003.36
A16: 1.7 | E16: Desmonte de equipos de extracción | F16: UN | G16: 1 | I16: 114000 | J16: =ROUND((I16*$G16),2) -> 114000 | L16: 226078.47 | M16: =ROUND((L16*$G16),2) -> 226078.47 | O16: 159291.18 | P16: =ROUND((O16*$G16),2) -> 159291.18 | R16: =ROUND(MIN(I16,O16),2) -> 114000 | S16: =ROUND(AVERAGE(I16,O16),2) -> 136645.59 | T16: =ROUND(MAX(I16,O16),2) -> 159291.18 | U16: =+(T16/R16)-1 -> 0.39729105 | V16: =+ROUND(AVERAGE(R16,S16),2) -> 125322.8 | Z16: =V16 -> 125322.8 | AA16: =ROUND((Z16*$G16),2) -> 125322.8
A17: 1.8 | E17: Desmonte y retiro de tapete / alfombra existente incluye disposición final el sitio autorizado | F17: M2 | G17: 1 | I17: 18000 | J17: =ROUND((I17*$G17),2) -> 18000 | L17: 22253.4 | M17: =ROUND((L17*$G17),2) -> 22253.4 | O17: 37926.471 | P17: =ROUND((O17*$G17),2) -> 37926.47 | R17: =ROUND(MIN(I17,L17),2) -> 18000 | S17: =ROUND(AVERAGE(I17,L17),2) -> 20126.7 | T17: =ROUND(MAX(I17,L17),2) -> 22253.4 | U17: =+(T17/R17)-1 -> 0.2363 | V17: =+ROUND(AVERAGE(R17,S17),2) -> 19063.35 | Z17: =T17 -> 22253.4 | AA17: =ROUND((Z17*$G17),2) -> 22253.4
A18: 1.9 | E18: Demolición de piso existente | F18: M2 | G18: 1 | I18: 45600 | J18: =ROUND((I18*$G18),2) -> 45600 | L18: 16999.125 | M18: =ROUND((L18*$G18),2) -> 16999.13 | O18: 21672.269 | P18: =ROUND((O18*$G18),2) -> 21672.27 | R18: =ROUND(MIN(L18,O18),2) -> 16999.13 | S18: =ROUND(AVERAGE(L18,O18),2) -> 19335.7 | T18: =ROUND(MAX(L18,O18),2) -> 21672.27 | U18: =+(T18/R18)-1 -> 0.27490466 | V18: =+ROUND(AVERAGE(R18,S18),2) -> 18167.42 | Z18: =V18 -> 18167.42 | AA18: =ROUND((Z18*$G18),2) -> 18167.42
A19: 1.1 | E19: Desmonte de guarda escoba | F19: ML | G19: 1 | I19: 10000 | J19: =ROUND((I19*$G19),2) -> 10000 | L19: 5512.6617 | M19: =ROUND((L19*$G19),2) -> 5512.66 | O19: 10836.134 | P19: =ROUND((O19*$G19),2) -> 10836.13 | R19: =ROUND(MIN(I19,L19,O19),2) -> 5512.66 | S19: =ROUND(AVERAGE(I19,L19,O19),2) -> 8782.93 | T19: =ROUND(MAX(I19,L19,O19),2) -> 10836.13 | U19: =+(T19/R19)-1 -> 0.96568081 | V19: =+ROUND(AVERAGE(R19,S19),2) -> 7147.8 | Z19: =V19 -> 7147.8 | AA19: =ROUND((Z19*$G19),2) -> 7147.8
A20: 1.11 | E20: Demolición muros en Dry wall | F20: M2 | G20: 1 | I20: 26400 | J20: =ROUND((I20*$G20),2) -> 26400 | L20: 18477.74 | M20: =ROUND((L20*$G20),2) -> 18477.74 | O20: 32508.403 | P20: =ROUND((O20*$G20),2) -> 32508.4 | R20: =ROUND(MIN(I20,L20),2) -> 18477.74 | S20: =ROUND(AVERAGE(I20,L20),2) -> 22438.87 | T20: =ROUND(MAX(I20,L20),2) -> 26400 | U20: =+(T20/R20)-1 -> 0.42874616 | V20: =+ROUND(AVERAGE(R20,S20),2) -> 20458.31 | Z20: =V20 -> 20458.31 | AA20: =ROUND((Z20*$G20),2) -> 20458.31
A21: 1.12 | E21: Demolición de cielo raso | F21: M2 | G21: 1 | I21: 24000 | J21: =ROUND((I21*$G21),2) -> 24000 | L21: 16964.509 | M21: =ROUND((L21*$G21),2) -> 16964.51 | O21: 16254.202 | P21: =ROUND((O21*$G21),2) -> 16254.2 | R21: =ROUND(MIN(L21,O21),2) -> 16254.2 | S21: =ROUND(AVERAGE(L21,O21),2) -> 16609.36 | T21: =ROUND(MAX(L21,O21),2) -> 16964.51 | U21: =+(T21/R21)-1 -> 0.04370009 | V21: =+ROUND(AVERAGE(R21,S21),2) -> 16431.78 | Z21: =T21 -> 16964.51 | AA21: =ROUND((Z21*$G21),2) -> 16964.51
A22: 1.13 | E22: Desmonte de marcos y puertas | F22: UN | G22: 1 | I22: 80000 | J22: =ROUND((I22*$G22),2) -> 80000 | L22: 24938.644 | M22: =ROUND((L22*$G22),2) -> 24938.64 | O22: 43344.538 | P22: =ROUND((O22*$G22),2) -> 43344.54 | R22: =ROUND(MIN(L22,O22),2) -> 24938.64 | S22: =ROUND(AVERAGE(L22,O22),2) -> 34141.59 | T22: =ROUND(MAX(L22,O22),2) -> 43344.54 | U22: =+(T22/R22)-1 -> 0.73804746 | V22: =+ROUND(AVERAGE(R22,S22),2) -> 29540.12 | Z22: =V22 -> 29540.12 | AA22: =ROUND((Z22*$G22),2) -> 29540.12
A23: 1.14 | E23: Regata instalación sanitaria | F23: ML | G23: 1 | I23: 25000 | J23: =ROUND((I23*$G23),2) -> 25000 | L23: 17567.823 | M23: =ROUND((L23*$G23),2) -> 17567.82 | O23: 17337.815 | P23: =ROUND((O23*$G23),2) -> 17337.82 | R23: =ROUND(MIN(L23,O23),2) -> 17337.82 | S23: =ROUND(AVERAGE(L23,O23),2) -> 17452.82 | T23: =ROUND(MAX(L23,O23),2) -> 17567.82 | U23: =+(T23/R23)-1 -> 0.013265797 | V23: =+ROUND(AVERAGE(R23,S23),2) -> 17395.32 | Z23: =T23 -> 17567.82 | AA23: =ROUND((Z23*$G23),2) -> 17567.82
A24: 1.15 | E24: Sellamiento punto hidráulico | F24: UN | G24: 1 | I24: 42000 | J24: =ROUND((I24*$G24),2) -> 42000 | L24: 21427.552 | M24: =ROUND((L24*$G24),2) -> 21427.55 | O24: 13003.361 | P24: =ROUND((O24*$G24),2) -> 13003.36 | R24: =ROUND(MIN(L24,O24),2) -> 13003.36 | S24: =ROUND(AVERAGE(L24,O24),2) -> 17215.46 | T24: =ROUND(MAX(L24,O24),2) -> 21427.55 | U24: =+(T24/R24)-1 -> 0.64784717 | V24: =+ROUND(AVERAGE(R24,S24),2) -> 15109.41 | Z24: =V24 -> 15109.41 | AA24: =ROUND((Z24*$G24),2) -> 15109.41
A25: 1.16 | E25: Sellamiento punto sanitario | F25: UN | G25: 1 | I25: 42000 | J25: =ROUND((I25*$G25),2) -> 42000 | L25: 25370.112 | M25: =ROUND((L25*$G25),2) -> 25370.11 | O25: 21672.269 | P25: =ROUND((O25*$G25),2) -> 21672.27 | R25: =ROUND(MIN(L25,O25),2) -> 21672.27 | S25: =ROUND(AVERAGE(L25,O25),2) -> 23521.19 | T25: =ROUND(MAX(L25,O25),2) -> 25370.11 | U25: =+(T25/R25)-1 -> 0.17062541 | V25: =+ROUND(AVERAGE(R25,S25),2) -> 22596.73 | Z25: =T25 -> 25370.11 | AA25: =ROUND((Z25*$G25),2) -> 25370.11
A26: 1.17 | E26: Desmonte de puesto de trabajo | F26: UN | G26: 1 | I26: 150000 | J26: =ROUND((I26*$G26),2) -> 150000 | L26: 31152.287 | M26: =ROUND((L26*$G26),2) -> 31152.29 | O26: 96441.597 | P26: =ROUND((O26*$G26),2) -> 96441.6 | R26: =ROUND(MIN(L26),2) -> 31152.29 | S26: =ROUND(AVERAGE(L26),2) -> 31152.29 | T26: =ROUND(MAX(L26),2) -> 31152.29 | U26: =+(T26/R26)-1 -> 0 | V26: =+ROUND(AVERAGE(R26,S26),2) -> 31152.29 | Z26: =V26 -> 31152.29 | AA26: =ROUND((Z26*$G26),2) -> 31152.29
A27: 1.18 | E27: Montaje de puesto de trabajo | F27: UN | G27: 1 | I27: 170000 | J27: =ROUND((I27*$G27),2) -> 170000 | L27: 35045.396 | M27: =ROUND((L27*$G27),2) -> 35045.4 | O27: 127866.39 | P27: =ROUND((O27*$G27),2) -> 127866.39 | R27: =ROUND(MIN(L27),2) -> 35045.4 | S27: =ROUND(AVERAGE(L27),2) -> 35045.4 | T27: =ROUND(MAX(L27),2) -> 35045.4 | U27: =+(T27/R27)-1 -> 0 | V27: =+ROUND(AVERAGE(R27,S27),2) -> 35045.4 | Z27: =V27 -> 35045.4 | AA27: =ROUND((Z27*$G27),2) -> 35045.4
A28: 1.19 | E28: Desmonte de divisiones de oficina abierta | F28: M2 | G28: 1 | I28: 45000 | J28: =ROUND((I28*$G28),2) -> 45000 | L28: 41989.693 | M28: =ROUND((L28*$G28),2) -> 41989.69 | O28: 48762.605 | P28: =ROUND((O28*$G28),2) -> 48762.61 | R28: =ROUND(MIN(I28,L28,O28),2) -> 41989.69 | S28: =ROUND(AVERAGE(I28,L28,O28),2) -> 45250.77 | T28: =ROUND(MAX(I28,L28,O28),2) -> 48762.61 | U28: =+(T28/R28)-1 -> 0.1612996 | V28: =+ROUND(AVERAGE(R28,S28),2) -> 43620.23 | Z28: =T28 -> 48762.61 | AA28: =ROUND((Z28*$G28),2) -> 48762.61
A29: 1.2 | E29: Desmonte de unidades de archivo rodante | F29: UN | G29: 1 | I29: 200000 | J29: =ROUND((I29*$G29),2) -> 200000 | L29: 73987.61 | M29: =ROUND((L29*$G29),2) -> 73987.61 | O29: 212388.24 | P29: =ROUND((O29*$G29),2) -> 212388.24 | R29: =ROUND(MIN(L29),2) -> 73987.61 | S29: =ROUND(AVERAGE(L29),2) -> 73987.61 | T29: =ROUND(MAX(L29),2) -> 73987.61 | U29: =+(T29/R29)-1 -> 0 | V29: =+ROUND(AVERAGE(R29,S29),2) -> 73987.61 | Z29: =V29 -> 73987.61 | AA29: =ROUND((Z29*$G29),2) -> 73987.61
A30: 1.21 | E30: Montaje de unidades de archivo rodante | F30: UN | G30: 1 | I30: 280000 | J30: =ROUND((I30*$G30),2) -> 280000 | L30: 70600.148 | M30: =ROUND((L30*$G30),2) -> 70600.15 | O30: 574315.13 | P30: =ROUND((O30*$G30),2) -> 574315.13 | R30: =ROUND(MIN(L30),2) -> 70600.15 | S30: =ROUND(AVERAGE(L30),2) -> 70600.15 | T30: =ROUND(MAX(L30),2) -> 70600.15 | U30: =+(T30/R30)-1 -> 0 | V30: =+ROUND(AVERAGE(R30,S30),2) -> 70600.15 | Z30: =V30 -> 70600.15 | AA30: =ROUND((Z30*$G30),2) -> 70600.15
A31: 1.22 | E31: Desmonte de Sanitario | F31: UN | G31: 1 | I31: 100000 | J31: =ROUND((I31*$G31),2) -> 100000 | L31: 42213.463 | M31: =ROUND((L31*$G31),2) -> 42213.46 | O31: 63933.193 | P31: =ROUND((O31*$G31),2) -> 63933.19 | R31: =ROUND(MIN(L31,O31),2) -> 42213.46 | S31: =ROUND(AVERAGE(L31,O31),2) -> 53073.33 | T31: =ROUND(MAX(L31,O31),2) -> 63933.19 | U31: =+(T31/R31)-1 -> 0.51452143 | V31: =+ROUND(AVERAGE(R31,S31),2) -> 47643.4 | Z31: =V31 -> 47643.4 | AA31: =ROUND((Z31*$G31),2) -> 47643.4
A32: 1.23 | E32: Desmonte de lavamanos | F32: UN | G32: 1 | I32: 75000 | J32: =ROUND((I32*$G32),2) -> 75000 | L32: 40930.184 | M32: =ROUND((L32*$G32),2) -> 40930.18 | O32: 53097.059 | P32: =ROUND((O32*$G32),2) -> 53097.06 | R32: =ROUND(MIN(L32,O32),2) -> 40930.18 | S32: =ROUND(AVERAGE(L32,O32),2) -> 47013.62 | T32: =ROUND(MAX(L32,O32),2) -> 53097.06 | U32: =+(T32/R32)-1 -> 0.29725938 | V32: =+ROUND(AVERAGE(R32,S32),2) -> 43971.9 | Z32: =V32 -> 43971.9 | AA32: =ROUND((Z32*$G32),2) -> 43971.9
A33: 1.24 | E33: Desmonte de orinal | F33: UN | G33: 1 | I33: 85000 | J33: =ROUND((I33*$G33),2) -> 85000 | L33: 42040.382 | M33: =ROUND((L33*$G33),2) -> 42040.38 | O33: 53097.059 | P33: =ROUND((O33*$G33),2) -> 53097.06 | R33: =ROUND(MIN(L33,O33),2) -> 42040.38 | S33: =ROUND(AVERAGE(L33,O33),2) -> 47568.72 | T33: =ROUND(MAX(L33,O33),2) -> 53097.06 | U33: =+(T33/R33)-1 -> 0.26300143 | V33: =+ROUND(AVERAGE(R33,S33),2) -> 44804.55 | Z33: =V33 -> 44804.55 | AA33: =ROUND((Z33*$G33),2) -> 44804.55
A34: 1.25 | E34: Desmonte de divisiones de baño | F34: M2 | G34: 1 | I34: 40000 | J34: =ROUND((I34*$G34),2) -> 40000 | L34: 37076.637 | M34: =ROUND((L34*$G34),2) -> 37076.64 | O34: 32508.403 | P34: =ROUND((O34*$G34),2) -> 32508.4 | R34: =ROUND(MIN(I34,L34,O34),2) -> 32508.4 | S34: =ROUND(AVERAGE(I34,L34,O34),2) -> 36528.35 | T34: =ROUND(MAX(I34,L34,O34),2) -> 40000 | U34: =+(T34/R34)-1 -> 0.23045121 | V34: =+ROUND(AVERAGE(R34,S34),2) -> 34518.38 | Z34: =T34 -> 40000 | AA34: =ROUND((Z34*$G34),2) -> 40000
A35: 1.26 | E35: Demolición de mesón | F35: ML | G35: 1 | I35: 60000 | J35: =ROUND((I35*$G35),2) -> 60000 | L35: 35317.382 | M35: =ROUND((L35*$G35),2) -> 35317.38 | O35: 96441.597 | P35: =ROUND((O35*$G35),2) -> 96441.6 | R35: =ROUND(MIN(I35,L35),2) -> 35317.38 | S35: =ROUND(AVERAGE(I35,L35),2) -> 47658.69 | T35: =ROUND(MAX(I35,L35),2) -> 60000 | U35: =+(T35/R35)-1 -> 0.69888027 | V35: =+ROUND(AVERAGE(R35,S35),2) -> 41488.04 | Z35: =V35 -> 41488.04 | AA35: =ROUND((Z35*$G35),2) -> 41488.04
A36: 1.27 | E36: Demolición de enchape | F36: M2 | G36: 1 | I36: 45000 | J36: =ROUND((I36*$G36),2) -> 45000 | L36: 15270.778 | M36: =ROUND((L36*$G36),2) -> 15270.78 | O36: 37926.471 | P36: =ROUND((O36*$G36),2) -> 37926.47 | R36: =ROUND(MIN(L36,O36),2) -> 15270.78 | S36: =ROUND(AVERAGE(L36,O36),2) -> 26598.62 | T36: =ROUND(MAX(L36,O36),2) -> 37926.47 | U36: =+(T36/R36)-1 -> 1.4835974 | V36: =+ROUND(AVERAGE(R36,S36),2) -> 20934.7 | Z36: =V36 -> 20934.7 | AA36: =ROUND((Z36*$G36),2) -> 20934.7
A37: 1.28 | E37: Demolición de pisos baños | F37: M2 | G37: 1 | I37: 59800 | J37: =ROUND((I37*$G37),2) -> 59800 | L37: 11998.291 | M37: =ROUND((L37*$G37),2) -> 11998.29 | O37: 37926.471 | P37: =ROUND((O37*$G37),2) -> 37926.47 | R37: =ROUND(MIN(L37,O37),2) -> 11998.29 | S37: =ROUND(AVERAGE(L37,O37),2) -> 24962.38 | T37: =ROUND(MAX(L37,O37),2) -> 37926.47 | U37: =+(T37/R37)-1 -> 2.1609896 | V37: =+ROUND(AVERAGE(R37,S37),2) -> 18480.34 | Z37: =V37 -> 18480.34 | AA37: =ROUND((Z37*$G37),2) -> 18480.34
A38: 1.29 | E38: Desmonte y retiro de piso vinílico | F38: M2 | G38: 1 | I38: 30600 | J38: =ROUND((I38*$G38),2) -> 30600 | L38: 14835.6 | M38: =ROUND((L38*$G38),2) -> 14835.6 | O38: 21672.269 | P38: =ROUND((O38*$G38),2) -> 21672.27 | R38: =ROUND(MIN(L38,O38),2) -> 14835.6 | S38: =ROUND(AVERAGE(L38,O38),2) -> 18253.93 | T38: =ROUND(MAX(L38,O38),2) -> 21672.27 | U38: =+(T38/R38)-1 -> 0.46082868 | V38: =+ROUND(AVERAGE(R38,S38),2) -> 16544.77 | Z38: =V38 -> 16544.77 | AA38: =ROUND((Z38*$G38),2) -> 16544.77
A39: 1.3 | E39: Desmonte de puertas en vidrio y fijos en vidrio templado | F39: M2 | G39: 1 | I39: 128000 | J39: =ROUND((I39*$G39),2) -> 128000 | L39: 17879.371 | M39: =ROUND((L39*$G39),2) -> 17879.37 | O39: 58515.126 | P39: =ROUND((O39*$G39),2) -> 58515.13 | R39: =ROUND(MIN(L39),2) -> 17879.37 | S39: =ROUND(AVERAGE(L39),2) -> 17879.37 | T39: =ROUND(MAX(L39),2) -> 17879.37 | U39: =+(T39/R39)-1 -> 0 | V39: =+ROUND(AVERAGE(R39,S39),2) -> 17879.37 | Z39: =V39 -> 17879.37 | AA39: =ROUND((Z39*$G39),2) -> 17879.37
A40: 1.31 | E40: Desmonte de secador de manos | F40: UN | G40: 1 | I40: 50600 | J40: =ROUND((I40*$G40),2) -> 50600 | L40: 23604.676 | M40: =ROUND((L40*$G40),2) -> 23604.68 | O40: 21672.269 | P40: =ROUND((O40*$G40),2) -> 21672.27 | R40: =ROUND(MIN(L40,O40),2) -> 21672.27 | S40: =ROUND(AVERAGE(L40,O40),2) -> 22638.47 | T40: =ROUND(MAX(L40,O40),2) -> 23604.68 | U40: =+(T40/R40)-1 -> 0.089165094 | V40: =+ROUND(AVERAGE(R40,S40),2) -> 22155.37 | Z40: =T40 -> 23604.68 | AA40: =ROUND((Z40*$G40),2) -> 23604.68
A41: 1.32 | E41: Cerramiento provisional (poli sombra y parales de madera) | F41: M2 | G41: 1 | I41: 26400 | J41: =ROUND((I41*$G41),2) -> 26400 | L41: 26574.268 | M41: =ROUND((L41*$G41),2) -> 26574.27 | O41: 318582.35 | P41: =ROUND((O41*$G41),2) -> 318582.35 | R41: =ROUND(MIN(I41,L41),2) -> 26400 | S41: =ROUND(AVERAGE(I41,L41),2) -> 26487.13 | T41: =ROUND(MAX(I41,L41),2) -> 26574.27 | U41: =+(T41/R41)-1 -> 0.0066011364 | V41: =+ROUND(AVERAGE(R41,S41),2) -> 26443.57 | Z41: =T41 -> 26574.27 | AA41: =ROUND((Z41*$G41),2) -> 26574.27
A42: 1.33 | E42: localización y replanteo | F42: M2 | G42: 1 | I42: 10000 | J42: =ROUND((I42*$G42),2) -> 10000 | L42: 3767.0061 | M42: =ROUND((L42*$G42),2) -> 3767.01 | O42: 16254.202 | P42: =ROUND((O42*$G42),2) -> 16254.2 | R42: =ROUND(MIN(I42,L42),2) -> 3767.01 | S42: =ROUND(AVERAGE(I42,L42),2) -> 6883.5 | T42: =ROUND(MAX(I42,L42),2) -> 10000 | U42: =+(T42/R42)-1 -> 1.6546253 | V42: =+ROUND(AVERAGE(R42,S42),2) -> 5325.26 | Z42: =V42 -> 5325.26 | AA42: =ROUND((Z42*$G42),2) -> 5325.26
...

Sheet ANEXO 2
A2: ANEXO 2- COSTOS HISTORICOS
B3: REALIZAR LAS OBRAS DE MANTENIMIENTO, ADECUACIÓN, REMODELACIÓN Y MEJORAMIENTO DE LA INFRAESTRUCTURA FÍSICA, INCLUYENDO REDES ELÉCTRICAS, HIDRÁULICAS Y DEMÁS INSTALACIONES TÉCNICAS ASOCIADAS, EN SEDES DEL NIVEL CENTRAL DE LA FISCALÍA GENERAL DE LA NACIÓN – FASE V, BAJO LA MODALIDAD DE PRECIOS UNITARIOS SIN FÓRMULA DE REAJUSTE.”
Q5: ANALISIS DE COSTOS HISTORICOS
A6: Nº | B6: ÍTEM DE PAGO | C6: ESPECIFICACIONES | E6: DESCRIPCIÓN | F6: UND. | G6: CANTIDAD | L6: FGN-NC-LP-0001-2025 | N6: 45870 | O6: 46054
L7: VALOR UNITARIO CON IVA Y CON AIU | N7: 1.5099 | O7: 1.5573 | Q7: VALOR UNITARIO | R7: VALOR TOTAL
C8: GENERAL | D8: PARTICULAR
E9: PRELIMINARES
A10: 1.1 | E10: Demolición muros en mampostería | F10: M2 | G10: 1 | L10: 39093.457 | N10: =ROUND($O$7/$N$7*L10,2) -> 40320.71 | Q10: =N10 -> 40320.71 | R10: =ROUND((Q10*$G10),2) -> 40320.71
A11: 1.2 | E11: Desmonte de manto asfaltico existente | F11: M2 | G11: 1 | L11: 22236.017 | N11: =ROUND($O$7/$N$7*L11,2) -> 22934.07 | Q11: =N11 -> 22934.07 | R11: =ROUND((Q11*$G11),2) -> 22934.07
A12: 1.3 | E12: Demolición de mortero de nivelación existente | F12: M2 | G12: 1 | L12: 21966.446 | N12: =ROUND($O$7/$N$7*L12,2) -> 22656.03 | Q12: =N12 -> 22656.03 | R12: =ROUND((Q12*$G12),2) -> 22656.03
A13: 1.4 | E13: Demolición de medias cañas | F13: ML | G13: 1 | L13: 16478.044 | N13: =ROUND($O$7/$N$7*L13,2) -> 16995.34 | Q13: =N13 -> 16995.34 | R13: =ROUND((Q13*$G13),2) -> 16995.34
A14: 1.5 | E14: Desmonte de domos acrílicos | F14: UN | G14: 1 | L14: 18641.741 | N14: =ROUND($O$7/$N$7*L14,2) -> 19226.96 | Q14: =N14 -> 19226.96 | R14: =ROUND((Q14*$G14),2) -> 19226.96
A15: 1.6 | E15: Desmonte de flanches galvanizados desde 0.20 cm hasta 0.80 cm (incluye disposición final) | F15: ML | G15: 1 | N15: =ROUND($O$7/$N$7*L15,2) -> 0 | Q15: =N15 -> 0 | R15: =ROUND((Q15*$G15),2) -> 0
A16: 1.7 | E16: Desmonte de equipos de extracción | F16: UN | G16: 1 | L16: 260823.2 | N16: =ROUND($O$7/$N$7*L16,2) -> 269011.17 | Q16: =N16 -> 269011.17 | R16: =ROUND((Q16*$G16),2) -> 269011.17
A17: 1.8 | E17: Desmonte y retiro de tapete / alfombra existente incluye disposición final el sitio autorizado | F17: M2 | G17: 1 | N17: =ROUND($O$7/$N$7*L17,2) -> 0 | Q17: =N17 -> 0 | R17: =ROUND((Q17*$G17),2) -> 0
A18: 1.9 | E18: Demolición de piso existente | F18: M2 | G18: 1 | L18: 19571.689 | N18: =ROUND($O$7/$N$7*L18,2) -> 20186.1 | Q18: =N18 -> 20186.1 | R18: =ROUND((Q18*$G18),2) -> 20186.1
A19: 1.1 | E19: Desmonte de guarda escoba | F19: ML | G19: 1 | L19: 6359.8717 | N19: =ROUND($O$7/$N$7*L19,2) -> 6559.53 | Q19: =N19 -> 6559.53 | R19: =ROUND((Q19*$G19),2) -> 6559.53
A20: 1.11 | E20: Demolición muros en Dry wall | F20: M2 | G20: 1 | L20: 21317.48 | N20: =ROUND($O$7/$N$7*L20,2) -> 21986.7 | Q20: =N20 -> 21986.7 | R20: =ROUND((Q20*$G20),2) -> 21986.7
A21: 1.12 | E21: Demolición de cielo raso | F21: M2 | G21: 1 | L21: 19571.689 | N21: =ROUND($O$7/$N$7*L21,2) -> 20186.1 | Q21: =N21 -> 20186.1 | R21: =ROUND((Q21*$G21),2) -> 20186.1
A22: 1.13 | E22: Desmonte de marcos y puertas | F22: UN | G22: 1 | L22: 28771.324 | N22: =ROUND($O$7/$N$7*L22,2) -> 29674.54 | Q22: =N22 -> 29674.54 | R22: =ROUND((Q22*$G22),2) -> 29674.54
A23: 1.14 | E23: Regata instalación sanitaria | F23: ML | G23: 1 | L23: 20267.723 | N23: =ROUND($O$7/$N$7*L23,2) -> 20903.98 | Q23: =N23 -> 20903.98 | R23: =ROUND((Q23*$G23),2) -> 20903.98
A24: 1.15 | E24: Sellamiento punto hidráulico | F24: UN | G24: 1 | L24: 24720.632 | N24: =ROUND($O$7/$N$7*L24,2) -> 25496.68 | Q24: =N24 -> 25496.68 | R24: =ROUND((Q24*$G24),2) -> 25496.68
A25: 1.16 | E25: Sellamiento punto sanitario | F25: UN | G25: 1 | L25: 29269.102 | N25: =ROUND($O$7/$N$7*L25,2) -> 30187.94 | Q25: =N25 -> 30187.94 | R25: =ROUND((Q25*$G25),2) -> 30187.94
A26: 1.17 | E26: Desmonte de puesto de trabajo | F26: UN | G26: 1 | L26: 35939.907 | N26: =ROUND($O$7/$N$7*L26,2) -> 37068.16 | Q26: =N26 -> 37068.16 | R26: =ROUND((Q26*$G26),2) -> 37068.16
A27: 1.18 | E27: Montaje de puesto de trabajo | F27: UN | G27: 1 | L27: 40431.326 | N27: =ROUND($O$7/$N$7*L27,2) -> 41700.58 | Q27: =N27 -> 41700.58 | R27: =ROUND((Q27*$G27),2) -> 41700.58
A28: 1.19 | E28: Desmonte de divisiones de oficina abierta | F28: M2 | G28: 1 | L28: 48442.853 | N28: =ROUND($O$7/$N$7*L28,2) -> 49963.61 | Q28: =N28 -> 49963.61 | R28: =ROUND((Q28*$G28),2) -> 49963.61
A29: 1.2 | E29: Desmonte de unidades de archivo rodante | F29: UN | G29: 1 | L29: 85358.35 | N29: =ROUND($O$7/$N$7*L29,2) -> 88037.99 | Q29: =N29 -> 88037.99 | R29: =ROUND((Q29*$G29),2) -> 88037.99
... A47: 1.38 | E47: Desmonte de salida eléctrica normal y regulada | F47: UN | G47: 1 | L47: 14248.737 | N47: =ROUND($O$7/$N$7*L47,2) -> 14696.04 | Q47: =N47 -> 14696.04 | R47: =ROUND((Q47*$G47),2) -> 14696.04
A48: 1.39 | E48: Desmonte y Retiro de canaleta metalica, incluye la totalidad del cableado electrico de corriente normal y regulada y la totalidad del cableado UTP de la red lógica datos instalados. | F48: ML | G48: 1 | N48: =ROUND($O$7/$N$7*L48,2) -> 0 | Q48: =N48 -> 0 | R48: =ROUND((Q48*$G48),2) -> 0
A49: 1.4 | E49: Demolición de pañete | F49: M2 | G49: 1 | L49: 23713.664 | N49: =ROUND($O$7/$N$7*L49,2) -> 24458.1 | Q49: =N49 -> 24458.1 | R49: =ROUND((Q49*$G49),2) -> 24458.1
A50: 1.41 | E50: Demolición de poyo | F50: M2 | G50: 1 | L50: 33602.202 | N50: =ROUND($O$7/$N$7*L50,2) -> 34657.07 | Q50: =N50 -> 34657.07 | R50: =ROUND((Q50*$G50),2) -> 34657.07
A51: 1.42 | E51: Demolición de placa | F51: M2 | G51: 1 | L51: 101465.56 | N51: =ROUND($O$7/$N$7*L51,2) -> 104650.84 | Q51: =N51 -> 104650.84 | R51: =ROUND((Q51*$G51),2) -> 104650.84
A52: 1.43 | E52: Desmonte de ventanas | F52: UN | G52: 1 | L52: 37738.472 | N52: =ROUND($O$7/$N$7*L52,2) -> 38923.19 | Q52: =N52 -> 38923.19 | R52: =ROUND((Q52*$G52),2) -> 38923.19
A53: 1.44 | E53: Desmonte de estanteria metalica incluye trasiego a punto de acopio | F53: UN | G53: 1 | N53: =ROUND($O$7/$N$7*L53,2) -> 0 | Q53: =N53 -> 0 | R53: =ROUND((Q53*$G53),2) -> 0
A54: 1.45 | E54: Desmonte de cortinas tipo black out, solar screen en diferentes longitudes | F54: UN | G54: 1 | N54: =ROUND($O$7/$N$7*L54,2) -> 0 | Q54: =N54 -> 0 | R54: =ROUND((Q54*$G54),2) -> 0
A55: 1.46 | E55: Retiro y limpieza de película sand-blasting | F55: M2 | G55: 1 | N55: =ROUND($O$7/$N$7*L55,2) -> 0 | Q55: =N55 -> 0 | R55: =ROUND((Q55*$G55),2) -> 0
A56: 1.47 | E56: Regata para tubería eléctrica, de agua o telecomunicaciones | F56: ML | G56: 1 | N56: =ROUND($O$7/$N$7*L56,2) -> 0 | Q56: =N56 -> 0 | R56: =ROUND((Q56*$G56),2) -> 0
A57: 1.48 | E57: Demolición y trasiego de placas prefabricadas en concreto | F57: UN | G57: 1 | L57: 118648.19 | N57: =ROUND($O$7/$N$7*L57,2) -> 122372.89 | Q57: =N57 -> 122372.89 | R57: =ROUND((Q57*$G57),2) -> 122372.89
A58: 1.49 | E58: Demolición y trasiego de soportes de placas prefabricadas en concreto | F58: UN | G58: 1 | L58: 49864.874 | N58: =ROUND($O$7/$N$7*L58,2) -> 51430.27 | Q58: =N58 -> 51430.27 | R58: =ROUND((Q58*$G58),2) -> 51430.27
A59: 1.5 | E59: Excavación manual en material común, (incluye enlonado, trasiego vertical y horizontal a punto de acopio, cargue y retiro de residuos a sitios de disposicion final autorizados) | F59: M3 | G59: 1 | N59: =ROUND($O$7/$N$7*L59,2) -> 0 | Q59: =N59 -> 0 | R59: =ROUND((Q59*$G59),2) -> 0
...

Sheet ANEXO 3
A2: ANEXO 3 COTIZACIONES E HISTORICOS
B3: REALIZAR LAS OBRAS DE MANTENIMIENTO, ADECUACIÓN, REMODELACIÓN Y MEJORAMIENTO DE LA INFRAESTRUCTURA FÍSICA, INCLUYENDO REDES ELÉCTRICAS, HIDRÁULICAS Y DEMÁS INSTALACIONES TÉCNICAS ASOCIADAS, EN SEDES DEL NIVEL CENTRAL DE LA FISCALÍA GENERAL DE LA NACIÓN – FASE V, BAJO LA MODALIDAD DE PRECIOS UNITARIOS SIN FÓRMULA DE REAJUSTE.”
A6: Nº | B6: ÍTEM DE PAGO | C6: ESPECIFICACIONES | E6: DESCRIPCIÓN | F6: UND. | G6: CANTIDAD | I6: ANALISIS COTIZACIONES | L6: ANALISIS HISTORICOS | O6: PRESUPUESTO TOTAL ASIGNADO
I7: VALOR UNITARIO CON IVA Y CON AIU | L7: VALOR UNITARIO CON IVA Y CON AIU | O7: VALOR UNITARIO CON IVA Y CON AIU
I8: VALOR UNITARIO | J8: VALOR TOTAL | L8: VALOR UNITARIO | M8: VALOR TOTAL | O8: VALOR UNITARIO | P8: VALOR TOTAL
C9: GENERAL | D9: PARTICULAR
E10: PRELIMINARES
A11: 1.1 | E11: Demolición muros en mampostería | F11: M2 | G11: 1 | I11: =ANEXO1!Z10 -> 38914.31 | J11: =I11 -> 38914.31 | L11: ='ANEXO 2'!Q10 -> 40320.71 | M11: =ROUND((L11*$G11),2) -> 40320.71 | O11: =I11 -> 38914.31 | P11: =ROUND((O11*$G11),2) -> 38914.31
A12: 1.2 | E12: Desmonte de manto asfaltico existente | F12: M2 | G12: 1 | I12: =ANEXO1!Z11 -> 21228.03 | J12: =I12 -> 21228.03 | L12: ='ANEXO 2'!Q11 -> 22934.07 | M12: =ROUND((L12*$G12),2) -> 22934.07 | O12: =I12 -> 21228.03 | P12: =ROUND((O12*$G12),2) -> 21228.03
A13: 1.3 | E13: Demolición de mortero de nivelación existente | F13: M2 | G13: 1 | I13: =ANEXO1!Z12 -> 21672.27 | J13: =I13 -> 21672.27 | L13: ='ANEXO 2'!Q12 -> 22656.03 | M13: =ROUND((L13*$G13),2) -> 22656.03 | O13: =I13 -> 21672.27 | P13: =ROUND((O13*$G13),2) -> 21672.27
A14: 1.4 | E14: Demolición de medias cañas | F14: ML | G14: 1 | I14: =ANEXO1!Z13 -> 12289.53 | J14: =I14 -> 12289.53 | L14: ='ANEXO 2'!Q13 -> 16995.34 | M14: =ROUND((L14*$G14),2) -> 16995.34 | O14: =I14 -> 12289.53 | P14: =ROUND((O14*$G14),2) -> 12289.53
A15: 1.5 | E15: Desmonte de domos acrílicos | F15: UN | G15: 1 | I15: =ANEXO1!Z14 -> 16158.44 | J15: =I15 -> 16158.44 | L15: ='ANEXO 2'!Q14 -> 19226.96 | M15: =ROUND((L15*$G15),2) -> 19226.96 | O15: =I15 -> 16158.44 | P15: =ROUND((O15*$G15),2) -> 16158.44
A16: 1.6 | E16: Desmonte de flanches galvanizados desde 0.20 cm hasta 0.80 cm (incluye disposición final) | F16: ML | G16: 1 | I16: =ANEXO1!Z15 -> 13003.36 | J16: =I16 -> 13003.36 | L16: ='ANEXO 2'!Q15 -> 0 | M16: =ROUND((L16*$G16),2) -> 0 | O16: =I16 -> 13003.36 | P16: =ROUND((O16*$G16),2) -> 13003.36
A17: 1.7 | E17: Desmonte de equipos de extracción | F17: UN | G17: 1 | I17: =ANEXO1!Z16 -> 125322.8 | J17: =I17 -> 125322.8 | L17: ='ANEXO 2'!Q16 -> 269011.17 | M17: =ROUND((L17*$G17),2) -> 269011.17 | O17: =I17 -> 125322.8 | P17: =ROUND((O17*$G17),2) -> 125322.8
A18: 1.8 | E18: Desmonte y retiro de tapete / alfombra existente incluye disposición final el sitio autorizado | F18: M2 | G18: 1 | I18: =ANEXO1!Z17 -> 22253.4 | J18: =I18 -> 22253.4 | L18: ='ANEXO 2'!Q17 -> 0 | M18: =ROUND((L18*$G18),2) -> 0 | O18: =I18 -> 22253.4 | P18: =ROUND((O18*$G18),2) -> 22253.4
A19: 1.9 | E19: Demolición de piso existente | F19: M2 | G19: 1 | I19: =ANEXO1!Z18 -> 18167.42 | J19: =I19 -> 18167.42 | L19: ='ANEXO 2'!Q18 -> 20186.1 | M19: =ROUND((L19*$G19),2) -> 20186.1 | O19: =I19 -> 18167.42 | P19: =ROUND((O19*$G19),2) -> 18167.42
A20: 1.1 | E20: Desmonte de guarda escoba | F20: ML | G20: 1 | I20: =ANEXO1!Z19 -> 7147.8 | J20: =I20 -> 7147.8 | L20: ='ANEXO 2'!Q19 -> 6559.53 | M20: =ROUND((L20*$G20),2) -> 6559.53 | O20: =ROUND(AVERAGE(I20,L20),2) -> 6853.67 | P20: =ROUND((O20*$G20),2) -> 6853.67
A21: 1.11 | E21: Demolición muros en Dry wall | F21: M2 | G21: 1 | I21: =ANEXO1!Z20 -> 20458.31 | J21: =I21 -> 20458.31 | L21: ='ANEXO 2'!Q20 -> 21986.7 | M21: =ROUND((L21*$G21),2) -> 21986.7 | O21: =I21 -> 20458.31 | P21: =ROUND((O21*$G21),2) -> 20458.31
A22: 1.12 | E22: Demolición de cielo raso | F22: M2 | G22: 1 | I22: =ANEXO1!Z21 -> 16964.51 | J22: =I22 -> 16964.51 | L22: ='ANEXO 2'!Q21 -> 20186.1 | M22: =ROUND((L22*$G22),2) -> 20186.1 | O22: =I22 -> 16964.51 | P22: =ROUND((O22*$G22),2) -> 16964.51
A23: 1.13 | E23: Desmonte de marcos y puertas | F23: UN | G23: 1 | I23: =ANEXO1!Z22 -> 29540.12 | J23: =I23 -> 29540.12 | L23: ='ANEXO 2'!Q22 -> 29674.54 | M23: =ROUND((L23*$G23),2) -> 29674.54 | O23: =I23 -> 29540.12 | P23: =ROUND((O23*$G23),2) -> 29540.12
A24: 1.14 | E24: Regata instalación sanitaria | F24: ML | G24: 1 | I24: =ANEXO1!Z23 -> 17567.82 | J24: =I24 -> 17567.82 | L24: ='ANEXO 2'!Q23 -> 20903.98 | M24: =ROUND((L24*$G24),2) -> 20903.98 | O24: =I24 -> 17567.82 | P24: =ROUND((O24*$G24),2) -> 17567.82
A25: 1.15 | E25: Sellamiento punto hidráulico | F25: UN | G25: 1 | I25: =ANEXO1!Z24 -> 15109.41 | J25: =I25 -> 15109.41 | L25: ='ANEXO 2'!Q24 -> 25496.68 | M25: =ROUND((L25*$G25),2) -> 25496.68 | O25: =I25 -> 15109.41 | P25: =ROUND((O25*$G25),2) -> 15109.41
A26: 1.16 | E26: Sellamiento punto sanitario | F26: UN | G26: 1 | I26: =ANEXO1!Z25 -> 25370.11 | J26: =I26 -> 25370.11 | L26: ='ANEXO 2'!Q25 -> 30187.94 | M26: =ROUND((L26*$G26),2) -> 30187.94 | O26: =I26 -> 25370.11 | P26: =ROUND((O26*$G26),2) -> 25370.11
A27: 1.17 | E27: Desmonte de puesto de trabajo | F27: UN | G27: 1 | I27: =ANEXO1!Z26 -> 31152.29 | J27: =I27 -> 31152.29 | L27: ='ANEXO 2'!Q26 -> 37068.16 | M27: =ROUND((L27*$G27),2) -> 37068.16 | O27: =I27 -> 31152.29 | P27: =ROUND((O27*$G27),2) -> 31152.29
A28: 1.18 | E28: Montaje de puesto de trabajo | F28: UN | G28: 1 | I28: =ANEXO1!Z27 -> 35045.4 | J28: =I28 -> 35045.4 | L28: ='ANEXO 2'!Q27 -> 41700.58 | M28: =ROUND((L28*$G28),2) -> 41700.58 | O28: =I28 -> 35045.4 | P28: =ROUND((O28*$G28),2) -> 35045.4
A29: 1.19 | E29: Desmonte de divisiones de oficina abierta | F29: M2 | G29: 1 | I29: =ANEXO1!Z28 -> 48762.61 | J29: =I29 -> 48762.61 | L29: ='ANEXO 2'!Q28 -> 49963.61 | M29: =ROUND((L29*$G29),2) -> 49963.61 | O29: =I29 -> 48762.61 | P29: =ROUND((O29*$G29),2) -> 48762.61
A30: 1.2 | E30: Desmonte de unidades de archivo rodante | F30: UN | G30: 1 | I30: =ANEXO1!Z29 -> 73987.61 | J30: =I30 -> 73987.61 | L30: ='ANEXO 2'!Q29 -> 88037.99 | M30: =ROUND((L30*$G30),2) -> 88037.99 | O30: =I30 -> 73987.61 | P30: =ROUND((O30*$G30),2) -> 73987.61
A31: 1.21 | E31: Montaje de unidades de archivo rodante | F31: UN | G31: 1 | I31: =ANEXO1!Z30 -> 70600.15 | J31: =I31 -> 70600.15 | L31: ='ANEXO 2'!Q30 -> 84007.24 | M31: =ROUND((L31*$G31),2) -> 84007.24 | O31: =I31 -> 70600.15 | P31: =ROUND((O31*$G31),2) -> 70600.15
A32: 1.22 | E32: Desmonte de Sanitario | F32: UN | G32: 1 | I32: =ANEXO1!Z31 -> 47643.4 | J32: =I32 -> 47643.4 | L32: ='ANEXO 2'!Q31 -> 50229.88 | M32: =ROUND((L32*$G32),2) -> 50229.88 | O32: =I32 -> 47643.4 | P32: =ROUND((O32*$G32),2) -> 47643.4
... A36: 1.26 | E36: Demolición de mesón | F36: ML | G36: 1 | I36: =ANEXO1!Z35 -> 41488.04 | J36: =I36 -> 41488.04 | L36: ='ANEXO 2'!Q35 -> 42024.22 | M36: =ROUND((L36*$G36),2) -> 42024.22 | O36: =I36 -> 41488.04 | P36: =ROUND((O36*$G36),2) -> 41488.04
A37: 1.27 | E37: Demolición de enchape | F37: M2 | G37: 1 | I37: =ANEXO1!Z36 -> 20934.7 | J37: =I37 -> 20934.7 | L37: ='ANEXO 2'!Q36 -> 18170.73 | M37: =ROUND((L37*$G37),2) -> 18170.73 | O37: =ROUND(AVERAGE(I37,L37),2) -> 19552.72 | P37: =ROUND((O37*$G37),2) -> 19552.72
A38: 1.28 | E38: Demolición de pisos baños | F38: M2 | G38: 1 | I38: =ANEXO1!Z37 -> 18480.34 | J38: =I38 -> 18480.34 | L38: ='ANEXO 2'!Q37 -> 14276.79 | M38: =ROUND((L38*$G38),2) -> 14276.79 | O38: =ROUND(AVERAGE(I38,L38),2) -> 16378.57 | P38: =ROUND((O38*$G38),2) -> 16378.57
A39: 1.29 | E39: Desmonte y retiro de piso vinílico | F39: M2 | G39: 1 | I39: =ANEXO1!Z38 -> 16544.77 | J39: =I39 -> 16544.77 | L39: ='ANEXO 2'!Q38 -> 14422.42 | M39: =ROUND((L39*$G39),2) -> 14422.42 | O39: =ROUND(AVERAGE(I39,L39),2) -> 15483.6 | P39: =ROUND((O39*$G39),2) -> 15483.6
A40: 1.3 | E40: Desmonte de puertas en vidrio y fijos en vidrio templado | F40: M2 | G40: 1 | I40: =ANEXO1!Z39 -> 17879.37 | J40: =I40 -> 17879.37 | L40: ='ANEXO 2'!Q39 -> 21274.69 | M40: =ROUND((L40*$G40),2) -> 21274.69 | O40: =I40 -> 17879.37 | P40: =ROUND((O40*$G40),2) -> 17879.37
A41: 1.31 | E41: Desmonte de secador de manos | F41: UN | G41: 1 | I41: =ANEXO1!Z40 -> 23604.68 | J41: =I41 -> 23604.68 | L41: ='ANEXO 2'!Q40 -> 28087.25 | M41: =ROUND((L41*$G41),2) -> 28087.25 | O41: =I41 -> 23604.68 | P41: =ROUND((O41*$G41),2) -> 23604.68
A42: 1.32 | E42: Cerramiento provisional (poli sombra y parales de madera) | F42: M2 | G42: 1 | I42: =ANEXO1!Z41 -> 26574.27 | J42: =I42 -> 26574.27 | L42: ='ANEXO 2'!Q41 -> 31620.77 | M42: =ROUND((L42*$G42),2) -> 31620.77 | O42: =I42 -> 26574.27 | P42: =ROUND((O42*$G42),2) -> 26574.27
A43: 1.33 | E43: localización y replanteo | F43: M2 | G43: 1 | I43: =ANEXO1!Z42 -> 5325.26 | J43: =I43 -> 5325.26 | L43: ='ANEXO 2'!Q42 -> 4482.37 | M43: =ROUND((L43*$G43),2) -> 4482.37 | O43: =ROUND(AVERAGE(I43,L43),2) -> 4903.82 | P43: =ROUND((O43*$G43),2) -> 4903.82
A44: 1.34 | E44: Desmonte de muebles de cocina | F44: ML | G44: 1 | I44: =ANEXO1!Z43 -> 56472.33 | J44: =I44 -> 56472.33 | L44: ='ANEXO 2'!Q43 -> 87134.75 | M44: =ROUND((L44*$G44),2) -> 87134.75 | O44: =I44 -> 56472.33 | P44: =ROUND((O44*$G44),2) -> 56472.33
A45: 1.35 | E45: Desmonte de parlantes | F45: UN | G45: 1 | I45: =ANEXO1!Z44 -> 23903.9 | J45: =I45 -> 23903.9 | L45: ='ANEXO 2'!Q44 -> 31216.22 | M45: =ROUND((L45*$G45),2) -> 31216.22 | O45: =I45 -> 23903.9 | P45: =ROUND((O45*$G45),2) -> 23903.9
A46: 1.36 | E46: Desmonte de detectores de humo | F46: UN | G46: 1 | I46: =ANEXO1!Z45 -> 15252.99 | J46: =I46 -> 15252.99 | L46: ='ANEXO 2'!Q45 -> 13454.46 | M46: =ROUND((L46*$G46),2) -> 13454.46 | O46: =ROUND(AVERAGE(I46,L46),2) -> 14353.73 | P46: =ROUND((O46*$G46),2) -> 14353.73
...

Sheet ANEXO 4
A2: 4 ANEXO PRESUPUESTO TOTAL ASIGNADO
B3: REALIZAR LAS OBRAS DE MANTENIMIENTO, ADECUACIÓN, REMODELACIÓN Y MEJORAMIENTO DE LA INFRAESTRUCTURA FÍSICA, INCLUYENDO REDES ELÉCTRICAS, HIDRÁULICAS Y DEMÁS INSTALACIONES TÉCNICAS ASOCIADAS, EN SEDES DEL NIVEL CENTRAL DE LA FISCALÍA GENERAL DE LA NACIÓN – FASE V, BAJO LA MODALIDAD DE PRECIOS UNITARIOS SIN FÓRMULA DE REAJUSTE.”
A6: Nº | B6: ÍTEM DE PAGO | C6: ESPECIFICACIONES | E6: DESCRIPCIÓN | F6: UND. | G6: CANTIDAD | I6: ANALISIS COTIZACIONES | L6: ANALISIS HISTORICOS | O6: PRESUPUESTO TOTAL ASIGNADO
I7: VALOR UNITARIO CON IVA Y CON AIU | L7: VALOR UNITARIO CON IVA Y CON AIU | O7: VALOR UNITARIO CON IVA Y CON AIU
I8: VALOR UNITARIO | J8: VALOR TOTAL | L8: VALOR UNITARIO | M8: VALOR TOTAL | O8: VALOR UNITARIO | P8: VALOR TOTAL
C9: GENERAL | D9: PARTICULAR
E10: PRELIMINARES
A11: 1.1 | E11: Demolición muros en mampostería | F11: M2 | G11: 1 | I11: =ANEXO1!Z10 -> 38914.31 | J11: =I11 -> 38914.31 | L11: ='ANEXO 2'!Q10 -> 40320.71 | M11: =ROUND((L11*$G11),2) -> 40320.71 | O11: =I11 -> 38914.31 | P11: =ROUND((O11*$G11),2) -> 38914.31
A12: 1.2 | E12: Desmonte de manto asfaltico existente | F12: M2 | G12: 1 | I12: =ANEXO1!Z11 -> 21228.03 | J12: =I12 -> 21228.03 | L12: ='ANEXO 2'!Q11 -> 22934.07 | M12: =ROUND((L12*$G12),2) -> 22934.07 | O12: =I12 -> 21228.03 | P12: =ROUND((O12*$G12),2) -> 21228.03
A13: 1.3 | E13: Demolición de mortero de nivelación existente | F13: M2 | G13: 1 | I13: =ANEXO1!Z12 -> 21672.27 | J13: =I13 -> 21672.27 | L13: ='ANEXO 2'!Q12 -> 22656.03 | M13: =ROUND((L13*$G13),2) -> 22656.03 | O13: =I13 -> 21672.27 | P13: =ROUND((O13*$G13),2) -> 21672.27
A14: 1.4 | E14: Demolición de medias cañas | F14: ML | G14: 1 | I14: =ANEXO1!Z13 -> 12289.53 | J14: =I14 -> 12289.53 | L14: ='ANEXO 2'!Q13 -> 16995.34 | M14: =ROUND((L14*$G14),2) -> 16995.34 | O14: =I14 -> 12289.53 | P14: =ROUND((O14*$G14),2) -> 12289.53
A15: 1.5 | E15: Desmonte de domos acrílicos | F15: UN | G15: 1 | I15: =ANEXO1!Z14 -> 16158.44 | J15: =I15 -> 16158.44 | L15: ='ANEXO 2'!Q14 -> 19226.96 | M15: =ROUND((L15*$G15),2) -> 19226.96 | O15: =I15 -> 16158.44 | P15: =ROUND((O15*$G15),2) -> 16158.44
A16: 1.6 | E16: Desmonte de flanches galvanizados desde 0.20 cm hasta 0.80 cm (incluye disposición final) | F16: ML | G16: 1 | I16: =ANEXO1!Z15 -> 13003.36 | J16: =I16 -> 13003.36 | L16: ='ANEXO 2'!Q15 -> 0 | M16: =ROUND((L16*$G16),2) -> 0 | O16: =I16 -> 13003.36 | P16: =ROUND((O16*$G16),2) -> 13003.36
A17: 1.7 | E17: Desmonte de equipos de extracción | F17: UN | G17: 1 | I17: =ANEXO1!Z16 -> 125322.8 | J17: =I17 -> 125322.8 | L17: ='ANEXO 2'!Q16 -> 269011.17 | M17: =ROUND((L17*$G17),2) -> 269011.17 | O17: =I17 -> 125322.8 | P17: =ROUND((O17*$G17),2) -> 125322.8
A18: 1.8 | E18: Desmonte y retiro de tapete / alfombra existente incluye disposición final el sitio autorizado | F18: M2 | G18: 1 | I18: =ANEXO1!Z17 -> 22253.4 | J18: =I18 -> 22253.4 | L18: ='ANEXO 2'!Q17 -> 0 | M18: =ROUND((L18*$G18),2) -> 0 | O18: =I18 -> 22253.4 | P18: =ROUND((O18*$G18),2) -> 22253.4
A19: 1.9 | E19: Demolición de piso existente | F19: M2 | G19: 1 | I19: =ANEXO1!Z18 -> 18167.42 | J19: =I19 -> 18167.42 | L19: ='ANEXO 2'!Q18 -> 20186.1 | M19: =ROUND((L19*$G19),2) -> 20186.1 | O19: =I19 -> 18167.42 | P19: =ROUND((O19*$G19),2) -> 18167.42
A20: 1.1 | E20: Desmonte de guarda escoba | F20: ML | G20: 1 | I20: =ANEXO1!Z19 -> 7147.8 | J20: =I20 -> 7147.8 | L20: ='ANEXO 2'!Q19 -> 6559.53 | M20: =ROUND((L20*$G20),2) -> 6559.53 | O20: =ROUND(AVERAGE(I20,L20),2) -> 6853.67 | P20: =ROUND((O20*$G20),2) -> 6853.67
A21: 1.11 | E21: Demolición muros en Dry wall | F21: M2 | G21: 1 | I21: =ANEXO1!Z20 -> 20458.31 | J21: =I21 -> 20458.31 | L21: ='ANEXO 2'!Q20 -> 21986.7 | M21: =ROUND((L21*$G21),2) -> 21986.7 | O21: =I21 -> 20458.31 | P21: =ROUND((O21*$G21),2) -> 20458.31
A22: 1.12 | E22: Demolición de cielo raso | F22: M2 | G22: 1 | I22: =ANEXO1!Z21 -> 16964.51 | J22: =I22 -> 16964.51 | L22: ='ANEXO 2'!Q21 -> 20186.1 | M22: =ROUND((L22*$G22),2) -> 20186.1 | O22: =I22 -> 16964.51 | P22: =ROUND((O22*$G22),2) -> 16964.51
A23: 1.13 | E23: Desmonte de marcos y puertas | F23: UN | G23: 1 | I23: =ANEXO1!Z22 -> 29540.12 | J23: =I23 -> 29540.12 | L23: ='ANEXO 2'!Q22 -> 29674.54 | M23: =ROUND((L23*$G23),2) -> 29674.54 | O23: =I23 -> 29540.12 | P23: =ROUND((O23*$G23),2) -> 29540.12
A24: 1.14 | E24: Regata instalación sanitaria | F24: ML | G24: 1 | I24: =ANEXO1!Z23 -> 17567.82 | J24: =I24 -> 17567.82 | L24: ='ANEXO 2'!Q23 -> 20903.98 | M24: =ROUND((L24*$G24),2) -> 20903.98 | O24: =I24 -> 17567.82 | P24: =ROUND((O24*$G24),2) -> 17567.82
A25: 1.15 | E25: Sellamiento punto hidráulico | F25: UN | G25: 1 | I25: =ANEXO1!Z24 -> 15109.41 | J25: =I25 -> 15109.41 | L25: ='ANEXO 2'!Q24 -> 25496.68 | M25: =ROUND((L25*$G25),2) -> 25496.68 | O25: =I25 -> 15109.41 | P25: =ROUND((O25*$G25),2) -> 15109.41
A26: 1.16 | E26: Sellamiento punto sanitario | F26: UN | G26: 1 | I26: =ANEXO1!Z25 -> 25370.11 | J26: =I26 -> 25370.11 | L26: ='ANEXO 2'!Q25 -> 30187.94 | M26: =ROUND((L26*$G26),2) -> 30187.94 | O26: =I26 -> 25370.11 | P26: =ROUND((O26*$G26),2) -> 25370.11
A27: 1.17 | E27: Desmonte de puesto de trabajo | F27: UN | G27: 1 | I27: =ANEXO1!Z26 -> 31152.29 | J27: =I27 -> 31152.29 | L27: ='ANEXO 2'!Q26 -> 37068.16 | M27: =ROUND((L27*$G27),2) -> 37068.16 | O27: =I27 -> 31152.29 | P27: =ROUND((O27*$G27),2) -> 31152.29
A28: 1.18 | E28: Montaje de puesto de trabajo | F28: UN | G28: 1 | I28: =ANEXO1!Z27 -> 35045.4 | J28: =I28 -> 35045.4 | L28: ='ANEXO 2'!Q27 -> 41700.58 | M28: =ROUND((L28*$G28),2) -> 41700.58 | O28: =I28 -> 35045.4 | P28: =ROUND((O28*$G28),2) -> 35045.4
A29: 1.19 | E29: Desmonte de divisiones de oficina abierta | F29: M2 | G29: 1 | I29: =ANEXO1!Z28 -> 48762.61 | J29: =I29 -> 48762.61 | L29: ='ANEXO 2'!Q28 -> 49963.61 | M29: =ROUND((L29*$G29),2) -> 49963.61 | O29: =I29 -> 48762.61 | P29: =ROUND((O29*$G29),2) -> 48762.61
A30: 1.2 | E30: Desmonte de unidades de archivo rodante | F30: UN | G30: 1 | I30: =ANEXO1!Z29 -> 73987.61 | J30: =I30 -> 73987.61 | L30: ='ANEXO 2'!Q29 -> 88037.99 | M30: =ROUND((L30*$G30),2) -> 88037.99 | O30: =I30 -> 73987.61 | P30: =ROUND((O30*$G30),2) -> 73987.61
A31: 1.21 | E31: Montaje de unidades de archivo rodante | F31: UN | G31: 1 | I31: =ANEXO1!Z30 -> 70600.15 | J31: =I31 -> 70600.15 | L31: ='ANEXO 2'!Q30 -> 84007.24 | M31: =ROUND((L31*$G31),2) -> 84007.24 | O31: =I31 -> 70600.15 | P31: =ROUND((O31*$G31),2) -> 70600.15
A32: 1.22 | E32: Desmonte de Sanitario | F32: UN | G32: 1 | I32: =ANEXO1!Z31 -> 47643.4 | J32: =I32 -> 47643.4 | L32: ='ANEXO 2'!Q31 -> 50229.88 | M32: =ROUND((L32*$G32),2) -> 50229.88 | O32: =I32 -> 47643.4 | P32: =ROUND((O32*$G32),2) -> 47643.4
... A36: 1.26 | E36: Demolición de mesón | F36: ML | G36: 1 | I36: =ANEXO1!Z35 -> 41488.04 | J36: =I36 -> 41488.04 | L36: ='ANEXO 2'!Q35 -> 42024.22 | M36: =ROUND((L36*$G36),2) -> 42024.22 | O36: =I36 -> 41488.04 | P36: =ROUND((O36*$G36),2) -> 41488.04
A37: 1.27 | E37: Demolición de enchape | F37: M2 | G37: 1 | I37: =ANEXO1!Z36 -> 20934.7 | J37: =I37 -> 20934.7 | L37: ='ANEXO 2'!Q36 -> 18170.73 | M37: =ROUND((L37*$G37),2) -> 18170.73 | O37: =ROUND(AVERAGE(I37,L37),2) -> 19552.72 | P37: =ROUND((O37*$G37),2) -> 19552.72
A38: 1.28 | E38: Demolición de pisos baños | F38: M2 | G38: 1 | I38: =ANEXO1!Z37 -> 18480.34 | J38: =I38 -> 18480.34 | L38: ='ANEXO 2'!Q37 -> 14276.79 | M38: =ROUND((L38*$G38),2) -> 14276.79 | O38: =ROUND(AVERAGE(I38,L38),2) -> 16378.57 | P38: =ROUND((O38*$G38),2) -> 16378.57
A39: 1.29 | E39: Desmonte y retiro de piso vinílico | F39: M2 | G39: 1 | I39: =ANEXO1!Z38 -> 16544.77 | J39: =I39 -> 16544.77 | L39: ='ANEXO 2'!Q38 -> 14422.42 | M39: =ROUND((L39*$G39),2) -> 14422.42 | O39: =ROUND(AVERAGE(I39,L39),2) -> 15483.6 | P39: =ROUND((O39*$G39),2) -> 15483.6
A40: 1.3 | E40: Desmonte de puertas en vidrio y fijos en vidrio templado | F40: M2 | G40: 1 | I40: =ANEXO1!Z39 -> 17879.37 | J40: =I40 -> 17879.37 | L40: ='ANEXO 2'!Q39 -> 21274.69 | M40: =ROUND((L40*$G40),2) -> 21274.69 | O40: =I40 -> 17879.37 | P40: =ROUND((O40*$G40),2) -> 17879.37
A41: 1.31 | E41: Desmonte de secador de manos | F41: UN | G41: 1 | I41: =ANEXO1!Z40 -> 23604.68 | J41: =I41 -> 23604.68 | L41: ='ANEXO 2'!Q40 -> 28087.25 | M41: =ROUND((L41*$G41),2) -> 28087.25 | O41: =I41 -> 23604.68 | P41: =ROUND((O41*$G41),2) -> 23604.68
A42: 1.32 | E42: Cerramiento provisional (poli sombra y parales de madera) | F42: M2 | G42: 1 | I42: =ANEXO1!Z41 -> 26574.27 | J42: =I42 -> 26574.27 | L42: ='ANEXO 2'!Q41 -> 31620.77 | M42: =ROUND((L42*$G42),2) -> 31620.77 | O42: =I42 -> 26574.27 | P42: =ROUND((O42*$G42),2) -> 26574.27
A43: 1.33 | E43: localización y replanteo | F43: M2 | G43: 1 | I43: =ANEXO1!Z42 -> 5325.26 | J43: =I43 -> 5325.26 | L43: ='ANEXO 2'!Q42 -> 4482.37 | M43: =ROUND((L43*$G43),2) -> 4482.37 | O43: =ROUND(AVERAGE(I43,L43),2) -> 4903.82 | P43: =ROUND((O43*$G43),2) -> 4903.82
A44: 1.34 | E44: Desmonte de muebles de cocina | F44: ML | G44: 1 | I44: =ANEXO1!Z43 -> 56472.33 | J44: =I44 -> 56472.33 | L44: ='ANEXO 2'!Q43 -> 87134.75 | M44: =ROUND((L44*$G44),2) -> 87134.75 | O44: =I44 -> 56472.33 | P44: =ROUND((O44*$G44),2) -> 56472.33
A45: 1.35 | E45: Desmonte de parlantes | F45: UN | G45: 1 | I45: =ANEXO1!Z44 -> 23903.9 | J45: =I45 -> 23903.9 | L45: ='ANEXO 2'!Q44 -> 31216.22 | M45: =ROUND((L45*$G45),2) -> 31216.22 | O45: =I45 -> 23903.9 | P45: =ROUND((O45*$G45),2) -> 23903.9
A46: 1.36 | E46: Desmonte de detectores de humo | F46: UN | G46: 1 | I46: =ANEXO1!Z45 -> 15252.99 | J46: =I46 -> 15252.99 | L46: ='ANEXO 2'!Q45 -> 13454.46 | M46: =ROUND((L46*$G46),2) -> 13454.46 | O46: =ROUND(AVERAGE(I46,L46),2) -> 14353.73 | P46: =ROUND((O46*$G46),2) -> 14353.73
...
