Workbook

Sheet EVALUACIÓN EXPERIENCIA
T1: CUMPLE | U1: HABILITADO | V1: SI
A2: EVALUACION TÉCNICA EXPERIENCIA GENERAL Y ESPECÍFICA DEL OFERENTE ASIGNACIÓN DE PUNTAJE CRPC - CAPACIDAD RESIDUAL PROCESO DE CONTRATACIÓN MC-SA-MC-0001-2026 - Realizar las obras de reparaciones locativas del inmueble Casa Museo Guillermo León Valencia de Popayán - Cauca, ubicado en el centro histórico declarado bien de interés cultural del ámbito nacional | T2: NO CUMPLE | U2: NO HABILITADO | V2: NO
A3: N° DE PROPONENTE | D3: 3 | F3: NOMBRE DEL PROPONENTE | G3: CONSORCIO VENTURA & CO | V3: N/A
A4: EDIFICIO | D4: PPTO OFICIAL | M4: SMLMV
A5: Casa Museo Guillermo León Valencia de Popayán - Cauca | D5: 724761029 | M5: =+D5/F167 -> 413.9351
A7: CRITERIOS DE EVALUACION DE EXPERIENCIA
A8: Experiencia exigida | F8: EXPERIENCIA GENERAL: proyectos que correspondan o contemplen actividades de: construcción y/o ampliación y/o reconstrucción y/o adecuación y/o conservación y/o intervención y/o instalación y/o mantenimiento y/o mejoramiento y/o modificación u optimización y/o rehabilitación y/o remodelación y/o reposición y/o reparación locativa y/o restauración y/o restitución y/o terminación y/o reforzamiento estructural y/o actualización sísmica y/o repotenciación estructural de monumentos.
F9: EXPERIENCIA ESPECIFICA: 1. Por lo menos uno (1) de los contratos válidos aportados como experiencia general debe corresponder mínimo al 30% del presupuesto oficial del presente proceso de selección
F10: EXPERIENCIA ESPECIFICA: 2. Por lo menos uno (1) de los contratos válidos aportados como experiencia general debe corresponder o contemple la construcción y/o ampliación y/o reconstrucción y/o adecuación y/o conservación y/o intervención y/o instalación y/o mantenimiento y/o mejoramiento y/o modificación u optimización y/o rehabilitación y/o remodelación y/o reposición y/o reparación locativa y/o restauración y/o restitución y/o terminación y/o reforzamiento estructural y/o actualización sísmica y/o repotenciación estructural DE EDIFICACIONES, DECLARADAS COMO BIENES DE INTERES CULTURAL y/o CONSERVACION PATRIMONIAL de conformidad con el proceso.
F11: EXPERIENCIA ESPECIFICA: 3. Por lo menos uno (1) de los contratos válidos aportados como experiencia general (diferente al indicado en el numeral 1) debe corresponder o contemple la construcción y/o ampliación y/o reconstrucción y/o adecuación y/o conservación y/o intervención y/o instalación y/o mantenimiento y/o mejoramiento y/o modificación u optimización y/o rehabilitación y/o remodelación y/o reposición y/o reparación locativa y/o restauración y/o restitución y/o terminación y/o reforzamiento estructural y/o actualización sísmica y/o repotenciación estructural DE EDIFICACIONES, DECLARADAS COMO BIENES DE INTERES CULTURAL y/o CONSERVACION PATRIMONIAL de conformidad con el proceso.
F12: EXPERIENCIA ESPECIFICA: 4. Por lo menos uno (1) de los contratos válidos aportados como experiencia general deben contemplar la construcción y/o ampliación y/o reconstrucción y/o adecuación y/o conservación y/o intervención y/o instalación y/o mantenimiento y/o mejoramiento y/o modificación u optimización y/o rehabilitación y/o remodelación y/o reposición y/o reparación locativa y/o restauración y/o restitución y/o terminación de edificaciones en alguno o algunos, de los siguientes materiales como predominante: madera y/o guadua y/o bahareque y/o tapia pisada y/o adobe.
A13: Cantidad de contratos para acreditar la experiencia mínima | F13: El Proponente podrá acreditar la experiencia solicitada con mínimo uno (1) y máximo cinco (5) Contratos, los cuales serán evaluados teniendo en cuenta la tabla del numeral 3.5.8 del Pliego de Condiciones, así como el contenido de la Matriz 1 – Experiencia. aplicable en el proyecto de infraestructura social bien sea de salud, educación, institucional, vivienda, cultura, recreación y deporte.
F14: El Proponente persona natural o jurídica que acredite la calidad de Mipyme o de emprendimiento y empresa de mujer con domicilio en el territorio nacional de conformidad con lo previsto en el artículo 2.2.1.13.2.2 del Decreto 1074 de 2015 y los artículos 2.2.1.2.4.2.4. y 2.2.1.2.4.2.14 del Decreto 1082 de 2015, o las normas que los modifiquen, sustituyan o complementen, podrá probar la experiencia solicitada con un (1) Contrato adicional a los cinco (5) inicialmente previstos, para un máximo de seis (6) Contratos.
F15: En caso de que el Proponente persona natural o jurídica acredite la calidad de Mipyme y de emprendimiento y empresa de mujer con domicilio en el territorio nacional de manera conjunta, podrá demostrar la experiencia solicitada con dos (2) Contratos adicionales a los cinco (5) inicialmente previstos, para un máximo de siete (7).
F16: Para el caso de Proponentes Plurales bastará con que uno de sus integrantes tenga una participación igual o superior al diez por ciento (10 %) en el Consorcio o en la Unión Temporal y acredite la calidad de Mipyme o emprendimiento y empresa de mujer de conformidad con lo previsto en el artículo 2.2.1.13.2.2 del Decreto 1074 de 2015 y los artículos 2.2.1.2.4.2.4. y 2.2.1.2.4.2.14 del Decreto 1082 de 2015, o las normas que los modifiquen, sustituyan o complementen, para probar la experiencia solicitada con un (1) Contrato adicional a los cinco (5) inicialmente contemplados, para un máximo de seis (6) Contratos. En caso de que el mismo integrante u otro que haga parte del Proponente Plural tenga una participación igual o superior al diez por ciento (10 %) en el Consorcio o en la Unión Temporal y acredite la calidad de Mipyme y de emprendimiento y empresa de mujer con domicilio en el territorio nacional de manera conjunta o separada, podrá demostrar la experiencia solicitada con dos (2) Contratos adicionales a los cinco (5) inicialmente previstos, para un máximo de siete (7) Contratos. En todo caso no será posible aportar más de dos (2) Contratos adicionales aun cuando otros integrantes del Proponente Plural también cumplan las condiciones previamente definidas.
F17: E.- Los Contratos aportados como experiencia válida y que correspondan a edificaciones debieron iniciar su ejecución luego de la expedición del Reglamento Colombiano de Construcción Sismo Resistente (NSR-98), esto es, después del 9 de enero de 1998. F.- Únicamente uno (1) de los Contratos relacionados como experiencia en edificaciones podrá haber iniciado ejecución antes del 9 de enero de 1998, fecha en la cual se expidió la NSR-98. G.- Si el Proponente relaciona un (1) único Contrato para acreditar la experiencia solicitada, este deberá haber iniciado, ejecutado, terminado, liquidado y recibido a satisfacción luego del 15 de julio de 2010, fecha en la cual entró en vigencia la NSR-10, y haya terminado su ejecución antes de la fecha de cierre del presente procedimiento de selección. H.- Por lo menos uno (1) de los Contratos válidos aportados como experiencia debe haber iniciado ejecución con posterioridad a la expedición de la NSR-10, el cual debió haberse ejecutado y terminado antes de la fecha de cierre del presente Proceso de Contratación. I.- Las reglas de los literales E, F, G y H también aplicarán para los Contratos ejecutados fuera del territorio colombiano, teniendo como referente las fechas establecidas en dichos literales. En todo caso, el proyecto de infraestructura social que se pretende ejecutar deberá cumplir con los estándares y normativa establecida para Colombia.
A18: Valor de los contratos para acreditar experiencia. | F18: Número de contratos con los cuales el Proponente cumple la experiencia acreditada | L18: Valor mínimo a certificar (como % del Presupuesto Oficial expresado en SMMLV)
F19: De 1 a 2 | L19: 0.75
F20: De 2 a 4 | L20: 1
F21: hasta 5 | L21: 1.5
A22: Experiencia acreditada por proponentes plurales | F22: Tratándose de Proponentes Plurales se tendrá en cuenta lo siguiente: i) uno de los integrantes debe aportar como mínimo el cincuenta por ciento (50 %) de la experiencia solicitada; ii) los demás integrantes deben acreditar al menos el cinco por ciento (5 %) de la experiencia solicitada; y iii) sin perjuicio de lo anterior, solo uno (1) de los integrantes, si así lo considera pertinente, podrá no acreditar experiencia. En este último caso, el porcentaje de participación del integrante que no aporta experiencia en la estructura plural no podrá superar el diez por ciento (10 %). Estos porcentajes que acreditarán los integrantes del Proponente Plural se podrán cumplir con Contratos válidos que acrediten cualquier requisito de experiencia solicitada en el Pliego de Condiciones, y se calcularán sobre el “valor mínimo a certificar (como % del Presupuesto Oficial de obra expresado en SMMLV)” de conformidad con el numeral 3.5.8. Independientemente de él o los integrantes del Proponente Plural que aporten Contratos para acreditar la experiencia, estos se tendrán en cuenta para calcular el “número de Contratos con los cuales el Proponente cumple la experiencia acreditada" de que trata el numeral citado. En armonía con lo anterior, para cumplir el requisito previsto en este literal no se solicitará la acreditación de longitudes, magnitudes, volúmenes o porcentajes requeridos en la experiencia específica, sino que bastará con acreditar los SMMLV.
A23: Clasificación de la experiencia en el "Clasificador de bienes, obras y servicios de las Naciones Unidas" | F23: Los Contratos aportados para efectos de acreditación de la experiencia requerida deben estar clasificados en alguno de los siguientes códigos: 721033 - 721029 - 721015
A25: 1. EVALUACION DE EXPERIENCIA
A26: FECHA DE EVALUACIÓN | F26: 46134
A27: PROPONENTE | F27: =+G3 -> CONSORCIO VENTURA & CO | I27: VERIFICACIÓN RUP | L27: VERIFICACION MYPINES Y MUJERES | P27: VERIFICACION PORCENTAJES EXPERIENCIA APORTADA CONSORCIO
A28: INTEGRANTE PROPONENTE PLURAL | H28: PARTICIPACIÓN | I28: 721015 | J28: 721029 | K28: 721033 | L28: MYPIMES | M28: MUJERES | N28: MYPIMES + MUJERES
A29: MARIA JOSE HERRERA GUZMAN | H29: 0.5 | I29: X | J29: X | K29: X | L29: X | M29: X | N29: X | P29: CUMPLE
A30: VENTURA & CO. SAS | H30: 0.5 | I30: X | J30: X | K30: X | L30: X | P30: CUMPLE
A35: EXPERIENCIA GENERAL Y ESPECÍFICA DEL OFERENTE
A36: N° | B36: NUMERO DE CONTRATO EN EL RUP | C36: EXPERIENCIA REQUERIDA PARA LA ACTIVIDAD PRINCIPAL | D36: NOMBRE DEL CONTRATANTE | E36: OBJETO DEL CONTRATO | F36: FECHA DE INICIO | G36: FECHA DE FINALIZACION | H36: VALOR TOTAL EN PESOS | I36: VALOR TOTAL EN SMMLV -RUP La conversión a valor presente para toda la información presentada se debe hacer con el valor del salario mínimo mensual legal vigente (SMMLV) en la fecha de terminación | J36: PORCENTAJE DE PARTICIPACION PARA CONSORCIOS O UNIONES TEMPORALES | K36: VALOR CERTIFICADO EN SMMLV | L36: BIC (especificar ámbito) | M36: CONTRATO 30% PO (marcar con X) | N36: CONTRATO MATERIAL PREDOMINANTE (especificar madera y/o guadua y/o bahareque y/o tapia pisada y/o adobe) | O36: CUMPLE / NO CUMPLE | P36: OBSERVACIONES (En caso de subsane, Indicar claramente lo que se debe subsanar)
A37: 1 | B37: 21 / MARIA JOSE HERRERA GUZMAN y 27 / VENTURA & CO. SAS | C37: GENERAL | D37: DEPARTAMENTO ADMINISTRATIVO DE LA PRESIDENCIA DE LA REPUBLICA | E37: CONTRATAR POR EL SISTEMA DE PRECIOS UNITARIOS FIJOS SIN FÓRMULA DE AJUSTE, LAS OBRAS CIVILES NECESARIAS PARA REFORZAMIENTO ESTRUCTURAL DE LA SEDE CASA PARA LA EQUIDAD DE LA MUJER UBICADA EN LA CALLE 10 NO 1-15 EN EL BARRIO LA CANDELARIA DE LA CIUDAD DE BOGOTÁ | F37: 43109 | G37: 43343 | H37: 1.1365318e+09 | I37: =+H37/F159 -> 1454.7756 | J37: 1 | K37: =+I37*J37 -> 1454.7756 | L37: conforme al PEMP Resolución 0088 de 2021; esta clasificados en el nivel 2 - conservación del tipo arquitectónico | M37: X | N37: adobe | O37: CUMPLE
A38: 2 | B38: 12 / MARIA JOSE HERRERA GUZMAN y 11 / VENTURA & CO. SAS | C38: ESPECIFICA | D38: CAMARA DE REPRESENTANTES | E38: OBRAS MINIMAS DE ADECUACION A LAS INSTALACIONES FISICAS DEL CAPITOLIO NACIONAL Y EL EDIFICIO NUEVO CONGRESO DONDE FUNCIONA LA CAMARA DE REPRESENTANTES (BIC) | F38: 41851 | G38: 41973 | H38: 307991800 | I38: =+H38/F155 -> 499.98669 | J38: 1 | K38: =+I38*J38 -> 499.98669 | L38: BIC del ámbito nacional, declarado por el Decreto 1584 del 11 de agosto de 1975 | M38: X | O38: CUMPLE
A39: 3 | B39: 2 / MARIA JOSE HERRERA GUZMAN y 2 / VENTURA & CO. SAS | C39: ESPECIFICA | D39: ARCHIVO GENERAL DE LA NACION | E39: REALIZAR LA IMPERMEABILIZACIÓN, MANTENIMIENTO, ARREGLO Y REPARACIÓN DE LAS TERRAZAS, CUBIERTAS Y PLAZOLETAS DEL BLOQUE SUR DEL AGN, LOCALIZADO EN LA CRA 6 NO. 6-91 DE BOGOTÁ D.C(BIC) 23/01/2012 | F39: 40931 | G39: 41046 | H39: 1.245366e+08 | I39: =+H39/F153 -> 219.75754 | J39: 1 | K39: =+I39*J39 -> 219.75754 | L39: BIC del ámbito nacional, declarado por la Resolución 1773 del 25 de octubre de 2007 | M39: X | O39: CUMPLE
A40: 4 | B40: 10 / MARIA JOSE HERRERA GUZMAN y 26 / VENTURA & CO. SAS | C40: ESPECIFICA | D40: POLICIA NACIONAL | E40: MANTENIMIENTO Y RESTAURACION DEL MUSEO HISTORICO DE LA POLICIA NACIONAL(BIC) | F40: 38714 | G40: 12//04/2006 | H40: 403414080 | I40: =+H40/F147 -> 988.76 | J40: 1 | K40: =+I40*J40 -> 988.76 | L40: BIC del ámbito nacional, declarado por el Decreto 2390 del 28 de septiembre de 1984 | M40: X | O40: CUMPLE
A41: 5 | K41: =+I41*J41 -> 0
A42: 6 | K42: =+I42*J42 -> 0
A43: 7 | K43: =+I43*J43 -> 0
J45: TOTAL | K45: =SUMIFS(K37:K44,O37:O44,"CUMPLE") -> 3163.2799
A48: PRESUPUESTO OFICIAL | E48: =D5 -> 724761029
A49: VALOR SMMLV 2026 | E49: 1750905
...

Sheet CRP SINGULAR
A1: CUMPLE | O1: SI
A2: NO CUMPLE | B2: ANEXO 1- 2. CRP - CAPACIDAD RESIDUAL PROPONENTE | O2: NO
B4: NOMBRE PROPONENTE | G4: % DE PARTICIPACIÓN | H4: INGRESO OPERACIONAL (más alto de los últimos cinco (5) años) | I4: ACTIVO CORRIENTE | J4: PASIVO CORRIENTE | K4: Número de socios y profesionales de la arquitectura, ingeniería y geología vinculados. | M4: SALDO DE LOS CONTRATOS EN EJECUCIÓN
B5: 1 | C5: ='EVALUACIÓN EXPERIENCIA'!$G$3 -> CONSORCIO VENTURA & CO
M6: =+AE70 -> 0
B7: ="TOTAL CRP PROPONENTE: "&$C$5 -> TOTAL CRP PROPONENTE: CONSORCIO VENTURA & CO | L7: =L64 -> 426630400
B8: ="CONDICIÓN DEL PROPONENTE: "&$C$5 -> CONDICIÓN DEL PROPONENTE: CONSORCIO VENTURA & CO | L8: =IF(AND(IF(L66="CUMPLE",TRUE,FALSE),IF(IF(L7<I13,Q26,Q25)="CUMPLE",TRUE,FALSE))=TRUE,"CUMPLE",IF(OR(L66="")=TRUE,"PENDIENTE REVISIÓN","NO CUMPLE")) -> PENDIENTE REVISIÓN
B10: CAPACIDAD RESIDUAL DEL PROCESO
B11: Vr. Presupuesto Oficial ($) | F11: Vr. Anticipo | H11: Plazo Meses | I11: Vr. Capacidad Residual proceso
B12: =+'EVALUACIÓN EXPERIENCIA'!D5 -> 724761029 | F12: =+B12*40% -> 2.8990441e+08 | H12: 3 | I12: =IFERROR(ROUND(((B12-F12)/H12)*12,0),0) -> 1739426470
B13: CAPACIDAD RESIDUAL DEL PROCESO DE CONTRATACIÓN | I13: =SUM(I12:N12) -> 1739426470
B15: ="PROPONENTE: "&$C$5 -> PROPONENTE: CONSORCIO VENTURA & CO
B16: PORCENTAJE DE PARTICIPACIÓN | I16: =$G$5 -> 0
B17: Capacidad Residual Proponente | H17: Factor | N17: P. M.
H18: Experiencia. (- E -) | N18: 120
H19: Capacidad Financiera. (CF) | N19: 40 | T19: IDENTIFICACIÓN DEL PROPONENTE: | V19: =B15 -> PROPONENTE: CONSORCIO VENTURA & CO
H20: Capacidad Técnica. (CT) | N20: 40 | Q20: SMMLV 2024 | T20: FECHA CIERRE | U20: 46132
H21: TOTAL | N21: =SUM(N18:N20) -> 200 | Q21: 1750905
B22: CAPACIDAD DE ORGANIZACIÓN. (CO) | T22: ÍTEMS | U22: CONTRATO No. | V22: FECHA INICIO (DD/MM/AAAA) | W22: FECHA TERMINACIÓN (DD/MM/AAAA) | X22: FECHA SUSPENSIÓN (DD/MM/AA) SI APLICA | Y22: VALOR DEL CONTRATO ( MONEDA LEGAL COLOMBIANA) | Z22: PORCENTAJE (%) DE PARTICIPACIÓN | AA22: VR. FINAL DEL CONTRATO EN EJECUCIÓN | AB22: PLAZO EJECUCIÓN (Días) | AC22: PLAZO EJECUTADO (Días) | AD22: PLAZO POR EJECUTAR (Días) | AE22: SALDO POR EJECUTAR
B23: Información Financiera. (Máximo 5 años anteriores) | I23: Ingresos Operacionales
B24: Ingreso Operacional más alto de los últimos cinco (5) años | I24: =IF($H$5>$R$29,$H$5,$R$29) -> 533288000 | T24: 1 | U24: M1 | AA24: =Y24*Z24 -> 0 | AB24: =DAYS360(V24,W24)+1 -> 1 | AC24: =IF(X24>$R$43,(X24-V24),($U$20-V24)) -> 46132 | AD24: =IF((AB24-AC24)>$P$26,$P$26,(AB24-AC24)) -> -46131 | AE24: =ROUND((AA24/AB24)*AD24,0) -> 0
B25: EXPERIENCIA DEL PROPONENTE (-E-) | P25: DÍAS | Q25: CUMPLE | R25: MESES | T25: =T24+1 -> 2 | U25: M2 | AA25: =Y25*Z25 -> 0 | AB25: =DAYS360(V25,W25)+1 -> 1 | AC25: =IF(X25>$R$43,(X25-V25),($U$20-V25)) -> 46132 | AD25: =IF((AB25-AC25)>$P$26,$P$26,(AB25-AC25)) -> -46131 | AE25: =ROUND((AA25/AB25)*AD25,0) -> 0
B26: Relación de contratos RUP en SMML | P26: 360 | Q26: NO CUMPLE | R26: 12 | T26: =T25+1 -> 3 | U26: M3 | AA26: =Y26*Z26 -> 0 | AB26: =DAYS360(V26,W26)+1 -> 1 | AC26: =IF(X26>$R$43,(X26-V26),($U$20-V26)) -> 46132 | AD26: =IF((AB26-AC26)>$P$26,$P$26,(AB26-AC26)) -> -46131 | AE26: =ROUND((AA26/AB26)*AD26,0) -> 0
B27: No | C27: Valor Contrato | D27: No | E27: Valor Contrato | F27: No | G27: Valor Contrato | H27: No | I27: Valor Contrato | J27: No | K27: Valor Contrato | L27: No | M27: Valor Contrato | N27: Segmento 72 "Servicios de Edificación, Construcción de Instalaciones y Mantenimiento" | T27: =T26+1 -> 4 | U27: M4 | AA27: =Y27*Z27 -> 0 | AB27: =DAYS360(V27,W27)+1 -> 1 | AC27: =IF(X27>$R$43,(X27-V27)+1,($U$20-V27)+1) -> 46133 | AD27: =IF((AB27-AC27)>$P$26,$P$26,(AB27-AC27)) -> -46132 | AE27: =ROUND((AA27/AB27)*AD27,0) -> 0
B28: 1 | D28: 22 | F28: 43 | H28: 64 | J28: 85 | L28: 106 | P28: INGRESOS MIN US$ | Q28: TRM VIGENTE | R28: INGRESOS OP. MIN | T28: =T27+1 -> 5 | U28: M5 | AA28: =Y28*Z28 -> 0 | AB28: =DAYS360(V28,W28)+1 -> 1 | AC28: =IF(X28>$R$43,(X28-V28)+1,($U$20-V28)+1) -> 46133 | AD28: =IF((AB28-AC28)>$P$26,$P$26,(AB28-AC28)) -> -46132 | AE28: =ROUND((AA28/AB28)*AD28,0) -> 0
B29: =+B28+1 -> 2 | D29: =+D28+1 -> 23 | F29: =+F28+1 -> 44 | H29: =+H28+1 -> 65 | J29: =+J28+1 -> 86 | L29: =+L28+1 -> 107 | P29: 125000 | Q29: =533287768/P29 -> 4266.3021 | R29: =ROUNDUP(P29*Q29,-3) -> 533288000 | T29: =T28+1 -> 6 | U29: M6 | AA29: =Y29*Z29 -> 0 | AB29: =DAYS360(V29,W29)+1 -> 1 | AC29: =IF(X29>$R$43,(X29-V29)+1,($U$20-V29)+1) -> 46133 | AD29: =IF((AB29-AC29)>$P$26,$P$26,(AB29-AC29)) -> -46132 | AE29: =ROUND((AA29/AB29)*AD29,0) -> 0
B30: =+B29+1 -> 3 | D30: =+D29+1 -> 24 | F30: =+F29+1 -> 45 | H30: =+H29+1 -> 66 | J30: =+J29+1 -> 87 | L30: =+L29+1 -> 108 | Q30: UMBRAL PYMES 2023 - 2024 COLOMBIA COMPRA | T30: =T29+1 -> 7 | U30: M7 | AA30: =Y30*Z30 -> 0 | AB30: =DAYS360(V30,W30)+1 -> 1 | AC30: =IF(X30>$R$43,(X30-V30)+1,($U$20-V30)+1) -> 46133 | AD30: =IF((AB30-AC30)>$P$26,$P$26,(AB30-AC30)) -> -46132 | AE30: =ROUND((AA30/AB30)*AD30,0) -> 0
B31: =+B30+1 -> 4 | D31: =+D30+1 -> 25 | F31: =+F30+1 -> 46 | H31: =+H30+1 -> 67 | J31: =+J30+1 -> 88 | L31: =+L30+1 -> 109 | P31: Experiencia veces | R31: puntaje | T31: =T30+1 -> 8 | U31: M8 | AA31: =Y31*Z31 -> 0 | AB31: =DAYS360(V31,W31)+1 -> 1 | AC31: =IF(X31>$R$43,(X31-V31)+1,($U$20-V31)+1) -> 46133 | AD31: =IF((AB31-AC31)>$P$26,$P$26,(AB31-AC31)) -> -46132 | AE31: =ROUND((AA31/AB31)*AD31,0) -> 0
B32: =+B31+1 -> 5 | D32: =+D31+1 -> 26 | F32: =+F31+1 -> 47 | H32: =+H31+1 -> 68 | J32: =+J31+1 -> 89 | L32: =+L31+1 -> 110 | P32: 0 | Q32: 3 | R32: 60 | T32: =T31+1 -> 9 | U32: M9 | AA32: =Y32*Z32 -> 0 | AB32: =DAYS360(V32,W32)+1 -> 1 | AC32: =IF(X32>$R$43,(X32-V32)+1,($U$20-V32)+1) -> 46133 | AD32: =IF((AB32-AC32)>$P$26,$P$26,(AB32-AC32)) -> -46132 | AE32: =ROUND((AA32/AB32)*AD32,0) -> 0
B33: =+B32+1 -> 6 | D33: =+D32+1 -> 27 | F33: =+F32+1 -> 48 | H33: =+H32+1 -> 69 | J33: =+J32+1 -> 90 | L33: =+L32+1 -> 111 | P33: 3 | Q33: 6 | R33: 80 | T33: =T32+1 -> 10 | U33: M10 | AA33: =Y33*Z33 -> 0 | AB33: =DAYS360(V33,W33)+1 -> 1 | AC33: =IF(X33>$R$43,(X33-V33)+1,($U$20-V33)+1) -> 46133 | AD33: =IF((AB33-AC33)>$P$26,$P$26,(AB33-AC33)) -> -46132 | AE33: =ROUND((AA33/AB33)*AD33,0) -> 0
B34: =+B33+1 -> 7 | D34: =+D33+1 -> 28 | F34: =+F33+1 -> 49 | H34: =+H33+1 -> 70 | J34: =+J33+1 -> 91 | L34: =+L33+1 -> 112 | P34: 6 | Q34: 10 | R34: 100 | T34: =T33+1 -> 11 | U34: M11 | AA34: =Y34*Z34 -> 0 | AB34: =DAYS360(V34,W34)+1 -> 1 | AC34: =IF(X34>$R$43,(X34-V34)+1,($U$20-V34)+1) -> 46133 | AD34: =IF((AB34-AC34)>$P$26,$P$26,(AB34-AC34)) -> -46132 | AE34: =ROUND((AA34/AB34)*AD34,0) -> 0
B35: =+B34+1 -> 8 | D35: =+D34+1 -> 29 | F35: =+F34+1 -> 50 | H35: =+H34+1 -> 71 | J35: =+J34+1 -> 92 | L35: =+L34+1 -> 113 | P35: 10 | R35: 120 | T35: =T34+1 -> 12 | U35: M12 | AA35: =Y35*Z35 -> 0 | AB35: =DAYS360(V35,W35)+1 -> 1 | AC35: =IF(X35>$R$43,(X35-V35)+1,($U$20-V35)+1) -> 46133 | AD35: =IF((AB35-AC35)>$P$26,$P$26,(AB35-AC35)) -> -46132 | AE35: =ROUND((AA35/AB35)*AD35,0) -> 0
B36: =+B35+1 -> 9 | D36: =+D35+1 -> 30 | F36: =+F35+1 -> 51 | H36: =+H35+1 -> 72 | J36: =+J35+1 -> 93 | L36: =+L35+1 -> 114 | P36: Índice liquidez | R36: puntaje | T36: =T35+1 -> 13 | U36: M13 | AA36: =Y36*Z36 -> 0 | AB36: =DAYS360(V36,W36)+1 -> 1 | AC36: =IF(X36>$R$43,(X36-V36)+1,($U$20-V36)+1) -> 46133 | AD36: =IF((AB36-AC36)>$P$26,$P$26,(AB36-AC36)) -> -46132 | AE36: =ROUND((AA36/AB36)*AD36,0) -> 0
B37: =+B36+1 -> 10 | D37: =+D36+1 -> 31 | F37: =+F36+1 -> 52 | H37: =+H36+1 -> 73 | J37: =+J36+1 -> 94 | L37: =+L36+1 -> 115 | P37: 0 | Q37: 0.5 | R37: 20 | T37: =T36+1 -> 14 | U37: M14 | AA37: =Y37*Z37 -> 0 | AB37: =DAYS360(V37,W37)+1 -> 1 | AC37: =IF(X37>$R$43,(X37-V37)+1,($U$20-V37)+1) -> 46133 | AD37: =IF((AB37-AC37)>$P$26,$P$26,(AB37-AC37)) -> -46132 | AE37: =ROUND((AA37/AB37)*AD37,0) -> 0
B38: =+B37+1 -> 11 | D38: =+D37+1 -> 32 | F38: =+F37+1 -> 53 | H38: =+H37+1 -> 74 | J38: =+J37+1 -> 95 | L38: =+L37+1 -> 116 | P38: 0.5 | Q38: 0.75 | R38: 25 | T38: =T37+1 -> 15 | U38: M15 | AA38: =Y38*Z38 -> 0 | AB38: =DAYS360(V38,W38)+1 -> 1 | AC38: =IF(X38>$R$43,(X38-V38)+1,($U$20-V38)+1) -> 46133 | AD38: =IF((AB38-AC38)>$P$26,$P$26,(AB38-AC38)) -> -46132 | AE38: =ROUND((AA38/AB38)*AD38,0) -> 0
B39: =+B38+1 -> 12 | D39: =+D38+1 -> 33 | F39: =+F38+1 -> 54 | H39: =+H38+1 -> 75 | J39: =+J38+1 -> 96 | L39: =+L38+1 -> 117 | P39: 0.75 | Q39: 1 | R39: 30 | T39: =T38+1 -> 16 | U39: M16 | AA39: =Y39*Z39 -> 0 | AB39: =DAYS360(V39,W39)+1 -> 1 | AC39: =IF(X39>$R$43,(X39-V39)+1,($U$20-V39)+1) -> 46133 | AD39: =IF((AB39-AC39)>$P$26,$P$26,(AB39-AC39)) -> -46132 | AE39: =ROUND((AA39/AB39)*AD39,0) -> 0
B40: =+B39+1 -> 13 | D40: =+D39+1 -> 34 | F40: =+F39+1 -> 55 | H40: =+H39+1 -> 76 | J40: =+J39+1 -> 97 | L40: =+L39+1 -> 118 | P40: 1 | Q40: 1.5 | R40: 35 | T40: =T39+1 -> 17 | U40: M17 | AA40: =Y40*Z40 -> 0 | AB40: =DAYS360(V40,W40)+1 -> 1 | AC40: =IF(X40>$R$43,(X40-V40)+1,($U$20-V40)+1) -> 46133 | AD40: =IF((AB40-AC40)>$P$26,$P$26,(AB40-AC40)) -> -46132 | AE40: =ROUND((AA40/AB40)*AD40,0) -> 0
B41: =+B40+1 -> 14 | D41: =+D40+1 -> 35 | F41: =+F40+1 -> 56 | H41: =+H40+1 -> 77 | J41: =+J40+1 -> 98 | L41: =+L40+1 -> 119 | P41: 1.5 | R41: 40 | T41: =T40+1 -> 18 | U41: M18 | AA41: =Y41*Z41 -> 0 | AB41: =DAYS360(V41,W41)+1 -> 1 | AC41: =IF(X41>$R$43,(X41-V41)+1,($U$20-V41)+1) -> 46133 | AD41: =IF((AB41-AC41)>$P$26,$P$26,(AB41-AC41)) -> -46132 | AE41: =ROUND((AA41/AB41)*AD41,0) -> 0
B42: =+B41+1 -> 15 | D42: =+D41+1 -> 36 | F42: =+F41+1 -> 57 | H42: =+H41+1 -> 78 | J42: =+J41+1 -> 99 | L42: =+L41+1 -> 120 | P42: Socios y Profesionales | R42: puntaje | T42: =T41+1 -> 19 | U42: M19 | AA42: =Y42*Z42 -> 0 | AB42: =DAYS360(V42,W42)+1 -> 1 | AC42: =IF(X42>$R$43,(X42-V42)+1,($U$20-V42)+1) -> 46133 | AD42: =IF((AB42-AC42)>$P$26,$P$26,(AB42-AC42)) -> -46132 | AE42: =ROUND((AA42/AB42)*AD42,0) -> 0
B43: =+B42+1 -> 16 | D43: =+D42+1 -> 37 | F43: =+F42+1 -> 58 | H43: =+H42+1 -> 79 | J43: =+J42+1 -> 100 | L43: =+L42+1 -> 121 | R43: 0 | T43: =T42+1 -> 20 | U43: M20 | AA43: =Y43*Z43 -> 0 | AB43: =DAYS360(V43,W43)+1 -> 1 | AC43: =IF(X43>$R$43,(X43-V43)+1,($U$20-V43)+1) -> 46133 | AD43: =IF((AB43-AC43)>$P$26,$P$26,(AB43-AC43)) -> -46132 | AE43: =ROUND((AA43/AB43)*AD43,0) -> 0
...

Sheet CRP PLURAL (2)
A1: CUMPLE | O1: SI
A2: NO CUMPLE | B2: ANEXO 1- 2. CRP - CAPACIDAD RESIDUAL PROPONENTE | O2: NO
B4: NOMBRE DEL PROPONENTE | F4: ='EVALUACIÓN EXPERIENCIA'!$G$3 -> CONSORCIO VENTURA & CO
B5: INTEGRANTES
B6: NOMBRE INTEGRANTES | G6: % DE PARTICIPACIÓN | H6: INGRESO OPERACIONAL (más alto de los últimos cinco (5) años) | I6: ACTIVO CORRIENTE | J6: PASIVO CORRIENTE | K6: Número de socios y profesionales de la arquitectura, ingeniería y geología vinculados. | M6: SALDO DE LOS CONTRATOS EN EJECUCIÓN
B7: 1 | C7: ='EVALUACIÓN EXPERIENCIA'!$A$29 -> MARIA JOSE HERRERA GUZMAN | G7: ='EVALUACIÓN EXPERIENCIA'!$H$29 -> 0.5 | H7: 2478729241 | I7: 1807490596 | J7: 465993517 | K7: 6 | M7: =427.08+5669509.33 -> 5669936.4
B8: 2 | C8: ='EVALUACIÓN EXPERIENCIA'!$A$30 -> VENTURA & CO. SAS | G8: ='EVALUACIÓN EXPERIENCIA'!$H$30 -> 0.5 | H8: 1853045600 | I8: 1853045600 | J8: 926522800 | K8: 2 | M8: 0
B10: ="CRP INTEGRANTE 1: "&$C$7 -> CRP INTEGRANTE 1: MARIA JOSE HERRERA GUZMAN | L10: =L69 -> 4.7039156e+09
B11: ="CRP INTEGRANTE 2: "&$C$8 -> CRP INTEGRANTE 2: VENTURA & CO. SAS | L11: =L120 -> 3335482080
B12: ="TOTAL CRP PROPONENTE: "&$F$4 -> TOTAL CRP PROPONENTE: CONSORCIO VENTURA & CO | L12: =SUM(L10:N11) -> 8.0393977e+09
B13: ="CONDICIÓN DEL PROPONENTE: "&$F$4 -> CONDICIÓN DEL PROPONENTE: CONSORCIO VENTURA & CO | L13: =IF(AND(IF(L122="CUMPLE",TRUE,FALSE),IF(L125="CUMPLE",TRUE,FALSE),IF(IF(L12<I18,Q28,Q27)="CUMPLE",TRUE,FALSE))=TRUE,"CUMPLE",IF(OR(L122="",L125="")=TRUE,"PENDIENTE REVISIÓN","NO CUMPLE")) -> CUMPLE
B15: CAPACIDAD RESIDUAL DEL PROCESO
B16: Vr. Presupuesto Oficial ($) | F16: Vr. Anticipo | H16: Plazo Meses | I16: Vr. Capacidad Residual proceso
B17: =+'EVALUACIÓN EXPERIENCIA'!D5 -> 724761029 | F17: =+B17*25% -> 1.8119026e+08 | H17: 3 | I17: =IFERROR(ROUND(((B17-F17)/H17)*12,0),0) -> 2174283087
B18: CAPACIDAD RESIDUAL DEL PROCESO DE CONTRATACIÓN | I18: =SUM(I17:N17) -> 2174283087
B20: ="INTEGRANTE 1: "&$C$7 -> INTEGRANTE 1: MARIA JOSE HERRERA GUZMAN
B21: PORCENTAJE DE PARTICIPACIÓN | I21: =$G$7 -> 0.5 | T21: IDENTIFICACIÓN DEL PROPONENTE: | V21: =B20 -> INTEGRANTE 1: MARIA JOSE HERRERA GUZMAN
B22: Capacidad Residual Proponente | H22: Factor | N22: P. M. | Q22: SMMLV 2025 | T22: FECHA CIERRE | U22: 45614
H23: Experiencia. (- E -) | N23: 120 | Q23: 1750905
H24: Capacidad Financiera. (CF) | N24: 40 | T24: ÍTEMS | U24: CONTRATO No. | V24: FECHA INICIO (DD/MM/AAAA) | W24: FECHA TERMINACIÓN (DD/MM/AAAA) | X24: FECHA SUSPENSIÓN (DD/MM/AA) SI APLICA | Y24: VALOR DEL CONTRATO ( MONEDA LEGAL COLOMBIANA) | Z24: PORCENTAJE (%) DE PARTICIPACIÓN | AA24: VR. FINAL DEL CONTRATO EN EJECUCIÓN | AB24: PLAZO EJECUCIÓN (Días) | AC24: PLAZO EJECUTADO (Días) | AD24: PLAZO POR EJECUTAR (Días) | AE24: SALDO POR EJECUTAR
H25: Capacidad Técnica. (CT) | N25: 40
H26: TOTAL | N26: =SUM(N23:N25) -> 200 | T26: 1 | U26: M1 | V26: 44995 | W26: 45545 | X26: 45475 | Y26: =2195389085 -> 2195389085 | Z26: 0.9 | AA26: =Y26*Z26 -> 1.9758502e+09 | AB26: =DAYS360(V26,W26) -> 540 | AC26: =IF(X26>$R$45,(X26-V26),($U$22-V26)) -> 480 | AD26: =IF((AB26-AC26)>$P$28,$P$28,(AB26-AC26)) -> 60 | AE26: =ROUND((AA26/AB26)*AD26,0) -> 219538909
B27: CAPACIDAD DE ORGANIZACIÓN. (CO) | P27: DÍAS | Q27: CUMPLE | R27: MESES | T27: =T26+1 -> 2 | U27: M2 | V27: 45229 | W27: =U22+81 -> 45695 | Y27: 5625559703 | Z27: 1 | AA27: =Y27*Z27 -> 5625559703 | AB27: =DAYS360(V27,W27) -> 457 | AC27: =IF(X27>$R$45,(X27-V27),($U$22-V27)) -> 385 | AD27: =IF((AB27-AC27)>$P$28,$P$28,(AB27-AC27)) -> 72 | AE27: 886496604
B28: Información Financiera. (Máximo 5 años anteriores) | I28: Ingresos Operacionales | P28: 360 | Q28: NO CUMPLE | R28: 12 | T28: =T27+1 -> 3 | U28: M3 | V28: 45245 | W28: 45762 | Y28: 9.3784714e+09 | Z28: 0.7 | AA28: =Y28*Z28 -> 6.56493e+09 | AB28: =DAYS360(V28,W28) -> 510 | AC28: =IF(X28>$R$45,(X28-V28),($U$22-V28)) -> 369 | AD28: =IF((AB28-AC28)>$P$28,$P$28,(AB28-AC28)) -> 141 | AE28: =ROUND((AA28/AB28)*AD28,0) -> 1815010047
B29: Ingreso Operacional más alto de los últimos cinco (5) años | I29: =IF($H$7>$R$31,$H$7,$R$31) -> 2478729241 | T29: =T28+1 -> 4 | U29: M4 | W29: =W28 -> 45762 | Y29: 0 | Z29: 1 | AA29: =Y29*Z29 -> 0 | AB29: =DAYS360(V29,W29)+1 -> 45106 | AC29: =IF(X29>$R$45,(X29-V29)+1,($U$22-V29)+1) -> 45615 | AD29: =IF((AB29-AC29)>$P$28,$P$28,(AB29-AC29)) -> -509 | AE29: =ROUND((AA29/AB29)*AD29,0) -> 0
B30: EXPERIENCIA DEL PROPONENTE (-E-) | P30: INGRESOS MIN US$ | Q30: TRM VIGENTE | R30: INGRESOS OP. MIN | T30: =T29+1 -> 5 | U30: M5 | W30: =W29 -> 45762 | Y30: 0 | Z30: 1 | AA30: =Y30*Z30 -> 0 | AB30: =DAYS360(V30,W30)+1 -> 45106 | AC30: =IF(X30>$R$45,(X30-V30)+1,($U$22-V30)+1) -> 45615 | AD30: =IF((AB30-AC30)>$P$28,$P$28,(AB30-AC30)) -> -509 | AE30: =ROUND((AA30/AB30)*AD30,0) -> 0
B31: Relación de contratos RUP en SMML | P31: 125000 | Q31: =533287768/P31 -> 4266.3021 | R31: =ROUNDUP(P31*Q31,-3) -> 533288000 | T31: =T30+1 -> 6 | U31: M6 | W31: =W30 -> 45762 | Y31: 0 | Z31: 1 | AA31: =Y31*Z31 -> 0 | AB31: =DAYS360(V31,W31)+1 -> 45106 | AC31: =IF(X31>$R$45,(X31-V31)+1,($U$22-V31)+1) -> 45615 | AD31: =IF((AB31-AC31)>$P$28,$P$28,(AB31-AC31)) -> -509 | AE31: =ROUND((AA31/AB31)*AD31,0) -> 0
B32: No | C32: Valor Contrato | D32: No | E32: Valor Contrato | F32: No | G32: Valor Contrato | H32: No | I32: Valor Contrato | J32: No | K32: Valor Contrato | L32: No | M32: Valor Contrato | N32: Segmento 72 "Servicios de Edificación, Construcción de Instalaciones y Mantenimiento" | Q32: UMBRAL PYMES 2023 - 2024 COLOMBIA COMPRA | T32: =T31+1 -> 7 | U32: M7 | W32: =W31 -> 45762 | Y32: 0 | Z32: 1 | AA32: =Y32*Z32 -> 0 | AB32: =DAYS360(V32,W32)+1 -> 45106 | AC32: =IF(X32>$R$45,(X32-V32)+1,($U$22-V32)+1) -> 45615 | AD32: =IF((AB32-AC32)>$P$28,$P$28,(AB32-AC32)) -> -509 | AE32: =ROUND((AA32/AB32)*AD32,0) -> 0
B33: 1 | C33: 212.55 | D33: 22 | E33: 595.77 | F33: 43 | H33: 64 | J33: 85 | L33: 106 | P33: Experiencia veces | R33: puntaje | T33: =T32+1 -> 8 | U33: M8 | W33: =W32 -> 45762 | Y33: 0 | Z33: 1 | AA33: =Y33*Z33 -> 0 | AB33: =DAYS360(V33,W33)+1 -> 45106 | AC33: =IF(X33>$R$45,(X33-V33)+1,($U$22-V33)+1) -> 45615 | AD33: =IF((AB33-AC33)>$P$28,$P$28,(AB33-AC33)) -> -509 | AE33: =ROUND((AA33/AB33)*AD33,0) -> 0
B34: =+B33+1 -> 2 | C34: 219.75 | D34: =+D33+1 -> 23 | E34: 1264.71 | F34: =+F33+1 -> 44 | H34: =+H33+1 -> 65 | J34: =+J33+1 -> 86 | L34: =+L33+1 -> 107 | P34: 0 | Q34: 3 | R34: 60 | T34: =T33+1 -> 9 | U34: M9 | W34: =W33 -> 45762 | Y34: 0 | Z34: 1 | AA34: =Y34*Z34 -> 0 | AB34: =DAYS360(V34,W34)+1 -> 45106 | AC34: =IF(X34>$R$45,(X34-V34)+1,($U$22-V34)+1) -> 45615 | AD34: =IF((AB34-AC34)>$P$28,$P$28,(AB34-AC34)) -> -509 | AE34: =ROUND((AA34/AB34)*AD34,0) -> 0
B35: =+B34+1 -> 3 | C35: 427.6 | D35: =+D34+1 -> 24 | E35: 2228.38 | F35: =+F34+1 -> 45 | H35: =+H34+1 -> 66 | J35: =+J34+1 -> 87 | L35: =+L34+1 -> 108 | P35: 3 | Q35: 6 | R35: 80 | T35: =T34+1 -> 10 | U35: M10 | W35: =W34 -> 45762 | Y35: 0 | Z35: 1 | AA35: =Y35*Z35 -> 0 | AB35: =DAYS360(V35,W35)+1 -> 45106 | AC35: =IF(X35>$R$45,(X35-V35)+1,($U$22-V35)+1) -> 45615 | AD35: =IF((AB35-AC35)>$P$28,$P$28,(AB35-AC35)) -> -509 | AE35: =ROUND((AA35/AB35)*AD35,0) -> 0
B36: =+B35+1 -> 4 | C36: 89.61 | D36: =+D35+1 -> 25 | E36: =516.76*0.75 -> 387.57 | F36: =+F35+1 -> 46 | H36: =+H35+1 -> 67 | J36: =+J35+1 -> 88 | L36: =+L35+1 -> 109 | P36: 6 | Q36: 10 | R36: 100 | T36: =T35+1 -> 11 | U36: M11 | W36: =W35 -> 45762 | Y36: 0 | Z36: 1 | AA36: =Y36*Z36 -> 0 | AB36: =DAYS360(V36,W36)+1 -> 45106 | AC36: =IF(X36>$R$45,(X36-V36)+1,($U$22-V36)+1) -> 45615 | AD36: =IF((AB36-AC36)>$P$28,$P$28,(AB36-AC36)) -> -509 | AE36: =ROUND((AA36/AB36)*AD36,0) -> 0
B37: =+B36+1 -> 5 | C37: =603.7*0.75 -> 452.775 | D37: =+D36+1 -> 26 | E37: =406.02*0.5 -> 203.01 | F37: =+F36+1 -> 47 | H37: =+H36+1 -> 68 | J37: =+J36+1 -> 89 | L37: =+L36+1 -> 110 | P37: 10 | R37: 120 | T37: =T36+1 -> 12 | U37: M12 | W37: =W36 -> 45762 | Y37: 0 | Z37: 1 | AA37: =Y37*Z37 -> 0 | AB37: =DAYS360(V37,W37)+1 -> 45106 | AC37: =IF(X37>$R$45,(X37-V37)+1,($U$22-V37)+1) -> 45615 | AD37: =IF((AB37-AC37)>$P$28,$P$28,(AB37-AC37)) -> -509 | AE37: =ROUND((AA37/AB37)*AD37,0) -> 0
B38: =+B37+1 -> 6 | C38: =143.08*0.5 -> 71.54 | D38: =+D37+1 -> 27 | E38: =686.47*0.5 -> 343.235 | F38: =+F37+1 -> 48 | H38: =+H37+1 -> 69 | J38: =+J37+1 -> 90 | L38: =+L37+1 -> 111 | P38: Índice liquidez | R38: puntaje | T38: =T37+1 -> 13 | U38: M13 | W38: =W37 -> 45762 | Y38: 0 | Z38: 1 | AA38: =Y38*Z38 -> 0 | AB38: =DAYS360(V38,W38)+1 -> 45106 | AC38: =IF(X38>$R$45,(X38-V38)+1,($U$22-V38)+1) -> 45615 | AD38: =IF((AB38-AC38)>$P$28,$P$28,(AB38-AC38)) -> -509 | AE38: =ROUND((AA38/AB38)*AD38,0) -> 0
B39: =+B38+1 -> 7 | C39: =231.38*0.5 -> 115.69 | D39: =+D38+1 -> 28 | E39: =359.82*0.5 -> 179.91 | F39: =+F38+1 -> 49 | H39: =+H38+1 -> 70 | J39: =+J38+1 -> 91 | L39: =+L38+1 -> 112 | P39: 0 | Q39: 0.5 | R39: 20 | T39: =T38+1 -> 14 | U39: M14 | W39: =W38 -> 45762 | Y39: 0 | Z39: 1 | AA39: =Y39*Z39 -> 0 | AB39: =DAYS360(V39,W39)+1 -> 45106 | AC39: =IF(X39>$R$45,(X39-V39)+1,($U$22-V39)+1) -> 45615 | AD39: =IF((AB39-AC39)>$P$28,$P$28,(AB39-AC39)) -> -509 | AE39: =ROUND((AA39/AB39)*AD39,0) -> 0
B40: =+B39+1 -> 8 | C40: =451.77*0.75 -> 338.8275 | D40: =+D39+1 -> 29 | E40: =1661.44*0.5 -> 830.72 | F40: =+F39+1 -> 50 | H40: =+H39+1 -> 71 | J40: =+J39+1 -> 92 | L40: =+L39+1 -> 113 | P40: 0.5 | Q40: 0.75 | R40: 25 | T40: =T39+1 -> 15 | U40: M15 | W40: =W39 -> 45762 | Y40: 0 | Z40: 1 | AA40: =Y40*Z40 -> 0 | AB40: =DAYS360(V40,W40)+1 -> 45106 | AC40: =IF(X40>$R$45,(X40-V40)+1,($U$22-V40)+1) -> 45615 | AD40: =IF((AB40-AC40)>$P$28,$P$28,(AB40-AC40)) -> -509 | AE40: =ROUND((AA40/AB40)*AD40,0) -> 0
B41: =+B40+1 -> 9 | C41: =424.29*0.45 -> 190.9305 | D41: =+D40+1 -> 30 | E41: =382.98*0.5 -> 191.49 | F41: =+F40+1 -> 51 | H41: =+H40+1 -> 72 | J41: =+J40+1 -> 93 | L41: =+L40+1 -> 114 | P41: 0.75 | Q41: 1 | R41: 30 | T41: =T40+1 -> 16 | U41: M16 | W41: =W40 -> 45762 | Y41: 0 | Z41: 1 | AA41: =Y41*Z41 -> 0 | AB41: =DAYS360(V41,W41)+1 -> 45106 | AC41: =IF(X41>$R$45,(X41-V41)+1,($U$22-V41)+1) -> 45615 | AD41: =IF((AB41-AC41)>$P$28,$P$28,(AB41-AC41)) -> -509 | AE41: =ROUND((AA41/AB41)*AD41,0) -> 0
B42: =+B41+1 -> 10 | C42: =988.76*0.75 -> 741.57 | D42: =+D41+1 -> 31 | E42: =230.21*0.5 -> 115.105 | F42: =+F41+1 -> 52 | H42: =+H41+1 -> 73 | J42: =+J41+1 -> 94 | L42: =+L41+1 -> 115 | P42: 1 | Q42: 1.5 | R42: 35 | T42: =T41+1 -> 17 | U42: M17 | W42: =W41 -> 45762 | Y42: 0 | Z42: 1 | AA42: =Y42*Z42 -> 0 | AB42: =DAYS360(V42,W42)+1 -> 45106 | AC42: =IF(X42>$R$45,(X42-V42)+1,($U$22-V42)+1) -> 45615 | AD42: =IF((AB42-AC42)>$P$28,$P$28,(AB42-AC42)) -> -509 | AE42: =ROUND((AA42/AB42)*AD42,0) -> 0
B43: =+B42+1 -> 11 | C43: 310.48 | D43: =+D42+1 -> 32 | E43: =812.44*0.5 -> 406.22 | F43: =+F42+1 -> 53 | H43: =+H42+1 -> 74 | J43: =+J42+1 -> 95 | L43: =+L42+1 -> 116 | P43: 1.5 | R43: 40 | T43: =T42+1 -> 18 | U43: M18 | W43: =W42 -> 45762 | Y43: 0 | Z43: 1 | AA43: =Y43*Z43 -> 0 | AB43: =DAYS360(V43,W43)+1 -> 45106 | AC43: =IF(X43>$R$45,(X43-V43)+1,($U$22-V43)+1) -> 45615 | AD43: =IF((AB43-AC43)>$P$28,$P$28,(AB43-AC43)) -> -509 | AE43: =ROUND((AA43/AB43)*AD43,0) -> 0
B44: =+B43+1 -> 12 | C44: 499.99 | D44: =+D43+1 -> 33 | E44: =1367.67*0.5 -> 683.835 | F44: =+F43+1 -> 54 | H44: =+H43+1 -> 75 | J44: =+J43+1 -> 96 | L44: =+L43+1 -> 117 | P44: Socios y Profesionales | R44: puntaje | T44: =T43+1 -> 19 | U44: M19 | W44: =W43 -> 45762 | Y44: 0 | Z44: 1 | AA44: =Y44*Z44 -> 0 | AB44: =DAYS360(V44,W44)+1 -> 45106 | AC44: =IF(X44>$R$45,(X44-V44)+1,($U$22-V44)+1) -> 45615 | AD44: =IF((AB44-AC44)>$P$28,$P$28,(AB44-AC44)) -> -509 | AE44: =ROUND((AA44/AB44)*AD44,0) -> 0
...

Sheet CRP PLURAL (3)
A1: CUMPLE | O1: SI
A2: NO CUMPLE | B2: ANEXO 1- 2. CRPC - CAPACIDAD RESIDUAL PROCESO DE CONTRATACIÓN | O2: NO
B4: NOMBRE DEL PROPONENTE | F4: ='EVALUACIÓN EXPERIENCIA'!$G$3 -> CONSORCIO VENTURA & CO
B5: INTEGRANTES
B6: NOMBRE INTEGRANTES | G6: % DE PARTICIPACIÓN | H6: INGRESO OPERACIONAL (más alto de los últimos cinco (5) años) | I6: ACTIVO CORRIENTE | J6: PASIVO CORRIENTE | K6: Número de socios y profesionales de la arquitectura, ingeniería y geología vinculados. | M6: SALDO DE LOS CONTRATOS EN EJECUCIÓN
B7: 1 | C7: ='EVALUACIÓN EXPERIENCIA'!$A$29 -> MARIA JOSE HERRERA GUZMAN | G7: ='EVALUACIÓN EXPERIENCIA'!$H$29 -> 0.5
B8: 2 | C8: ='EVALUACIÓN EXPERIENCIA'!$A$30 -> VENTURA & CO. SAS | G8: ='EVALUACIÓN EXPERIENCIA'!$H$30 -> 0.5
B9: 3 | C9: ='EVALUACIÓN EXPERIENCIA'!$A$31 -> 0 | G9: ='EVALUACIÓN EXPERIENCIA'!$H$31 -> 0
B11: ="CRP INTEGRANTE 1: "&$C$7 -> CRP INTEGRANTE 1: MARIA JOSE HERRERA GUZMAN | L11: =L70 -> 426630400
B12: ="CRP INTEGRANTE 2: "&$C$8 -> CRP INTEGRANTE 2: VENTURA & CO. SAS | L12: =L120 -> 426630400
B13: ="CRP INTEGRANTE 3: "&$C$9 -> CRP INTEGRANTE 3: 0 | L13: =L170 -> 426630400
B14: ="TOTAL CRP PROPONENTE: "&$F$4 -> TOTAL CRP PROPONENTE: CONSORCIO VENTURA & CO | L14: =SUM(L11:N13) -> 1279891200
B15: ="CONDICIÓN DEL PROPONENTE: "&$F$4 -> CONDICIÓN DEL PROPONENTE: CONSORCIO VENTURA & CO | L15: =IF(AND(IF(L172="CUMPLE",TRUE,FALSE),IF(L175="CUMPLE",TRUE,FALSE),IF(L178="CUMPLE",TRUE,FALSE),IF(IF(L14<I20,Q28,Q27)="CUMPLE",TRUE,FALSE))=TRUE,"CUMPLE",IF(OR(L172="",L175="",L178="")=TRUE,"PENDIENTE REVISIÓN","NO CUMPLE")) -> PENDIENTE REVISIÓN
B17: CAPACIDAD RESIDUAL DEL PROCESO
B18: Vr. Presupuesto Oficial ($) | F18: Vr. Anticipo | H18: Plazo Meses | I18: Vr. Capacidad Residual proceso
B19: =+'EVALUACIÓN EXPERIENCIA'!D5 -> 724761029 | F19: =+B19*25% -> 1.8119026e+08 | H19: 3 | I19: =IFERROR(ROUND(((B19-F19)/H19)*12,0),0) -> 2174283087
B20: CAPACIDAD RESIDUAL DEL PROCESO DE CONTRATACIÓN | I20: =SUM(I19:N19) -> 2174283087
T21: IDENTIFICACIÓN DEL PROPONENTE: | V21: =#REF! -> #REF!
B22: ="INTEGRANTE 1: "&$C$7 -> INTEGRANTE 1: MARIA JOSE HERRERA GUZMAN | Q22: SMMLV 2025 | T22: FECHA CIERRE | U22: 45614
B23: PORCENTAJE DE PARTICIPACIÓN | I23: =$G$7 -> 0.5 | Q23: 1423500
B24: Capacidad Residual Proponente | H24: Factor | N24: P. M. | T24: ÍTEMS | U24: CONTRATO No. | V24: FECHA INICIO (DD/MM/AAAA) | W24: FECHA TERMINACIÓN (DD/MM/AAAA) | X24: FECHA SUSPENSIÓN (DD/MM/AA) SI APLICA | Y24: VALOR DEL CONTRATO ( MONEDA LEGAL COLOMBIANA) | Z24: PORCENTAJE (%) DE PARTICIPACIÓN | AA24: VR. FINAL DEL CONTRATO EN EJECUCIÓN | AB24: PLAZO EJECUCIÓN (Días) | AC24: PLAZO EJECUTADO (Días) | AD24: PLAZO POR EJECUTAR (Días) | AE24: SALDO POR EJECUTAR
H25: Experiencia. (- E -) | N25: 120
H26: Capacidad Financiera. (CF) | N26: 40 | T26: 1 | U26: M1 | V26: 44995 | W26: 45545 | X26: 45475 | Y26: =2195389085 -> 2195389085 | Z26: 0.9 | AA26: =Y26*Z26 -> 1.9758502e+09 | AB26: =DAYS360(V26,W26) -> 540 | AC26: =IF(X26>$R$45,(X26-V26),($U$22-V26)) -> 480 | AD26: =IF((AB26-AC26)>$P$28,$P$28,(AB26-AC26)) -> 60 | AE26: =ROUND((AA26/AB26)*AD26,0) -> 219538909
H27: Capacidad Técnica. (CT) | N27: 40 | P27: DÍAS | Q27: CUMPLE | R27: MESES | T27: =T26+1 -> 2 | U27: M2 | V27: 45229 | W27: =U22+81 -> 45695 | Y27: 5625559703 | Z27: 1 | AA27: =Y27*Z27 -> 5625559703 | AB27: =DAYS360(V27,W27) -> 457 | AC27: =IF(X27>$R$45,(X27-V27),($U$22-V27)) -> 385 | AD27: =IF((AB27-AC27)>$P$28,$P$28,(AB27-AC27)) -> 72 | AE27: 886496604
H28: TOTAL | N28: =SUM(N25:N27) -> 200 | P28: 360 | Q28: NO CUMPLE | R28: 12 | T28: =T27+1 -> 3 | U28: M3 | V28: 45245 | W28: 45762 | Y28: 9.3784714e+09 | Z28: 0.7 | AA28: =Y28*Z28 -> 6.56493e+09 | AB28: =DAYS360(V28,W28) -> 510 | AC28: =IF(X28>$R$45,(X28-V28),($U$22-V28)) -> 369 | AD28: =IF((AB28-AC28)>$P$28,$P$28,(AB28-AC28)) -> 141 | AE28: =ROUND((AA28/AB28)*AD28,0) -> 1815010047
B29: CAPACIDAD DE ORGANIZACIÓN. (CO) | T29: =T28+1 -> 4 | U29: M4 | W29: =W28 -> 45762 | Y29: 0 | Z29: 1 | AA29: =Y29*Z29 -> 0 | AB29: =DAYS360(V29,W29)+1 -> 45106 | AC29: =IF(X29>$R$45,(X29-V29)+1,($U$22-V29)+1) -> 45615 | AD29: =IF((AB29-AC29)>$P$28,$P$28,(AB29-AC29)) -> -509 | AE29: =ROUND((AA29/AB29)*AD29,0) -> 0
B30: Información Financiera. (Máximo 5 años anteriores) | I30: Ingresos Operacionales | P30: INGRESOS MIN US$ | Q30: TRM VIGENTE | R30: INGRESOS OP. MIN | T30: =T29+1 -> 5 | U30: M5 | W30: =W29 -> 45762 | Y30: 0 | Z30: 1 | AA30: =Y30*Z30 -> 0 | AB30: =DAYS360(V30,W30)+1 -> 45106 | AC30: =IF(X30>$R$45,(X30-V30)+1,($U$22-V30)+1) -> 45615 | AD30: =IF((AB30-AC30)>$P$28,$P$28,(AB30-AC30)) -> -509 | AE30: =ROUND((AA30/AB30)*AD30,0) -> 0
B31: Ingreso Operacional más alto de los últimos cinco (5) años | I31: =IF($H$7>$R$31,$H$7,$R$31) -> 533288000 | P31: 125000 | Q31: =533287768/P31 -> 4266.3021 | R31: =ROUNDUP(P31*Q31,-3) -> 533288000 | T31: =T30+1 -> 6 | U31: M6 | W31: =W30 -> 45762 | Y31: 0 | Z31: 1 | AA31: =Y31*Z31 -> 0 | AB31: =DAYS360(V31,W31)+1 -> 45106 | AC31: =IF(X31>$R$45,(X31-V31)+1,($U$22-V31)+1) -> 45615 | AD31: =IF((AB31-AC31)>$P$28,$P$28,(AB31-AC31)) -> -509 | AE31: =ROUND((AA31/AB31)*AD31,0) -> 0
B32: EXPERIENCIA DEL PROPONENTE (-E-) | Q32: UMBRAL PYMES 2023 - 2024 COLOMBIA COMPRA | T32: =T31+1 -> 7 | U32: M7 | W32: =W31 -> 45762 | Y32: 0 | Z32: 1 | AA32: =Y32*Z32 -> 0 | AB32: =DAYS360(V32,W32)+1 -> 45106 | AC32: =IF(X32>$R$45,(X32-V32)+1,($U$22-V32)+1) -> 45615 | AD32: =IF((AB32-AC32)>$P$28,$P$28,(AB32-AC32)) -> -509 | AE32: =ROUND((AA32/AB32)*AD32,0) -> 0
B33: Relación de contratos RUP en SMML | P33: Experiencia veces | R33: puntaje | T33: =T32+1 -> 8 | U33: M8 | W33: =W32 -> 45762 | Y33: 0 | Z33: 1 | AA33: =Y33*Z33 -> 0 | AB33: =DAYS360(V33,W33)+1 -> 45106 | AC33: =IF(X33>$R$45,(X33-V33)+1,($U$22-V33)+1) -> 45615 | AD33: =IF((AB33-AC33)>$P$28,$P$28,(AB33-AC33)) -> -509 | AE33: =ROUND((AA33/AB33)*AD33,0) -> 0
B34: No | C34: Valor Contrato | D34: No | E34: Valor Contrato | F34: No | G34: Valor Contrato | H34: No | I34: Valor Contrato | J34: No | K34: Valor Contrato | L34: No | M34: Valor Contrato | N34: Segmento 72 "Servicios de Edificación, Construcción de Instalaciones y Mantenimiento" | P34: 0 | Q34: 3 | R34: 60 | T34: =T33+1 -> 9 | U34: M9 | W34: =W33 -> 45762 | Y34: 0 | Z34: 1 | AA34: =Y34*Z34 -> 0 | AB34: =DAYS360(V34,W34)+1 -> 45106 | AC34: =IF(X34>$R$45,(X34-V34)+1,($U$22-V34)+1) -> 45615 | AD34: =IF((AB34-AC34)>$P$28,$P$28,(AB34-AC34)) -> -509 | AE34: =ROUND((AA34/AB34)*AD34,0) -> 0
B35: 1 | D35: 22 | F35: 43 | H35: 64 | J35: 85 | L35: 106 | P35: 3 | Q35: 6 | R35: 80 | T35: =T34+1 -> 10 | U35: M10 | W35: =W34 -> 45762 | Y35: 0 | Z35: 1 | AA35: =Y35*Z35 -> 0 | AB35: =DAYS360(V35,W35)+1 -> 45106 | AC35: =IF(X35>$R$45,(X35-V35)+1,($U$22-V35)+1) -> 45615 | AD35: =IF((AB35-AC35)>$P$28,$P$28,(AB35-AC35)) -> -509 | AE35: =ROUND((AA35/AB35)*AD35,0) -> 0
B36: =+B35+1 -> 2 | D36: =+D35+1 -> 23 | F36: =+F35+1 -> 44 | H36: =+H35+1 -> 65 | J36: =+J35+1 -> 86 | L36: =+L35+1 -> 107 | P36: 6 | Q36: 10 | R36: 100 | T36: =T35+1 -> 11 | U36: M11 | W36: =W35 -> 45762 | Y36: 0 | Z36: 1 | AA36: =Y36*Z36 -> 0 | AB36: =DAYS360(V36,W36)+1 -> 45106 | AC36: =IF(X36>$R$45,(X36-V36)+1,($U$22-V36)+1) -> 45615 | AD36: =IF((AB36-AC36)>$P$28,$P$28,(AB36-AC36)) -> -509 | AE36: =ROUND((AA36/AB36)*AD36,0) -> 0
B37: =+B36+1 -> 3 | D37: =+D36+1 -> 24 | F37: =+F36+1 -> 45 | H37: =+H36+1 -> 66 | J37: =+J36+1 -> 87 | L37: =+L36+1 -> 108 | P37: 10 | R37: 120 | T37: =T36+1 -> 12 | U37: M12 | W37: =W36 -> 45762 | Y37: 0 | Z37: 1 | AA37: =Y37*Z37 -> 0 | AB37: =DAYS360(V37,W37)+1 -> 45106 | AC37: =IF(X37>$R$45,(X37-V37)+1,($U$22-V37)+1) -> 45615 | AD37: =IF((AB37-AC37)>$P$28,$P$28,(AB37-AC37)) -> -509 | AE37: =ROUND((AA37/AB37)*AD37,0) -> 0
B38: =+B37+1 -> 4 | D38: =+D37+1 -> 25 | F38: =+F37+1 -> 46 | H38: =+H37+1 -> 67 | J38: =+J37+1 -> 88 | L38: =+L37+1 -> 109 | P38: Índice liquidez | R38: puntaje | T38: =T37+1 -> 13 | U38: M13 | W38: =W37 -> 45762 | Y38: 0 | Z38: 1 | AA38: =Y38*Z38 -> 0 | AB38: =DAYS360(V38,W38)+1 -> 45106 | AC38: =IF(X38>$R$45,(X38-V38)+1,($U$22-V38)+1) -> 45615 | AD38: =IF((AB38-AC38)>$P$28,$P$28,(AB38-AC38)) -> -509 | AE38: =ROUND((AA38/AB38)*AD38,0) -> 0
B39: =+B38+1 -> 5 | D39: =+D38+1 -> 26 | F39: =+F38+1 -> 47 | H39: =+H38+1 -> 68 | J39: =+J38+1 -> 89 | L39: =+L38+1 -> 110 | P39: 0 | Q39: 0.5 | R39: 20 | T39: =T38+1 -> 14 | U39: M14 | W39: =W38 -> 45762 | Y39: 0 | Z39: 1 | AA39: =Y39*Z39 -> 0 | AB39: =DAYS360(V39,W39)+1 -> 45106 | AC39: =IF(X39>$R$45,(X39-V39)+1,($U$22-V39)+1) -> 45615 | AD39: =IF((AB39-AC39)>$P$28,$P$28,(AB39-AC39)) -> -509 | AE39: =ROUND((AA39/AB39)*AD39,0) -> 0
B40: =+B39+1 -> 6 | D40: =+D39+1 -> 27 | F40: =+F39+1 -> 48 | H40: =+H39+1 -> 69 | J40: =+J39+1 -> 90 | L40: =+L39+1 -> 111 | P40: 0.5 | Q40: 0.75 | R40: 25 | T40: =T39+1 -> 15 | U40: M15 | W40: =W39 -> 45762 | Y40: 0 | Z40: 1 | AA40: =Y40*Z40 -> 0 | AB40: =DAYS360(V40,W40)+1 -> 45106 | AC40: =IF(X40>$R$45,(X40-V40)+1,($U$22-V40)+1) -> 45615 | AD40: =IF((AB40-AC40)>$P$28,$P$28,(AB40-AC40)) -> -509 | AE40: =ROUND((AA40/AB40)*AD40,0) -> 0
B41: =+B40+1 -> 7 | D41: =+D40+1 -> 28 | F41: =+F40+1 -> 49 | H41: =+H40+1 -> 70 | J41: =+J40+1 -> 91 | L41: =+L40+1 -> 112 | P41: 0.75 | Q41: 1 | R41: 30 | T41: =T40+1 -> 16 | U41: M16 | W41: =W40 -> 45762 | Y41: 0 | Z41: 1 | AA41: =Y41*Z41 -> 0 | AB41: =DAYS360(V41,W41)+1 -> 45106 | AC41: =IF(X41>$R$45,(X41-V41)+1,($U$22-V41)+1) -> 45615 | AD41: =IF((AB41-AC41)>$P$28,$P$28,(AB41-AC41)) -> -509 | AE41: =ROUND((AA41/AB41)*AD41,0) -> 0
B42: =+B41+1 -> 8 | D42: =+D41+1 -> 29 | F42: =+F41+1 -> 50 | H42: =+H41+1 -> 71 | J42: =+J41+1 -> 92 | L42: =+L41+1 -> 113 | P42: 1 | Q42: 1.5 | R42: 35 | T42: =T41+1 -> 17 | U42: M17 | W42: =W41 -> 45762 | Y42: 0 | Z42: 1 | AA42: =Y42*Z42 -> 0 | AB42: =DAYS360(V42,W42)+1 -> 45106 | AC42: =IF(X42>$R$45,(X42-V42)+1,($U$22-V42)+1) -> 45615 | AD42: =IF((AB42-AC42)>$P$28,$P$28,(AB42-AC42)) -> -509 | AE42: =ROUND((AA42/AB42)*AD42,0) -> 0
B43: =+B42+1 -> 9 | D43: =+D42+1 -> 30 | F43: =+F42+1 -> 51 | H43: =+H42+1 -> 72 | J43: =+J42+1 -> 93 | L43: =+L42+1 -> 114 | P43: 1.5 | R43: 40 | T43: =T42+1 -> 18 | U43: M18 | W43: =W42 -> 45762 | Y43: 0 | Z43: 1 | AA43: =Y43*Z43 -> 0 | AB43: =DAYS360(V43,W43)+1 -> 45106 | AC43: =IF(X43>$R$45,(X43-V43)+1,($U$22-V43)+1) -> 45615 | AD43: =IF((AB43-AC43)>$P$28,$P$28,(AB43-AC43)) -> -509 | AE43: =ROUND((AA43/AB43)*AD43,0) -> 0
...

Sheet CRP PLURAL (4)
A1: CUMPLE | O1: SI
A2: NO CUMPLE | B2: ANEXO 1- 2. CRPC - CAPACIDAD RESIDUAL PROCESO DE CONTRATACIÓN | O2: NO
B4: NOMBRE DEL PROPONENTE | F4: ='EVALUACIÓN EXPERIENCIA'!$G$3 -> CONSORCIO VENTURA & CO
B5: INTEGRANTES
B6: NOMBRE INTEGRANTES | G6: % DE PARTICIPACIÓN | H6: INGRESO OPERACIONAL (más alto de los últimos cinco (5) años) | I6: ACTIVO CORRIENTE | J6: PASIVO CORRIENTE | K6: Número de socios y profesionales de la arquitectura, ingeniería y geología vinculados. | M6: SALDO DE LOS CONTRATOS EN EJECUCIÓN
B7: 1 | C7: ='EVALUACIÓN EXPERIENCIA'!$A$29 -> MARIA JOSE HERRERA GUZMAN | G7: ='EVALUACIÓN EXPERIENCIA'!$H$29 -> 0.5
B8: 2 | C8: ='EVALUACIÓN EXPERIENCIA'!$A$30 -> VENTURA & CO. SAS | G8: ='EVALUACIÓN EXPERIENCIA'!$H$30 -> 0.5
B9: 3 | C9: ='EVALUACIÓN EXPERIENCIA'!$A$31 -> 0 | G9: ='EVALUACIÓN EXPERIENCIA'!$H$31 -> 0
B10: 4 | C10: ='EVALUACIÓN EXPERIENCIA'!$A$32 -> 0 | G10: ='EVALUACIÓN EXPERIENCIA'!$H$32 -> 0
B12: ="CRP INTEGRANTE 1: "&$C$7 -> CRP INTEGRANTE 1: MARIA JOSE HERRERA GUZMAN | L12: =L72 -> 426630400
B13: ="CRP INTEGRANTE 2: "&$C$8 -> CRP INTEGRANTE 2: VENTURA & CO. SAS | L13: =L122 -> 426630400
B14: ="CRP INTEGRANTE 3: "&$C$9 -> CRP INTEGRANTE 3: 0 | L14: =L172 -> 426630400
B15: ="CRP INTEGRANTE 4: "&$C$10 -> CRP INTEGRANTE 4: 0 | L15: =$L$222 -> 426630400
B16: ="TOTAL CRP PROPONENTE: "&$F$4 -> TOTAL CRP PROPONENTE: CONSORCIO VENTURA & CO | L16: =SUM(L12:N15) -> 1706521600
B17: ="CONDICIÓN DEL PROPONENTE: "&$F$4 -> CONDICIÓN DEL PROPONENTE: CONSORCIO VENTURA & CO | L17: =IF(AND(IF(L224="CUMPLE",TRUE,FALSE),IF(L227="CUMPLE",TRUE,FALSE),IF(L230="CUMPLE",TRUE,FALSE),IF(L233="CUMPLE",TRUE,FALSE),IF(IF(L16<I22,Q28,Q27)="CUMPLE",TRUE,FALSE))=TRUE,"CUMPLE",IF(OR(L224="",L227="",L230="",L233="")=TRUE,"PENDIENTE REVISIÓN","NO CUMPLE")) -> PENDIENTE REVISIÓN
B19: CAPACIDAD RESIDUAL DEL PROCESO
B20: Vr. Presupuesto Oficial ($) | F20: Vr. Anticipo | H20: Plazo Meses | I20: Vr. Capacidad Residual proceso
B21: =+'EVALUACIÓN EXPERIENCIA'!D5 -> 724761029 | F21: =+B21*25% -> 1.8119026e+08 | H21: 3 | I21: =IFERROR(ROUND(((B21-F21)/H21)*12,0),0) -> 2174283087 | T21: IDENTIFICACIÓN DEL PROPONENTE: | V21: =B24 -> INTEGRANTE 1: MARIA JOSE HERRERA GUZMAN
B22: CAPACIDAD RESIDUAL DEL PROCESO DE CONTRATACIÓN | I22: =SUM(I21:N21) -> 2174283087 | Q22: SMMLV 2025 | T22: FECHA CIERRE | U22: 45614
Q23: 1423500
B24: ="INTEGRANTE 1: "&$C$7 -> INTEGRANTE 1: MARIA JOSE HERRERA GUZMAN | T24: ÍTEMS | U24: CONTRATO No. | V24: FECHA INICIO (DD/MM/AAAA) | W24: FECHA TERMINACIÓN (DD/MM/AAAA) | X24: FECHA SUSPENSIÓN (DD/MM/AA) SI APLICA | Y24: VALOR DEL CONTRATO ( MONEDA LEGAL COLOMBIANA) | Z24: PORCENTAJE (%) DE PARTICIPACIÓN | AA24: VR. FINAL DEL CONTRATO EN EJECUCIÓN | AB24: PLAZO EJECUCIÓN (Días) | AC24: PLAZO EJECUTADO (Días) | AD24: PLAZO POR EJECUTAR (Días) | AE24: SALDO POR EJECUTAR
B25: PORCENTAJE DE PARTICIPACIÓN | I25: =$G$7 -> 0.5
B26: Capacidad Residual Proponente | H26: Factor | N26: P. M. | T26: 1 | U26: M1 | V26: 44995 | W26: 45545 | X26: 45475 | Y26: =2195389085 -> 2195389085 | Z26: 0.9 | AA26: =Y26*Z26 -> 1.9758502e+09 | AB26: =DAYS360(V26,W26) -> 540 | AC26: =IF(X26>$R$45,(X26-V26),($U$22-V26)) -> 480 | AD26: =IF((AB26-AC26)>$P$28,$P$28,(AB26-AC26)) -> 60 | AE26: =ROUND((AA26/AB26)*AD26,0) -> 219538909
H27: Experiencia. (- E -) | N27: 120 | P27: DÍAS | Q27: CUMPLE | R27: MESES | T27: =T26+1 -> 2 | U27: M2 | V27: 45229 | W27: =U22+81 -> 45695 | Y27: 5625559703 | Z27: 1 | AA27: =Y27*Z27 -> 5625559703 | AB27: =DAYS360(V27,W27) -> 457 | AC27: =IF(X27>$R$45,(X27-V27),($U$22-V27)) -> 385 | AD27: =IF((AB27-AC27)>$P$28,$P$28,(AB27-AC27)) -> 72 | AE27: 886496604
H28: Capacidad Financiera. (CF) | N28: 40 | P28: 360 | Q28: NO CUMPLE | R28: 12 | T28: =T27+1 -> 3 | U28: M3 | V28: 45245 | W28: 45762 | Y28: 9.3784714e+09 | Z28: 0.7 | AA28: =Y28*Z28 -> 6.56493e+09 | AB28: =DAYS360(V28,W28) -> 510 | AC28: =IF(X28>$R$45,(X28-V28),($U$22-V28)) -> 369 | AD28: =IF((AB28-AC28)>$P$28,$P$28,(AB28-AC28)) -> 141 | AE28: =ROUND((AA28/AB28)*AD28,0) -> 1815010047
H29: Capacidad Técnica. (CT) | N29: 40 | T29: =T28+1 -> 4 | U29: M4 | W29: =W28 -> 45762 | Y29: 0 | Z29: 1 | AA29: =Y29*Z29 -> 0 | AB29: =DAYS360(V29,W29)+1 -> 45106 | AC29: =IF(X29>$R$45,(X29-V29)+1,($U$22-V29)+1) -> 45615 | AD29: =IF((AB29-AC29)>$P$28,$P$28,(AB29-AC29)) -> -509 | AE29: =ROUND((AA29/AB29)*AD29,0) -> 0
H30: TOTAL | N30: =SUM(N27:N29) -> 200 | P30: INGRESOS MIN US$ | Q30: TRM VIGENTE | R30: INGRESOS OP. MIN | T30: =T29+1 -> 5 | U30: M5 | W30: =W29 -> 45762 | Y30: 0 | Z30: 1 | AA30: =Y30*Z30 -> 0 | AB30: =DAYS360(V30,W30)+1 -> 45106 | AC30: =IF(X30>$R$45,(X30-V30)+1,($U$22-V30)+1) -> 45615 | AD30: =IF((AB30-AC30)>$P$28,$P$28,(AB30-AC30)) -> -509 | AE30: =ROUND((AA30/AB30)*AD30,0) -> 0
B31: CAPACIDAD DE ORGANIZACIÓN. (CO) | P31: 125000 | Q31: =533287768/P31 -> 4266.3021 | R31: =ROUNDUP(P31*Q31,-3) -> 533288000 | T31: =T30+1 -> 6 | U31: M6 | W31: =W30 -> 45762 | Y31: 0 | Z31: 1 | AA31: =Y31*Z31 -> 0 | AB31: =DAYS360(V31,W31)+1 -> 45106 | AC31: =IF(X31>$R$45,(X31-V31)+1,($U$22-V31)+1) -> 45615 | AD31: =IF((AB31-AC31)>$P$28,$P$28,(AB31-AC31)) -> -509 | AE31: =ROUND((AA31/AB31)*AD31,0) -> 0
B32: Información Financiera. (Máximo 5 años anteriores) | I32: Ingresos Operacionales | Q32: UMBRAL PYMES 2023 - 2024 COLOMBIA COMPRA | T32: =T31+1 -> 7 | U32: M7 | W32: =W31 -> 45762 | Y32: 0 | Z32: 1 | AA32: =Y32*Z32 -> 0 | AB32: =DAYS360(V32,W32)+1 -> 45106 | AC32: =IF(X32>$R$45,(X32-V32)+1,($U$22-V32)+1) -> 45615 | AD32: =IF((AB32-AC32)>$P$28,$P$28,(AB32-AC32)) -> -509 | AE32: =ROUND((AA32/AB32)*AD32,0) -> 0
B33: Ingreso Operacional más alto de los últimos cinco (5) años | I33: =IF($H$7>$R$31,$H$7,$R$31) -> 533288000 | P33: Experiencia veces | R33: puntaje | T33: =T32+1 -> 8 | U33: M8 | W33: =W32 -> 45762 | Y33: 0 | Z33: 1 | AA33: =Y33*Z33 -> 0 | AB33: =DAYS360(V33,W33)+1 -> 45106 | AC33: =IF(X33>$R$45,(X33-V33)+1,($U$22-V33)+1) -> 45615 | AD33: =IF((AB33-AC33)>$P$28,$P$28,(AB33-AC33)) -> -509 | AE33: =ROUND((AA33/AB33)*AD33,0) -> 0
B34: EXPERIENCIA DEL PROPONENTE (-E-) | P34: 0 | Q34: 3 | R34: 60 | T34: =T33+1 -> 9 | U34: M9 | W34: =W33 -> 45762 | Y34: 0 | Z34: 1 | AA34: =Y34*Z34 -> 0 | AB34: =DAYS360(V34,W34)+1 -> 45106 | AC34: =IF(X34>$R$45,(X34-V34)+1,($U$22-V34)+1) -> 45615 | AD34: =IF((AB34-AC34)>$P$28,$P$28,(AB34-AC34)) -> -509 | AE34: =ROUND((AA34/AB34)*AD34,0) -> 0
B35: Relación de contratos RUP en SMML | P35: 3 | Q35: 6 | R35: 80 | T35: =T34+1 -> 10 | U35: M10 | W35: =W34 -> 45762 | Y35: 0 | Z35: 1 | AA35: =Y35*Z35 -> 0 | AB35: =DAYS360(V35,W35)+1 -> 45106 | AC35: =IF(X35>$R$45,(X35-V35)+1,($U$22-V35)+1) -> 45615 | AD35: =IF((AB35-AC35)>$P$28,$P$28,(AB35-AC35)) -> -509 | AE35: =ROUND((AA35/AB35)*AD35,0) -> 0
B36: No | C36: Valor Contrato | D36: No | E36: Valor Contrato | F36: No | G36: Valor Contrato | H36: No | I36: Valor Contrato | J36: No | K36: Valor Contrato | L36: No | M36: Valor Contrato | N36: Segmento 72 "Servicios de Edificación, Construcción de Instalaciones y Mantenimiento" | P36: 6 | Q36: 10 | R36: 100 | T36: =T35+1 -> 11 | U36: M11 | W36: =W35 -> 45762 | Y36: 0 | Z36: 1 | AA36: =Y36*Z36 -> 0 | AB36: =DAYS360(V36,W36)+1 -> 45106 | AC36: =IF(X36>$R$45,(X36-V36)+1,($U$22-V36)+1) -> 45615 | AD36: =IF((AB36-AC36)>$P$28,$P$28,(AB36-AC36)) -> -509 | AE36: =ROUND((AA36/AB36)*AD36,0) -> 0
B37: 1 | D37: 22 | F37: 43 | H37: 64 | J37: 85 | L37: 106 | P37: 10 | R37: 120 | T37: =T36+1 -> 12 | U37: M12 | W37: =W36 -> 45762 | Y37: 0 | Z37: 1 | AA37: =Y37*Z37 -> 0 | AB37: =DAYS360(V37,W37)+1 -> 45106 | AC37: =IF(X37>$R$45,(X37-V37)+1,($U$22-V37)+1) -> 45615 | AD37: =IF((AB37-AC37)>$P$28,$P$28,(AB37-AC37)) -> -509 | AE37: =ROUND((AA37/AB37)*AD37,0) -> 0
B38: =+B37+1 -> 2 | D38: =+D37+1 -> 23 | F38: =+F37+1 -> 44 | H38: =+H37+1 -> 65 | J38: =+J37+1 -> 86 | L38: =+L37+1 -> 107 | P38: Índice liquidez | R38: puntaje | T38: =T37+1 -> 13 | U38: M13 | W38: =W37 -> 45762 | Y38: 0 | Z38: 1 | AA38: =Y38*Z38 -> 0 | AB38: =DAYS360(V38,W38)+1 -> 45106 | AC38: =IF(X38>$R$45,(X38-V38)+1,($U$22-V38)+1) -> 45615 | AD38: =IF((AB38-AC38)>$P$28,$P$28,(AB38-AC38)) -> -509 | AE38: =ROUND((AA38/AB38)*AD38,0) -> 0
B39: =+B38+1 -> 3 | D39: =+D38+1 -> 24 | F39: =+F38+1 -> 45 | H39: =+H38+1 -> 66 | J39: =+J38+1 -> 87 | L39: =+L38+1 -> 108 | P39: 0 | Q39: 0.5 | R39: 20 | T39: =T38+1 -> 14 | U39: M14 | W39: =W38 -> 45762 | Y39: 0 | Z39: 1 | AA39: =Y39*Z39 -> 0 | AB39: =DAYS360(V39,W39)+1 -> 45106 | AC39: =IF(X39>$R$45,(X39-V39)+1,($U$22-V39)+1) -> 45615 | AD39: =IF((AB39-AC39)>$P$28,$P$28,(AB39-AC39)) -> -509 | AE39: =ROUND((AA39/AB39)*AD39,0) -> 0
B40: =+B39+1 -> 4 | D40: =+D39+1 -> 25 | F40: =+F39+1 -> 46 | H40: =+H39+1 -> 67 | J40: =+J39+1 -> 88 | L40: =+L39+1 -> 109 | P40: 0.5 | Q40: 0.75 | R40: 25 | T40: =T39+1 -> 15 | U40: M15 | W40: =W39 -> 45762 | Y40: 0 | Z40: 1 | AA40: =Y40*Z40 -> 0 | AB40: =DAYS360(V40,W40)+1 -> 45106 | AC40: =IF(X40>$R$45,(X40-V40)+1,($U$22-V40)+1) -> 45615 | AD40: =IF((AB40-AC40)>$P$28,$P$28,(AB40-AC40)) -> -509 | AE40: =ROUND((AA40/AB40)*AD40,0) -> 0
B41: =+B40+1 -> 5 | D41: =+D40+1 -> 26 | F41: =+F40+1 -> 47 | H41: =+H40+1 -> 68 | J41: =+J40+1 -> 89 | L41: =+L40+1 -> 110 | P41: 0.75 | Q41: 1 | R41: 30 | T41: =T40+1 -> 16 | U41: M16 | W41: =W40 -> 45762 | Y41: 0 | Z41: 1 | AA41: =Y41*Z41 -> 0 | AB41: =DAYS360(V41,W41)+1 -> 45106 | AC41: =IF(X41>$R$45,(X41-V41)+1,($U$22-V41)+1) -> 45615 | AD41: =IF((AB41-AC41)>$P$28,$P$28,(AB41-AC41)) -> -509 | AE41: =ROUND((AA41/AB41)*AD41,0) -> 0
B42: =+B41+1 -> 6 | D42: =+D41+1 -> 27 | F42: =+F41+1 -> 48 | H42: =+H41+1 -> 69 | J42: =+J41+1 -> 90 | L42: =+L41+1 -> 111 | P42: 1 | Q42: 1.5 | R42: 35 | T42: =T41+1 -> 17 | U42: M17 | W42: =W41 -> 45762 | Y42: 0 | Z42: 1 | AA42: =Y42*Z42 -> 0 | AB42: =DAYS360(V42,W42)+1 -> 45106 | AC42: =IF(X42>$R$45,(X42-V42)+1,($U$22-V42)+1) -> 45615 | AD42: =IF((AB42-AC42)>$P$28,$P$28,(AB42-AC42)) -> -509 | AE42: =ROUND((AA42/AB42)*AD42,0) -> 0
B43: =+B42+1 -> 7 | D43: =+D42+1 -> 28 | F43: =+F42+1 -> 49 | H43: =+H42+1 -> 70 | J43: =+J42+1 -> 91 | L43: =+L42+1 -> 112 | P43: 1.5 | R43: 40 | T43: =T42+1 -> 18 | U43: M18 | W43: =W42 -> 45762 | Y43: 0 | Z43: 1 | AA43: =Y43*Z43 -> 0 | AB43: =DAYS360(V43,W43)+1 -> 45106 | AC43: =IF(X43>$R$45,(X43-V43)+1,($U$22-V43)+1) -> 45615 | AD43: =IF((AB43-AC43)>$P$28,$P$28,(AB43-AC43)) -> -509 | AE43: =ROUND((AA43/AB43)*AD43,0) -> 0
...

Sheet CRP PLURAL (5)
A1: CUMPLE | O1: SI
A2: NO CUMPLE | B2: ANEXO 1- 2. CRPC - CAPACIDAD RESIDUAL PROCESO DE CONTRATACIÓN | O2: NO
B4: NOMBRE DEL PROPONENTE | F4: ='EVALUACIÓN EXPERIENCIA'!$G$3 -> CONSORCIO VENTURA & CO
B5: INTEGRANTES
B6: NOMBRE INTEGRANTES | G6: % DE PARTICIPACIÓN | H6: INGRESO OPERACIONAL (más alto de los últimos cinco (5) años) | I6: ACTIVO CORRIENTE | J6: PASIVO CORRIENTE | K6: Número de socios y profesionales de la arquitectura, ingeniería y geología vinculados. | M6: SALDO DE LOS CONTRATOS EN EJECUCIÓN
B7: 1 | C7: ='EVALUACIÓN EXPERIENCIA'!$A$29 -> MARIA JOSE HERRERA GUZMAN | G7: ='EVALUACIÓN EXPERIENCIA'!$H$29 -> 0.5
B8: 2 | C8: ='EVALUACIÓN EXPERIENCIA'!$A$30 -> VENTURA & CO. SAS | G8: ='EVALUACIÓN EXPERIENCIA'!$H$30 -> 0.5
B9: 3 | C9: ='EVALUACIÓN EXPERIENCIA'!$A$31 -> 0 | G9: ='EVALUACIÓN EXPERIENCIA'!$H$31 -> 0
B10: 4 | C10: ='EVALUACIÓN EXPERIENCIA'!$A$32 -> 0 | G10: ='EVALUACIÓN EXPERIENCIA'!$H$32 -> 0
B11: 5 | C11: ='EVALUACIÓN EXPERIENCIA'!$A$33 -> 0 | G11: ='EVALUACIÓN EXPERIENCIA'!$H$33 -> 0
B13: ="CRP INTEGRANTE 1: "&$C$7 -> CRP INTEGRANTE 1: MARIA JOSE HERRERA GUZMAN | L13: =L74 -> 426630400
B14: ="CRP INTEGRANTE 2: "&$C$8 -> CRP INTEGRANTE 2: VENTURA & CO. SAS | L14: =L124 -> 426630400
B15: ="CRP INTEGRANTE 3: "&$C$9 -> CRP INTEGRANTE 3: 0 | L15: =L174 -> 426630400
B16: ="CRP INTEGRANTE 4: "&$C$10 -> CRP INTEGRANTE 4: 0 | L16: =$L$224 -> 426630400
B17: ="CRP INTEGRANTE 5: "&$C$11 -> CRP INTEGRANTE 5: 0 | L17: =$L$224 -> 426630400
B18: ="TOTAL CRP PROPONENTE: "&$F$4 -> TOTAL CRP PROPONENTE: CONSORCIO VENTURA & CO | L18: =SUM(L13:N17) -> 2133152000
B19: ="CONDICIÓN DEL PROPONENTE: "&$F$4 -> CONDICIÓN DEL PROPONENTE: CONSORCIO VENTURA & CO | L19: =IF(AND(IF(L277="CUMPLE",TRUE,FALSE),IF(L280="CUMPLE",TRUE,FALSE),IF(L283="CUMPLE",TRUE,FALSE),IF(L286="CUMPLE",TRUE,FALSE),IF(L289="CUMPLE",TRUE,FALSE),IF(IF(L18<I24,Q28,Q27)="CUMPLE",TRUE,FALSE))=TRUE,"CUMPLE",IF(OR(L277="",L280="",L283="",L286="",L289="")=TRUE,"PENDIENTE REVISIÓN","NO CUMPLE")) -> PENDIENTE REVISIÓN
B21: CAPACIDAD RESIDUAL DEL PROCESO | T21: IDENTIFICACIÓN DEL PROPONENTE: | V21: =B26 -> INTEGRANTE 1: MARIA JOSE HERRERA GUZMAN
B22: Vr. Presupuesto Oficial ($) | F22: Vr. Anticipo | H22: Plazo Meses | I22: Vr. Capacidad Residual proceso | Q22: SMMLV 2025 | T22: FECHA CIERRE | U22: 45614
B23: =+'EVALUACIÓN EXPERIENCIA'!D5 -> 724761029 | F23: =+B23*25% -> 1.8119026e+08 | H23: 3 | I23: =IFERROR(ROUND(((B23-F23)/H23)*12,0),0) -> 2174283087 | Q23: 1423500
B24: CAPACIDAD RESIDUAL DEL PROCESO DE CONTRATACIÓN | I24: =SUM(I23:N23) -> 2174283087 | T24: ÍTEMS | U24: CONTRATO No. | V24: FECHA INICIO (DD/MM/AAAA) | W24: FECHA TERMINACIÓN (DD/MM/AAAA) | X24: FECHA SUSPENSIÓN (DD/MM/AA) SI APLICA | Y24: VALOR DEL CONTRATO ( MONEDA LEGAL COLOMBIANA) | Z24: PORCENTAJE (%) DE PARTICIPACIÓN | AA24: VR. FINAL DEL CONTRATO EN EJECUCIÓN | AB24: PLAZO EJECUCIÓN (Días) | AC24: PLAZO EJECUTADO (Días) | AD24: PLAZO POR EJECUTAR (Días) | AE24: SALDO POR EJECUTAR
B26: ="INTEGRANTE 1: "&$C$7 -> INTEGRANTE 1: MARIA JOSE HERRERA GUZMAN | T26: 1 | U26: M1 | V26: 44995 | W26: 45545 | X26: 45475 | Y26: =2195389085 -> 2195389085 | Z26: 0.9 | AA26: =Y26*Z26 -> 1.9758502e+09 | AB26: =DAYS360(V26,W26) -> 540 | AC26: =IF(X26>$R$45,(X26-V26),($U$22-V26)) -> 480 | AD26: =IF((AB26-AC26)>$P$28,$P$28,(AB26-AC26)) -> 60 | AE26: =ROUND((AA26/AB26)*AD26,0) -> 219538909
B27: PORCENTAJE DE PARTICIPACIÓN | I27: =$G$7 -> 0.5 | P27: DÍAS | Q27: CUMPLE | R27: MESES | T27: =T26+1 -> 2 | U27: M2 | V27: 45229 | W27: =U22+81 -> 45695 | Y27: 5625559703 | Z27: 1 | AA27: =Y27*Z27 -> 5625559703 | AB27: =DAYS360(V27,W27) -> 457 | AC27: =IF(X27>$R$45,(X27-V27),($U$22-V27)) -> 385 | AD27: =IF((AB27-AC27)>$P$28,$P$28,(AB27-AC27)) -> 72 | AE27: 886496604
B28: Capacidad Residual Proponente | H28: Factor | N28: P. M. | P28: 360 | Q28: NO CUMPLE | R28: 12 | T28: =T27+1 -> 3 | U28: M3 | V28: 45245 | W28: 45762 | Y28: 9.3784714e+09 | Z28: 0.7 | AA28: =Y28*Z28 -> 6.56493e+09 | AB28: =DAYS360(V28,W28) -> 510 | AC28: =IF(X28>$R$45,(X28-V28),($U$22-V28)) -> 369 | AD28: =IF((AB28-AC28)>$P$28,$P$28,(AB28-AC28)) -> 141 | AE28: =ROUND((AA28/AB28)*AD28,0) -> 1815010047
