Workbook

Sheet SECOP
B1: CONSOLIDADO EVALUACIÓN TÉCNICA SELECCION ABREVIADA MC-SA-MC-0001-2026 - Realizar las obras de reparaciones locativas del inmueble Casa Museo Guillermo León Valencia de Popayán - Cauca, ubicado en el centro histórico declarado bien de interés cultural del ámbito nacional
A2: N° | B2: NOMBRE PROPONENTE | C2: OFERTA ECONÓMICA EN EXCEL / PDF | D2: VALOR OFERTADO EN SECOP | E2: VALIDACIÓN | F2: OBSERVACIONES
A3: 1 | B3: CONSORCIO MANTENIMIENTOS | C3: 703740295 | D3: 703740295 | E3: =C3=D3 -> TRUE
A4: 2 | B4: GRUPO INARCO SAS | C4: 689688086 | D4: 689688086 | E4: =C4=D4 -> TRUE
A5: 3 | B5: CONSORCIO VENTURA & CO | C5: 686696495 | D5: 686696495 | E5: =C5=D5 -> TRUE | F5: el aiu (30%) es superior al establecido por la entidad (29,83%)
A6: 4 | B6: ID SAS | C6: 691092471 | D6: 691092471 | E6: =C6=D6 -> TRUE | F6: para la operación aritmetica del AIUutiliza el % de las casillas establecido por la entidad
A7: 5 | B7: CONSTRUSERVICIOS SAS | C7: 678535521 | D7: 678535521 | E7: =C7=D7 -> TRUE | F7: Supera el valor unitario de alguno de los ítems ofrecidos con respecto al valor establecido para cada ítem del Presupuesto Oficial. No presento aiu
A8: 6 | B8: CONSORCIO NVP | C8: 6.8656612e+08 | D8: 6.8656612e+08 | E8: =C8=D8 -> FALSE | F8: para la operación aritmetica del AIUutiliza el % de las casillas establecido por la entidad
A9: 7 | B9: CONSORCIO PATRIMONIAL LEON VALENCIA | C9: 683813159 | D9: 683813159 | E9: =C9=D9 -> TRUE | F9: el aiu (30%) es superior al establecido por la entidad (29,83%)
A10: 8 | B10: UNION TEMPORAL SCG OBRAS | C10: 682350184 | D10: 682350184 | E10: =C10=D10 -> TRUE | F10: el aiu (30%) es superior al establecido por la entidad (29,83%)
A11: 9 | B11: CONSTRUCCIONES E INVERSIONES ESTELAR SAS | C11: 682709673 | D11: 682709673 | E11: =C11=D11 -> TRUE
A12: 10 | B12: CONSORCIO OBRAS Y SOLUCIONES DM | C12: 679802533 | D12: 679802533 | E12: =C12=D12 -> TRUE | F12: para la operación aritmetica del AIUutiliza el % de las casillas establecido por la entidad
A13: 11 | B13: CONSORCIO C&C | C13: 679453143 | D13: 679453143 | E13: =C13=D13 -> TRUE
A14: 12 | B14: ERJ INGENIERIA E INVERSIONES SAS | C14: 667500570 | D14: 667500570 | E14: =C14=D14 -> TRUE
A15: 13 | B15: FUNDACION ESPELETIA | C15: 689945003 | D15: 689945003 | E15: =C15=D15 -> TRUE
A16: 14 | B16: JOSE RAUL GONZALEZ RIVERA | C16: 709547292 | D16: 709547292 | E16: =C16=D16 -> TRUE | F16: el aiu (30%) es superior al establecido por la entidad (29,83%). no presento el valor del item Certificacion RETIE y RETILAP
A17: 15 | B17: UT CAMPEN MINCULTURA 2026 | C17: 676441000 | D17: 676441000 | E17: =C17=D17 -> TRUE | F17: el aiu (30%) es superior al establecido por la entidad (29,83%)
A18: 16 | B18: ZILL | C18: 710565018 | D18: 710565018 | E18: =C18=D18 -> TRUE | F18: el aiu (30%) es superior al establecido por la entidad (29,83%)

Sheet EVALUACIÓN OFERTAS
A2: PRESUPUESTO OFICIAL | G2: 0
A3: =+SECOP!B1 -> CONSOLIDADO EVALUACIÓN TÉCNICA SELECCION ABREVIADA MC-SA-MC-0001-2026 - Realizar las obras de reparaciones locativas del inmueble Casa Museo Guillermo León Valencia de Popayán - Cauca, ubicado en el centro histórico declarado bien de interés cultural del ámbito nacional | G3: 1 | J3: 2 | M3: 3 | P3: 4 | S3: 5 | V3: 6 | Y3: 7 | AB3: 8 | AE3: 9 | AH3: 10 | AK3: 11 | AN3: 12 | AQ3: 13 | AT3: 14 | AW3: 15 | AZ3: 16 | BC3: 17 | BF3: 18 | BI3: 19
G4: =+SECOP!B3 -> CONSORCIO MANTENIMIENTOS | J4: =+SECOP!B4 -> GRUPO INARCO SAS | M4: =+SECOP!B5 -> CONSORCIO VENTURA & CO | P4: =+SECOP!B6 -> ID SAS | S4: =+SECOP!B7 -> CONSTRUSERVICIOS SAS | V4: =+SECOP!B8 -> CONSORCIO NVP | Y4: =+SECOP!B9 -> CONSORCIO PATRIMONIAL LEON VALENCIA | AB4: =+SECOP!B10 -> UNION TEMPORAL SCG OBRAS | AE4: =+SECOP!B11 -> CONSTRUCCIONES E INVERSIONES ESTELAR SAS | AH4: =+SECOP!B12 -> CONSORCIO OBRAS Y SOLUCIONES DM | AK4: =+SECOP!B13 -> CONSORCIO C&C | AN4: =+SECOP!B14 -> ERJ INGENIERIA E INVERSIONES SAS | AQ4: =+SECOP!B15 -> FUNDACION ESPELETIA | AT4: =+SECOP!B16 -> JOSE RAUL GONZALEZ RIVERA | AW4: =+SECOP!B17 -> UT CAMPEN MINCULTURA 2026 | AZ4: =+SECOP!B18 -> ZILL | BC4: =+SECOP!AX3 -> 0 | BF4: =+SECOP!AX4 -> 0 | BI4: =+SECOP!AX5 -> 0
A5: ITEM | B5: ACTIVIDAD | C5: UNIDAD | D5: CANTIDAD | E5: VALOR UNITARIO | F5: VALOR TOTAL | G5: Vr. UNITARIO OFERTADO | H5: Vr. TOTAL OFERTADO | I5: v | J5: Vr. UNITARIO OFERTADO | K5: Vr. TOTAL OFERTADO | L5: v | M5: Vr. UNITARIO OFERTADO | N5: Vr. TOTAL OFERTADO | O5: v | P5: Vr. UNITARIO OFERTADO | Q5: Vr. TOTAL OFERTADO | R5: v | S5: Vr. UNITARIO OFERTADO | T5: Vr. TOTAL OFERTADO | U5: v | V5: Vr. UNITARIO OFERTADO | W5: Vr. TOTAL OFERTADO | X5: v | Y5: Vr. UNITARIO OFERTADO | Z5: Vr. TOTAL OFERTADO | AA5: v | AB5: Vr. UNITARIO OFERTADO | AC5: Vr. TOTAL OFERTADO | AD5: v | AE5: Vr. UNITARIO OFERTADO | AF5: Vr. TOTAL OFERTADO | AG5: v | AH5: Vr. UNITARIO OFERTADO | AI5: Vr. TOTAL OFERTADO | AJ5: v | AK5: Vr. UNITARIO OFERTADO | AL5: Vr. TOTAL OFERTADO | AM5: v | AN5: Vr. UNITARIO OFERTADO | AO5: Vr. TOTAL OFERTADO | AP5: v | AQ5: Vr. UNITARIO OFERTADO | AR5: Vr. TOTAL OFERTADO | AS5: v | AT5: Vr. UNITARIO OFERTADO | AU5: Vr. TOTAL OFERTADO | AV5: v | AW5: Vr. UNITARIO OFERTADO | AX5: Vr. TOTAL OFERTADO | AY5: v | AZ5: Vr. UNITARIO OFERTADO | BA5: Vr. TOTAL OFERTADO | BB5: v | BC5: Vr. UNITARIO OFERTADO | BD5: Vr. TOTAL OFERTADO | BE5: v | BF5: Vr. UNITARIO OFERTADO | BG5: Vr. TOTAL OFERTADO | BH5: v | BI5: Vr. UNITARIO OFERTADO | BJ5: Vr. TOTAL OFERTADO | BK5: v
A6: 1 | B6: ACTIVIDADES PRELIMINARES | I6: =IF(OR(G6>$E6,G6<$K$2),$K$1,"") | L6: =IF(OR(J6>$E6,J6<$K$2),$K$1,"") | O6: =IF(OR(M6>$E6,M6<$K$2),$K$1,"") | R6: =IF(OR(P6>$E6,P6<$K$2),$K$1,"") | U6: =IF(OR(S6>$E6,S6<$K$2),$K$1,"") | X6: =IF(OR(V6>$E6,V6<$K$2),$K$1,"") | AA6: =IF(OR(Y6>$E6,Y6<$K$2),$K$1,"") | AD6: =IF(OR(AB6>$E6,AB6<$K$2),$K$1,"") | AG6: =IF(OR(AE6>$E6,AE6<$K$2),$K$1,"") | AJ6: =IF(OR(AH6>$E6,AH6<$K$2),$K$1,"") | AM6: =IF(OR(AK6>$E6,AK6<$K$2),$K$1,"") | AP6: =IF(OR(AN6>$E6,AN6<$K$2),$K$1,"") | AS6: =IF(OR(AQ6>$E6,AQ6<$K$2),$K$1,"") | AV6: =IF(OR(AT6>$E6,AT6<$K$2),$K$1,"") | AY6: =IF(OR(AW6>$E6,AW6<$K$2),$K$1,"") | BB6: =IF(OR(AZ6>$E6,AZ6<$K$2),$K$1,"") | BC6: 2551 | BD6: =+ROUND($D$6*BC6,0) -> 0 | BE6: =IF(OR(BC6>$E6,BC6<$K$2),$K$1,"") -> 0 | BF6: 2551 | BG6: =+ROUND($D$6*BF6,0) -> 0 | BH6: =IF(OR(BF6>$E6,BF6<$K$2),$K$1,"") -> 0 | BI6: 2434 | BJ6: =+ROUND($D$6*BI6,0) -> 0 | BK6: =IF(OR(BI6>$E6,BI6<$K$2),$K$1,"") -> 0
A7: 1.1 | B7: Suministro e instalación de andamios certificados para las actividades de trabajo en altura que lo requieran. | C7: dia | D7: 120 | E7: 96547 | F7: =+ROUND(D7*E7,0) -> 11585640 | G7: 93747 | H7: =+ROUND($D7*G7,0) -> 11249640 | I7: =IF(OR(G7>$E7,G7<$K$2),$K$1,"") | J7: 91816 | K7: =+ROUND($D7*J7,0) -> 11017920 | L7: =IF(OR(J7>$E7,J7<$K$2),$K$1,"") | M7: 91290.981 | N7: =+ROUND($D7*M7,0) -> 10954918 | O7: =IF(OR(M7>$E7,M7<$K$2),$K$1,"") | P7: 92005 | Q7: =+ROUND($D7*P7,0) -> 11040600 | R7: =IF(OR(P7>$E7,P7<$K$2),$K$1,"") | S7: 118105.95 | T7: =+ROUND($D7*S7,0) -> 14172713 | U7: =IF(OR(S7>$E7,S7<$K$2),$K$1,"") -> 0 | V7: 91458.973 | W7: =+ROUND($D7*V7,0) -> 10975077 | X7: =IF(OR(V7>$E7,V7<$K$2),$K$1,"") | Y7: 91092 | Z7: =+ROUND($D7*Y7,0) -> 10931040 | AA7: =IF(OR(Y7>$E7,Y7<$K$2),$K$1,"") | AB7: 90706 | AC7: =+ROUND($D7*AB7,0) -> 10884720 | AD7: =IF(OR(AB7>$E7,AB7<$K$2),$K$1,"") | AE7: 90875 | AF7: =+ROUND($D7*AE7,0) -> 10905000 | AG7: =IF(OR(AE7>$E7,AE7<$K$2),$K$1,"") | AH7: 90483 | AI7: =+ROUND($D7*AH7,0) -> 10857960 | AJ7: =IF(OR(AH7>$E7,AH7<$K$2),$K$1,"") | AK7: 90436 | AL7: =+ROUND($D7*AK7,0) -> 10852320 | AM7: =IF(OR(AK7>$E7,AK7<$K$2),$K$1,"") | AN7: 88823 | AO7: =+ROUND($D7*AN7,0) -> 10658760 | AP7: =IF(OR(AN7>$E7,AN7<$K$2),$K$1,"") | AQ7: 92434 | AR7: =+ROUND($D7*AQ7,0) -> 11092080 | AS7: =IF(OR(AQ7>$E7,AQ7<$K$2),$K$1,"") | AT7: 95581.53 | AU7: =+ROUND($D7*AT7,0) -> 11469784 | AV7: =IF(OR(AT7>$E7,AT7<$K$2),$K$1,"") | AW7: 90000 | AX7: =+ROUND($D7*AW7,0) -> 10800000 | AY7: =IF(OR(AW7>$E7,AW7<$K$2),$K$1,"") | AZ7: 94600 | BA7: =+ROUND($D7*AZ7,0) -> 11352000 | BB7: =IF(OR(AZ7>$E7,AZ7<$K$2),$K$1,"") | BC7: 16927 | BD7: =+ROUND($D$7*BC7,0) -> 2031240 | BE7: =IF(OR(BC7>$E7,BC7<$K$2),$K$1,"") | BF7: 16927 | BG7: =+ROUND($D$7*BF7,0) -> 2031240 | BH7: =IF(OR(BF7>$E7,BF7<$K$2),$K$1,"") | BI7: 16154 | BJ7: =+ROUND($D$7*BI7,0) -> 1938480 | BK7: =IF(OR(BI7>$E7,BI7<$K$2),$K$1,"")
A8: 1.2 | B8: Desconectar y anular bajantes de latón empotradas en muro de fachada diámetro aproximado de 3". (Incluye conexión horizontal a canal) | C8: ml | D8: 80.71 | E8: 21640 | F8: =+ROUND(D8*E8,0) -> 1746564 | G8: 21012 | H8: =+ROUND($D8*G8,0) -> 1695879 | I8: =IF(OR(G8>$E8,G8<$K$2),$K$1,"") | J8: 20580 | K8: =+ROUND($D8*J8,0) -> 1661012 | L8: =IF(OR(J8>$E8,J8<$K$2),$K$1,"") | M8: 20461.918 | N8: =+ROUND($D8*M8,0) -> 1651481 | O8: =IF(OR(M8>$E8,M8<$K$2),$K$1,"") | P8: 20622 | Q8: =+ROUND($D8*P8,0) -> 1664402 | R8: =IF(OR(P8>$E8,P8<$K$2),$K$1,"") | S8: 26472.212 | T8: =+ROUND($D8*S8,0) -> 2136572 | U8: =IF(OR(S8>$E8,S8<$K$2),$K$1,"") -> 0 | V8: 20499.572 | W8: =+ROUND($D8*V8,0) -> 1654520 | X8: =IF(OR(V8>$E8,V8<$K$2),$K$1,"") | Y8: 20417 | Z8: =+ROUND($D8*Y8,0) -> 1647856 | AA8: =IF(OR(Y8>$E8,Y8<$K$2),$K$1,"") | AB8: 20331 | AC8: =+ROUND($D8*AB8,0) -> 1640915 | AD8: =IF(OR(AB8>$E8,AB8<$K$2),$K$1,"") | AE8: 20369 | AF8: =+ROUND($D8*AE8,0) -> 1643982 | AG8: =IF(OR(AE8>$E8,AE8<$K$2),$K$1,"") | AH8: 20281 | AI8: =+ROUND($D8*AH8,0) -> 1636880 | AJ8: =IF(OR(AH8>$E8,AH8<$K$2),$K$1,"") | AK8: 20270 | AL8: =+ROUND($D8*AK8,0) -> 1635992 | AM8: =IF(OR(AK8>$E8,AK8<$K$2),$K$1,"") | AN8: 19909 | AO8: =+ROUND($D8*AN8,0) -> 1606855 | AP8: =IF(OR(AN8>$E8,AN8<$K$2),$K$1,"") | AQ8: 20718 | AR8: =+ROUND($D8*AQ8,0) -> 1672150 | AS8: =IF(OR(AQ8>$E8,AQ8<$K$2),$K$1,"") | AT8: 21423.6 | AU8: =+ROUND($D8*AT8,0) -> 1729099 | AV8: =IF(OR(AT8>$E8,AT8<$K$2),$K$1,"") | AW8: 20200 | AX8: =+ROUND($D8*AW8,0) -> 1630342 | AY8: =IF(OR(AW8>$E8,AW8<$K$2),$K$1,"") | AZ8: 21200 | BA8: =+ROUND($D8*AZ8,0) -> 1711052 | BB8: =IF(OR(AZ8>$E8,AZ8<$K$2),$K$1,"") | BC8: 1501727 | BD8: =+ROUND($D$8*BC8,0) -> 121204386 | BE8: =IF(OR(BC8>$E8,BC8<$K$2),$K$1,"") -> 0 | BF8: 1501727 | BG8: =+ROUND($D$8*BF8,0) -> 121204386 | BH8: =IF(OR(BF8>$E8,BF8<$K$2),$K$1,"") -> 0 | BI8: 1433113 | BJ8: =+ROUND($D$8*BI8,0) -> 115666550 | BK8: =IF(OR(BI8>$E8,BI8<$K$2),$K$1,"") -> 0
A9: 1.3 | B9: Retiro de canales de latón en patios internos y en fachada exterior. Incluye evacuación de escombros | C9: ml | D9: 181.19 | E9: 26530 | F9: =+ROUND(D9*E9,0) -> 4806971 | G9: 25761 | H9: =+ROUND($D9*G9,0) -> 4667636 | I9: =IF(OR(G9>$E9,G9<$K$2),$K$1,"") | J9: 25230 | K9: =+ROUND($D9*J9,0) -> 4571424 | L9: =IF(OR(J9>$E9,J9<$K$2),$K$1,"") | M9: 25085.707 | N9: =+ROUND($D9*M9,0) -> 4545279 | O9: =IF(OR(M9>$E9,M9<$K$2),$K$1,"") | P9: 25282 | Q9: =+ROUND($D9*P9,0) -> 4580846 | R9: =IF(OR(P9>$E9,P9<$K$2),$K$1,"") | S9: 32454.149 | T9: =+ROUND($D9*S9,0) -> 5880367 | U9: =IF(OR(S9>$E9,S9<$K$2),$K$1,"") -> 0 | V9: 25131.869 | W9: =+ROUND($D9*V9,0) -> 4553643 | X9: =IF(OR(V9>$E9,V9<$K$2),$K$1,"") | Y9: 25031 | Z9: =+ROUND($D9*Y9,0) -> 4535367 | AA9: =IF(OR(Y9>$E9,Y9<$K$2),$K$1,"") | AB9: 24925 | AC9: =+ROUND($D9*AB9,0) -> 4516161 | AD9: =IF(OR(AB9>$E9,AB9<$K$2),$K$1,"") | AE9: 24971 | AF9: =+ROUND($D9*AE9,0) -> 4524495 | AG9: =IF(OR(AE9>$E9,AE9<$K$2),$K$1,"") | AH9: 24864 | AI9: =+ROUND($D9*AH9,0) -> 4505108 | AJ9: =IF(OR(AH9>$E9,AH9<$K$2),$K$1,"") | AK9: 24851 | AL9: =+ROUND($D9*AK9,0) -> 4502753 | AM9: =IF(OR(AK9>$E9,AK9<$K$2),$K$1,"") | AN9: 24408 | AO9: =+ROUND($D9*AN9,0) -> 4422486 | AP9: =IF(OR(AN9>$E9,AN9<$K$2),$K$1,"") | AQ9: 25400 | AR9: =+ROUND($D9*AQ9,0) -> 4602226 | AS9: =IF(OR(AQ9>$E9,AQ9<$K$2),$K$1,"") | AT9: 26264.7 | AU9: =+ROUND($D9*AT9,0) -> 4758901 | AV9: =IF(OR(AT9>$E9,AT9<$K$2),$K$1,"") | AW9: 24700 | AX9: =+ROUND($D9*AW9,0) -> 4475393 | AY9: =IF(OR(AW9>$E9,AW9<$K$2),$K$1,"") | AZ9: 25900 | BA9: =+ROUND($D9*AZ9,0) -> 4692821 | BB9: =IF(OR(AZ9>$E9,AZ9<$K$2),$K$1,"") | BC9: 1501727 | BD9: =+ROUND($D$8*BC9,0) -> 121204386 | BE9: =IF(OR(BC9>$E9,BC9<$K$2),$K$1,"") -> 0 | BF9: 1501727 | BG9: =+ROUND($D$8*BF9,0) -> 121204386 | BH9: =IF(OR(BF9>$E9,BF9<$K$2),$K$1,"") -> 0 | BI9: 1433113 | BJ9: =+ROUND($D$8*BI9,0) -> 115666550 | BK9: =IF(OR(BI9>$E9,BI9<$K$2),$K$1,"") -> 0
A10: 1.4 | B10: Retiro de bajantes de latón adosadas a columna de madera en patios. Incluye evacuación de escombros | C10: ml | D10: 52.94 | E10: 26530 | F10: =+ROUND(D10*E10,0) -> 1404498 | G10: 25761 | H10: =+ROUND($D10*G10,0) -> 1363787 | I10: =IF(OR(G10>$E10,G10<$K$2),$K$1,"") | J10: 25230 | K10: =+ROUND($D10*J10,0) -> 1335676 | L10: =IF(OR(J10>$E10,J10<$K$2),$K$1,"") | M10: 25085.707 | N10: =+ROUND($D10*M10,0) -> 1328037 | O10: =IF(OR(M10>$E10,M10<$K$2),$K$1,"") | P10: 25282 | Q10: =+ROUND($D10*P10,0) -> 1338429 | R10: =IF(OR(P10>$E10,P10<$K$2),$K$1,"") | S10: 32454.149 | T10: =+ROUND($D10*S10,0) -> 1718123 | U10: =IF(OR(S10>$E10,S10<$K$2),$K$1,"") -> 0 | V10: 25131.869 | W10: =+ROUND($D10*V10,0) -> 1330481 | X10: =IF(OR(V10>$E10,V10<$K$2),$K$1,"") | Y10: 25031 | Z10: =+ROUND($D10*Y10,0) -> 1325141 | AA10: =IF(OR(Y10>$E10,Y10<$K$2),$K$1,"") | AB10: 24925 | AC10: =+ROUND($D10*AB10,0) -> 1319530 | AD10: =IF(OR(AB10>$E10,AB10<$K$2),$K$1,"") | AE10: 24971 | AF10: =+ROUND($D10*AE10,0) -> 1321965 | AG10: =IF(OR(AE10>$E10,AE10<$K$2),$K$1,"") | AH10: 24864 | AI10: =+ROUND($D10*AH10,0) -> 1316300 | AJ10: =IF(OR(AH10>$E10,AH10<$K$2),$K$1,"") | AK10: 24851 | AL10: =+ROUND($D10*AK10,0) -> 1315612 | AM10: =IF(OR(AK10>$E10,AK10<$K$2),$K$1,"") | AN10: 24408 | AO10: =+ROUND($D10*AN10,0) -> 1292160 | AP10: =IF(OR(AN10>$E10,AN10<$K$2),$K$1,"") | AQ10: 25400 | AR10: =+ROUND($D10*AQ10,0) -> 1344676 | AS10: =IF(OR(AQ10>$E10,AQ10<$K$2),$K$1,"") | AT10: 26264.7 | AU10: =+ROUND($D10*AT10,0) -> 1390453 | AV10: =IF(OR(AT10>$E10,AT10<$K$2),$K$1,"") | AW10: 24700 | AX10: =+ROUND($D10*AW10,0) -> 1307618 | AY10: =IF(OR(AW10>$E10,AW10<$K$2),$K$1,"") | AZ10: 25900 | BA10: =+ROUND($D10*AZ10,0) -> 1371146 | BB10: =IF(OR(AZ10>$E10,AZ10<$K$2),$K$1,"") | BC10: 1501727 | BD10: =+ROUND($D$8*BC10,0) -> 121204386 | BE10: =IF(OR(BC10>$E10,BC10<$K$2),$K$1,"") -> 0 | BF10: 1501727 | BG10: =+ROUND($D$8*BF10,0) -> 121204386 | BH10: =IF(OR(BF10>$E10,BF10<$K$2),$K$1,"") -> 0 | BI10: 1433113 | BJ10: =+ROUND($D$8*BI10,0) -> 115666550 | BK10: =IF(OR(BI10>$E10,BI10<$K$2),$K$1,"") -> 0
A11: 1.5 | B11: Limpieza de piedra laja de piso patio central, retiro de capa de musgo. Incluye cepillado con grata y aplicación de jabón no ionizado | C11: m2 | D11: 119.74 | E11: 25295 | F11: =+ROUND(D11*E11,0) -> 3028823 | G11: 24561 | H11: =+ROUND($D11*G11,0) -> 2940934 | I11: =IF(OR(G11>$E11,G11<$K$2),$K$1,"") | J11: 24056 | K11: =+ROUND($D11*J11,0) -> 2880465 | L11: =IF(OR(J11>$E11,J11<$K$2),$K$1,"") | M11: 23917.94 | N11: =+ROUND($D11*M11,0) -> 2863934 | O11: =IF(OR(M11>$E11,M11<$K$2),$K$1,"") | P11: 24105 | Q11: =+ROUND($D11*P11,0) -> 2886333 | R11: =IF(OR(P11>$E11,P11<$K$2),$K$1,"") | S11: 30943.373 | T11: =+ROUND($D11*S11,0) -> 3705160 | U11: =IF(OR(S11>$E11,S11<$K$2),$K$1,"") -> 0 | V11: 23961.953 | W11: =+ROUND($D11*V11,0) -> 2869204 | X11: =IF(OR(V11>$E11,V11<$K$2),$K$1,"") | Y11: 23866 | Z11: =+ROUND($D11*Y11,0) -> 2857715 | AA11: =IF(OR(Y11>$E11,Y11<$K$2),$K$1,"") | AB11: 23765 | AC11: =+ROUND($D11*AB11,0) -> 2845621 | AD11: =IF(OR(AB11>$E11,AB11<$K$2),$K$1,"") | AE11: 23809 | AF11: =+ROUND($D11*AE11,0) -> 2850890 | AG11: =IF(OR(AE11>$E11,AE11<$K$2),$K$1,"") | AH11: 23706 | AI11: =+ROUND($D11*AH11,0) -> 2838556 | AJ11: =IF(OR(AH11>$E11,AH11<$K$2),$K$1,"") | AK11: 23694 | AL11: =+ROUND($D11*AK11,0) -> 2837120 | AM11: =IF(OR(AK11>$E11,AK11<$K$2),$K$1,"") | AN11: 23271 | AO11: =+ROUND($D11*AN11,0) -> 2786470 | AP11: =IF(OR(AN11>$E11,AN11<$K$2),$K$1,"") | AQ11: 24217 | AR11: =+ROUND($D11*AQ11,0) -> 2899744 | AS11: =IF(OR(AQ11>$E11,AQ11<$K$2),$K$1,"") | AT11: 25042.05 | AU11: =+ROUND($D11*AT11,0) -> 2998535 | AV11: =IF(OR(AT11>$E11,AT11<$K$2),$K$1,"") | AW11: 23600 | AX11: =+ROUND($D11*AW11,0) -> 2825864 | AY11: =IF(OR(AW11>$E11,AW11<$K$2),$K$1,"") | AZ11: 24700 | BA11: =+ROUND($D11*AZ11,0) -> 2957578 | BB11: =IF(OR(AZ11>$E11,AZ11<$K$2),$K$1,"") | BC11: 1501727 | BD11: =+ROUND($D$8*BC11,0) -> 121204386 | BE11: =IF(OR(BC11>$E11,BC11<$K$2),$K$1,"") -> 0 | BF11: 1501727 | BG11: =+ROUND($D$8*BF11,0) -> 121204386 | BH11: =IF(OR(BF11>$E11,BF11<$K$2),$K$1,"") -> 0 | BI11: 1433113 | BJ11: =+ROUND($D$8*BI11,0) -> 115666550 | BK11: =IF(OR(BI11>$E11,BI11<$K$2),$K$1,"") -> 0
A12: 1.6 | B12: Retiro de sector de tejadillo colapsado en patio posterior. Incluye retiro de 4 m2 de teja de barro, retiro de elementos de madera colapsados en sección 7 x 12cm. Incluye retiro de escombros | C12: m2 | D12: 4 | E12: 29827 | F12: =+ROUND(D12*E12,0) -> 119308 | G12: 28962 | H12: =+ROUND($D12*G12,0) -> 115848 | I12: =IF(OR(G12>$E12,G12<$K$2),$K$1,"") | J12: 28365 | K12: =+ROUND($D12*J12,0) -> 113460 | L12: =IF(OR(J12>$E12,J12<$K$2),$K$1,"") | M12: 28203.218 | N12: =+ROUND($D12*M12,0) -> 112813 | O12: =IF(OR(M12>$E12,M12<$K$2),$K$1,"") | P12: 28424 | Q12: =+ROUND($D12*P12,0) -> 113696 | R12: =IF(OR(P12>$E12,P12<$K$2),$K$1,"") | S12: 36487.369 | T12: =+ROUND($D12*S12,0) -> 145949 | U12: =IF(OR(S12>$E12,S12<$K$2),$K$1,"") -> 0 | V12: 28255.117 | W12: =+ROUND($D12*V12,0) -> 113020 | X12: =IF(OR(V12>$E12,V12<$K$2),$K$1,"") | Y12: 28142 | Z12: =+ROUND($D12*Y12,0) -> 112568 | AA12: =IF(OR(Y12>$E12,Y12<$K$2),$K$1,"") | AB12: 28022 | AC12: =+ROUND($D12*AB12,0) -> 112088 | AD12: =IF(OR(AB12>$E12,AB12<$K$2),$K$1,"") | AE12: 28075 | AF12: =+ROUND($D12*AE12,0) -> 112300 | AG12: =IF(OR(AE12>$E12,AE12<$K$2),$K$1,"") | AH12: 27954 | AI12: =+ROUND($D12*AH12,0) -> 111816 | AJ12: =IF(OR(AH12>$E12,AH12<$K$2),$K$1,"") | AK12: 27939 | AL12: =+ROUND($D12*AK12,0) -> 111756 | AM12: =IF(OR(AK12>$E12,AK12<$K$2),$K$1,"") | AN12: 27441 | AO12: =+ROUND($D12*AN12,0) -> 109764 | AP12: =IF(OR(AN12>$E12,AN12<$K$2),$K$1,"") | AQ12: 28556 | AR12: =+ROUND($D12*AQ12,0) -> 114224 | AS12: =IF(OR(AQ12>$E12,AQ12<$K$2),$K$1,"") | AT12: 29528.73 | AU12: =+ROUND($D12*AT12,0) -> 118115 | AV12: =IF(OR(AT12>$E12,AT12<$K$2),$K$1,"") | AW12: 27800 | AX12: =+ROUND($D12*AW12,0) -> 111200 | AY12: =IF(OR(AW12>$E12,AW12<$K$2),$K$1,"") | AZ12: 29200 | BA12: =+ROUND($D12*AZ12,0) -> 116800 | BB12: =IF(OR(AZ12>$E12,AZ12<$K$2),$K$1,"") | BC12: 1501727 | BD12: =+ROUND($D$8*BC12,0) -> 121204386 | BE12: =IF(OR(BC12>$E12,BC12<$K$2),$K$1,"") -> 0 | BF12: 1501727 | BG12: =+ROUND($D$8*BF12,0) -> 121204386 | BH12: =IF(OR(BF12>$E12,BF12<$K$2),$K$1,"") -> 0 | BI12: 1433113 | BJ12: =+ROUND($D$8*BI12,0) -> 115666550 | BK12: =IF(OR(BI12>$E12,BI12<$K$2),$K$1,"") -> 0
B13: SUBTOTAL 1. ACTIVIDADES PRELIMINARES | F13: =SUM(F6:F12) -> 22691804 | H13: =SUM(H6:H12) -> 22033724 | I13: =IF(OR(G13>$E13,G13<$K$2),$K$1,"") | K13: =SUM(K6:K12) -> 21579957 | L13: =IF(OR(J13>$E13,J13<$K$2),$K$1,"") | N13: =SUM(N6:N12) -> 21456462 | O13: =IF(OR(M13>$E13,M13<$K$2),$K$1,"") | Q13: =SUM(Q6:Q12) -> 21624306 | R13: =IF(OR(P13>$E13,P13<$K$2),$K$1,"") | T13: =SUM(T6:T12) -> 27758884 | U13: =IF(OR(S13>$E13,S13<$K$2),$K$1,"") | W13: =SUM(W6:W12) -> 21495945 | X13: =IF(OR(V13>$E13,V13<$K$2),$K$1,"") | Z13: =SUM(Z6:Z12) -> 21409687 | AA13: =IF(OR(Y13>$E13,Y13<$K$2),$K$1,"") | AC13: =SUM(AC6:AC12) -> 21319035 | AD13: =IF(OR(AB13>$E13,AB13<$K$2),$K$1,"") | AF13: =SUM(AF6:AF12) -> 21358632 | AG13: =IF(OR(AE13>$E13,AE13<$K$2),$K$1,"") | AI13: =SUM(AI6:AI12) -> 21266620 | AJ13: =IF(OR(AH13>$E13,AH13<$K$2),$K$1,"") | AL13: =SUM(AL6:AL12) -> 21255553 | AM13: =IF(OR(AK13>$E13,AK13<$K$2),$K$1,"") | AO13: =SUM(AO6:AO12) -> 20876495 | AP13: =IF(OR(AN13>$E13,AN13<$K$2),$K$1,"") | AR13: =SUM(AR6:AR12) -> 21725100 | AS13: =IF(OR(AQ13>$E13,AQ13<$K$2),$K$1,"") | AU13: =SUM(AU6:AU12) -> 22464887 | AV13: =IF(OR(AT13>$E13,AT13<$K$2),$K$1,"") | AX13: =SUM(AX6:AX12) -> 21150417 | AY13: =IF(OR(AW13>$E13,AW13<$K$2),$K$1,"") | BA13: =SUM(BA6:BA12) -> 22201397 | BB13: =IF(OR(AZ13>$E13,AZ13<$K$2),$K$1,"") | BC13: 1501727 | BD13: =+ROUND($D$8*BC13,0) -> 121204386 | BE13: =IF(OR(BC13>$E13,BC13<$K$2),$K$1,"") -> 0 | BF13: 1501727 | BG13: =+ROUND($D$8*BF13,0) -> 121204386 | BH13: =IF(OR(BF13>$E13,BF13<$K$2),$K$1,"") -> 0 | BI13: 1433113 | BJ13: =+ROUND($D$8*BI13,0) -> 115666550 | BK13: =IF(OR(BI13>$E13,BI13<$K$2),$K$1,"") -> 0
A14: 2 | B14: INSTALACIONES DE EVACUACIÓN DE AGUAS LLUVIAS Y MANEJO DE HUMEDAD DESCENDENTE | I14: =IF(OR(G14>$E14,G14<$K$2),$K$1,"") | L14: =IF(OR(J14>$E14,J14<$K$2),$K$1,"") | O14: =IF(OR(M14>$E14,M14<$K$2),$K$1,"") | R14: =IF(OR(P14>$E14,P14<$K$2),$K$1,"") | U14: =IF(OR(S14>$E14,S14<$K$2),$K$1,"") | X14: =IF(OR(V14>$E14,V14<$K$2),$K$1,"") | AA14: =IF(OR(Y14>$E14,Y14<$K$2),$K$1,"") | AD14: =IF(OR(AB14>$E14,AB14<$K$2),$K$1,"") | AG14: =IF(OR(AE14>$E14,AE14<$K$2),$K$1,"") | AJ14: =IF(OR(AH14>$E14,AH14<$K$2),$K$1,"") | AM14: =IF(OR(AK14>$E14,AK14<$K$2),$K$1,"") | AP14: =IF(OR(AN14>$E14,AN14<$K$2),$K$1,"") | AS14: =IF(OR(AQ14>$E14,AQ14<$K$2),$K$1,"") | AV14: =IF(OR(AT14>$E14,AT14<$K$2),$K$1,"") | AY14: =IF(OR(AW14>$E14,AW14<$K$2),$K$1,"") | BB14: =IF(OR(AZ14>$E14,AZ14<$K$2),$K$1,"") | BC14: 1501727 | BD14: =+ROUND($D$8*BC14,0) -> 121204386 | BE14: =IF(OR(BC14>$E14,BC14<$K$2),$K$1,"") -> 0 | BF14: 1501727 | BG14: =+ROUND($D$8*BF14,0) -> 121204386 | BH14: =IF(OR(BF14>$E14,BF14<$K$2),$K$1,"") -> 0 | BI14: 1433113 | BJ14: =+ROUND($D$8*BI14,0) -> 115666550 | BK14: =IF(OR(BI14>$E14,BI14<$K$2),$K$1,"") -> 0
A15: 2.1 | B15: Caja de inspección 0.30x0.30M H=0.80M (incluye marco y tapa) para conexión de bajante en lámina y red horizontal de A.L. subterránea | C15: unidad | D15: 22 | E15: 211252 | F15: =+ROUND(D15*E15,0) -> 4647544 | G15: 205126 | H15: =+ROUND($D15*G15,0) -> 4512772 | I15: =IF(OR(G15>$E15,G15<$K$2),$K$1,"") | J15: 200901 | K15: =+ROUND($D15*J15,0) -> 4419822 | L15: =IF(OR(J15>$E15,J15<$K$2),$K$1,"") | M15: 199751.44 | N15: =+ROUND($D15*M15,0) -> 4394532 | O15: =IF(OR(M15>$E15,M15<$K$2),$K$1,"") | P15: 201314 | Q15: =+ROUND($D15*P15,0) -> 4428908 | R15: =IF(OR(P15>$E15,P15<$K$2),$K$1,"") | S15: 258424.57 | T15: =+ROUND($D15*S15,0) -> 5685341 | U15: =IF(OR(S15>$E15,S15<$K$2),$K$1,"") -> 0 | V15: 200119.02 | W15: =+ROUND($D15*V15,0) -> 4402618 | X15: =IF(OR(V15>$E15,V15<$K$2),$K$1,"") | Y15: 199316 | Z15: =+ROUND($D15*Y15,0) -> 4384952 | AA15: =IF(OR(Y15>$E15,Y15<$K$2),$K$1,"") | AB15: 198471 | AC15: =+ROUND($D15*AB15,0) -> 4366362 | AD15: =IF(OR(AB15>$E15,AB15<$K$2),$K$1,"") | AE15: 198841 | AF15: =+ROUND($D15*AE15,0) -> 4374502 | AG15: =IF(OR(AE15>$E15,AE15<$K$2),$K$1,"") | AH15: 197983 | AI15: =+ROUND($D15*AH15,0) -> 4355626 | AJ15: =IF(OR(AH15>$E15,AH15<$K$2),$K$1,"") | AK15: 197880 | AL15: =+ROUND($D15*AK15,0) -> 4353360 | AM15: =IF(OR(AK15>$E15,AK15<$K$2),$K$1,"") | AN15: 194352 | AO15: =+ROUND($D15*AN15,0) -> 4275744 | AP15: =IF(OR(AN15>$E15,AN15<$K$2),$K$1,"") | AQ15: 202253 | AR15: =+ROUND($D15*AQ15,0) -> 4449566 | AS15: =IF(OR(AQ15>$E15,AQ15<$K$2),$K$1,"") | AT15: 209139.48 | AU15: =+ROUND($D15*AT15,0) -> 4601069 | AV15: =IF(OR(AT15>$E15,AT15<$K$2),$K$1,"") | AW15: 196900 | AX15: =+ROUND($D15*AW15,0) -> 4331800 | AY15: =IF(OR(AW15>$E15,AW15<$K$2),$K$1,"") | AZ15: 207000 | BA15: =+ROUND($D15*AZ15,0) -> 4554000 | BB15: =IF(OR(AZ15>$E15,AZ15<$K$2),$K$1,"") | BC15: 1501727 | BD15: =+ROUND($D$8*BC15,0) -> 121204386 | BE15: =IF(OR(BC15>$E15,BC15<$K$2),$K$1,"") -> 0 | BF15: 1501727 | BG15: =+ROUND($D$8*BF15,0) -> 121204386 | BH15: =IF(OR(BF15>$E15,BF15<$K$2),$K$1,"") -> 0 | BI15: 1433113 | BJ15: =+ROUND($D$8*BI15,0) -> 115666550 | BK15: =IF(OR(BI15>$E15,BI15<$K$2),$K$1,"") -> 0
A16: 2.2 | B16: Suministro e instalación de red horizontal de A.LL. en PVC-S 4" subterránea bajo placa de contrapiso. Incluye regata y resane de acabado en piedra bola en patio (70%), concreto hecho en obra (30%). Incluye conexión a cajas de inspección existentes. | C16: ml | D16: 7.62 | E16: 352446 | F16: =+ROUND(D16*E16,0) -> 2685639 | G16: 342225 | H16: =+ROUND($D16*G16,0) -> 2607755 | I16: =IF(OR(G16>$E16,G16<$K$2),$K$1,"") | J16: 335176 | K16: =+ROUND($D16*J16,0) -> 2554041 | L16: =IF(OR(J16>$E16,J16<$K$2),$K$1,"") | M16: 333258.84 | N16: =+ROUND($D16*M16,0) -> 2539432 | O16: =IF(OR(M16>$E16,M16<$K$2),$K$1,"") | P16: 335866 | Q16: =+ROUND($D16*P16,0) -> 2559299 | R16: =IF(OR(P16>$E16,P16<$K$2),$K$1,"") | S16: 431147.19 | T16: =+ROUND($D16*S16,0) -> 3285342 | U16: =IF(OR(S16>$E16,S16<$K$2),$K$1,"") -> 0 | V16: 333872.1 | W16: =+ROUND($D16*V16,0) -> 2544105 | X16: =IF(OR(V16>$E16,V16<$K$2),$K$1,"") | Y16: 332533 | Z16: =+ROUND($D16*Y16,0) -> 2533901 | AA16: =IF(OR(Y16>$E16,Y16<$K$2),$K$1,"") | AB16: 331123 | AC16: =+ROUND($D16*AB16,0) -> 2523157 | AD16: =IF(OR(AB16>$E16,AB16<$K$2),$K$1,"") | AE16: 331740 | AF16: =+ROUND($D16*AE16,0) -> 2527859 | AG16: =IF(OR(AE16>$E16,AE16<$K$2),$K$1,"") | AH16: 330309 | AI16: =+ROUND($D16*AH16,0) -> 2516955 | AJ16: =IF(OR(AH16>$E16,AH16<$K$2),$K$1,"") | AK16: 330136 | AL16: =+ROUND($D16*AK16,0) -> 2515636 | AM16: =IF(OR(AK16>$E16,AK16<$K$2),$K$1,"") | AN16: 324250 | AO16: =+ROUND($D16*AN16,0) -> 2470785 | AP16: =IF(OR(AN16>$E16,AN16<$K$2),$K$1,"") | AQ16: 337432 | AR16: =+ROUND($D16*AQ16,0) -> 2571232 | AS16: =IF(OR(AQ16>$E16,AQ16<$K$2),$K$1,"") | AT16: 348921.54 | AU16: =+ROUND($D16*AT16,0) -> 2658782 | AV16: =IF(OR(AT16>$E16,AT16<$K$2),$K$1,"") | AW16: 328500 | AX16: =+ROUND($D16*AW16,0) -> 2503170 | AY16: =IF(OR(AW16>$E16,AW16<$K$2),$K$1,"") | AZ16: 345300 | BA16: =+ROUND($D16*AZ16,0) -> 2631186 | BB16: =IF(OR(AZ16>$E16,AZ16<$K$2),$K$1,"") | BC16: 1501727 | BD16: =+ROUND($D$8*BC16,0) -> 121204386 | BE16: =IF(OR(BC16>$E16,BC16<$K$2),$K$1,"") -> 0 | BF16: 1501727 | BG16: =+ROUND($D$8*BF16,0) -> 121204386 | BH16: =IF(OR(BF16>$E16,BF16<$K$2),$K$1,"") -> 0 | BI16: 1433113 | BJ16: =+ROUND($D$8*BI16,0) -> 115666550 | BK16: =IF(OR(BI16>$E16,BI16<$K$2),$K$1,"") -> 0
A17: 2.3 | B17: Suministro e instalación de red horizontal de A.LL. en PVC-S 3" subterránea bajo placa de contrapiso. Incluye regata y resane de acabado en piedra bola en patio (70%), concreto hecho en obra (30%). Incluye conexión a cajas de inspección existentes. | C17: ml | D17: 41.5 | E17: 370930 | F17: =+ROUND(D17*E17,0) -> 15393595 | G17: 360173 | H17: =+ROUND($D17*G17,0) -> 14947180 | I17: =IF(OR(G17>$E17,G17<$K$2),$K$1,"") | J17: 352754 | K17: =+ROUND($D17*J17,0) -> 14639291 | L17: =IF(OR(J17>$E17,J17<$K$2),$K$1,"") | M17: 350736.57 | N17: =+ROUND($D17*M17,0) -> 14555568 | O17: =IF(OR(M17>$E17,M17<$K$2),$K$1,"") | P17: 353480 | Q17: =+ROUND($D17*P17,0) -> 14669420 | R17: =IF(OR(P17>$E17,P17<$K$2),$K$1,"") | S17: 453758.67 | T17: =+ROUND($D17*S17,0) -> 18830985 | U17: =IF(OR(S17>$E17,S17<$K$2),$K$1,"") -> 0 | V17: 351381.99 | W17: =+ROUND($D17*V17,0) -> 14582353 | X17: =IF(OR(V17>$E17,V17<$K$2),$K$1,"") | Y17: 345000 | Z17: =+ROUND($D17*Y17,0) -> 14317500 | AA17: =IF(OR(Y17>$E17,Y17<$K$2),$K$1,"") | AB17: 348489 | AC17: =+ROUND($D17*AB17,0) -> 14462294 | AD17: =IF(OR(AB17>$E17,AB17<$K$2),$K$1,"") | AE17: 349138 | AF17: =+ROUND($D17*AE17,0) -> 14489227 | AG17: =IF(OR(AE17>$E17,AE17<$K$2),$K$1,"") | AH17: 347632 | AI17: =+ROUND($D17*AH17,0) -> 14426728 | AJ17: =IF(OR(AH17>$E17,AH17<$K$2),$K$1,"") | AK17: 347450 | AL17: =+ROUND($D17*AK17,0) -> 14419175 | AM17: =IF(OR(AK17>$E17,AK17<$K$2),$K$1,"") | AN17: 341256 | AO17: =+ROUND($D17*AN17,0) -> 14162124 | AP17: =IF(OR(AN17>$E17,AN17<$K$2),$K$1,"") | AQ17: 355128 | AR17: =+ROUND($D17*AQ17,0) -> 14737812 | AS17: =IF(OR(AQ17>$E17,AQ17<$K$2),$K$1,"") | AT17: 367220.7 | AU17: =+ROUND($D17*AT17,0) -> 15239659 | AV17: =IF(OR(AT17>$E17,AT17<$K$2),$K$1,"") | AW17: 345700 | AX17: =+ROUND($D17*AW17,0) -> 14346550 | AY17: =IF(OR(AW17>$E17,AW17<$K$2),$K$1,"") | AZ17: 363500 | BA17: =+ROUND($D17*AZ17,0) -> 15085250 | BB17: =IF(OR(AZ17>$E17,AZ17<$K$2),$K$1,"") | BC17: 1501727 | BD17: =+ROUND($D$8*BC17,0) -> 121204386 | BE17: =IF(OR(BC17>$E17,BC17<$K$2),$K$1,"") -> 0 | BF17: 1501727 | BG17: =+ROUND($D$8*BF17,0) -> 121204386 | BH17: =IF(OR(BF17>$E17,BF17<$K$2),$K$1,"") -> 0 | BI17: 1433113 | BJ17: =+ROUND($D$8*BI17,0) -> 115666550 | BK17: =IF(OR(BI17>$E17,BI17<$K$2),$K$1,"") -> 0
A18: 2.4 | B18: Suministro e instalación de red horizontal de A.L. en PCV-S 3" subterránea bajo placa de contrapiso. Incluye regata, resane de acabado y conexión a cajas de inspección. | C18: ml | D18: 14.3 | E18: 223011 | F18: =+ROUND(D18*E18,0) -> 3189057 | G18: 216544 | H18: =+ROUND($D18*G18,0) -> 3096579 | I18: =IF(OR(G18>$E18,G18<$K$2),$K$1,"") | J18: 212083 | K18: =+ROUND($D18*J18,0) -> 3032787 | L18: =IF(OR(J18>$E18,J18<$K$2),$K$1,"") | M18: 210870.28 | N18: =+ROUND($D18*M18,0) -> 3015445 | O18: =IF(OR(M18>$E18,M18<$K$2),$K$1,"") | P18: 212520 | Q18: =+ROUND($D18*P18,0) -> 3039036 | R18: =IF(OR(P18>$E18,P18<$K$2),$K$1,"") | S18: 272809.36 | T18: =+ROUND($D18*S18,0) -> 3901174 | U18: =IF(OR(S18>$E18,S18<$K$2),$K$1,"") -> 0 | V18: 211258.32 | W18: =+ROUND($D18*V18,0) -> 3020994 | X18: =IF(OR(V18>$E18,V18<$K$2),$K$1,"") | Y18: 210411 | Z18: =+ROUND($D18*Y18,0) -> 3008877 | AA18: =IF(OR(Y18>$E18,Y18<$K$2),$K$1,"") | AB18: 209519 | AC18: =+ROUND($D18*AB18,0) -> 2996122 | AD18: =IF(OR(AB18>$E18,AB18<$K$2),$K$1,"") | AE18: 209909 | AF18: =+ROUND($D18*AE18,0) -> 3001699 | AG18: =IF(OR(AE18>$E18,AE18<$K$2),$K$1,"") | AH18: 209004 | AI18: =+ROUND($D18*AH18,0) -> 2988757 | AJ18: =IF(OR(AH18>$E18,AH18<$K$2),$K$1,"") | AK18: 208894 | AL18: =+ROUND($D18*AK18,0) -> 2987184 | AM18: =IF(OR(AK18>$E18,AK18<$K$2),$K$1,"") | AN18: 205170 | AO18: =+ROUND($D18*AN18,0) -> 2933931 | AP18: =IF(OR(AN18>$E18,AN18<$K$2),$K$1,"") | AQ18: 213511 | AR18: =+ROUND($D18*AQ18,0) -> 3053207 | AS18: =IF(OR(AQ18>$E18,AQ18<$K$2),$K$1,"") | AT18: 220780.89 | AU18: =+ROUND($D18*AT18,0) -> 3157167 | AV18: =IF(OR(AT18>$E18,AT18<$K$2),$K$1,"") | AW18: 207800 | AX18: =+ROUND($D18*AW18,0) -> 2971540 | AY18: =IF(OR(AW18>$E18,AW18<$K$2),$K$1,"") | AZ18: 218500 | BA18: =+ROUND($D18*AZ18,0) -> 3124550 | BB18: =IF(OR(AZ18>$E18,AZ18<$K$2),$K$1,"") | BC18: 1501727 | BD18: =+ROUND($D$8*BC18,0) -> 121204386 | BE18: =IF(OR(BC18>$E18,BC18<$K$2),$K$1,"") -> 0 | BF18: 1501727 | BG18: =+ROUND($D$8*BF18,0) -> 121204386 | BH18: =IF(OR(BF18>$E18,BF18<$K$2),$K$1,"") -> 0 | BI18: 1433113 | BJ18: =+ROUND($D$8*BI18,0) -> 115666550 | BK18: =IF(OR(BI18>$E18,BI18<$K$2),$K$1,"") -> 0
A19: 2.5 | B19: Suministro e instalación de canales en lámina cal.20 acabado con wash primer y esmalte. Forma y dimensiones igual a la existente, color a definir. Incluye embudos esquineros similares a existentes. | C19: ml | D19: 181.19 | E19: 112862 | F19: =+ROUND(D19*E19,0) -> 20449466 | G19: 109589 | H19: =+ROUND($D19*G19,0) -> 19856431 | I19: =IF(OR(G19>$E19,G19<$K$2),$K$1,"") | J19: 107332 | K19: =+ROUND($D19*J19,0) -> 19447485 | L19: =IF(OR(J19>$E19,J19<$K$2),$K$1,"") | M19: 106717.79 | N19: =+ROUND($D19*M19,0) -> 19336197 | O19: =IF(OR(M19>$E19,M19<$K$2),$K$1,"") | P19: 107553 | Q19: =+ROUND($D19*P19,0) -> 19487528 | R19: =IF(OR(P19>$E19,P19<$K$2),$K$1,"") | S19: 138064.08 | T19: =+ROUND($D19*S19,0) -> 25015831 | U19: =IF(OR(S19>$E19,S19<$K$2),$K$1,"") -> 0 | V19: 106914.17 | W19: =+ROUND($D19*V19,0) -> 19371779 | X19: =IF(OR(V19>$E19,V19<$K$2),$K$1,"") | Y19: 106485 | Z19: =+ROUND($D19*Y19,0) -> 19294017 | AA19: =IF(OR(Y19>$E19,Y19<$K$2),$K$1,"") | AB19: 106034 | AC19: =+ROUND($D19*AB19,0) -> 19212300 | AD19: =IF(OR(AB19>$E19,AB19<$K$2),$K$1,"") | AE19: 106231 | AF19: =+ROUND($D19*AE19,0) -> 19247995 | AG19: =IF(OR(AE19>$E19,AE19<$K$2),$K$1,"") | AH19: 105773 | AI19: =+ROUND($D19*AH19,0) -> 19165010 | AJ19: =IF(OR(AH19>$E19,AH19<$K$2),$K$1,"") | AK19: 105718 | AL19: =+ROUND($D19*AK19,0) -> 19155044 | AM19: =IF(OR(AK19>$E19,AK19<$K$2),$K$1,"") | AN19: 103833 | AO19: =+ROUND($D19*AN19,0) -> 18813501 | AP19: =IF(OR(AN19>$E19,AN19<$K$2),$K$1,"") | AQ19: 108054 | AR19: =+ROUND($D19*AQ19,0) -> 19578304 | AS19: =IF(OR(AQ19>$E19,AQ19<$K$2),$K$1,"") | AT19: 111733.38 | AU19: =+ROUND($D19*AT19,0) -> 20244971 | AV19: =IF(OR(AT19>$E19,AT19<$K$2),$K$1,"") | AW19: 105200 | AX19: =+ROUND($D19*AW19,0) -> 19061188 | AY19: =IF(OR(AW19>$E19,AW19<$K$2),$K$1,"") | AZ19: 110600 | BA19: =+ROUND($D19*AZ19,0) -> 20039614 | BB19: =IF(OR(AZ19>$E19,AZ19<$K$2),$K$1,"") | BC19: 1501727 | BD19: =+ROUND($D$8*BC19,0) -> 121204386 | BE19: =IF(OR(BC19>$E19,BC19<$K$2),$K$1,"") -> 0 | BF19: 1501727 | BG19: =+ROUND($D$8*BF19,0) -> 121204386 | BH19: =IF(OR(BF19>$E19,BF19<$K$2),$K$1,"") -> 0 | BI19: 1433113 | BJ19: =+ROUND($D$8*BI19,0) -> 115666550 | BK19: =IF(OR(BI19>$E19,BI19<$K$2),$K$1,"") -> 0
A20: 2.6 | B20: Suministro e instalación de bajantes en lámina 3" de diámetro cal.20 adosadas a muro de fachada y adosadas a columna de madera. Incluye cintas de anclaje en lámina. | C20: ml | D20: 119.39 | E20: 102790 | F20: =+ROUND(D20*E20,0) -> 12272098 | G20: 99809 | H20: =+ROUND($D20*G20,0) -> 11916197 | I20: =IF(OR(G20>$E20,G20<$K$2),$K$1,"") | J20: 97753 | K20: =+ROUND($D20*J20,0) -> 11670731 | L20: =IF(OR(J20>$E20,J20<$K$2),$K$1,"") | M20: 97194.112 | N20: =+ROUND($D20*M20,0) -> 11604005 | O20: =IF(OR(M20>$E20,M20<$K$2),$K$1,"") | P20: 97954 | Q20: =+ROUND($D20*P20,0) -> 11694728 | R20: =IF(OR(P20>$E20,P20<$K$2),$K$1,"") | S20: 125743.01 | T20: =+ROUND($D20*S20,0) -> 15012458 | U20: =IF(OR(S20>$E20,S20<$K$2),$K$1,"") -> 0 | V20: 97372.967 | W20: =+ROUND($D20*V20,0) -> 11625359 | X20: =IF(OR(V20>$E20,V20<$K$2),$K$1,"") | Y20: 96982 | Z20: =+ROUND($D20*Y20,0) -> 11578681 | AA20: =IF(OR(Y20>$E20,Y20<$K$2),$K$1,"") | AB20: 96571 | AC20: =+ROUND($D20*AB20,0) -> 11529612 | AD20: =IF(OR(AB20>$E20,AB20<$K$2),$K$1,"") | AE20: 96751 | AF20: =+ROUND($D20*AE20,0) -> 11551102 | AG20: =IF(OR(AE20>$E20,AE20<$K$2),$K$1,"") | AH20: 96334 | AI20: =+ROUND($D20*AH20,0) -> 11501316 | AJ20: =IF(OR(AH20>$E20,AH20<$K$2),$K$1,"") | AK20: 96283 | AL20: =+ROUND($D20*AK20,0) -> 11495227 | AM20: =IF(OR(AK20>$E20,AK20<$K$2),$K$1,"") | AN20: 94567 | AO20: =+ROUND($D20*AN20,0) -> 11290354 | AP20: =IF(OR(AN20>$E20,AN20<$K$2),$K$1,"") | AQ20: 98411 | AR20: =+ROUND($D20*AQ20,0) -> 11749289 | AS20: =IF(OR(AQ20>$E20,AQ20<$K$2),$K$1,"") | AT20: 101762.1 | AU20: =+ROUND($D20*AT20,0) -> 12149377 | AV20: =IF(OR(AT20>$E20,AT20<$K$2),$K$1,"") | AW20: 95800 | AX20: =+ROUND($D20*AW20,0) -> 11437562 | AY20: =IF(OR(AW20>$E20,AW20<$K$2),$K$1,"") | AZ20: 100700 | BA20: =+ROUND($D20*AZ20,0) -> 12022573 | BB20: =IF(OR(AZ20>$E20,AZ20<$K$2),$K$1,"")
A21: 2.7 | B21: Caja de inspección 0.60x0.60M H=0.80M (incluye marco y tapa) para conexión entre cajas de 30x30 y red horizontal de ALL subterránea | C21: unidd | D21: 4 | E21: 1509283 | F21: =+ROUND(D21*E21,0) -> 6037132 | G21: 1465514 | H21: =+ROUND($D21*G21,0) -> 5862056 | I21: =IF(OR(G21>$E21,G21<$K$2),$K$1,"") | J21: 1435328 | K21: =+ROUND($D21*J21,0) -> 5741312 | L21: =IF(OR(J21>$E21,J21<$K$2),$K$1,"") | M21: 1427117.6 | N21: =+ROUND($D21*M21,0) -> 5708471 | O21: =IF(OR(M21>$E21,M21<$K$2),$K$1,"") | P21: 1438280 | Q21: =+ROUND($D21*P21,0) -> 5753120 | R21: =IF(OR(P21>$E21,P21<$K$2),$K$1,"") | S21: 1846305.9 | T21: =+ROUND($D21*S21,0) -> 7385224 | U21: =IF(OR(S21>$E21,S21<$K$2),$K$1,"") -> 0 | V21: 1429743.8 | W21: =+ROUND($D21*V21,0) -> 5718975 | X21: =IF(OR(V21>$E21,V21<$K$2),$K$1,"") | Y21: 1424009 | Z21: =+ROUND($D21*Y21,0) -> 5696036 | AA21: =IF(OR(Y21>$E21,Y21<$K$2),$K$1,"") | AB21: 1417971 | AC21: =+ROUND($D21*AB21,0) -> 5671884 | AD21: =IF(OR(AB21>$E21,AB21<$K$2),$K$1,"") | AE21: 1420612 | AF21: =+ROUND($D21*AE21,0) -> 5682448 | AG21: =IF(OR(AE21>$E21,AE21<$K$2),$K$1,"") | AH21: 1414485 | AI21: =+ROUND($D21*AH21,0) -> 5657940 | AJ21: =IF(OR(AH21>$E21,AH21<$K$2),$K$1,"") | AK21: 1413745 | AL21: =+ROUND($D21*AK21,0) -> 5654980 | AM21: =IF(OR(AK21>$E21,AK21<$K$2),$K$1,"") | AN21: 1388540 | AO21: =+ROUND($D21*AN21,0) -> 5554160 | AP21: =IF(OR(AN21>$E21,AN21<$K$2),$K$1,"") | AQ21: 1444988 | AR21: =+ROUND($D21*AQ21,0) -> 5779952 | AS21: =IF(OR(AQ21>$E21,AQ21<$K$2),$K$1,"") | AT21: 1494190.2 | AU21: =+ROUND($D21*AT21,0) -> 5976761 | AV21: =IF(OR(AT21>$E21,AT21<$K$2),$K$1,"") | AW21: 1406700 | AX21: =+ROUND($D21*AW21,0) -> 5626800 | AY21: =IF(OR(AW21>$E21,AW21<$K$2),$K$1,"") | AZ21: 1479000 | BA21: =+ROUND($D21*AZ21,0) -> 5916000 | BB21: =IF(OR(AZ21>$E21,AZ21<$K$2),$K$1,"")
B22: SUBTOTAL 2. INSTALACIONES DE EVACUACIÓN DE AGUAS LLUVIAS Y MANEJO DE HUMEDAD DESCENDENTE | F22: =SUM(F14:F21) -> 64674531 | H22: =SUM(H14:H21) -> 62798970 | I22: =IF(OR(G22>$E22,G22<$K$2),$K$1,"") | K22: =SUM(K14:K21) -> 61505469 | L22: =IF(OR(J22>$E22,J22<$K$2),$K$1,"") | N22: =SUM(N14:N21) -> 61153650 | O22: =IF(OR(M22>$E22,M22<$K$2),$K$1,"") | Q22: =SUM(Q14:Q21) -> 61632039 | R22: =IF(OR(P22>$E22,P22<$K$2),$K$1,"") | T22: =SUM(T14:T21) -> 79116355 | U22: =IF(OR(S22>$E22,S22<$K$2),$K$1,"") | W22: =SUM(W14:W21) -> 61266183 | X22: =IF(OR(V22>$E22,V22<$K$2),$K$1,"") | Z22: =SUM(Z14:Z21) -> 60813964 | AA22: =IF(OR(Y22>$E22,Y22<$K$2),$K$1,"") | AC22: =SUM(AC14:AC21) -> 60761731 | AD22: =IF(OR(AB22>$E22,AB22<$K$2),$K$1,"") | AF22: =SUM(AF14:AF21) -> 60874832 | AG22: =IF(OR(AE22>$E22,AE22<$K$2),$K$1,"") | AI22: =SUM(AI14:AI21) -> 60612332 | AJ22: =IF(OR(AH22>$E22,AH22<$K$2),$K$1,"") | AL22: =SUM(AL14:AL21) -> 60580606 | AM22: =IF(OR(AK22>$E22,AK22<$K$2),$K$1,"") | AO22: =SUM(AO14:AO21) -> 59500599 | AP22: =IF(OR(AN22>$E22,AN22<$K$2),$K$1,"") | AR22: =SUM(AR14:AR21) -> 61919362 | AS22: =IF(OR(AQ22>$E22,AQ22<$K$2),$K$1,"") | AU22: =SUM(AU14:AU21) -> 64027786 | AV22: =IF(OR(AT22>$E22,AT22<$K$2),$K$1,"") | AX22: =SUM(AX14:AX21) -> 60278610 | AY22: =IF(OR(AW22>$E22,AW22<$K$2),$K$1,"") | BA22: =SUM(BA14:BA21) -> 63373173 | BB22: =IF(OR(AZ22>$E22,AZ22<$K$2),$K$1,"")
A23: 3 | B23: CUBIERTAS | I23: =IF(OR(G23>$E23,G23<$K$2),$K$1,"") | L23: =IF(OR(J23>$E23,J23<$K$2),$K$1,"") | O23: =IF(OR(M23>$E23,M23<$K$2),$K$1,"") | R23: =IF(OR(P23>$E23,P23<$K$2),$K$1,"") | U23: =IF(OR(S23>$E23,S23<$K$2),$K$1,"") | X23: =IF(OR(V23>$E23,V23<$K$2),$K$1,"") | AA23: =IF(OR(Y23>$E23,Y23<$K$2),$K$1,"") | AD23: =IF(OR(AB23>$E23,AB23<$K$2),$K$1,"") | AG23: =IF(OR(AE23>$E23,AE23<$K$2),$K$1,"") | AJ23: =IF(OR(AH23>$E23,AH23<$K$2),$K$1,"") | AM23: =IF(OR(AK23>$E23,AK23<$K$2),$K$1,"") | AP23: =IF(OR(AN23>$E23,AN23<$K$2),$K$1,"") | AS23: =IF(OR(AQ23>$E23,AQ23<$K$2),$K$1,"") | AV23: =IF(OR(AT23>$E23,AT23<$K$2),$K$1,"") | AY23: =IF(OR(AW23>$E23,AW23<$K$2),$K$1,"") | BB23: =IF(OR(AZ23>$E23,AZ23<$K$2),$K$1,"")
A24: 3.1 | B24: Aseo general de cubierta, barrido. Incluye evacuación de escombros, retiro de cadáveres aviarios. Incluye retiro de material de sedimentación de muro de culata erosionado en lindero oriental. Nota: A las áreas de cielorraso sobre galerías es necesaria el tendido de planchones de apoyo, mientras que el área de cielorraso sobre salones posee placa de concreto accesible, se debe cuidar sin embargo de no concentrar cargas puntuales mas allá del operario y su herramienta | C24: m2 | D24: 1193.99 | E24: 16792 | F24: =+ROUND(D24*E24,0) -> 20049480 | G24: 16305 | H24: =+ROUND($D24*G24,0) -> 19468007 | I24: =IF(OR(G24>$E24,G24<$K$2),$K$1,"") | J24: 15969 | K24: =+ROUND($D24*J24,0) -> 19066826 | L24: =IF(OR(J24>$E24,J24<$K$2),$K$1,"") | M24: 15877.844 | N24: =+ROUND($D24*M24,0) -> 18957986 | O24: =IF(OR(M24>$E24,M24<$K$2),$K$1,"") | P24: 16002 | Q24: =+ROUND($D24*P24,0) -> 19106228 | R24: =IF(OR(P24>$E24,P24<$K$2),$K$1,"") | S24: 20541.654 | T24: =+ROUND($D24*S24,0) -> 24526529 | U24: =IF(OR(S24>$E24,S24<$K$2),$K$1,"") -> 0 | V24: 15907.062 | W24: =+ROUND($D24*V24,0) -> 18992872 | X24: =IF(OR(V24>$E24,V24<$K$2),$K$1,"") | Y24: 15843 | Z24: =+ROUND($D24*Y24,0) -> 18916384 | AA24: =IF(OR(Y24>$E24,Y24<$K$2),$K$1,"") | AB24: 15776 | AC24: =+ROUND($D24*AB24,0) -> 18836386 | AD24: =IF(OR(AB24>$E24,AB24<$K$2),$K$1,"") | AE24: 15805 | AF24: =+ROUND($D24*AE24,0) -> 18871012 | AG24: =IF(OR(AE24>$E24,AE24<$K$2),$K$1,"") | AH24: 15737 | AI24: =+ROUND($D24*AH24,0) -> 18789821 | AJ24: =IF(OR(AH24>$E24,AH24<$K$2),$K$1,"") | AK24: 15729 | AL24: =+ROUND($D24*AK24,0) -> 18780269 | AM24: =IF(OR(AK24>$E24,AK24<$K$2),$K$1,"") | AN24: 15449 | AO24: =+ROUND($D24*AN24,0) -> 18445952 | AP24: =IF(OR(AN24>$E24,AN24<$K$2),$K$1,"") | AQ24: 16077 | AR24: =+ROUND($D24*AQ24,0) -> 19195777 | AS24: =IF(OR(AQ24>$E24,AQ24<$K$2),$K$1,"") | AT24: 16624.08 | AU24: =+ROUND($D24*AT24,0) -> 19848985 | AV24: =IF(OR(AT24>$E24,AT24<$K$2),$K$1,"") | AW24: 15700 | AX24: =+ROUND($D24*AW24,0) -> 18745643 | AY24: =IF(OR(AW24>$E24,AW24<$K$2),$K$1,"") | AZ24: 16400 | BA24: =+ROUND($D24*AZ24,0) -> 19581436 | BB24: =IF(OR(AZ24>$E24,AZ24<$K$2),$K$1,"")
A25: 3.2 | B25: Limpieza de estructura de madera mediante grata metálica retirando capa externa de suciedad. Sección aproximada elementos 9x 15cm. Incluye limpieza de tirantes de cercha, diagonales, pendolones y correas. Nota: A las áreas de cielorraso sobre galerías es necesaria el tendido de planchones de apoyo, mientras que el área de cielorraso sobre salones posee placa de concreto accesible, se debe cuidar sin embargo de no concentrar cargas puntuales mas allá del operario y su herramienta | C25: ml | D25: 2456.58 | E25: 18225 | F25: =+ROUND(D25*E25,0) -> 44771171 | G25: 17696 | H25: =+ROUND($D25*G25,0) -> 43471640 | I25: =IF(OR(G25>$E25,G25<$K$2),$K$1,"") | J25: 17332 | K25: =+ROUND($D25*J25,0) -> 42577445 | L25: =IF(OR(J25>$E25,J25<$K$2),$K$1,"") | M25: 17232.831 | N25: =+ROUND($D25*M25,0) -> 42333828 | O25: =IF(OR(M25>$E25,M25<$K$2),$K$1,"") | P25: 17368 | Q25: =+ROUND($D25*P25,0) -> 42665881 | R25: =IF(OR(P25>$E25,P25<$K$2),$K$1,"") | S25: 22294.642 | T25: =+ROUND($D25*S25,0) -> 54768573 | U25: =IF(OR(S25>$E25,S25<$K$2),$K$1,"") -> 0 | V25: 17264.542 | W25: =+ROUND($D25*V25,0) -> 42411730 | X25: =IF(OR(V25>$E25,V25<$K$2),$K$1,"") | Y25: 17000 | Z25: =+ROUND($D25*Y25,0) -> 41761860 | AA25: =IF(OR(Y25>$E25,Y25<$K$2),$K$1,"") | AB25: 17122 | AC25: =+ROUND($D25*AB25,0) -> 42061563 | AD25: =IF(OR(AB25>$E25,AB25<$K$2),$K$1,"") | AE25: 17154 | AF25: =+ROUND($D25*AE25,0) -> 42140173 | AG25: =IF(OR(AE25>$E25,AE25<$K$2),$K$1,"") | AH25: 17080 | AI25: =+ROUND($D25*AH25,0) -> 41958386 | AJ25: =IF(OR(AH25>$E25,AH25<$K$2),$K$1,"") | AK25: 17071 | AL25: =+ROUND($D25*AK25,0) -> 41936277 | AM25: =IF(OR(AK25>$E25,AK25<$K$2),$K$1,"") | AN25: 16767 | AO25: =+ROUND($D25*AN25,0) -> 41189477 | AP25: =IF(OR(AN25>$E25,AN25<$K$2),$K$1,"") | AQ25: 17449 | AR25: =+ROUND($D25*AQ25,0) -> 42864864 | AS25: =IF(OR(AQ25>$E25,AQ25<$K$2),$K$1,"") | AT25: 18042.75 | AU25: =+ROUND($D25*AT25,0) -> 44323459 | AV25: =IF(OR(AT25>$E25,AT25<$K$2),$K$1,"") | AW25: 17000 | AX25: =+ROUND($D25*AW25,0) -> 41761860 | AY25: =IF(OR(AW25>$E25,AW25<$K$2),$K$1,"") | AZ25: 17800 | BA25: =+ROUND($D25*AZ25,0) -> 43727124 | BB25: =IF(OR(AZ25>$E25,AZ25<$K$2),$K$1,"")
A26: 3.3 | B26: Suministro e instalación de canal de limahoya en lámina cal.20 desarrollo 1.20ml. Incluye retiro de teja de barro pegada con mortero sobre teja "Española" de asbesto cemento, en un área aproximada de 3.5m2/ml de limahoya. Incluye reemplazo de unidades de teja por rotura, tanto de barro como "Española", (aproximadamente 3 tejas españolas/ml de limahoya, y 16 tejas de barro/ml de limahoya). Incluye instalación de membrana impermeabilzante de poliester con emulsión asfáltica sobre lámina limahoya. (Aplicación en frío) | C26: ml | D26: 68.86 | E26: 229732 | F26: =+ROUND(D26*E26,0) -> 15819346 | G26: 223070 | H26: =+ROUND($D26*G26,0) -> 15360600 | I26: =IF(OR(G26>$E26,G26<$K$2),$K$1,"") | J26: 218475 | K26: =+ROUND($D26*J26,0) -> 15044189 | L26: =IF(OR(J26>$E26,J26<$K$2),$K$1,"") | M26: 217225.39 | N26: =+ROUND($D26*M26,0) -> 14958140 | O26: =IF(OR(M26>$E26,M26<$K$2),$K$1,"") | P26: 218925 | Q26: =+ROUND($D26*P26,0) -> 15075176 | R26: =IF(OR(P26>$E26,P26<$K$2),$K$1,"") | S26: 281031.16 | T26: =+ROUND($D26*S26,0) -> 19351805 | U26: =IF(OR(S26>$E26,S26<$K$2),$K$1,"") -> 0 | V26: 217625.12 | W26: =+ROUND($D26*V26,0) -> 14985666 | X26: =IF(OR(V26>$E26,V26<$K$2),$K$1,"") | Y26: 216752 | Z26: =+ROUND($D26*Y26,0) -> 14925543 | AA26: =IF(OR(Y26>$E26,Y26<$K$2),$K$1,"") | AB26: 215833 | AC26: =+ROUND($D26*AB26,0) -> 14862260 | AD26: =IF(OR(AB26>$E26,AB26<$K$2),$K$1,"") | AE26: 216235 | AF26: =+ROUND($D26*AE26,0) -> 14889942 | AG26: =IF(OR(AE26>$E26,AE26<$K$2),$K$1,"") | AH26: 215303 | AI26: =+ROUND($D26*AH26,0) -> 14825765 | AJ26: =IF(OR(AH26>$E26,AH26<$K$2),$K$1,"") | AK26: 215190 | AL26: =+ROUND($D26*AK26,0) -> 14817983 | AM26: =IF(OR(AK26>$E26,AK26<$K$2),$K$1,"") | AN26: 211353 | AO26: =+ROUND($D26*AN26,0) -> 14553768 | AP26: =IF(OR(AN26>$E26,AN26<$K$2),$K$1,"") | AQ26: 219945 | AR26: =+ROUND($D26*AQ26,0) -> 15145413 | AS26: =IF(OR(AQ26>$E26,AQ26<$K$2),$K$1,"") | AT26: 227434.68 | AU26: =+ROUND($D26*AT26,0) -> 15661152 | AV26: =IF(OR(AT26>$E26,AT26<$K$2),$K$1,"") | AW26: 214100 | AX26: =+ROUND($D26*AW26,0) -> 14742926 | AY26: =IF(OR(AW26>$E26,AW26<$K$2),$K$1,"") | AZ26: 225100 | BA26: =+ROUND($D26*AZ26,0) -> 15500386 | BB26: =IF(OR(AZ26>$E26,AZ26<$K$2),$K$1,"")
A27: 3.4 | B27: Reparación de cumbreras dilatadas por volcamiento de correa adyacente. Incluye instalación de tabla de 4cm x 20 cm para cama de mortero, incluye mortero impermeabilizado (0,06m3/ml de cumbrera) sobre tabla y suministro e instalación de teja de barro como caballete (6 tejas/ml de cumbrera). Incluye reemplazo de unidades de teja por rotura, tanto de barro como "Española". | C27: ml | D27: 64.44 | E27: 167041 | F27: =+ROUND(D27*E27,0) -> 10764122 | G27: 162197 | H27: =+ROUND($D27*G27,0) -> 10451975 | I27: =IF(OR(G27>$E27,G27<$K$2),$K$1,"") | J27: 158856 | K27: =+ROUND($D27*J27,0) -> 10236681 | L27: =IF(OR(J27>$E27,J27<$K$2),$K$1,"") | M27: 157947.29 | N27: =+ROUND($D27*M27,0) -> 10178123 | O27: =IF(OR(M27>$E27,M27<$K$2),$K$1,"") | P27: 159183 | Q27: =+ROUND($D27*P27,0) -> 10257753 | R27: =IF(OR(P27>$E27,P27<$K$2),$K$1,"") | S27: 204341.26 | T27: =+ROUND($D27*S27,0) -> 13167750 | U27: =IF(OR(S27>$E27,S27<$K$2),$K$1,"") -> 0 | V27: 158237.94 | W27: =+ROUND($D27*V27,0) -> 10196853 | X27: =IF(OR(V27>$E27,V27<$K$2),$K$1,"") | Y27: 157603 | Z27: =+ROUND($D27*Y27,0) -> 10155937 | AA27: =IF(OR(Y27>$E27,Y27<$K$2),$K$1,"") | AB27: 156935 | AC27: =+ROUND($D27*AB27,0) -> 10112891 | AD27: =IF(OR(AB27>$E27,AB27<$K$2),$K$1,"") | AE27: 157227 | AF27: =+ROUND($D27*AE27,0) -> 10131708 | AG27: =IF(OR(AE27>$E27,AE27<$K$2),$K$1,"") | AH27: 156549 | AI27: =+ROUND($D27*AH27,0) -> 10088018 | AJ27: =IF(OR(AH27>$E27,AH27<$K$2),$K$1,"") | AK27: 156467 | AL27: =+ROUND($D27*AK27,0) -> 10082733 | AM27: =IF(OR(AK27>$E27,AK27<$K$2),$K$1,"") | AN27: 153678 | AO27: =+ROUND($D27*AN27,0) -> 9903010 | AP27: =IF(OR(AN27>$E27,AN27<$K$2),$K$1,"") | AQ27: 159925 | AR27: =+ROUND($D27*AQ27,0) -> 10305567 | AS27: =IF(OR(AQ27>$E27,AQ27<$K$2),$K$1,"") | AT27: 165370.59 | AU27: =+ROUND($D27*AT27,0) -> 10656481 | AV27: =IF(OR(AT27>$E27,AT27<$K$2),$K$1,"") | AW27: 155700 | AX27: =+ROUND($D27*AW27,0) -> 10033308 | AY27: =IF(OR(AW27>$E27,AW27<$K$2),$K$1,"") | AZ27: 163700 | BA27: =+ROUND($D27*AZ27,0) -> 10548828 | BB27: =IF(OR(AZ27>$E27,AZ27<$K$2),$K$1,"")
A28: 3.5 | B28: Remate superior contra muro lindero oriental (cumbrera). Incluye correa de remate en liston de madera cepillado 3.3X14 cm, caballete articulado, incluye flanche en mortero impermeabilizado. Incluye reemplazo de unidades de teja por rotura, tanto de barro como "Española". | C28: ml | D28: 27.36 | E28: 147653 | F28: =+ROUND(D28*E28,0) -> 4039786 | G28: 143371 | H28: =+ROUND($D28*G28,0) -> 3922631 | I28: =IF(OR(G28>$E28,G28<$K$2),$K$1,"") | J28: 140418 | K28: =+ROUND($D28*J28,0) -> 3841836 | L28: =IF(OR(J28>$E28,J28<$K$2),$K$1,"") | M28: 139614.77 | N28: =+ROUND($D28*M28,0) -> 3819860 | O28: =IF(OR(M28>$E28,M28<$K$2),$K$1,"") | P28: 140707 | Q28: =+ROUND($D28*P28,0) -> 3849744 | R28: =IF(OR(P28>$E28,P28<$K$2),$K$1,"") | S28: 180623.91 | T28: =+ROUND($D28*S28,0) -> 4941870 | U28: =IF(OR(S28>$E28,S28<$K$2),$K$1,"") -> 0 | V28: 139871.69 | W28: =+ROUND($D28*V28,0) -> 3826889 | X28: =IF(OR(V28>$E28,V28<$K$2),$K$1,"") | Y28: 139311 | Z28: =+ROUND($D28*Y28,0) -> 3811549 | AA28: =IF(OR(Y28>$E28,Y28<$K$2),$K$1,"") | AB28: 138720 | AC28: =+ROUND($D28*AB28,0) -> 3795379 | AD28: =IF(OR(AB28>$E28,AB28<$K$2),$K$1,"") | AE28: 138978 | AF28: =+ROUND($D28*AE28,0) -> 3802438 | AG28: =IF(OR(AE28>$E28,AE28<$K$2),$K$1,"") | AH28: 138379 | AI28: =+ROUND($D28*AH28,0) -> 3786049 | AJ28: =IF(OR(AH28>$E28,AH28<$K$2),$K$1,"") | AK28: 138307 | AL28: =+ROUND($D28*AK28,0) -> 3784080 | AM28: =IF(OR(AK28>$E28,AK28<$K$2),$K$1,"") | AN28: 135841 | AO28: =+ROUND($D28*AN28,0) -> 3716610 | AP28: =IF(OR(AN28>$E28,AN28<$K$2),$K$1,"") | AQ28: 141363 | AR28: =+ROUND($D28*AQ28,0) -> 3867692 | AS28: =IF(OR(AQ28>$E28,AQ28<$K$2),$K$1,"") | AT28: 146176.47 | AU28: =+ROUND($D28*AT28,0) -> 3999388 | AV28: =IF(OR(AT28>$E28,AT28<$K$2),$K$1,"") | AW28: 137600 | AX28: =+ROUND($D28*AW28,0) -> 3764736 | AY28: =IF(OR(AW28>$E28,AW28<$K$2),$K$1,"") | AZ28: 144600 | BA28: =+ROUND($D28*AZ28,0) -> 3956256 | BB28: =IF(OR(AZ28>$E28,AZ28<$K$2),$K$1,"")
A29: 3.6 | B29: Reemplazo de elementos de madera en mal estado, ya sea por intervención antitécnica o por afectación por xilófagos o por humedad descendente. CORREAS DE 0.12M X 0.05 M X 2,65M en Abarco o similar. Incluye acodalamiento de superficie de teja con planchones y parales acuñados. Las uniones deberán ser cajeadas y reforzadas con platina atornillada. | C29: unidad | D29: 20 | E29: 120282 | F29: =+ROUND(D29*E29,0) -> 2405640 | G29: 116794 | H29: =+ROUND($D29*G29,0) -> 2335880 | I29: =IF(OR(G29>$E29,G29<$K$2),$K$1,"") | J29: 114388 | K29: =+ROUND($D29*J29,0) -> 2287760 | L29: =IF(OR(J29>$E29,J29<$K$2),$K$1,"") | M29: 113733.85 | N29: =+ROUND($D29*M29,0) -> 2274677 | O29: =IF(OR(M29>$E29,M29<$K$2),$K$1,"") | P29: 114623 | Q29: =+ROUND($D29*P29,0) -> 2292460 | R29: =IF(OR(P29>$E29,P29<$K$2),$K$1,"") | S29: 147140.97 | T29: =+ROUND($D29*S29,0) -> 2942819 | U29: =IF(OR(S29>$E29,S29<$K$2),$K$1,"") -> 0 | V29: 113943.14 | W29: =+ROUND($D29*V29,0) -> 2278863 | X29: =IF(OR(V29>$E29,V29<$K$2),$K$1,"") | Y29: 113486 | Z29: =+ROUND($D29*Y29,0) -> 2269720 | AA29: =IF(OR(Y29>$E29,Y29<$K$2),$K$1,"") | AB29: 113005 | AC29: =+ROUND($D29*AB29,0) -> 2260100 | AD29: =IF(OR(AB29>$E29,AB29<$K$2),$K$1,"") | AE29: 113215 | AF29: =+ROUND($D29*AE29,0) -> 2264300 | AG29: =IF(OR(AE29>$E29,AE29<$K$2),$K$1,"") | AH29: 112727 | AI29: =+ROUND($D29*AH29,0) -> 2254540 | AJ29: =IF(OR(AH29>$E29,AH29<$K$2),$K$1,"") | AK29: 112668 | AL29: =+ROUND($D29*AK29,0) -> 2253360 | AM29: =IF(OR(AK29>$E29,AK29<$K$2),$K$1,"") | AN29: 110659 | AO29: =+ROUND($D29*AN29,0) -> 2213180 | AP29: =IF(OR(AN29>$E29,AN29<$K$2),$K$1,"") | AQ29: 115158 | AR29: =+ROUND($D29*AQ29,0) -> 2303160 | AS29: =IF(OR(AQ29>$E29,AQ29<$K$2),$K$1,"") | AT29: 119079.18 | AU29: =+ROUND($D29*AT29,0) -> 2381584 | AV29: =IF(OR(AT29>$E29,AT29<$K$2),$K$1,"") | AW29: 112100 | AX29: =+ROUND($D29*AW29,0) -> 2242000 | AY29: =IF(OR(AW29>$E29,AW29<$K$2),$K$1,"") | AZ29: 117800 | BA29: =+ROUND($D29*AZ29,0) -> 2356000 | BB29: =IF(OR(AZ29>$E29,AZ29<$K$2),$K$1,"")
A30: 3.7 | B30: Suministro e instalación de elementos de madera faltantes,DIAGONAL DE CERCHA DE 0.135M X 0.06M X longitud variable entre 0,80 y 1,50 en madera de Abarco o similar Incluye acodalamiento de superficie de teja con planchones y parales acuñados. Las uniones deberán ser cajeadas y reforzadas con platina atornillada. | C30: ml | D30: 58.73 | E30: 117053 | F30: =+ROUND(D30*E30,0) -> 6874523 | G30: 113658 | H30: =+ROUND($D30*G30,0) -> 6675134 | I30: =IF(OR(G30>$E30,G30<$K$2),$K$1,"") | J30: 111317 | K30: =+ROUND($D30*J30,0) -> 6537647 | L30: =IF(OR(J30>$E30,J30<$K$2),$K$1,"") | M30: 110680.63 | N30: =+ROUND($D30*M30,0) -> 6500274 | O30: =IF(OR(M30>$E30,M30<$K$2),$K$1,"") | P30: 111546 | Q30: =+ROUND($D30*P30,0) -> 6551097 | R30: =IF(OR(P30>$E30,P30<$K$2),$K$1,"") | S30: 143190.93 | T30: =+ROUND($D30*S30,0) -> 8409604 | U30: =IF(OR(S30>$E30,S30<$K$2),$K$1,"") -> 0 | V30: 110884.31 | W30: =+ROUND($D30*V30,0) -> 6512235 | X30: =IF(OR(V30>$E30,V30<$K$2),$K$1,"") | Y30: 110440 | Z30: =+ROUND($D30*Y30,0) -> 6486141 | AA30: =IF(OR(Y30>$E30,Y30<$K$2),$K$1,"") | AB30: 109971 | AC30: =+ROUND($D30*AB30,0) -> 6458597 | AD30: =IF(OR(AB30>$E30,AB30<$K$2),$K$1,"") | AE30: 110176 | AF30: =+ROUND($D30*AE30,0) -> 6470636 | AG30: =IF(OR(AE30>$E30,AE30<$K$2),$K$1,"") | AH30: 109701 | AI30: =+ROUND($D30*AH30,0) -> 6442740 | AJ30: =IF(OR(AH30>$E30,AH30<$K$2),$K$1,"") | AK30: 109644 | AL30: =+ROUND($D30*AK30,0) -> 6439392 | AM30: =IF(OR(AK30>$E30,AK30<$K$2),$K$1,"") | AN30: 107689 | AO30: =+ROUND($D30*AN30,0) -> 6324575 | AP30: =IF(OR(AN30>$E30,AN30<$K$2),$K$1,"") | AQ30: 112067 | AR30: =+ROUND($D30*AQ30,0) -> 6581695 | AS30: =IF(OR(AQ30>$E30,AQ30<$K$2),$K$1,"") | AT30: 115882.47 | AU30: =+ROUND($D30*AT30,0) -> 6805777 | AV30: =IF(OR(AT30>$E30,AT30<$K$2),$K$1,"") | AW30: 109100 | AX30: =+ROUND($D30*AW30,0) -> 6407443 | AY30: =IF(OR(AW30>$E30,AW30<$K$2),$K$1,"") | AZ30: 114700 | BA30: =+ROUND($D30*AZ30,0) -> 6736331 | BB30: =IF(OR(AZ30>$E30,AZ30<$K$2),$K$1,"")
A31: 3.8 | B31: Suministro e instalación de ejiones sobre tirante superior de cercha para impedir volcamiento de correas | C31: unidad | D31: 402 | E31: 54742 | F31: =+ROUND(D31*E31,0) -> 22006284 | G31: 53154 | H31: =+ROUND($D31*G31,0) -> 21367908 | I31: =IF(OR(G31>$E31,G31<$K$2),$K$1,"") | J31: 52060 | K31: =+ROUND($D31*J31,0) -> 20928120 | L31: =IF(OR(J31>$E31,J31<$K$2),$K$1,"") | M31: 51761.846 | N31: =+ROUND($D31*M31,0) -> 20808262 | O31: =IF(OR(M31>$E31,M31<$K$2),$K$1,"") | P31: 52167 | Q31: =+ROUND($D31*P31,0) -> 20971134 | R31: =IF(OR(P31>$E31,P31<$K$2),$K$1,"") | S31: 66965.889 | T31: =+ROUND($D31*S31,0) -> 26920287 | U31: =IF(OR(S31>$E31,S31<$K$2),$K$1,"") -> 0 | V31: 51857.097 | W31: =+ROUND($D31*V31,0) -> 20846553 | X31: =IF(OR(V31>$E31,V31<$K$2),$K$1,"") | Y31: 51649 | Z31: =+ROUND($D31*Y31,0) -> 20762898 | AA31: =IF(OR(Y31>$E31,Y31<$K$2),$K$1,"") | AB31: 51430 | AC31: =+ROUND($D31*AB31,0) -> 20674860 | AD31: =IF(OR(AB31>$E31,AB31<$K$2),$K$1,"") | AE31: 51526 | AF31: =+ROUND($D31*AE31,0) -> 20713452 | AG31: =IF(OR(AE31>$E31,AE31<$K$2),$K$1,"") | AH31: 51304 | AI31: =+ROUND($D31*AH31,0) -> 20624208 | AJ31: =IF(OR(AH31>$E31,AH31<$K$2),$K$1,"") | AK31: 51277 | AL31: =+ROUND($D31*AK31,0) -> 20613354 | AM31: =IF(OR(AK31>$E31,AK31<$K$2),$K$1,"") | AN31: 50363 | AO31: =+ROUND($D31*AN31,0) -> 20245926 | AP31: =IF(OR(AN31>$E31,AN31<$K$2),$K$1,"") | AQ31: 52410 | AR31: =+ROUND($D31*AQ31,0) -> 21068820 | AS31: =IF(OR(AQ31>$E31,AQ31<$K$2),$K$1,"") | AT31: 54194.58 | AU31: =+ROUND($D31*AT31,0) -> 21786221 | AV31: =IF(OR(AT31>$E31,AT31<$K$2),$K$1,"") | AW31: 51000 | AX31: =+ROUND($D31*AW31,0) -> 20502000 | AY31: =IF(OR(AW31>$E31,AW31<$K$2),$K$1,"") | AZ31: 53600 | BA31: =+ROUND($D31*AZ31,0) -> 21547200 | BB31: =IF(OR(AZ31>$E31,AZ31<$K$2),$K$1,"")
A32: 3.9 | B32: Restitución de tejadillo colapsado en su condición original según detalle. Incluye reconfiguración de estructura en repisa de 5x10cm, implementación de pañete de mortero sobre malla con vena y suministro e instalación de teja de barro sobre cama de mortero. | C32: m² | D32: 4 | E32: 266246 | F32: =+ROUND(D32*E32,0) -> 1064984 | G32: 258525 | H32: =+ROUND($D32*G32,0) -> 1034100 | I32: =IF(OR(G32>$E32,G32<$K$2),$K$1,"") | J32: 253200 | K32: =+ROUND($D32*J32,0) -> 1012800 | L32: =IF(OR(J32>$E32,J32<$K$2),$K$1,"") | M32: 251751.57 | N32: =+ROUND($D32*M32,0) -> 1007006 | O32: =IF(OR(M32>$E32,M32<$K$2),$K$1,"") | P32: 253721 | Q32: =+ROUND($D32*P32,0) -> 1014884 | R32: =IF(OR(P32>$E32,P32<$K$2),$K$1,"") | S32: 325698.73 | T32: =+ROUND($D32*S32,0) -> 1302795 | U32: =IF(OR(S32>$E32,S32<$K$2),$K$1,"") -> 0 | V32: 252214.84 | W32: =+ROUND($D32*V32,0) -> 1008859 | X32: =IF(OR(V32>$E32,V32<$K$2),$K$1,"") | Y32: 251203 | Z32: =+ROUND($D32*Y32,0) -> 1004812 | AA32: =IF(OR(Y32>$E32,Y32<$K$2),$K$1,"") | AB32: 250138 | AC32: =+ROUND($D32*AB32,0) -> 1000552 | AD32: =IF(OR(AB32>$E32,AB32<$K$2),$K$1,"") | AE32: 250604 | AF32: =+ROUND($D32*AE32,0) -> 1002416 | AG32: =IF(OR(AE32>$E32,AE32<$K$2),$K$1,"") | AH32: 249523 | AI32: =+ROUND($D32*AH32,0) -> 998092 | AJ32: =IF(OR(AH32>$E32,AH32<$K$2),$K$1,"") | AK32: 249393 | AL32: =+ROUND($D32*AK32,0) -> 997572 | AM32: =IF(OR(AK32>$E32,AK32<$K$2),$K$1,"") | AN32: 244946 | AO32: =+ROUND($D32*AN32,0) -> 979784 | AP32: =IF(OR(AN32>$E32,AN32<$K$2),$K$1,"") | AQ32: 254904 | AR32: =+ROUND($D32*AQ32,0) -> 1019616 | AS32: =IF(OR(AQ32>$E32,AQ32<$K$2),$K$1,"") | AT32: 263583.54 | AU32: =+ROUND($D32*AT32,0) -> 1054334 | AV32: =IF(OR(AT32>$E32,AT32<$K$2),$K$1,"") | AW32: 248100 | AX32: =+ROUND($D32*AW32,0) -> 992400 | AY32: =IF(OR(AW32>$E32,AW32<$K$2),$K$1,"") | AZ32: 260900 | BA32: =+ROUND($D32*AZ32,0) -> 1043600 | BB32: =IF(OR(AZ32>$E32,AZ32<$K$2),$K$1,"")
A33: 3.10 | B33: Suministro y aplicación de Inmunizante fungicida tipo Merulex I.F.A. o similar. Aplicación con brocha. Sección promedio de 0.06m x 0.14m 4 CARAS | C33: ml | D33: 2456.58 | E33: 4110 | F33: =+ROUND(D33*E33,0) -> 10096544 | G33: 3991 | H33: =+ROUND($D33*G33,0) -> 9804211 | I33: =IF(OR(G33>$E33,G33<$K$2),$K$1,"") | J33: 3909 | K33: =+ROUND($D33*J33,0) -> 9602771 | L33: =IF(OR(J33>$E33,J33<$K$2),$K$1,"") | M33: 3886.2516 | N33: =+ROUND($D33*M33,0) -> 9546888 | O33: =IF(OR(M33>$E33,M33<$K$2),$K$1,"") | P33: 3917 | Q33: =+ROUND($D33*P33,0) -> 9622424 | R33: =IF(OR(P33>$E33,P33<$K$2),$K$1,"") | S33: 5027.763 | T33: =+ROUND($D33*S33,0) -> 12351102 | U33: =IF(OR(S33>$E33,S33<$K$2),$K$1,"") -> 0 | V33: 3893.403 | W33: =+ROUND($D33*V33,0) -> 9564456 | X33: =IF(OR(V33>$E33,V33<$K$2),$K$1,"") | Y33: 3878 | Z33: =+ROUND($D33*Y33,0) -> 9526617 | AA33: =IF(OR(Y33>$E33,Y33<$K$2),$K$1,"") | AB33: 3861 | AC33: =+ROUND($D33*AB33,0) -> 9484855 | AD33: =IF(OR(AB33>$E33,AB33<$K$2),$K$1,"") | AE33: 3869 | AF33: =+ROUND($D33*AE33,0) -> 9504508 | AG33: =IF(OR(AE33>$E33,AE33<$K$2),$K$1,"") | AH33: 3852 | AI33: =+ROUND($D33*AH33,0) -> 9462746 | AJ33: =IF(OR(AH33>$E33,AH33<$K$2),$K$1,"") | AK33: 3850 | AL33: =+ROUND($D33*AK33,0) -> 9457833 | AM33: =IF(OR(AK33>$E33,AK33<$K$2),$K$1,"") | AN33: 3781 | AO33: =+ROUND($D33*AN33,0) -> 9288329 | AP33: =IF(OR(AN33>$E33,AN33<$K$2),$K$1,"") | AQ33: 3935 | AR33: =+ROUND($D33*AQ33,0) -> 9666642 | AS33: =IF(OR(AQ33>$E33,AQ33<$K$2),$K$1,"") | AT33: 4068.9 | AU33: =+ROUND($D33*AT33,0) -> 9995578 | AV33: =IF(OR(AT33>$E33,AT33<$K$2),$K$1,"") | AW33: 3800 | AX33: =+ROUND($D33*AW33,0) -> 9335004 | AY33: =IF(OR(AW33>$E33,AW33<$K$2),$K$1,"") | AZ33: 4000 | BA33: =+ROUND($D33*AZ33,0) -> 9826320 | BB33: =IF(OR(AZ33>$E33,AZ33<$K$2),$K$1,"")
A34: 3.11 | B34: Suministro e instalación de platina de refuerzo de unión entre elementos. Incluye platina de unión entre pendolón y tirantes, platina de unión entre tirantes y diagonales, 8 platinas por cercha en promedio e incluye 4 tornillos pasantes con tuerca, contratuerca y arandela. Platina de calibre 4 mm con área aproximada de 180 cm² | C34: unidad | D34: 384 | E34: 91306 | F34: =+ROUND(D34*E34,0) -> 35061504 | G34: 88658 | H34: =+ROUND($D34*G34,0) -> 34044672 | I34: =IF(OR(G34>$E34,G34<$K$2),$K$1,"") | J34: 86832 | K34: =+ROUND($D34*J34,0) -> 33343488 | L34: =IF(OR(J34>$E34,J34<$K$2),$K$1,"") | M34: 86335.301 | N34: =+ROUND($D34*M34,0) -> 33152756 | O34: =IF(OR(M34>$E34,M34<$K$2),$K$1,"") | P34: 87011 | Q34: =+ROUND($D34*P34,0) -> 33412224 | R34: =IF(OR(P34>$E34,P34<$K$2),$K$1,"") | S34: 111694.63 | T34: =+ROUND($D34*S34,0) -> 42890738 | U34: =IF(OR(S34>$E34,S34<$K$2),$K$1,"") -> 0 | V34: 86494.174 | W34: =+ROUND($D34*V34,0) -> 33213763 | X34: =IF(OR(V34>$E34,V34<$K$2),$K$1,"") | Y34: 86147 | Z34: =+ROUND($D34*Y34,0) -> 33080448 | AA34: =IF(OR(Y34>$E34,Y34<$K$2),$K$1,"") | AB34: 85782 | AC34: =+ROUND($D34*AB34,0) -> 32940288 | AD34: =IF(OR(AB34>$E34,AB34<$K$2),$K$1,"") | AE34: 85942 | AF34: =+ROUND($D34*AE34,0) -> 33001728 | AG34: =IF(OR(AE34>$E34,AE34<$K$2),$K$1,"") | AH34: 85571 | AI34: =+ROUND($D34*AH34,0) -> 32859264 | AJ34: =IF(OR(AH34>$E34,AH34<$K$2),$K$1,"") | AK34: 85526 | AL34: =+ROUND($D34*AK34,0) -> 32841984 | AM34: =IF(OR(AK34>$E34,AK34<$K$2),$K$1,"") | AN34: 84002 | AO34: =+ROUND($D34*AN34,0) -> 32256768 | AP34: =IF(OR(AN34>$E34,AN34<$K$2),$K$1,"") | AQ34: 87416 | AR34: =+ROUND($D34*AQ34,0) -> 33567744 | AS34: =IF(OR(AQ34>$E34,AQ34<$K$2),$K$1,"") | AT34: 90392.94 | AU34: =+ROUND($D34*AT34,0) -> 34710889 | AV34: =IF(OR(AT34>$E34,AT34<$K$2),$K$1,"") | AW34: 85100 | AX34: =+ROUND($D34*AW34,0) -> 32678400 | AY34: =IF(OR(AW34>$E34,AW34<$K$2),$K$1,"") | AZ34: 89400 | BA34: =+ROUND($D34*AZ34,0) -> 34329600 | BB34: =IF(OR(AZ34>$E34,AZ34<$K$2),$K$1,"")
