Workbook

Sheet ESTUDIO DE MERCADO
B2: CONTRALORÍA DEPARTAMENTAL DEL TOLIMA
B3: ESTUDIO DE MERCADO 2026
B4: CALCULO VALORES APROXIMADOS DE PRIMA
B6: VIGENCIA DESDE 00:00 HORAS | C6: 46183
B7: VIGENCIA HASTA 00:00 HORAS | C7: =+C6+C8 -> 46548
B8: DIAS DE COBERTURA | C8: 365
B10: RAMO | C10: VALOR ASEGURADO | D10: VALOR ASEGURADO INDICE VARIABLE | E10: TASA ANUAL | F10: TASA IND. VAR. | G10: PRIMA ANUAL | H10: PRIMA IND. VAR. ANUAL | I10: PRIMA PERIODO | J10: PRIMA IND. VAR. PERIODO | K10: SUBTOTAL | L10: IVA | M10: TOTAL 365 dias
B11: TODO RIESGO DAÑOS MATERIALES | C11: ='VALORES ASEGURADOS TRDM'!C13 -> 1.4965679e+09 | D11: ='VALORES ASEGURADOS TRDM'!E13 -> 60490671 | E11: =+'TASAS PROMEDIO'!E7 -> 3.233 | F11: =+E11/2 -> 1.6165 | G11: =+C11*E11/1000 -> 4838404.1 | H11: =+D11*F11/1000 -> 97783.17 | I11: =+(G11/365)*$C$8 -> 4838404.1 | J11: =+H11/365*$C$8 -> 97783.17 | K11: =+I11+H11 -> 4936187.3 | L11: =+K11*0.19 -> 937875.58 | M11: =+K11+L11 -> 5874062.8
B12: MANEJO GLOBAL ENTIDADES ESTATALES | C12: 150000000 | E12: =+'TASAS PROMEDIO'!E11 -> 7.036875 | G12: =+C12*E12/100 -> 10555313 | I12: =+(G12/365)*$C$8 -> 10555313 | J12: =+H12/365*$C$8 -> 0 | K12: =+I12+J12 -> 10555313 | L12: =+K12*0.19 -> 2005509.4 | M12: =+K12+L12 -> 12560822
B13: RC SERVIDORES PÚBLICOS | C13: 200000000 | E13: ='TASAS PROMEDIO'!G16 -> 12.2175 | G13: =+C13*E13/100 -> 24435000 | I13: =+(G13/365)*$C$8 -> 24435000 | J13: =+H13/365*$C$8 -> 0 | K13: =+I13+J13 -> 24435000 | L13: =+K13*0.19 -> 4642650 | M13: =+K13+L13 -> 29077650
B14: AUTOS | C14: =AUTOS!M8 -> 216000000 | E14: ='TASAS PROMEDIO'!G20 -> 5.9265 | G14: =+C14*E14/100 -> 12801240 | I14: =+(G14/365)*$C$8 -> 12801240 | J14: =+H14/365*$C$8 -> 0 | K14: =+I14+J14 -> 12801240 | L14: =+K14*0.19 -> 2432235.6 | M14: =+K14+L14 -> 15233476
B15: SOAT | C15: LOS DE LEY | E15: 0 | G15: =SOAT!M8 -> 2253990 | I15: =G15 -> 2253990 | J15: =+H15/365*$C$8 -> 0 | K15: =+I15+J15 -> 2253990 | L15: 0 | M15: =+K15+L15 -> 2253990
B16: TOTALES | M16: =SUM(M11:M15) -> 65000000
B18: NOTAS:
B19: 1. TODO RIESGO DAÑOS MATERIALES: INDICE VARIABLE SE APLICA UN 5%

Sheet TASAS PROMEDIO
B1: CONTRALORÍA DEPARTAMENTAL DEL TOLIMA
B2: ESTUDIO DE MERCADO
B3: DETERMINACION TASAS PROMEDIO
B5: ENTIDAD | C5: RAMO | D5: TASAS | E5: PROMEDIO TASAS
E6: PROMERIO TASA MERCADO (A) | F6: TIPO DE TASA % - %o
B7: CONTRALORÍA DEPARTAMENTAL DEL TOLIMA | C7: Todo Riesgo Daños Materiales | D7: 2.5 | E7: =+AVERAGE(D7:D10)*1.22 -> 3.233 | F7: %o
B8: CONTRALORÍA DE FLORIDABLANCA | D8: 3.2 | G8: =E7 -> 3.233
B9: CONTRALORÍA DE CALDAS | D9: 2.5
B10: CONTRALORÍA DE RISARALDA | D10: 2.4
B11: =B7 -> CONTRALORÍA DEPARTAMENTAL DEL TOLIMA | C11: Manejo Global Entidades Estatales | D11: 7.5 | E11: =+AVERAGE(D11:D14)*1.35 -> 7.036875 | F11: %
B12: CONTRALORÍA DE FLORIDABLANCA | D12: 3.5 | G12: =E11 -> 7.036875
B13: CONTRALORÍA DE CALDAS | D13: 5.85
B14: CONTRALORÍA DE RISARALDA | D14: 4
B15: =B11 -> CONTRALORÍA DEPARTAMENTAL DEL TOLIMA | C15: Responsabilidad Civil Servidores Públicos | D15: 12 | E15: =SUM(D15:D18)/4*1.35 -> 12.2175 | F15: %
B16: CONTRALORÍA DE FLORIDABLANCA | D16: 6.2 | G16: =E15 -> 12.2175
B17: =B9 -> CONTRALORÍA DE CALDAS | D17: 14
B18: CONTRALORÍA DE RISARALDA | D18: 4
B19: =B15 -> CONTRALORÍA DEPARTAMENTAL DEL TOLIMA | C19: Automóviles | D19: 4.7 | E19: =SUM(D19:D22)/4*1.35 -> 5.9265 | F19: %o
B20: CONTRALORÍA DE FLORIDABLANCA | D20: 5.99 | G20: =E19 -> 5.9265
B21: =B9 -> CONTRALORÍA DE CALDAS | D21: 3.8
B22: CONTRALORÍA DE RISARALDA | D22: 3.07

Sheet VALORES ASEGURADOS TRDM
B2: CONTRALORÍA DEPARTAMENTAL DEL TOLIMA
B3: RELACIÓN BIENES Y VALORES ASEGURADOS TRDM
B5: TODO RIESGO DAÑOS MATERIALES
B6: BIENES ASEGURADOS | C6: VALOR ASEGURADO | D6: INDICE VARIABLE | E6: INDICE VARIABLE 5% | F6: VALOR ASEGURADO TOTAL
B7: MUEBLES Y ENSERES | C7: 3.6831636e+08 | D7: SI | E7: =+C7*5% -> 18415818 | F7: =+E7+C7 -> 3.8673217e+08
B8: VEHÍCULO EN REPOSO | C8: ='VEHÍCULOS EN REPOSO'!M7 -> 168300000 | D8: NO | E8: 0 | F8: =+E8+C8 -> 168300000
B9: EQUIPO ELECTRÓNICO | C9: 342784444 | D9: SI | E9: =+C9*5% -> 17139222 | F9: =+E9+C9 -> 3.5992367e+08
B10: EQUIPO MÓVIL Y PORTÁTIL | C10: 4.9871263e+08 | D10: SI | E10: =+C10*5% -> 24935631 | F10: =+E10+C10 -> 5.2364826e+08
B11: LICENCIAS Y SOFTWARE | C11: 1.1063024e+08 | D11: NO | E11: 0 | F11: =+E11+C11 -> 1.1063024e+08
B12: DRON | C12: 7824250 | D12: NO | E12: 0 | F12: =+E12+C12 -> 7824250
B13: TOTAL TRDM | C13: =SUM(C7:C12) -> 1.4965679e+09 | E13: =SUM(E7:E12) -> 60490671 | F13: =SUM(F7:F12) -> 1.5570586e+09

Sheet AUTOS
B2: CONTRALORÍA DEPARTAMENTAL DEL TOLIMA
B3: RELACION DE VEHICULOS AUTOMOVILES
B5: No | C5: Placa | D5: Marca | E5: Clase | F5: Tipo | G5: Modelo | H5: CC | I5: PASAJ / TON | J5: MOTOR | K5: CHASIS | L5: CODIGO FASECOLDA | M5: VALOR ASEGURADO
B6: 1 | C6: OCJ476 | D6: NISSAN | E6: QASHQAI | F6: CAMPERO | G6: 2012 | H6: 1997 | I6: 5 | J6: MR20061168W | K6: SJNFBNJ1022300598 | L6: 6408106 | M6: 50300000
B7: 2 | C7: OTI972 | D7: TOYOTA | E7: FORTUNER | F7: CAMPERO | G7: 2017 | H7: 2755 | J7: 1GD-4184792 | K7: 8AJDA8FS9H0770228 | L7: 9008213 | M7: 165700000
B8: TOTAL | M8: =SUM(M6:M7) -> 216000000
C11: Valor Asegurado Guía Fasecolda Abril 2026

Sheet SOAT
B2: CONTRALORÍA DEPARTAMENTAL DEL TOLIMA
B3: RELACION DE VEHICULOS AUTOMOVILES - SEGURO OBLIGATORIO DE ACCIDENTES DE TRÀNSITO
B5: No | C5: Placa | D5: Marca | E5: Clase | F5: Tipo | G5: Modelo | H5: CC | I5: PASAJ / TON | J5: MOTOR | K5: CHASIS | L5: VIGENCIA HASTA LAS 24:00 HORAS DEL | M5: TARIFA 2026
B6: 1 | C6: OCJ476 | D6: NISSAN | E6: CAMPEROS Y CAMIONETAS | F6: QASHQAI | G6: 2012 | H6: 1997 | I6: 5 | J6: MR20061168W | K6: SJNFBNJ10Z2300598 | L6: 45958 | M6: 1143690
B7: 2 | C7: OTI972 | D7: TOYOTA | E7: FORTUNER | F7: CAMPERO | G7: 2017 | H7: 2755 | J7: 1GD-4184792 | K7: 8AJDA8FS9H0770228 | L7: 46014 | M7: 1110300
B8: TOTAL | M8: =SUM(M6:M7) -> 2253990
C11: Tarifa SOAT 2026 - Superintendencia Financiera de Colombia

Sheet VEHÍCULOS EN REPOSO
B2: CONTRALORÍA DEPARTAMENTAL DEL TOLIMA
B3: RELACION DE VEHICULOS EN REPOSO
B5: No | C5: Placa | D5: Marca | E5: Clase | F5: Tipo | G5: Modelo | H5: CC | I5: PASAJ / TON | J5: MOTOR | K5: CHASIS | L5: CODIGO FASECOLDA | M5: VALOR ASEGURADO
B6: 1 | C6: ODU850 | D6: TOYOTA | E6: PRADO | F6: CAMPERO | G6: 2014 | H6: 2982 | I6: 7 | J6: 1KD2334235 | K6: JTEBH3FJ4E5062932 | L6: 9008186 | M6: 168300000
B7: TOTAL | M7: =SUM(M6:M6) -> 168300000

Sheet RESUMEN
A1: RESUMEN | B1: VALOR
A2: EQUIPO DE COMPUTADO Y DATOS | B2: =2370000+2088000+1958200+1958200+2790000+2790000+2790000+5580000+405000+2590000+405000+2590000+2790000+1626000+2590000+2790000+2790000+2790000+2790000+2790000+2790000+2790000+2370000+1958200+1367000+2790000+2790000+2088000+2790000+2790000+2790000+6200000+6200000+6200000+9396000 -> 104579600
A3: MOVIL Y PORTATIL | B3: =399907+2100000+750000+953254+750000+359915+2100000+1362283+750000+925000+4200000+2600000+2215600+3360000+3700000+100000+2100000+299948+359915+359915+2100000+1400000 -> 33245737
A4: ELECTRICOS Y ELECTRONICOS | B4: =6217600+1920000+1200000+881600+150000+150000+3108800+150000+1920000+1200000+890000+626400+310000+406000+4431200+490000+881600+380000+1590000+406000+406000+1200000+200000+150000+151570+359600+406000+881600+416134+620000+990000+750000+450000+440000+1200000+440000+780000+310000+406000+150000+719200+359600+406000+881600+150000+890000+450000+3108800+719200+150000+1920000+1200000+450000+719200+370000+406000+150000+359600+1200000+460000+1920000+305200+290000+5650000+33230000+4584000 -> 99064504
A5: MUEBLES Y ENSERES-2 | B5: =1914000+285360+285360+11687+754000+2320000+2610000+2610000+2111200+742400+345100+324800+324800+324800+118320+2438320+1914000+285360+285360+11686+754000+285360+285360+11687+754000+240000+345100+118320+118320+276080+742400+371200+345000+1624000+1705200+250000+440800+962800+910600+742400+345100+500000+276080+255200+285360+371200+118320+672800+620000+580000+1000000+724000+273700+273700+273700+273700+285360+440000+800000+754000+273200+273900+1972000+1624000+742400+120000+120000+120000+240000+240000+371200+345100+345100+324800+324800+324800+957000+118320+276080+255200+285360+742400+345100+118320+276080+276080+1090356+742400+345100+276080+870000+2552000+742400+345100+371200+345100+1056194+345100+324800+3532200+829400+899000+527800+371200+345100+324800+348000+957000+461680+345100+1803109+653162+285360+270000+1740000+823000+742400+311000+89230+110770+360000+345100+1108320+899000+742400+345100+371200+276080+285360+1299000+870000+1692506+881600+742400+371200+345100+118320+887400+742400+345100+276080+672800+1914000+1600800+742400+345100+415800+371200+345100+3456800+249400+285360+37517135+9088600+4200000+16131165+11368000+13688000+6032000+6200000 -> 204935107
A6: MAQUINARIA Y EQUIPO | B6: =2997000+2001600+1519600+1365000+2997000+953254+1519600+2001600+1519600+2997000+2997000+2997000+2997000+953254+2001600+2997000+953254+953254+2997000+22400000 -> 62117616
A7: SOFWTARE | B7: =6000000+2500000+6500000+3763802+6000000 -> 24763802
B8: =SUM(B2:B7) -> 528706366

Sheet INVENTARIO
A1: ELEMENTO | B1: VALOR | E1: ELEMENTO | F1: VALOR
A2: COMPUTADOR TODO EN UNO MARCA LENOVO DE 23" | B2: 2790000 | E2: MESA PARA IMPRESORA | F2: 150000
A3: COMPUTADOR HP 3M CACHE 3.1GHZ | B3: 2370000 | E3: ARCHIVADOR DE PARED DE | F3: 371200
A4: COMPUTADOR HP COMPAC PRO 4300 | B4: 1958200 | E4: PUESTO DE TRABAJO EN L 1.25 X 1.50 SUPERFICIE RECTANGULAR | F4: 2320000
A5: COMPUTADOR TODO EN UNO MARCA LENOVO | B5: 2790000 | E5: SILLA ERGONOMICA EJECUTIVA | F5: 742400
A6: COMPUTADOR TODO EN UNO MARCA LENOVO | B6: 2790000 | E6: ARCHIVADOR DE PARED | F6: 371200
A7: COMPUTADOR TODO EN UNO MARCA LENOVO | B7: 2790000 | E7: MUEBLE METALICO PARA ARCHVO | F7: 863849
A8: IMPRESORA HP LASER 1006 | B8: 150000 | E8: MUEBLE METALICO PARA ARCHVO | F8: 863849
A9: IMPRESORA HP LASER JET P 1102W | B9: 150000 | E9: PUESTO DE TRABAJO EN L 1.25 X | F9: 2320000
A10: IMPRESORA KYOCERA MODELO ECOSYS M2035 DN/L 881 | B10: 3108800 | E10: PUESTO DE TRABAJO EN L SUPERFICIE 0.65 X 0.50 SUPERFICIE | F10: 2610000
A11: IMPRESORA LASER HP 1505-18138 | B11: 150000 | E11: PUESTO DE TRABAJO EN L SUPERFICIE 0.65 X 0.50 SUPERFICIE | F11: 2610000
A12: SCANER CON ALIMENTADOR DE HOPS SCAN JET | B12: 2436000 | E12: PUESTO DE TRABAJO EN L SUPERFICIE CON EXTREMOS CURVOS | F12: 2111200
A13: COMPUTADOR HP 3M CACHE | B13: 2370000 | E13: SILLA ERGONOMICA EJECUTIVA | F13: 742000
... A51: COMPUTADOR TODO EN UNO MARCA LENOVO DE 23" | B51: 2790000 | E51: SILLA ERGONOMICA GIRATORIA | F51: 371200
B52: =SUM(B2:B51) -> 120366083 | E52: SUPERFICIE DE TRABAJO DE 1.20 X | F52: 118320
E53: ARCHIVADOR METALICO TRES GAVETAS | F53: 345100
E54: AVISO EN BRONCE PERSONERIA MUNICIPAL DE IBAGUE | F54: 1803109
A55: PORTATILES | E55: CUADRO PINTADO AL OLEO 135 | F55: 653162
A56: COMPUTADOR PORTATIL ASUS | B56: 2100000 | E56: MESA PARA JUNTAS REDONDA EN MADERA COLOR CAFE 165 | F56: 270000
A57: COMPUTADOR PORTATIL ASUS | B57: 2100000 | E57: MULTIMUEBLE ESTILO BIBLIOTECA | F57: 823000
A58: COMPUTADOR PORTATIL MARCA LENOVO | B58: 1400000 | E58: SILLA ERGONOMICA EJECUTIVA EN MALLA | F58: 742400
A59: CAMARA FOTOGRAFICA SAMSUNG | B59: 276080 | E59: SILLA EN MADERA SIN BRAZOS FORRADA EN CORDOBAN NEGRO | F59: 120000
A60: COMPUTADOR PORTATIL LENOVO | B60: 1362283 | E60: SILLA EN MADERA SIN BRAZOS FORRADA EN CORDOBAN NEGRO | F60: 120000
A61: COMPUTADOR PORTATIL ASUS X 555 L 0850 | B61: 2100000 | E61: SILLA EN MADERA SIN BRAZOS FORRADA EN CORDOBAN NEGRO | F61: 120000
A62: DISCO DURO EXTERNO MARCA TOSHIBA | B62: 440000 | E62: SILLA EN MADERA SIN BRAZOS FORRADA EN CORDOBAN NEGRO | F62: 120000
A63: VIDEO CAMARA PANASONIC MODELO AG-AC7P 23 X 35.8 MM WIDE POWER | B63: 3700000 | E63: SILLA EN MADERA SIN BRAZOS FORRADA EN CORDOBAN NEGRO | F63: 120000
A64: COMPUTADOR PORTATIL ASUS X 555 L 847 | B64: 2100000 | E64: SILLA EN MADERA SIN BRAZOS FORRADA EN CORDOBAN NEGRO | F64: 120000
A65: COMPUTADOR PORTATIL ASUS X 555 L 847 | B65: 2100000 | E65: SILLA TANDEM METALICO CROMADO EN ALUMINIO | F65: 957000
A66: COMPUTADOR TERMALTAKE SERIAL HAZO1408EI7HA000695 MONITOR MARCA VIEW SONIC | B66: 8224400 | E66: ARCHIVADOR DE PARED PARA AZ | F66: 276080
A67: CAMARA FOTOGRAFICA SAMSUNG COLOR ROJO 26X 16.2 MEGA PIXELES | B67: 750000 | E67: DIVISION SEPARADORA DE 1.10 X 1.10 TIPO OFICINA ABIERTA | F67: 255200
... A69: COMPUTADOR PORTATIL ASUS X 555 L 847 | B69: 2100000 | E69: MUEBLE METALICO PARA ARCHIVODE 2.30 X 2.10 DE ALTURA X 0.48 CON 7 ESPACIOS ESTR | F69: 754000
B70: =SUM(B56:B69) -> 30852763 | E70: SILLA ERGONOMICA GIRATORIA | F70: 324800
E71: SUPERFICIE DE TRABAJO DE 1.20 X 0.60 | F71: 118320
E72: ARCHIVADOR METALICO TRES GAVETAS COLOR GRIS | F72: 345100
A73: ELECTRICO Y ELECTRONICO | E73: BIBLIOTECA ESTRUCTURA METALICA EN COLD ROLLED CON MUEBLE INF | F73: 1624000
A74: VIDEO BEAN EPSON POWER LITEX24 | B74: 2215600 | E74: BIBLIOTECA ESTRUCTURA METALICA EN LAMINA COLD ROLLED CON | F74: 1705200
A75: AIRE ACONDICIONADO PORTATIL CAPACIDAD BTU 1200 | B75: 953254 | E75: CAJA FUERTE DE SEGURIDAD 0160 | F75: 250000
A76: COMMUTADOR PANASONIC CON IDENTIFICADOR DE LLAMADAS | B76: 405000 | E76: DIVISION DE 1.20X0.90 CONSTA DE 2 PANEL | F76: 440800
A77: FAX PANASONIC KFX 700 147 | B77: 100000 | E77: PUESTO DE TRABAJO EN L CONSTA DE 1 SUPERFICIE RECTANGULAR | F77: 962800
A78: IMPRESORA LASER HP 1505-16861 | B78: 150000 | E78: SILLA ERGONOMICA EJECUTIVA EN MALLA | F78: 742400
...
