Workbook
Name frmMainForm_tblFormContainer_trContentRow_tdLeftColumn_divViewProfilePerspective_tblProfileDetails_trIsGroupContentRow_tdTitleCell_rptIsGroupRepeater_rpteIsGroupConditionalElements_lnkIsGroupConditionalSpan_0: OFERENTES!#REF!
Name frmMainForm_tblFormContainer_trContentRow_tdLeftColumn_divViewProfilePerspective_tblProfileDetails_trIsGroupContentRow_tdTitleCell_rptIsGroupRepeater_rpteIsGroupConditionalElements_lnkIsGroupConditionalSpan_1: OFERENTES!#REF!
Name SMMLV: #REF!
Name SMMLV: #REF!
Name SMMLV: #REF!
Name SMMLV: #REF!
Name SMMLV: #REF!
Name SMMLV: #REF!
Name SMMLV: #REF!
Name SMMLV: #REF!
Name SMMLV: #REF!
Name SMMLV: #REF!
Name SMMLV: #REF!
Name SMMLV: #REF!
Name SMMLV: #REF!
Name SMMLV: #REF!
Name SMMLV: #REF!

Sheet OFERENTES
A2: EVALUACIÓN TÉCNICA PRELIMINAR PROCESO SGC-SAMC-002-2026
A5: OFERENTE | C5: OFERENTE PLURAL | K5: Calificación juridica | L5: Calificación financiera
C6: CONSORCIADO 1 O INDIVIDUAL | D6: % Participación | E6: CONSORCIADO 2 | F6: % Participación | G6: CONSORCIADO 2 | H6: % Participación | I6: CONSORCIADO 3 | J6: % Participación | M6: ESTADO EVALUACIÓN PRELIMINAR PROPONENTE | N6: Proponente aporta debidamente diligenciado Formato 7A -Programa de gerencia de proyectos, en el cual bajo la gravedad de juramento conste el compromiso que en este sentido asume. 10 PUNTOS | O6: Proponente aporta debidamente diligenciado Formato 14 A– Criterio Ambiental, debidamente suscrito y bajo la gravedad de juramento conste el compromiso que en este sentido asume. 15 PUNTOS | P6: Proponente aporta debidamente diligenciado Formato 14 B– Criterio social, en el cual bajo la gravedad de juramento conste el compromiso que en este sentido asume. 5 PUNTOS | Q6: Al proponente y/o consorciados ¿se les ha impuesto una o más multas o cláusulas penales durante el último año? | R6: El oferente o uno de sus consorciados cuentan con alguna anotación vigente que repose en el registro nacional de obras civiles inconclusas (https://obrasinconclusas.contraloria.gov.co/) - (Ley 2020 de 2020) | S6: Nota general
A7: 1 | B7: SIRIUS INGENIERIA SAS | C7: SIRIUS INGENIERIA SAS | D7: 1 | M7: ='EXPERIENCIA (1)'!$J$62 -> HABILITADO | N7: ='PONDERACIÓN (1)'!$C$6 -> 10 puntos | O7: ='PONDERACIÓN (1)'!$C$7 -> 15 puntos | P7: ='PONDERACIÓN (1)'!$C$13 -> 5 puntos | Q7: ='PONDERACIÓN (1)'!$D$17 -> No | R7: ='PONDERACIÓN (1)'!$D$18 -> No
A8: =+A7+1 -> 2 | B8: PROYECTOS ARQUITECTURA E INGENIERIA 3L S.A.S. | C8: PROYECTOS ARQUITECTURA E INGENIERIA 3L S.A.S. | D8: 1 | M8: ='EXPERIENCIA (2)'!$J$62 -> HABILITADO | N8: ='PONDERACIÓN (2)'!$C$6 -> 10 puntos | O8: ='PONDERACIÓN (2)'!$C$7 -> 15 puntos | P8: ='PONDERACIÓN (2)'!$C$13 -> 5 puntos | Q8: ='PONDERACIÓN (2)'!$D$17 -> No | R8: ='PONDERACIÓN (2)'!$D$18 -> No
A9: =+A8+1 -> 3 | B9: CONESTRUCTURAR | C9: CONESTRUCTURAR | D9: 1 | M9: ='EXPERIENCIA (3)'!$J$62 -> HABILITADO | N9: ='PONDERACIÓN (3)'!$C$6 -> 10 puntos | O9: ='PONDERACIÓN (3)'!$C$7 -> 15 puntos | P9: ='PONDERACIÓN (3)'!$C$13 -> 5 puntos | Q9: ='PONDERACIÓN (3)'!$D$17 -> No | R9: ='PONDERACIÓN (3)'!$D$18 -> No
A10: =+A9+1 -> 4 | B10: H.A.H. CONSTRUCCIONES S.A.S. | C10: H.A.H. CONSTRUCCIONES S.A.S. | D10: 1 | M10: ='EXPERIENCIA (4)'!$J$62 -> HABILITADO | N10: ='PONDERACIÓN (4)'!$C$6 -> 10 puntos | O10: ='PONDERACIÓN (4)'!$C$7 -> 15 puntos | P10: ='PONDERACIÓN (4)'!$C$13 -> 5 puntoS | Q10: ='PONDERACIÓN (4)'!$D$17 -> No | R10: ='PONDERACIÓN (4)'!$D$18 -> No
A11: =+A10+1 -> 5 | B11: MARA LTDA | C11: MARA LTDA | D11: 1 | M11: ='EXPERIENCIA (5)'!$J$62 -> HABILITADO | N11: ='PONDERACIÓN (5)'!$C$6 -> 10 puntos | O11: ='PONDERACIÓN (5)'!$C$7 -> 15 puntos | P11: ='PONDERACIÓN (5)'!$C$13 -> 5 puntos | Q11: ='PONDERACIÓN (5)'!$D$17 -> No | R11: ='PONDERACIÓN (5)'!$D$18 -> No
A12: =+A11+1 -> 6 | B12: CONSORCIO TYR INGENIERIA SGC | C12: T&R PROYECTOS Y CONSTRUCCIONES SAS | D12: 0.9 | E12: ALCAX INGENIERIA SAS | F12: 0.1 | M12: ='EXPERIENCIA (6)'!$J$62 -> HABILITADO | N12: ='PONDERACIÓN (6)'!$C$6 -> 10 puntos | O12: ='PONDERACIÓN (6)'!$C$7 -> 15 puntos | P12: ='PONDERACIÓN (6)'!$C$13 -> 5 puntos | Q12: ='PONDERACIÓN (6)'!$D$17 -> No | R12: ='PONDERACIÓN (6)'!$D$18 -> No
B13: GRUPO EVALUADOR - COMPONENTE TÉCNICO
B21: ROBERTO MANUEL CARRILLO RODRÍGUEZ | D21: CARLOS ALBERTO DÍAZ CORREDOR
B22: CONTRATISTA - GTSA | D22: COORDINADOR - GTSA

Sheet EXPERIENCIA (0)
A1: EVALUACIÓN CRITERIOS TECNICOS DE EXPERIENCIA | L1: 2022 | M1: Cumple | N1: CUMPLE | O1: Clasificación UNSPSC | P1: SI
M2: No Cumple | N2: NO CUMPLE | O2: 721214
A3: 1. DATOS DEL PROCESO
A4: No. PROCESO | B4: SGC-SAMC-002-2026 | D4: FECHA CIERRE | J4: 46141
A5: OBJETO: | B5: Contratar por el sistema de precios unitarios fijos, sin formula de reajuste el mantenimiento preventivo y correctivo de las cubiertas planas y livianas, y demás adecuaciones necesarias en la infraestructura del Servicio Geológico Colombiano, sede CAN, ubicada en la ciudad de Bogotá D.C.
A7: 2. IDENTIFICACIÓN DEL OFERENTE
A8: Oferente: | C8: =IF(B8>0,(VLOOKUP($B$8,OFERENTES!$A$7:$H$12,2,FALSE)),0) -> 0 | L8: 44713 | O8: 721529
A9: Oferente individual o Consorciado 1 | B9: =IF(B8>0,(VLOOKUP($B$8,OFERENTES!$A$7:$J$12,3,FALSE)),0) -> 0 | J9: Participación | K9: =IF(B8>0,(VLOOKUP($B$8,OFERENTES!$A$7:$J$12,4,FALSE)),0) -> 0
A10: Consorciado 2 | B10: =IF(B8>0,(VLOOKUP($B$8,OFERENTES!$A$7:$J$12,5,FALSE)),0) -> 0 | J10: Participación | K10: =IF(D8>0,(VLOOKUP($B$8,OFERENTES!$A$8:$J$8,6,FALSE)),0) -> 0
A11: Consorciado 3 | B11: =IF(C8>0,(VLOOKUP($B$8,[1]OFERENTES!$A$7:$H$20,7,FALSE)),0) -> 0 | J11: Participación | K11: =IF(B10>0,(VLOOKUP($B$8,OFERENTES!$A$7:$J$12,4,FALSE)),0) -> 0
B12: Consorciados | O12: 721516
A13: 3. EXPERIENCIA REQUERIDA
A14: EXPERIENCIA GENERAL | B14: PROYECTOS QUE CORRESPONDAN Y/O CONTEMPLEN ACTIVIDADES DE: CONSTRUCCIÓN Y/O AMPLIACIÓN Y/O RECONSTRUCCIÓN Y/O ADECUACIÓN Y/O CONSERVACIÓN Y/O INTERVENCIÓN Y/O INSTALACIÓN Y/O MANTENIMIENTO Y/O MEJORAMIENTO Y/O MODIFICACIÓN U OPTIMIZACIÓN Y/O REHABILITACIÓN Y/O REMODELACIÓN Y/O REPOSICIÓN Y/O REPARACIÓN LOCATIVA Y/O RESTAURACIÓN Y/O RESTITUCIÓN Y/O TERMINACIÓN Y/O REFORZAMIENTO ESTRUCTURAL Y/O ACTUALIZACIÓN SÍSMICA Y/O REPOTENCIACIÓN ESTRUCTURAL DE EDIFICACIONES
A15: EXPERIENCIA ESPECIFICA OBLIGATORIA | B15: Por lo menos uno (1) de los contratos válidos aportados como experiencia general debe corresponder mínimo al 50% del presupuesto oficial del presente proceso de selección
A16: EXPERIENCIA ESPECIFICA ADICIONAL | B16: i) cubiertas tradicionales: por lo menos uno (1) de los contratos válidos aportados como experiencia general debe contemplar construcción y/o ampliación y/o reconstrucción y/o adecuación y/o conservación y/o intervención y/o instalación y/o mantenimiento y/o mejoramiento y/o modificación u optimización y/o rehabilitación y/o remodelación y/o reposición y/o reparación locativa y/o restauración y/o restitución y/o terminación y/o reforzamiento estructural y/o actualización sísmica y/o repotenciación estructural de cubiertas en edificaciones
A18: EXPERIENCIA MÍNIMA ESPECÍFICA REQUERIDA
A19: No. | B19: 1 | C19: PRESUPUESTO OFICIAL | J19: EXPERIENCIA ESPECÍFICA OBLIGATORIA A CERTIFIFCAR (70%PO)
A20: 1 | B20: X | C20: =IF(B20="X",(ROUND((365062574/1750905),2)),0) -> 208.5 | J20: =IF(B20="X",C20*50%,0) -> 104.25
A22: 1 | B22: X
A23: RESUMEN | C23: =SUM(C20:H20) -> 208.5
A24: ANTICIPO (SI APLICA) | B24: 0 | D24: CAPACIDAD RESIDUAL PROCESO | J24: =C23-B24 -> 208.5
A26: Descripción (Entidad Contratante y numero de contrato) | B26: Cumple Al menos dos códigos (72-10-15)(72-10-29)(72-10-33)(72-15-32)(30-16-16) | C26: Consorciado que aporta la experiencia | D26: Porcentaje de participación en el contrato | E26: Cumple para experiencia general? | F26: Año terminación | G26: Cumple experiencia específica obligatoria? | H26: Cumple experiencia específica adicional? | I26: SM* % Participación para Experiencia Específica Obligatoria | J26: Salarios Mínimos acreditados de acuerdo con RUP | K26: SM * % Participación
A27: Certificación 1 Contrato: Contratante: | I27: =+IF(G27="Cumple",+K27,0) -> 0 | K27: =ROUND((J27*D27),2) -> 0
A28: Certificación 2 Contrato: Contratante: | I28: =+IF(G28="Cumple",+K28,0) -> 0 | K28: =ROUND((J28*D28),2) -> 0
A29: Certificación 3 Contrato: Contratante: | I29: =+IF(G29="Cumple",+K29,0) -> 0 | K29: =ROUND((J29*D29),2) -> 0
A30: Certificación 4 | I30: =+IF(G30="Cumple",+K30,0) -> 0 | K30: =ROUND((J30*D30),2) -> 0
A31: Certificación 5 | I31: =+IF(G31="Cumple",+K31,0) -> 0 | K31: =ROUND((J31*D31),2) -> 0
A32: Certificación 6 | I32: =+IF(G32="Cumple",+K32,0) -> 0 | K32: =ROUND((J32*D32),2) -> 0 | M32: =+COUNTIF(H27:H33,"Cumple") -> 0
A33: Certificación 7 | I33: =+IF(G33="Cumple",+K33,0) -> 0 | K33: =ROUND((J33*D33),2) -> 0
A34: Cumplimiento: | B34: =IF($B9>0,(IF((COUNTIF(B27:B33,"CUMPLE"))>=1,"CUMPLE","NO CUMPLE")),0) -> 0 | D34: Cumplimiento | E34: =IF($B9>0,(IF((COUNTIF(E27:E33,"CUMPLE"))>=1,"CUMPLE","NO CUMPLE")),0) -> 0 | H34: =IF($B9>0,(IF((COUNTIF(H27:H33,"CUMPLE"))>=1,"CUMPLE","NO CUMPLE")),0) -> 0 | I34: =IF($B$19>0,(IF((MAX(I27:I33))>=$J$20,$M$1,$M$2)),0) -> No Cumple | J34: Total | K34: =SUM(K27:K33) -> 0
A36: Numero de contratos aportados
A37: De | B37: Hasta | C37: Valor mínimo a certificar respecto al Presupuesto oficial (Dependiendo calidad oferente) | K37: Verificación
A38: 1 | B38: 2 | C38: 0.75 | J38: =IF(F38>0,ROUND(($C$23*C38),2),0) -> 0 | K38: =IF(K34>0,(IF(K34>=(LARGE(J38:J40,1)),M1,M2)),0) -> 0
A39: 3 | B39: 4 | C39: 1.2 | J39: =IF(F39>0,ROUND(($C$23*C39),2),0) -> 0
A40: 1 | B40: 5 | C40: 1.5 | F40: X | J40: =IF(F40>0,ROUND(($C$23*C40),2),0) -> 312.75
A42: Por lo menos uno (1) de los Contratos válidos aportados como experiencia debe haber iniciado ejecución con posterioridad a la expedición de la NSR-10, el cual debió haberse ejecutado y terminado antes de la fecha de cierre del presente Proceso de Contratación.
A43: Los Contratos aportados como experiencia válida y que correspondan a edificaciones debieron iniciar su ejecución luego de la expedición del Reglamento Colombiano de Construcción Sismo Resistente (NSR-98), esto es, después del 9 de enero de 1998.
A44: Los contratos que aporta como experiencia fueron terminados antes de la fecha de cierre del presente proceso | J44: =+J4 -> 46141
A45: Tratándose de Proponentes Plurales: ¿Uno de los integrantes aporta como mínimo el cincuenta por ciento (50%) de la experiencia solicitada? | J45: =ROUND(C23*50%,2) -> 104.25 | L45: =OR(K45="Si",K45="N.A.") -> FALSE
L46: =OR(K45="Si",K45="N.A.") -> FALSE
...

Sheet PONDERACIÓN (0)
A1: PARÁMETROS DE EVALUACIÓN - FACTORES Y CRITERIOS DE PONDERACIÓN | G1: Si | H1: 1 | I1: Sede Central
G2: No | H2: 2 | I2: GTR Cali
A3: OFERENTE EVALUADO: | C3: =IF(B3>0,(VLOOKUP($B$3,OFERENTES!$A$7:$B$12,2,FALSE)),0) -> 0
A5: EQUIPO DE TRABAJO (Personal Clave Evaluable) MÁXIMO 10 PUNTOS
A6: Proponente aporta debidamente diligenciado Formato 7A -Programa de gerencia de proyectos, en el cual bajo la gravedad de juramento conste el compromiso que en este sentido asume. | C6: 10 puntos | E6: =IF(D6="Si",IF(D7="Si",25,10),IF(D7="Si",15,0)) -> 0
A7: Proponente aporta debidamente diligenciado Formato 14 A– Criterio Ambiental, debidamente suscrito y bajo la gravedad de juramento conste el compromiso que en este sentido asumeuna (1) formación académica adicional. | C7: 15 puntos
A8: Observaciones:
A10: Formato. Incentivo en favor de personas con discapacidad.
A11: En caso de oferentes plurales el integrante que aporta el personal con discapacidad, aporta mas del 40% de la experiencia requerida (En caso de oferente individual indicar únicamente si)
A12: FACTOR DE SOSTENIBILIDAD - MÁXIMO 1 PUNTO
A13: Proponente aporta debidamente diligenciado Formato 14 B– Criterio social, en el cual bajo la gravedad de juramento conste el compromiso que en este sentido asume. | C13: 5 puntoS | E13: =IF(D13="Si",5,0) -> 0
A15: =CONCATENATE("SUBTOTAL PUNTAJE OFERENTE ",$C$3," (PUNTAJE TÉCNICO MÁXIMO 30,00)") -> SUBTOTAL PUNTAJE OFERENTE 0 (PUNTAJE TÉCNICO MÁXIMO 30,00) | E15: =E6+E13 -> 0
A17: Al proponente y/o consorciados ¿se les ha impuesto una o más multas o cláusulas penales durante el último año? | E17: =IF(D17="Si",-2,0) -> 0 | G17: https://www.rues.org.co/
A18: El oferente o uno de sus consorciados cuentan con alguna anotación vigente que repose en el registro nacional de obras civiles inconclusas (https://obrasinconclusas.contraloria.gov.co/) - (Ley 2020 de 2020) | E18: =IF(D18="Si",-1,0) -> 0 | G18: https://obrasinconclusas.contraloria.gov.co/
A20: =CONCATENATE("TOTAL PUNTAJE OFERENTE ",$C$3) -> TOTAL PUNTAJE OFERENTE 0 | E20: =E15+E17+E18 -> 0
A22: Observaciones:

Sheet EXPERIENCIA (1)
A1: EVALUACIÓN CRITERIOS TECNICOS DE EXPERIENCIA | L1: 2022 | M1: Cumple | N1: CUMPLE | O1: Clasificación UNSPSC | P1: SI
M2: No Cumple | N2: NO CUMPLE | O2: 721214
A3: 1. DATOS DEL PROCESO
A4: No. PROCESO | B4: SGC-SAMC-002-2026 | D4: FECHA CIERRE | J4: 46141
A5: OBJETO: | B5: Contratar por el sistema de precios unitarios fijos, sin formula de reajuste el mantenimiento preventivo y correctivo de las cubiertas planas y livianas, y demás adecuaciones necesarias en la infraestructura del Servicio Geológico Colombiano, sede CAN, ubicada en la ciudad de Bogotá D.C.
A7: 2. IDENTIFICACIÓN DEL OFERENTE
A8: Oferente: | B8: 1 | C8: =IF(B8>0,(VLOOKUP($B$8,OFERENTES!$A$7:$H$12,2,FALSE)),0) -> SIRIUS INGENIERIA SAS | L8: 44713 | O8: 721529
A9: Oferente individual o Consorciado 1 | B9: =IF(B8>0,(VLOOKUP($B$8,OFERENTES!$A$7:$J$12,3,FALSE)),0) -> SIRIUS INGENIERIA SAS | J9: Participación | K9: =IF(B8>0,(VLOOKUP($B$8,OFERENTES!$A$7:$J$12,4,FALSE)),0) -> 1
A10: Consorciado 2 | B10: =IF(B8>0,(VLOOKUP($B$8,OFERENTES!$A$7:$J$12,5,FALSE)),0) -> 0 | J10: Participación | K10: =IF(D8>0,(VLOOKUP($B$8,OFERENTES!$A$8:$J$8,6,FALSE)),0) -> 0
A11: Consorciado 3 | B11: =IF(C8>0,(VLOOKUP($B$8,[1]OFERENTES!$A$7:$H$20,7,FALSE)),0) -> 0 | J11: Participación | K11: =IF(B10>0,(VLOOKUP($B$8,OFERENTES!$A$7:$J$12,4,FALSE)),0) -> 0
B12: Consorciados | O12: 721516
A13: 3. EXPERIENCIA REQUERIDA
A14: EXPERIENCIA GENERAL | B14: PROYECTOS QUE CORRESPONDAN Y/O CONTEMPLEN ACTIVIDADES DE: CONSTRUCCIÓN Y/O AMPLIACIÓN Y/O RECONSTRUCCIÓN Y/O ADECUACIÓN Y/O CONSERVACIÓN Y/O INTERVENCIÓN Y/O INSTALACIÓN Y/O MANTENIMIENTO Y/O MEJORAMIENTO Y/O MODIFICACIÓN U OPTIMIZACIÓN Y/O REHABILITACIÓN Y/O REMODELACIÓN Y/O REPOSICIÓN Y/O REPARACIÓN LOCATIVA Y/O RESTAURACIÓN Y/O RESTITUCIÓN Y/O TERMINACIÓN Y/O REFORZAMIENTO ESTRUCTURAL Y/O ACTUALIZACIÓN SÍSMICA Y/O REPOTENCIACIÓN ESTRUCTURAL DE EDIFICACIONES
A15: EXPERIENCIA ESPECIFICA OBLIGATORIA | B15: Por lo menos uno (1) de los contratos válidos aportados como experiencia general debe corresponder mínimo al 50% del presupuesto oficial del presente proceso de selección
A16: EXPERIENCIA ESPECIFICA ADICIONAL | B16: i) cubiertas tradicionales: por lo menos uno (1) de los contratos válidos aportados como experiencia general debe contemplar construcción y/o ampliación y/o reconstrucción y/o adecuación y/o conservación y/o intervención y/o instalación y/o mantenimiento y/o mejoramiento y/o modificación u optimización y/o rehabilitación y/o remodelación y/o reposición y/o reparación locativa y/o restauración y/o restitución y/o terminación y/o reforzamiento estructural y/o actualización sísmica y/o repotenciación estructural de cubiertas en edificaciones
A18: EXPERIENCIA MÍNIMA ESPECÍFICA REQUERIDA
A19: No. | B19: 1 | C19: PRESUPUESTO OFICIAL | J19: EXPERIENCIA ESPECÍFICA OBLIGATORIA A CERTIFIFCAR (50%PO)
A20: 1 | B20: X | C20: =IF(B20="X",(ROUND((365062574/1750905),2)),0) -> 208.5 | J20: =IF(B20="X",C20*50%,0) -> 104.25
A22: 1 | B22: X
A23: RESUMEN | C23: =SUM(C20:H20) -> 208.5
A24: ANTICIPO (SI APLICA) | B24: 0 | D24: CAPACIDAD RESIDUAL PROCESO | J24: =C23-B24 -> 208.5
A26: Descripción (Entidad Contratante y numero de contrato) | B26: Cumple Al menos dos códigos (72-10-15)(72-10-29)(72-10-33)(72-15-32)(30-16-16) | C26: Consorciado que aporta la experiencia | D26: Porcentaje de participación en el contrato | E26: Cumple para experiencia general? | F26: Año terminación | G26: Cumple experiencia específica obligatoria? | H26: Cumple experiencia específica adicional? | I26: SM* % Participación para Experiencia Específica Obligatoria | J26: Salarios Mínimos acreditados de acuerdo con RUP | K26: SM * % Participación
A27: Certificación 1 Contrato: 001 DE 2023 Contratante: PARQUES NACIONALES DE COLOMBIA | B27: Cumple | C27: SIRIUS INGENIERIA SAS | D27: 1 | E27: Cumple | F27: 2023 | G27: Cumple | H27: No Cumple | I27: =+IF(G27="Cumple",+K27,0) -> 201.29 | J27: 201.29 | K27: =ROUND((J27*D27),2) -> 201.29
A28: Certificación 2 Contrato: 001 DE 2019 Contratante: CONJUNTO RESIDENCIAL SA ANDRES PH | B28: Cumple | C28: SIRIUS INGENIERIA SAS | D28: 1 | E28: Cumple | F28: 2019 | G28: Cumple | H28: Cumple | I28: =+IF(G28="Cumple",+K28,0) -> 112.11 | J28: 112.11 | K28: =ROUND((J28*D28),2) -> 112.11
A29: Certificación 3 Contrato: Contratante: | I29: =+IF(G29="Cumple",+K29,0) -> 0 | K29: =ROUND((J29*D29),2) -> 0
A30: Certificación 4 | I30: =+IF(G30="Cumple",+K30,0) -> 0 | K30: =ROUND((J30*D30),2) -> 0
A31: Certificación 5 | I31: =+IF(G31="Cumple",+K31,0) -> 0 | K31: =ROUND((J31*D31),2) -> 0
A32: Certificación 6 | I32: =+IF(G32="Cumple",+K32,0) -> 0 | K32: =ROUND((J32*D32),2) -> 0 | M32: =+COUNTIF(H27:H33,"Cumple") -> 1
A33: Certificación 7 | I33: =+IF(G33="Cumple",+K33,0) -> 0 | K33: =ROUND((J33*D33),2) -> 0
A34: Cumplimiento: | B34: =IF($B9>0,(IF((COUNTIF(B27:B33,"CUMPLE"))>=1,"CUMPLE","NO CUMPLE")),0) -> CUMPLE | D34: Cumplimiento | E34: =IF($B9>0,(IF((COUNTIF(E27:E33,"CUMPLE"))>=1,"CUMPLE","NO CUMPLE")),0) -> CUMPLE | H34: =IF($B9>0,(IF((COUNTIF(H27:H33,"CUMPLE"))>=1,"CUMPLE","NO CUMPLE")),0) -> CUMPLE | I34: =IF($B$19>0,(IF((MAX(I27:I33))>=$J$20,$M$1,$M$2)),0) -> Cumple | J34: Total | K34: =SUM(K27:K33) -> 313.4
A36: Numero de contratos aportados
A37: De | B37: Hasta | C37: Valor mínimo a certificar respecto al Presupuesto oficial (Dependiendo calidad oferente) | K37: Verificación
A38: 1 | B38: 2 | C38: 0.75 | F38: X | J38: =IF(F38>0,ROUND(($C$23*C38),2),0) -> 156.38 | K38: =IF(K34>0,(IF(K34>=(LARGE(J38:J40,1)),M1,M2)),0) -> Cumple
A39: 3 | B39: 4 | C39: 1.2 | J39: =IF(F39>0,ROUND(($C$23*C39),2),0) -> 0
A40: 1 | B40: 5 | C40: 1.5 | J40: =IF(F40>0,ROUND(($C$23*C40),2),0) -> 0
A42: Por lo menos uno (1) de los Contratos válidos aportados como experiencia debe haber iniciado ejecución con posterioridad a la expedición de la NSR-10, el cual debió haberse ejecutado y terminado antes de la fecha de cierre del presente Proceso de Contratación. | K42: Si
A43: Los Contratos aportados como experiencia válida y que correspondan a edificaciones debieron iniciar su ejecución luego de la expedición del Reglamento Colombiano de Construcción Sismo Resistente (NSR-98), esto es, después del 9 de enero de 1998. | K43: Si
A44: Los contratos que aporta como experiencia fueron terminados antes de la fecha de cierre del presente proceso | J44: =+J4 -> 46141 | K44: Si
A45: Tratándose de Proponentes Plurales: ¿Uno de los integrantes aporta como mínimo el cincuenta por ciento (50%) de la experiencia solicitada? | J45: =ROUND(C23*50%,2) -> 104.25 | K45: N.A. | L45: =OR(K45="Si",K45="N.A.") -> TRUE
L46: =OR(K45="Si",K45="N.A.") -> TRUE
...

Sheet PONDERACIÓN (1)
A1: PARÁMETROS DE EVALUACIÓN - FACTORES Y CRITERIOS DE PONDERACIÓN | G1: Si | H1: 1 | I1: Sede Central
G2: No | H2: 2 | I2: GTR Cali
A3: OFERENTE EVALUADO: | B3: 1 | C3: =IF(B3>0,(VLOOKUP($B$3,OFERENTES!$A$7:$B$12,2,FALSE)),0) -> SIRIUS INGENIERIA SAS
A5: EQUIPO DE TRABAJO (Personal Clave Evaluable) MÁXIMO 10 PUNTOS
A6: Proponente aporta debidamente diligenciado Formato 7A -Programa de gerencia de proyectos, en el cual bajo la gravedad de juramento conste el compromiso que en este sentido asume. | C6: 10 puntos | D6: Si | E6: =IF(D6="Si",IF(D7="Si",25,10),IF(D7="Si",15,0)) -> 25
A7: Proponente aporta debidamente diligenciado Formato 14 A– Criterio Ambiental, debidamente suscrito y bajo la gravedad de juramento conste el compromiso que en este sentido asumeuna (1) formación académica adicional. | C7: 15 puntos | D7: Si
A8: Observaciones:
A10: Formato. Incentivo en favor de personas con discapacidad.
A11: En caso de oferentes plurales el integrante que aporta el personal con discapacidad, aporta mas del 40% de la experiencia requerida (En caso de oferente individual indicar únicamente si)
A12: FACTOR DE SOSTENIBILIDAD - MÁXIMO 1 PUNTO
A13: Proponente aporta debidamente diligenciado Formato 14 B– Criterio social, en el cual bajo la gravedad de juramento conste el compromiso que en este sentido asume. | C13: 5 puntos | D13: Si | E13: =IF(D13="Si",5,0) -> 5
A15: =CONCATENATE("SUBTOTAL PUNTAJE OFERENTE ",$C$3," (PUNTAJE TÉCNICO MÁXIMO 30,00)") -> SUBTOTAL PUNTAJE OFERENTE SIRIUS INGENIERIA SAS (PUNTAJE TÉCNICO MÁXIMO 30,00) | E15: =E6+E13 -> 30
A17: Al proponente y/o consorciados ¿se les ha impuesto una o más multas o cláusulas penales durante el último año? | D17: No | E17: =IF(D17="Si",-2,0) -> 0 | G17: https://www.rues.org.co/
A18: El oferente o uno de sus consorciados cuentan con alguna anotación vigente que repose en el registro nacional de obras civiles inconclusas (https://obrasinconclusas.contraloria.gov.co/) - (Ley 2020 de 2020) | D18: No | E18: =IF(D18="Si",-1,0) -> 0 | G18: https://obrasinconclusas.contraloria.gov.co/
A20: =CONCATENATE("TOTAL PUNTAJE OFERENTE ",$C$3) -> TOTAL PUNTAJE OFERENTE SIRIUS INGENIERIA SAS | E20: =E15+E17+E18 -> 30
A22: Observaciones:

Sheet EXPERIENCIA (2)
A1: EVALUACIÓN CRITERIOS TECNICOS DE EXPERIENCIA | L1: 2022 | M1: Cumple | N1: CUMPLE | O1: Clasificación UNSPSC | P1: SI
M2: No Cumple | N2: NO CUMPLE | O2: 721214
A3: 1. DATOS DEL PROCESO
A4: No. PROCESO | B4: SGC-SAMC-002-2026 | D4: FECHA CIERRE | J4: 46141
A5: OBJETO: | B5: Contratar por el sistema de precios unitarios fijos, sin formula de reajuste el mantenimiento preventivo y correctivo de las cubiertas planas y livianas, y demás adecuaciones necesarias en la infraestructura del Servicio Geológico Colombiano, sede CAN, ubicada en la ciudad de Bogotá D.C.
A7: 2. IDENTIFICACIÓN DEL OFERENTE
A8: Oferente: | B8: 2 | C8: =IF(B8>0,(VLOOKUP($B$8,OFERENTES!$A$7:$H$12,2,FALSE)),0) -> PROYECTOS ARQUITECTURA E INGENIERIA 3L S.A.S. | L8: 44713 | O8: 721529
A9: Oferente individual o Consorciado 1 | B9: =IF(B8>0,(VLOOKUP($B$8,OFERENTES!$A$7:$J$12,3,FALSE)),0) -> PROYECTOS ARQUITECTURA E INGENIERIA 3L S.A.S. | J9: Participación | K9: =IF(B8>0,(VLOOKUP($B$8,OFERENTES!$A$7:$J$12,4,FALSE)),0) -> 1
A10: Consorciado 2 | B10: =IF(B8>0,(VLOOKUP($B$8,OFERENTES!$A$7:$J$12,5,FALSE)),0) -> 0 | J10: Participación | K10: =IF(D8>0,(VLOOKUP($B$8,OFERENTES!$A$8:$J$8,6,FALSE)),0) -> 0
A11: Consorciado 3 | B11: =IF(C8>0,(VLOOKUP($B$8,[1]OFERENTES!$A$7:$H$20,7,FALSE)),0) -> 0 | J11: Participación | K11: =IF(B10>0,(VLOOKUP($B$8,OFERENTES!$A$7:$J$12,4,FALSE)),0) -> 0
B12: Consorciados | O12: 721516
A13: 3. EXPERIENCIA REQUERIDA
A14: EXPERIENCIA GENERAL | B14: PROYECTOS QUE CORRESPONDAN Y/O CONTEMPLEN ACTIVIDADES DE: CONSTRUCCIÓN Y/O AMPLIACIÓN Y/O RECONSTRUCCIÓN Y/O ADECUACIÓN Y/O CONSERVACIÓN Y/O INTERVENCIÓN Y/O INSTALACIÓN Y/O MANTENIMIENTO Y/O MEJORAMIENTO Y/O MODIFICACIÓN U OPTIMIZACIÓN Y/O REHABILITACIÓN Y/O REMODELACIÓN Y/O REPOSICIÓN Y/O REPARACIÓN LOCATIVA Y/O RESTAURACIÓN Y/O RESTITUCIÓN Y/O TERMINACIÓN Y/O REFORZAMIENTO ESTRUCTURAL Y/O ACTUALIZACIÓN SÍSMICA Y/O REPOTENCIACIÓN ESTRUCTURAL DE EDIFICACIONES
A15: EXPERIENCIA ESPECIFICA OBLIGATORIA | B15: Por lo menos uno (1) de los contratos válidos aportados como experiencia general debe corresponder mínimo al 50% del presupuesto oficial del presente proceso de selección
A16: EXPERIENCIA ESPECIFICA ADICIONAL | B16: i) cubiertas tradicionales: por lo menos uno (1) de los contratos válidos aportados como experiencia general debe contemplar construcción y/o ampliación y/o reconstrucción y/o adecuación y/o conservación y/o intervención y/o instalación y/o mantenimiento y/o mejoramiento y/o modificación u optimización y/o rehabilitación y/o remodelación y/o reposición y/o reparación locativa y/o restauración y/o restitución y/o terminación y/o reforzamiento estructural y/o actualización sísmica y/o repotenciación estructural de cubiertas en edificaciones
A18: EXPERIENCIA MÍNIMA ESPECÍFICA REQUERIDA
A19: No. | B19: 1 | C19: PRESUPUESTO OFICIAL | J19: EXPERIENCIA ESPECÍFICA OBLIGATORIA A CERTIFIFCAR (70%PO)
A20: 1 | B20: X | C20: =IF(B20="X",(ROUND((365062574/1750905),2)),0) -> 208.5 | J20: =IF(B20="X",C20*50%,0) -> 104.25
A22: 1 | B22: X
A23: RESUMEN | C23: =SUM(C20:H20) -> 208.5
A24: ANTICIPO (SI APLICA) | B24: 0 | D24: CAPACIDAD RESIDUAL PROCESO | J24: =C23-B24 -> 208.5
A26: Descripción (Entidad Contratante y numero de contrato) | B26: Cumple Al menos dos códigos (72-10-15)(72-10-29)(72-10-33)(72-15-32)(30-16-16) | C26: Consorciado que aporta la experiencia | D26: Porcentaje de participación en el contrato | E26: Cumple para experiencia general? | F26: Año terminación | G26: Cumple experiencia específica obligatoria? | H26: Cumple experiencia específica adicional? | I26: SM* % Participación para Experiencia Específica Obligatoria | J26: Salarios Mínimos acreditados de acuerdo con RUP | K26: SM * % Participación
A27: Certificación 1 Contrato: GA-007-2013 Contratante: FUNDACIÓN ARGOS | B27: Cumple | C27: PROYECTOS ARQUITECTURA E INGENIERIA 3L S.A.S. | D27: 0.9 | E27: Cumple | F27: 2014 | G27: Cumple | H27: Cumple | I27: =+IF(G27="Cumple",+K27,0) -> 610.28 | J27: 678.09 | K27: =ROUND((J27*D27),2) -> 610.28
A28: Certificación 2 Contrato: GA-003-2014 Contratante: FUNDACIÓN ARGOS | B28: Cumple | C28: PROYECTOS ARQUITECTURA E INGENIERIA 3L S.A.S. | D28: 0.9 | E28: Cumple | F28: 2014 | G28: Cumple | H28: Cumple | I28: =+IF(G28="Cumple",+K28,0) -> 553.59 | J28: 615.1 | K28: =ROUND((J28*D28),2) -> 553.59
A29: Certificación 3 Contrato: Contratante: | I29: =+IF(G29="Cumple",+K29,0) -> 0 | K29: =ROUND((J29*D29),2) -> 0
A30: Certificación 4 | I30: =+IF(G30="Cumple",+K30,0) -> 0 | K30: =ROUND((J30*D30),2) -> 0
A31: Certificación 5 | I31: =+IF(G31="Cumple",+K31,0) -> 0 | K31: =ROUND((J31*D31),2) -> 0
A32: Certificación 6 | I32: =+IF(G32="Cumple",+K32,0) -> 0 | K32: =ROUND((J32*D32),2) -> 0 | M32: =+COUNTIF(H27:H33,"Cumple") -> 2
A33: Certificación 7 | I33: =+IF(G33="Cumple",+K33,0) -> 0 | K33: =ROUND((J33*D33),2) -> 0
A34: Cumplimiento: | B34: =IF($B9>0,(IF((COUNTIF(B27:B33,"CUMPLE"))>=1,"CUMPLE","NO CUMPLE")),0) -> CUMPLE | D34: Cumplimiento | E34: =IF($B9>0,(IF((COUNTIF(E27:E33,"CUMPLE"))>=1,"CUMPLE","NO CUMPLE")),0) -> CUMPLE | H34: =IF($B9>0,(IF((COUNTIF(H27:H33,"CUMPLE"))>=1,"CUMPLE","NO CUMPLE")),0) -> CUMPLE | I34: =IF($B$19>0,(IF((MAX(I27:I33))>=$J$20,$M$1,$M$2)),0) -> Cumple | J34: Total | K34: =SUM(K27:K33) -> 1163.87
A36: Numero de contratos aportados
A37: De | B37: Hasta | C37: Valor mínimo a certificar respecto al Presupuesto oficial (Dependiendo calidad oferente) | K37: Verificación
A38: 1 | B38: 2 | C38: 0.75 | F38: X | J38: =IF(F38>0,ROUND(($C$23*C38),2),0) -> 156.38 | K38: =IF(K34>0,(IF(K34>=(LARGE(J38:J40,1)),M1,M2)),0) -> Cumple
A39: 3 | B39: 4 | C39: 1.2 | J39: =IF(F39>0,ROUND(($C$23*C39),2),0) -> 0
A40: 1 | B40: 5 | C40: 1.5 | J40: =IF(F40>0,ROUND(($C$23*C40),2),0) -> 0
A42: Por lo menos uno (1) de los Contratos válidos aportados como experiencia debe haber iniciado ejecución con posterioridad a la expedición de la NSR-10, el cual debió haberse ejecutado y terminado antes de la fecha de cierre del presente Proceso de Contratación. | K42: Si
A43: Los Contratos aportados como experiencia válida y que correspondan a edificaciones debieron iniciar su ejecución luego de la expedición del Reglamento Colombiano de Construcción Sismo Resistente (NSR-98), esto es, después del 9 de enero de 1998. | K43: Si
A44: Los contratos que aporta como experiencia fueron terminados antes de la fecha de cierre del presente proceso | J44: =+J4 -> 46141 | K44: Si
A45: Tratándose de Proponentes Plurales: ¿Uno de los integrantes aporta como mínimo el cincuenta por ciento (50%) de la experiencia solicitada? | J45: =ROUND(C23*50%,2) -> 104.25 | K45: N.A. | L45: =OR(K45="Si",K45="N.A.") -> TRUE
L46: =OR(K45="Si",K45="N.A.") -> TRUE
...

Sheet PONDERACIÓN (2)
A1: PARÁMETROS DE EVALUACIÓN - FACTORES Y CRITERIOS DE PONDERACIÓN | G1: Si | H1: 1 | I1: Sede Central
G2: No | H2: 2 | I2: GTR Cali
A3: OFERENTE EVALUADO: | B3: 2 | C3: =IF(B3>0,(VLOOKUP($B$3,OFERENTES!$A$7:$B$12,2,FALSE)),0) -> PROYECTOS ARQUITECTURA E INGENIERIA 3L S.A.S.
A5: EQUIPO DE TRABAJO (Personal Clave Evaluable) MÁXIMO 10 PUNTOS
A6: Proponente aporta debidamente diligenciado Formato 7A -Programa de gerencia de proyectos, en el cual bajo la gravedad de juramento conste el compromiso que en este sentido asume. | C6: 10 puntos | D6: Si | E6: =IF(D6="Si",IF(D7="Si",25,10),IF(D7="Si",15,0)) -> 25
A7: Proponente aporta debidamente diligenciado Formato 14 A– Criterio Ambiental, debidamente suscrito y bajo la gravedad de juramento conste el compromiso que en este sentido asumeuna (1) formación académica adicional. | C7: 15 puntos | D7: Si
A8: Observaciones:
A10: Formato. Incentivo en favor de personas con discapacidad.
A11: En caso de oferentes plurales el integrante que aporta el personal con discapacidad, aporta mas del 40% de la experiencia requerida (En caso de oferente individual indicar únicamente si)
A12: FACTOR DE SOSTENIBILIDAD - MÁXIMO 1 PUNTO
A13: Proponente aporta debidamente diligenciado Formato 14 B– Criterio social, en el cual bajo la gravedad de juramento conste el compromiso que en este sentido asume. | C13: 5 puntos | D13: Si | E13: =IF(D13="Si",5,0) -> 5
A15: =CONCATENATE("SUBTOTAL PUNTAJE OFERENTE ",$C$3," (PUNTAJE TÉCNICO MÁXIMO 30,00)") -> SUBTOTAL PUNTAJE OFERENTE PROYECTOS ARQUITECTURA E INGENIERIA 3L S.A.S. (PUNTAJE TÉCNICO MÁXIMO 30,00) | E15: =E6+E13 -> 30
A17: Al proponente y/o consorciados ¿se les ha impuesto una o más multas o cláusulas penales durante el último año? | D17: No | E17: =IF(D17="Si",-2,0) -> 0 | G17: https://www.rues.org.co/
A18: El oferente o uno de sus consorciados cuentan con alguna anotación vigente que repose en el registro nacional de obras civiles inconclusas (https://obrasinconclusas.contraloria.gov.co/) - (Ley 2020 de 2020) | D18: No | E18: =IF(D18="Si",-1,0) -> 0 | G18: https://obrasinconclusas.contraloria.gov.co/
A20: =CONCATENATE("TOTAL PUNTAJE OFERENTE ",$C$3) -> TOTAL PUNTAJE OFERENTE PROYECTOS ARQUITECTURA E INGENIERIA 3L S.A.S. | E20: =E15+E17+E18 -> 30
A22: Observaciones:

Sheet EXPERIENCIA (3)
A1: EVALUACIÓN CRITERIOS TECNICOS DE EXPERIENCIA | L1: 2022 | M1: Cumple | N1: CUMPLE | O1: Clasificación UNSPSC | P1: SI
M2: No Cumple | N2: NO CUMPLE | O2: 721214
A3: 1. DATOS DEL PROCESO
A4: No. PROCESO | B4: SGC-SAMC-002-2026 | D4: FECHA CIERRE | J4: 46141
A5: OBJETO: | B5: Contratar por el sistema de precios unitarios fijos, sin formula de reajuste el mantenimiento preventivo y correctivo de las cubiertas planas y livianas, y demás adecuaciones necesarias en la infraestructura del Servicio Geológico Colombiano, sede CAN, ubicada en la ciudad de Bogotá D.C.
A7: 2. IDENTIFICACIÓN DEL OFERENTE
A8: Oferente: | B8: 3 | C8: =IF(B8>0,(VLOOKUP($B$8,OFERENTES!$A$7:$H$12,2,FALSE)),0) -> CONESTRUCTURAR | L8: 44713 | O8: 721529
A9: Oferente individual o Consorciado 1 | B9: =IF(B8>0,(VLOOKUP($B$8,OFERENTES!$A$7:$J$12,3,FALSE)),0) -> CONESTRUCTURAR | J9: Participación | K9: =IF(B8>0,(VLOOKUP($B$8,OFERENTES!$A$7:$J$12,4,FALSE)),0) -> 1
A10: Consorciado 2 | B10: =IF(B8>0,(VLOOKUP($B$8,OFERENTES!$A$7:$J$12,5,FALSE)),0) -> 0 | J10: Participación | K10: =IF(D8>0,(VLOOKUP($B$8,OFERENTES!$A$8:$J$8,6,FALSE)),0) -> 0
A11: Consorciado 3 | B11: =IF(C8>0,(VLOOKUP($B$8,[1]OFERENTES!$A$7:$H$20,7,FALSE)),0) -> 0 | J11: Participación | K11: =IF(B10>0,(VLOOKUP($B$8,OFERENTES!$A$7:$J$12,4,FALSE)),0) -> 0
B12: Consorciados | O12: 721516
A13: 3. EXPERIENCIA REQUERIDA
A14: EXPERIENCIA GENERAL | B14: PROYECTOS QUE CORRESPONDAN Y/O CONTEMPLEN ACTIVIDADES DE: CONSTRUCCIÓN Y/O AMPLIACIÓN Y/O RECONSTRUCCIÓN Y/O ADECUACIÓN Y/O CONSERVACIÓN Y/O INTERVENCIÓN Y/O INSTALACIÓN Y/O MANTENIMIENTO Y/O MEJORAMIENTO Y/O MODIFICACIÓN U OPTIMIZACIÓN Y/O REHABILITACIÓN Y/O REMODELACIÓN Y/O REPOSICIÓN Y/O REPARACIÓN LOCATIVA Y/O RESTAURACIÓN Y/O RESTITUCIÓN Y/O TERMINACIÓN Y/O REFORZAMIENTO ESTRUCTURAL Y/O ACTUALIZACIÓN SÍSMICA Y/O REPOTENCIACIÓN ESTRUCTURAL DE EDIFICACIONES
A15: EXPERIENCIA ESPECIFICA OBLIGATORIA | B15: Por lo menos uno (1) de los contratos válidos aportados como experiencia general debe corresponder mínimo al 50% del presupuesto oficial del presente proceso de selección
A16: EXPERIENCIA ESPECIFICA ADICIONAL | B16: i) cubiertas tradicionales: por lo menos uno (1) de los contratos válidos aportados como experiencia general debe contemplar construcción y/o ampliación y/o reconstrucción y/o adecuación y/o conservación y/o intervención y/o instalación y/o mantenimiento y/o mejoramiento y/o modificación u optimización y/o rehabilitación y/o remodelación y/o reposición y/o reparación locativa y/o restauración y/o restitución y/o terminación y/o reforzamiento estructural y/o actualización sísmica y/o repotenciación estructural de cubiertas en edificaciones
A18: EXPERIENCIA MÍNIMA ESPECÍFICA REQUERIDA
A19: No. | B19: 1 | C19: PRESUPUESTO OFICIAL | J19: EXPERIENCIA ESPECÍFICA OBLIGATORIA A CERTIFIFCAR (70%PO)
A20: 1 | B20: X | C20: =IF(B20="X",(ROUND((365062574/1750905),2)),0) -> 208.5 | J20: =IF(B20="X",C20*50%,0) -> 104.25
A22: 1 | B22: X
A23: RESUMEN | C23: =SUM(C20:H20) -> 208.5
A24: ANTICIPO (SI APLICA) | B24: 0 | D24: CAPACIDAD RESIDUAL PROCESO | J24: =C23-B24 -> 208.5
A26: Descripción (Entidad Contratante y numero de contrato) | B26: Cumple Al menos dos códigos (72-10-15)(72-10-29)(72-10-33)(72-15-32)(30-16-16) | C26: Consorciado que aporta la experiencia | D26: Porcentaje de participación en el contrato | E26: Cumple para experiencia general? | F26: Año terminación | G26: Cumple experiencia específica obligatoria? | H26: Cumple experiencia específica adicional? | I26: SM* % Participación para Experiencia Específica Obligatoria | J26: Salarios Mínimos acreditados de acuerdo con RUP | K26: SM * % Participación
A27: Certificación 1 Contrato: SOP-004-2023 Contratante: Empresa Autónoma de el peñol | B27: Cumple | C27: CONESTRUCTURAR | D27: 0.7 | E27: Cumple | F27: 2025 | G27: Cumple | H27: Cumple | I27: =+IF(G27="Cumple",+K27,0) -> 946.12 | J27: 1351.6 | K27: =ROUND((J27*D27),2) -> 946.12
A28: Certificación 2 | I28: =+IF(G28="Cumple",+K28,0) -> 0 | K28: =ROUND((J28*D28),2) -> 0
A29: Certificación 3 Contrato: Contratante: | I29: =+IF(G29="Cumple",+K29,0) -> 0 | K29: =ROUND((J29*D29),2) -> 0
A30: Certificación 4 | I30: =+IF(G30="Cumple",+K30,0) -> 0 | K30: =ROUND((J30*D30),2) -> 0
A31: Certificación 5 | I31: =+IF(G31="Cumple",+K31,0) -> 0 | K31: =ROUND((J31*D31),2) -> 0
A32: Certificación 6 | I32: =+IF(G32="Cumple",+K32,0) -> 0 | K32: =ROUND((J32*D32),2) -> 0 | M32: =+COUNTIF(H27:H33,"Cumple") -> 1
A33: Certificación 7 | I33: =+IF(G33="Cumple",+K33,0) -> 0 | K33: =ROUND((J33*D33),2) -> 0
A34: Cumplimiento: | B34: =IF($B9>0,(IF((COUNTIF(B27:B33,"CUMPLE"))>=1,"CUMPLE","NO CUMPLE")),0) -> CUMPLE | D34: Cumplimiento | E34: =IF($B9>0,(IF((COUNTIF(E27:E33,"CUMPLE"))>=1,"CUMPLE","NO CUMPLE")),0) -> CUMPLE | H34: =IF($B9>0,(IF((COUNTIF(H27:H33,"CUMPLE"))>=1,"CUMPLE","NO CUMPLE")),0) -> CUMPLE | I34: =IF($B$19>0,(IF((MAX(I27:I33))>=$J$20,$M$1,$M$2)),0) -> Cumple | J34: Total | K34: =SUM(K27:K33) -> 946.12
A36: Numero de contratos aportados
A37: De | B37: Hasta | C37: Valor mínimo a certificar respecto al Presupuesto oficial (Dependiendo calidad oferente) | K37: Verificación
A38: 1 | B38: 2 | C38: 0.75 | F38: X | J38: =IF(F38>0,ROUND(($C$23*C38),2),0) -> 156.38 | K38: =IF(K34>0,(IF(K34>=(LARGE(J38:J40,1)),M1,M2)),0) -> Cumple
A39: 3 | B39: 4 | C39: 1.2 | J39: =IF(F39>0,ROUND(($C$23*C39),2),0) -> 0
A40: 1 | B40: 5 | C40: 1.5 | J40: =IF(F40>0,ROUND(($C$23*C40),2),0) -> 0
A42: Por lo menos uno (1) de los Contratos válidos aportados como experiencia debe haber iniciado ejecución con posterioridad a la expedición de la NSR-10, el cual debió haberse ejecutado y terminado antes de la fecha de cierre del presente Proceso de Contratación. | K42: Si
A43: Los Contratos aportados como experiencia válida y que correspondan a edificaciones debieron iniciar su ejecución luego de la expedición del Reglamento Colombiano de Construcción Sismo Resistente (NSR-98), esto es, después del 9 de enero de 1998. | K43: Si
A44: Los contratos que aporta como experiencia fueron terminados antes de la fecha de cierre del presente proceso | J44: =+J4 -> 46141 | K44: Si
A45: Tratándose de Proponentes Plurales: ¿Uno de los integrantes aporta como mínimo el cincuenta por ciento (50%) de la experiencia solicitada? | J45: =ROUND(C23*50%,2) -> 104.25 | K45: N.A. | L45: =OR(K45="Si",K45="N.A.") -> TRUE
L46: =OR(K45="Si",K45="N.A.") -> TRUE
...

Sheet PONDERACIÓN (3)
A1: PARÁMETROS DE EVALUACIÓN - FACTORES Y CRITERIOS DE PONDERACIÓN | G1: Si | H1: 1 | I1: Sede Central
G2: No | H2: 2 | I2: GTR Cali
A3: OFERENTE EVALUADO: | B3: 3 | C3: =IF(B3>0,(VLOOKUP($B$3,OFERENTES!$A$7:$B$12,2,FALSE)),0) -> CONESTRUCTURAR
A5: EQUIPO DE TRABAJO (Personal Clave Evaluable) MÁXIMO 10 PUNTOS
A6: Proponente aporta debidamente diligenciado Formato 7A -Programa de gerencia de proyectos, en el cual bajo la gravedad de juramento conste el compromiso que en este sentido asume. | C6: 10 puntos | D6: Si | E6: =IF(D6="Si",IF(D7="Si",25,10),IF(D7="Si",15,0)) -> 25
A7: Proponente aporta debidamente diligenciado Formato 14 A– Criterio Ambiental, debidamente suscrito y bajo la gravedad de juramento conste el compromiso que en este sentido asumeuna (1) formación académica adicional. | C7: 15 puntos | D7: Si
A8: Observaciones:
A10: Formato. Incentivo en favor de personas con discapacidad.
A11: En caso de oferentes plurales el integrante que aporta el personal con discapacidad, aporta mas del 40% de la experiencia requerida (En caso de oferente individual indicar únicamente si)
A12: FACTOR DE SOSTENIBILIDAD - MÁXIMO 1 PUNTO
A13: Proponente aporta debidamente diligenciado Formato 14 B– Criterio social, en el cual bajo la gravedad de juramento conste el compromiso que en este sentido asume. | C13: 5 puntos | D13: Si | E13: =IF(D13="Si",5,0) -> 5
A15: =CONCATENATE("SUBTOTAL PUNTAJE OFERENTE ",$C$3," (PUNTAJE TÉCNICO MÁXIMO 30,00)") -> SUBTOTAL PUNTAJE OFERENTE CONESTRUCTURAR (PUNTAJE TÉCNICO MÁXIMO 30,00) | E15: =E6+E13 -> 30
A17: Al proponente y/o consorciados ¿se les ha impuesto una o más multas o cláusulas penales durante el último año? | D17: No | E17: =IF(D17="Si",-2,0) -> 0 | G17: https://www.rues.org.co/
A18: El oferente o uno de sus consorciados cuentan con alguna anotación vigente que repose en el registro nacional de obras civiles inconclusas (https://obrasinconclusas.contraloria.gov.co/) - (Ley 2020 de 2020) | D18: No | E18: =IF(D18="Si",-1,0) -> 0 | G18: https://obrasinconclusas.contraloria.gov.co/
A20: =CONCATENATE("TOTAL PUNTAJE OFERENTE ",$C$3) -> TOTAL PUNTAJE OFERENTE CONESTRUCTURAR | E20: =E15+E17+E18 -> 30
A22: Observaciones:

Sheet EXPERIENCIA (4)
A1: EVALUACIÓN CRITERIOS TECNICOS DE EXPERIENCIA | L1: 2022 | M1: Cumple | N1: CUMPLE | O1: Clasificación UNSPSC | P1: SI
M2: No Cumple | N2: NO CUMPLE | O2: 721214
A3: 1. DATOS DEL PROCESO
A4: No. PROCESO | B4: SGC-SAMC-002-2026 | D4: FECHA CIERRE | J4: 46141
A5: OBJETO: | B5: Contratar por el sistema de precios unitarios fijos, sin formula de reajuste el mantenimiento preventivo y correctivo de las cubiertas planas y livianas, y demás adecuaciones necesarias en la infraestructura del Servicio Geológico Colombiano, sede CAN, ubicada en la ciudad de Bogotá D.C.
A7: 2. IDENTIFICACIÓN DEL OFERENTE
A8: Oferente: | B8: 4 | C8: =IF(B8>0,(VLOOKUP($B$8,[2]OFERENTES!$A$7:$H$12,2,FALSE)),0) -> H.A.H. CONSTRUCCIONES S.A.S. | L8: 44713 | O8: 721529
A9: Oferente individual o Consorciado 1 | B9: =IF(B8>0,(VLOOKUP($B$8,[2]OFERENTES!$A$7:$J$12,3,FALSE)),0) -> H.A.H. CONSTRUCCIONES S.A.S. | J9: Participación | K9: =IF(B8>0,(VLOOKUP($B$8,[2]OFERENTES!$A$7:$J$12,4,FALSE)),0) -> 1
A10: Consorciado 2 | B10: =IF(B8>0,(VLOOKUP($B$8,[2]OFERENTES!$A$7:$J$12,5,FALSE)),0) -> 0 | J10: Participación | K10: =IF(D8>0,(VLOOKUP($B$8,[2]OFERENTES!$A$8:$J$8,6,FALSE)),0) -> 0
A11: Consorciado 3 | B11: =IF(C8>0,(VLOOKUP($B$8,[1]OFERENTES!$A$7:$H$20,7,FALSE)),0) -> 0 | J11: Participación | K11: =IF(B10>0,(VLOOKUP($B$8,[2]OFERENTES!$A$7:$J$12,4,FALSE)),0) -> 0
B12: Consorciados | O12: 721516
A13: 3. EXPERIENCIA REQUERIDA
A14: EXPERIENCIA GENERAL | B14: PROYECTOS QUE CORRESPONDAN Y/O CONTEMPLEN ACTIVIDADES DE: CONSTRUCCIÓN Y/O AMPLIACIÓN Y/O RECONSTRUCCIÓN Y/O ADECUACIÓN Y/O CONSERVACIÓN Y/O INTERVENCIÓN Y/O INSTALACIÓN Y/O MANTENIMIENTO Y/O MEJORAMIENTO Y/O MODIFICACIÓN U OPTIMIZACIÓN Y/O REHABILITACIÓN Y/O REMODELACIÓN Y/O REPOSICIÓN Y/O REPARACIÓN LOCATIVA Y/O RESTAURACIÓN Y/O RESTITUCIÓN Y/O TERMINACIÓN Y/O REFORZAMIENTO ESTRUCTURAL Y/O ACTUALIZACIÓN SÍSMICA Y/O REPOTENCIACIÓN ESTRUCTURAL DE EDIFICACIONES
A15: EXPERIENCIA ESPECIFICA OBLIGATORIA | B15: Por lo menos uno (1) de los contratos válidos aportados como experiencia general debe corresponder mínimo al 50% del presupuesto oficial del presente proceso de selección
A16: EXPERIENCIA ESPECIFICA ADICIONAL | B16: i) cubiertas tradicionales: por lo menos uno (1) de los contratos válidos aportados como experiencia general debe contemplar construcción y/o ampliación y/o reconstrucción y/o adecuación y/o conservación y/o intervención y/o instalación y/o mantenimiento y/o mejoramiento y/o modificación u optimización y/o rehabilitación y/o remodelación y/o reposición y/o reparación locativa y/o restauración y/o restitución y/o terminación y/o reforzamiento estructural y/o actualización sísmica y/o repotenciación estructural de cubiertas en edificaciones
A18: EXPERIENCIA MÍNIMA ESPECÍFICA REQUERIDA
A19: No. | B19: 4 | C19: PRESUPUESTO OFICIAL | J19: EXPERIENCIA ESPECÍFICA OBLIGATORIA A CERTIFIFCAR (50%PO)
A20: 1 | B20: X | C20: =IF(B20="X",(ROUND((365062574/1750905),2)),0) -> 208.5 | J20: =IF(B20="X",C20*50%,0) -> 104.25
A22: 1 | B22: X
A23: RESUMEN | C23: =SUM(C20:H20) -> 208.5
A24: ANTICIPO (SI APLICA) | B24: 0 | D24: CAPACIDAD RESIDUAL PROCESO | J24: =C23-B24 -> 208.5
A26: Descripción (Entidad Contratante y numero de contrato) | B26: Cumple Al menos dos códigos (72-10-15)(72-10-29)(72-10-33)(72-15-32)(30-16-16) | C26: Consorciado que aporta la experiencia | D26: Porcentaje de participación en el contrato | E26: Cumple para experiencia general? | F26: Año terminación | G26: Cumple experiencia específica obligatoria? | H26: Cumple experiencia específica adicional? | I26: SM* % Participación para Experiencia Específica Obligatoria | J26: Salarios Mínimos acreditados de acuerdo con RUP | K26: SM * % Participación
A27: Certificación 1 Contrato: 061-ARC-BN2-2016 Contratante: MINISTERIO DE DEFENSA NACIONAL – ARMADA NACIONAL – BASE NAVAL ARC “MÁLAGA” | B27: Cumple | C27: H.A.H. CONSTRUCCIONES S.A.S. | D27: 1 | E27: Cumple | F27: 2016 | G27: Cumple | H27: Cumple | I27: =+IF(G27="Cumple",+K27,0) -> 1798.05 | J27: 1798.05 | K27: =ROUND((J27*D27),2) -> 1798.05
A28: Certificación 2 Contrato:0053-ARC-CBN2-2018 Contratante: MINISTERIO DE DEFENSA NACIONAL – ARMADA NACIONAL – BASE NAVAL ARC “MÁLAGA” | B28: Cumple | C28: H.A.H. CONSTRUCCIONES S.A.S. | D28: 0.5 | E28: Cumple | F28: 2018 | G28: Cumple | H28: Cumple | I28: =+IF(G28="Cumple",+K28,0) -> 1084.85 | J28: 2169.69 | K28: =ROUND((J28*D28),2) -> 1084.85
A29: Certificación 3 Contrato: Contratante: | I29: =+IF(G29="Cumple",+K29,0) -> 0 | K29: =ROUND((J29*D29),2) -> 0
A30: Certificación 4 | I30: =+IF(G30="Cumple",+K30,0) -> 0 | K30: =ROUND((J30*D30),2) -> 0
A31: Certificación 5 | I31: =+IF(G31="Cumple",+K31,0) -> 0 | K31: =ROUND((J31*D31),2) -> 0
A32: Certificación 6 | I32: =+IF(G32="Cumple",+K32,0) -> 0 | K32: =ROUND((J32*D32),2) -> 0 | M32: =+COUNTIF(H27:H33,"Cumple") -> 2
A33: Certificación 7 | I33: =+IF(G33="Cumple",+K33,0) -> 0 | K33: =ROUND((J33*D33),2) -> 0
A34: Cumplimiento: | B34: =IF($B9>0,(IF((COUNTIF(B27:B33,"CUMPLE"))>=1,"CUMPLE","NO CUMPLE")),0) -> CUMPLE | D34: Cumplimiento | E34: =IF($B9>0,(IF((COUNTIF(E27:E33,"CUMPLE"))>=1,"CUMPLE","NO CUMPLE")),0) -> CUMPLE | H34: =IF($B9>0,(IF((COUNTIF(H27:H33,"CUMPLE"))>=1,"CUMPLE","NO CUMPLE")),0) -> CUMPLE | I34: =IF($B$19>0,(IF((MAX(I27:I33))>=$J$20,$M$1,$M$2)),0) -> Cumple | J34: Total | K34: =SUM(K27:K33) -> 2882.9
A36: Numero de contratos aportados
A37: De | B37: Hasta | C37: Valor mínimo a certificar respecto al Presupuesto oficial (Dependiendo calidad oferente) | K37: Verificación
A38: 1 | B38: 2 | C38: 0.75 | F38: X | J38: =IF(F38>0,ROUND(($C$23*C38),2),0) -> 156.38 | K38: =IF(K34>0,(IF(K34>=(LARGE(J38:J40,1)),M1,M2)),0) -> Cumple
A39: 3 | B39: 4 | C39: 1.2 | J39: =IF(F39>0,ROUND(($C$23*C39),2),0) -> 0
A40: 5 | B40: 7 | C40: 1.5 | J40: =IF(F40>0,ROUND(($C$23*C40),2),0) -> 0
A42: Por lo menos uno (1) de los Contratos válidos aportados como experiencia debe haber iniciado ejecución con posterioridad a la expedición de la NSR-10, el cual debió haberse ejecutado y terminado antes de la fecha de cierre del presente Proceso de Contratación. | K42: Si
A43: Los Contratos aportados como experiencia válida y que correspondan a edificaciones debieron iniciar su ejecución luego de la expedición del Reglamento Colombiano de Construcción Sismo Resistente (NSR-98), esto es, después del 9 de enero de 1998. | K43: Si
A44: Los contratos que aporta como experiencia fueron terminados antes de la fecha de cierre del presente proceso | J44: =+J4 -> 46141 | K44: Si
A45: Tratándose de Proponentes Plurales: ¿Uno de los integrantes aporta como mínimo el cincuenta por ciento (50%) de la experiencia solicitada? | J45: =ROUND(C23*50%,2) -> 104.25 | K45: N.A. | L45: =OR(K45="Si",K45="N.A.") -> TRUE
L46: =OR(K45="Si",K45="N.A.") -> TRUE
...

Sheet PONDERACIÓN (4)
A1: PARÁMETROS DE EVALUACIÓN - FACTORES Y CRITERIOS DE PONDERACIÓN | G1: Si | H1: 1 | I1: Sede Central
G2: No | H2: 2 | I2: GTR Cali
A3: OFERENTE EVALUADO: | B3: 4 | C3: =IF(B3>0,(VLOOKUP($B$3,[2]OFERENTES!$A$7:$B$12,2,FALSE)),0) -> H.A.H. CONSTRUCCIONES S.A.S.
A5: EQUIPO DE TRABAJO (Personal Clave Evaluable) MÁXIMO 10 PUNTOS
A6: Proponente aporta debidamente diligenciado Formato 7A -Programa de gerencia de proyectos, en el cual bajo la gravedad de juramento conste el compromiso que en este sentido asume. | C6: 10 puntos | D6: Si | E6: =IF(D6="Si",IF(D7="Si",25,10),IF(D7="Si",15,0)) -> 25
A7: Proponente aporta debidamente diligenciado Formato 14 A– Criterio Ambiental, debidamente suscrito y bajo la gravedad de juramento conste el compromiso que en este sentido asumeuna (1) formación académica adicional. | C7: 15 puntos | D7: Si
A8: Observaciones:
A10: Formato. Incentivo en favor de personas con discapacidad.
A11: En caso de oferentes plurales el integrante que aporta el personal con discapacidad, aporta mas del 40% de la experiencia requerida (En caso de oferente individual indicar únicamente si)
A12: FACTOR DE SOSTENIBILIDAD - MÁXIMO 1 PUNTO
A13: Proponente aporta debidamente diligenciado Formato 14 B– Criterio social, en el cual bajo la gravedad de juramento conste el compromiso que en este sentido asume. | C13: 5 puntoS | D13: Si | E13: =IF(D13="Si",5,0) -> 5
A15: =CONCATENATE("SUBTOTAL PUNTAJE OFERENTE ",$C$3," (PUNTAJE TÉCNICO MÁXIMO 30,00)") -> SUBTOTAL PUNTAJE OFERENTE H.A.H. CONSTRUCCIONES S.A.S. (PUNTAJE TÉCNICO MÁXIMO 30,00) | E15: =E6+E13 -> 30
A17: Al proponente y/o consorciados ¿se les ha impuesto una o más multas o cláusulas penales durante el último año? | D17: No | E17: =IF(D17="Si",-2,0) -> 0 | G17: https://www.rues.org.co/
A18: El oferente o uno de sus consorciados cuentan con alguna anotación vigente que repose en el registro nacional de obras civiles inconclusas (https://obrasinconclusas.contraloria.gov.co/) - (Ley 2020 de 2020) | D18: No | E18: =IF(D18="Si",-1,0) -> 0 | G18: https://obrasinconclusas.contraloria.gov.co/
A20: =CONCATENATE("TOTAL PUNTAJE OFERENTE ",$C$3) -> TOTAL PUNTAJE OFERENTE H.A.H. CONSTRUCCIONES S.A.S. | E20: =E15+E17+E18 -> 30
A22: Observaciones:

Sheet EXPERIENCIA (5)
A1: EVALUACIÓN CRITERIOS TECNICOS DE EXPERIENCIA | L1: 2022 | M1: Cumple | N1: CUMPLE | O1: Clasificación UNSPSC | P1: SI
M2: No Cumple | N2: NO CUMPLE | O2: 721214
A3: 1. DATOS DEL PROCESO
A4: No. PROCESO | B4: SGC-SAMC-002-2026 | D4: FECHA CIERRE | J4: 46141
A5: OBJETO: | B5: Contratar por el sistema de precios unitarios fijos, sin formula de reajuste el mantenimiento preventivo y correctivo de las cubiertas planas y livianas, y demás adecuaciones necesarias en la infraestructura del Servicio Geológico Colombiano, sede CAN, ubicada en la ciudad de Bogotá D.C.
A7: 2. IDENTIFICACIÓN DEL OFERENTE
A8: Oferente: | B8: 5 | C8: =IF(B8>0,(VLOOKUP($B$8,OFERENTES!$A$7:$H$12,2,FALSE)),0) -> MARA LTDA | L8: 44713 | O8: 721529
A9: Oferente individual o Consorciado 1 | B9: =IF(B8>0,(VLOOKUP($B$8,OFERENTES!$A$7:$J$12,3,FALSE)),0) -> MARA LTDA | J9: Participación | K9: =IF(B8>0,(VLOOKUP($B$8,OFERENTES!$A$7:$J$12,4,FALSE)),0) -> 1
A10: Consorciado 2 | B10: =IF(B8>0,(VLOOKUP($B$8,OFERENTES!$A$7:$J$12,5,FALSE)),0) -> 0 | J10: Participación | K10: =IF(D8>0,(VLOOKUP($B$8,OFERENTES!$A$8:$J$8,6,FALSE)),0) -> 0
A11: Consorciado 3 | B11: =IF(C8>0,(VLOOKUP($B$8,[1]OFERENTES!$A$7:$H$20,7,FALSE)),0) -> 0 | J11: Participación | K11: =IF(B10>0,(VLOOKUP($B$8,OFERENTES!$A$7:$J$12,4,FALSE)),0) -> 0
B12: Consorciados | O12: 721516
A13: 3. EXPERIENCIA REQUERIDA
A14: EXPERIENCIA GENERAL | B14: PROYECTOS QUE CORRESPONDAN Y/O CONTEMPLEN ACTIVIDADES DE: CONSTRUCCIÓN Y/O AMPLIACIÓN Y/O RECONSTRUCCIÓN Y/O ADECUACIÓN Y/O CONSERVACIÓN Y/O INTERVENCIÓN Y/O INSTALACIÓN Y/O MANTENIMIENTO Y/O MEJORAMIENTO Y/O MODIFICACIÓN U OPTIMIZACIÓN Y/O REHABILITACIÓN Y/O REMODELACIÓN Y/O REPOSICIÓN Y/O REPARACIÓN LOCATIVA Y/O RESTAURACIÓN Y/O RESTITUCIÓN Y/O TERMINACIÓN Y/O REFORZAMIENTO ESTRUCTURAL Y/O ACTUALIZACIÓN SÍSMICA Y/O REPOTENCIACIÓN ESTRUCTURAL DE EDIFICACIONES
A15: EXPERIENCIA ESPECIFICA OBLIGATORIA | B15: Por lo menos uno (1) de los contratos válidos aportados como experiencia general debe corresponder mínimo al 50% del presupuesto oficial del presente proceso de selección
A16: EXPERIENCIA ESPECIFICA ADICIONAL | B16: i) cubiertas tradicionales: por lo menos uno (1) de los contratos válidos aportados como experiencia general debe contemplar construcción y/o ampliación y/o reconstrucción y/o adecuación y/o conservación y/o intervención y/o instalación y/o mantenimiento y/o mejoramiento y/o modificación u optimización y/o rehabilitación y/o remodelación y/o reposición y/o reparación locativa y/o restauración y/o restitución y/o terminación y/o reforzamiento estructural y/o actualización sísmica y/o repotenciación estructural de cubiertas en edificaciones
A18: EXPERIENCIA MÍNIMA ESPECÍFICA REQUERIDA
A19: No. | B19: 1 | C19: PRESUPUESTO OFICIAL | J19: EXPERIENCIA ESPECÍFICA OBLIGATORIA A CERTIFIFCAR (70%PO)
A20: 1 | B20: X | C20: =IF(B20="X",(ROUND((365062574/1750905),2)),0) -> 208.5 | J20: =IF(B20="X",C20*50%,0) -> 104.25
A22: 1 | B22: X
A23: RESUMEN | C23: =SUM(C20:H20) -> 208.5
A24: ANTICIPO (SI APLICA) | B24: 0 | D24: CAPACIDAD RESIDUAL PROCESO | J24: =C23-B24 -> 208.5
A26: Descripción (Entidad Contratante y numero de contrato) | B26: Cumple Al menos dos códigos (72-10-15)(72-10-29)(72-10-33)(72-15-32)(30-16-16) | C26: Consorciado que aporta la experiencia | D26: Porcentaje de participación en el contrato | E26: Cumple para experiencia general? | F26: Año terminación | G26: Cumple experiencia específica obligatoria? | H26: Cumple experiencia específica adicional? | I26: SM* % Participación para Experiencia Específica Obligatoria | J26: Salarios Mínimos acreditados de acuerdo con RUP | K26: SM * % Participación
A27: Certificación 1 Contrato: OBRA DE OBRA PUBLICA 988 DE 11 MAY 2015 Contratante: Gobernación del Casanare | B27: Cumple | C27: MARA LTDA | D27: 0.425 | E27: Cumple | F27: 2017 | G27: Cumple | H27: Cumple | I27: =+IF(G27="Cumple",+K27,0) -> 3917.73 | J27: 9218.19 | K27: =ROUND((J27*D27),2) -> 3917.73
A28: Certificación 2 Contrato: Contratante: | I28: =+IF(G28="Cumple",+K28,0) -> 0 | K28: =ROUND((J28*D28),2) -> 0
A29: Certificación 3 Contrato: Contratante: | I29: =+IF(G29="Cumple",+K29,0) -> 0 | K29: =ROUND((J29*D29),2) -> 0
A30: Certificación 4 | I30: =+IF(G30="Cumple",+K30,0) -> 0 | K30: =ROUND((J30*D30),2) -> 0
A31: Certificación 5 | I31: =+IF(G31="Cumple",+K31,0) -> 0 | K31: =ROUND((J31*D31),2) -> 0
A32: Certificación 6 | I32: =+IF(G32="Cumple",+K32,0) -> 0 | K32: =ROUND((J32*D32),2) -> 0 | M32: =+COUNTIF(H27:H33,"Cumple") -> 1
A33: Certificación 7 | I33: =+IF(G33="Cumple",+K33,0) -> 0 | K33: =ROUND((J33*D33),2) -> 0
A34: Cumplimiento: | B34: =IF($B9>0,(IF((COUNTIF(B27:B33,"CUMPLE"))>=1,"CUMPLE","NO CUMPLE")),0) -> CUMPLE | D34: Cumplimiento | E34: =IF($B9>0,(IF((COUNTIF(E27:E33,"CUMPLE"))>=1,"CUMPLE","NO CUMPLE")),0) -> CUMPLE | H34: =IF($B9>0,(IF((COUNTIF(H27:H33,"CUMPLE"))>=1,"CUMPLE","NO CUMPLE")),0) -> CUMPLE | I34: =IF($B$19>0,(IF((MAX(I27:I33))>=$J$20,$M$1,$M$2)),0) -> Cumple | J34: Total | K34: =SUM(K27:K33) -> 3917.73
A36: Numero de contratos aportados
A37: De | B37: Hasta | C37: Valor mínimo a certificar respecto al Presupuesto oficial (Dependiendo calidad oferente) | K37: Verificación
A38: 1 | B38: 2 | C38: 0.75 | F38: X | J38: =IF(F38>0,ROUND(($C$23*C38),2),0) -> 156.38 | K38: =IF(K34>0,(IF(K34>=(LARGE(J38:J40,1)),M1,M2)),0) -> Cumple
A39: 3 | B39: 4 | C39: 1.2 | J39: =IF(F39>0,ROUND(($C$23*C39),2),0) -> 0
A40: 1 | B40: 5 | C40: 1.5 | J40: =IF(F40>0,ROUND(($C$23*C40),2),0) -> 0
A42: Por lo menos uno (1) de los Contratos válidos aportados como experiencia debe haber iniciado ejecución con posterioridad a la expedición de la NSR-10, el cual debió haberse ejecutado y terminado antes de la fecha de cierre del presente Proceso de Contratación. | K42: Si
A43: Los Contratos aportados como experiencia válida y que correspondan a edificaciones debieron iniciar su ejecución luego de la expedición del Reglamento Colombiano de Construcción Sismo Resistente (NSR-98), esto es, después del 9 de enero de 1998. | K43: Si
A44: Los contratos que aporta como experiencia fueron terminados antes de la fecha de cierre del presente proceso | J44: =+J4 -> 46141 | K44: Si
A45: Tratándose de Proponentes Plurales: ¿Uno de los integrantes aporta como mínimo el cincuenta por ciento (50%) de la experiencia solicitada? | J45: =ROUND(C23*50%,2) -> 104.25 | K45: N.A. | L45: =OR(K45="Si",K45="N.A.") -> TRUE
L46: =OR(K45="Si",K45="N.A.") -> TRUE
...

Sheet PONDERACIÓN (5)
A1: PARÁMETROS DE EVALUACIÓN - FACTORES Y CRITERIOS DE PONDERACIÓN | G1: Si | H1: 1 | I1: Sede Central
G2: No | H2: 2 | I2: GTR Cali
A3: OFERENTE EVALUADO: | B3: 5 | C3: =IF(B3>0,(VLOOKUP($B$3,OFERENTES!$A$7:$B$12,2,FALSE)),0) -> MARA LTDA
A5: EQUIPO DE TRABAJO (Personal Clave Evaluable) MÁXIMO 10 PUNTOS
A6: Proponente aporta debidamente diligenciado Formato 7A -Programa de gerencia de proyectos, en el cual bajo la gravedad de juramento conste el compromiso que en este sentido asume. | C6: 10 puntos | D6: Si | E6: =IF(D6="Si",IF(D7="Si",25,10),IF(D7="Si",15,0)) -> 25
A7: Proponente aporta debidamente diligenciado Formato 14 A– Criterio Ambiental, debidamente suscrito y bajo la gravedad de juramento conste el compromiso que en este sentido asumeuna (1) formación académica adicional. | C7: 15 puntos | D7: Si
A8: Observaciones:
A10: Formato. Incentivo en favor de personas con discapacidad.
A11: En caso de oferentes plurales el integrante que aporta el personal con discapacidad, aporta mas del 40% de la experiencia requerida (En caso de oferente individual indicar únicamente si)
A12: FACTOR DE SOSTENIBILIDAD - MÁXIMO 1 PUNTO
A13: Proponente aporta debidamente diligenciado Formato 14 B– Criterio social, en el cual bajo la gravedad de juramento conste el compromiso que en este sentido asume. | C13: 5 puntos | D13: Si | E13: =IF(D13="Si",5,0) -> 5
A15: =CONCATENATE("SUBTOTAL PUNTAJE OFERENTE ",$C$3," (PUNTAJE TÉCNICO MÁXIMO 30,00)") -> SUBTOTAL PUNTAJE OFERENTE MARA LTDA (PUNTAJE TÉCNICO MÁXIMO 30,00) | E15: =E6+E13 -> 30
A17: Al proponente y/o consorciados ¿se les ha impuesto una o más multas o cláusulas penales durante el último año? | D17: No | E17: =IF(D17="Si",-2,0) -> 0 | G17: https://www.rues.org.co/
A18: El oferente o uno de sus consorciados cuentan con alguna anotación vigente que repose en el registro nacional de obras civiles inconclusas (https://obrasinconclusas.contraloria.gov.co/) - (Ley 2020 de 2020) | D18: No | E18: =IF(D18="Si",-1,0) -> 0 | G18: https://obrasinconclusas.contraloria.gov.co/
A20: =CONCATENATE("TOTAL PUNTAJE OFERENTE ",$C$3) -> TOTAL PUNTAJE OFERENTE MARA LTDA | E20: =E15+E17+E18 -> 30
A22: Observaciones:

Sheet EXPERIENCIA (6)
A1: EVALUACIÓN CRITERIOS TECNICOS DE EXPERIENCIA | L1: 2022 | M1: Cumple | N1: CUMPLE | O1: Clasificación UNSPSC | P1: SI
M2: No Cumple | N2: NO CUMPLE | O2: 721214
A3: 1. DATOS DEL PROCESO
A4: No. PROCESO | B4: SGC-SAMC-002-2026 | D4: FECHA CIERRE | J4: 46141
A5: OBJETO: | B5: Contratar por el sistema de precios unitarios fijos, sin formula de reajuste el mantenimiento preventivo y correctivo de las cubiertas planas y livianas, y demás adecuaciones necesarias en la infraestructura del Servicio Geológico Colombiano, sede CAN, ubicada en la ciudad de Bogotá D.C.
A7: 2. IDENTIFICACIÓN DEL OFERENTE
A8: Oferente: | B8: 6 | C8: =IF(B8>0,(VLOOKUP($B$8,OFERENTES!$A$7:$H$12,2,FALSE)),0) -> CONSORCIO TYR INGENIERIA SGC | L8: 44713 | O8: 721529
A9: Oferente individual o Consorciado 1 | B9: =IF(B8>0,(VLOOKUP($B$8,OFERENTES!$A$7:$J$12,3,FALSE)),0) -> T&R PROYECTOS Y CONSTRUCCIONES SAS | J9: Participación | K9: =IF(B8>0,(VLOOKUP($B$8,OFERENTES!$A$7:$J$12,4,FALSE)),0) -> 0.9
A10: Consorciado 2 | B10: =IF(B8>0,(VLOOKUP($B$8,OFERENTES!$A$7:$J$12,5,FALSE)),0) -> ALCAX INGENIERIA SAS | J10: Participación | K10: 0.1
A11: Consorciado 3 | B11: =IF(C8>0,(VLOOKUP($B$8,[1]OFERENTES!$A$7:$H$20,7,FALSE)),0) -> 0 | J11: Participación | K11: =IF(B10>0,(VLOOKUP($B$8,OFERENTES!$A$7:$J$12,4,FALSE)),0) -> 0.9
B12: Consorciados | O12: 721516
A13: 3. EXPERIENCIA REQUERIDA
A14: EXPERIENCIA GENERAL | B14: PROYECTOS QUE CORRESPONDAN Y/O CONTEMPLEN ACTIVIDADES DE: CONSTRUCCIÓN Y/O AMPLIACIÓN Y/O RECONSTRUCCIÓN Y/O ADECUACIÓN Y/O CONSERVACIÓN Y/O INTERVENCIÓN Y/O INSTALACIÓN Y/O MANTENIMIENTO Y/O MEJORAMIENTO Y/O MODIFICACIÓN U OPTIMIZACIÓN Y/O REHABILITACIÓN Y/O REMODELACIÓN Y/O REPOSICIÓN Y/O REPARACIÓN LOCATIVA Y/O RESTAURACIÓN Y/O RESTITUCIÓN Y/O TERMINACIÓN Y/O REFORZAMIENTO ESTRUCTURAL Y/O ACTUALIZACIÓN SÍSMICA Y/O REPOTENCIACIÓN ESTRUCTURAL DE EDIFICACIONES
A15: EXPERIENCIA ESPECIFICA OBLIGATORIA | B15: Por lo menos uno (1) de los contratos válidos aportados como experiencia general debe corresponder mínimo al 50% del presupuesto oficial del presente proceso de selección
A16: EXPERIENCIA ESPECIFICA ADICIONAL | B16: i) cubiertas tradicionales: por lo menos uno (1) de los contratos válidos aportados como experiencia general debe contemplar construcción y/o ampliación y/o reconstrucción y/o adecuación y/o conservación y/o intervención y/o instalación y/o mantenimiento y/o mejoramiento y/o modificación u optimización y/o rehabilitación y/o remodelación y/o reposición y/o reparación locativa y/o restauración y/o restitución y/o terminación y/o reforzamiento estructural y/o actualización sísmica y/o repotenciación estructural de cubiertas en edificaciones
A18: EXPERIENCIA MÍNIMA ESPECÍFICA REQUERIDA
A19: No. | B19: 1 | C19: PRESUPUESTO OFICIAL | J19: EXPERIENCIA ESPECÍFICA OBLIGATORIA A CERTIFIFCAR (70%PO)
A20: 1 | B20: X | C20: =IF(B20="X",(ROUND((365062574/1750905),2)),0) -> 208.5 | J20: =IF(B20="X",C20*50%,0) -> 104.25
A22: 1 | B22: X
A23: RESUMEN | C23: =SUM(C20:H20) -> 208.5
A24: ANTICIPO (SI APLICA) | B24: 0 | D24: CAPACIDAD RESIDUAL PROCESO | J24: =C23-B24 -> 208.5
