Workbook
Name \0: #REF!
Name \00: #REF!
Name \a: #REF!
Name \AA: #REF!
Name \b: #REF!
Name \bb: #REF!
Name \E: #REF!
Name \EE: #REF!
Name \G: #REF!
Name \k: #REF!
Name \l: #REF!
Name \M: #REF!
Name \ñ: #REF!
Name \P: #REF!
Name \R: #REF!
Name \s: #REF!
Name \V: #REF!
Name \X: [0]!ERR
Name \Z: [0]!ERR
Name _________AFC1: #REF!
Name _________AFC3: #REF!
Name _________AFC5: #REF!
Name _________BGC1: #REF!
Name _________BGC3: #REF!
Name _________BGC5: #REF!
Name _________CAC1: #REF!
Name _________CAC3: #REF!
Name _________CAC5: #REF!
Name _________PJ50: #REF!
Name _________SBC1: #REF!
Name _________SBC3: #REF!
Name _________SBC5: #REF!
Name ________AFC1: #REF!
Name ________AFC3: #REF!
Name ________AFC5: #REF!
Name ________BGC1: #REF!
Name ________BGC3: #REF!
Name ________BGC5: #REF!
Name ________CAC1: #REF!
Name ________CAC3: #REF!
Name ________CAC5: #REF!
Name ________MA2: #REF!
Name ________PJ50: #REF!
Name ________SBC1: #REF!
Name ________SBC3: #REF!
Name ________SBC5: #REF!
Name _______AFC1: #REF!
Name _______AFC3: #REF!
Name _______AFC5: #REF!
Name _______BGC1: #REF!
Name _______BGC3: #REF!
Name _______BGC5: #REF!
Name _______CAC1: #REF!
Name _______CAC3: #REF!
Name _______CAC5: #REF!
Name _______MA2: #REF!
Name _______PJ50: #REF!
Name _______SBC1: #REF!
Name _______SBC3: #REF!
Name _______SBC5: #REF!

Sheet MEMORIAS DE CANTIDADES
B4: COMPLEJO DEPORTIVO NUEVO CHAMBACÚ (CANCHAS LIGAS MAYORES Y MENORES) | K4: CÓDIGO
K5: VERSIÓN | L5: 2024-1
K6: PÁGINA
B8: CAPITULO | C8: 1.1 | D8: PRELIMINARES
B10: ITEM: | C10: =+'PROPUESTA ECONOMICA(Proponente)'!C21 -> 1.1 | D10: =+VLOOKUP('MEMORIAS DE CANTIDADES'!C10,'PROPUESTA ECONOMICA(Proponente)'!$C$21:$H$310,5,FALSE) -> Localización y replanteo topográfico | I10: Unidad: | J10: =+VLOOKUP('MEMORIAS DE CANTIDADES'!C10,'PROPUESTA ECONOMICA(Proponente)'!$C$21:$H$310,6,FALSE) -> m2 | K10: Cantidad: | L10: =SUM(L11:L18) -> 21324.4
B12: Ubicación/lugar/elemento | C12: Área (m2) | D12: Ancho (m) | E12: Alto (m) | F12: Longitud (m) | G12: Peso (kg) | H12: Porcentaje maximo | I12: Elementos | J12: Unidad | K12: V. PARCIAL | L12: Total
B13: AREA CANCHAS Y URBANISMO | C13: 20116.6 | L13: =PRODUCT(C13:K13) -> 20116.6
B14: AREACANCHA MULTIPLE | C14: 1207.8 | L14: =PRODUCT(C14:K14) -> 1207.8
B18: ESQUEMA:
B20: C | C20: 1.1 | D20: PRELIMINARES
B22: ITEM: | C22: =+'PROPUESTA ECONOMICA(Proponente)'!C22 -> 1.2 | D22: =+VLOOKUP('MEMORIAS DE CANTIDADES'!C22,'PROPUESTA ECONOMICA(Proponente)'!$C$21:$H$310,5,FALSE) -> Cerramiento en Lamina de zinc h=2.0 m, incluye listones de madera 1" x 2" y concreto 3000 psi | I22: Unidad: | J22: =+VLOOKUP('MEMORIAS DE CANTIDADES'!C22,'PROPUESTA ECONOMICA(Proponente)'!$C$21:$H$310,6,FALSE) -> m | K22: Cantidad: | L22: =SUM(L23:L30) -> 564
B24: Ubicación/lugar/elemento | C24: Área (m2) | D24: Ancho (m) | E24: Alto (m) | F24: Longitud (m) | G24: Peso (kg) | H24: Porcentaje maximo | I24: Elementos | J24: Unidad | K24: V. PARCIAL | L24: Total
F25: 564 | L25: =PRODUCT(C25:K25) -> 564
B30: ESQUEMA:
B33: C | C33: 1.1 | D33: PRELIMINARES
B35: ITEM: | C35: =+'PROPUESTA ECONOMICA(Proponente)'!C23 -> 1.3 | D35: =+VLOOKUP('MEMORIAS DE CANTIDADES'!C35,'PROPUESTA ECONOMICA(Proponente)'!$C$21:$H$310,5,FALSE) -> DESCAPOTE CON EQUIPO -Corte de maleza, descapote y nivelación del área Interior al campo de juego (INCLUYE CARGUE Y RETIRO) | I35: Unidad: | J35: =+VLOOKUP('MEMORIAS DE CANTIDADES'!C35,'PROPUESTA ECONOMICA(Proponente)'!$C$21:$H$310,6,FALSE) -> m3 | K35: Cantidad: | L35: =SUM(L36:L43) -> 2132.44
B37: Ubicación/lugar/elemento | C37: Área (m2) | D37: Ancho (m) | E37: Alto (m) | F37: Longitud (m) | G37: Peso (kg) | H37: Porcentaje maximo | I37: Elementos | J37: Unidad | K37: V. PARCIAL | L37: Total
B38: AREA CANCHAS Y URBANISMO | C38: 20116.6 | E38: 0.1 | L38: =PRODUCT(C38:K38) -> 2011.66
B39: AREACANCHA MULTIPLE | C39: 1207.8 | E39: 0.1 | L39: =PRODUCT(C39:K39) -> 120.78
B43: ESQUEMA:
B45: C | C45: 1.1 | D45: PRELIMINARES
B47: ITEM: | C47: =+'PROPUESTA ECONOMICA(Proponente)'!C24 -> 1.4 | D47: =+VLOOKUP('MEMORIAS DE CANTIDADES'!C47,'PROPUESTA ECONOMICA(Proponente)'!$C$21:$H$310,5,FALSE) -> Demolición de anden (Incluye retiro al botadero autorizado) | I47: Unidad: | J47: =+VLOOKUP('MEMORIAS DE CANTIDADES'!C47,'PROPUESTA ECONOMICA(Proponente)'!$C$21:$H$310,6,FALSE) -> m2 | K47: Cantidad: | L47: =SUM(L48:L55) -> 1178
B49: Ubicación/lugar/elemento | C49: Área (m2) | D49: Ancho (m) | E49: Alto (m) | F49: Longitud (m) | G49: Peso (kg) | H49: Porcentaje maximo | I49: Elementos | J49: Unidad | K49: V. PARCIAL | L49: Total
C50: =179+566+433 -> 1178 | L50: =PRODUCT(C50:K50) -> 1178
B51: ADENEN PEDRO DE HEREDIA | C51: =352+230 -> 582
B55: ESQUEMA:
B57: C | C57: 1.1 | D57: PRELIMINARES
B59: ITEM: | C59: =+'PROPUESTA ECONOMICA(Proponente)'!C25 -> 1.5 | D59: =+VLOOKUP('MEMORIAS DE CANTIDADES'!C59,'PROPUESTA ECONOMICA(Proponente)'!$C$21:$H$310,5,FALSE) -> Demolición de plantillas y Senderos internos existentes (Incluye retiro al botadero autorizado) | I59: Unidad: | J59: =+VLOOKUP('MEMORIAS DE CANTIDADES'!C59,'PROPUESTA ECONOMICA(Proponente)'!$C$21:$H$310,6,FALSE) -> m2 | K59: Cantidad: | L59: =SUM(L60:L67) -> 919
B61: Ubicación/lugar/elemento | C61: Área (m2) | D61: Ancho (m) | E61: Alto (m) | F61: Longitud (m) | G61: Peso (kg) | H61: Porcentaje maximo | I61: Elementos | J61: Unidad | K61: V. PARCIAL | L61: Total
B62: KIOSCO | C62: 161 | L62: =PRODUCT(C62:K62) -> 161
B63: CANCHA MULTPLE | C63: 698 | L63: =PRODUCT(C63:K63) -> 698
B64: DOGOUT | D64: 3 | F64: 10 | I64: 2 | L64: =PRODUCT(C64:K64) -> 60
B67: ESQUEMA:
B69: C | C69: 1.1 | D69: PRELIMINARES
B71: ITEM: | C71: =+'PROPUESTA ECONOMICA(Proponente)'!C26 -> 1.6 | D71: =+VLOOKUP('MEMORIAS DE CANTIDADES'!C71,'PROPUESTA ECONOMICA(Proponente)'!$C$21:$H$310,5,FALSE) -> Corte de arboles ( 10 m<H<20 m. incluye desenraice, retiro y disposición final) | I71: Unidad: | J71: =+VLOOKUP('MEMORIAS DE CANTIDADES'!C71,'PROPUESTA ECONOMICA(Proponente)'!$C$21:$H$310,6,FALSE) -> Und | K71: Cantidad: | L71: =SUM(L72:L79) -> 40
B73: Ubicación/lugar/elemento | C73: Área (m2) | D73: Ancho (m) | E73: Alto (m) | F73: Longitud (m) | G73: Peso (kg) | H73: Porcentaje maximo | I73: Elementos | J73: Unidad | K73: V. PARCIAL | L73: Total
B74: ARBOLES | I74: 40 | L74: =PRODUCT(C74:K74) -> 40
B79: ESQUEMA:
B82: C | C82: 1.1 | D82: PRELIMINARES
B84: ITEM: | C84: =+'PROPUESTA ECONOMICA(Proponente)'!C27 -> 1.7 | D84: =+VLOOKUP('MEMORIAS DE CANTIDADES'!C84,'PROPUESTA ECONOMICA(Proponente)'!$C$21:$H$310,5,FALSE) -> Demolición de estructuras en concreto reforzado (Incluye retiro al botadero autorizado) | I84: Unidad: | J84: =+VLOOKUP('MEMORIAS DE CANTIDADES'!C84,'PROPUESTA ECONOMICA(Proponente)'!$C$21:$H$310,6,FALSE) -> m3 | K84: Cantidad: | L84: =SUM(L85:L96) -> 190.5
...

Sheet PROPUESTA ECONOMICA(Proponente)
C6: REPÚBLICA DE COLOMBIA ALCADIA MAYOR DE CARTAGENA DE INDIAS SECRETARÍA DE INFRAESTRUCTURA BALANCE DE MAYORES Y MENORES CANTIDADES E ITEMS NO PREVISTOS O ADICIONALES
C12: CONTRATANTE | G12: ALCALDIA MAYOR DE CARTAGENA DE INDIAS | O12: FECHA DE ELABORACIÓN | P12: TREINTA (30) DE ABRIL DE 2026
C13: CONTRATO DE OBRA No. LP-SEGD-001-2024 | H13: PLAZO CONTRACTUAL | K13: VEINTICUATRO (24) MESES
C14: OBJETO | G14: CONSTRUCCIÓN DEL COMPLEJO DEPORTIVO NUEVO CHAMBACÚ | H14: FECHA DE INICIACIÓN | K14: CUATRO(04) DE SEPTIEMBRE DE 2024 | O14: FECHA DE FINALIZACIÓN | P14: TREINTA (30) DE JUNIO DE 2026
C15: CONTRATISTA | G15: CONSORCIO COMPLEJO DEPORTIVO 2024
C16: INTERVENTORIA | G16: CONSORCIO INTERDEPORTIVO NCH | H16: VALOR INICIAL TOTAL DEL CONTRATO | K16: 4.5189616e+10 | O16: VALOR FINAL CONTRATO | P16: =+U760 -> 6.4329946e+10
C18: CANCHAS DE FUTBOL 11, SOFTBOL Y BALONCESTO CONDICIONES CONTRACTUALES | M18: BALANCE DE MAYORES Y MENORES | S18: CONDICION EN EL AJUSTE DEL PROYECTO
C19: Nº | D19: ÍTEM DE PAGO | E19: ESPECIFICACIONES | G19: DESCRIPCIÓN | H19: UND. | I19: CANTIDAD | J19: VR UNIT Inc. (AIU) | K19: VR PARCIAL Inc. (AIU) | M19: MAYORES(+) | N19: MENORES(-) | O19: $ MAYORES(+) | P19: $ MENORES(-) | Q19: VR PARCIAL Inc. (AIU) | S19: CANTIDAD | T19: VR UNIT Inc. (AIU) | U19: VR PARCIAL Inc. (AIU)
C20: 1,0 PRELIMINARES
C21: 1.1 | G21: Localización y replanteo topográfico | H21: m2 | I21: 14422 | J21: 1825 | K21: =I21*J21 -> 26320150 | M21: =+IF(I21<S21,S21-I21,0) -> 6902.4 | N21: =+IF(I21>S21,-S21+I21,0) -> 0 | O21: =+M21*J21 -> 12596880 | P21: =+N21*J21 -> 0 | Q21: =+O21-P21 -> 12596880 | S21: =+'MEMORIAS DE CANTIDADES'!L10 -> 21324.4 | T21: =+J21 -> 1825 | U21: =+S21*T21 -> 38917030
C22: 1.2 | G22: Cerramiento en Lamina de zinc h=2.0 m, incluye listones de madera 1" x 2" y concreto 3000 psi | H22: m | I22: 564 | J22: 49945 | K22: =I22*J22 -> 28168980 | M22: =+IF(I22<S22,S22-I22,0) -> 0 | N22: =+IF(I22>S22,-S22+I22,0) -> 564 | O22: =+M22*J22 -> 0 | P22: =+N22*J22 -> 28168980 | Q22: =+O22-P22 -> -28168980 | S22: 0 | T22: =+J22 -> 49945 | U22: =+S22*T22 -> 0
C23: 1.3 | G23: DESCAPOTE CON EQUIPO -Corte de maleza, descapote y nivelación del área Interior al campo de juego (INCLUYE CARGUE Y RETIRO) | H23: m3 | I23: 893.05 | J23: 65391 | K23: =I23*J23 -> 58397433 | M23: =+IF(I23<S23,S23-I23,0) -> 1239.39 | N23: =+IF(I23>S23,-S23+I23,0) -> 0 | O23: =+M23*J23 -> 81044951 | P23: =+N23*J23 -> 0 | Q23: =+O23-P23 -> 81044951 | S23: =+'MEMORIAS DE CANTIDADES'!L35 -> 2132.44 | T23: =+J23 -> 65391 | U23: =+S23*T23 -> 1.3944238e+08
C24: 1.4 | G24: Demolición de anden (Incluye retiro al botadero autorizado) | H24: m2 | I24: 1178 | J24: 17629 | K24: =I24*J24 -> 20766962 | M24: =+IF(I24<S24,S24-I24,0) -> 0 | N24: =+IF(I24>S24,-S24+I24,0) -> 0 | O24: =+M24*J24 -> 0 | P24: =+N24*J24 -> 0 | Q24: =+O24-P24 -> 0 | S24: =+'MEMORIAS DE CANTIDADES'!L47 -> 1178 | T24: =+J24 -> 17629 | U24: =+S24*T24 -> 20766962
C25: 1.5 | G25: Demolición de plantillas y Senderos internos existentes (Incluye retiro al botadero autorizado) | H25: m2 | I25: 919 | J25: 34053 | K25: =I25*J25 -> 31294707 | M25: =+IF(I25<S25,S25-I25,0) -> 0 | N25: =+IF(I25>S25,-S25+I25,0) -> 0 | O25: =+M25*J25 -> 0 | P25: =+N25*J25 -> 0 | Q25: =+O25-P25 -> 0 | S25: =+'MEMORIAS DE CANTIDADES'!L59 -> 919 | T25: =+J25 -> 34053 | U25: =+S25*T25 -> 31294707
C26: 1.6 | G26: Corte de arboles ( 10 m<H<20 m. incluye desenraice, retiro y disposición final) | H26: Und | I26: 40 | J26: 428044 | K26: =I26*J26 -> 17121760 | M26: =+IF(I26<S26,S26-I26,0) -> 0 | N26: =+IF(I26>S26,-S26+I26,0) -> 0 | O26: =+M26*J26 -> 0 | P26: =+N26*J26 -> 0 | Q26: =+O26-P26 -> 0 | S26: =+'MEMORIAS DE CANTIDADES'!L71 -> 40 | T26: =+J26 -> 428044 | U26: =+S26*T26 -> 17121760
C27: 1.7 | G27: Demolición de estructuras en concreto reforzado (Incluye retiro al botadero autorizado) | H27: m3 | I27: 134.7 | J27: 292796 | K27: =I27*J27 -> 39439621 | M27: =+IF(I27<S27,S27-I27,0) -> 55.8 | N27: =+IF(I27>S27,-S27+I27,0) -> 0 | O27: =+M27*J27 -> 16338017 | P27: =+N27*J27 -> 0 | Q27: =+O27-P27 -> 16338017 | S27: =+'MEMORIAS DE CANTIDADES'!L84 -> 190.5 | T27: =+J27 -> 292796 | U27: =+S27*T27 -> 55777638
C28: 1.8 | G28: Demolición de Muros en block No 4 y No 6, e=0,10 y 0,15 mts (Incluye retiro al botadero autorizado) | H28: m2 | I28: 566 | J28: 27092 | K28: =I28*J28 -> 15334072 | M28: =+IF(I28<S28,S28-I28,0) -> 26.4 | N28: =+IF(I28>S28,-S28+I28,0) -> 0 | O28: =+M28*J28 -> 715228.8 | P28: =+N28*J28 -> 0 | Q28: =+O28-P28 -> 715228.8 | S28: =+'MEMORIAS DE CANTIDADES'!L100 -> 592.4 | T28: =+J28 -> 27092 | U28: =+S28*T28 -> 16049301
C29: 1.9 | G29: DESMONTE DE CUBIERTAS EXISTENTES: Desmonte cubiertas existentes en laminas de zinc | H29: m2 | I29: 370 | J29: 9397 | K29: =I29*J29 -> 3476890 | M29: =+IF(I29<S29,S29-I29,0) -> 0 | N29: =+IF(I29>S29,-S29+I29,0) -> 0 | O29: =+M29*J29 -> 0 | P29: =+N29*J29 -> 0 | Q29: =+O29-P29 -> 0 | S29: =+'MEMORIAS DE CANTIDADES'!L119 -> 370 | T29: =+J29 -> 9397 | U29: =+S29*T29 -> 3476890
C30: 1.10 | G30: DESMONTE DE ESTRUCRURA DE CUBIERTA EXISTENTE | H30: M | I30: 100 | J30: 2461 | K30: =I30*J30 -> 246100 | M30: =+IF(I30<S30,S30-I30,0) -> 0 | N30: =+IF(I30>S30,-S30+I30,0) -> 0 | O30: =+M30*J30 -> 0 | P30: =+N30*J30 -> 0 | Q30: =+O30-P30 -> 0 | S30: =+'MEMORIAS DE CANTIDADES'!L131 -> 100 | T30: =+J30 -> 2461 | U30: =+S30*T30 -> 246100
C31: 1.11 | G31: Desmonte de malla existente incluye corte de verticales | H31: m2 | I31: 580 | J31: 15381 | K31: =I31*J31 -> 8920980 | M31: =+IF(I31<S31,S31-I31,0) -> 508 | N31: =+IF(I31>S31,-S31+I31,0) -> 0 | O31: =+M31*J31 -> 7813548 | P31: =+N31*J31 -> 0 | Q31: =+O31-P31 -> 7813548 | S31: =+'MEMORIAS DE CANTIDADES'!L143 -> 1088 | T31: =+J31 -> 15381 | U31: =+S31*T31 -> 16734528
C32: Subtotal | K32: =SUM(K21:K31) -> 2.4948765e+08 | O32: =SUM(O21:O31) -> 1.1850863e+08 | P32: =SUM(P21:P31) -> 28168980 | Q32: =SUM(Q21:Q31) -> 90339645 | U32: =SUM(U21:U31) -> 3.398273e+08
C33: 2,0 ACERO DE REFUERZO
C34: 2.1 | G34: Acero de Refuerzo 60000 PSI (incluye suministro, figurado y fijación) | H34: KG | I34: 148277.64 | J34: 10670 | K34: =I34*J34 -> 1.5821224e+09 | M34: =+IF(I34<S34,S34-I34,0) -> 1415.4065 | N34: =+IF(I34>S34,-S34+I34,0) -> 0 | O34: =+M34*J34 -> 15102387 | P34: =+N34*J34 -> 0 | Q34: =+O34-P34 -> 15102387 | S34: =+'MEMORIAS DE CANTIDADES'!L156 -> 149693.05 | T34: =+J34 -> 10670 | U34: =+S34*T34 -> 1.5972248e+09
C35: 2.2 | G35: ACERO ESTRUCTURAL: ASTM A 500 Gr. C ó A36 - GRADERIAS, BANCA DE SUPLENTES (incluye suministro, figurado y fijación) | H35: KG | I35: 93984.465 | J35: 17175 | K35: =I35*J35 -> 1.6141832e+09 | M35: =+IF(I35<S35,S35-I35,0) -> 0 | N35: =+IF(I35>S35,-S35+I35,0) -> 10358.654 | O35: =+M35*J35 -> 0 | P35: =+N35*J35 -> 1.7790988e+08 | Q35: =+O35-P35 -> -1.7790988e+08 | S35: =+'MEMORIAS DE CANTIDADES'!L415 -> 83625.811 | T35: =+J35 -> 17175 | U35: =+S35*T35 -> 1.4362733e+09
C36: 2.3 | G36: ESTRUCTURA EN PERFILERIA IPE: ASTM A 572 Gr. 50 Y Columnas en PTE-16"X12.7mm ASTM A 500 Gr (incluye suministro, figurado y fijación). | H36: KG | I36: 71559.339 | J36: 18662 | K36: =I36*J36 -> 1.3354404e+09 | M36: =+IF(I36<S36,S36-I36,0) -> 0 | N36: =+IF(I36>S36,-S36+I36,0) -> 71559.339 | O36: =+M36*J36 -> 0 | P36: =+N36*J36 -> 1.3354404e+09 | Q36: =+O36-P36 -> -1.3354404e+09 | S36: =+'MEMORIAS DE CANTIDADES'!L461 -> 0 | T36: =+J36 -> 18662 | U36: =+S36*T36 -> 0
C37: 2.4 | G37: ESTRUCTURA EN TUBERIA: ASTM A 500 Gr. C ó A36 para banca de suplentes (incluye suministro, figurado y fijación). | H37: KG | I37: 1000 | J37: 17175 | K37: =I37*J37 -> 17175000 | M37: =+IF(I37<S37,S37-I37,0) -> 0 | N37: =+IF(I37>S37,-S37+I37,0) -> 1000 | O37: =+M37*J37 -> 0 | P37: =+N37*J37 -> 17175000 | Q37: =+O37-P37 -> -17175000 | S37: 0 | T37: =+J37 -> 17175 | U37: =+S37*T37 -> 0
C38: 2.5 | G38: Acero de refuerzo Tanque de almacenamiento (incluye suministro, figurado y fijación) | H38: KG | I38: 5609.1 | J38: 10670 | K38: =I38*J38 -> 59849097 | M38: =+IF(I38<S38,S38-I38,0) -> 0 | N38: =+IF(I38>S38,-S38+I38,0) -> 0 | O38: =+M38*J38 -> 0 | P38: =+N38*J38 -> 0 | Q38: =+O38-P38 -> 0 | S38: =+'MEMORIAS DE CANTIDADES'!L489 -> 5609.1 | T38: =+J38 -> 10670 | U38: =+S38*T38 -> 59849097
C39: Subtotal | K39: =SUM(K34:K38) -> 4.6087701e+09 | M39: =+IF(I39<S39,S39-I39,0) -> 0 | O39: =SUM(O34:O38) -> 15102387 | P39: =SUM(P34:P38) -> 1.5305253e+09 | Q39: =SUM(Q34:Q38) -> -1.5154229e+09 | U39: =SUM(U34:U38) -> 3.0933472e+09
C40: 3,0 ESTRUCTURA EN CONCRETO DE GRADERIAS, DOGOUT, BAÑOS, CASETAS, ZONA DE COMIDA, ENTRADA, BODEGAS, CUARTO ELECTRICO, CUARTO DE CONTROL, BOMBAS, TANQUE, BOXCULVERT.
C41: 3.1 | G41: EXCAVACIONES :Excavación manual, cimentación (Incluye cargue, transporte y disposición final). | H41: m3 | I41: 2513.8578 | J41: 83705 | K41: =I41*J41 -> 2.1042247e+08 | M41: =+IF(I41<S41,S41-I41,0) -> 2934.0371 | N41: =+IF(I41>S41,-S41+I41,0) -> 0 | O41: =+M41*J41 -> 2.4559357e+08 | P41: =+N41*J41 -> 0 | Q41: =+O41-P41 -> 2.4559357e+08 | S41: =+'MEMORIAS DE CANTIDADES'!L504 -> 5447.8949 | T41: =+J41 -> 83705 | U41: =+S41*T41 -> 4.5601604e+08
C42: 3.2 | G42: Concreto ciclópeo 3000 psi, relación 60%C/40%P. (Incluye suministro y colocación). | H42: m3 | I42: 230.0865 | J42: 463039 | K42: =I42*J42 -> 1.0653902e+08 | M42: =+IF(I42<S42,S42-I42,0) -> 575.446 | N42: =+IF(I42>S42,-S42+I42,0) -> 0 | O42: =+M42*J42 -> 2.6645394e+08 | P42: =+N42*J42 -> 0 | Q42: =+O42-P42 -> 2.6645394e+08 | S42: =+'MEMORIAS DE CANTIDADES'!L587 -> 805.5325 | T42: =+J42 -> 463039 | U42: =+S42*T42 -> 3.7299296e+08
C43: 3.3 | G43: Solado de limpieza- concreto de 2000 psi, incluye suministro e instalación). | H43: m2 | I43: 663.2635 | J43: 41144 | K43: =I43*J43 -> 27289313 | M43: =+IF(I43<S43,S43-I43,0) -> 0 | N43: =+IF(I43>S43,-S43+I43,0) -> 200.968 | O43: =+M43*J43 -> 0 | P43: =+N43*J43 -> 8268627.4 | Q43: =+O43-P43 -> -8268627.4 | S43: =+'MEMORIAS DE CANTIDADES'!L625 -> 462.2955 | T43: =+J43 -> 41144 | U43: =+S43*T43 -> 19020686
C44: 3.4 | G44: RELLENO SELECCIONADO: Relleno compactado para área cimentaciones, con material seleccionado, zahorra al 95% del proctor estándar en cimentación. (suministro, humedecimiento y compactación). | H44: m3 | I44: 134.2991 | J44: 108681 | K44: =I44*J44 -> 14595760 | M44: =+IF(I44<S44,S44-I44,0) -> 1883.6726 | N44: =+IF(I44>S44,-S44+I44,0) -> 0 | O44: =+M44*J44 -> 2.0471942e+08 | P44: =+N44*J44 -> 0 | Q44: =+O44-P44 -> 2.0471942e+08 | S44: =+'MEMORIAS DE CANTIDADES'!L686 -> 2017.9717 | T44: =+J44 -> 108681 | U44: =+S44*T44 -> 2.1931518e+08
C45: 3.5 | G45: CONCRETO VIGAS CIMIENTOS, ZAPATAS Y AMARRES: Concreto premezclado de 4000 PSI para Viga Cimiento y zapatas (incluye suministro e instalación) | H45: m3 | I45: 680.6922 | J45: 1082757 | K45: =I45*J45 -> 7.3702424e+08 | M45: =+IF(I45<S45,S45-I45,0) -> 0 | N45: =+IF(I45>S45,-S45+I45,0) -> 680.6922 | O45: =+M45*J45 -> 0 | P45: =+N45*J45 -> 7.3702424e+08 | Q45: =+O45-P45 -> -7.3702424e+08 | S45: 0 | T45: =+J45 -> 1082757 | U45: =+S45*T45 -> 0
C46: 3.6 | G46: COLUMNAS DE CONCRETO A LA VISTA: Concreto de 4000 PSI (incluye suministro, formaletería e instalación). | H46: m3 | I46: 291.689 | J46: 1547998 | K46: =I46*J46 -> 4.5153399e+08 | M46: =+IF(I46<S46,S46-I46,0) -> 0 | N46: =+IF(I46>S46,-S46+I46,0) -> 114.9775 | O46: =+M46*J46 -> 0 | P46: =+N46*J46 -> 1.7798494e+08 | Q46: =+O46-P46 -> -1.7798494e+08 | S46: =+'MEMORIAS DE CANTIDADES'!L842 -> 176.7115 | T46: =+J46 -> 1547998 | U46: =+S46*T46 -> 2.7354905e+08
C47: 3.7 | G47: CONCRETOS DE VIGAS: Concreto de 4000 PSI (incluye suministro e instalación) | H47: m3 | I47: 613.77075 | J47: 1429563 | K47: =I47*J47 -> 8.7742395e+08 | M47: =+IF(I47<S47,S47-I47,0) -> 0 | N47: =+IF(I47>S47,-S47+I47,0) -> 225.34438 | O47: =+M47*J47 -> 0 | P47: =+N47*J47 -> 3.2214399e+08 | Q47: =+O47-P47 -> -3.2214399e+08 | S47: =+'MEMORIAS DE CANTIDADES'!L874 -> 388.42637 | T47: =+J47 -> 1429563 | U47: =+S47*T47 -> 5.5527997e+08
C48: 3.8 | G48: Losa Graderías e=0,10, Concreto f¨c = 4000 PS (incluye suministro e instalación) | H48: M2 | I48: 698.016 | J48: 364929 | K48: =I48*J48 -> 2.5472628e+08 | M48: =+IF(I48<S48,S48-I48,0) -> 63 | N48: =+IF(I48>S48,-S48+I48,0) -> 0 | O48: =+M48*J48 -> 22990527 | P48: =+N48*J48 -> 0 | Q48: =+O48-P48 -> 22990527 | S48: =+'MEMORIAS DE CANTIDADES'!L932 -> 761.016 | T48: =+J48 -> 364929 | U48: =+S48*T48 -> 2.7771681e+08
C49: 3.9 | G49: Losa e=0,060, Concreto f¨c = 4000 PS (incluye suministro e instalación) | H49: M2 | I49: 890.812 | J49: 184699 | K49: =I49*J49 -> 1.6453209e+08 | M49: =+IF(I49<S49,S49-I49,0) -> 0 | N49: =+IF(I49>S49,-S49+I49,0) -> 774.564 | O49: =+M49*J49 -> 0 | P49: =+N49*J49 -> 1.430612e+08 | Q49: =+O49-P49 -> -1.430612e+08 | S49: =+'MEMORIAS DE CANTIDADES'!L948 -> 116.248 | T49: =+J49 -> 184699 | U49: =+S49*T49 -> 21470889
C50: 3.10 | G50: Losa Graderías e=0,15, Concreto f¨c = 4000 PS (incluye suministro e instalación) | H50: M2 | I50: 1167.0736 | J50: 364929 | K50: =I50*J50 -> 4.25899e+08 | M50: =+IF(I50<S50,S50-I50,0) -> 0 | N50: =+IF(I50>S50,-S50+I50,0) -> 49.68 | O50: =+M50*J50 -> 0 | P50: =+N50*J50 -> 18129673 | Q50: =+O50-P50 -> -18129673 | S50: =+'MEMORIAS DE CANTIDADES'!L961 -> 1117.3936 | T50: =+J50 -> 364929 | U50: =+S50*T50 -> 4.0776933e+08
C51: 3.11 | G51: CONCRETO PARA TANQUE DE AGUA POTABLE 4000 PSI., (Incluye suministro, formaletería e instalación). | H51: m3 | I51: 52.598 | J51: 1547998 | K51: =I51*J51 -> 81421599 | M51: =+IF(I51<S51,S51-I51,0) -> 26 | N51: =+IF(I51>S51,-S51+I51,0) -> 0 | O51: =+M51*J51 -> 40247948 | P51: =+N51*J51 -> 0 | Q51: =+O51-P51 -> 40247948 | S51: =+'MEMORIAS DE CANTIDADES'!L979 -> 78.598 | T51: =+J51 -> 1547998 | U51: =+S51*T51 -> 1.2166955e+08
...
