Workbook
Name _________AFC1: [6]INV!$A$25:$D$28
Name _________AFC3: [6]INV!$F$25:$I$28
Name _________AFC5: [6]INV!$K$25:$N$28
Name _________BGC1: [6]INV!$A$5:$D$8
Name _________BGC3: [6]INV!$F$5:$I$8
Name _________BGC5: [6]INV!$K$5:$N$8
Name _________CAC1: [6]INV!$A$19:$D$22
Name _________CAC3: [6]INV!$F$19:$I$22
Name _________CAC5: [6]INV!$K$19:$N$22
Name _________PJ50: #REF!
Name _________PJ50: #REF!
Name _________PJ50: #REF!
Name _________PJ50: #REF!
Name _________PJ50: #REF!
Name _________PJ50: #REF!
Name _________PJ50: #REF!
Name _________SBC1: [6]INV!$A$12:$D$15
Name _________SBC3: [6]INV!$F$12:$I$15
Name _________SBC5: [6]INV!$K$12:$N$15
Name ________AFC1: [6]INV!$A$25:$D$28
Name ________AFC3: [6]INV!$F$25:$I$28
Name ________AFC5: [6]INV!$K$25:$N$28
Name ________BGC1: [6]INV!$A$5:$D$8
Name ________BGC3: [6]INV!$F$5:$I$8
Name ________BGC5: [6]INV!$K$5:$N$8
Name ________CAC1: [6]INV!$A$19:$D$22
Name ________CAC3: [6]INV!$F$19:$I$22
Name ________CAC5: [6]INV!$K$19:$N$22
Name ________MA2: #REF!
Name ________MA2: #REF!
Name ________MA2: #REF!
Name ________MA2: #REF!
Name ________MA2: #REF!
Name ________MA2: #REF!
Name ________MA2: #REF!
Name ________PJ50: #REF!
Name ________PJ50: #REF!
Name ________PJ50: #REF!
Name ________PJ50: #REF!
Name ________PJ50: #REF!
Name ________PJ50: #REF!
Name ________PJ50: #REF!
Name ________SBC1: [6]INV!$A$12:$D$15
Name ________SBC3: [6]INV!$F$12:$I$15
Name ________SBC5: [6]INV!$K$12:$N$15
Name _______AFC1: [6]INV!$A$25:$D$28
Name _______AFC3: [6]INV!$F$25:$I$28
Name _______AFC5: [6]INV!$K$25:$N$28
Name _______BGC1: [6]INV!$A$5:$D$8
Name _______BGC3: [6]INV!$F$5:$I$8
Name _______BGC5: [6]INV!$K$5:$N$8
Name _______CAC1: [6]INV!$A$19:$D$22
Name _______CAC3: [6]INV!$F$19:$I$22
Name _______CAC5: [6]INV!$K$19:$N$22
Name _______MA2: #REF!
Name _______MA2: #REF!
Name _______MA2: #REF!
Name _______MA2: #REF!
Name _______MA2: #REF!
Name _______MA2: #REF!

Sheet PRESUPUESTO OFICIAL (Entidad)
B1: Formulario 1 - Propuesta económica - Documento tipo de mínima cuantía de obra pública de infraestructura social
B2: Versión: 1 de 21 de agosto de 2025
C5: FORMULARIO 1
C6: PRESUPUESTO OFICIAL
C7: [La Entidad puede utilizar este formulario de detalle del presupuesto oficial para determinar las condiciones bajo las cuales los Proponentes analizarán y presentarán su propuesta económica de forma detallada, sin perjuicio que la Entidad pueda modificarlo o establecer la presentación de la oferta económica con un formulario distinto al indicado.] [El presente Formulario aplica para los Procesos de Contratación que tengan como forma de pago precios unitarios. Tratándose de otras modalidades de pago, la Entidad debe ajustarlo cuando corresponde a: precio global, llave en mano, administración delegada, reembolso de gastos o cualquier otra forma de pago.]
C9: Adicionalmente, cuando el proceso de contratación es estructurado por precios unitarios, la Entidad debe aplicar las notas 1, 2 y 3 del presente formulario y las casillas de "Descripción", "Porcentaje" de la Administración, Imprevisto, Utilidad y total A.I.U. resaltadas en color amarillo. Tratándose de otras modalidades de precio, la Entidad puede o no configurar los mismos aspectos.
C11: Nº | D11: ÍTEM DE PAGO | E11: ESPECIFICACIONES | G11: DESCRIPCIÓN | H11: UND. | I11: CANTIDAD | J11: VALOR UNITARIO | K11: VALOR TOTAL
E12: GENERAL | F12: PARTICULAR
C14: 1 | D14: 1 | G14: SONDEO DE TUBERIA SANITARIA EXISTENTE, INCLUYE RETIRO DE TAPAS DE REGISTRO Y SU REINSTALACION Y RESANE. | H14: ML | I14: 60 | J14: 15000 | K14: =+I14*J14 -> 900000
C15: Subtotal | K15: =SUM(K14) -> 900000
C17: 2 | D17: 2 | G17: PUNTO SANITARIO PVC 4" - 110 MM, INCLUYE EXCAVACION Y TAPE | H17: UND | I17: 4 | J17: 126350 | K17: =+I17*J17 -> 505400
C18: Subtotal | K18: =SUM(K17) -> 505400
C20: 3 | D20: 3 | G20: RED SANITARIA PVC 4" - 110 MM, INCLUYE INSTALACION | H20: ML | I20: 33 | J20: 63056 | K20: =+I20*J20 -> 2080848
C21: Subtotal | K21: =SUM(K20) -> 2080848
C23: 4 | D23: 4 | G23: CAJA DE INSPECCIÓN DE 60x60x60CM, EN CONCRETO DE f'c=3.000PSI IMPERMEABILIZADO, INCLUYE EXCAVACIÓN Y TAPE, TAPA Y HERRAJES, CAÑUELAS, MARCOS EN ANGULO DE 1 1/2"X3/16 E INCLUYE TODO LO NECESARIO PARA SU CORRECTO FUNCIONAMIENTO | H23: UND | I23: 6 | J23: 371281 | K23: =SUM(I23*J23) -> 2227686
C24: Subtotal | K24: =SUM(K23) -> 2227686
C26: 5 | D26: 5 | G26: ABUZARDADO (PICA) DE PLANTILLA DE PISO EN CONCRETO PARA MEJORAR ADHERENCIA DE PISOS. | H26: M2 | I26: 360 | J26: 5000 | K26: =+I26*J26 -> 1800000
C27: Subtotal | K27: =SUM(K26) -> 1800000
C29: 6 | D29: 6 | G29: PISO EN CERAMICA DUROPISO 030 X 030 DE PRIMERA CALIDAD, ALTO TRAFICO TIPO CORONA O SIMILAR. | H29: M2 | I29: 360 | J29: 83767 | K29: =+I29*J29 -> 30156120
C30: Subtotal | K30: =SUM(K29) -> 30156120
C33: Subtotal
C34: SUBTOTAL OBRAS | K34: =+K15+K18+K21+K24+K27+K30 -> 37670054
G38: SUBTOTAL OBRAS (INCLUYE IVA)
G40: VALOR TOTAL | K40: =+K34+K47 -> 48971070
C43: NOTA 1: Se debe tener en cuenta que el PRECIO UNITARIO incluye el valor de AIU. | H43: DESCRIPCION | K43: PORCENTAJE
C44: NOTA 2: Cuando la fracción decimal del peso sea igual o superior a 5 se aproximará por exceso al número entero siguiente del peso y cuando la fracción decimal del peso sea inferior a 5 se aproximará por defecto al número entero del peso. | H44: ADMINISTRACIÓN | J44: A=24% | K44: =+K34*0.24 -> 9040813
C45: NOTA 3: El AIU y su discriminación deben estar en porcentaje (%). | H45: IMPREVISTO | J45: I=1% | K45: =+K34*0.01 -> 376700.54
H46: UTILIDAD | J46: U=5% | K46: =+K34*0.05 -> 1883502.7
H47: TOTAL A.I.U | J47: A.I.U.= | K47: =SUM(K44:K46) -> 11301016

Sheet PROPUESTA ECONOMICA(Proponente)
B1: Formulario 1 - Propuesta económica - Documento tipo de mínima cuantía de obra pública de infraestructura social
B2: Versión: 1 de 21 de agosto de 2025
C5: FORMULARIO 1
C6: PROPUESTA ECONÓMICA
C7: [ El Proponente puede usar el presente formulario de presentación para determinar su propuesta económica conforme al Formulario 1 - Presupuesto Oficial por la Entidad]
C9: Cuando el proceso de contratación es estructurado por Precios Unitarios, la Entidad debe aplicar las notas 1, 2 y 3 del presente formato y las casillas de "Descripción", "Porcentaje" de la Administración, Imprevisto, Utilidad y total A.I.U. resaltadas en color amarillo.
C11: Nº | D11: ÍTEM DE PAGO | E11: ESPECIFICACIONES | G11: DESCRIPCIÓN | H11: UND. | I11: CANTIDAD | J11: VALOR UNITARIO | K11: VALOR TOTAL
E12: GENERAL | F12: PARTICULAR
C15: Subtotal
C21: Subtotal
C31: Subtotal
C36: Subtotal
C39: Subtotal
C40: SUBTOTAL OBRAS
G45: SUBTOTAL OBRAS (INCLUYE IVA)
G49: VALOR TOTAL
C52: NOTA 1: Se debe tener en cuenta que el PRECIO UNITARIO incluye el valor de AIU. | H52: DESCRIPCIÓN | K52: PORCENTAJE
C53: NOTA 2: Cuando la fracción decimal del peso sea igual o superior a 5 se aproximara por exceso al número entero siguiente del peso y cuando la fracción decimal del peso sea inferior a 5 se aproximará por defecto al número entero del peso. | H53: ADMINISTRACIÓN | J53: A= | K53: [Ofrecimiento del Proponente]
C54: NOTA 3: El AIU y su discriminación deben estar en porcentaje (%). | H54: IMPREVISTO | J54: I= | K54: [Ofrecimiento del Proponente]
H55: UTILIDAD | J55: U= | K55: [Ofrecimiento del Proponente]
H56: TOTAL A.I.U | J56: A.I.U.= | K56: [Ofrecimiento del Proponente]
G59: Firma del Proponente o de su Representante Legal

Sheet ITEM 1
B1: Formulario 1 - Propuesta económica - Documento tipo de mínima cuantía de obra pública de infraestructura social
B2: Versión: 1 de 21 de agosto de 2025
C5: [La entidad podrá utilizar este formato para la presentación de los análisis de Precios Unitarios del Contratista en la oportunidad prevista en el numeral 8.2. de la invitación]
D8: ALCALDIA MUNICIPAL DE BOSCONIA
L9: VERSIÓN
D10: [NÚMERO DEL PROCESO]
L11: PÁGINA | M11: 1 | N11: DE | O11: 1
D13: ANALISIS DE PRECIOS UNITARIOS
L15: FECHA | M15: DD | N15: MM | O15: AA
C17: =+'PRESUPUESTO OFICIAL (Entidad)'!G14 -> SONDEO DE TUBERIA SANITARIA EXISTENTE, INCLUYE RETIRO DE TAPAS DE REGISTRO Y SU REINSTALACION Y RESANE. | I17: ÍTEMS NO PREVISTOS
C21: DATOS ESPECÍFICOS
C23: ÍTEM | D23: DESCRIPCIÓN | M23: UNIDAD | O23: CANTIDAD
C25: I. EQUIPO
C28: DESCRIPCIÓN | H28: MARCA | J28: TIPO | L28: TARIFA/HORA | M28: RENDIMIENTO | O28: Vr. UNITARIO
C29: HERRAMIENTAS MENORES | L29: 13595.82 | M29: 0.015 | O29: =+L29*M29 -> 203.9373
C32: SUBTOTAL $ | O32: =+O29 -> 203.9373
C33: II. MATERIALES
C36: DESCRIPCIÓN | K36: UNIDAD | L36: CANTIDAD | M36: PRECIO UNIT. | O36: Vr. UNITARIO
C37: MORTERO 1:4 IMPERMEABILIZADO | K37: M3 | L37: 0.002 | M37: 600257 | O37: =+L37*M37 -> 1200.514
C39: SUBTOTAL $ | O39: =+O37 -> 1200.514
C40: III. TRANSPORTES
C43: MATERIAL | J43: VOL. o PESO | K43: DISTANCIA | L43: M3 o Ton/Km | M43: TARIFA | O43: Vr. UNITARIO
C46: SUBTOTAL $
C47: IV. MANO DE OBRA
C50: TRABAJADOR | J50: JORNAL | K50: PRESTACIONES | L50: JORNAL TOTAL | M50: RENDIMIENTO | O50: Vr. UNITARIO
J51: 50365.84 | M51: 0.26994132 | O51: =+J51*M51 -> 13595.821
C55: SUBTOTAL $ | O55: =+O51 -> 13595.821
C57: TOTAL COSTO DIRECTO $
C58: V. COSTOS INDIRECTOS
C61: Descripción | L61: Porcentaje | M61: Valor Total
C62: ADMINISTRACION
C63: IMPREVISTOS
C64: UTILIDAD
C65: SUBTOTAL $
C67: Precio Unitario Total Aproximado al peso $ | O67: =+O32+O39+O55 -> 15000.273
H71: Firma
H72: Nombre:
H73: Representante Legal del Contratista o su Apoderado
H74: Matricula No. :
C76: OBSERVACIONES INTERVENTORÍA O SUPERVISIÓN
...

Sheet ITEM 2
B1: Formulario 1 - Propuesta económica - Documento tipo de mínima cuantía de obra pública de infraestructura social
B2: Versión: 1 de 21 de agosto de 2025
C5: [La entidad podrá utilizar este formato para la presentación de los análisis de Precios Unitarios del Contratista en la oportunidad prevista en el numeral 8.2. de la invitación]
D8: ALCALDIA MUNICIPAL DE BOSCONIA
L9: VERSIÓN
D10: [NÚMERO DEL PROCESO]
L11: PÁGINA | M11: 1 | N11: DE | O11: 1
D13: ANALISIS DE PRECIOS UNITARIOS
L15: FECHA | M15: DD | N15: MM | O15: AA
C17: =+'PRESUPUESTO OFICIAL (Entidad)'!G17 -> PUNTO SANITARIO PVC 4" - 110 MM, INCLUYE EXCAVACION Y TAPE | I17: ÍTEMS NO PREVISTOS
C21: DATOS ESPECÍFICOS
C23: ÍTEM | D23: DESCRIPCIÓN | M23: UNIDAD | O23: CANTIDAD
C25: I. EQUIPO
C28: DESCRIPCIÓN | H28: MARCA | J28: TIPO | L28: TARIFA/HORA | M28: RENDIMIENTO | O28: Vr. UNITARIO
C29: HERRAMIENTAS MENORES | L29: 52632.3 | M29: 0.03 | O29: =+L29*M29 -> 1578.969
C32: SUBTOTAL $ | O32: =+O29 -> 1578.969
C33: II. MATERIALES
C36: DESCRIPCIÓN | K36: UNIDAD | L36: CANTIDAD | M36: PRECIO UNIT. | O36: Vr. UNITARIO
C37: YEE SANITARIA PVC REDUCIDA 4X2 | K37: UND | L37: 0.5 | M37: 21324 | O37: =+L37*M37 -> 10662
C38: TUBO PVC SANITARIO 4 PULG. | K38: ML | L38: 1.6 | M38: 23716 | O38: =+L38*M38 -> 37945.6
C39: CODO 90º 1/4 CXC SANITARIO | K39: UND | L39: 1 | M39: 12202 | O39: =+L39*M39 -> 12202
C40: SOLDADURA PVC 1/4 | K40: UND | L40: 0.08 | M40: 47276 | O40: =+L40*M40 -> 3782.08
C41: LIMPIADOR REMOVEDOR 1/4 | K41: UND | L41: 0.08 | M41: 50901 | O41: =+L41*M41 -> 4072.08
C42: DESPERDICIO | K42: % | L42: 0.03 | M42: 45799.76 | O42: =+L42*M42 -> 1373.9928
C44: SUBTOTAL $ | O44: =SUM(O37:O43) -> 70037.753
C45: III. TRANSPORTES
C48: MATERIAL | J48: VOL. o PESO | K48: DISTANCIA | L48: M3 o Ton/Km | M48: TARIFA | O48: Vr. UNITARIO
L49: 0.03 | M49: 70037.75 | O49: =+L49*M49 -> 2101.1325
C51: SUBTOTAL $ | O51: =+O49 -> 2101.1325
C52: IV. MANO DE OBRA
C55: TRABAJADOR | J55: JORNAL | K55: PRESTACIONES | L55: JORNAL TOTAL | M55: RENDIMIENTO | O55: Vr. UNITARIO
J56: 55402.42 | M56: 0.95 | O56: =+J56*M56 -> 52632.299
C60: SUBTOTAL $ | O60: =+O56 -> 52632.299
C62: TOTAL COSTO DIRECTO $
C63: V. COSTOS INDIRECTOS
C66: Descripción | L66: Porcentaje | M66: Valor Total
C67: ADMINISTRACION
C68: IMPREVISTOS
C69: UTILIDAD
C70: SUBTOTAL $
...

Sheet ITEM 3
B1: Formulario 1 - Propuesta económica - Documento tipo de mínima cuantía de obra pública de infraestructura social
B2: Versión: 1 de 21 de agosto de 2025
C5: [La entidad podrá utilizar este formato para la presentación de los análisis de Precios Unitarios del Contratista en la oportunidad prevista en el numeral 8.2. de la invitación]
D8: ALCALDIA MUNICIPAL DE BOSCONIA
L9: VERSIÓN
D10: [NÚMERO DEL PROCESO]
L11: PÁGINA | M11: 1 | N11: DE | O11: 1
D13: ANALISIS DE PRECIOS UNITARIOS
L15: FECHA | M15: DD | N15: MM | O15: AA
C17: =+'PRESUPUESTO OFICIAL (Entidad)'!G20 -> RED SANITARIA PVC 4" - 110 MM, INCLUYE INSTALACION | I17: ÍTEMS NO PREVISTOS
C21: DATOS ESPECÍFICOS
C23: ÍTEM | D23: DESCRIPCIÓN | M23: UNIDAD | O23: CANTIDAD
C25: I. EQUIPO
C28: DESCRIPCIÓN | H28: MARCA | J28: TIPO | L28: TARIFA/HORA | M28: RENDIMIENTO | O28: Vr. UNITARIO
C29: HERRAMIENTAS MENORES | L29: 33241.45 | M29: 0.03 | O29: =+L29*M29 -> 997.2435
C32: SUBTOTAL $ | O32: =+O29 -> 997.2435
C33: II. MATERIALES
C36: DESCRIPCIÓN | K36: UNIDAD | L36: CANTIDAD | M36: PRECIO UNIT. | O36: Vr. UNITARIO
C37: TUBO PVC SANITARIO 4 PULG. | K37: ML | L37: 1 | M37: 23716 | O37: =+L37*M37 -> 23716
C38: CODO 90º 1/4 CXC SANITARIO | K38: UND | L38: 0.01 | M38: 15375 | O38: =+L38*M38 -> 153.75
C39: SOLDADURA PVC 1/4 | K39: UND | L39: 0.02 | M39: 47276 | O39: =+L39*M39 -> 945.52
C40: LIMPIADOR REMOVEDOR 1/4 | K40: UND | L40: 0.02 | M40: 50901 | O40: =+L40*M40 -> 1018.02
C41: UNION PCV SANITARIA 4" | K41: UND | L41: 0.167 | M41: 7962 | O41: =+L41*M41 -> 1329.654
C42: DESPERDICIO | K42: % | L42: 0.03 | M42: 27162.94 | O42: =+L42*M42 -> 814.8882
C44: SUBTOTAL $ | O44: =SUM(O37:O43) -> 27977.832
C45: III. TRANSPORTES
C48: MATERIAL | J48: VOL. o PESO | K48: DISTANCIA | L48: M3 o Ton/Km | M48: TARIFA | O48: Vr. UNITARIO
L49: 0.03 | M49: 27977.83 | O49: =+L49*M49 -> 839.3349
C51: SUBTOTAL $ | O51: =+O49 -> 839.3349
C52: IV. MANO DE OBRA
C55: TRABAJADOR | J55: JORNAL | K55: PRESTACIONES | L55: JORNAL TOTAL | M55: RENDIMIENTO | O55: Vr. UNITARIO
J56: 55402.42 | M56: 0.6 | O56: =+J56*M56 -> 33241.452
C60: SUBTOTAL $ | O60: =+O56 -> 33241.452
C62: TOTAL COSTO DIRECTO $
C63: V. COSTOS INDIRECTOS
C66: Descripción | L66: Porcentaje | M66: Valor Total
C67: ADMINISTRACION
C68: IMPREVISTOS
C69: UTILIDAD
C70: SUBTOTAL $
...

Sheet ITEM 4
B1: Formulario 1 - Propuesta económica - Documento tipo de mínima cuantía de obra pública de infraestructura social
B2: Versión: 1 de 21 de agosto de 2025
C5: [La entidad podrá utilizar este formato para la presentación de los análisis de Precios Unitarios del Contratista en la oportunidad prevista en el numeral 8.2. de la invitación]
D8: ALCALDIA MUNICIPAL DE BOSCONIA
L9: VERSIÓN
D10: [NÚMERO DEL PROCESO]
L11: PÁGINA | M11: 1 | N11: DE | O11: 1
D13: ANALISIS DE PRECIOS UNITARIOS
L15: FECHA | M15: DD | N15: MM | O15: AA
C17: =+'PRESUPUESTO OFICIAL (Entidad)'!G23 -> CAJA DE INSPECCIÓN DE 60x60x60CM, EN CONCRETO DE f'c=3.000PSI IMPERMEABILIZADO, INCLUYE EXCAVACIÓN Y TAPE, TAPA Y HERRAJES, CAÑUELAS, MARCOS EN ANGULO DE 1 1/2"X3/16 E INCLUYE TODO LO NECESARIO PARA SU CORRECTO FUNCIONAMIENTO | I17: ÍTEMS NO PREVISTOS
C21: DATOS ESPECÍFICOS
C23: ÍTEM | D23: DESCRIPCIÓN | M23: UNIDAD | O23: CANTIDAD
C25: I. EQUIPO
C28: DESCRIPCIÓN | H28: MARCA | J28: TIPO | L28: TARIFA/HORA | M28: RENDIMIENTO | O28: Vr. UNITARIO
C29: HERRAMIENTAS MENORES | L29: 141024.35 | M29: 0.03 | O29: =+L29*M29 -> 4230.7305
C30: FORMALETA | L30: 20416 | M30: 0.53 | O30: =+L30*M30 -> 10820.48
C32: SUBTOTAL $ | O32: =+O29+O30 -> 15051.211
C33: II. MATERIALES
C36: DESCRIPCIÓN | K36: UNIDAD | L36: CANTIDAD | M36: PRECIO UNIT. | O36: Vr. UNITARIO
C37: CONCRETO 1:2:3 ELABORADO EN OBRA-3.000 PSI CLASE D-IMPERMEABILIZADO | K37: M3 | L37: 0.17 | M37: 510908 | O37: =+L37*M37 -> 86854.36
C38: MORTERO 1;4 IMPERMEABILIZADO | K38: M3 | L38: 0.02 | M38: 600257 | O38: =+L38*M38 -> 12005.14
C39: ACERO DE REFUERZO PDR-60 | K39: KG | L39: 6.72 | M39: 6058 | O39: =+L39*M39 -> 40709.76
C40: LIMPIADOR REMOV. 1/4 | K40: KG | L40: =+L39*0.03 -> 0.2016 | M40: 7066 | O40: =+L40*M40 -> 1424.5056
C41: TAPA Y MARCO PARA REGISTRO | K41: UND | L41: 1 | M41: 62640 | O41: =+L41*M41 -> 62640
C42: DESPERDICIO | K42: % | L42: 0.05 | M42: 140993.77 | O42: =+L42*M42 -> 7049.6885
C44: SUBTOTAL $ | O44: =SUM(O37:O43) -> 210683.45
C45: III. TRANSPORTES
C48: MATERIAL | J48: VOL. o PESO | K48: DISTANCIA | L48: M3 o Ton/Km | M48: TARIFA | O48: Vr. UNITARIO
L49: 0.19 | M49: 23798 | O49: =+L49*M49 -> 4521.62
C51: SUBTOTAL $ | O51: =+O49 -> 4521.62
C52: IV. MANO DE OBRA
C55: TRABAJADOR | J55: JORNAL | K55: PRESTACIONES | L55: JORNAL TOTAL | M55: RENDIMIENTO | O55: Vr. UNITARIO
J56: 50365.84 | M56: 2.8 | O56: =+J56*M56 -> 141024.35
C60: SUBTOTAL $ | O60: =+O56 -> 141024.35
C62: TOTAL COSTO DIRECTO $
C63: V. COSTOS INDIRECTOS
C66: Descripción | L66: Porcentaje | M66: Valor Total
C67: ADMINISTRACION
C68: IMPREVISTOS
C69: UTILIDAD
...

Sheet ITEM 5
B1: Formulario 1 - Propuesta económica - Documento tipo de mínima cuantía de obra pública de infraestructura social
B2: Versión: 1 de 21 de agosto de 2025
C5: [La entidad podrá utilizar este formato para la presentación de los análisis de Precios Unitarios del Contratista en la oportunidad prevista en el numeral 8.2. de la invitación]
D8: ALCALDIA MUNICIPAL DE BOSCONIA
L9: VERSIÓN
D10: [NÚMERO DEL PROCESO]
L11: PÁGINA | M11: 1 | N11: DE | O11: 1
D13: ANALISIS DE PRECIOS UNITARIOS
L15: FECHA | M15: DD | N15: MM | O15: AA
C17: =+'PRESUPUESTO OFICIAL (Entidad)'!G26 -> ABUZARDADO (PICA) DE PLANTILLA DE PISO EN CONCRETO PARA MEJORAR ADHERENCIA DE PISOS. | I17: ÍTEMS NO PREVISTOS
C21: DATOS ESPECÍFICOS
C23: ÍTEM | D23: DESCRIPCIÓN | M23: UNIDAD | O23: CANTIDAD
C25: I. EQUIPO
C28: DESCRIPCIÓN | H28: MARCA | J28: TIPO | L28: TARIFA/HORA | M28: RENDIMIENTO | O28: Vr. UNITARIO
C29: HERRAMIENTAS MENORES | L29: 4950.67 | M29: 0.01 | O29: =+L29*M29 -> 49.5067
C32: SUBTOTAL $ | O32: =+O29 -> 49.5067
C33: II. MATERIALES
C36: DESCRIPCIÓN | K36: UNIDAD | L36: CANTIDAD | M36: PRECIO UNIT. | O36: Vr. UNITARIO
C39: SUBTOTAL $ | O39: =+O37 -> 0
C40: III. TRANSPORTES
C43: MATERIAL | J43: VOL. o PESO | K43: DISTANCIA | L43: M3 o Ton/Km | M43: TARIFA | O43: Vr. UNITARIO
C46: SUBTOTAL $
C47: IV. MANO DE OBRA
C50: TRABAJADOR | J50: JORNAL | K50: PRESTACIONES | L50: JORNAL TOTAL | M50: RENDIMIENTO | O50: Vr. UNITARIO
J51: 50365.84 | M51: 0.098294118 | O51: =+J51*M51 -> 4950.6658
C55: SUBTOTAL $ | O55: =+O51 -> 4950.6658
C57: TOTAL COSTO DIRECTO $
C58: V. COSTOS INDIRECTOS
C61: Descripción | L61: Porcentaje | M61: Valor Total
C62: ADMINISTRACION
C63: IMPREVISTOS
C64: UTILIDAD
C65: SUBTOTAL $
C67: Precio Unitario Total Aproximado al peso $ | O67: =+O32+O39+O55 -> 5000.1725
H71: Firma
H72: Nombre:
H73: Representante Legal del Contratista o su Apoderado
H74: Matricula No. :
C76: OBSERVACIONES INTERVENTORÍA O SUPERVISIÓN
C80: APROBACIÓN POR INTERVENTORÍA O SUPERVISIÓN
...

Sheet ITEM 6
B1: Formulario 1 - Propuesta económica - Documento tipo de mínima cuantía de obra pública de infraestructura social
B2: Versión: 1 de 21 de agosto de 2025
C5: [La entidad podrá utilizar este formato para la presentación de los análisis de Precios Unitarios del Contratista en la oportunidad prevista en el numeral 8.2. de la invitación]
D8: ALCALDIA MUNICIPAL DE BOSCONIA
L9: VERSIÓN
D10: [NÚMERO DEL PROCESO]
L11: PÁGINA | M11: 1 | N11: DE | O11: 1
D13: ANALISIS DE PRECIOS UNITARIOS
L15: FECHA | M15: DD | N15: MM | O15: AA
C17: =+'PRESUPUESTO OFICIAL (Entidad)'!G29 -> PISO EN CERAMICA DUROPISO 030 X 030 DE PRIMERA CALIDAD, ALTO TRAFICO TIPO CORONA O SIMILAR. | I17: ÍTEMS NO PREVISTOS
C21: DATOS ESPECÍFICOS
C23: ÍTEM | D23: DESCRIPCIÓN | M23: UNIDAD | O23: CANTIDAD
C25: I. EQUIPO
C28: DESCRIPCIÓN | H28: MARCA | J28: TIPO | L28: TARIFA/HORA | M28: RENDIMIENTO | O28: Vr. UNITARIO
C29: HERRAMIENTAS MENORES | L29: 35256.09 | M29: 0.03 | O29: =+L29*M29 -> 1057.6827
C32: SUBTOTAL $ | O32: =+O29+O30 -> 1057.6827
C33: II. MATERIALES
C36: DESCRIPCIÓN | K36: UNIDAD | L36: CANTIDAD | M36: PRECIO UNIT. | O36: Vr. UNITARIO
C37: CERAMICA DURO PISO | K37: M2 | L37: 1 | M37: 38262 | O37: =+L37*M37 -> 38262
C38: BOQUILLA | K38: KG | L38: 0.11 | M38: 5724 | O38: =+L38*M38 -> 629.64
C39: PEGANTE BLANCO | K39: KG | L39: 3 | M39: 1662 | O39: =+L39*M39 -> 4986
C40: DESPERDICIO | K40: % | L40: 0.05 | M40: 43877.64 | O40: =+L40*M40 -> 2193.882
C44: SUBTOTAL $ | O44: =SUM(O37:O43) -> 46071.522
C45: III. TRANSPORTES
C48: MATERIAL | J48: VOL. o PESO | K48: DISTANCIA | L48: M3 o Ton/Km | M48: TARIFA | O48: Vr. UNITARIO
L49: 0.03 | M49: 46071.52 | O49: =+L49*M49 -> 1382.1456
C51: SUBTOTAL $ | O51: =+O49 -> 1382.1456
C52: IV. MANO DE OBRA
C55: TRABAJADOR | J55: JORNAL | K55: PRESTACIONES | L55: JORNAL TOTAL | M55: RENDIMIENTO | O55: Vr. UNITARIO
J56: 50365.84 | M56: 0.7 | O56: =+J56*M56 -> 35256.088
C60: SUBTOTAL $ | O60: =+O56 -> 35256.088
C62: TOTAL COSTO DIRECTO $
C63: V. COSTOS INDIRECTOS
C66: Descripción | L66: Porcentaje | M66: Valor Total
C67: ADMINISTRACION
C68: IMPREVISTOS
C69: UTILIDAD
C70: SUBTOTAL $
C72: Precio Unitario Total Aproximado al peso $ | O72: =+O32+O44+O51+O60 -> 83767.438
H76: Firma
...
