Workbook
Name Print_Area: 'Resumen - Evaluación jurídica'!$B$13:$D$63

Sheet Instrucciones
M1: Versión: 04
M2: Código: GCCON-F-038
B3: PROCESO
B4: GESTIÓN CONTRACTUAL
B5: NOMBRE DEL FORMATO
B6: EVALUACIÓN JURÍDICA
B7: CLASIFICACIÓN DE LA INFORMACIÓN
B8: Pública | F8: Pública clasificada | J8: Pública reservada
C10: Generalidades
C11: 1) Este formato tiene por objetivo dar a conocer el resultado de la evaluación jurídica de las ofertas presentadas en los procesos de selección de la entidad.
C12: 2) El formato está asociado al Manual de Contratación (GCCON-M-001) y al Manual Supervisión e Interventoría (GCCON-M-002), así como a los procedimientos que rigen la gestión contractual de la entidad.
C13: 3) Este formato es diligenciado por el evaluador jurídico del proceso de selección, cada vez que se requiera evaluar jurídicamente un proceso de selección.
C14: 4) Este formato no requiere ser impreso. Una vez diligenciado, deberá archivarse de conformidad con lo establecidos en las tablas de retención documental de la entidad.
C15: 5) El contenido que se encuentra en color diferente a negro, entre paréntesis o con el signo “/” son orientaciones para el diligenciamiento del formato.
C16: 6) El formato puede ser modificado en aquellos apartados en que así se indique. No modifique el formato más allá de lo que se requiera para así mantener la uniformidad e integridad del mismo. Recuerde siempre descargarlo desde la plataforma CompromISO para evitar un formato reciclado que pueda contener errores.
C17: 7) Una vez se realice la evaluación de cada proponente se debe validar la redacción y ortografía del documento (presionar "F7"). Posteriormente se debe imprimir en PDF el documento completo para así publicarlo en las diferentes plataformas.
C18: 8) El documento permite: (i) aplicar formato a celdas, (ii) eliminar filas, (iii) eliminar y agregar hojas. Los requisitos habilitantes (del 1 al 17) de la página de evaluación no se deben eliminar. Su eliminación, así como la eliminación de algunas de las filas referidas, puede suponer una afectación a las fórmulas del documento y, por ende, a la calificación. Revise muy bien lo que quiera eliminar.
C19: 9) Las celdas que no requieren edición se encuentran bloqueadas.
C20: 10) Elimine esta hoja, previa publicación de la evaluación del proceso.
C21: 11) Si se detectan fallas o errores en este archivo, los mismos se debe reportar a la Dirección jurídica para realizar los ajustes correspondientes.
... C44: 14) En la casilla denominada “CAUSALES DE RECHAZO”, el evaluador deberá determinar y describir si, como resultado de la evaluación preliminar o definitiva, el oferente se encuentra incurso en alguna causal de rechazo. En tal caso, deberá identificar la causal correspondiente y los hechos que sustentan su inclusión. Si el oferente no se encuentra incurso en ninguna causal de rechazo, se deberá indicar “No aplica”.

Sheet Resumen - Evaluación jurídica
D1: V.04
D2: Código: GCCON-F-038
B3: PROCESO | J3: G153 | K3: F13
B4: GESTIÓN CONTRACTUAL
B5: NOMBRE DEL FORMATO
B6: CONSOLIDADO EVALUACIÓN JURIDICA | D6: PROCESO NRO. 009 DE 2026
B7: CLASIFICACIÓN DE LA INFORMACIÓN
B8: PÚBLICA PÚBLICA CLASIFICADA | D8: PÚBLICA RESERVADA | I8: ="='P-"&J8&"'!"&$J$3 -> ='P-1'!G153 | J8: 1 | K8: ="='P-"&J8&"'!"&$K$3 -> ='P-1'!F13
B9: OBJETO | C9: Contratar el servicio de suministro de raciones alimenticias preparadas, destinadas a la atención del servicio de alimentación para los aprendices beneficiarios del internado – Centro de Convivencia del Centro de Biotecnología Agropecuaria del SENA – Regional Cundinamarca | I9: ="='P-"&J9&"'!"&$J$3 -> ='P-2'!G153 | J9: 2 | K9: ="='P-"&J9&"'!"&$K$3 -> ='P-2'!F13
I10: ="='P-"&J10&"'!"&$J$3 -> ='P-3'!G153 | J10: 3 | K10: ="='P-"&J10&"'!"&$K$3 -> ='P-3'!F13
I11: ="='P-"&J11&"'!"&$J$3 -> ='P-4'!G153 | J11: 4 | K11: ="='P-"&J11&"'!"&$K$3 -> ='P-4'!F13
I12: ="='P-"&J12&"'!"&$J$3 -> ='P-5'!G153 | J12: 5 | K12: ="='P-"&J12&"'!"&$K$3 -> ='P-5'!F13
B13: NRO. | C13: NOMBRE PROPONENTE | D13: CALIFICACIÓN | I13: ="='P-"&J13&"'!"&$J$3 -> ='P-6'!G153 | J13: 6 | K13: ="='P-"&J13&"'!"&$K$3 -> ='P-6'!F13
B14: P-1 | C14: ='P-1'!F18 -> SIRLEY TORO RESTREPO | D14: ='P-1'!G158 -> CUMPLE | I14: ="='P-"&J14&"'!"&$J$3 -> ='P-7'!G153 | J14: 7 | K14: ="='P-"&J14&"'!"&$K$3 -> ='P-7'!F13
B15: P-2 | C15: ='P-2'!F18 -> EVENPRO S.A.S. | D15: RECHAZADO | I15: ="='P-"&J15&"'!"&$J$3 -> ='P-8'!G153 | J15: 8 | K15: ="='P-"&J15&"'!"&$K$3 -> ='P-8'!F13
B16: P-3 | C16: ='P-3'!F18 -> 0 | D16: ='[1]P-6'!G155 -> #REF! | I16: ="='P-"&J16&"'!"&$J$3 -> ='P-9'!G153 | J16: 9 | K16: ="='P-"&J16&"'!"&$K$3 -> ='P-9'!F13
B17: P-4 | C17: ='P-4'!F18 -> 0 | D17: ='[1]P-6'!G156 -> #REF! | I17: ="='P-"&J17&"'!"&$J$3 -> ='P-10'!G153 | J17: 10 | K17: ="='P-"&J17&"'!"&$K$3 -> ='P-10'!F13
B18: P-5 | C18: ='[2]P-5'!F18 -> #REF! | D18: ='[2]P-5'!G158 -> #REF! | I18: ="='P-"&J18&"'!"&$J$3 -> ='P-11'!G153 | J18: 11 | K18: ="='P-"&J18&"'!"&$K$3 -> ='P-11'!F13
B19: P-6 | C19: ='[1]P-6'!F18 -> #REF! | D19: ='[1]P-6'!G158 -> #REF! | I19: ="='P-"&J19&"'!"&$J$3 -> ='P-12'!G153 | J19: 12 | K19: ="='P-"&J19&"'!"&$K$3 -> ='P-12'!F13
B20: P-7 | C20: ='[3]P-7'!F18 -> #REF! | D20: ='[3]P-7'!G158 -> #REF! | I20: ="='P-"&J20&"'!"&$J$3 -> ='P-13'!G153 | J20: 13 | K20: ="='P-"&J20&"'!"&$K$3 -> ='P-13'!F13
B21: P-8 | C21: ='[4]P-8'!F18 -> #REF! | D21: ='[4]P-8'!G158 -> #REF! | I21: ="='P-"&J21&"'!"&$J$3 -> ='P-14'!G153 | J21: 14 | K21: ="='P-"&J21&"'!"&$K$3 -> ='P-14'!F13
B22: P-9 | C22: ='[5]P-9'!F18 -> #REF! | D22: ='[5]P-9'!G158 -> #REF! | I22: ="='P-"&J22&"'!"&$J$3 -> ='P-15'!G153 | J22: 15 | K22: ="='P-"&J22&"'!"&$K$3 -> ='P-15'!F13
B23: P-10 | C23: ='[6]P-10'!F18 -> #REF! | D23: ='[6]P-10'!G158 -> #REF! | I23: ="='P-"&J23&"'!"&$J$3 -> ='P-16'!G153 | J23: 16 | K23: ="='P-"&J23&"'!"&$K$3 -> ='P-16'!F13
B24: P-11 | C24: ='[7]P-11'!F18 -> #REF! | D24: ='[7]P-11'!G158 -> #REF! | I24: ="='P-"&J24&"'!"&$J$3 -> ='P-17'!G153 | J24: 17 | K24: ="='P-"&J24&"'!"&$K$3 -> ='P-17'!F13
B25: P-12 | C25: ='[8]P-12'!F18 -> #REF! | D25: ='[8]P-12'!G158 -> #REF! | I25: ="='P-"&J25&"'!"&$J$3 -> ='P-18'!G153 | J25: 18 | K25: ="='P-"&J25&"'!"&$K$3 -> ='P-18'!F13
B26: P-13 | C26: ='[9]P-13'!F18 -> #REF! | D26: ='[9]P-13'!G158 -> #REF! | I26: ="='P-"&J26&"'!"&$J$3 -> ='P-19'!G153 | J26: 19 | K26: ="='P-"&J26&"'!"&$K$3 -> ='P-19'!F13
B27: P-14 | C27: ='[10]P-14'!F18 -> #REF! | D27: ='[10]P-14'!G158 -> #REF! | I27: ="='P-"&J27&"'!"&$J$3 -> ='P-20'!G153 | J27: 20 | K27: ="='P-"&J27&"'!"&$K$3 -> ='P-20'!F13
B28: P-15 | C28: ='[11]P-15'!F18 -> #REF! | D28: ='[11]P-15'!G158 -> #REF! | I28: ="='P-"&J28&"'!"&$J$3 -> ='P-21'!G153 | J28: 21 | K28: ="='P-"&J28&"'!"&$K$3 -> ='P-21'!F13
B29: P-16 | C29: ='[12]P-16'!F18 -> #REF! | D29: ='[12]P-16'!G158 -> #REF! | I29: ="='P-"&J29&"'!"&$J$3 -> ='P-22'!G153 | J29: 22 | K29: ="='P-"&J29&"'!"&$K$3 -> ='P-22'!F13
B30: P-17 | C30: ='[13]P-17'!F18 -> #REF! | D30: ='[13]P-17'!G158 -> #REF! | I30: ="='P-"&J30&"'!"&$J$3 -> ='P-23'!G153 | J30: 23 | K30: ="='P-"&J30&"'!"&$K$3 -> ='P-23'!F13
B31: P-18 | C31: ='[14]P-18'!F18 -> #REF! | D31: ='[14]P-18'!G158 -> #REF! | I31: ="='P-"&J31&"'!"&$J$3 -> ='P-24'!G153 | J31: 24 | K31: ="='P-"&J31&"'!"&$K$3 -> ='P-24'!F13
B32: P-19 | C32: ='[15]P-19'!F18 -> #REF! | D32: ='[15]P-19'!G158 -> #REF! | I32: ="='P-"&J32&"'!"&$J$3 -> ='P-25'!G153 | J32: 25 | K32: ="='P-"&J32&"'!"&$K$3 -> ='P-25'!F13
B33: P-20 | C33: ='[16]P-20'!F18 -> #REF! | D33: ='[16]P-20'!G158 -> #REF! | I33: ="='P-"&J33&"'!"&$J$3 -> ='P-26'!G153 | J33: 26 | K33: ="='P-"&J33&"'!"&$K$3 -> ='P-26'!F13
I34: ="='P-"&J34&"'!"&$J$3 -> ='P-27'!G153 | J34: 27 | K34: ="='P-"&J34&"'!"&$K$3 -> ='P-27'!F13
I35: ="='P-"&J35&"'!"&$J$3 -> ='P-28'!G153 | J35: 28 | K35: ="='P-"&J35&"'!"&$K$3 -> ='P-28'!F13
B36: NOTA 1. Si el resultado de la evaluación es "NO CUMPLE", el oferente deberá subsanar la propuesta durante el término establecido en el cronograma del proceso o la ley, según el caso. Por regla general, la subsanación solo se permite para la evaluación preliminar. | I36: ="='P-"&J36&"'!"&$J$3 -> ='P-29'!G153 | J36: 29 | K36: ="='P-"&J36&"'!"&$K$3 -> ='P-29'!F13
I38: ="='P-"&J38&"'!"&$J$3 -> ='P-30'!G153 | J38: 30 | K38: ="='P-"&J38&"'!"&$K$3 -> ='P-30'!F13
B40: NOTA 2. Si el oferente, durante el término del traslado no subsanó o subsanó incorrectamente su oferta, el resultado de la evaluación es "RECHAZADO". Tal calificación se podra observar en el Informe consolidado.
B44: OBSERVACIONES
B50: CUMPLE | D50: =COUNTIF(D14:D33,F128) -> 1
...

Sheet P-1
L2: V.04
L4: Código: GCCON-F-038
C5: PROCESO
C6: GESTIÓN CONTRACTUAL
C7: NOMBRE DEL FORMATO - EVALUACIÓN JURIDICA
C8: ='Resumen - Evaluación jurídica'!D6 -> PROCESO NRO. 009 DE 2026
C9: CLASIFICACIÓN DE LA INFORMACIÓN
C10: PÚBLICA | G10: PÚBLICA CLASIFICADA | J10: PÚBLICA RESERVADA
C11: OBJETO | E11: ='Resumen - Evaluación jurídica'!C9 -> Contratar el servicio de suministro de raciones alimenticias preparadas, destinadas a la atención del servicio de alimentación para los aprendices beneficiarios del internado – Centro de Convivencia del Centro de Biotecnología Agropecuaria del SENA – Regional Cundinamarca
D16: Proponente nro. | E16: 1 | I16: Lotes | J16: N.A. | K16: Número(s)
D18: Nombre del proponente: | F18: SIRLEY TORO RESTREPO
D20: Integrante 1: | L20: %Participación
D22: Integrante 2: | L22: %Participación
D24: Integrante 3: | L24: %Participación
D26: Integrante 4: | L26: %Participación
Q28: SÍ
Q29: NO
D30: REQUISITO | M30: CUMPLE | Q30: N.A.
C32: 1 | D32: Documento de proponente plural | L32: N.A.
C33: 1.1 | D33: Forma de unión | M33: N.A. | Q33: N.A.
C34: 1.2 | D34: Objeto | M34: N.A. | Q34: Unión Temporal
C35: 1.3 | D35: Vigencia | M35: N.A. | Q35: Consorcio
C36: 1.4 | D36: Participación | M36: N.A. | Q36: Promesa de sociedad futura
C37: 1.5 | D37: Otros | M37: N.A.
D39: NOTA
C41: 2 | D41: Carta de presentación de la propuesta en el formato de la entidad | M41: SÍ
C42: 2.1 | D42: Aval de la propuesta y consulta de antecedentes del profesional (COPNIA o similares) | M42: N.A.
D44: NOTA
C46: 3 | D46: Documento de identificación del Representante legal o Persona natural (PN) | M46: SÍ
D48: NOTA
C50: 4 | D50: Documento que acredite la situación militar definida | M50: N.A.
D52: NOTA
C54: 5 | D54: Certificado de existencia y representación legal (CERL) o Registro mercantil (RM) | M54: SÍ
D56: NOTA
C58: 6 | D58: Validación de la información del CERL o del RM
C59: 6.1 | D59: Expedición | M59: SÍ
C60: 6.2 | D60: Objeto social relacionado | M60: SÍ
C61: 6.3 | D61: Facultades | M61: SÍ
C62: 6.4 | D62: Constitución y vigencia | M62: SÍ
C63: 6.5 | D63: Tamaño | M63: SÍ
...

Sheet P-2
L2: V.04
L4: Código: GCCON-F-038
C5: PROCESO
C6: GESTIÓN CONTRACTUAL
C7: NOMBRE DEL FORMATO - EVALUACIÓN JURIDICA
C8: ='Resumen - Evaluación jurídica'!D6 -> PROCESO NRO. 009 DE 2026
C9: CLASIFICACIÓN DE LA INFORMACIÓN
C10: PÚBLICA | G10: PÚBLICA CLASIFICADA | J10: PÚBLICA RESERVADA
C11: OBJETO | E11: ='Resumen - Evaluación jurídica'!C9 -> Contratar el servicio de suministro de raciones alimenticias preparadas, destinadas a la atención del servicio de alimentación para los aprendices beneficiarios del internado – Centro de Convivencia del Centro de Biotecnología Agropecuaria del SENA – Regional Cundinamarca
D16: Proponente nro. | E16: 2 | I16: Lotes | J16: N.A. | K16: Número(s)
D18: Nombre del proponente: | F18: EVENPRO S.A.S.
D20: Integrante 1: | L20: %Participación
D22: Integrante 2: | L22: %Participación
D24: Integrante 3: | L24: %Participación
D26: Integrante 4: | L26: %Participación
Q28: SÍ
Q29: NO
D30: REQUISITO | M30: CUMPLE | Q30: N.A.
C32: 1 | D32: Documento de proponente plural | L32: N.A.
C33: 1.1 | D33: Forma de unión | M33: N.A. | Q33: N.A.
C34: 1.2 | D34: Objeto | M34: N.A. | Q34: Unión Temporal
C35: 1.3 | D35: Vigencia | M35: N.A. | Q35: Consorcio
C36: 1.4 | D36: Participación | M36: N.A. | Q36: Promesa de sociedad futura
C37: 1.5 | D37: Otros | M37: N.A.
D39: NOTA
C41: 2 | D41: Carta de presentación de la propuesta en el formato de la entidad | M41: NO
C42: 2.1 | D42: Aval de la propuesta y consulta de antecedentes del profesional (COPNIA o similares) | M42: N.A.
D44: NOTA | E44: NO SUBSANO
C46: 3 | D46: Documento de identificación del Representante legal o Persona natural (PN) | M46: SÍ
D48: NOTA
C50: 4 | D50: Documento que acredite la situación militar definida | M50: SÍ
D52: NOTA
C54: 5 | D54: Certificado de existencia y representación legal (CERL) o Registro mercantil (RM) | M54: SÍ
D56: NOTA
C58: 6 | D58: Validación de la información del CERL o del RM
C59: 6.1 | D59: Expedición | M59: SÍ
C60: 6.2 | D60: Objeto social relacionado | M60: SÍ
C61: 6.3 | D61: Facultades | M61: SÍ
C62: 6.4 | D62: Constitución y vigencia | M62: SÍ
C63: 6.5 | D63: Tamaño | M63: SÍ
...

Sheet P-3
L2: V.04
L4: Código: GCCON-F-038
C5: PROCESO
C6: GESTIÓN CONTRACTUAL
C7: NOMBRE DEL FORMATO - EVALUACIÓN JURIDICA
C8: ='Resumen - Evaluación jurídica'!D6 -> PROCESO NRO. 009 DE 2026
C9: CLASIFICACIÓN DE LA INFORMACIÓN
C10: PÚBLICA | G10: PÚBLICA CLASIFICADA | J10: PÚBLICA RESERVADA
C11: OBJETO | E11: ='Resumen - Evaluación jurídica'!C9 -> Contratar el servicio de suministro de raciones alimenticias preparadas, destinadas a la atención del servicio de alimentación para los aprendices beneficiarios del internado – Centro de Convivencia del Centro de Biotecnología Agropecuaria del SENA – Regional Cundinamarca
D16: Proponente nro. | I16: Lotes | J16: N.A. | K16: Número(s)
D18: Nombre del proponente:
D20: Integrante 1: | L20: %Participación
D22: Integrante 2: | L22: %Participación
D24: Integrante 3: | L24: %Participación
D26: Integrante 4: | L26: %Participación
Q28: SÍ
Q29: NO
D30: REQUISITO | M30: CUMPLE | Q30: N.A.
C32: 1 | D32: Documento de proponente plural | L32: N.A.
C33: 1.1 | D33: Forma de unión | M33: NO | Q33: N.A.
C34: 1.2 | D34: Objeto | M34: NO | Q34: Unión Temporal
C35: 1.3 | D35: Vigencia | M35: NO | Q35: Consorcio
C36: 1.4 | D36: Participación | M36: NO | Q36: Promesa de sociedad futura
C37: 1.5 | D37: Otros | M37: NO
D39: NOTA
C41: 2 | D41: Carta de presentación de la propuesta en el formato de la entidad | M41: NO
C42: 2.1 | D42: Aval de la propuesta y consulta de antecedentes del profesional (COPNIA o similares) | M42: NO
D44: NOTA
C46: 3 | D46: Documento de identificación del Representante legal o Persona natural (PN) | M46: NO
D48: NOTA
C50: 4 | D50: Documento que acredite la situación militar definida | M50: NO
D52: NOTA
C54: 5 | D54: Certificado de existencia y representación legal (CERL) o Registro mercantil (RM) | M54: NO
D56: NOTA
C58: 6 | D58: Validación de la información del CERL o del RM
C59: 6.1 | D59: Expedición | M59: NO
C60: 6.2 | D60: Objeto social relacionado | M60: NO
C61: 6.3 | D61: Facultades | M61: NO
C62: 6.4 | D62: Constitución y vigencia | M62: NO
C63: 6.5 | D63: Tamaño | M63: NO
...

Sheet P-4
L2: V.04
L4: Código: GCCON-F-038
C5: PROCESO
C6: GESTIÓN CONTRACTUAL
C7: NOMBRE DEL FORMATO - EVALUACIÓN JURIDICA
C8: ='Resumen - Evaluación jurídica'!D6 -> PROCESO NRO. 009 DE 2026
C9: CLASIFICACIÓN DE LA INFORMACIÓN
C10: PÚBLICA | G10: PÚBLICA CLASIFICADA | J10: PÚBLICA RESERVADA
C11: OBJETO | E11: ='Resumen - Evaluación jurídica'!C9 -> Contratar el servicio de suministro de raciones alimenticias preparadas, destinadas a la atención del servicio de alimentación para los aprendices beneficiarios del internado – Centro de Convivencia del Centro de Biotecnología Agropecuaria del SENA – Regional Cundinamarca
D16: Proponente nro. | I16: Lotes | J16: N.A. | K16: Número(s)
D18: Nombre del proponente:
D20: Integrante 1: | L20: %Participación
D22: Integrante 2: | L22: %Participación
D24: Integrante 3: | L24: %Participación
D26: Integrante 4: | L26: %Participación
Q28: SÍ
Q29: NO
D30: REQUISITO | M30: CUMPLE | Q30: N.A.
C32: 1 | D32: Documento de proponente plural | L32: N.A.
C33: 1.1 | D33: Forma de unión | M33: NO | Q33: N.A.
C34: 1.2 | D34: Objeto | M34: NO | Q34: Unión Temporal
C35: 1.3 | D35: Vigencia | M35: NO | Q35: Consorcio
C36: 1.4 | D36: Participación | M36: NO | Q36: Promesa de sociedad futura
C37: 1.5 | D37: Otros | M37: NO
D39: NOTA
C41: 2 | D41: Carta de presentación de la propuesta en el formato de la entidad | M41: NO
C42: 2.1 | D42: Aval de la propuesta y consulta de antecedentes del profesional (COPNIA o similares) | M42: NO
D44: NOTA
C46: 3 | D46: Documento de identificación del Representante legal o Persona natural (PN) | M46: NO
D48: NOTA
C50: 4 | D50: Documento que acredite la situación militar definida | M50: NO
D52: NOTA
C54: 5 | D54: Certificado de existencia y representación legal (CERL) o Registro mercantil (RM) | M54: NO
D56: NOTA
C58: 6 | D58: Validación de la información del CERL o del RM
C59: 6.1 | D59: Expedición | M59: NO
C60: 6.2 | D60: Objeto social relacionado | M60: NO
C61: 6.3 | D61: Facultades | M61: NO
C62: 6.4 | D62: Constitución y vigencia | M62: NO
C63: 6.5 | D63: Tamaño | M63: NO
...
