Workbook
Name \0: #REF!
Name \0: #REF!
Name \0: #REF!
Name \0: #REF!
Name \0: #REF!
Name \0: #REF!
Name \0: #REF!
Name \0: #REF!
Name \0: #REF!
Name \00: #REF!
Name \00: #REF!
Name \00: #REF!
Name \00: #REF!
Name \00: #REF!
Name \00: #REF!
Name \00: #REF!
Name \00: #REF!
Name \00: #REF!
Name \a: #REF!
Name \a: #REF!
Name \a: #REF!
Name \a: #REF!
Name \a: #REF!
Name \a: #REF!
Name \a: #REF!
Name \a: #REF!
Name \a: #REF!
Name \AA: [1]LIQUIDACION!#REF!
Name \AA: [1]LIQUIDACION!#REF!
Name \AA: [1]LIQUIDACION!#REF!
Name \AA: [1]LIQUIDACION!#REF!
Name \AA: [1]LIQUIDACION!#REF!
Name \AA: [1]LIQUIDACION!#REF!
Name \AA: [1]LIQUIDACION!#REF!
Name \AA: [1]LIQUIDACION!#REF!
Name \AA: [1]LIQUIDACION!#REF!
Name \b: [2]STRSUMM0!#REF!
Name \b: [2]STRSUMM0!#REF!
Name \b: [2]STRSUMM0!#REF!
Name \b: [2]STRSUMM0!#REF!
Name \b: [2]STRSUMM0!#REF!
Name \b: [2]STRSUMM0!#REF!
Name \b: [2]STRSUMM0!#REF!
Name \b: [2]STRSUMM0!#REF!
Name \b: [2]STRSUMM0!#REF!
Name \bb: [2]STRSUMM0!#REF!
Name \bb: [2]STRSUMM0!#REF!
Name \bb: [2]STRSUMM0!#REF!
Name \bb: [2]STRSUMM0!#REF!
Name \bb: [2]STRSUMM0!#REF!
Name \bb: [2]STRSUMM0!#REF!
Name \bb: [2]STRSUMM0!#REF!
Name \bb: [2]STRSUMM0!#REF!
Name \bb: [2]STRSUMM0!#REF!
Name \E: #REF!
Name \E: #REF!
Name \E: #REF!
Name \E: #REF!
Name \E: #REF!
Name \E: #REF!

Sheet Presupuesto
A1: INSTITUTO NACIONAL DE VIAS
A2: SUBDIRECCION ADMINISTRATIVA
A3: DIRECCION TERRITORIAL SANTANDER
A4: SELECCIÓN DE MÍNIMA CUANTÍA IP-DT-SAN-001-2026
A6: MANTENIMIENTO DE LA PLANTA FÍSICA DEL EDIFICIO DE LA SEDE DE LA DIRECCIÓN TERRITORIAL SANTANDER DEL INVIAS
A8: PRESUPUESTO OFICIAL
A10: No | B10: ITEM DE PAGO | C10: ESPECIFICACIONES | E10: DESCRIPCION | F10: UNID | G10: CANTIDAD | H10: VALOR UNITARIO | I10: VALOR TOTAL
C11: ESPECIFICACION GENERAL 2022 | D11: ESPECIFICACION PARTICULAR
A13: I - PRELIMINARES | I13: =SUM(I14:I15) -> 1664629
A14: 1 | B14: 1.1 | D14: 1.1P | E14: Demolición estructuras de concreto. | F14: M3 | G14: 5.5 | H14: =+'1.1'!L73 -> 146087 | I14: =ROUND((+G14*H14),0) -> 803479
A15: 2 | B15: 1.2 | D15: 1.2P | E15: Cargue y acarreo de escombros y sobrantes y disposición en zona autorizada) | F15: M3 | G15: 10 | H15: 86115 | I15: =ROUND((+G15*H15),0) -> 861150
A16: Il - INSTALACIONES ELECTRICAS Y SISTEMA DE ALUMBRADO | I16: =SUM(I17:I19) -> 2774805
A17: 3 | B17: 2.1 | D17: 2.1P | E17: Suministro e instalación de lamparas Led panel 60x60cm 48w(Incluye retiro lampara existente y cableado según corresponda). | F17: UND | G17: 14 | H17: =+'2.1'!L73 -> 193848 | I17: =ROUND((+G17*H17),0) -> 2713872
A18: 4 | B18: 2.2 | D18: 2.2P | E18: Suministro Instalaciön de tapa ciega rectangular en pvc para cajas electricas. | F18: UND | G18: 11 | H18: =+'2.3'!L73 -> 3207 | I18: =ROUND((+G18*H18),0) -> 35277
A19: 5 | B19: 2.3 | D19: 2.3P | E19: Suministro Instalaciön de tapa ciega en octogonal pvc para cajas electricas. | F19: UND | G19: 8 | H19: =+'2.4'!L73 -> 3207 | I19: =ROUND((+G19*H19),0) -> 25656
A20: III - CUBIERTA | I20: =SUM(I21:I25) -> 11765505
A21: 6 | B21: 3.1 | D21: 3.1P | E21: Limpieza de la cubierta (retiro de hojas de árboles) | F21: M2 | G21: 570 | H21: =+'3.1'!L73 -> 2900 | I21: =ROUND((+G21*H21),0) -> 1653000
A22: 7 | B22: 3.2 | D22: 3.2P | E22: Limpieza viga canal | F22: M | G22: 37.5 | H22: =+'3.2'!L73 -> 4500 | I22: =ROUND((+G22*H22),0) -> 168750
A23: 8 | B23: 3.3 | D23: 3.3P | E23: Limpieza de bajantes para aguas lluvias | F23: UND | G23: 10 | H23: =+'3.3'!L73 -> 32918 | I23: =ROUND((+G23*H23),0) -> 329180
A24: 9 | B24: 3.4 | D24: 3.4P | E24: Estructura retención hojarasca, con marco en angulo de 1" x 1" x 1/8" y malla zaranda de 6*6 (incluye fabricación, pintura y montaje.) | F24: M | G24: 55.5 | H24: =+'3.4'!L85 -> 159226 | I24: =ROUND((+G24*H24),0) -> 8837043
A25: 10 | B25: 3.5 | D25: 3.5P | E25: Suministro e instalación de desagües en viga canal tipo gargola 40cmx50cmx15cm. En lámina Cold Rolled cal. 16 - incluye pintura | F25: UND | G25: 4 | H25: =+'3.5'!L77 -> 194383 | I25: =ROUND((+G25*H25),0) -> 777532
A26: IV- MUROS, PINTURA, PISOS Y ACABADOS | I26: =SUM(I27:I37) -> 54152934
A27: 11 | B27: 4.1 | D27: 4.1P | E27: Estuco Tipo Graniplast Blanco Esgrafiado Antihongos | F27: M2 | G27: 23.69 | H27: =+'4.1'!L74 -> 21478 | I27: =ROUND((+G27*H27),0) -> 508814
A28: 12 | B28: 4.2 | D28: 4.2P | E28: Pintura muros interiores en vinilo tipo 1 (2 manos) - sobre pintura existente del mismo color | F28: M2 | G28: 1700 | H28: =+'4.2'!L73 -> 15188 | I28: =ROUND((+G28*H28),0) -> 25819600
A29: 13 | B29: 4.3 | D29: 4.3P | E29: Preparacion superficie muros a pintar, mediante el retiro de pintura y estuco deteriorados y ejecución de resanes | F29: M2 | G29: 154 | H29: =+'4.3'!L73 -> 22713 | I29: =ROUND((+G29*H29),0) -> 3497802
A30: 14 | B30: 4.4 | D30: 4.4P | E30: Pintura muros exteriores en koraza tipo 1 (2 manos) - sobre pintura existente del mismo color | F30: M2 | G30: 510 | H30: =+'4.4'!L73 -> 18856 | I30: =ROUND((+G30*H30),0) -> 9616560
A31: 15 | B31: 4.5 | D31: 4.5P | E31: Pintura cielo raso en mandera con tintilla y laca (maderta machihembrada) | F31: M2 | G31: 168 | H31: =+'4.5'!L73 -> 28880 | I31: =ROUND((+G31*H31),0) -> 4851840
A32: 16 | B32: 4.6 | D32: 4.6P | E32: Media caña en mortero 1:3 impermeabilizado | F32: M | G32: 35 | H32: =+'4.6'!L74 -> 44886 | I32: =ROUND((+G32*H32),0) -> 1571010
A33: 17 | B33: 4.7 | D33: 4.7P | E33: Pintura impermeabilizante | F33: M2 | G33: 80.75 | H33: =+'4.7'!L73 -> 20906 | I33: =ROUND((+G33*H33),0) -> 1688160
A34: 18 | B34: 4.8 | D34: 4.8P | E34: Placa base de concreto E=8 cm de con manto impermeabilizante, incluye preparación de superficie, vaciado, acabado y curado | F34: M2 | G34: 8.5 | H34: =+'4.8'!L74 -> 95748 | I34: =ROUND((+G34*H34),0) -> 813858
A35: 19 | B35: 4.9 | D35: 4.9P | E35: Suministro e Instalación Malla Metálica Tipo Angeo con Marco De Aluminio (Incluye Anclajes, Tornillería Y Sellado). | F35: M2 | G35: 14 | H35: =+'4.9'!L77 -> 189163 | I35: =ROUND((+G35*H35),0) -> 2648282
A36: 20 | B36: 4.10 | D36: 4.10P | E36: Suministro e instalación de barrera en lámina de acero para control de ingreso de aves en cubierta, h = 0.20 m, incluye pintura | F36: M | G36: 29 | H36: =+'4.10'!L76 -> 41222 | I36: =ROUND((+G36*H36),0) -> 1195438
A37: 21 | B37: 4.11 | D37: 4.11P | E37: Mantenimiento y lavado de fachada | F37: M2 | G37: 510 | H37: =+'4.11'!L74 -> 3807 | I37: =ROUND((+G37*H37),0) -> 1941570
A38: V - DRENAJES | I38: =SUM(I39:I43) -> 22572997
A39: 22 | B39: 5.1 | D39: 5.1P | E39: Excavación manual en material común | F39: M3 | G39: 37 | H39: =+'5.1'!L73 -> 64927 | I39: =ROUND((+G39*H39),0) -> 2402299
A40: 23 | B40: 5.2 | D40: 5.2P | E40: Construcción canal trapezoidal en concreto reforzado, para drenaje aguas lluvias, según diseño | F40: M3 | G40: =8.5+10 -> 18.5 | H40: =+'5.2'!L73 -> 642299 | I40: =ROUND((+G40*H40),0) -> 11882532
A41: 24 | B41: 5.3 | C41: 640 - 22 | E41: Acero de refuerzo | F41: Kg | G41: 555 | H41: =+'5.3'!L73 -> 7337 | I41: =ROUND((+G41*H41),0) -> 4072035
A42: 25 | B42: 5.4 | C42: 630 - 22 | E42: Concreto Clase F (14 Mpa) | F42: M3 | G42: 2 | H42: =+'5.4'!L73 -> 480228 | I42: =ROUND((+G42*H42),0) -> 960456
A43: 26 | B43: 5.5 | D43: 5.5P | E43: Suministro e instalación tubería novafor 8" para drenaje aguas lluvias que se retienen por muro de cerramiento (Incluye estructura de entrada y salida según diseño) Longitud = 1.20 m. | F43: M | G43: 5 | H43: =+'5.5'!L79 -> 651135 | I43: =ROUND((+G43*H43),0) -> 3255675
A44: VI - INSTALACIONES HIDRAULICAS Y SANITARIAS | I44: =SUM(I45:I48) -> 682409
...

Sheet Precios Cotizacion
L1: 650000
B2: MATERIALES | F2: EQUIPOS | J2: MANO DE OBRA | N2: TRANSPORTE
B3: DESCRIPCION | C3: UNIDAD | D3: PRECIO | F3: DESCRIPCION | G3: UNIDAD | H3: PRECIO | J3: DESCRIPCION | K3: UNIDAD | L3: PRECIO | N3: DESCRIPCION | O3: UNIDAD | P3: PRECIO
B4: Plafon Roseta Blanco En Ceramica Portalampara Blanco | C4: UND | D4: 11400 | F4: Andamio Tubular Fijo Seccion Incluye Crucetas | G4: HORA | H4: 1850 | J4: Ayudante | K4: día | L4: =1750905/30 -> 58363.5 | N4: Transporte material escombro | O4: m3-km | P4: 2000
B5: Lampara Led panel 60x60cm 48w | C5: UND | D5: 116900 | F5: Equipo de soldadura | G5: HORA | H5: 11000 | J5: Oficial | K5: día | L5: 81520 | N5: Transporte base granular | O5: m3-km | P5: 2000
B6: Tapa Ciega 2x4 Plastica Rectangular | C6: UND | D6: 2200 | F6: Maquina cortadora de pavimento | G6: HORA | H6: 24800 | J6: Tecnico electricista | K6: día | L6: 100000 | N6: Transporte mezcla densa | O6: m3-km | P6: 2000
B7: Tapa Ciega Plastica Octogonal | C7: UND | D7: 2200 | F7: Compresor de aire 185 cfm | G7: HORA | H7: 82600 | J7: Soldador | K7: día | L7: 81520
B8: Sección metlaica en lámina Cold Rolled calibre 16 (1,6 mm) incluye fabricación, pintura y montaje | C8: M | D8: 288660 | F8: Martillo neumático 30 lbs. | G8: HORA | H8: 11576 | J8: Profesional en ingeniería | K8: día | L8: 140000
B9: Anclaje Metalico Cuña 5/8" X 4-1/2" | C9: UND | D9: 7590 | F9: Apisonador neumático (saltarin) | G9: HORA | H9: 12669 | J9: Dibujante autocad | K9: día | L9: 81520
B10: Pie de Amigo metálico para soporte de canal incluye pintura | C10: UND | D10: 82000 | F10: Compactador manual de rodillo | G10: HORA | H10: 27890 | J10: Operario técnico de mantenimiento | K10: día | L10: 120000
B11: Junta de caucho | C11: M | D11: 12000 | F11: Hidrolavadora | G11: HORA | H11: 6806.0174 | J11: Oficial instalador aluminio/vidrio | K11: día | L11: 125000
B12: Sikafill-12 Power Gris | C12: GALON | D12: 95180 | F12: Destapador de Cañerías Motor 1/3Hp 20Mts Rojo | G12: HORA | H12: 7400
B13: Tela poliéster 30 gramos/m2 | C13: M2 | D13: 2590
B14: Alumol | C14: KG | D14: 76195
B15: Gargola 40cmx50cmx15cm. En lámina Cold Rolled cal. 16 - incluye pintura | C15: UND | D15: 111000
B16: Sellante Poliuretano (Cartucho) | C16: UND | D16: 41900
B17: Estuco plastico para exteriores | C17: GALON | D17: 31717.539
B18: Pintura para interiores vinilo tipo 1 | C18: GALON | D18: 78750
B19: Estuco plastico para interiores | C19: GALON | D19: 24900
B20: Pintura para exteriores vinilo tipo 1 | C20: GALON | D20: 107900
B21: Tintilla para madera | C21: GALON | D21: 160000
B22: Barniz transparente | C22: GALON | D22: 123900
B23: Resello Epoxico | C23: GALON | D23: 247950
B24: Mortero 1:3 | C24: M3 | D24: 373380
... B62: Tornillo autoperforante | C62: UND | D62: 350

Sheet 1.1
I1: CÓDIGO | J1: MEPI-MN1-IN-10-FR-1
B2: INSTITUTO NACIONAL DE VIAS
B3: PROCESO MISIONAL EJECUCIÓN DE PROYECTOS DE INFRAESTRUCTURA DE TRANSPORTE | I3: VERSIÓN | J3: 1
B4: MANUAL DE INTERVENTORÍA OBRA PÚBLICA
B5: ANÁLISIS DE PRECIOS UNITARIOS | I5: PÁGINA
I8: FECHA
J9: (Día / Mes / Año)
A10: ÍTEMS DE LA PROPUESTA ECONÓMICA | H10: ÍTEMS NO PREVISTOS
A11: UNIDAD EJECUTORA: | H11: DIRECCIÓN TERRITORIAL:
A14: CONTRATO No.
B15: (Indicar número y año)
A17: OBJETO DEL CONTRATO:
A21: PROYECTO:
A23: CONTRATISTA:
A25: INTERVENTOR: | I25: Contrato No.:
J26: (Indicar número y año)
A27: FECHA CIERRE PROCESO DE SELECCIÓN CONTRATO DE OBRA:
F28: (Día) | G28: (Mes) | H28: (Año)
A30: DATOS ESPECÍFICOS
A32: ÍTEM | B32: DESCRIPCIÓN | I32: GRUPO DE AJUSTE | J32: UNIDAD | L32: CANTIDAD
A33: =+Presupuesto!B14 -> 1.1 | B33: =+Presupuesto!E14 -> Demolición estructuras de concreto. | J33: M3
A35: I. EQUIPO
A37: DESCRIPCIÓN | G37: TIPO | I37: TARIFA/HORA | J37: RENDIMIENTO | L37: Vr. UNITARIO
A38: Herramienta menor (10% del costo de la mano de obra) | L38: =+L61*10% -> 10797.248
A40: SUBTOTAL | L40: =SUM(L38:L39) -> 10797.248
A42: II. MATERIALES
A44: DESCRIPCIÓN | H44: UNIDAD | I44: CANTIDAD | J44: PRECIO UNIT. | L44: Vr. UNITARIO
A47: SUBTOTAL | L47: =SUM(L45:L46) -> 0
A49: III. TRANSPORTES
A51: MATERIAL | F51: UNIDAD | G51: CANTIDAD (1) | H51: DISTANCIA (2) | I51: CANTIDAD * DISTANCIA (1) * (2) | J51: TARIFA | L51: Vr. UNITARIO
A54: SUBTOTAL | L54: =SUM(L52:L53) -> 0
A56: IV. MANO DE OBRA
A58: DESCRIPCIÓN | G58: JORNAL | H58: PRESTACIONES | I58: JORNAL TOTAL | J58: RENDIMIENTO | L58: Vr. UNITARIO
A59: 2 Ayudante | G59: ='Precios Cotizacion'!L4*2 -> 116727 | H59: 1.85 | I59: =+G59*H59 -> 215944.95 | J59: 2 | L59: =+I59/J59 -> 107972.48
A61: SUBTOTAL | L61: =SUM(L59:L60) -> 107972.48
A63: TOTAL COSTO DIRECTO | L63: =+L40+L47+L54+L61 -> 118769.72
A65: V. COSTOS INDIRECTOS
A67: DESCRIPCIÓN | I67: Porcentaje | J67: Valor Total
A68: ADMINISTRACIÓN | I68: 0.15 | J68: =+L63*I68 -> 17815.458
A69: IMPREVISTOS | I69: 0.03 | J69: =+L63*I69 -> 3563.0917
...

Sheet 1.2
I1: CÓDIGO | J1: MEPI-MN1-IN-10-FR-1
B2: INSTITUTO NACIONAL DE VIAS
B3: PROCESO MISIONAL EJECUCIÓN DE PROYECTOS DE INFRAESTRUCTURA DE TRANSPORTE | I3: VERSIÓN | J3: 1
B4: MANUAL DE INTERVENTORÍA OBRA PÚBLICA
B5: ANÁLISIS DE PRECIOS UNITARIOS | I5: PÁGINA
I8: FECHA
J9: (Día / Mes / Año)
A10: ÍTEMS DE LA PROPUESTA ECONÓMICA | H10: ÍTEMS NO PREVISTOS
A11: UNIDAD EJECUTORA: | H11: DIRECCIÓN TERRITORIAL:
A14: CONTRATO No.
B15: (Indicar número y año)
A17: OBJETO DEL CONTRATO:
A21: PROYECTO:
A23: CONTRATISTA:
A25: INTERVENTOR: | I25: Contrato No.:
J26: (Indicar número y año)
A27: FECHA CIERRE PROCESO DE SELECCIÓN CONTRATO DE OBRA:
F28: (Día) | G28: (Mes) | H28: (Año)
A30: DATOS ESPECÍFICOS
A32: ÍTEM | B32: DESCRIPCIÓN | I32: GRUPO DE AJUSTE | J32: UNIDAD | L32: CANTIDAD
A33: =+Presupuesto!B15 -> 1.2 | B33: =+Presupuesto!E15 -> Cargue y acarreo de escombros y sobrantes y disposición en zona autorizada) | J33: M3
A35: I. EQUIPO
A37: DESCRIPCIÓN | G37: TIPO | I37: TARIFA/HORA | J37: RENDIMIENTO | L37: Vr. UNITARIO
A38: Herramienta menor (10% del costo de la mano de obra) | L38: =+L61*10% -> 3773.8096
A40: SUBTOTAL | L40: =SUM(L38:L39) -> 3773.8096 | N40: Tansporte | O40: 1 hora
A42: II. MATERIALES
A44: DESCRIPCIÓN | H44: UNIDAD | I44: CANTIDAD | J44: PRECIO UNIT. | L44: Vr. UNITARIO
A47: SUBTOTAL | L47: =SUM(L45:L46) -> 0
A49: III. TRANSPORTES
A51: MATERIAL | F51: UNIDAD | G51: CANTIDAD (1) | H51: DISTANCIA (2) | I51: CANTIDAD * DISTANCIA (1) * (2) | J51: TARIFA | L51: Vr. UNITARIO
A52: Material de escombros | F52: m3-km | G52: 1 | H52: 15 | I52: =+G52*H52 -> 15 | J52: =+'Precios Cotizacion'!P4 -> 2000 | L52: =+I52*J52 -> 30000
A54: SUBTOTAL | L54: =SUM(L52:L53) -> 30000
A56: IV. MANO DE OBRA
A58: DESCRIPCIÓN | G58: JORNAL | H58: PRESTACIONES | I58: JORNAL TOTAL | J58: RENDIMIENTO | L58: Vr. UNITARIO
A59: 2 Ayudante | G59: =+'Precios Cotizacion'!L4*2 -> 116727 | H59: 1.85 | I59: =+G59*H59 -> 215944.95 | J59: 5.7222005 | L59: =+I59/J59 -> 37738.096
A61: SUBTOTAL | L61: =SUM(L59:L60) -> 37738.096
A63: TOTAL COSTO DIRECTO | L63: =+L40+L47+L54+L61 -> 71511.905
A65: V. COSTOS INDIRECTOS
A67: DESCRIPCIÓN | I67: Porcentaje | J67: Valor Total
A68: ADMINISTRACIÓN | I68: 0.15 | J68: =+L63*I68 -> 10726.786
...

Sheet 2.1
I1: CÓDIGO | J1: MEPI-MN1-IN-10-FR-1
B2: INSTITUTO NACIONAL DE VIAS
B3: PROCESO MISIONAL EJECUCIÓN DE PROYECTOS DE INFRAESTRUCTURA DE TRANSPORTE | I3: VERSIÓN | J3: 1
B4: MANUAL DE INTERVENTORÍA OBRA PÚBLICA
B5: ANÁLISIS DE PRECIOS UNITARIOS | I5: PÁGINA
I8: FECHA
J9: (Día / Mes / Año)
A10: ÍTEMS DE LA PROPUESTA ECONÓMICA | H10: ÍTEMS NO PREVISTOS
A11: UNIDAD EJECUTORA: | H11: DIRECCIÓN TERRITORIAL:
A14: CONTRATO No.
B15: (Indicar número y año)
A17: OBJETO DEL CONTRATO:
A21: PROYECTO:
A23: CONTRATISTA:
A25: INTERVENTOR: | I25: Contrato No.:
J26: (Indicar número y año)
A27: FECHA CIERRE PROCESO DE SELECCIÓN CONTRATO DE OBRA:
F28: (Día) | G28: (Mes) | H28: (Año)
A30: DATOS ESPECÍFICOS
A32: ÍTEM | B32: DESCRIPCIÓN | I32: GRUPO DE AJUSTE | J32: UNIDAD | L32: CANTIDAD
A33: =+Presupuesto!B17 -> 2.1 | B33: =+Presupuesto!E17 -> Suministro e instalación de lamparas Led panel 60x60cm 48w(Incluye retiro lampara existente y cableado según corresponda). | J33: UND
A35: I. EQUIPO
A37: DESCRIPCIÓN | G37: TIPO | I37: TARIFA/HORA | J37: RENDIMIENTO | L37: Vr. UNITARIO
A38: Herramienta menor (10% del costo de la mano de obra) | L38: =+L61*10% -> 3700
A40: SUBTOTAL | L40: =SUM(L38:L39) -> 3700
A42: II. MATERIALES
A44: DESCRIPCIÓN | H44: UNIDAD | I44: CANTIDAD | J44: PRECIO UNIT. | L44: Vr. UNITARIO
A45: =+'Precios Cotizacion'!B5 -> Lampara Led panel 60x60cm 48w | H45: =+'Precios Cotizacion'!C5 -> UND | I45: 1 | J45: =+'Precios Cotizacion'!D5 -> 116900 | L45: =+I45*J45 -> 116900
L46: =+I46*J46 -> 0
A47: SUBTOTAL | L47: =SUM(L45:L46) -> 116900
A49: III. TRANSPORTES
A51: MATERIAL | F51: UNIDAD | G51: CANTIDAD (1) | H51: DISTANCIA (2) | I51: CANTIDAD * DISTANCIA (1) * (2) | J51: TARIFA | L51: Vr. UNITARIO
A54: SUBTOTAL | L54: =SUM(L52:L53) -> 0
A56: IV. MANO DE OBRA
A58: DESCRIPCIÓN | G58: JORNAL | H58: PRESTACIONES | I58: JORNAL TOTAL | J58: RENDIMIENTO | L58: Vr. UNITARIO
A59: 1 Tecnico electricista | G59: =+'Precios Cotizacion'!L6 -> 100000 | H59: 1.85 | I59: =+G59*H59 -> 185000 | J59: 5 | L59: =+I59/J59 -> 37000
A61: SUBTOTAL | L61: =SUM(L59:L60) -> 37000
A63: TOTAL COSTO DIRECTO | L63: =+L40+L47+L54+L61 -> 157600
A65: V. COSTOS INDIRECTOS
A67: DESCRIPCIÓN | I67: Porcentaje | J67: Valor Total
...

Sheet 2.3
I1: CÓDIGO | J1: MEPI-MN1-IN-10-FR-1
B2: INSTITUTO NACIONAL DE VIAS
B3: PROCESO MISIONAL EJECUCIÓN DE PROYECTOS DE INFRAESTRUCTURA DE TRANSPORTE | I3: VERSIÓN | J3: 1
B4: MANUAL DE INTERVENTORÍA OBRA PÚBLICA
B5: ANÁLISIS DE PRECIOS UNITARIOS | I5: PÁGINA
I8: FECHA
J9: (Día / Mes / Año)
A10: ÍTEMS DE LA PROPUESTA ECONÓMICA | H10: ÍTEMS NO PREVISTOS
A11: UNIDAD EJECUTORA: | H11: DIRECCIÓN TERRITORIAL:
A14: CONTRATO No.
B15: (Indicar número y año)
A17: OBJETO DEL CONTRATO:
A21: PROYECTO:
A23: CONTRATISTA:
A25: INTERVENTOR: | I25: Contrato No.:
J26: (Indicar número y año)
A27: FECHA CIERRE PROCESO DE SELECCIÓN CONTRATO DE OBRA:
F28: (Día) | G28: (Mes) | H28: (Año)
A30: DATOS ESPECÍFICOS
A32: ÍTEM | B32: DESCRIPCIÓN | I32: GRUPO DE AJUSTE | J32: UNIDAD | L32: CANTIDAD
A33: =+Presupuesto!B18 -> 2.2 | B33: =+Presupuesto!E18 -> Suministro Instalaciön de tapa ciega rectangular en pvc para cajas electricas. | J33: UND
A35: I. EQUIPO
A37: DESCRIPCIÓN | G37: TIPO | I37: TARIFA/HORA | J37: RENDIMIENTO | L37: Vr. UNITARIO
A38: Herramienta menor (10% del costo de la mano de obra) | L38: =+L61*10% -> 37
A40: SUBTOTAL | L40: =SUM(L38:L39) -> 37
A42: II. MATERIALES
A44: DESCRIPCIÓN | H44: UNIDAD | I44: CANTIDAD | J44: PRECIO UNIT. | L44: Vr. UNITARIO
A45: =+'Precios Cotizacion'!B6 -> Tapa Ciega 2x4 Plastica Rectangular | H45: =+'Precios Cotizacion'!C4 -> UND | I45: 1 | J45: =+'Precios Cotizacion'!D6 -> 2200 | L45: =+I45*J45 -> 2200
L46: =+I46*J46 -> 0
A47: SUBTOTAL | L47: =SUM(L45:L46) -> 2200
A49: III. TRANSPORTES
A51: MATERIAL | F51: UNIDAD | G51: CANTIDAD (1) | H51: DISTANCIA (2) | I51: CANTIDAD * DISTANCIA (1) * (2) | J51: TARIFA | L51: Vr. UNITARIO
A54: SUBTOTAL | L54: =SUM(L52:L53) -> 0
A56: IV. MANO DE OBRA
A58: DESCRIPCIÓN | G58: JORNAL | H58: PRESTACIONES | I58: JORNAL TOTAL | J58: RENDIMIENTO | L58: Vr. UNITARIO
A59: 1 Tecnico electricista | G59: =+'Precios Cotizacion'!L6 -> 100000 | H59: 1.85 | I59: =+G59*H59 -> 185000 | J59: 500 | L59: =+I59/J59 -> 370
A61: SUBTOTAL | L61: =SUM(L59:L60) -> 370
A63: TOTAL COSTO DIRECTO | L63: =+L40+L47+L54+L61 -> 2607
A65: V. COSTOS INDIRECTOS
A67: DESCRIPCIÓN | I67: Porcentaje | J67: Valor Total
...

Sheet 2.4
I1: CÓDIGO | J1: MEPI-MN1-IN-10-FR-1
B2: INSTITUTO NACIONAL DE VIAS
B3: PROCESO MISIONAL EJECUCIÓN DE PROYECTOS DE INFRAESTRUCTURA DE TRANSPORTE | I3: VERSIÓN | J3: 1
B4: MANUAL DE INTERVENTORÍA OBRA PÚBLICA
B5: ANÁLISIS DE PRECIOS UNITARIOS | I5: PÁGINA
I8: FECHA
J9: (Día / Mes / Año)
A10: ÍTEMS DE LA PROPUESTA ECONÓMICA | H10: ÍTEMS NO PREVISTOS
A11: UNIDAD EJECUTORA: | H11: DIRECCIÓN TERRITORIAL:
A14: CONTRATO No.
B15: (Indicar número y año)
A17: OBJETO DEL CONTRATO:
A21: PROYECTO:
A23: CONTRATISTA:
A25: INTERVENTOR: | I25: Contrato No.:
J26: (Indicar número y año)
A27: FECHA CIERRE PROCESO DE SELECCIÓN CONTRATO DE OBRA:
F28: (Día) | G28: (Mes) | H28: (Año)
A30: DATOS ESPECÍFICOS
A32: ÍTEM | B32: DESCRIPCIÓN | I32: GRUPO DE AJUSTE | J32: UNIDAD | L32: CANTIDAD
A33: =+Presupuesto!B19 -> 2.3 | B33: =+Presupuesto!E19 -> Suministro Instalaciön de tapa ciega en octogonal pvc para cajas electricas. | J33: UND
A35: I. EQUIPO
A37: DESCRIPCIÓN | G37: TIPO | I37: TARIFA/HORA | J37: RENDIMIENTO | L37: Vr. UNITARIO
A38: Herramienta menor (10% del costo de la mano de obra) | L38: =+L61*10% -> 37
A40: SUBTOTAL | L40: =SUM(L38:L39) -> 37
A42: II. MATERIALES
A44: DESCRIPCIÓN | H44: UNIDAD | I44: CANTIDAD | J44: PRECIO UNIT. | L44: Vr. UNITARIO
A45: =+'Precios Cotizacion'!B7 -> Tapa Ciega Plastica Octogonal | H45: =+'Precios Cotizacion'!C4 -> UND | I45: 1 | J45: =+'Precios Cotizacion'!D7 -> 2200 | L45: =+I45*J45 -> 2200
L46: =+I46*J46 -> 0
A47: SUBTOTAL | L47: =SUM(L45:L46) -> 2200
A49: III. TRANSPORTES
A51: MATERIAL | F51: UNIDAD | G51: CANTIDAD (1) | H51: DISTANCIA (2) | I51: CANTIDAD * DISTANCIA (1) * (2) | J51: TARIFA | L51: Vr. UNITARIO
A54: SUBTOTAL | L54: =SUM(L52:L53) -> 0
A56: IV. MANO DE OBRA
A58: DESCRIPCIÓN | G58: JORNAL | H58: PRESTACIONES | I58: JORNAL TOTAL | J58: RENDIMIENTO | L58: Vr. UNITARIO
A59: 1 Tecnico electricista | G59: =+'Precios Cotizacion'!L6 -> 100000 | H59: 1.85 | I59: =+G59*H59 -> 185000 | J59: 500 | L59: =+I59/J59 -> 370
A61: SUBTOTAL | L61: =SUM(L59:L60) -> 370
A63: TOTAL COSTO DIRECTO | L63: =+L40+L47+L54+L61 -> 2607
A65: V. COSTOS INDIRECTOS
A67: DESCRIPCIÓN | I67: Porcentaje | J67: Valor Total
...

Sheet 3.1
I1: CÓDIGO | J1: MEPI-MN1-IN-10-FR-1
B2: INSTITUTO NACIONAL DE VIAS
B3: PROCESO MISIONAL EJECUCIÓN DE PROYECTOS DE INFRAESTRUCTURA DE TRANSPORTE | I3: VERSIÓN | J3: 1
B4: MANUAL DE INTERVENTORÍA OBRA PÚBLICA
B5: ANÁLISIS DE PRECIOS UNITARIOS | I5: PÁGINA
I8: FECHA
J9: (Día / Mes / Año)
A10: ÍTEMS DE LA PROPUESTA ECONÓMICA | H10: ÍTEMS NO PREVISTOS
A11: UNIDAD EJECUTORA: | H11: DIRECCIÓN TERRITORIAL:
A14: CONTRATO No.
B15: (Indicar número y año)
A17: OBJETO DEL CONTRATO:
A21: PROYECTO:
A23: CONTRATISTA:
A25: INTERVENTOR: | I25: Contrato No.:
J26: (Indicar número y año)
A27: FECHA CIERRE PROCESO DE SELECCIÓN CONTRATO DE OBRA:
F28: (Día) | G28: (Mes) | H28: (Año)
A30: DATOS ESPECÍFICOS
A32: ÍTEM | B32: DESCRIPCIÓN | I32: GRUPO DE AJUSTE | J32: UNIDAD | L32: CANTIDAD
A33: =+Presupuesto!B21 -> 3.1 | B33: =+Presupuesto!E21 -> Limpieza de la cubierta (retiro de hojas de árboles) | J33: M2 | L33: =+Presupuesto!G21 -> 570
A35: I. EQUIPO
A37: DESCRIPCIÓN | G37: TIPO | I37: TARIFA/HORA | J37: RENDIMIENTO | L37: Vr. UNITARIO
A38: Herramienta menor (20% del costo de la mano de obra) | L38: =+L61*20% -> 393.00073
A40: SUBTOTAL | L40: =SUM(L38:L39) -> 393.00073
A42: II. MATERIALES
A44: DESCRIPCIÓN | H44: UNIDAD | I44: CANTIDAD | J44: PRECIO UNIT. | L44: Vr. UNITARIO
L45: =+I45*J45 -> 0
L46: =+I46*J46 -> 0
A47: SUBTOTAL | L47: =SUM(L45:L46) -> 0
A49: III. TRANSPORTES
A51: MATERIAL | F51: UNIDAD | G51: CANTIDAD (1) | H51: DISTANCIA (2) | I51: CANTIDAD * DISTANCIA (1) * (2) | J51: TARIFA | L51: Vr. UNITARIO
A54: SUBTOTAL | L54: =SUM(L52:L53) -> 0
A56: IV. MANO DE OBRA
A58: DESCRIPCIÓN | G58: JORNAL | H58: PRESTACIONES | I58: JORNAL TOTAL | J58: RENDIMIENTO | L58: Vr. UNITARIO
A60: 1 Ayudante | G60: =+'Precios Cotizacion'!L4 -> 58363.5 | H60: 1.85 | I60: =+G60*H60 -> 107972.48 | J60: 54.947722 | L60: =+I60/J60 -> 1965.0037
A61: SUBTOTAL | L61: =SUM(L59:L60) -> 1965.0037
A63: TOTAL COSTO DIRECTO | L63: =+L40+L47+L54+L61 -> 2358.0044
A65: V. COSTOS INDIRECTOS
A67: DESCRIPCIÓN | I67: Porcentaje | J67: Valor Total
...

Sheet 3.2
I1: CÓDIGO | J1: MEPI-MN1-IN-10-FR-1
B2: INSTITUTO NACIONAL DE VIAS
B3: PROCESO MISIONAL EJECUCIÓN DE PROYECTOS DE INFRAESTRUCTURA DE TRANSPORTE | I3: VERSIÓN | J3: 1
B4: MANUAL DE INTERVENTORÍA OBRA PÚBLICA
B5: ANÁLISIS DE PRECIOS UNITARIOS | I5: PÁGINA
I8: FECHA
J9: (Día / Mes / Año)
A10: ÍTEMS DE LA PROPUESTA ECONÓMICA | H10: ÍTEMS NO PREVISTOS
A11: UNIDAD EJECUTORA: | H11: DIRECCIÓN TERRITORIAL:
A14: CONTRATO No.
B15: (Indicar número y año)
A17: OBJETO DEL CONTRATO:
A21: PROYECTO:
A23: CONTRATISTA:
A25: INTERVENTOR: | I25: Contrato No.:
J26: (Indicar número y año)
A27: FECHA CIERRE PROCESO DE SELECCIÓN CONTRATO DE OBRA:
F28: (Día) | G28: (Mes) | H28: (Año)
A30: DATOS ESPECÍFICOS
A32: ÍTEM | B32: DESCRIPCIÓN | I32: GRUPO DE AJUSTE | J32: UNIDAD | L32: CANTIDAD
A33: =+Presupuesto!B22 -> 3.2 | B33: =+Presupuesto!E22 -> Limpieza viga canal | J33: M | L33: =+Presupuesto!G22 -> 37.5
A35: I. EQUIPO
A37: DESCRIPCIÓN | G37: TIPO | I37: TARIFA/HORA | J37: RENDIMIENTO | L37: Vr. UNITARIO
A38: Herramienta menor (20% del costo de la mano de obra) | L38: =+L61*20% -> 609.81786
A40: SUBTOTAL | L40: =SUM(L38:L39) -> 609.81786
A42: II. MATERIALES
A44: DESCRIPCIÓN | H44: UNIDAD | I44: CANTIDAD | J44: PRECIO UNIT. | L44: Vr. UNITARIO
L45: =+I45*J45 -> 0
L46: =+I46*J46 -> 0
A47: SUBTOTAL | L47: =SUM(L45:L46) -> 0
A49: III. TRANSPORTES
A51: MATERIAL | F51: UNIDAD | G51: CANTIDAD (1) | H51: DISTANCIA (2) | I51: CANTIDAD * DISTANCIA (1) * (2) | J51: TARIFA | L51: Vr. UNITARIO
A54: SUBTOTAL | L54: =SUM(L52:L53) -> 0
A56: IV. MANO DE OBRA
A58: DESCRIPCIÓN | G58: JORNAL | H58: PRESTACIONES | I58: JORNAL TOTAL | J58: RENDIMIENTO | L58: Vr. UNITARIO
A60: 1 Ayudante | G60: =+'Precios Cotizacion'!L4 -> 58363.5 | H60: 1.85 | I60: =+G60*H60 -> 107972.48 | J60: 35.411385 | L60: =+I60/J60 -> 3049.0893
A61: SUBTOTAL | L61: =SUM(L59:L60) -> 3049.0893
A63: TOTAL COSTO DIRECTO | L63: =+L40+L47+L54+L61 -> 3658.9071
A65: V. COSTOS INDIRECTOS
A67: DESCRIPCIÓN | I67: Porcentaje | J67: Valor Total
...

Sheet 3.3
I1: CÓDIGO | J1: MEPI-MN1-IN-10-FR-1
B2: INSTITUTO NACIONAL DE VIAS
B3: PROCESO MISIONAL EJECUCIÓN DE PROYECTOS DE INFRAESTRUCTURA DE TRANSPORTE | I3: VERSIÓN | J3: 1
B4: MANUAL DE INTERVENTORÍA OBRA PÚBLICA
B5: ANÁLISIS DE PRECIOS UNITARIOS | I5: PÁGINA
I8: FECHA
J9: (Día / Mes / Año)
A10: ÍTEMS DE LA PROPUESTA ECONÓMICA | H10: ÍTEMS NO PREVISTOS
A11: UNIDAD EJECUTORA: | H11: DIRECCIÓN TERRITORIAL:
A14: CONTRATO No.
B15: (Indicar número y año)
A17: OBJETO DEL CONTRATO:
A21: PROYECTO:
A23: CONTRATISTA:
A25: INTERVENTOR: | I25: Contrato No.:
J26: (Indicar número y año)
A27: FECHA CIERRE PROCESO DE SELECCIÓN CONTRATO DE OBRA:
F28: (Día) | G28: (Mes) | H28: (Año)
A30: DATOS ESPECÍFICOS
A32: ÍTEM | B32: DESCRIPCIÓN | I32: GRUPO DE AJUSTE | J32: UNIDAD | L32: CANTIDAD
A33: =+Presupuesto!B23 -> 3.3 | B33: =+Presupuesto!E23 -> Limpieza de bajantes para aguas lluvias | J33: UND | L33: =+Presupuesto!G23 -> 10
A35: I. EQUIPO
A37: DESCRIPCIÓN | G37: TIPO | I37: TARIFA/HORA | J37: RENDIMIENTO | L37: Vr. UNITARIO
A38: Herramienta menor (20% del costo de la mano de obra) | L38: =+L61*20% -> 4460.4662
A40: SUBTOTAL | L40: =SUM(L38:L39) -> 4460.4662
A42: II. MATERIALES
A44: DESCRIPCIÓN | H44: UNIDAD | I44: CANTIDAD | J44: PRECIO UNIT. | L44: Vr. UNITARIO
H45: Und | L45: =+I45*J45 -> 0
L46: =+I46*J46 -> 0
A47: SUBTOTAL | L47: =SUM(L45:L46) -> 0
A49: III. TRANSPORTES
A51: MATERIAL | F51: UNIDAD | G51: CANTIDAD (1) | H51: DISTANCIA (2) | I51: CANTIDAD * DISTANCIA (1) * (2) | J51: TARIFA | L51: Vr. UNITARIO
A54: SUBTOTAL | L54: =SUM(L52:L53) -> 0
A56: IV. MANO DE OBRA
A58: DESCRIPCIÓN | G58: JORNAL | H58: PRESTACIONES | I58: JORNAL TOTAL | J58: RENDIMIENTO | L58: Vr. UNITARIO
A60: 1 Ayudante | G60: =+'Precios Cotizacion'!L4 -> 58363.5 | H60: 1.85 | I60: =+G60*H60 -> 107972.48 | J60: 4.8413089 | L60: =+I60/J60 -> 22302.331
A61: SUBTOTAL | L61: =SUM(L59:L60) -> 22302.331
A63: TOTAL COSTO DIRECTO | L63: =+L40+L47+L54+L61 -> 26762.797
A65: V. COSTOS INDIRECTOS
A67: DESCRIPCIÓN | I67: Porcentaje | J67: Valor Total
...

Sheet 3.4
I1: CÓDIGO | J1: MEPI-MN1-IN-10-FR-1
B2: INSTITUTO NACIONAL DE VIAS
B3: PROCESO MISIONAL EJECUCIÓN DE PROYECTOS DE INFRAESTRUCTURA DE TRANSPORTE | I3: VERSIÓN | J3: 1
B4: MANUAL DE INTERVENTORÍA OBRA PÚBLICA
B5: ANÁLISIS DE PRECIOS UNITARIOS | I5: PÁGINA
I8: FECHA
J9: (Día / Mes / Año)
A10: ÍTEMS DE LA PROPUESTA ECONÓMICA | H10: ÍTEMS NO PREVISTOS
A11: UNIDAD EJECUTORA: | H11: DIRECCIÓN TERRITORIAL:
A14: CONTRATO No.
B15: (Indicar número y año)
A17: OBJETO DEL CONTRATO:
A21: PROYECTO:
A23: CONTRATISTA:
A25: INTERVENTOR: | I25: Contrato No.:
J26: (Indicar número y año)
A27: FECHA CIERRE PROCESO DE SELECCIÓN CONTRATO DE OBRA:
F28: (Día) | G28: (Mes) | H28: (Año)
A30: DATOS ESPECÍFICOS
A32: ÍTEM | B32: DESCRIPCIÓN | I32: GRUPO DE AJUSTE | J32: UNIDAD | L32: CANTIDAD
B33: Estructura retención hojarasca con marco en angulo de 1" x 1" x 1/8" y malla zaranda de 6*6 (incluye fabricación, pintura y montaje y la impermeabilización de la viga canal) | J33: m | L33: 55
A35: I. EQUIPO
A37: DESCRIPCIÓN | G37: TIPO | I37: TARIFA/HORA | J37: RENDIMIENTO | L37: Vr. UNITARIO
A38: Herramienta menor (10% del costo de la mano de obra) | L38: =+L73*10% -> 3016.24
A39: Equipo de soldadura | I39: 11000 | J39: 10 | L39: =+I39/J39 -> 1100
A41: SUBTOTAL | L41: =SUM(L38:L40) -> 4116.24
A43: II. MATERIALES
A45: DESCRIPCIÓN | H45: UNIDAD | I45: CANTIDAD | J45: PRECIO UNIT. | L45: Vr. UNITARIO
A46: Angulo metálico de 1" x 1" x 1/8" | H46: m | I46: =7.1*1.1*50% -> 3.905 | J46: 5650 | L46: =+I46*J46 -> 22063.25 | M46: 0.89 | N46: =+M46*I46 -> 3.47545
A47: Anclaje Metalico Cuña 3/8" X 4-1/2" | H47: Und | I47: =3*50% -> 1.5 | J47: 2036 | L47: =+I47*J47 -> 3054
A48: Malla Zaranda 6 x 6 | H48: m2 | I48: =1.1*1.1*50% -> 0.605 | J48: 9367 | L48: =+I48*J48 -> 5667.035
A49: Platina metálica de 3/4" x 3/16" | H49: m | I49: =10.2*1.1*50% -> 5.61 | J49: 3534 | L49: =+I49*J49 -> 19825.74 | M49: 0.48 | N49: =+M49*I49 -> 2.6928
A50: Platina metálica de 2" x 1/8" | H50: m | I50: =0.1*50% -> 0.05 | J50: 6983 | L50: =+I50*J50 -> 349.15
A51: Soldadura | H51: Kg | I51: =+N51*3%*50% -> 0.05213175 | J51: 29900 | L51: =+I51*J51 -> 1558.7393 | N51: =+N46+N92 -> 3.47545
A52: Pintura imprimante anticorrosiva | H52: Galon | I52: =(1.54/17.5)*50% -> 0.044 | J52: 139900 | L52: =+I52*J52 -> 6155.6
A53: Pintura esmalte tipo I | H53: =+H52 -> Galon | I53: =(1.54/20)*50% -> 0.0385 | J53: 122900 | L53: =+I53*J53 -> 4731.65
A54: Sikafill-12 Power Gris o similar | H54: Galon | I54: 0.167 | J54: 95180 | L54: =+I54*J54 -> 15895.06
A55: Tela poliéster 30 gramos/m2 | H55: m2 | I55: =0.5*2 -> 1 | J55: 2590 | L55: =+I55*J55 -> 2590
A56: Alumol | H56: Galón | I56: 0.060836 | J56: 76125 | L56: =+I56*J56 -> 4631.1405
A58: SUBTOTAL | L58: =SUM(L46:L57) -> 86521.365
...

Sheet 3.5
I1: CÓDIGO | J1: MEPI-MN1-IN-10-FR-1
B2: INSTITUTO NACIONAL DE VIAS
B3: PROCESO MISIONAL EJECUCIÓN DE PROYECTOS DE INFRAESTRUCTURA DE TRANSPORTE | I3: VERSIÓN | J3: 1
B4: MANUAL DE INTERVENTORÍA OBRA PÚBLICA
B5: ANÁLISIS DE PRECIOS UNITARIOS | I5: PÁGINA
I8: FECHA
J9: (Día / Mes / Año)
A10: ÍTEMS DE LA PROPUESTA ECONÓMICA | H10: ÍTEMS NO PREVISTOS
A11: UNIDAD EJECUTORA: | H11: DIRECCIÓN TERRITORIAL:
A14: CONTRATO No.
B15: (Indicar número y año)
A17: OBJETO DEL CONTRATO:
A21: PROYECTO:
A23: CONTRATISTA:
A25: INTERVENTOR: | I25: Contrato No.:
J26: (Indicar número y año)
A27: FECHA CIERRE PROCESO DE SELECCIÓN CONTRATO DE OBRA:
F28: (Día) | G28: (Mes) | H28: (Año)
A30: DATOS ESPECÍFICOS
A32: ÍTEM | B32: DESCRIPCIÓN | I32: GRUPO DE AJUSTE | J32: UNIDAD | L32: CANTIDAD
A33: =+Presupuesto!B25 -> 3.5 | B33: =+Presupuesto!E25 -> Suministro e instalación de desagües en viga canal tipo gargola 40cmx50cmx15cm. En lámina Cold Rolled cal. 16 - incluye pintura | J33: UND
A35: I. EQUIPO
A37: DESCRIPCIÓN | G37: TIPO | I37: TARIFA/HORA | J37: RENDIMIENTO | L37: Vr. UNITARIO
A38: Herramienta menor (10% del costo de la mano de obra) | L38: =+L65*10% -> 754.06
A40: SUBTOTAL | L40: =SUM(L38:L39) -> 754.06
A42: II. MATERIALES
A44: DESCRIPCIÓN | H44: UNIDAD | I44: CANTIDAD | J44: PRECIO UNIT. | L44: Vr. UNITARIO
A45: =+'Precios Cotizacion'!B15 -> Gargola 40cmx50cmx15cm. En lámina Cold Rolled cal. 16 - incluye pintura | H45: =+'Precios Cotizacion'!C15 -> UND | I45: 1 | J45: =+'Precios Cotizacion'!D15 -> 111000 | L45: =+I45*J45 -> 111000
A46: =+'Precios Cotizacion'!B9 -> Anclaje Metalico Cuña 5/8" X 4-1/2" | H46: =+'Precios Cotizacion'!C9 -> UND | I46: 4 | J46: =+'Precios Cotizacion'!D9 -> 7590 | L46: =+I46*J46 -> 30360
A47: =+'Precios Cotizacion'!B16 -> Sellante Poliuretano (Cartucho) | H47: =+'Precios Cotizacion'!C16 -> UND | I47: 0.2 | J47: =+'Precios Cotizacion'!D16 -> 41900 | L47: =+I47*J47 -> 8380
A51: SUBTOTAL | L51: =SUM(L45:L50) -> 149740
A53: III. TRANSPORTES
A55: MATERIAL | F55: UNIDAD | G55: CANTIDAD (1) | H55: DISTANCIA (2) | I55: CANTIDAD * DISTANCIA (1) * (2) | J55: TARIFA | L55: Vr. UNITARIO
A58: SUBTOTAL | L58: =SUM(L56:L57) -> 0
A60: IV. MANO DE OBRA
A62: DESCRIPCIÓN | G62: JORNAL | H62: PRESTACIONES | I62: JORNAL TOTAL | J62: RENDIMIENTO | L62: Vr. UNITARIO
A63: 1 Oficial (apertura perforaciones para pernos y actividades de impermeabilización) | G63: =+'Precios Cotizacion'!L5 -> 81520 | H63: 1.85 | I63: =+G63*H63 -> 150812 | J63: 20 | L63: =+I63/J63 -> 7540.6
A65: SUBTOTAL | L65: =SUM(L63:L64) -> 7540.6
A67: TOTAL COSTO DIRECTO | L67: =+L40+L51+L58+L65 -> 158034.66
A69: V. COSTOS INDIRECTOS
...

Sheet 4.1
I1: CÓDIGO | J1: MEPI-MN1-IN-10-FR-1
B2: INSTITUTO NACIONAL DE VIAS
B3: PROCESO MISIONAL EJECUCIÓN DE PROYECTOS DE INFRAESTRUCTURA DE TRANSPORTE | I3: VERSIÓN | J3: 1
B4: MANUAL DE INTERVENTORÍA OBRA PÚBLICA
B5: ANÁLISIS DE PRECIOS UNITARIOS | I5: PÁGINA
I8: FECHA
J9: (Día / Mes / Año)
A10: ÍTEMS DE LA PROPUESTA ECONÓMICA | H10: ÍTEMS NO PREVISTOS
A11: UNIDAD EJECUTORA: | H11: DIRECCIÓN TERRITORIAL:
A14: CONTRATO No.
B15: (Indicar número y año)
A17: OBJETO DEL CONTRATO:
A21: PROYECTO:
A23: CONTRATISTA:
A25: INTERVENTOR: | I25: Contrato No.:
J26: (Indicar número y año)
A27: FECHA CIERRE PROCESO DE SELECCIÓN CONTRATO DE OBRA:
F28: (Día) | G28: (Mes) | H28: (Año)
A30: DATOS ESPECÍFICOS
A32: ÍTEM | B32: DESCRIPCIÓN | I32: GRUPO DE AJUSTE | J32: UNIDAD | L32: CANTIDAD
A33: =+Presupuesto!B27 -> 4.1 | B33: =+Presupuesto!E27 -> Estuco Tipo Graniplast Blanco Esgrafiado Antihongos | J33: M2
A35: I. EQUIPO
A37: DESCRIPCIÓN | G37: TIPO | I37: TARIFA/HORA | J37: RENDIMIENTO | L37: Vr. UNITARIO
A38: Herramienta menor (10% del costo de la mano de obra) | L38: =+L62*10% -> 862.61492
A39: =+'Precios Cotizacion'!F4 -> Andamio Tubular Fijo Seccion Incluye Crucetas | I39: =+'Precios Cotizacion'!H4 -> 1850 | J39: 0.5 | L39: =+I39*J39 -> 925
A41: SUBTOTAL | L41: =SUM(L38:L40) -> 1787.6149
A43: II. MATERIALES
A45: DESCRIPCIÓN | H45: UNIDAD | I45: CANTIDAD | J45: PRECIO UNIT. | L45: Vr. UNITARIO
A46: =+'Precios Cotizacion'!B17 -> Estuco plastico para exteriores | H46: =+'Precios Cotizacion'!C17 -> GALON | I46: =1/4.5 -> 0.22222222 | J46: =+'Precios Cotizacion'!D17 -> 31717.539 | L46: =+I46*J46 -> 7048.3419
A48: SUBTOTAL | L48: =SUM(L46:L47) -> 7048.3419
A50: III. TRANSPORTES
A52: MATERIAL | F52: UNIDAD | G52: CANTIDAD (1) | H52: DISTANCIA (2) | I52: CANTIDAD * DISTANCIA (1) * (2) | J52: TARIFA | L52: Vr. UNITARIO
A55: SUBTOTAL | L55: =SUM(L53:L54) -> 0
A57: IV. MANO DE OBRA
A59: DESCRIPCIÓN | G59: JORNAL | H59: PRESTACIONES | I59: JORNAL TOTAL | J59: RENDIMIENTO | L59: Vr. UNITARIO
A60: 1 Ayudante | G60: =+'Precios Cotizacion'!L4 -> 58363.5 | H60: 1.85 | I60: =+G60*H60 -> 107972.48 | J60: 30 | L60: =+I60/J60 -> 3599.0825
A61: 1 Oficial | G61: =+'Precios Cotizacion'!L5 -> 81520 | H61: 1.85 | I61: =+G61*H61 -> 150812 | J61: 30 | L61: =+I61/J61 -> 5027.0667
A62: SUBTOTAL | L62: =SUM(L60:L61) -> 8626.1492
A64: TOTAL COSTO DIRECTO | L64: =+L41+L48+L55+L62 -> 17462.106
A66: V. COSTOS INDIRECTOS
...

Sheet 4.2
I1: CÓDIGO | J1: MEPI-MN1-IN-10-FR-1
B2: INSTITUTO NACIONAL DE VIAS
B3: PROCESO MISIONAL EJECUCIÓN DE PROYECTOS DE INFRAESTRUCTURA DE TRANSPORTE | I3: VERSIÓN | J3: 1
B4: MANUAL DE INTERVENTORÍA OBRA PÚBLICA
B5: ANÁLISIS DE PRECIOS UNITARIOS | I5: PÁGINA
I8: FECHA
J9: (Día / Mes / Año)
A10: ÍTEMS DE LA PROPUESTA ECONÓMICA | H10: ÍTEMS NO PREVISTOS
A11: UNIDAD EJECUTORA: | H11: DIRECCIÓN TERRITORIAL:
A14: CONTRATO No.
B15: (Indicar número y año)
A17: OBJETO DEL CONTRATO:
A21: PROYECTO:
A23: CONTRATISTA:
A25: INTERVENTOR: | I25: Contrato No.:
J26: (Indicar número y año)
A27: FECHA CIERRE PROCESO DE SELECCIÓN CONTRATO DE OBRA:
F28: (Día) | G28: (Mes) | H28: (Año)
A30: DATOS ESPECÍFICOS
A32: ÍTEM | B32: DESCRIPCIÓN | I32: GRUPO DE AJUSTE | J32: UNIDAD | L32: CANTIDAD
A33: =+Presupuesto!B28 -> 4.2 | B33: =+Presupuesto!E28 -> Pintura muros interiores en vinilo tipo 1 (2 manos) - sobre pintura existente del mismo color | J33: M2
A35: I. EQUIPO
A37: DESCRIPCIÓN | G37: TIPO | I37: TARIFA/HORA | J37: RENDIMIENTO | L37: Vr. UNITARIO
A38: Herramienta menor (30% del costo de la mano de obra) | L38: =+L61*30% -> 1940.8836
A40: SUBTOTAL | L40: =SUM(L38:L39) -> 1940.8836
A42: II. MATERIALES
A44: DESCRIPCIÓN | H44: UNIDAD | I44: CANTIDAD | J44: PRECIO UNIT. | L44: Vr. UNITARIO
A45: =+'Precios Cotizacion'!B18 -> Pintura para interiores vinilo tipo 1 | H45: =+'Precios Cotizacion'!C18 -> GALON | I45: =1/20 -> 0.05 | J45: =+'Precios Cotizacion'!D18 -> 78750 | L45: =+I45*J45 -> 3937.5
A47: SUBTOTAL | L47: =SUM(L45:L46) -> 3937.5
A49: III. TRANSPORTES
A51: MATERIAL | F51: UNIDAD | G51: CANTIDAD (1) | H51: DISTANCIA (2) | I51: CANTIDAD * DISTANCIA (1) * (2) | J51: TARIFA | L51: Vr. UNITARIO
A54: SUBTOTAL | L54: =SUM(L52:L53) -> 0
A56: IV. MANO DE OBRA
A58: DESCRIPCIÓN | G58: JORNAL | H58: PRESTACIONES | I58: JORNAL TOTAL | J58: RENDIMIENTO | L58: Vr. UNITARIO
A59: 1 Ayudante | G59: =+'Precios Cotizacion'!L4 -> 58363.5 | H59: 1.85 | I59: =+G59*H59 -> 107972.48 | J59: 40 | L59: =+I59/J59 -> 2699.3119
A60: 1 Oficial | G60: =+'Precios Cotizacion'!L5 -> 81520 | H60: 1.85 | I60: =+G60*H60 -> 150812 | J60: 40 | L60: =+I60/J60 -> 3770.3
A61: SUBTOTAL | L61: =SUM(L59:L60) -> 6469.6119
A63: TOTAL COSTO DIRECTO | L63: =+L40+L47+L54+L61 -> 12347.995
A65: V. COSTOS INDIRECTOS
A67: DESCRIPCIÓN | I67: Porcentaje | J67: Valor Total
...

Sheet 4.3
I1: CÓDIGO | J1: MEPI-MN1-IN-10-FR-1
B2: INSTITUTO NACIONAL DE VIAS
B3: PROCESO MISIONAL EJECUCIÓN DE PROYECTOS DE INFRAESTRUCTURA DE TRANSPORTE | I3: VERSIÓN | J3: 1
B4: MANUAL DE INTERVENTORÍA OBRA PÚBLICA
B5: ANÁLISIS DE PRECIOS UNITARIOS | I5: PÁGINA
I8: FECHA
J9: (Día / Mes / Año)
A10: ÍTEMS DE LA PROPUESTA ECONÓMICA | H10: ÍTEMS NO PREVISTOS
A11: UNIDAD EJECUTORA: | H11: DIRECCIÓN TERRITORIAL:
A14: CONTRATO No.
B15: (Indicar número y año)
A17: OBJETO DEL CONTRATO:
A21: PROYECTO:
A23: CONTRATISTA:
A25: INTERVENTOR: | I25: Contrato No.:
J26: (Indicar número y año)
A27: FECHA CIERRE PROCESO DE SELECCIÓN CONTRATO DE OBRA:
F28: (Día) | G28: (Mes) | H28: (Año)
A30: DATOS ESPECÍFICOS
A32: ÍTEM | B32: DESCRIPCIÓN | I32: GRUPO DE AJUSTE | J32: UNIDAD | L32: CANTIDAD
A33: =+Presupuesto!B29 -> 4.3 | B33: =+Presupuesto!E29 -> Preparacion superficie muros a pintar, mediante el retiro de pintura y estuco deteriorados y ejecución de resanes | J33: M2
A35: I. EQUIPO
A37: DESCRIPCIÓN | G37: TIPO | I37: TARIFA/HORA | J37: RENDIMIENTO | L37: Vr. UNITARIO
A38: Herramienta menor (10% del costo de la mano de obra) | L38: =+L61*10% -> 1293.9224
A40: SUBTOTAL | L40: =SUM(L38:L39) -> 1293.9224
A42: II. MATERIALES
A44: DESCRIPCIÓN | H44: UNIDAD | I44: CANTIDAD | J44: PRECIO UNIT. | L44: Vr. UNITARIO
A45: =+'Precios Cotizacion'!B19 -> Estuco plastico para interiores | H45: =+'Precios Cotizacion'!C19 -> GALON | I45: 0.17 | J45: =+'Precios Cotizacion'!D19 -> 24900 | L45: =+I45*J45 -> 4233
L46: =+I46*J46 -> 0
A47: SUBTOTAL | L47: =SUM(L45:L46) -> 4233
A49: III. TRANSPORTES
A51: MATERIAL | F51: UNIDAD | G51: CANTIDAD (1) | H51: DISTANCIA (2) | I51: CANTIDAD * DISTANCIA (1) * (2) | J51: TARIFA | L51: Vr. UNITARIO
A54: SUBTOTAL | L54: =SUM(L52:L53) -> 0
A56: IV. MANO DE OBRA
A58: DESCRIPCIÓN | G58: JORNAL | H58: PRESTACIONES | I58: JORNAL TOTAL | J58: RENDIMIENTO | L58: Vr. UNITARIO
A59: 1 Ayudante | G59: =+'Precios Cotizacion'!L4 -> 58363.5 | H59: 1.85 | I59: =+G59*H59 -> 107972.48 | J59: 20 | L59: =+I59/J59 -> 5398.6238
A60: 1 Oficial | G60: =+'Precios Cotizacion'!L5 -> 81520 | H60: 1.85 | I60: =+G60*H60 -> 150812 | J60: 20 | L60: =+I60/J60 -> 7540.6
A61: SUBTOTAL | L61: =SUM(L59:L60) -> 12939.224
A63: TOTAL COSTO DIRECTO | L63: =+L40+L47+L54+L61 -> 18466.146
A65: V. COSTOS INDIRECTOS
...

Sheet 4.4
I1: CÓDIGO | J1: MEPI-MN1-IN-10-FR-1
B2: INSTITUTO NACIONAL DE VIAS
B3: PROCESO MISIONAL EJECUCIÓN DE PROYECTOS DE INFRAESTRUCTURA DE TRANSPORTE | I3: VERSIÓN | J3: 1
B4: MANUAL DE INTERVENTORÍA OBRA PÚBLICA
B5: ANÁLISIS DE PRECIOS UNITARIOS | I5: PÁGINA
I8: FECHA
J9: (Día / Mes / Año)
A10: ÍTEMS DE LA PROPUESTA ECONÓMICA | H10: ÍTEMS NO PREVISTOS
A11: UNIDAD EJECUTORA: | H11: DIRECCIÓN TERRITORIAL:
A14: CONTRATO No.
B15: (Indicar número y año)
A17: OBJETO DEL CONTRATO:
A21: PROYECTO:
A23: CONTRATISTA:
A25: INTERVENTOR: | I25: Contrato No.:
J26: (Indicar número y año)
A27: FECHA CIERRE PROCESO DE SELECCIÓN CONTRATO DE OBRA:
F28: (Día) | G28: (Mes) | H28: (Año)
A30: DATOS ESPECÍFICOS
A32: ÍTEM | B32: DESCRIPCIÓN | I32: GRUPO DE AJUSTE | J32: UNIDAD | L32: CANTIDAD
A33: =+Presupuesto!B30 -> 4.4 | B33: =+Presupuesto!E30 -> Pintura muros exteriores en koraza tipo 1 (2 manos) - sobre pintura existente del mismo color | J33: m2
A35: I. EQUIPO
A37: DESCRIPCIÓN | G37: TIPO | I37: TARIFA/HORA | J37: RENDIMIENTO | L37: Vr. UNITARIO
A38: Herramienta menor (30% del costo de la mano de obra) | L38: =+L61*30% -> 1940.8836
A39: =+'Precios Cotizacion'!F4 -> Andamio Tubular Fijo Seccion Incluye Crucetas | I39: =+'Precios Cotizacion'!H4 -> 1850 | J39: 0.5 | L39: =+I39*J39 -> 925
A40: SUBTOTAL | L40: =SUM(L38:L39) -> 2865.8836
A42: II. MATERIALES
A44: DESCRIPCIÓN | H44: UNIDAD | I44: CANTIDAD | J44: PRECIO UNIT. | L44: Vr. UNITARIO
A45: =+'Precios Cotizacion'!B20 -> Pintura para exteriores vinilo tipo 1 | H45: Galon | I45: =1/18 -> 0.055555556 | J45: =+'Precios Cotizacion'!D20 -> 107900 | L45: =+I45*J45 -> 5994.4444
A47: SUBTOTAL | L47: =SUM(L45:L46) -> 5994.4444
A49: III. TRANSPORTES
A51: MATERIAL | F51: UNIDAD | G51: CANTIDAD (1) | H51: DISTANCIA (2) | I51: CANTIDAD * DISTANCIA (1) * (2) | J51: TARIFA | L51: Vr. UNITARIO
A54: SUBTOTAL | L54: =SUM(L52:L53) -> 0
A56: IV. MANO DE OBRA
A58: DESCRIPCIÓN | G58: JORNAL | H58: PRESTACIONES | I58: JORNAL TOTAL | J58: RENDIMIENTO | L58: Vr. UNITARIO
A59: 1 Ayudante | G59: =+'Precios Cotizacion'!L4 -> 58363.5 | H59: 1.85 | I59: =+G59*H59 -> 107972.48 | J59: 40 | L59: =+I59/J59 -> 2699.3119
A60: 1 Oficial | G60: =+'Precios Cotizacion'!L5 -> 81520 | H60: 1.85 | I60: =+G60*H60 -> 150812 | J60: 40 | L60: =+I60/J60 -> 3770.3
A61: SUBTOTAL | L61: =SUM(L59:L60) -> 6469.6119
A63: TOTAL COSTO DIRECTO | L63: =+L40+L47+L54+L61 -> 15329.94
A65: V. COSTOS INDIRECTOS
...

Sheet 4.5
I1: CÓDIGO | J1: MEPI-MN1-IN-10-FR-1
B2: INSTITUTO NACIONAL DE VIAS
B3: PROCESO MISIONAL EJECUCIÓN DE PROYECTOS DE INFRAESTRUCTURA DE TRANSPORTE | I3: VERSIÓN | J3: 1
B4: MANUAL DE INTERVENTORÍA OBRA PÚBLICA
B5: ANÁLISIS DE PRECIOS UNITARIOS | I5: PÁGINA
I8: FECHA
J9: (Día / Mes / Año)
A10: ÍTEMS DE LA PROPUESTA ECONÓMICA | H10: ÍTEMS NO PREVISTOS
A11: UNIDAD EJECUTORA: | H11: DIRECCIÓN TERRITORIAL:
A14: CONTRATO No.
B15: (Indicar número y año)
A17: OBJETO DEL CONTRATO:
A21: PROYECTO:
A23: CONTRATISTA:
A25: INTERVENTOR: | I25: Contrato No.:
J26: (Indicar número y año)
A27: FECHA CIERRE PROCESO DE SELECCIÓN CONTRATO DE OBRA:
F28: (Día) | G28: (Mes) | H28: (Año)
A30: DATOS ESPECÍFICOS
A32: ÍTEM | B32: DESCRIPCIÓN | I32: GRUPO DE AJUSTE | J32: UNIDAD | L32: CANTIDAD
A33: =+Presupuesto!B31 -> 4.5 | B33: =+Presupuesto!E31 -> Pintura cielo raso en mandera con tintilla y laca (maderta machihembrada) | J33: M2
A35: I. EQUIPO
A37: DESCRIPCIÓN | G37: TIPO | I37: TARIFA/HORA | J37: RENDIMIENTO | L37: Vr. UNITARIO
A38: Herramienta menor (5% del costo de la mano de obra) | L38: =+L61*5% -> 889.52269
A40: SUBTOTAL | L40: =SUM(L38:L39) -> 889.52269
A42: II. MATERIALES
A44: DESCRIPCIÓN | H44: UNIDAD | I44: CANTIDAD | J44: PRECIO UNIT. | L44: Vr. UNITARIO
A45: =+'Precios Cotizacion'!B21 -> Tintilla para madera | H45: =+'Precios Cotizacion'!C21 -> GALON | I45: 0.03 | J45: =+'Precios Cotizacion'!D21 -> 160000 | L45: =+I45*J45 -> 4800
A46: =+'Precios Cotizacion'!B22 -> Barniz transparente | H46: =+'Precios Cotizacion'!C22 -> GALON | I46: 0.014 | J46: =+'Precios Cotizacion'!D22 -> 123900
A47: SUBTOTAL | L47: =SUM(L45:L46) -> 4800
A49: III. TRANSPORTES
A51: MATERIAL | F51: UNIDAD | G51: CANTIDAD (1) | H51: DISTANCIA (2) | I51: CANTIDAD * DISTANCIA (1) * (2) | J51: TARIFA | L51: Vr. UNITARIO
A54: SUBTOTAL | L54: =SUM(L52:L53) -> 0
A56: IV. MANO DE OBRA
A58: DESCRIPCIÓN | G58: JORNAL | H58: PRESTACIONES | I58: JORNAL TOTAL | J58: RENDIMIENTO | L58: Vr. UNITARIO
A59: 1 Ayudante | G59: 47450 | H59: 1.85 | I59: =+G59*H59 -> 87782.5 | J59: 13 | L59: =+I59/J59 -> 6752.5
A60: 1 Oficial | G60: 77564 | H60: 1.85 | I60: =+G60*H60 -> 143493.4 | J60: 13 | L60: =+I60/J60 -> 11037.954
A61: SUBTOTAL | L61: =SUM(L59:L60) -> 17790.454
A63: TOTAL COSTO DIRECTO | L63: =+L40+L47+L54+L61 -> 23479.977
A65: V. COSTOS INDIRECTOS
...

Sheet 4.6
I1: CÓDIGO | J1: MEPI-MN1-IN-10-FR-1
B2: INSTITUTO NACIONAL DE VIAS
B3: PROCESO MISIONAL EJECUCIÓN DE PROYECTOS DE INFRAESTRUCTURA DE TRANSPORTE | I3: VERSIÓN | J3: 1
B4: MANUAL DE INTERVENTORÍA OBRA PÚBLICA
B5: ANÁLISIS DE PRECIOS UNITARIOS | I5: PÁGINA
I8: FECHA
J9: (Día / Mes / Año)
A10: ÍTEMS DE LA PROPUESTA ECONÓMICA | H10: ÍTEMS NO PREVISTOS
A11: UNIDAD EJECUTORA: | H11: DIRECCIÓN TERRITORIAL:
A14: CONTRATO No.
B15: (Indicar número y año)
A17: OBJETO DEL CONTRATO:
A21: PROYECTO:
A23: CONTRATISTA:
A25: INTERVENTOR: | I25: Contrato No.:
J26: (Indicar número y año)
A27: FECHA CIERRE PROCESO DE SELECCIÓN CONTRATO DE OBRA:
F28: (Día) | G28: (Mes) | H28: (Año)
A30: DATOS ESPECÍFICOS
A32: ÍTEM | B32: DESCRIPCIÓN | I32: GRUPO DE AJUSTE | J32: UNIDAD | L32: CANTIDAD
A33: =+Presupuesto!B32 -> 4.6 | B33: =+Presupuesto!E32 -> Media caña en mortero 1:3 impermeabilizado | J33: M
A35: I. EQUIPO
A37: DESCRIPCIÓN | G37: TIPO | I37: TARIFA/HORA | J37: RENDIMIENTO | L37: Vr. UNITARIO
A38: Herramienta menor (5% del costo de la mano de obra) | L38: =+L62*5% -> 1293.9224
A40: SUBTOTAL | L40: =SUM(L38:L39) -> 1293.9224
A42: II. MATERIALES
A44: DESCRIPCIÓN | H44: UNIDAD | I44: CANTIDAD | J44: PRECIO UNIT. | L44: Vr. UNITARIO
A45: =+'Precios Cotizacion'!B23 -> Resello Epoxico | H45: =+'Precios Cotizacion'!C23 -> GALON | I45: =(1/20)*30% -> 0.015 | J45: =+'Precios Cotizacion'!D23 -> 247950 | L45: =+I45*J45 -> 3719.25
A46: =+'Precios Cotizacion'!B24 -> Mortero 1:3 | H46: =+'Precios Cotizacion'!C24 -> M3 | I46: =(1/20)*30% -> 0.015 | J46: =+'Precios Cotizacion'!D24 -> 373380 | L46: =+I46*J46 -> 5600.7
A48: SUBTOTAL | L48: =SUM(L45:L47) -> 9319.95
A50: III. TRANSPORTES
A52: MATERIAL | F52: UNIDAD | G52: CANTIDAD (1) | H52: DISTANCIA (2) | I52: CANTIDAD * DISTANCIA (1) * (2) | J52: TARIFA | L52: Vr. UNITARIO
A55: SUBTOTAL | L55: =SUM(L53:L54) -> 0
A57: IV. MANO DE OBRA
A59: DESCRIPCIÓN | G59: JORNAL | H59: PRESTACIONES | I59: JORNAL TOTAL | J59: RENDIMIENTO | L59: Vr. UNITARIO
A60: 1 Ayudante | G60: =+'Precios Cotizacion'!L4 -> 58363.5 | H60: 1.85 | I60: =+G60*H60 -> 107972.48 | J60: 10 | L60: =+I60/J60 -> 10797.248
A61: 1 Oficial | G61: =+'Precios Cotizacion'!L5 -> 81520 | H61: 1.85 | I61: =+G61*H61 -> 150812 | J61: 10 | L61: =+I61/J61 -> 15081.2
A62: SUBTOTAL | L62: =SUM(L60:L61) -> 25878.448
A64: TOTAL COSTO DIRECTO | L64: =+L40+L48+L55+L62 -> 36492.32
A66: V. COSTOS INDIRECTOS
...

Sheet 4.7
I1: CÓDIGO | J1: MEPI-MN1-IN-10-FR-1
B2: INSTITUTO NACIONAL DE VIAS
B3: PROCESO MISIONAL EJECUCIÓN DE PROYECTOS DE INFRAESTRUCTURA DE TRANSPORTE | I3: VERSIÓN | J3: 1
B4: MANUAL DE INTERVENTORÍA OBRA PÚBLICA
B5: ANÁLISIS DE PRECIOS UNITARIOS | I5: PÁGINA
I8: FECHA
J9: (Día / Mes / Año)
A10: ÍTEMS DE LA PROPUESTA ECONÓMICA | H10: ÍTEMS NO PREVISTOS
A11: UNIDAD EJECUTORA: | H11: DIRECCIÓN TERRITORIAL:
A14: CONTRATO No.
B15: (Indicar número y año)
A17: OBJETO DEL CONTRATO:
A21: PROYECTO:
A23: CONTRATISTA:
A25: INTERVENTOR: | I25: Contrato No.:
J26: (Indicar número y año)
A27: FECHA CIERRE PROCESO DE SELECCIÓN CONTRATO DE OBRA:
F28: (Día) | G28: (Mes) | H28: (Año)
A30: DATOS ESPECÍFICOS
A32: ÍTEM | B32: DESCRIPCIÓN | I32: GRUPO DE AJUSTE | J32: UNIDAD | L32: CANTIDAD
A33: =+Presupuesto!B33 -> 4.7 | B33: =+Presupuesto!E33 -> Pintura impermeabilizante | J33: M2
A35: I. EQUIPO
A37: DESCRIPCIÓN | G37: TIPO | I37: TARIFA/HORA | J37: RENDIMIENTO | L37: Vr. UNITARIO
A38: Herramienta menor (5% del costo de la mano de obra) | L38: =+L61*5% -> 431.30746
A40: SUBTOTAL | L40: =SUM(L38:L39) -> 431.30746
A42: II. MATERIALES
A44: DESCRIPCIÓN | H44: UNIDAD | I44: CANTIDAD | J44: PRECIO UNIT. | L44: Vr. UNITARIO
A45: =+'Precios Cotizacion'!B25 -> Pintura Impermeabilizante | H45: =+'Precios Cotizacion'!C25 -> GALON | I45: 0.07 | J45: =+'Precios Cotizacion'!D25 -> 113420 | L45: =+I45*J45 -> 7939.4
A47: SUBTOTAL | L47: =SUM(L45:L46) -> 7939.4
A49: III. TRANSPORTES
A51: MATERIAL | F51: UNIDAD | G51: CANTIDAD (1) | H51: DISTANCIA (2) | I51: CANTIDAD * DISTANCIA (1) * (2) | J51: TARIFA | L51: Vr. UNITARIO
A54: SUBTOTAL | L54: =SUM(L52:L53) -> 0
A56: IV. MANO DE OBRA
A58: DESCRIPCIÓN | G58: JORNAL | H58: PRESTACIONES | I58: JORNAL TOTAL | J58: RENDIMIENTO | L58: Vr. UNITARIO
A59: 1 Ayudante | G59: =+'Precios Cotizacion'!L4 -> 58363.5 | H59: 1.85 | I59: =+G59*H59 -> 107972.48 | J59: 30 | L59: =+I59/J59 -> 3599.0825
A60: 1 Oficial | G60: =+'Precios Cotizacion'!L5 -> 81520 | H60: 1.85 | I60: =+G60*H60 -> 150812 | J60: 30 | L60: =+I60/J60 -> 5027.0667
A61: SUBTOTAL | L61: =SUM(L59:L60) -> 8626.1492
A63: TOTAL COSTO DIRECTO | L63: =+L40+L47+L54+L61 -> 16996.857
A65: V. COSTOS INDIRECTOS
A67: DESCRIPCIÓN | I67: Porcentaje | J67: Valor Total
...

Sheet 4.8
I1: CÓDIGO | J1: MEPI-MN1-IN-10-FR-1
B2: INSTITUTO NACIONAL DE VIAS
B3: PROCESO MISIONAL EJECUCIÓN DE PROYECTOS DE INFRAESTRUCTURA DE TRANSPORTE | I3: VERSIÓN | J3: 1
B4: MANUAL DE INTERVENTORÍA OBRA PÚBLICA
B5: ANÁLISIS DE PRECIOS UNITARIOS | I5: PÁGINA
I8: FECHA
J9: (Día / Mes / Año)
A10: ÍTEMS DE LA PROPUESTA ECONÓMICA | H10: ÍTEMS NO PREVISTOS
A11: UNIDAD EJECUTORA: | H11: DIRECCIÓN TERRITORIAL:
A14: CONTRATO No.
B15: (Indicar número y año)
A17: OBJETO DEL CONTRATO:
A21: PROYECTO:
A23: CONTRATISTA:
A25: INTERVENTOR: | I25: Contrato No.:
J26: (Indicar número y año)
A27: FECHA CIERRE PROCESO DE SELECCIÓN CONTRATO DE OBRA:
F28: (Día) | G28: (Mes) | H28: (Año)
A30: DATOS ESPECÍFICOS
A32: ÍTEM | B32: DESCRIPCIÓN | I32: GRUPO DE AJUSTE | J32: UNIDAD | L32: CANTIDAD
A33: =+Presupuesto!B34 -> 4.8 | B33: =+Presupuesto!E34 -> Placa base de concreto E=8 cm de con manto impermeabilizante, incluye preparación de superficie, vaciado, acabado y curado | J33: M2
A35: I. EQUIPO
A37: DESCRIPCIÓN | G37: TIPO | I37: TARIFA/HORA | J37: RENDIMIENTO | L37: Vr. UNITARIO
A38: Herramienta menor (10% del costo de la mano de obra) | L38: =+L62*10% -> 949.45885
A40: SUBTOTAL | L40: =SUM(L38:L39) -> 949.45885
A42: II. MATERIALES
A44: DESCRIPCIÓN | H44: UNIDAD | I44: CANTIDAD | J44: PRECIO UNIT. | L44: Vr. UNITARIO
A45: =+'Precios Cotizacion'!B26 -> Concreto de 3,000 psi Premezclado | H45: =+'Precios Cotizacion'!C26 -> M3 | I45: 0.08 | J45: =+'Precios Cotizacion'!D26 -> 394000 | L45: =+I45*J45 -> 31520 | N45: 1 | O45: =+N45/I45 -> 12.5
A46: =+'Precios Cotizacion'!B27 -> Manto impermeabilizante | H46: =+'Precios Cotizacion'!C27 -> M2 | I46: 1.2 | J46: =+'Precios Cotizacion'!D27 -> 29900 | L46: =+I46*J46 -> 35880
A48: SUBTOTAL | L48: =SUM(L45:L47) -> 67400
A50: III. TRANSPORTES
A52: MATERIAL | F52: UNIDAD | G52: CANTIDAD (1) | H52: DISTANCIA (2) | I52: CANTIDAD * DISTANCIA (1) * (2) | J52: TARIFA | L52: Vr. UNITARIO
A55: SUBTOTAL | L55: =SUM(L53:L54) -> 0
A57: IV. MANO DE OBRA
A59: DESCRIPCIÓN | G59: JORNAL | H59: PRESTACIONES | I59: JORNAL TOTAL | J59: RENDIMIENTO | L59: Vr. UNITARIO
A60: 3 Ayudante | G60: =+'Precios Cotizacion'!L4*3 -> 175090.5 | H60: 1.85 | I60: =+G60*H60 -> 323917.42 | J60: 50 | L60: =+I60/J60 -> 6478.3485
A61: 1 Oficial | G61: =+'Precios Cotizacion'!L5 -> 81520 | H61: 1.85 | I61: =+G61*H61 -> 150812 | J61: 50 | L61: =+I61/J61 -> 3016.24
A62: SUBTOTAL | L62: =SUM(L60:L61) -> 9494.5885
A64: TOTAL COSTO DIRECTO | L64: =+L40+L48+L55+L62 -> 77844.047
A66: V. COSTOS INDIRECTOS
...

Sheet 4.9
I1: CÓDIGO | J1: MEPI-MN1-IN-10-FR-1
B2: INSTITUTO NACIONAL DE VIAS
B3: PROCESO MISIONAL EJECUCIÓN DE PROYECTOS DE INFRAESTRUCTURA DE TRANSPORTE | I3: VERSIÓN | J3: 1
B4: MANUAL DE INTERVENTORÍA OBRA PÚBLICA
B5: ANÁLISIS DE PRECIOS UNITARIOS | I5: PÁGINA
I8: FECHA
J9: (Día / Mes / Año)
A10: ÍTEMS DE LA PROPUESTA ECONÓMICA | H10: ÍTEMS NO PREVISTOS
A11: UNIDAD EJECUTORA: | H11: DIRECCIÓN TERRITORIAL:
A14: CONTRATO No.
B15: (Indicar número y año)
A17: OBJETO DEL CONTRATO:
A21: PROYECTO:
A23: CONTRATISTA:
A25: INTERVENTOR: | I25: Contrato No.:
J26: (Indicar número y año)
A27: FECHA CIERRE PROCESO DE SELECCIÓN CONTRATO DE OBRA:
F28: (Día) | G28: (Mes) | H28: (Año)
A30: DATOS ESPECÍFICOS
A32: ÍTEM | B32: DESCRIPCIÓN | I32: GRUPO DE AJUSTE | J32: UNIDAD | L32: CANTIDAD
A33: =+Presupuesto!B35 -> 4.9 | B33: =+Presupuesto!E35 -> Suministro e Instalación Malla Metálica Tipo Angeo con Marco De Aluminio (Incluye Anclajes, Tornillería Y Sellado). | J33: M2
A35: I. EQUIPO
A37: DESCRIPCIÓN | G37: TIPO | I37: TARIFA/HORA | J37: RENDIMIENTO | L37: Vr. UNITARIO
A38: Herramienta menor (10% del costo de la mano de obra) | L38: =+L65*10% -> 2587.8448
A39: =+'Precios Cotizacion'!F4 -> Andamio Tubular Fijo Seccion Incluye Crucetas | I39: =+'Precios Cotizacion'!H4 -> 1850 | J39: 0.5 | L39: =+I39*J39 -> 925
A40: SUBTOTAL | L40: =SUM(L38:L39) -> 3512.8448
A42: II. MATERIALES
A44: DESCRIPCIÓN | H44: UNIDAD | I44: CANTIDAD | J44: PRECIO UNIT. | L44: Vr. UNITARIO
A45: =+'Precios Cotizacion'!B58 -> Perfil aluminio 1"x1"x1,2 mm | H45: =+'Precios Cotizacion'!C58 -> M | I45: 4.9 | J45: =+'Precios Cotizacion'!D58 -> 18000 | L45: =+I45*J45 -> 88200
A46: =+'Precios Cotizacion'!B59 -> Malla galvanizada calibre 22 | H46: =+'Precios Cotizacion'!C59 -> M2 | I46: 1.1 | J46: =+'Precios Cotizacion'!D59 -> 22000 | L46: =+I46*J46 -> 24200
A47: =+'Precios Cotizacion'!B60 -> Tornillería + remaches + chazos | H47: =+'Precios Cotizacion'!C60 -> UND | I47: 1 | J47: =+'Precios Cotizacion'!D60 -> 12000 | L47: =+I47*J47 -> 12000
L48: =+I48*J48 -> 0
L49: =+I49*J49 -> 0
L50: =+I50*J50 -> 0
A51: SUBTOTAL | L51: =SUM(L45:L50) -> 124400
A53: III. TRANSPORTES
A55: MATERIAL | F55: UNIDAD | G55: CANTIDAD (1) | H55: DISTANCIA (2) | I55: CANTIDAD * DISTANCIA (1) * (2) | J55: TARIFA | L55: Vr. UNITARIO
A58: SUBTOTAL | L58: =SUM(L56:L57) -> 0
A60: IV. MANO DE OBRA
A62: DESCRIPCIÓN | G62: JORNAL | H62: PRESTACIONES | I62: JORNAL TOTAL | J62: RENDIMIENTO | L62: Vr. UNITARIO
...

Sheet 4.10
I1: CÓDIGO | J1: MEPI-MN1-IN-10-FR-1
B2: INSTITUTO NACIONAL DE VIAS
B3: PROCESO MISIONAL EJECUCIÓN DE PROYECTOS DE INFRAESTRUCTURA DE TRANSPORTE | I3: VERSIÓN | J3: 1
B4: MANUAL DE INTERVENTORÍA OBRA PÚBLICA
B5: ANÁLISIS DE PRECIOS UNITARIOS | I5: PÁGINA
I8: FECHA
J9: (Día / Mes / Año)
A10: ÍTEMS DE LA PROPUESTA ECONÓMICA | H10: ÍTEMS NO PREVISTOS
A11: UNIDAD EJECUTORA: | H11: DIRECCIÓN TERRITORIAL:
A14: CONTRATO No.
B15: (Indicar número y año)
A17: OBJETO DEL CONTRATO:
A21: PROYECTO:
A23: CONTRATISTA:
A25: INTERVENTOR: | I25: Contrato No.:
J26: (Indicar número y año)
A27: FECHA CIERRE PROCESO DE SELECCIÓN CONTRATO DE OBRA:
F28: (Día) | G28: (Mes) | H28: (Año)
A30: DATOS ESPECÍFICOS
A32: ÍTEM | B32: DESCRIPCIÓN | I32: GRUPO DE AJUSTE | J32: UNIDAD | L32: CANTIDAD
A33: =+Presupuesto!B36 -> 4.10 | B33: =+Presupuesto!E36 -> Suministro e instalación de barrera en lámina de acero para control de ingreso de aves en cubierta, h = 0.20 m, incluye pintura | J33: =+Presupuesto!F36 -> M
A35: I. EQUIPO
A37: DESCRIPCIÓN | G37: TIPO | I37: TARIFA/HORA | J37: RENDIMIENTO | L37: Vr. UNITARIO
A38: Herramienta menor (10% del costo de la mano de obra) | L38: =+L64*10% -> 1293.9224
A39: =+'Precios Cotizacion'!F4 -> Andamio Tubular Fijo Seccion Incluye Crucetas | I39: =+'Precios Cotizacion'!H4 -> 1850 | J39: 0.5 | L39: =+I39*J39 -> 925
A40: SUBTOTAL | L40: =SUM(L38:L39) -> 2218.9224
A42: II. MATERIALES
A44: DESCRIPCIÓN | H44: UNIDAD | I44: CANTIDAD | J44: PRECIO UNIT. | L44: Vr. UNITARIO
A45: =+'Precios Cotizacion'!B61 -> Lámina galvanizada cal.22 | H45: =+'Precios Cotizacion'!C61 -> M2 | I45: 0.2 | J45: =+'Precios Cotizacion'!D61 -> 55000 | L45: =+I45*J45 -> 11000
A46: =+'Precios Cotizacion'!B62 -> Tornillo autoperforante | H46: =+'Precios Cotizacion'!C62 -> UND | I46: 6 | J46: =+'Precios Cotizacion'!D62 -> 350 | L46: =+I46*J46 -> 2100
A47: =+'Precios Cotizacion'!B34 -> Pintura anticorrosiva | H47: =+'Precios Cotizacion'!C34 -> GALON | I47: 0.02 | J47: =+'Precios Cotizacion'!D34 -> 139900 | L47: =+I47*J47 -> 2798
A48: =+'Precios Cotizacion'!B35 -> Pintura de proteccion | H48: =+'Precios Cotizacion'!C35 -> GALON | I48: 0.02 | J48: =+'Precios Cotizacion'!D35 -> 122900 | L48: =+I48*J48 -> 2458
L49: =+I49*J49 -> 0
A50: SUBTOTAL | L50: =SUM(L45:L49) -> 18356
A52: III. TRANSPORTES
A54: MATERIAL | F54: UNIDAD | G54: CANTIDAD (1) | H54: DISTANCIA (2) | I54: CANTIDAD * DISTANCIA (1) * (2) | J54: TARIFA | L54: Vr. UNITARIO
A57: SUBTOTAL | L57: =SUM(L55:L56) -> 0
A59: IV. MANO DE OBRA
A61: DESCRIPCIÓN | G61: JORNAL | H61: PRESTACIONES | I61: JORNAL TOTAL | J61: RENDIMIENTO | L61: Vr. UNITARIO
A62: 1 Ayudante | G62: =+'Precios Cotizacion'!L4 -> 58363.5 | H62: 1.85 | I62: =+G62*H62 -> 107972.48 | J62: 20 | L62: =+I62/J62 -> 5398.6238
...

Sheet 4.11
I1: CÓDIGO | J1: MEPI-MN1-IN-10-FR-1
B2: INSTITUTO NACIONAL DE VIAS
B3: PROCESO MISIONAL EJECUCIÓN DE PROYECTOS DE INFRAESTRUCTURA DE TRANSPORTE | I3: VERSIÓN | J3: 1
B4: MANUAL DE INTERVENTORÍA OBRA PÚBLICA
B5: ANÁLISIS DE PRECIOS UNITARIOS | I5: PÁGINA
I8: FECHA
J9: (Día / Mes / Año)
A10: ÍTEMS DE LA PROPUESTA ECONÓMICA | H10: ÍTEMS NO PREVISTOS
A11: UNIDAD EJECUTORA: | H11: DIRECCIÓN TERRITORIAL:
A14: CONTRATO No.
B15: (Indicar número y año)
A17: OBJETO DEL CONTRATO:
A21: PROYECTO:
A23: CONTRATISTA:
A25: INTERVENTOR: | I25: Contrato No.:
J26: (Indicar número y año)
A27: FECHA CIERRE PROCESO DE SELECCIÓN CONTRATO DE OBRA:
F28: (Día) | G28: (Mes) | H28: (Año)
A30: DATOS ESPECÍFICOS
A32: ÍTEM | B32: DESCRIPCIÓN | I32: GRUPO DE AJUSTE | J32: UNIDAD | L32: CANTIDAD
B33: =+Presupuesto!E37 -> Mantenimiento y lavado de fachada | J33: M2
A35: I. EQUIPO
A37: DESCRIPCIÓN | G37: TIPO | I37: TARIFA/HORA | J37: RENDIMIENTO | L37: Vr. UNITARIO
A38: Herramienta menor (20% del costo de la mano de obra) | L38: =+L62*20% -> 323.91743
A39: =+'Precios Cotizacion'!F11 -> Hidrolavadora | I39: =+'Precios Cotizacion'!H11 -> 6806.0174 | J39: =1/30 -> 0.033333333 | L39: =+I39*J39 -> 226.86725
A40: =+'Precios Cotizacion'!F4 -> Andamio Tubular Fijo Seccion Incluye Crucetas | I40: =+'Precios Cotizacion'!H4 -> 1850 | J40: 0.5 | L40: =+I40*J40 -> 925
A41: SUBTOTAL | L41: =SUM(L38:L40) -> 1475.7847
A43: II. MATERIALES
A45: DESCRIPCIÓN | H45: UNIDAD | I45: CANTIDAD | J45: PRECIO UNIT. | L45: Vr. UNITARIO
H46: Und | L46: =+I46*J46 -> 0
L47: =+I47*J47 -> 0
A48: SUBTOTAL | L48: =SUM(L46:L47) -> 0
A50: III. TRANSPORTES
A52: MATERIAL | F52: UNIDAD | G52: CANTIDAD (1) | H52: DISTANCIA (2) | I52: CANTIDAD * DISTANCIA (1) * (2) | J52: TARIFA | L52: Vr. UNITARIO
A55: SUBTOTAL | L55: =SUM(L53:L54) -> 0
A57: IV. MANO DE OBRA
A59: DESCRIPCIÓN | G59: JORNAL | H59: PRESTACIONES | I59: JORNAL TOTAL | J59: RENDIMIENTO | L59: Vr. UNITARIO
A61: 2 Ayudante | G61: =+'Precios Cotizacion'!L4*3 -> 175090.5 | H61: 1.85 | I61: =+G61*H61 -> 323917.42 | J61: 200 | L61: =+I61/J61 -> 1619.5871
A62: SUBTOTAL | L62: =SUM(L60:L61) -> 1619.5871
A64: TOTAL COSTO DIRECTO | L64: =+L41+L48+L55+L62 -> 3095.3718
...

Sheet 5.1
I1: CÓDIGO | J1: MEPI-MN1-IN-10-FR-1
B2: INSTITUTO NACIONAL DE VIAS
B3: PROCESO MISIONAL EJECUCIÓN DE PROYECTOS DE INFRAESTRUCTURA DE TRANSPORTE | I3: VERSIÓN | J3: 1
B4: MANUAL DE INTERVENTORÍA OBRA PÚBLICA
B5: ANÁLISIS DE PRECIOS UNITARIOS | I5: PÁGINA
I8: FECHA
J9: (Día / Mes / Año)
A10: ÍTEMS DE LA PROPUESTA ECONÓMICA | H10: ÍTEMS NO PREVISTOS
A11: UNIDAD EJECUTORA: | H11: DIRECCIÓN TERRITORIAL:
A14: CONTRATO No.
B15: (Indicar número y año)
A17: OBJETO DEL CONTRATO:
A21: PROYECTO:
A23: CONTRATISTA:
A25: INTERVENTOR: | I25: Contrato No.:
J26: (Indicar número y año)
A27: FECHA CIERRE PROCESO DE SELECCIÓN CONTRATO DE OBRA:
F28: (Día) | G28: (Mes) | H28: (Año)
A30: DATOS ESPECÍFICOS
A32: ÍTEM | B32: DESCRIPCIÓN | I32: GRUPO DE AJUSTE | J32: UNIDAD | L32: CANTIDAD
B33: =+Presupuesto!E39 -> Excavación manual en material común | J33: M
