Workbook
Name _ftn1: '4. ELEMENTOS PAPELERÍA (UR)_RU'!#REF!
Name _ftn1: '4. ELEMENTOS PAPELERÍA_RU'!#REF!
Name _ftnref1: '4. ELEMENTOS PAPELERÍA (UR)_RU'!#REF!
Name _ftnref1: '4. ELEMENTOS PAPELERÍA_RU'!#REF!
Name a: #REF!
Name a: #REF!
Name ABRIL: #REF!
Name ABRIL: #REF!
Name add: #REF!
Name add: #REF!
Name ADR: #REF!
Name ADR: #REF!
Name ADRIANA: #REF!
Name ADRIANA: #REF!
Name AGOSTO: #REF!
Name AGOSTO: #REF!
Name ALEJA: #REF!
Name ALEJA: #REF!
Name Construccion_en_Sitio_Propio___CSP: #REF!
Name Construccion_en_Sitio_Propio___CSP: #REF!
Name d: #REF!
Name d: #REF!
Name DICIEMBRE: #REF!
Name DICIEMBRE: #REF!
Name e: #REF!
Name e: #REF!
Name EFECTIVO: #REF!
Name EFECTIVO: #REF!
Name ENERO: #REF!
Name ENERO: #REF!
Name FEBRERO: #REF!
Name FEBRERO: #REF!
Name H: #REF!
Name H: #REF!
Name jsjsjsjsjsj: #REF!
Name jsjsjsjsjsj: #REF!
Name JULIO: #REF!
Name JULIO: #REF!
Name JUNIO: #REF!
Name JUNIO: #REF!
Name juun: #REF!
Name juun: #REF!
Name lulu: #REF!
Name lulu: #REF!
Name MARZO: #REF!
Name MARZO: #REF!
Name MAYO: #REF!
Name MAYO: #REF!
Name migue: #REF!
Name migue: #REF!
Name MIGUEL: #REF!
Name MIGUEL: #REF!
Name NOVIEMBRE: #REF!
Name NOVIEMBRE: #REF!
Name OCTUBRE: #REF!
Name OCTUBRE: #REF!
Name OTROS_ACT_CORRIENTES: #REF!
Name OTROS_ACT_CORRIENTES: #REF!
Name PABLO: #REF!
Name PABLO: #REF!

Sheet INSTRUCTIVO

Sheet 0. CONSOLIDADA RURAL
B3: SECRETARIA DISTRITAL DE LA MUJER
B4: ANEXO DE OFERTA ECONÓMICA LOTE 2 MODALIDAD RURAL
B6: Objeto: LOTE 2 MODALIDAD RURAL - Prestar el servicio integral para la puesta en marcha y funcionamiento de la Modalidad Rural de las Casas Refugio para la atención a mujeres rurales y/o campesinas víctimas de violencias y sus personas a cargo, de acuerdo con las características técnicas descritas en el Anexo Técnico y las normas vigentes que regulan la materia.
B7: NOMBRE PERSONA JURÍDICA Ó NATURAL:
B8: No. IDENTIFICACIÓN:
B9: DIRECCIÓN:
B10: TELÉFONO:
B11: E-MAIL:
B12: PAGINA WEB:
B13: VIGENCIA DE LA PROPUESTA:
B14: ESPECIFICACIONES DE SERVICIO
B15: A. SERVICIOS PERMANENTES
B16: TALENTO HUMANO (VER ANEXO TÉCNICO, NUMERAL 5.3.1) | C16: CANTIDAD | D16: COSTO UNITARIO MÁXIMO | E16: COSTO UNITARIO OFERTADO | F16: COSTO UNITARIO OFERTADO REDONDEADO | G16: TOTAL | I16: VIGILANCIA | J16: CANTIDAD | K16: COSTO UNITARIO MÁXIMO (incluido Iva) | L16: COSTO UNITARIO OFERTADO (incluido Iva) | M16: COSTO UNITARIO OFERTADO REDONDEADO | N16: COSTO TOTAL (Incluido Iva)
B17: COORDINADORA ADMINISTRATIVA | C17: 1 | D17: 7420300 | F17: =ROUND(E17,0) -> 0 | G17: =ROUND(((F17)*C17),0) -> 0 | I17: (VER ANEXO TÉCNICO, NUMERAL 5.3.3)
B18: COORDINADORA TÉCNICA | C18: 1 | D18: 7420300 | F18: =ROUND(E18,0) -> 0 | G18: =ROUND(((F18)*C18),0) -> 0 | I18: RECURSO HUMANO SIN ARMA (24 HORAS) | J18: 1 | K18: 19746900 | M18: =ROUND(L18,0) -> 0 | N18: =ROUND(((M18)*J18),0) -> 0
B19: APOYO ADMINISTRATIVO | C19: 1 | D19: 3907700 | F19: =ROUND(E19,0) -> 0 | G19: =ROUND(((F19)*C19),0) -> 0 | I19: SISTEMA DE 8 CÁMARAS (1 EXTERNA Y 7 INTERNAS) | J19: 1 | K19: 1966800 | M19: =ROUND(L19,0) -> 0 | N19: =ROUND(((M19)*J19),0) -> 0
B20: APOYO DE GESTIÓN DOCUMENTAL | C20: 1 | D20: 3907700 | F20: =ROUND(E20,0) -> 0 | G20: =ROUND(((F20)*C20),0) -> 0 | I20: EQUIPO CON CAPACIDAD DE GRABACIÓN Y COPIAS DE SEGURIDAD MÍNIMO 30 DÍAS | J20: 1 | K20: 1267500 | M20: =ROUND(L20,0) -> 0 | N20: =ROUND(((M20)*J20),0) -> 0
B21: PSICÓLOGA | C21: 1 | D21: 5142300 | F21: =ROUND(E21,0) -> 0 | G21: =ROUND(((F21)*C21),0) -> 0 | I21: BOTÓN DE PANICO CON SIRENA | J21: 2 | K21: 273800 | M21: =ROUND(L21,0) -> 0 | N21: =ROUND(((M21)*J21),0) -> 0
B22: TRABAJADORA SOCIAL | C22: 1 | D22: 5142300 | F22: =ROUND(E22,0) -> 0 | G22: =ROUND(((F22)*C22),0) -> 0 | I22: TOTAL ESTIMADO VIGILANCIA MES | N22: =+SUM(N18:N21) -> 0
B23: ABOGADA | C23: 1 | D23: 5142300 | F23: =ROUND(E23,0) -> 0 | G23: =ROUND(((F23)*C23),0) -> 0
B24: PEDAGOGA, PSICOPEDAGOGA O LICENCIADA EN EDUCACIÓN | C24: 2 | D24: 5142300 | F24: =ROUND(E24,0) -> 0 | G24: =ROUND(((F24)*C24),0) -> 0 | I24: TRANSPORTE (VER ANEXO TÉCNICO, NUMERAL 6.1) | J24: CANTIDAD | K24: COSTO UNITARIO MÁXIMO (incluido Iva) | L24: COSTO UNITARIO OFERTADO (incluido Iva) | M24: COSTO UNITARIO OFERTADO REDONDEADO | N24: COSTO TOTAL (Incluido Iva)
B25: ENFERMERA | C25: 1 | D25: 5142300 | F25: =ROUND(E25,0) -> 0 | G25: =ROUND(((F25)*C25),0) -> 0 | I25: TRANSPORTE PÚBLICO A DEMANDA MES | J25: 1 | K25: 2541300 | M25: =ROUND(L25,0) -> 0 | N25: =ROUND(((M25)*J25),0) -> 0
B26: AUXILIAR TÉCNICA DE ENFERMERÍA | C26: 3 | D26: 3341100 | F26: =ROUND(E26,0) -> 0 | G26: =ROUND(((F26)*C26),0) -> 0 | I26: SERVICIO DE ALOJAMIENTO (VER ANEXO TÉCNICO, NUMERAL 5.3.2) | J26: CANTIDAD | K26: COSTO UNITARIO MÁXIMO (incluido Iva) | L26: COSTO UNITARIO OFERTADO (incluido Iva) | M26: COSTO UNITARIO OFERTADO REDONDEADO | N26: COSTO TOTAL (Incluido Iva)
B27: NUTRICIONISTA | C27: 1 | D27: 5142300 | F27: =ROUND(E27,0) -> 0 | G27: =ROUND(((F27)*C27),0) -> 0 | I27: INMUEBLE (VER NOTA 7) | J27: 1 | K27: 16251500 | M27: =ROUND(L27,0) -> 0 | N27: =ROUND(((M27)*J27),0) -> 0
B28: TÉCNICA PROFESIONAL O TECNÓLOGA AGROPECUARIA | C28: 1 | D28: 4275600 | F28: =ROUND(E28,0) -> 0 | G28: =ROUND(((F28)*C28),0) -> 0 | I28: ASEO INSTITUCIONAL (Detalle Hoja de Cálculo: 5. Aseo Institucional) | J28: 1 | K28: =+'5. ASEO INSTITUCIONAL_RU'!F45 -> 1474000 | L28: =+'5. ASEO INSTITUCIONAL_RU'!I45 -> 0 | M28: =ROUND(L28,0) -> 0 | N28: =ROUND(((M28)*J28),0) -> 0
B29: OPERARIAS DE SERVICIOS GENERALES | C29: 2 | D29: 2997000 | F29: =ROUND(E29,0) -> 0 | G29: =ROUND(((F29)*C29),0) -> 0 | I29: SERVICIOS PÚBLICOS | J29: 1 | K29: 4323300 | M29: =ROUND(L29,0) -> 0 | N29: =ROUND(((M29)*J29),0) -> 0
B30: OPERARIAS DE COCINA | C30: 3 | D30: 2997000 | F30: =ROUND(E30,0) -> 0 | G30: =ROUND(((F30)*C30),0) -> 0 | I30: DOTACIÓN (VER NOTA 9 a 12) (Detalle Hoja de Cálculo: 6. Dotación) | J30: 1 | K30: =+'6. DOTACIÓN_RU'!F136 -> 7175090 | L30: =+'6. DOTACIÓN_RU'!I136 -> 0 | M30: =ROUND(L30,0) -> 0 | N30: =ROUND(((M30)*J30),0) -> 0
B31: TOTAL ESTIMADO TALENTO HUMANO MES | C31: =SUM(C17:C30) -> 20 | G31: =SUM(G17:H30) -> 0 | I31: MATERIALES O INSUMOS DE MANTENIMIENTO HUERTA AGROECOLÓGICA (Detalle Hoja de Cálculo: 7. Huerta Agroecológic) | J31: 1 | K31: =+'7. HUERTA AGRO_RU'!F41 -> 415200 | L31: =+'7. HUERTA AGRO_RU'!I41 -> 0 | M31: =ROUND(L31,0) -> 0 | N31: =ROUND(((M31)*J31),0) -> 0
I32: TOTAL ESTIMADO ALOJAMIENTO MES | N32: =SUM(N27:N31) -> 0
B33: GASTOS DE ADMINISTRACIÓN DEL OPERADOR (VER ANEXO TÉCNICO, NUMERAL 8) | C33: CANTIDAD | D33: COSTO UNITARIO MÁXIMO | E33: COSTO UNITARIO OFERTADO | F33: COSTO UNITARIO OFERTADO REDONDEADO | G33: TOTAL
B34: MES | C34: 1 | D34: 11516800 | F34: =ROUND(E34,0) -> 0 | G34: =ROUND(((F34)*C34),0) -> 0
B35: B. SERVICIOS RECONOCIDOS POR DEMANDA
B36: ASISTENCIA ALIMENTARIA (VER ANEXO TÉCNICO, NUMERAL 6.2 Y ANEXO A) | C36: CANTIDAD | D36: FORMULA DE INICIO | E36: Desayuno COSTO UNITARIO MÁXIMO | F36: Almuerzo COSTO UNITARIO MÁXIMO | H36: Cena COSTO UNITARIO MÁXIMO | I36: Refrigerio COSTO UNITARIO MÁXIMO | J36: VALOR UNITARIO A COTIZAR (No corresponde IVA Art. 476 E.T) | K36: ELEMENTOS DE HIGIENE Y ASEO PERSONAL ENTREGADOS POR DEMANDA Y OTROS ELEMENTOS DE HIGIENE Y ASEO PERSONAL RECONOCIDOS A DEMANDA (VER ANEXO TÉCNICO NUMERAL 6.3.2 y 6.3.3) (Detalle Hoja de Cálculo: 1. Elementos HigienePorDemanda) | L36: CANTIDAD | M36: COSTO TOTAL MÁXIMO (incluido Iva) | N36: COSTO OFERTADO (incluido Iva) | O36: COSTO TOTAL OFERTADO (incluido Iva)
B37: 0 a 5 meses Formula de iniciación | C37: 0.01 | E37: NA | F37: NA | H37: NA | I37: NA | J37: =+ROUND($C$49*C37,0)*D37 -> 0 | K37: Elementos de higiene y aseo personal entregados por demanda y otros elementos de higiene y aseo personal reconocidos a demanda. | L37: 1 | M37: =+ROUND('1. ELEMENTOS HIGIENE PORDEMRU'!F52*L37,0) -> 3353500 | N37: =+'1. ELEMENTOS HIGIENE PORDEMRU'!I52 -> 0 | O37: =+ROUND(N37*L37,0) -> 0
B38: 6 a 11 meses Formula de Continuación o Etapa 2 | C38: 0.02 | E38: NA | F38: NA | H38: NA | I38: NA | J38: =+ROUND($C$49*C38,0)*D38 -> 0
B39: 6 a 8 meses Desayuno, almuerzo, cena y 2 refrigerios | C39: 0.01 | D39: NA | J39: =+ROUND((E39+F39+H39+(I39*2))*ROUND(C39*$C$49,0),0) -> 0
B40: 9 a 11 meses Desayuno, almuerzo, cena y 2 refrigerios | C40: 0.02 | D40: NA | J40: =+ROUND((E40+F40+H40+(I40*2))*ROUND(C40*$C$49,0),0) -> 0 | K40: VESTUARIO (VER ANEXO TÉCNICO NUMERAL 6.4) (Detalle Hoja de Cálculo: 2. Vestuario) | L40: CANTIDAD | M40: COSTO TOTAL MÁXIMO (incluido Iva) | N40: =+$N$36 -> COSTO OFERTADO (incluido Iva) | O40: =+$O$36 -> COSTO TOTAL OFERTADO (incluido Iva)
B41: 1 a 3 años y 11 meses Desayuno, almuerzo, cena y 2 refrigerios | C41: 0.08 | D41: NA | J41: =+ROUND((E41+F41+H41+(I41*2))*ROUND(C41*$C$49,0),0) -> 0
B42: 4 a 6 años y 11 meses Desayuno, almuerzo, cena y 2 refrigerios | C42: 0.07 | D42: NA | J42: =+ROUND((E42+F42+H42+(I42*2))*ROUND(C42*$C$49,0),0) -> 0 | K42: Vestuario | L42: 0.52 | M42: =+ROUND('2. VESTUARIORU'!F63*L42,-2) -> 1410400 | N42: =+'2. VESTUARIORU'!I63 -> 0 | O42: =+ROUND(N42*L42,-2) -> 0
B43: 7 a 12 años y 11 meses Desayuno, almuerzo, cena y 2 refrigerios | C43: 0.11 | D43: NA | J43: =+ROUND((E43+F43+H43+(I43*2))*ROUND(C43*$C$49,0),0) -> 0 | K43: ORIENTACIÓN, GESTIÓN Y SEGUIMIENTO DE SERVICIOS EN SALUD (VER ANEXO TÉCNICO NUMERAL 6.5) (Detalle Hoja de Cálculo: 3. Orientación Salud) | L43: CANTIDAD | M43: COSTO TOTAL MÁXIMO (incluido Iva) | N43: =+$N$36 -> COSTO OFERTADO (incluido Iva) | O43: =+$O$36 -> COSTO TOTAL OFERTADO (incluido Iva)
...

Sheet 1. ELEMENTOS HIGIENE PORDEMRU
B3: SECRETARIA DISTRITAL DE LA MUJER
B4: ANEXO DE OFERTA ECONÓMICA LOTE 2 MODALIDAD RURAL - HOJA 1. ELEMENTOS DE HIGIENE Y ASEO PERSONAL ENTREGADOS POR DEMANDA Y OTROS ELEMENTOS DE HIGIENE Y ASEO PERSONAL RECONOCIDOS A DEMANDA
B6: Elementos Entregables por Demanda | G6: PRESUPUESTO 2026
B7: ELEMENTO | C7: ESPECIFICACIONES | D7: CANTIDAD | E7: COSTO UNITARIO MÁXIMO (Incluido Iva) | F7: COSTO TOTAL MÁXIMO (Incluido Iva) | G7: COSTO UNITARIO OFERTADO (Incluido Iva) | H7: COSTO UNITARIO REDONDEADO (Incluido Iva) | I7: COSTO TOTAL OFERTADO (Incluido Iva)
B8: CORTA-UÑAS BEBE | C8: Corta uñas para bebés (para jornadas de prevención y promoción de salud). | D8: 2 | E8: 15000 | F8: =+E8*D8 -> 30000 | H8: =ROUND(G8,0) -> 0 | I8: =+H8*D8 -> 0
B9: CORTA-UÑAS PERSONA ADULTA | C9: Corta uñas grandes (para jornadas de prevención y promoción de salud). | D9: 2 | E9: 9000 | F9: =+E9*D9 -> 18000 | H9: =ROUND(G9,0) -> 0 | I9: =+H9*D9 -> 0
B10: JABÓN EN BARRA AZUL | C10: Jabón en barra para todo tipo de uso unidad x 300gr | D10: 20 | E10: 3100 | F10: =+E10*D10 -> 62000 | H10: =ROUND(G10,0) -> 0 | I10: =+H10*D10 -> 0
B11: CREMA DENTAL CON FLUOR - TUBO 100 ML (MAYORES DE 6 AÑOS) | C11: Tubo de 100ml, con flúor y calcio, protección anti-caries y sarro. | D11: 15 | E11: 10400 | F11: =+E11*D11 -> 156000 | H11: =ROUND(G11,0) -> 0 | I11: =+H11*D11 -> 0
B12: CREMA DENTAL SIN FLUOR, NI COLORANTES, NI CONSERVANTES (MENORES DE 6 AÑOS) | C12: Presentación entre 50 y 100 gramos | D12: 10 | E12: 16900 | F12: =+E12*D12 -> 169000 | H12: =ROUND(G12,0) -> 0 | I12: =+H12*D12 -> 0
B13: SEDA DENTAL | C13: Sin cera x 25m | D13: 10 | E13: 10900 | F13: =+E13*D13 -> 109000 | H13: =ROUND(G13,0) -> 0 | I13: =+H13*D13 -> 0
B14: JABÓN DE TOCADOR - BARRA | C14: Presentación en barra de entre 110 grs y 130 gr Para limpieza y desinfección de la piel Base 100% vegetal con glicerina | D14: 30 | E14: 3500 | F14: =+E14*D14 -> 105000 | H14: =ROUND(G14,0) -> 0 | I14: =+H14*D14 -> 0
B15: PAPEL HIGIÉNICO BLANCO - TRIPLE HOJA X 12 ROLLOS ENTRE 30 Y 36 METROS | C15: - Rollo con longitud mínima entre 30 y 36 metros - Triple hoja blanca - Sin olor ni fragancia | D15: 4 | E15: 25300 | F15: =+E15*D15 -> 101200 | H15: =ROUND(G15,0) -> 0 | I15: =+H15*D15 -> 0
B16: DESODORANTE ROLL ON 50 ML MUJER | C16: Barra antitranspirante de 50 ML | D16: 15 | E16: 16200 | F16: =+E16*D16 -> 243000 | H16: =ROUND(G16,0) -> 0 | I16: =+H16*D16 -> 0
B17: DESODORANTE ROLL ON 50 ML HOMBRE | C17: Barra antitranspirante de 50 ML | D17: 5 | E17: 11000 | F17: =+E17*D17 -> 55000 | H17: =ROUND(G17,0) -> 0 | I17: =+H17*D17 -> 0
B18: SHAMPOO BEBÉ, NIÑAS Y NIÑOS | C18: Presentación entre 100 ml y 150 ml | D18: 12 | E18: 13400 | F18: =+E18*D18 -> 160800 | H18: =ROUND(G18,0) -> 0 | I18: =+H18*D18 -> 0
B19: SHAMPOO ADOLESCENTES-MUJERES-HOMBRES | C19: Presentación entre 100 ml y 150 ml | D19: 15 | E19: 4400 | F19: =+E19*D19 -> 66000 | H19: =ROUND(G19,0) -> 0 | I19: =+H19*D19 -> 0
... B40: TAPABOCAS PAQUETE X 50 - AZUL | C40: Elaborado en tela no tejida Desechable. Con tiras elásticas | D40: 2 | E40: 14200 | F40: =+E40*D40 -> 28400 | H40: =ROUND(G40,0) -> 0 | I40: =+H40*D40 -> 0
B41: Nota 1: Para el rubro de Elementos de higiene y aseo personal entregados por demanda se reconoce el costo de acuerdo con el valor unitario conforme a los valores presentados en la oferta económica y los soportes de entrega atendiendo a lo establecido en Anexo Técnico y la lista de chequeo. Nota 2: Todos los productos y elementos relacionados en el presente anexo técnico deberán contar con registro sanitario vigente ante el INVIMA, conforme a la normatividad sanitaria aplicable. NOTA 3: Los elementos cuya descripción sea la misma en los diferentes rubros deberán conservar el mismo valor unitario de cotización. En caso de que la Secretaría identifique diferencias en los valores cotizados para elementos con idénticas características, especificaciones o presentación, se tomará como válido el valor unitario más bajo registrado en las cotizaciones presentadas. Nota 4. La entrega del elemento Mascarilla desechable (tapabocas), se hará de acuerdo con las necesidades específicas de las mujeres o sus sistemas familiares, por ejemplo, cuando presenten síntomas respiratorios, se indique aislamiento por personal médico, por riesgo de contagio de enfermedades respiratorias dentro de la Casa Refugio, cuando se dirija a entidades de salud u otras que exijan el uso de la mascarilla o tapabocas, entre otras circunstancias en las cuales se requiera su uso.
B42: OTROS ELEMENTOS DE HIGIENE Y ASEO PERSONAL RECONOCIDOS A DEMANDA
B43: PAQUETE DE PAÑALES BEBÉ PREMATURO | C43: 30 unidades (Este elemento se entregará de forma diaria y por unidades, de acuerdo con las necesidades de uso) | D43: 1 | E43: 28000 | F43: =+E43*D43 -> 28000 | H43: =ROUND(G43,0) -> 0 | I43: =+H43*D43 -> 0
B44: PAQUETE DE PAÑALES ETAPA 1 | C44: 30 unidades (1 a 12 libras) (Este elemento se entregará de forma diaria y por unidades, de acuerdo con las necesidades de uso) | D44: 1 | E44: 49900 | F44: =+E44*D44 -> 49900 | H44: =ROUND(G44,0) -> 0 | I44: =+H44*D44 -> 0
B45: PAQUETE DE PAÑALES ETAPA 2 | C45: 30 unidades (12 a 16 libras) (Este elemento se entregará de forma diaria y por unidades, de acuerdo con las necesidades de uso) | D45: 1 | E45: 49400 | F45: =+E45*D45 -> 49400 | H45: =ROUND(G45,0) -> 0 | I45: =+H45*D45 -> 0
B46: PAQUETE DE PAÑALES ETAPA 3 | C46: 30 unidades (16 a 28 libras) (Este elemento se entregará de forma diaria y por unidades, de acuerdo con las necesidades de uso) | D46: 1 | E46: 44500 | F46: =+E46*D46 -> 44500 | H46: =ROUND(G46,0) -> 0 | I46: =+H46*D46 -> 0
B47: PAQUETE DE PAÑALES ETAPA 4 | C47: 30 unidades (22 a 27 libras) (Este elemento se entregará de forma diaria y por unidades, de acuerdo con las necesidades de uso) | D47: 1 | E47: 60100 | F47: =+E47*D47 -> 60100 | H47: =ROUND(G47,0) -> 0 | I47: =+H47*D47 -> 0
B48: PAQUETE DE PAÑALES ETAPA 5 | C48: 30 unidades (más de 27 libras) (Este elemento se entregará de forma diaria y por unidades, de acuerdo con las necesidades de uso) | D48: 1 | E48: 69600 | F48: =+E48*D48 -> 69600 | H48: =ROUND(G48,0) -> 0 | I48: =+H48*D48 -> 0
B49: PAQUETE DE PAÑAL PARA ADULTO TALLA S | C49: 21 unidades (Este elemento se entregará de forma diaria y por unidades, de acuerdo con las necesidades de uso) | D49: 1 | E49: 78900 | F49: =+E49*D49 -> 78900 | H49: =ROUND(G49,0) -> 0 | I49: =+H49*D49 -> 0
B50: PAQUETE DE PAÑAL PARA ADULTO TALLA M | C50: 21 unidades (Este elemento se entregará de forma diaria y por unidades, de acuerdo con las necesidades de uso) | D50: 1 | E50: 51500 | F50: =+E50*D50 -> 51500 | H50: =ROUND(G50,0) -> 0 | I50: =+H50*D50 -> 0
B51: PAQUETE DE PAÑAL PARA ADULTO TALLA L | C51: 21 unidades (Este elemento se entregará de forma diaria y por unidades, de acuerdo con las necesidades de uso) | D51: 1 | E51: 59000 | F51: =+E51*D51 -> 59000 | H51: =ROUND(G51,0) -> 0 | I51: =+H51*D51 -> 0
B52: TOTAL ELEMENTOS DE HIGIENE Y ASEO PERSONAL ENTREGADOS POR DEMANDA | F52: =SUM(F8:F51) -> 3353500 | I52: =SUM(I8:I51) -> 0
B53: Nota 1: Para el rubro de otros elementos a entregar por demanda se reconoce el costo de acuerdo con el valor unitario conforme a los valores presentados en la oferta económica y los soportes de entrega atendiendo a lo establecido en Anexo Técnico y la lista de chequeo. Nota 2: Todos los productos y elementos relacionados en el presente anexo técnico deberán contar con registro sanitario vigente ante el INVIMA, conforme a la normatividad sanitaria aplicable.

Sheet 2. VESTUARIORU
B3: SECRETARIA DISTRITAL DE LA MUJER
B4: ANEXO DE OFERTA ECONÓMICA LOTE 2 MODALIDAD RURAL - HOJA 2. VESTUARIO BÁSICO PARA MUJERES ACOGIDAS Y SUS SISTEMAS FAMILIARES RECONOCIDO A DEMANDA POR CASA REFUGIO
B6: Elementos Entregables por Demanda | G6: PRESUPUESTO 2026
B7: NECESIDAD | C7: ESPECIFICACIONES | D7: CANTIDAD | E7: COSTO UNITARIO MÁXIMO (Incluido Iva) | F7: COSTO TOTAL MÁXIMO (Incluido Iva) | G7: COSTO UNITARIO OFERTADO (Incluido Iva) | H7: COSTO UNITARIO REDONDEADO (Incluido Iva) | I7: COSTO TOTAL OFERTADO (Incluido Iva)
B8: PANTYS | C8: Mujer Adulta: Tallas S, M, L, XL, XXL. | D8: 1 | E8: 27900 | F8: =$D8*E8 -> 27900 | H8: =ROUND(G8,0) -> 0 | I8: =+H8*D8 -> 0
B9: BRASSIER | C9: Mujer Adulta: Tallas S, M, L, XL, XXL. | D9: 1 | E9: 40000 | F9: =$D9*E9 -> 40000 | H9: =ROUND(G9,0) -> 0 | I9: =+H9*D9 -> 0
B10: PAR DE MEDIAS | C10: Mujer Adulta: Tallas S, M, L, XL, XXL. | D10: 1 | E10: 15000 | F10: =$D10*E10 -> 15000 | H10: =ROUND(G10,0) -> 0 | I10: =+H10*D10 -> 0
B11: CAMISA | C11: Mujer Adulta: Tallas S, M, L, XL, XXL. | D11: 1 | E11: 69900 | F11: =$D11*E11 -> 69900 | H11: =ROUND(G11,0) -> 0 | I11: =+H11*D11 -> 0
B12: CAMISETA | C12: Mujer Adulta: Tallas S, M, L, XL, XXL. | D12: 1 | E12: 29900 | F12: =$D12*E12 -> 29900 | H12: =ROUND(G12,0) -> 0 | I12: =+H12*D12 -> 0
B13: PANTALÓN LEGGINS | C13: Mujer Adulta: Tallas S, M, L, XL, XXL. | D13: 1 | E13: 49900 | F13: =$D13*E13 -> 49900 | H13: =ROUND(G13,0) -> 0 | I13: =+H13*D13 -> 0
B14: SACO | C14: Mujer Adulta: Tallas S, M, L, XL, XXL. | D14: 1 | E14: 79900 | F14: =$D14*E14 -> 79900 | H14: =ROUND(G14,0) -> 0 | I14: =+H14*D14 -> 0
B15: TENIS | C15: Mujer Adulta: Tallas Entre 34 y 42 | D15: 1 | E15: 129900 | F15: =$D15*E15 -> 129900 | H15: =ROUND(G15,0) -> 0 | I15: =+H15*D15 -> 0
B16: CHANCLAS | C16: Mujer Adulta: Tallas Entre 34 y 42 | D16: 1 | E16: 19900 | F16: =$D16*E16 -> 19900 | H16: =ROUND(G16,0) -> 0 | I16: =+H16*D16 -> 0
B17: BOTAS DE CAUCHO | C17: Mujer Adulta: Tallas Entre 34 y 42 | D17: 1 | E17: 49900 | F17: =$D17*E17 -> 49900 | H17: =ROUND(G17,0) -> 0 | I17: =+H17*D17 -> 0
B18: PIJAMA | C18: Mujer Adulta: Tallas S, M, L, XL, XXL. | D18: 1 | E18: 49900 | F18: =$D18*E18 -> 49900 | H18: =ROUND(G18,0) -> 0 | I18: =+H18*D18 -> 0
B19: PANTYS MATERNOS | C19: Mujer Embarazada: S, M, L, XL, XXL. | D19: 1 | E19: 52400 | F19: =$D19*E19 -> 52400 | H19: =ROUND(G19,0) -> 0 | I19: =+H19*D19 -> 0
... B62: PAÑALERAS (APLICA SOLO PARA BEBES NACIDOS EN EL TIEMPO DE ACOGIDA) | C62: Bebes: 0-3, 3-6, 6-12, 12-18 Meses | D62: 1 | E62: 59900 | F62: =$D62*E62 -> 59900 | H62: =ROUND(G62,0) -> 0 | I62: =+H62*D62 -> 0
B63: TOTAL VESTUARIO ENTREGABLE POR DEMANDA RURAL | F63: =SUM(F8:F62) -> 2712300 | I63: =SUM(I8:I62) -> 0
B64: Nota 1: Para sustentar esta erogación, deberán presentarse los documentos descritos en la lista de chequeo correspondiente a este rubro, entre las que se encuentra: Soporte del pago de vestuario, copia de las facturas legibles y completas (cantidades, descripción del detalle conforme a lo descrito en la propuesta económica, valor unitario, valor total, discriminación de impuesto), de los comprobantes de egreso y pago (timbre de banco, transferencia electrónica, Boucher, consignación) y del formato de entrega de vestuario a las mujeres y su sistema familiar, debidamente diligenciados y firmados (firma de la profesional de la Casa Refugio que entrega, firma o huella en caso que no sepa escribir) de la mujer que recibe y firma de la profesional de apoyo designado por la Secretaría Distrital de la Mujer y los demás documentos que solicite la Secretaría Distrital de la Mujer. En ningún caso se reconocerán valores unitarios superiores a los establecidos en la oferta económica del oferente. Nota 2: Cuando se identifique la necesidad de vestuario diferente a lo contemplado previamente, debido a características particulares de la persona y/o pertenencia étnica, el operador podrá adquirir el elemento requerido con un valor equivalente a una de las prendas contempladas en el vestuario básico reconocido a demanda.

Sheet 3. ORIENTACIÓN EN SALUD_RU
B3: SECRETARIA DISTRITAL DE LA MUJER
B4: ANEXO DE OFERTA ECONÓMICA LOTE 2 MODALIDAD RURAL -HOJA 3. ELEMENTOS PARA EL ÁREA DE ORIENTACIÓN, GESTIÓN Y SEGUIMIENTO DE SERVICIOS EN SALUD POR CASA REFUGIO
B6: Elementos Entregables por Demanda | G6: PRESUPUESTO 2026
B7: NECESIDAD | C7: ESPECIFICACIONES | D7: CANTIDAD | E7: COSTO UNITARIO MÁXIMO (Incluido Iva) | F7: COSTO TOTAL MÁXIMO (Incluido Iva) | G7: COSTO UNITARIO OFERTADO (Incluido Iva) | H7: COSTO UNITARIO REDONDEADO (Incluido Iva) | I7: COSTO TOTAL OFERTADO (Incluido Iva)
B8: CABESTRILLO SENCILLO ADULTO - ADULTO | C8: Cabestrillo sencillo adulto – Adulto | D8: 2 | E8: 26100 | F8: =$D8*E8 -> 52200 | H8: =ROUND(G8,0) -> 0 | I8: =+H8*D8 -> 0
B9: CABESTRILLO SENCILLO INFANTIL - INFANTIL | C9: Cabestrillo sencillo infantil – Infantil | D9: 2 | E9: 21500 | F9: =$D9*E9 -> 43000 | H9: =ROUND(G9,0) -> 0 | I9: =+H9*D9 -> 0
B10: SABANAS DESECHABLES PARA CAMILLA TAMAÑO LARGO 170 A 210 CM Y ANCHO 60 A 80 CM PAQUETE X 10 UNIDADES | C10: Sabana para camilla desechable con borde en resortado largo entre 170 y 210cm y ancho entre 60 y 80cm - Azul PAQUETE X 10 UNIDADES | D10: 1 | E10: 34400 | F10: =$D10*E10 -> 34400 | H10: =ROUND(G10,0) -> 0 | I10: =+H10*D10 -> 0
B11: GUARDIANES 1,3 LT | C11: Guardianes 1,3 LT | D11: 1 | E11: 8800 | F11: =$D11*E11 -> 8800 | H11: =ROUND(G11,0) -> 0 | I11: =+H11*D11 -> 0
B12: JERINGA DESECHABLE DE 10 ML , AGUJA 21G X 1 1/2 DE 3 PARTES FABRICADA EN POLIPROPILENO GRADO MÉDICO; SISTEMA DE CIERRE LUER-LOCK (ROSCA) Y ESTÉRILES. | C12: Jeringa desechable de 10 ml , aguja 21g x 1 1/2 de 3 partes fabricada en polipropileno grado médico; sistema de cierre luer-lock (rosca) y estériles. | D12: 100 | E12: 400 | F12: =$D12*E12 -> 40000 | H12: =ROUND(G12,0) -> 0 | I12: =+H12*D12 -> 0
B13: COFIAS PAQUETE X 100 | C13: - Gorro cofia desechable, Elaborado en tela no tejida - Borde elástico - Talla única - Paquete x 100 | D13: 1 | E13: 20300 | F13: =$D13*E13 -> 20300 | H13: =ROUND(G13,0) -> 0 | I13: =+H13*D13 -> 0
B14: BATA DESECHABLE MÉDICA MANGA LARGA CON PUÑO | C14: Bata desechable médica manga larga con puño | D14: 10 | E14: 8700 | F14: =$D14*E14 -> 87000 | H14: =ROUND(G14,0) -> 0 | I14: =+H14*D14 -> 0
B15: POLAINAS ANTIDEZLIZANTES PAQUETE X 50 PARES | C15: -Material: tela quirúrgica. -Elástico resistente. -Sistema antideslizante -Desechable. | D15: 1 | E15: 28600 | F15: =$D15*E15 -> 28600 | H15: =ROUND(G15,0) -> 0 | I15: =+H15*D15 -> 0
B16: TAPABOCAS PAQUETE X 50 - AZUL | C16: Elaborado en tela no tejida Desechable. Con tiras elásticas | D16: 2 | E16: 14200 | F16: =$D16*E16 -> 28400 | H16: =ROUND(G16,0) -> 0 | I16: =+H16*D16 -> 0
B17: GEL ANTIBACTERIAL DE USO DIARIO TEXTURA SUAVE, DISEÑADO PARA CUIDAR, LIMPIAR Y DESINFECTAR LAS MANOS DE MANERA PROFUNDA | C17: Gel antibacterial de uso diario textura suave, diseñado para cuidar, limpiar y desinfectar las manos de manera profunda. 1 litro. | D17: 2 | E17: 20800 | F17: =$D17*E17 -> 41600 | H17: =ROUND(G17,0) -> 0 | I17: =+H17*D17 -> 0
B18: MICROPORE | C18: Micropore Color piel 1"x 10 yardas, 2.5cm x 9.1 mt | D18: 1 | E18: 3800 | F18: =$D18*E18 -> 3800 | H18: =ROUND(G18,0) -> 0 | I18: =+H18*D18 -> 0
B19: TERMÓMETRO DIGITAL | C19: Termómetro digital | D19: 1 | E19: 21700 | F19: =$D19*E19 -> 21700 | H19: =ROUND(G19,0) -> 0 | I19: =+H19*D19 -> 0
... B23: ALCOHOL ANTISÉPTICO FRASCO POR 700 ml | C23: Alcohol antiséptico frasco por 700 ml | D23: 3 | E23: 10800 | F23: =$D23*E23 -> 32400 | H23: =ROUND(G23,0) -> 0 | I23: =+H23*D23 -> 0
B24: BOTIQUÍN: Los elementos contenidos en el botiquín deberán mantenerse completos y en óptimas condiciones de uso. Cada vez que se consuman insumos o materiales, estos deberán ser repuestos de forma inmediata, garantizando la disponibilidad permanente de existencias en los consumibles básicos. Se deberán realizar verificaciones periódicas del contenido del botiquín para asegurar que se cumpla con el listado establecido en la normatividad vigente (Resolución 0705 de 2007 y Guía Técnica Colombiana GTC-45 del ICONTEC).
B25: GASAS LIMPIAS PAQUETE X 100 | C25: Gasas limpias paquete x 100 unidades | D25: 1 | E25: 3600 | F25: =$D25*E25 -> 3600 | H25: =ROUND(G25,0) -> 0 | I25: =+H25*D25 -> 0
B26: GASAS ESTÉRILES PAQUETE X 20 | C26: Gasas estériles x 20 unidades | D26: 3 | E26: 9400 | F26: =$D26*E26 -> 28200 | H26: =ROUND(G26,0) -> 0 | I26: =+H26*D26 -> 0
B27: APÓSITOS O COMPRESAS NO ESTÉRILES | C27: Apósitos o compresas no estériles UND | D27: 4 | E27: 9200 | F27: =$D27*E27 -> 36800 | H27: =ROUND(G27,0) -> 0 | I27: =+H27*D27 -> 0
B28: ESPARADRAPO DE TELA ROLLO DE 4" | C28: Esparadrapo de tela rollo de 4" | D28: 2 | E28: 20100 | F28: =$D28*E28 -> 40200 | H28: =ROUND(G28,0) -> 0 | I28: =+H28*D28 -> 0
B29: BAJALENGUAS | C29: Bajalenguas paquete por 20 unidades | D29: 2 | E29: 2600 | F29: =$D29*E29 -> 5200 | H29: =ROUND(G29,0) -> 0 | I29: =+H29*D29 -> 0
B30: VENDA ELÁSTICA 2 X 5 YARDAS | C30: Venda elástica 2 x 5 yardas | D30: 2 | E30: 1800 | F30: =$D30*E30 -> 3600 | H30: =ROUND(G30,0) -> 0 | I30: =+H30*D30 -> 0
B31: VENDA ELÁSTICA 3 X 5 YARDAS | C31: Venda elástica 3 x 5 yardas | D31: 2 | E31: 2500 | F31: =$D31*E31 -> 5000 | H31: =ROUND(G31,0) -> 0 | I31: =+H31*D31 -> 0
B32: VENDA ELÁSTICA 5 X 5 YARDAS | C32: Venda elástica 5 x 5 yardas | D32: 2 | E32: 4500 | F32: =$D32*E32 -> 9000 | H32: =ROUND(G32,0) -> 0 | I32: =+H32*D32 -> 0
B33: VENDA DE ALGODÓN 3 X 5 YARDAS | C33: Venda de algodón 3 x 5 yardas | D33: 2 | E33: 3000 | F33: =$D33*E33 -> 6000 | H33: =ROUND(G33,0) -> 0 | I33: =+H33*D33 -> 0
B34: VENDA DE ALGODÓN 5 X 5 YARDAS | C34: Venda de algodón 5 x 5 yardas | D34: 2 | E34: 4800 | F34: =$D34*E34 -> 9600 | H34: =ROUND(G34,0) -> 0 | I34: =+H34*D34 -> 0
B35: JABÓN QUIRÚRGICO CLORHEXIDINA GLUCONATO 4% | C35: Jabón Quirúrgico Clorhexidina Gluconato 4% (galón).120 ML Nota: Registro INVIMA | D35: 1 | E35: 63700 | F35: =$D35*E35 -> 63700 | H35: =ROUND(G35,0) -> 0 | I35: =+H35*D35 -> 0
B36: SOLUCIÓN SALINA 0.9% BOLSA DE 250cc | C36: Bolsa de 250 cc | D36: 5 | E36: 4400 | F36: =$D36*E36 -> 22000 | H36: =ROUND(G36,0) -> 0 | I36: =+H36*D36 -> 0
... B51: ELEMENTOS DE BARRERA O MÁSCARA PARA RCP | C51: Elementos de barrera o máscara para RCP | D51: 2 | E51: 12000 | F51: =$D51*E51 -> 24000 | H51: =ROUND(G51,0) -> 0 | I51: =+H51*D51 -> 0
B52: TOTAL ELEMENTOS PARA EL ÁREA DE ORIENTACIÓN, GESTIÓN Y SEGUIMIENTO DE SERVICIOS EN SALUD | F52: =SUM(F8:F51) -> 1085300 | I52: =SUM(I8:I51) -> 0
B53: Nota 1: Para el rubro de elementos para el área de atención básica en salud reconocidos a demanda, se reconocerá el costo de acuerdo con el valor unitario presentado en la oferta económica conforme a los soportes de entrega de acuerdo con lo establecido en la lista de chequeo. En ningún caso se reconocerán valores superiores a los establecidos en la oferta económica del oferente. Para su acreditación y pago deberá incluirse los siguientes soportes: Documento interno del operador en el cual relaciona los elementos utilizados durante el periodo reportado y/o mes de ejecución, valor unitario y valor total, firmado por el representante legal, Formato establecido por la Secretaria Distrital de la Mujer, donde se relacione la entrega de elementos firmado por la profesional del área, la coordinadora Administrativa y de la profesional de la Secretaría Distrital de la Mujer y demás documentos establecidos en la lista de chequeo. NOTA 2: Los elementos contenidos en el botiquín deberán mantenerse completos y en óptimas condiciones de uso. Cada vez que se agote, estos deberán ser repuestos de forma inmediata, garantizando la disponibilidad permanente de existencias en los consumibles básicos. Se deberán realizar verificaciones periódicas del contenido del botiquín para asegurar que se cumpla con el listado establecido en la normatividad vigente (Resolución 0705 de 2007 y Guía Técnica Colombiana GTC-45 del ICONTEC). NOTA 3: Los elementos cuya descripción sea la misma en los diferentes rubros deberán conservar el mismo valor unitario de cotización. En caso de que la Secretaría identifique diferencias en los valores cotizados para elementos con idénticas características, especificaciones o presentación, se tomará como válido el valor unitario más bajo registrado en las cotizaciones presentadas. NOTA 4: En cuanto al uso de jeringas, cuando el elemento se haya agotado y de ser requerido para una mujer o persona de su sistema familiar, se debe tener en cuenta que, se debe iniciar el proceso de solicitud de jeringas ante la Entidad Administradora de Planes de Beneficio en Salud (EAPB), aun así, cuando no se obtenga una respuesta positiva ante la gestión que haya realizado el equipo interdisciplinario —incluyendo las gestiones adelantadas mediante queja ante la Superintendencia Nacional de Salud, derecho de petición y/o acción de tutela, la Casa Refugio deberá garantizar la disponibilidad del insumo requerido, en el marco de sus responsabilidades de atención integral y garantía de derechos en salud.
B54: El insumo estará destinado exclusivamente para la preparación y suministro de medicamentos por vía oral y/o lavados nasales en menores de edad y/o personas adultas que, por condiciones clínicas o diagnósticos específicos, presenten limitaciones para la ingesta directa. Esta disposición tiene como finalidad asegurar la adherencia terapéutica, la continuidad del tratamiento farmacológico prescrito, la prevención de accidentes y la protección del derecho fundamental a la salud. El área de Gestión, orientación y seguimiento de servicios en salud será responsable de priorizar los casos de acuerdo con la frecuencia de suministro y las particularidades clínicas identificadas, clasificando aquellos de alta demanda del insumo para iniciar oportunamente las gestiones administrativas y la articulación con la EAPB correspondiente.Todas las acciones deberán desarrollarse en observancia de los topes máximos establecidos en el anexo técnico vigente, garantizando criterios de racionalidad, oportunidad y eficiencia en el uso de los recursos disponibles. Nota 5: Todos los productos y elementos relacionados en el presente anexo técnico deberán contar con registro sanitario vigente ante el INVIMA, conforme a la normatividad sanitaria aplicable.

Sheet 3. ORIENTACIÓN EN SALUD (UR)_RU
B3: SECRETARIA DISTRITAL DE LA MUJER
B4: ANEXO DE OFERTA ECONÓMICA LOTE 2 MODALIDAD RURAL - HOJA 3. ELEMENTOS PARA EL ÁREA DE ORIENTACIÓN, GESTIÓN Y SEGUIMIENTO - ÚNICO RECONOCIMIENTO DE SERVICIOS EN SALUD POR CASA REFUGIO
B6: Elementos Entregables por Demanda | G6: PRESUPUESTO 2026
B7: NECESIDAD | C7: ESPECIFICACIONES | D7: CANTIDAD | E7: COSTO UNITARIO MÁXIMO (Incluido Iva) | F7: COSTO TOTAL MÁXIMO (Incluido Iva) | G7: COSTO UNITARIO OFERTADO (Incluido Iva) | H7: COSTO UNITARIO REDONDEADO (Incluido Iva) | I7: COSTO TOTAL OFERTADO (Incluido Iva)
B9: ELEMENTOS PARA EL ÁREA DE ORIENTACIÓN, GESTIÓN Y SEGUIMIENTO DE SERVICIOS EN SALUD POR CADA CASA REFUGIO - Único Reconocimiento se incluyen los elementos que serán reconocidos por una sola vez durante el primer periodo de ejecución del contrato a partir de la fecha de inicio de este, dado que corresponden a la dotación inicial o a la implementación básica necesaria para el inicio y adecuado desarrollo de las actividades operativas. Estos elementos corresponden a la dotación inicial o a la implementación básica requerida para el inicio y adecuado desarrollo de las actividades operativas del servicio. En este sentido, serán reconocidos por una sola vez durante el primer periodo de ejecución del contrato, contado a partir de la suscripción del acta de inicio, y no serán objeto de prorrateo en su valor de pago, en razón a que no constituyen bienes de consumo recurrente. En caso de presentarse daño, deterioro o avería que afecte su funcionamiento, dichos elementos deberán ser reparados o reemplazados por el operador, garantizando el cumplimiento de las especificaciones técnicas establecidas en el Anexo Técnico; no obstante, no se reconocerán pagos adicionales por concepto de mantenimiento, reposición o ajustes posteriores, en la medida en que estos riesgos hacen parte de la adecuada ejecución del contrato.
B10: DISPENSADOR INSTITUCIONAL DE TOALLAS DE PAPEL EN Z | C10: - Dispensador para toallas tipo Z o C. - Medidas aproximadas: alto:19 cm; ancho: 26 cm y fondo:10 cm. - Peso: 470 g. - Material: polipropileno. - Anclaje en pared al lado o en el área de lavado de manos. | D10: 1 | E10: 41500 | F10: =$D10*E10 -> 41500 | H10: =ROUND(G10,0) -> 0 | I10: =+H10*D10 -> 0
B11: TIJERA | C11: Tijera | D11: 1 | E11: 8500 | F11: =$D11*E11 -> 8500 | H11: =ROUND(G11,0) -> 0 | I11: =+H11*D11 -> 0
B12: LINTERNA | C12: Linterna | D12: 1 | E12: 23000 | F12: =$D12*E12 -> 23000 | H12: =ROUND(G12,0) -> 0 | I12: =+H12*D12 -> 0
F13: =SUM(F10:F12) -> 73000 | I13: =SUM(I10:I12) -> 0
B14: Nota 1: Único Reconocimiento se incluyen los elementos que serán reconocidos por una sola vez durante el primer periodo de ejecución del contrato a partir de la fecha de inicio de este, dado que corresponden a la dotación inicial o a la implementación básica necesaria para el inicio y adecuado desarrollo de las actividades operativas. Los elementos adquiridos una única vez en el marco de la ejecución contractual no deben ser objeto de prorrateo en su valor de pago. En caso de daño o avería que afecte su funcionamiento, estos elementos deberán repararse y/o remplazarse y deberán cumplir con las especificaciones técnicas descritas en el Anexo Técnico numeral 6.5, sin embargo, no se contemplarán pagos adicionales por mantenimiento, reposición o ajustes posteriores como parte de este concepto. Nota 2: Los elementos cuya descripción sea la misma en los diferentes rubros deberán conservar el mismo valor unitario de cotización. En caso de que la Secretaría identifique diferencias en los valores cotizados para elementos con idénticas características, especificaciones o presentación, se tomará como válido el valor unitario más bajo registrado en las cotizaciones presentadas.

Sheet 4. ELEMENTOS PAPELERÍA_RU
B3: SECRETARIA DISTRITAL DE LA MUJER
B4: ANEXO DE OFERTA ECONÓMICA LOTE 2 MODALIDAD RURAL - HOJA 4. ELEMENTOS DE PAPELERÍA PARA EL ÁREA DE ACOMPAÑAMIENTO PEDAGÓGICO RECONOCIDOS A DEMANDA ELEMENTOS DE DOTACIÓN PARA ESPACIOS SOCIALES, INTEGRACIÓN O RECREACIÓN
B6: Elementos Entregables por Demanda | G6: PRESUPUESTO 2026
B7: NECESIDAD | C7: ESPECIFICACIONES | D7: CANTIDAD | E7: COSTO UNITARIO MÁXIMO (Incluido Iva) | F7: COSTO TOTAL MÁXIMO (Incluido Iva) | G7: COSTO UNITARIO OFERTADO (Incluido Iva) | H7: COSTO UNITARIO REDONDEADO (Incluido Iva) | I7: COSTO TOTAL OFERTADO (Incluido Iva)
B8: BARRAS DE SILICONA GRANDE | C8: -Grande X 10 unidades | D8: 2 | E8: 20700 | F8: =$D8*E8 -> 41400 | H8: =ROUND(G8,0) -> 0 | I8: =+H8*D8 -> 0
B9: BLOCK CARTA RAYADO DE 50 HOJAS | C9: -Tipo Carta rayado de 50 hojas | D9: 1 | E9: 4800 | F9: =$D9*E9 -> 4800 | H9: =ROUND(G9,0) -> 0 | I9: =+H9*D9 -> 0
B10: BOLÍGRAFO NEGRO CAJA POR 12 | C10: - Bolígrafos nuevos, larga duración, cuerpo ergonómico, color de tinta negra | D10: 1 | E10: 8600 | F10: =$D10*E10 -> 8600 | H10: =ROUND(G10,0) -> 0 | I10: =+H10*D10 -> 0
B11: BORRADOR TIPO NATA CAJA X 12 UNDS | C11: -Color blanco, ideal para borrar lápiz de grafito. | D11: 1 | E11: 10000 | F11: =$D11*E11 -> 10000 | H11: =ROUND(G11,0) -> 0 | I11: =+H11*D11 -> 0
B12: CAJA X12 DE COLORES JUMBO TRIANGULAR | C12: -Presentación caja por 12 unidades -Tipo Jumbo Triangular x12 -5,5 milímetros de mina | D12: 6 | E12: 31000 | F12: =$D12*E12 -> 186000 | H12: =ROUND(G12,0) -> 0 | I12: =+H12*D12 -> 0
B13: CARTÓN PAJA OCTAVOS | C13: Por octavos, color crema, paquete por 10 unid | D13: 1 | E13: 10200 | F13: =$D13*E13 -> 10200 | H13: =ROUND(G13,0) -> 0 | I13: =+H13*D13 -> 0
B14: CARTULINA POR OCTAVOS | C14: Paquete x 100 unidades | D14: 1 | E14: 17900 | F14: =$D14*E14 -> 17900 | H14: =ROUND(G14,0) -> 0 | I14: =+H14*D14 -> 0
B15: CINTA DE ENMASCARAR 48mm | C15: Rollo de cinta de enmascarar de 48mm * 40 mts. | D15: 2 | E15: 12000 | F15: =$D15*E15 -> 24000 | H15: =ROUND(G15,0) -> 0 | I15: =+H15*D15 -> 0
B16: CINTA TRANSPARENTE AUTOADHESIVAS 48mm | C16: Cintas transparente de 48mm * 40 mts. | D16: 2 | E16: 5000 | F16: =$D16*E16 -> 10000 | H16: =ROUND(G16,0) -> 0 | I16: =+H16*D16 -> 0
B17: CRAYOLAS | C17: Tipo Extra Jumbo x12 Colores brillantes. Hechos bajo estándares internacionales de calidad. Tamaño Jumbo en cuerpos redondo y triangular. No tóxicos. | D17: 2 | E17: 16000 | F17: =$D17*E17 -> 32000 | H17: =ROUND(G17,0) -> 0 | I17: =+H17*D17 -> 0
B18: TIZAS | C18: Tiza Pastel x12 unidades Medidas: 1.9 cm x 7.3 cm x 18.9 cm en empaque | D18: 2 | E18: 16900 | F18: =$D18*E18 -> 33800 | H18: =ROUND(G18,0) -> 0 | I18: =+H18*D18 -> 0
B19: CUADERNOS CUADRICULADOS x 100 HOJAS | C19: Grapado x 100 hojas | D19: 5 | E19: 2500 | F19: =$D19*E19 -> 12500 | H19: =ROUND(G19,0) -> 0 | I19: =+H19*D19 -> 0
... B70: HILO BUFALO | C70: Hilo Búfalo x 40grs, se utiliza en la bisutería para tejer mostacillas, chaquiras, chaquirones, entre otro tipo de cuentas pequeñas, utilizado también para tejer en telar | D70: 2 | E70: 10000 | F70: =$D70*E70 -> 20000 | H70: =ROUND(G70,0) -> 0 | I70: =+H70*D70 -> 0
B71: TOTAL ELEMENTOS DE PAPELERÍA PARA EL ÁREA DE ACOMPAÑAMIENTO PEDAGÓGICO RECONOCIDOS A DEMANDA | F71: =SUM(F8:F70) -> 2517300 | I71: =SUM(I8:I70) -> 0
B72: Nota 1: Todos los elementos descritos en la tabla anterior Elementos de dotación para el acompañamiento pedagógico de la Casa Refugio, serán verificados y reconocidos conforme al uso mensual, de acuerdo con las actividades planeadas y desarrolladas por el área responsable. Nota 2: Se reconocerá el valor unitario presentado en la oferta económica conforme a los soportes de entrega de acuerdo con lo establecido en la lista de chequeo. En ningún caso se reconocerán valores unitarios superiores a los establecidos en la oferta económica del oferente. Para su acreditación y pago deberá incluirse los siguientes soportes: Documento interno del operador en el cual relaciona los elementos utilizados durante el periodo reportado y/o mes de ejecución, valor unitario y valor total, firmado por el representante legal, Formato establecido por la Secretaria Distrital de la Mujer, donde se relacione la entrega de elementos de forma diaria, semanal o mensual al personal del área, firmado por la coordinadora administrativa y la profesional del área de la Casa Refugio, y de la profesional de la Secretaría Distrital de la Mujer y demás documentos establecidos en la lista de chequeo. NOTA 3: Los elementos cuya descripción sea la misma en los diferentes rubros deberán conservar el mismo valor unitario de cotización. En caso de que la Secretaría identifique diferencias en los valores cotizados para elementos con idénticas características, especificaciones o presentación, se tomará como válido el valor unitario más bajo registrado en las cotizaciones presentadas.
B73: NOTA 4: Teniendo en cuenta el alcance de la Estrategia, en el marco del proceso de atención, el contratista a través del equipo interdisciplinario deberá realizar la gestión para que, al ingreso y luego de la valoración del área de pedagogía, se identifique la posibilidad de articular con redes de apoyo familiares, sociales o institucionales el acceso a los útiles e insumos escolares que se requieran para la continuidad de las actividades académicas y/o de formación tanto para la mujer como para sus hijos e hijas. NOTA 5: Es importante utilizar los ele mentos de papelería mencionados en este Anexo Técnico para el desarrollo de las actividades colectivas, por lo cual deberán ser contemplados desde el diseño de las metodologías a implementar en estas actividades, propendiendo por el uso de la creatividad y el aprendizaje activo de las personas acogidas.

Sheet 4. ELEMENTOS PAPELERÍA (UR)_RU
B3: SECRETARIA DISTRITAL DE LA MUJER
B4: ANEXO DE OFERTA ECONÓMICA LOTE 2 MODALIDAD RURAL - HOJA 4. ELEMENTOS DE PAPELERÍA PARA EL ÁREA DE ACOMPAÑAMIENTO PEDAGÓGICO RECONOCIDOS A DEMANDA ELEMENTOS DE DOTACIÓN PARA ESPACIOS SOCIALES, INTEGRACIÓN O RECREACIÓN - ÚNICO RECONOCIMIENTO
B6: Elementos Entregables por Demanda | G6: PRESUPUESTO 2026
B7: NECESIDAD | C7: ESPECIFICACIONES | D7: CANTIDAD | E7: COSTO UNITARIO MÁXIMO (Incluido Iva) | F7: COSTO TOTAL MÁXIMO (Incluido Iva) | G7: COSTO UNITARIO OFERTADO (Incluido Iva) | H7: COSTO UNITARIO REDONDEADO (Incluido Iva) | I7: COSTO TOTAL OFERTADO (Incluido Iva)
B9: ELEMENTOS DE PAPELERÍA PARA EL ÁREA DE ACOMPAÑAMIENTO PEDAGÓGICO RECONOCIDOS A DEMANDA - Único Reconocimiento incluyen los elementos que serán reconocidos por una sola vez durante el primer periodo de ejecución del contrato a partir de la fecha de inicio de este, dado que corresponden a la dotación inicial o a la implementación básica necesaria para el inicio y adecuado desarrollo de las actividades operativas. Estos elementos corresponden a la dotación inicial o a la implementación básica requerida para el inicio y adecuado desarrollo de las actividades operativas del servicio. En este sentido, serán reconocidos por una sola vez durante el primer periodo de ejecución del contrato, contado a partir de la suscripción del acta de inicio, y no serán objeto de prorrateo en su valor de pago, en razón a que no constituyen bienes de consumo recurrente. En caso de presentarse daño, deterioro o avería que afecte su funcionamiento, dichos elementos deberán ser reparados o reemplazados por el operador, garantizando el cumplimiento de las especificaciones técnicas establecidas en el Anexo Técnico; no obstante, no se reconocerán pagos adicionales por concepto de mantenimiento, reposición o ajustes posteriores, en la medida en que estos riesgos hacen parte de la adecuada ejecución del contrato.
B10: PISTOLA PARA SILICONA GRANDE La pistola de silicona se adquiere en una sola compra y se repondrá solamente cuando sea necesario por daño o averío que afecte su funcionamiento. | C10: -Apta para uso de barras de silicona gruesas -Conexión eléctrica -60W -Entre 110V-240V | D10: 1 | E10: 18000 | F10: =$D10*E10 -> 18000 | H10: =ROUND(G10,0) -> 0 | I10: =+H10*D10 -> 0
B11: TRANSPORTADOR 360 º | C11: Transportador de 360° fabricado en plástico. | D11: 2 | E11: 3600 | F11: =$D11*E11 -> 7200 | H11: =ROUND(G11,0) -> 0 | I11: =+H11*D11 -> 0
B12: COMPÁS DE PRECISIÓN Este elemento se debe usar con acompañamiento de las pedagogas o profesional responsable de la actividad en tareas escolares. | C12: Con mina de repuesto. | D12: 2 | E12: 19900 | F12: =$D12*E12 -> 39800 | H12: =ROUND(G12,0) -> 0 | I12: =+H12*D12 -> 0
B13: TIJERAS PUNTA ROMA | C13: De tamaño entre 10 y 13 cm, con capacidad para cortar papel, tela, cartulina etc, y diseño adecuado para derechos y zurdos. De hoja (cuchilla) de acero inoxidable y punta roma. El mango forrado en colores variados, resistente a quebrarse. | D13: 4 | E13: 7900 | F13: =$D13*E13 -> 31600 | H13: =ROUND(G13,0) -> 0 | I13: =+H13*D13 -> 0
B14: TIJERAS OFICINA 8,5 Este elemento es de uso exclusivo de las pedagogas o profesional responsable de la actividad y no podrá ser manipulado por las mujeres ni sus personas a cargo. Se adquiere una sola vez y se repondrá según necesidad por daño o no funcionamiento del elemento. | C14: Hoja de acero. | D14: 1 | E14: 6500 | F14: =$D14*E14 -> 6500 | H14: =ROUND(G14,0) -> 0 | I14: =+H14*D14 -> 0
B15: ELEMENTOS DE DOTACIÓN PARA ESPACIOS SOCIALES, INTEGRACIÓN O RECREACIÓN
B16: ELEMENTOS QUE PROMUEVAN ESPACIOS DE RECREACIÓN E INTEGRACIÓN | C16: Juegos que fomenten la creatividad y la imaginación, juegos que permiten a los más pequeños estimular su pensamiento abstracto y aprender a resolver problemas imaginando posibles soluciones, ver sus fortalezas y debilidades y contribuir en la construcción de su autoestima y a la integración familiar y de las personas acogidas. Se recomienda el acceso a elementos deportivos como balones, lazos para saltar, pelotas, entre otros. | D16: 8 | E16: 8400 | F16: =$D16*E16 -> 67200 | H16: =ROUND(G16,0) -> 0 | I16: =+H16*D16 -> 0
B17: ARMATODO DE 100 PIEZAS | C17: Material plástico (polipropileno) rígido y resistente, Ficha grande No toxico ni nocivo, figuras de formas y tamaños grandes que permiten diferentes tipos de ensamble entre ellas. Sin riesgo de ser ingeridas, empaque tipo tula. | D17: 2 | E17: 119800 | F17: =$D17*E17 -> 239600 | H17: =ROUND(G17,0) -> 0 | I17: =+H17*D17 -> 0
B18: JUEGOS DE MESA | C18: Material plástico (polipropileno), rígido y resistente, no toxico ni nocivo, figuras de formas y tamaños variados, para 4 a 8 jugadores. | D18: 4 | E18: 39900 | F18: =$D18*E18 -> 159600 | H18: =ROUND(G18,0) -> 0 | I18: =+H18*D18 -> 0
B19: JUEGOS TRADICIONALES | C19: Yoyo, trompo, coca (2 de cada uno) | D19: 6 | E19: 36000 | F19: =$D19*E19 -> 216000 | H19: =ROUND(G19,0) -> 0 | I19: =+H19*D19 -> 0
B20: CUENTOS INFANTILES NO SEXISTAS PARA NIÑAS Y NIÑOS | C20: Colección de cuentos para niñas y niños de diferentes edades | D20: 12 | E20: 36000 | F20: =$D20*E20 -> 432000 | H20: =ROUND(G20,0) -> 0 | I20: =+H20*D20 -> 0
B21: INSTRUMENTOS MUSICALES NO PROFESIONALES | C21: Instrumentos musicales no profesionales, que fomenten la recreación y diversión de las personas acogidas de acuerdo con los grupos de edad. Opciones recomendadas: tambor, pandereta, maracas, xilófono, claves en madera, triángulo. Preferiblemente que se puedan tocar con las manos y no con la boca, para evitar el riesgo de infecciones. | D21: 10 | E21: 24800 | F21: =$D21*E21 -> 248000 | H21: =ROUND(G21,0) -> 0 | I21: =+H21*D21 -> 0
F22: =SUM(F10:F21) -> 1465500 | I22: =SUM(I10:I21) -> 0
B23: Nota 1: Único Reconocimiento se incluyen los elementos que serán reconocidos por una sola vez durante el primer periodo de ejecución del contrato a partir de la fecha de inicio de este, dado que corresponden a la dotación inicial o a la implementación básica necesaria para el inicio y adecuado desarrollo de las actividades operativas. Los elementos adquiridos una única vez en el marco de la ejecución contractual no deben ser objeto de prorrateo en su valor de pago. En consecuencia, si se llegaran a requerir entregas adicionales, el equipo técnico realizará la respectiva revisión y validación de la necesidad, conforme a las condiciones establecidas en el proceso de acogida. Estos elementos se repondrán únicamente cuando sea necesario por daño o avería que afecte su funcionamiento, y deberán cumplir con las especificaciones técnicas descritas en el numeral 6.6. del Anexo Técnico. Nota 2: Estos elementos hacen parte de la dotación para las áreas de acompañamiento pedagógico y área de actividades colectivas, ítems 12 y 15 del numeral 4.3.2.2 requisitos de las áreas y/o espacios de atención.

Sheet 5. ASEO INSTITUCIONAL_RU
B3: SECRETARIA DISTRITAL DE LA MUJER
B4: ANEXO DE OFERTA ECONÓMICA LOTE 2 MODALIDAD RURAL - HOJA 5. DOTACIÓN DE ELEMENTOS DE ASEO INSTITUCIONAL
B6: Elementos de Aseo Institucional | G6: PRESUPUESTO 2026
B7: NECESIDAD | C7: ESPECIFICACIONES | D7: CANTIDAD | E7: COSTO UNITARIO MÁXIMO (Incluido Iva) | F7: COSTO TOTAL MÁXIMO (Incluido Iva) | G7: COSTO UNITARIO OFERTADO (Incluido Iva) | H7: COSTO UNITARIO REDONDEADO (Incluido Iva) | I7: COSTO TOTAL OFERTADO (Incluido Iva)
B8: RECOGEDOR. Se debe disponer de un recogedor para cada una de las siguientes áreas: servicio de alimentos, áreas comunes, shut y baños, destinados al uso de las operarias. El quinto recogedor será de uso exclusivo para las mujeres que realizan actividades de aseo en la Casa Refugio. Este elemento se reemplazará únicamente cuando se encuentre desgastado o en condiciones no aptas para su utilización. | C8: - Elaborado en plástico - Con banda de goma y dientas barre escobas - Mango con longitud mínima de 70 cm | D8: 5 | E8: 7500 | F8: =$D8*E8 -> 37500 | H8: =ROUND(G8,0) -> 0 | I8: =+H8*D8 -> 0
B9: BALDE | C9: - Elaborado en plástico - Capacidad de mínima de 10 litros - Con manija móvil - Con "pico" antiderrames | D9: 2 | E9: 19000 | F9: =$D9*E9 -> 38000 | H9: =ROUND(G9,0) -> 0 | I9: =+H9*D9 -> 0
B10: TRAPERO. Se debe disponer de un trapero para cada una de las siguientes áreas: servicio de alimentos, áreas comunes, shut y baños, destinados al uso de las operarias. El quinto trapero será de uso exclusivo para las mujeres que realizan actividades de aseo en la Casa Refugio. Este elemento se reemplazará únicamente cuando se encuentre desgastado o en condiciones no aptas para su utilización | C10: - Elaborado con hilaza de algodón natural - Mecha con peso mínimo 250 gr y extensión mínima de 32 cm de largo - Material de base en plástico con acople tipo rosca -Codificar por colores de acuerdo con las áreas de la Casa Refugio y lo dispuesto en el Plan de Saneamiento Básico. | D10: 5 | E10: 12900 | F10: =$D10*E10 -> 64500 | H10: =ROUND(G10,0) -> 0 | I10: =+H10*D10 -> 0
B11: ESCOBA. Se debe disponer de una escoba para cada una de las siguientes áreas: servicio de alimentos, áreas comunes, shut y baños, destinados al uso de las operarias. La quinta escoba será de uso exclusivo para las mujeres que realizan actividades de aseo en la Casa Refugio. Este elemento se reemplazará únicamente cuando se encuentre desgastado o en condiciones no aptas para su utilización. | C11: - Cerdas duras elaboradas con PET calibre entre 0,4 y 0,6 mm. - Área de barrido mínima de 25 cm de ancho, 6 cm mínimo de largo y 120 cm de alto - Material de base en plástico con acople tipo rosca -Codificar por colores de acuerdo con las áreas de la Casa Refugio y lo dispuesto en el Plan de Saneamiento Básico. | D11: 5 | E11: 29900 | F11: =$D11*E11 -> 149500 | H11: =ROUND(G11,0) -> 0 | I11: =+H11*D11 -> 0
B12: CEPILLO DE MANO LAVA-ROPA | C12: - Tipo plancha, con mango de plástico - Cuerpo elaborado en plástico - Cerdas duras en fibra plástica - Tamaño mínimo de 15 cm de largo por 5 cm de ancho por 6 cm de alto. | D12: 3 | E12: 5900 | F12: =$D12*E12 -> 17700 | H12: =ROUND(G12,0) -> 0 | I12: =+H12*D12 -> 0
B13: BOMBILLAS AHORRADORAS DE LUZ | C13: - Bombillos tipo Led 40w Luz Fría | D13: 4 | E13: 25900 | F13: =$D13*E13 -> 103600 | H13: =ROUND(G13,0) -> 0 | I13: =+H13*D13 -> 0
B14: COGE OLLAS | C14: - Material del utensilio en silicona - Diseño para la movilización de ollas calientes - Medidas: mínimo de 10 cm NOTA: El elemento se reconocerá únicamente cuando se evidencie daño o exista la necesidad justificada de su reemplazo, conforme a la verificación y validación técnica realizada por el área responsable. | D14: 3 | E14: 19900 | F14: =$D14*E14 -> 59700 | H14: =ROUND(G14,0) -> 0 | I14: =+H14*D14 -> 0
B15: SERVILLETAS PAQUETE DE 100 | C15: - Hoja sencilla absorbente, dimensión aproximada mínima de 27 x 16.5 cm. - Paquete por 100 unidades | D15: 6 | E15: 3400 | F15: =$D15*E15 -> 20400 | H15: =ROUND(G15,0) -> 0 | I15: =+H15*D15 -> 0
B16: CAJA DE FOSFOROS | C16: - Caja x 200 unidades, para uso doméstico, de encendido al contacto por raspado. | D16: 2 | E16: 2800 | F16: =$D16*E16 -> 5600 | H16: =ROUND(G16,0) -> 0 | I16: =+H16*D16 -> 0
B17: BOLSAS NEGRAS INDUSTRIALES PAQUETE X 6 | C17: - Elaborada en polietileno de baja densidad - De color negro calibre de mínimo 2 - Tamaño de 90 cm de ancho por 120 cm de largo | D17: 8 | E17: 5900 | F17: =$D17*E17 -> 47200 | H17: =ROUND(G17,0) -> 0 | I17: =+H17*D17 -> 0
B18: BOLSAS ROJAS PAQUETE X 6 | C18: - Elaborada en polietileno de baja densidad - De color rojo - Calibre de mínimo 2 -Tamaño de 45 cm de ancho por 60 cm de largo - Con impresión de aviso de riesgo biológico. | D18: 3 | E18: 1000 | F18: =$D18*E18 -> 3000 | H18: =ROUND(G18,0) -> 0 | I18: =+H18*D18 -> 0
B19: BOLSAS VERDES PAQUETE X 6 | C19: - Elaborada en polietileno de baja densidad - De color verde - tamaño de 90 cm de ancho por 120 cm de largo | D19: 8 | E19: 6400 | F19: =$D19*E19 -> 51200 | H19: =ROUND(G19,0) -> 0 | I19: =+H19*D19 -> 0
... B44: BOLSAS ROJAS PAQUETE X 6 | C44: Elaborada en polietileno de baja densidad - De color rojo - Calibre de mínimo 2 tamaño de 31 cm ancho x 35 cm de largo - Con impresión de aviso de riesgo biológico | D44: 3 | E44: 2000 | F44: =$D44*E44 -> 6000 | H44: =ROUND(G44,0) -> 0 | I44: =+H44*D44 -> 0
B45: TOTAL ELEMENTOS ASEO INSTITUCIONAL | F45: =SUM(F8:F44) -> 1474000 | I45: =SUM(I8:I44) -> 0
B46: Nota 1: Se reconocerá conforme a la propuesta económica presentada y los soportes requeridos en la lista de chequeo. En ningún caso este valor podrá ser superior al valor de la oferta ni a la cantidad de elementos mensuales ofertados. Para su acreditación y pago deberá incluirse los siguientes soportes: Documento interno del operador en el cual relaciona los elementos utilizados durante el periodo reportado y/o mes de ejecución, valor unitario y valor total, firmado por el representante legal, Formato establecido por la Secretaria Distrital de la Mujer, donde se relacione la entrega de elementos de forma diaria o semanal al personal de servicios generales y cocina, conforme a la necesidad presentada por las áreas, con fecha de entrega, firma de la coordinadora administrativa, firma de quien recibe y firma de la profesional de la Secretaría Distrital de la Mujer y demás documentos establecidos en la lista de chequeo. La Secretaría Distrital de la Mujer NO reconocerá elementos que se encuentren preenvasados o reempacados; toda vez que la propuesta económica y el anexo técnico cuenta con las especificaciones para la entrega de estos elementos de forma unitaria. A su vez, se deben garantizar los protocolos de Bioseguridad. Nota 2: Todos los productos y elementos relacionados en el presente anexo técnico deberán contar con registro sanitario vigente ante el INVIMA, conforme a la normatividad sanitaria aplicable. Nota 3: Los elementos como cofias, tapabocas y polainas se podrán entregar para el desarrollo de actividades de supervisión y visitas de entes de control que se realicen en el servicio de alimentos.

Sheet 5. ASEO INSTITUCIONAL (UR)_RU
B3: SECRETARIA DISTRITAL DE LA MUJER
B4: ANEXO DE OFERTA ECONÓMICA LOTE 2 MODALIDAD RURAL- HOJA 5. DOTACIÓN DE ELEMENTOS DE ASEO INSTITUCIONAL - ÚNICO RECONOCIMIENTO
B6: Elementos de Aseo Institucional | G6: PRESUPUESTO 2026
B7: NECESIDAD | C7: ESPECIFICACIONES | D7: CANTIDAD | E7: COSTO UNITARIO MÁXIMO (Incluido Iva) | F7: COSTO TOTAL MÁXIMO (Incluido Iva) | G7: COSTO UNITARIO OFERTADO (Incluido Iva) | H7: COSTO UNITARIO REDONDEADO (Incluido Iva) | I7: COSTO TOTAL OFERTADO (Incluido Iva)
B9: ELEMENTO DE ASEO INSTITUCIONAL -Dotación de elementos de aseo institucional único reconocimiento se incluyen los elementos que serán reconocidos por una sola vez durante el primer periodo de ejecución del contrato a partir de la fecha de inicio de este, dado que corresponden a la dotación inicial o a la implementación básica necesaria para el inicio y adecuado desarrollo de las actividades operativas. Los elementos adquiridos una única vez en el marco de la ejecución contractual no deben ser objeto de prorrateo en su valor de pago. En consecuencia, si se llegaran a requerir entregas adicionales, el equipo técnico realizará la respectiva revisión y validación de la necesidad, conforme a las condiciones establecidas en el proceso de acogida. Estos elementos se repondrán únicamente cuando sea necesario por daño o avería que afecte su funcionamiento, y deberán cumplir con las especificaciones técnicas descritas en el numeral 5.3.2.3 del Anexo Técnico.
B10: DISPENSADOR INSTITUCIONAL DE TOALLAS DE PAPEL EN Z | C10: - Dispensador para toallas tipo Z o C. - Medidas aproximadas: alto:19 cm; ancho: 26 cm y fondo:10 cm. - Peso: 470 g. - Material: polipropileno. - Anclaje en pared al lado o en el área de lavado de manos del servicio de alimentos | D10: 1 | E10: 41500 | F10: =$D10*E10 -> 41500 | H10: =ROUND(G10,0) -> 0 | I10: =+H10*D10 -> 0
B11: BALDE DE LIMPIEZA CON ESCURRIDOR | C11: - Material Plástico - Incluye Cubeta, ruedas, escurridor y mango - Color amarillo - Capacidad 20 litros | D11: 1 | E11: 139900 | F11: =$D11*E11 -> 139900 | H11: =ROUND(G11,0) -> 0 | I11: =+H11*D11 -> 0
B12: CEPILLO PARA SANITARIO | C12: - Cerdas duras elaboradas en fibras plásticas - Extensión mínima de las cerdas es de 2,5 cm - Base y mango elaborados en plástico - Mango con longitud mínima de 33 cm Se debe disponer de un cepillo para lavado de sanitario por cada baño y se reemplazará solamente cuando se desgaste o no cuente con buenas condiciones para su utilización. | D12: 6 | E12: 16900 | F12: =$D12*E12 -> 101400 | H12: =ROUND(G12,0) -> 0 | I12: =+H12*D12 -> 0
F13: =SUM(F10:F12) -> 282800 | I13: =SUM(I10:I12) -> 0
B14: Nota 1: Único Reconocimiento se incluyen los elementos que serán reconocidos por una sola vez durante el primer periodo de ejecución del contrato a partir de la fecha de inicio de este, dado que corresponden a la dotación inicial o a la implementación básica necesaria para el inicio y adecuado desarrollo de las actividades operativas. Los elementos adquiridos una única vez en el marco de la ejecución contractual no deben ser objeto de prorrateo en su valor de pago. En caso de daño o avería que afecte su funcionamiento, estos elementos deberán repararse y/o remplazarse y deberán cumplir con las especificaciones técnicas descritas en el Anexo Técnico numeral 5.3.2.3, sin embargo, no se contemplarán pagos adicionales por mantenimiento, reposición o ajustes posteriores como parte de este concepto. Nota 2: Se reconocerá conforme a la propuesta económica presentada y los soportes requeridos en la lista de chequeo. En ningún caso este valor podrá ser superior al valor de la oferta ni a la cantidad de elementos mensuales ofertados. Para su acreditación y pago deberá incluirse los siguientes soportes: Documento interno del operador en el cual relaciona los elementos utilizados durante el periodo reportado y/o mes de ejecución, valor unitario y valor total, firmado por el representante legal, Formato establecido por la Secretaria Distrital de la Mujer, donde se relacione la entrega de elementos de forma diaria o semanal al personal de servicios generales y cocina, conforme a la necesidad presentada por las áreas, con fecha de entrega, firma de la coordinadora administrativa, firma de quien recibe y firma de la profesional de la Secretaría Distrital de la Mujer y demás documentos establecidos en la lista de chequeo. La Secretaría Distrital de la Mujer NO reconocerá elementos que se encuentren preenvasados o reempacados; toda vez que la propuesta económica y el anexo técnico cuenta con las especificaciones para la entrega de estos elementos de forma unitaria. A su vez, se deben garantizar los protocolos de Bioseguridad. Nota 3: Los elementos cuya descripción sea la misma en los diferentes rubros deberán conservar el mismo valor unitario de cotización. En caso de que la Secretaría identifique diferencias en los valores cotizados para elementos con idénticas características, especificaciones o presentación, se tomará como válido el valor unitario más bajo registrado en las cotizaciones presentadas.

Sheet 6. DOTACIÓN_RU
B3: SECRETARIA DISTRITAL DE LA MUJER
B4: ANEXO DE OFERTA ECONÓMICA LOTE 2 MODALIDAD RURAL - HOJA 6. DOTACIÓN
