Workbook

Sheet PRESUPUESTO
B2: DOTACIÓN OPERARIOS PTAP-PTAR
B3: ARTICULO PRESUPUESTAL (SIIF NACIÓN) | C3: RECURSO | D3: DESCRIPCIÓN DEL RUBRO | E3: UNIDAD BENEFICIADA | F3: VALOR APROXIMADO DE LA NECESIDAD | G3: SUBTOTAL UNIDAD | H3: PRESUPUESTO A UTILIZAR | I3: SALDO
B4: A-02-02-01-002-008 | C4: 10 | D4: DOTACIÓN (PRENDAS DE VESTIR DE CALZADO) | E4: BACAC | F4: 848385 | G4: =F4 -> 848385 | H4: =MÍNIMAS!W22 -> 0 | I4: =MÍNIMAS!W24 -> 848385
B5: A-02-02-01-002-008 | C5: 10 | D5: DOTACIÓN (PRENDAS DE VESTIR DE CALZADO) | E5: BAEEV3 | F5: 466111 | G5: =SUM(F5:F6) -> 932222 | H5: =MÍNIMAS!Y22 -> 0 | I5: =MÍNIMAS!Y24 -> 932222
B6: A-02-02-01-002-008 | C6: 10 | F6: 466111
B7: A-02-02-01-002-008 | C7: 10 | D7: DOTACIÓN (PRENDAS DE VESTIR DE CALZADO) | E7: BAMMA | F7: 466111 | G7: =SUM(F7:F8) -> 932222 | H7: =MÍNIMAS!AA22 -> 0 | I7: =MÍNIMAS!AA24 -> 932222
B8: A-02-02-01-002-008 | C8: 10 | F8: 466111
B9: A-02-02-01-002-008 | C9: 10 | D9: DOTACIÓN (PRENDAS DE VESTIR DE CALZADO) | E9: BICAR | F9: 466111 | G9: =SUM(F9:F10) -> 932222 | H9: =MÍNIMAS!AI22 -> 0 | I9: =MÍNIMAS!AI24 -> 932222
B10: A-02-02-01-002-008 | C10: 10 | F10: 466111
B11: A-02-02-01-002-008 | C11: 10 | D11: DOTACIÓN (PRENDAS DE VESTIR DE CALZADO) | E11: BIMOC | F11: 466111 | G11: =SUM(F11:F12) -> 932222 | H11: =MÍNIMAS!AK22 -> 0 | I11: =MÍNIMAS!AK24 -> 932222
B12: A-02-02-01-002-008 | C12: 10 | F12: 466111
B13: A-02-02-01-002-008 | C13: 10 | D13: DOTACIÓN (PRENDAS DE VESTIR DE CALZADO) | E13: BITER10 | F13: 466111 | G13: =SUM(F13:F14) -> 932222 | H13: =MÍNIMAS!AM22 -> 0 | I13: =MÍNIMAS!AM24 -> 932222
B14: A-02-02-01-002-008 | C14: 10 | F14: 466111
B15: A-02-02-01-002-008 | C15: 10 | D15: DOTACIÓN (PRENDAS DE VESTIR DE CALZADO) | E15: GMMAT | F15: 466111 | G15: =SUM(F15:F17) -> 1398333 | H15: =MÍNIMAS!AS22 -> 0 | I15: =MÍNIMAS!AS24 -> 1398333
B16: A-02-02-01-002-008 | C16: 10 | F16: 466111
B17: A-02-02-01-002-008 | C17: 10 | F17: 466111
B18: SUBTOTAL | F18: =SUM(F4:F17) -> 6907828 | G18: =SUM(G4:G17) -> 6907828 | H18: =SUM(H4:H17) -> 0 | I18: =SUM(I4:I17) -> 6907828
B20: DOTACIÓN ESCUADRAS DE MANTENIMIENTO
B21: ARTICULO PRESUPUESTAL (SIIF NACIÓN) | C21: RECURSO | D21: DESCRIPCIÓN DEL RUBRO | E21: UNIDAD BENEFICIADA | F21: VALOR APROXIMADO DE LA NECESIDAD | H21: PRESUPUESTO A UTILIZAR | I21: SALDO
B22: A-02-02-01-004-008 | C22: 10 | D22: APARATOS MÉDICOS, INSTRUMENTOS ÓPTICOS Y DE PRECISIÓN, RELOJES | E22: BAABS3 | F22: 456312 | H22: =SUMIFS(MÍNIMAS!$33:$33,MÍNIMAS!$27:$27,PRESUPUESTO!E22) -> 0 | I22: =SUMIFS(MÍNIMAS!$35:$35,MÍNIMAS!$27:$27,PRESUPUESTO!E22) -> 456312
E23: BAACA10 | F23: 456312 | H23: =SUMIFS(MÍNIMAS!$33:$33,MÍNIMAS!$27:$27,PRESUPUESTO!E23) -> 0 | I23: =SUMIFS(MÍNIMAS!$35:$35,MÍNIMAS!$27:$27,PRESUPUESTO!E23) -> 456312
E24: BAACA2 | F24: 456312 | H24: =SUMIFS(MÍNIMAS!$33:$33,MÍNIMAS!$27:$27,PRESUPUESTO!E24) -> 0 | I24: =SUMIFS(MÍNIMAS!$35:$35,MÍNIMAS!$27:$27,PRESUPUESTO!E24) -> 456312
E25: BAADA1 | F25: 456312 | H25: =SUMIFS(MÍNIMAS!$33:$33,MÍNIMAS!$27:$27,PRESUPUESTO!E25) -> 0 | I25: =SUMIFS(MÍNIMAS!$35:$35,MÍNIMAS!$27:$27,PRESUPUESTO!E25) -> 456312
E26: BACAC | F26: 456312 | H26: =SUMIFS(MÍNIMAS!$33:$33,MÍNIMAS!$27:$27,PRESUPUESTO!E26) -> 0 | I26: =SUMIFS(MÍNIMAS!$35:$35,MÍNIMAS!$27:$27,PRESUPUESTO!E26) -> 456312
E27: BAEEV3 | F27: 456312 | H27: =SUMIFS(MÍNIMAS!$33:$33,MÍNIMAS!$27:$27,PRESUPUESTO!E27) -> 0 | I27: =SUMIFS(MÍNIMAS!$35:$35,MÍNIMAS!$27:$27,PRESUPUESTO!E27) -> 456312
E28: BAMMA | F28: 456312 | H28: =SUMIFS(MÍNIMAS!$33:$33,MÍNIMAS!$27:$27,PRESUPUESTO!E28) -> 0 | I28: =SUMIFS(MÍNIMAS!$35:$35,MÍNIMAS!$27:$27,PRESUPUESTO!E28) -> 456312
E29: BAS10 | F29: 456312 | H29: =SUMIFS(MÍNIMAS!$33:$33,MÍNIMAS!$27:$27,PRESUPUESTO!E29) -> 0 | I29: =SUMIFS(MÍNIMAS!$35:$35,MÍNIMAS!$27:$27,PRESUPUESTO!E29) -> 456312
E30: BASAC | F30: 456312 | H30: =SUMIFS(MÍNIMAS!$33:$33,MÍNIMAS!$27:$27,PRESUPUESTO!E30) -> 0 | I30: =SUMIFS(MÍNIMAS!$35:$35,MÍNIMAS!$27:$27,PRESUPUESTO!E30) -> 456312
E31: BATAC | F31: 456312 | H31: =SUMIFS(MÍNIMAS!$33:$33,MÍNIMAS!$27:$27,PRESUPUESTO!E31) -> 0 | I31: =SUMIFS(MÍNIMAS!$35:$35,MÍNIMAS!$27:$27,PRESUPUESTO!E31) -> 456312
E32: BICAR | F32: 456312 | H32: =SUMIFS(MÍNIMAS!$33:$33,MÍNIMAS!$27:$27,PRESUPUESTO!E32) -> 0 | I32: =SUMIFS(MÍNIMAS!$35:$35,MÍNIMAS!$27:$27,PRESUPUESTO!E32) -> 456312
E33: BIMOC | F33: 456312 | H33: =SUMIFS(MÍNIMAS!$33:$33,MÍNIMAS!$27:$27,PRESUPUESTO!E33) -> 0 | I33: =SUMIFS(MÍNIMAS!$35:$35,MÍNIMAS!$27:$27,PRESUPUESTO!E33) -> 456312
E34: BITER10 | F34: 456312 | H34: =SUMIFS(MÍNIMAS!$33:$33,MÍNIMAS!$27:$27,PRESUPUESTO!E34) -> 0 | I34: =SUMIFS(MÍNIMAS!$35:$35,MÍNIMAS!$27:$27,PRESUPUESTO!E34) -> 456312
... E38: GMRON | F38: 456312 | H38: =SUMIFS(MÍNIMAS!$33:$33,MÍNIMAS!$27:$27,PRESUPUESTO!E38) -> 0 | I38: =SUMIFS(MÍNIMAS!$35:$35,MÍNIMAS!$27:$27,PRESUPUESTO!E38) -> 456312
B39: SUBTOTAL | F39: =SUM(F22:F38) -> 7757304 | H39: =SUM(H22:H38) -> 0 | I39: =SUM(I22:I38) -> 7757304
B41: DOTACIÓN ESCUADRAS DE MANTENIMIENTO
B42: ARTICULO PRESUPUESTAL (SIIF NACIÓN) | C42: RECURSO | D42: DESCRIPCIÓN DEL RUBRO | E42: UNIDAD BENEFICIADA | F42: VALOR APROXIMADO DE LA NECESIDAD | H42: PRESUPUESTO A UTILIZAR | I42: SALDO
B43: A-02-02-01-002-007 | C43: 10 | D43: ARTÍCULOS TEXTILES (EXCEPTO PRENDAS DE VESTIR) | E43: BAABS3 | F43: 216816 | H43: =SUMIFS(MÍNIMAS!$44:$44,MÍNIMAS!$38:$38,PRESUPUESTO!E43) -> 0 | I43: =SUMIFS(MÍNIMAS!$46:$46,MÍNIMAS!$38:$38,PRESUPUESTO!E43) -> 216816
E44: BAACA10 | F44: 216816 | H44: =SUMIFS(MÍNIMAS!$44:$44,MÍNIMAS!$38:$38,PRESUPUESTO!E44) -> 0 | I44: =SUMIFS(MÍNIMAS!$46:$46,MÍNIMAS!$38:$38,PRESUPUESTO!E44) -> 216816
E45: BAACA2 | F45: 216816 | H45: =SUMIFS(MÍNIMAS!$44:$44,MÍNIMAS!$38:$38,PRESUPUESTO!E45) -> 0 | I45: =SUMIFS(MÍNIMAS!$46:$46,MÍNIMAS!$38:$38,PRESUPUESTO!E45) -> 216816
E46: BAADA1 | F46: 216816 | H46: =SUMIFS(MÍNIMAS!$44:$44,MÍNIMAS!$38:$38,PRESUPUESTO!E46) -> 0 | I46: =SUMIFS(MÍNIMAS!$46:$46,MÍNIMAS!$38:$38,PRESUPUESTO!E46) -> 216816
...

Sheet ANÁLISIS
B2: DOTACIÓN PTAP / PTAR
B4: A-02-02-01-002-008 DOTACIÓN (PRENDAS DE VESTIR DE CALZADO)
B5: ÍTEM | C5: CÓDIGO DANE | D5: DESCRIPCIÓN DEL BIEN Y/O SERVICIO | E5: UNIDAD MEDIDA | F5: EXISTENCIAS (STOCK - INVENTARIOS) | G5: NECESIDAD | H5: UNSPSC (CCE) | I5: CÓDIGO MATERIAL SAP (OPCIONAL) | J5: CÓDIGO OTAN - NOC (OPCIONAL) | K5: PROINARI S.A.S. NIT: 900878263-3 | O5: AUDICAL LTDA NIT: 900.267.051-7 | S5: AMBT SAS NIT: 900.384.083-3 | W5: PRECIO HISTÓRICO 2025 | Z5: MEDIDAS DE TENDENCIA CENTRAL | AF5: PRECIO UNITARIO DE REFERENCIA | AG5: MÉTRICA | AH5: OBSERVACIÓN
K6: VALOR UNITARIO ANTES DE IVA | L6: IVA | M6: VALOR UNITARIO IVA INCLUIDO | N6: VALOR TOTAL CONTRA ENTREGA | O6: VALOR UNITARIO ANTES DE IVA | P6: IVA | Q6: VALOR UNITARIO INCLUIDO IVA | R6: VALOR TOTAL CONTRA ENTREGA | S6: VALOR UNITARIO ANTES DE IVA | T6: IVA | U6: VALOR UNITARIO INCLUIDO IVA | V6: VALOR TOTAL CONTRA ENTREGA | W6: PRECIO HISTÓRICO | X6: IPC 2026 (5,10%) | Y6: PROYECCIÓN 2026 | Z6: (A) MENOR VALOR | AA6: (B) PROMEDIO | AB6: (C) MEDIANA | AC6: (D) MEDIA GEOMÉTRICA | AD6: (E) DESVIACIÓN | AE6: (F) % DISPERSIÓN
B7: 1 | C7: 2951001 | D7: BOTA CAÑA ALTA DE CAUCHO: FABRICADA EN CAUCHO, ARMADA POR PARTES, VULCANIZADAS EN AUTOCLAVE. CAÑA REFORZADA, FORRO 100% ALGODÓN ABSORBENTE, PUNTERA EN ACERO DE SEGURIDAD E IMPERMEABLE 100% NORMA EN 12568 CON REFUERZO EN CAUCHO, SUELA ANTIDESLIZANTE COLOR AMARILLO, TALLAS 39 A 42, CAÑA LARGO 16” COLOR NEGRO, ALTURA MÁXIMA DE 37.5 CM. | E7: PAR | F7: 0 | G7: 1 | H7: 46181611 | I7: 1264284 | K7: 118703.04 | L7: =K7*19% -> 22553.578 | M7: =K7+L7 -> 141256.62 | N7: =L7+M7 -> 163810.2 | O7: 108484.5 | P7: =O7*19% -> 20612.055 | Q7: =O7+P7 -> 129096.55 | R7: =P7+Q7 -> 149708.61 | S7: =U7/1.19 -> 94104.202 | T7: =U7-S7 -> 17879.798 | U7: 111984 | V7: 111984 | W7: 160000 | X7: =W7*5.1% -> 8160 | Y7: =W7+X7 -> 168160 | Z7: =MIN(V7,R7,N7,Y7) -> 111984 | AA7: =AVERAGE(V7,R7,N7,Y7) -> 148415.7 | AB7: =MEDIAN(V7,R7,N7,Y7) -> 156759.4 | AC7: =GEOMEAN(V7,R7,N7,Y7) -> 146594.13 | AD7: =_xlfn.STDEV.S(N7,R7,V7,Y7) -> 25532.778 | AE7: =AD7/AA7 -> 0.17203556 | AF7: =AVERAGE(AA7) -> 148415.7 | AG7: PROMEDIO | AH7: SIN OBSERVACIONES
B8: =+B7+1 -> 2 | C8: 2929012 | D8: CARTUCHO CONTRA VAPORES ORGÁNICOS PARA RESPIRADOR DE MEDIA CARA (CARACTERÍSTICAS DE ACUERDO AL MODELO DEL RESPIRADOR DEL ÍTEM N°5. NORMAS APLICABLES: APROBACIÓN NIOSH). | E8: PAR | F8: 0 | G8: 1 | H8: 46182005 | I8: 1289556 | K8: 130422.4 | L8: =K8*19% -> 24780.256 | M8: =K8+L8 -> 155202.66 | N8: =L8+M8 -> 179982.91 | O8: 119195 | P8: =O8*19% -> 22647.05 | Q8: =O8+P8 -> 141842.05 | R8: =P8+Q8 -> 164489.1 | S8: =U8/1.19 -> 103394.96 | T8: =U8-S8 -> 19645.042 | U8: 123040 | V8: 123040 | W8: 43000 | X8: =W8*5.1% -> 2193 | Y8: =W8+X8 -> 45193 | Z8: =MIN(V8,R8,N8,Y8) -> 45193 | AA8: =AVERAGE(V8,R8,N8,Y8) -> 128176.25 | AB8: =MEDIAN(V8,R8,N8,Y8) -> 143764.55 | AC8: =GEOMEAN(V8,R8,N8,Y8) -> 113271.71 | AD8: =_xlfn.STDEV.S(N8,R8,V8,Y8) -> 60319.024 | AE8: =AD8/AA8 -> 0.47059438 | AF8: =AB8 -> 143764.55 | AG8: MEDIANA | AH8: SIN OBSERVACIONES
B9: =+B8+1 -> 3 | C9: 3697101 | D9: CASCOS DE SEGURIDAD CON BARBOQUEJO (CASCO INDUSTRIAL: TIPO 1 CLASE E, CASCO DIELÉCTRICO ESTÁNDAR FABRICADO EN POLIETILENO DE ALTA DENSIDAD, LIVIANO Y RESISTENTE CON MÍNIMO 4 PUNTOS DE AJUSTE, CON SISTEMA DE FIJACIÓN REGULABLE RATCHET, SISTEMA DE SUSPENSIÓN CON TRINQUETE, RANURAS DE VENTILACIÓN Y QUE PERMITAN LA INSTALACIÓN DE ELEMENTOS DE PROTECCIÓN FACIAL, AUDITIVA Y CARETAS, CON BARBOQUEJO FABRICADO EN REATA O CINTA ELÁSTICA PARA MAYOR DURACIÓN Y COMODIDAD, IDENTIFICACIÓN DE COLOR AMARILLO. NORMA ANSI Z89.1, 2014 - PROTECCIÓN DE IMPACTO DE PARTÍCULAS Y/O O EN 397 / EN50365.). | E9: UN | F9: 0 | G9: 1 | H9: 46181704 | I9: 1327069 | K9: 68767.712 | L9: =K9*19% -> 13065.865 | M9: =K9+L9 -> 81833.577 | N9: =L9+M9 -> 94899.443 | O9: 62847.85 | P9: =O9*19% -> 11941.092 | Q9: =O9+P9 -> 74788.942 | R9: =P9+Q9 -> 86730.033 | S9: =U9/1.19 -> 54516.975 | T9: =U9-S9 -> 10358.225 | U9: 64875.2 | V9: 64875.2 | W9: 24000 | X9: =W9*5.1% -> 1224 | Y9: =W9+X9 -> 25224 | Z9: =MIN(V9,R9,N9,Y9) -> 25224 | AA9: =AVERAGE(V9,R9,N9,Y9) -> 67932.169 | AB9: =MEDIAN(V9,R9,N9,Y9) -> 75802.617 | AC9: =GEOMEAN(V9,R9,N9,Y9) -> 60580.306 | AD9: =_xlfn.STDEV.S(N9,R9,V9,Y9) -> 31165.827 | AE9: =AD9/AA9 -> 0.45877862 | AF9: =AB9 -> 75802.617 | AG9: MEDIANA | AH9: SIN OBSERVACIONES
B10: =+B9+1 -> 4 | C10: 2929012 | D10: CHALECO REFLECTIVO (TELA FLUORESCENTE COLOR NARANJA O VERDE, TEJIDO EN HILO 100% POLIÉSTER DE ALTA TENACIDAD, CON CINTAS REFLECTIVAS COLOR PLATA DE 2" VERTICALES Y CIERRE DELANTERO CON CREMALLERA). | E10: UN | F10: 0 | G10: 1 | H10: 46181507 | I10: 1181307 | K10: 16620.8 | L10: =K10*19% -> 3157.952 | M10: =K10+L10 -> 19778.752 | N10: =L10+M10 -> 22936.704 | O10: 15190 | P10: =O10*19% -> 2886.1 | Q10: =O10+P10 -> 18076.1 | R10: =P10+Q10 -> 20962.2 | S10: =U10/1.19 -> 13176.471 | T10: =U10-S10 -> 2503.5294 | U10: 15680 | V10: 15680 | W10: 20000 | X10: =W10*5.1% -> 1020 | Y10: =W10+X10 -> 21020 | Z10: =MIN(V10,R10,N10,Y10) -> 15680 | AA10: =AVERAGE(V10,R10,N10,Y10) -> 20149.726 | AB10: =MEDIAN(V10,R10,N10,Y10) -> 20991.1 | AC10: =GEOMEAN(V10,R10,N10,Y10) -> 19952.01 | AD10: =_xlfn.STDEV.S(N10,R10,V10,Y10) -> 3117.8619 | AE10: =AD10/AA10 -> 0.1547347 | AF10: =AVERAGE(AA10) -> 20149.726 | AG10: PROMEDIO | AH10: SIN OBSERVACIONES
B11: =+B10+1 -> 5 | C11: 2929012 | D11: FILTROS RESPIRADORES DE VAPORES ORGÁNICOS. (CARACTERÍSTICAS DE ACUERDO AL MODELO DEL RESPIRADOR). DEL ÍTEM 7 | E11: PAR | F11: 0 | G11: 1 | H11: 46182005 | I11: 1011887 | K11: 21350.944 | L11: =K11*19% -> 4056.6794 | M11: =K11+L11 -> 25407.623 | N11: =L11+M11 -> 29464.303 | O11: 19512.95 | P11: =O11*19% -> 3707.4605 | Q11: =O11+P11 -> 23220.411 | R11: =P11+Q11 -> 26927.871 | S11: =U11/1.19 -> 16926.387 | T11: =U11-S11 -> 3216.0134 | U11: 20142.4 | V11: 20142.4 | W11: 43000 | X11: =W11*5.1% -> 2193 | Y11: =W11+X11 -> 45193 | Z11: =MIN(V11,R11,N11,Y11) -> 20142.4 | AA11: =AVERAGE(V11,R11,N11,Y11) -> 30431.893 | AB11: =MEDIAN(V11,R11,N11,Y11) -> 28196.087 | AC11: =GEOMEAN(V11,R11,N11,Y11) -> 29152.12 | AD11: =_xlfn.STDEV.S(N11,R11,V11,Y11) -> 10598.402 | AE11: =AD11/AA11 -> 0.34826626 | AF11: =AB11 -> 28196.087 | AG11: MEDIANA | AH11: SIN OBSERVACIONES
B12: =+B11+1 -> 6 | C12: 4831204 | D12: GAFAS DE SEGURIDAD (GAFAS EN POLICARBONATO, CON ANTIEMPAÑANTE Y PROTECCIÓN PARA LUZ ULTRAVIOLETA. QUE EVITA LA PROYECCIÓN DE PARTÍCULAS SÓLIDAS O LÍQUIDAS A LOS OJOS, TALES COMO, MANEJO DE SUSTANCIAS CORROSIVAS). | E12: UN | F12: 0 | G12: 1 | H12: 46181804 | I12: 1309484 | K12: 47488 | L12: =K12*19% -> 9022.72 | M12: =K12+L12 -> 56510.72 | N12: =L12+M12 -> 65533.44 | O12: 43400 | P12: =O12*19% -> 8246 | Q12: =O12+P12 -> 51646 | R12: =P12+Q12 -> 59892 | S12: =U12/1.19 -> 37647.059 | T12: =U12-S12 -> 7152.9412 | U12: 44800 | V12: 44800 | W12: 7000 | X12: =W12*5.1% -> 357 | Y12: =W12+X12 -> 7357 | Z12: =MIN(V12,R12,N12,Y12) -> 7357 | AA12: =AVERAGE(V12,R12,N12,Y12) -> 44395.61 | AB12: =MEDIAN(V12,R12,N12,Y12) -> 52346 | AC12: =GEOMEAN(V12,R12,N12,Y12) -> 33725.053 | AD12: =_xlfn.STDEV.S(N12,R12,V12,Y12) -> 26197.761 | AE12: =AD12/AA12 -> 0.59009802 | AF12: =AB12 -> 52346 | AG12: MEDIANA | AH12: SIN OBSERVACIONES
B13: =+B12+1 -> 7 | C13: 3899918 | D13: GUANTE NITRILO MANGA LARGA (CLORINADO PUÑO LARGO DEBE SER RESISTENTE A QUÍMICOS, SOLVENTES, ALCOHOLES, ACETONAS. RESISTENCIA A UN AMPLIO RANGO DE SOLVENTES Y QUÍMICOS PELIGROSOS. MÍNIMO 18” DE LONGITUD. ESPESOR MÁXIMO 22 MILÉSIMAS. TALLAS SUJETAS A LAS NECESIDADES. EN 374-1:2016, EN 374-5:2016 Y EN 388:2016 MÍNIMO 2001X.). | E13: PAR | F13: 0 | G13: 1 | H13: 46181541 | I13: 1901328 | K13: 120246.4 | L13: =K13*19% -> 22846.816 | M13: =K13+L13 -> 143093.22 | N13: =L13+M13 -> 165940.03 | O13: 109895 | P13: =O13*19% -> 20880.05 | Q13: =O13+P13 -> 130775.05 | R13: =P13+Q13 -> 151655.1 | S13: =U13/1.19 -> 95327.731 | T13: =U13-S13 -> 18112.269 | U13: 113440 | V13: 113440 | W13: 23000 | X13: =W13*5.1% -> 1173 | Y13: =W13+X13 -> 24173 | Z13: =MIN(V13,R13,N13,Y13) -> 24173 | AA13: =AVERAGE(V13,R13,N13,Y13) -> 113802.03 | AB13: =MEDIAN(V13,R13,N13,Y13) -> 132547.55 | AC13: =GEOMEAN(V13,R13,N13,Y13) -> 91143.613 | AD13: =_xlfn.STDEV.S(N13,R13,V13,Y13) -> 63730.475 | AE13: =AD13/AA13 -> 0.56001174 | AF13: =AB13 -> 132547.55 | AG13: MEDIANA | AH13: SIN OBSERVACIONES
B14: =+B13+1 -> 8 | C14: 3899918 | D14: GUANTES CALIBRE 35 MANGA LARGA (GUANTE DE PROTECCIÓN CON DISEÑO ANATÓMICO, DISEÑADO PARA BRINDAR MAYOR RESISTENCIA QUÍMICA A HIDROCARBUROS, INCLUYENDO DERIVADOS DEL PETRÓLEO, COMPUESTO POR UNA COMBINACIÓN DE NITRILO Y CAUCHO SINTÉTICO). | E14: PAR | F14: 0 | G14: 1 | H14: 46181536 | I14: 1520930 | K14: 64448 | L14: =K14*19% -> 12245.12 | M14: =K14+L14 -> 76693.12 | N14: =L14+M14 -> 88938.24 | O14: 58900 | P14: =O14*19% -> 11191 | Q14: =O14+P14 -> 70091 | R14: =P14+Q14 -> 81282 | S14: =U14/1.19 -> 51092.437 | T14: =U14-S14 -> 9707.563 | U14: 60800 | V14: 60800 | W14: 6000 | X14: =W14*5.1% -> 306 | Y14: =W14+X14 -> 6306 | Z14: =MIN(V14,R14,N14,Y14) -> 6306 | AA14: =AVERAGE(V14,R14,N14,Y14) -> 59331.56 | AB14: =MEDIAN(V14,R14,N14,Y14) -> 71041 | AC14: =GEOMEAN(V14,R14,N14,Y14) -> 40802.344 | AD14: =_xlfn.STDEV.S(N14,R14,V14,Y14) -> 37292.732 | AE14: =AD14/AA14 -> 0.62854798 | AF14: =AB14 -> 71041 | AG14: MEDIANA | AH14: SIN OBSERVACIONES
B15: =+B14+1 -> 9 | C15: 3899918 | D15: GUANTES DE VAQUETA TIPO INGENIERO DE 12 PULGADAS DE LARGO CON REFUERZO EN LA PALMA (CONFECCIONADO CON CARNAZA DE RES O VAQUETA Y COSIDO CON HILO DE POLIÉSTER O HILO DE NYLON Y POLIPROPILENO, PUÑO RECTO, MEDIO DE 14CM EN ADELANTE, CON REFUERZO EN PALMA Y DEDOS). | E15: PAR | F15: 0 | G15: 1 | H15: 46181536 | I15: 1114739 | K15: 64448 | L15: =K15*19% -> 12245.12 | M15: =K15+L15 -> 76693.12 | N15: =L15+M15 -> 88938.24 | O15: 58900 | P15: =O15*19% -> 11191 | Q15: =O15+P15 -> 70091 | R15: =P15+Q15 -> 81282 | S15: =U15/1.19 -> 51092.437 | T15: =U15-S15 -> 9707.563 | U15: 60800 | V15: 60800 | W15: 11000 | X15: =W15*5.1% -> 561 | Y15: =W15+X15 -> 11561 | Z15: =MIN(V15,R15,N15,Y15) -> 11561 | AA15: =AVERAGE(V15,R15,N15,Y15) -> 60645.31 | AB15: =MEDIAN(V15,R15,N15,Y15) -> 71041 | AC15: =GEOMEAN(V15,R15,N15,Y15) -> 47478.334 | AD15: =_xlfn.STDEV.S(N15,R15,V15,Y15) -> 34812.145 | AE15: =AD15/AA15 -> 0.57402864 | AF15: =AB15 -> 71041 | AG15: MEDIANA | AH15: SIN OBSERVACIONES
B16: =+B15+1 -> 10 | C16: 2823610 | D16: OVEROLES DE PROTECCIÓN ENTERIZOS EN TELA (FABRICADO EN TELA JEAN O NAILON, COLOR VERDE O AZUL. COMPOSICIÓN 100% ALGODÓN. COSTURAS RESISTENTES). | E16: UN | F16: 0 | G16: 1 | H16: 46181503 | I16: 1499810 | K16: 104141.18 | L16: =K16*19% -> 19786.825 | M16: =K16+L16 -> 123928.01 | N16: =L16+M16 -> 143714.83 | O16: 95176.2 | P16: =O16*19% -> 18083.478 | Q16: =O16+P16 -> 113259.68 | R16: =P16+Q16 -> 131343.16 | S16: =U16/1.19 -> 82560 | T16: =U16-S16 -> 15686.4 | U16: 98246.4 | V16: 98246.4 | W16: 62000 | X16: =W16*5.1% -> 3162 | Y16: =W16+X16 -> 65162 | Z16: =MIN(V16,R16,N16,Y16) -> 65162 | AA16: =AVERAGE(V16,R16,N16,Y16) -> 109616.6 | AB16: =MEDIAN(V16,R16,N16,Y16) -> 114794.78 | AC16: =GEOMEAN(V16,R16,N16,Y16) -> 104846.76 | AD16: =_xlfn.STDEV.S(N16,R16,V16,Y16) -> 35309.233 | AE16: =AD16/AA16 -> 0.32211575 | AF16: =AB16 -> 114794.78 | AG16: MEDIANA | AH16: SIN OBSERVACIONES
B17: =+B16+1 -> 11 | C17: 2823610 | D17: OVEROLES DE PROTECCIÓN ENTERIZOS IMPERMEABLES (TRAJE ESCAFANDRA EN PVC CALIBRE 25 ENTERIZO. CONFECCIONADO CON MATERIAL VINÍLICO, SOPORTE TEXTIL EN POLIÉSTER PARA EVITAR DESGASTE, COSTURAS CON SISTEMA DE ELECTRO SELLADO QUE IMPIDEN FILTRACIONES. TALLAS SUJETAS A LAS NECESIDADES). | E17: UN | F17: 0 | G17: 1 | H17: 46181503 | I17: 1398215 | K17: 561206.4 | L17: =K17*19% -> 106629.22 | M17: =K17+L17 -> 667835.62 | N17: =L17+M17 -> 774464.83 | O17: 512895 | P17: =O17*19% -> 97450.05 | Q17: =O17+P17 -> 610345.05 | R17: =P17+Q17 -> 707795.1 | S17: =U17/1.19 -> 444907.56 | T17: =U17-S17 -> 84532.437 | U17: 529440 | V17: 529440 | W17: 195000 | X17: =W17*5.1% -> 9945 | Y17: =W17+X17 -> 204945 | Z17: =MIN(V17,R17,N17,Y17) -> 204945 | AA17: =AVERAGE(V17,R17,N17,Y17) -> 554161.23 | AB17: =MEDIAN(V17,R17,N17,Y17) -> 618617.55 | AC17: =GEOMEAN(V17,R17,N17,Y17) -> 493845.2 | AD17: =_xlfn.STDEV.S(N17,R17,V17,Y17) -> 254754.89 | AE17: =AD17/AA17 -> 0.45971257 | AF17: =AB17 -> 618617.55 | AG17: MEDIANA | AH17: SIN OBSERVACIONES
B18: =+B17+1 -> 12 | C18: 2823611 | D18: PETO DE CARNAZA PARA SUSTANCIAS QUÍMICAS (ELABORADO EN POLÍMEROS SIMILARES AL CAUCHO Y/O FABRICADO EN CARNAZA DE RES (CUERO VACUNO CURTIDO), PROTECCIÓN CONTRA CHISPA DE SOLDADURA. QUE PERMITA SER ESTIRADO Y REFORMAR SU TAMAÑO ORIGINAL, CON UNA CORREA QUE SE AJUSTE EN EL CUELLO Y OTRA CORREA QUE SE AJUSTE EN LA PARTE POSTERIOR DEL TRONCO). | E18: UN | F18: 0 | G18: 1 | H18: 46181501 | I18: 1017780 | K18: 62582.4 | L18: =K18*19% -> 11890.656 | M18: =K18+L18 -> 74473.056 | N18: =L18+M18 -> 86363.712 | O18: 57195 | P18: =O18*19% -> 10867.05 | Q18: =O18+P18 -> 68062.05 | R18: =P18+Q18 -> 78929.1 | S18: =U18/1.19 -> 49613.445 | T18: =U18-S18 -> 9426.5546 | U18: 59040 | V18: 59040 | W18: 20000 | X18: =W18*5.1% -> 1020 | Y18: =W18+X18 -> 21020 | Z18: =MIN(V18,R18,N18,Y18) -> 21020 | AA18: =AVERAGE(V18,R18,N18,Y18) -> 61338.203 | AB18: =MEDIAN(V18,R18,N18,Y18) -> 68984.55 | AC18: =GEOMEAN(V18,R18,N18,Y18) -> 53930.802 | AD18: =_xlfn.STDEV.S(N18,R18,V18,Y18) -> 29249.245 | AE18: =AD18/AA18 -> 0.476852 | AF18: =AB18 -> 68984.55 | AG18: MEDIANA | AH18: SIN OBSERVACIONES
B19: =+B18+1 -> 13 | C19: 3699056 | D19: PROTECTOR AUDITIVO DE INSERCIÓN (TAPONES PARA LOS OÍDOS REUTILIZABLES FLEXIBLES DE MÍNIMO 3 BRIDAS CON UN VÁSTAGO DE INSERCIÓN FIRME EL MANGO INCORPORADO PERMITE AL USUARIO CONTROLAR EL ÁNGULO DE INSERCIÓN, FACILITANDO LA OBTENCIÓN DEL AJUSTE PROFUNDO Y ESTABLE NECESARIO PARA UN BLOQUEO EFICAZ DEL RUIDO, LA EXTRACCIÓN ES IGUALMENTE RÁPIDA, LIMPIA Y FÁCIL. ELABORADO EN SILICONA Y/O ELASTÓMERO ANTIALÉRGICO, CORDEL ADJUNTO QUE AYUDA AL USUARIO A NO PERDER LOS TAPONES PARA LOS OÍDOS O DEJARLOS CAER EN LA SUCIEDAD. NIVEL DE PROTECCIÓN MÍNIMA CONTRA EL RUIDO NRR 25. ANSI 3.19). | E19: PAR | F19: 0 | G19: 1 | H19: 46181900 | I19: 1315806 | K19: 30358.4 | L19: =K19*19% -> 5768.096 | M19: =K19+L19 -> 36126.496 | N19: =L19+M19 -> 41894.592 | O19: 27745 | P19: =O19*19% -> 5271.55 | Q19: =O19+P19 -> 33016.55 | R19: =P19+Q19 -> 38288.1 | S19: =U19/1.19 -> 24067.227 | T19: =U19-S19 -> 4572.7731 | U19: 28640 | V19: 28640 | W19: 2000 | X19: =W19*5.1% -> 102 | Y19: =W19+X19 -> 2102 | Z19: =MIN(V19,R19,N19,Y19) -> 2102 | AA19: =AVERAGE(V19,R19,N19,Y19) -> 27731.173 | AB19: =MEDIAN(V19,R19,N19,Y19) -> 33464.05 | AC19: =GEOMEAN(V19,R19,N19,Y19) -> 17628.156 | AD19: =_xlfn.STDEV.S(N19,R19,V19,Y19) -> 17978.984 | AE19: =AD19/AA19 -> 0.64833118 | AF19: =AB19 -> 33464.05 | AG19: MEDIANA | AH19: SIN OBSERVACIONES
B20: =+B19+1 -> 14 | C20: 2929012 | D20: PROTECTOR RESPIRATORIA MEDIA CARA DOBLE FILTRO (PIEZA FACIAL EN MATERIAL ELASTÓMERO, AJUSTABLE, CON CABEZAL DE ARNÉS Y CON CORREAS DE AJUSTE FRONTAL, ESTAS PIEZAS PERMITEN COMODIDAD Y DURABILIDAD DE ACUERDO A LAS CONDICIONES DEL MANTENIMIENTO DEL EPP, NORMAS APLICABLES: APROBACIÓN NIOSH. ). | E20: UN | F20: 0 | G20: 1 | H20: 46182005 | I20: 1471744 | K20: 588342.4 | L20: =K20*19% -> 111785.06 | M20: =K20+L20 -> 700127.46 | N20: =L20+M20 -> 811912.51 | O20: 537695 | P20: =O20*19% -> 102162.05 | Q20: =O20+P20 -> 639857.05 | R20: =P20+Q20 -> 742019.1 | S20: =U20/1.19 -> 466420.17 | T20: =U20-S20 -> 88619.832 | U20: 555040 | V20: 555040 | W20: 43000 | X20: =W20*5.1% -> 2193 | Y20: =W20+X20 -> 45193 | Z20: =MIN(V20,R20,N20,Y20) -> 45193 | AA20: =AVERAGE(V20,R20,N20,Y20) -> 538541.15 | AB20: =MEDIAN(V20,R20,N20,Y20) -> 648529.55 | AC20: =GEOMEAN(V20,R20,N20,Y20) -> 350614.56 | AD20: =_xlfn.STDEV.S(N20,R20,V20,Y20) -> 346313.82 | AE20: =AD20/AA20 -> 0.64305916 | AF20: =AB20 -> 648529.55 | AG20: MEDIANA | AH20: SIN OBSERVACIONES
B21: =+B20+1 -> 15 | C21: 3699056 | D21: PROTECTORES AUDITIVOS ANATÓMICOS (HECHO A LA MEDIDA PARA EL RUIDO Y EL AGUA, ELABORADOS EN SILICONA VULCANIZADA ANTIALÉRGICA). | E21: PAR | F21: 0 | G21: 1 | H21: 46181900 | I21: CREAR | K21: 279840 | L21: =K21*19% -> 53169.6 | M21: =K21+L21 -> 333009.6 | N21: =L21+M21 -> 386179.2 | O21: 255750 | P21: =O21*19% -> 48592.5 | Q21: =O21+P21 -> 304342.5 | R21: =P21+Q21 -> 352935 | S21: =U21/1.19 -> 221848.74 | T21: =U21-S21 -> 42151.261 | U21: 264000 | V21: 264000 | Z21: =MIN(V21,R21,N21,Y21) -> 264000 | AA21: =AVERAGE(V21,R21,N21,Y21) -> 334371.4 | AB21: =MEDIAN(V21,R21,N21,Y21) -> 352935 | AC21: =GEOMEAN(V21,R21,N21,Y21) -> 330138.25 | AD21: =_xlfn.STDEV.S(N21,R21,V21,Y21) -> 63169.571 | AE21: =AD21/AA21 -> 0.18892038 | AF21: =AVERAGE(AA21) -> 334371.4 | AG21: PROMEDIO | AH21: SIN OBSERVACIONES
B22: =+B21+1 -> 16 | C22: 2929012 | D22: RESPIRADOR CON FILTROS PARA VAPORES DE CARBONO ORGÁNICOS (MASCARILLA EN SILICONA, AJUSTABLE, CON CABEZAL DE ARNÉS Y CON CORREAS DE AJUSTE FRONTAL). | E22: UN | F22: 0 | G22: 1 | H22: 46182005 | I22: 1481426 | K22: 279840 | L22: =K22*19% -> 53169.6 | M22: =K22+L22 -> 333009.6 | N22: =L22+M22 -> 386179.2 | O22: 255750 | P22: =O22*19% -> 48592.5 | Q22: =O22+P22 -> 304342.5 | R22: =P22+Q22 -> 352935 | S22: =U22/1.19 -> 221848.74 | T22: =U22-S22 -> 42151.261 | U22: 264000 | V22: 264000 | W22: 85000 | X22: =W22*5.1% -> 4335 | Y22: =W22+X22 -> 89335 | Z22: =MIN(V22,R22,N22,Y22) -> 89335 | AA22: =AVERAGE(V22,R22,N22,Y22) -> 273112.3 | AB22: =MEDIAN(V22,R22,N22,Y22) -> 308467.5 | AC22: =GEOMEAN(V22,R22,N22,Y22) -> 238109.81 | AD22: =_xlfn.STDEV.S(N22,R22,V22,Y22) -> 132932.21 | AE22: =AD22/AA22 -> 0.48673095 | AF22: =AB22 -> 308467.5 | AG22: MEDIANA | AH22: SIN OBSERVACIONES
B23: =+B22+1 -> 17 | C23: 2826203 | D23: SOMBRERO TIPO PAVA (SOMBRERO EN TELA, CON ALA ANCHA Y CORDÓN. UTILIZADO PARA REALIZAR ACTIVIDADES A LA INTEMPERIE Y CUANDO SE ESTÉ EXPUESTO AL SOL. COLOR VERDE). | E23: UN | F23: 0 | G23: 1 | H23: 53102503 | I23: 1732607 | K23: 67670.4 | L23: =K23*19% -> 12857.376 | M23: =K23+L23 -> 80527.776 | N23: =L23+M23 -> 93385.152 | O23: 61845 | P23: =O23*19% -> 11750.55 | Q23: =O23+P23 -> 73595.55 | R23: =P23+Q23 -> 85346.1 | S23: =U23/1.19 -> 53647.059 | T23: =U23-S23 -> 10192.941 | U23: 63840 | V23: 63840 | W23: 20000 | X23: =W23*5.1% -> 1020 | Y23: =W23+X23 -> 21020 | Z23: =MIN(V23,R23,N23,Y23) -> 21020 | AA23: =AVERAGE(V23,R23,N23,Y23) -> 65897.813 | AB23: =MEDIAN(V23,R23,N23,Y23) -> 74593.05 | AC23: =GEOMEAN(V23,R23,N23,Y23) -> 57186.929 | AD23: =_xlfn.STDEV.S(N23,R23,V23,Y23) -> 32414.207 | AE23: =AD23/AA23 -> 0.49188592 | AF23: =AB23 -> 74593.05 | AG23: MEDIANA | AH23: SIN OBSERVACIONES
B24: SUBTOTAL | K24: =SUM(N7:N23) -> 3624537.5 | O24: =SUM(R7:R23) -> 3312519.6 | S24: =SUM(V7:V23) -> 2477808 | W24: =SUM(Y7:Y23) -> 802964 | AF24: =SUM(AF7:AF10,AF11:AF13) -> 601222.23
B26: DOTACIÓN ESCUADRA DE MANTENIMIENTO
B28: A-02-02-01-004-008 APARATOS MÉDICOS, INSTRUMENTOS ÓPTICOS Y DE PRECISIÓN, RELOJES
B29: ÍTEM | C29: CÓDIGO DANE | D29: DESCRIPCIÓN DEL BIEN Y/O SERVICIO | E29: UNIDAD MEDIDA | F29: EXISTENCIAS (STOCK - INVENTARIOS) | G29: NECESIDAD | H29: UNSPSC (CCE) | I29: CÓDIGO MATERIAL SAP (OPCIONAL) | J29: CÓDIGO OTAN - NOC (OPCIONAL) | K29: VALOR UNITARIO ANTES DE IVA | L29: IVA | M29: VALOR UNITARIO IVA INCLUIDO | N29: VALOR TOTAL CONTRA ENTREGA | O29: VALOR UNITARIO ANTES DE IVA | P29: IVA | Q29: VALOR UNITARIO INCLUIDO IVA | R29: VALOR TOTAL CONTRA ENTREGA | S29: VALOR UNITARIO ANTES DE IVA | T29: IVA | U29: VALOR UNITARIO INCLUIDO IVA | V29: VALOR TOTAL CONTRA ENTREGA | W29: PRECIO HISTÓRICO | X29: IPC (5,10%) | Y29: PROYECCIÓN 2026 | Z29: MÉTRICAS | AF29: PRECIO UNITARIO DE REFERENCIA | AG29: MÉTRICA | AH29: OBSERVACIÓN
Z30: (A) MENOR VALOR | AA30: (B) PROMEDIO | AB30: (C) MEDIANA | AC30: (D) MEDIA GEOMÉTRICA | AD30: (E) DESVIACIÓN | AE30: (F) % DISPERSIÓN
B31: =+B23+1 -> 18 | C31: 48233 | D31: CINTA MÉTRICA DE 50 M | E31: UN | F31: 0 | G31: 1 | H31: 27111801 | I31: 1509008 | J31: SIN CREAR | K31: 111857.98 | L31: =K31*19% -> 21253.017 | M31: =K31+L31 -> 133111 | N31: =L31+M31 -> 154364.02 | O31: 102228.7 | P31: =O31*19% -> 19423.453 | Q31: =O31+P31 -> 121652.15 | R31: =P31+Q31 -> 141075.61 | S31: =U31/1.19 -> 88677.647 | T31: =U31-S31 -> 16848.753 | U31: 105526.4 | V31: 105526.4 | Z31: =MIN(V31,R31,N31) -> 105526.4 | AA31: =AVERAGE(V31,R31,N31) -> 133655.34 | AB31: =MEDIAN(V31,R31,N31) -> 141075.61 | AC31: =GEOMEAN(V31,R31,N31) -> 131963.26 | AD31: =_xlfn.STDEV.S(N31,R31,V31) -> 25250.217 | AE31: =AD31/AA31 -> 0.18892038 | AF31: =AVERAGE(AA31) -> 133655.34 | AG31: PROMEDIO | AH31: SIN OBSERVACIONES | AR31: =AT31/1.19 -> 88677.647 | AS31: =AT31-AR31 -> 16848.753 | AT31: 105526.4 | AU31: 105526.4
B32: =B31+1 -> 19 | C32: 4828101 | D32: FLEXÓMETRO DE 8 METROS | E32: UN | F32: 0 | G32: 1 | H32: 95121632 | I32: 1460149 | J32: SIN CREAR | K32: 66489.984 | L32: =K32*19% -> 12633.097 | M32: =K32+L32 -> 79123.081 | N32: =L32+M32 -> 91756.178 | O32: 60766.2 | P32: =O32*19% -> 11545.578 | Q32: =O32+P32 -> 72311.778 | R32: =P32+Q32 -> 83857.356 | S32: =U32/1.19 -> 52711.261 | T32: =U32-S32 -> 10015.139 | U32: 62726.4 | V32: 62726.4 | Z32: =MIN(V32,R32,N32) -> 62726.4 | AA32: =AVERAGE(V32,R32,N32) -> 79446.645 | AB32: =MEDIAN(V32,R32,N32) -> 83857.356 | AC32: =GEOMEAN(V32,R32,N32) -> 78440.848 | AD32: =_xlfn.STDEV.S(N32,R32,V32) -> 15009.09 | AE32: =AD32/AA32 -> 0.18892038 | AF32: =AVERAGE(AA32) -> 79446.645 | AG32: PROMEDIO | AH32: SIN OBSERVACIONES
B33: =B32+1 -> 20 | C33: 4826601 | D33: PLOMADA DE CONSTRUCCIÓN COMPLETA | E33: UN | F33: 0 | G33: 1 | H33: 27111804 | I33: 1596693 | J33: SIN CREAR | K33: 57494.4 | L33: =K33*19% -> 10923.936 | M33: =K33+L33 -> 68418.336 | N33: =L33+M33 -> 79342.272 | O33: 52545 | P33: =O33*19% -> 9983.55 | Q33: =O33+P33 -> 62528.55 | R33: =P33+Q33 -> 72512.1 | S33: =U33/1.19 -> 45579.832 | T33: =U33-S33 -> 8660.1681 | U33: 54240 | V33: 54240 | Z33: =MIN(V33,R33,N33) -> 54240 | AA33: =AVERAGE(V33,R33,N33) -> 68698.124 | AB33: =MEDIAN(V33,R33,N33) -> 72512.1 | AC33: =GEOMEAN(V33,R33,N33) -> 67828.404 | AD33: =_xlfn.STDEV.S(N33,R33,V33) -> 12978.475 | AE33: =AD33/AA33 -> 0.18892038 | AF33: =AVERAGE(AA33) -> 68698.124 | AG33: PROMEDIO | AH33: SIN OBSERVACIONES
B34: =B33+1 -> 21 | C34: 4826601 | D34: CIMBRA DE 30 METROS PARA CONSTRUCCIÓN | E34: UN | F34: 0 | G34: 1 | H34: 27112300 | I34: 1088518 | J34: SIN CREAR | K34: 61056 | L34: =K34*19% -> 11600.64 | M34: =K34+L34 -> 72656.64 | N34: =L34+M34 -> 84257.28 | O34: 55800 | P34: =O34*19% -> 10602 | Q34: =O34+P34 -> 66402 | R34: =P34+Q34 -> 77004 | S34: =U34/1.19 -> 48403.361 | T34: =U34-S34 -> 9196.6387 | U34: 57600 | V34: 57600 | Z34: =MIN(V34,R34,N34) -> 57600 | AA34: =AVERAGE(V34,R34,N34) -> 72953.76 | AB34: =MEDIAN(V34,R34,N34) -> 77004 | AC34: =GEOMEAN(V34,R34,N34) -> 72030.164 | AD34: =_xlfn.STDEV.S(N34,R34,V34) -> 13782.452 | AE34: =AD34/AA34 -> 0.18892038 | AF34: =AVERAGE(AA34) -> 72953.76 | AG34: PROMEDIO | AH34: SIN OBSERVACIONES
B35: VALOR TOTAL | K35: =SUM(N31:N34) -> 409719.75 | O35: =SUM(R31:R34) -> 374449.06 | S35: =SUM(V31:V34) -> 280092.8 | AF35: =SUM(AF31:AF34) -> 354753.87
B37: A-02-02-01-002-007 ARTÍCULOS TEXTILES (EXCEPTO PRENDAS DE VESTIR)
B38: ÍTEM | C38: CÓDIGO DANE | D38: DESCRIPCIÓN DEL BIEN Y/O SERVICIO | E38: UNIDAD MEDIDA | F38: EXISTENCIAS (STOCK - INVENTARIOS) | G38: NECESIDAD | H38: UNSPSC (CCE) | I38: CÓDIGO MATERIAL SAP (OPCIONAL) | J38: CÓDIGO OTAN - NOC (OPCIONAL) | K38: VALOR UNITARIO ANTES DE IVA | L38: IVA | M38: VALOR UNITARIO IVA INCLUIDO | N38: VALOR TOTAL CONTRA ENTREGA | O38: VALOR UNITARIO ANTES DE IVA | P38: IVA | Q38: VALOR UNITARIO INCLUIDO IVA | R38: VALOR TOTAL CONTRA ENTREGA | S38: VALOR UNITARIO ANTES DE IVA | T38: IVA | U38: VALOR UNITARIO INCLUIDO IVA | V38: VALOR TOTAL CONTRA ENTREGA | W38: PRECIO HISTÓRICO | X38: IPC (5,10%) | Y38: PROYECCIÓN 2026 | Z38: MÉTRICAS | AF38: PRECIO UNITARIO DE REFERENCIA | AG38: MÉTRICA | AH38: OBSERVACIÓN
Z39: (A) MENOR VALOR | AA39: (B) PROMEDIO | AB39: (C) MEDIANA | AC39: (D) MEDIA GEOMÉTRICA | AD39: (E) DESVIACIÓN | AE39: (F) % DISPERSIÓN
B40: =B34+1 -> 22 | C40: 2732008 | D40: ESLINGA RESTRICCIÓN EN Y CON ABSOLVEDOR | E40: UN | F40: 0 | G40: 1 | H40: 24101611 | I40: 1331221 | J40: SIN CREAR | K40: 620566.4 | L40: =K40*19% -> 117907.62 | M40: =K40+L40 -> 738474.02 | N40: =L40+M40 -> 856381.63 | O40: 567145 | P40: =O40*19% -> 107757.55 | Q40: =O40+P40 -> 674902.55 | R40: =P40+Q40 -> 782660.1 | S40: =U40/1.19 -> 491966.39 | T40: =U40-S40 -> 93473.613 | U40: 585440 | V40: 585440 | Z40: =MIN(V40,R40,N40) -> 585440 | AA40: =AVERAGE(V40,R40,N40) -> 741493.91 | AB40: =MEDIAN(V40,R40,N40) -> 782660.1 | AC40: =GEOMEAN(V40,R40,N40) -> 732106.58 | AD40: =_xlfn.STDEV.S(N40,R40,V40) -> 140083.31 | AE40: =AD40/AA40 -> 0.18892038 | AF40: =AVERAGE(AA40) -> 741493.91 | AG40: PROMEDIO | AH40: SIN OBSERVACIONES
B41: =B40+1 -> 23 | C41: 27320 | D41: SOGA 3/4" 19 MM GOLDEN X 50 ML | E41: UN | F41: 0 | G41: 1 | H41: 31151500 | I41: CREAR | J41: SIN CREAR | K41: 441536.64 | L41: =K41*19% -> 83891.962 | M41: =K41+L41 -> 525428.6 | N41: =L41+M41 -> 609320.56 | O41: 403527 | P41: =O41*19% -> 76670.13 | Q41: =O41+P41 -> 480197.13 | R41: =P41+Q41 -> 556867.26 | S41: =U41/1.19 -> 350036.97 | T41: =U41-S41 -> 66507.025 | U41: 416544 | V41: 416544 | Z41: =MIN(V41,R41,N41) -> 416544 | AA41: =AVERAGE(V41,R41,N41) -> 527577.27 | AB41: =MEDIAN(V41,R41,N41) -> 556867.26 | AC41: =GEOMEAN(V41,R41,N41) -> 520898.13 | AD41: =_xlfn.STDEV.S(N41,R41,V41) -> 99670.097 | AE41: =AD41/AA41 -> 0.18892038 | AF41: =AVERAGE(AA41) -> 527577.27 | AG41: PROMEDIO | AH41: SIN OBSERVACIONES
B42: =B41+1 -> 24 | C42: 27320 | D42: SOGA 3/8" 10 MM GOLDEN X 50 ML | E42: UN | F42: 0 | G42: 1 | H42: 31151500 | I42: 1589740 | J42: SIN CREAR | K42: 441536.64 | L42: =K42*19% -> 83891.962 | M42: =K42+L42 -> 525428.6 | N42: =L42+M42 -> 609320.56 | O42: 403527 | P42: =O42*19% -> 76670.13 | Q42: =O42+P42 -> 480197.13 | R42: =P42+Q42 -> 556867.26 | S42: =U42/1.19 -> 350036.97 | T42: =U42-S42 -> 66507.025 | U42: 416544 | V42: 416544 | Z42: =MIN(V42,R42,N42) -> 416544 | AA42: =AVERAGE(V42,R42,N42) -> 527577.27 | AB42: =MEDIAN(V42,R42,N42) -> 556867.26 | AC42: =GEOMEAN(V42,R42,N42) -> 520898.13 | AD42: =_xlfn.STDEV.S(N42,R42,V42) -> 99670.097 | AE42: =AD42/AA42 -> 0.18892038 | AF42: =AVERAGE(AA42) -> 527577.27 | AG42: PROMEDIO | AH42: SIN OBSERVACIONES
B43: =B42+1 -> 25 | C43: 27190 | D43: CINTURÓN DE HERRAMIENTAS CON BOLSILLOS | E43: UN | F43: 0 | G43: 1 | H43: 24112403 | I43: 1109319 | J43: SIN CREAR | K43: 169430.4 | L43: =K43*19% -> 32191.776 | M43: =K43+L43 -> 201622.18 | N43: =L43+M43 -> 233813.95 | O43: 154845 | P43: =O43*19% -> 29420.55 | Q43: =O43+P43 -> 184265.55 | R43: =P43+Q43 -> 213686.1 | S43: =U43/1.19 -> 134319.33 | T43: =U43-S43 -> 25520.672 | U43: 159840 | V43: 159840 | Z43: =MIN(V43,R43,N43) -> 159840 | AA43: =AVERAGE(V43,R43,N43) -> 202446.68 | AB43: =MEDIAN(V43,R43,N43) -> 213686.1 | AC43: =GEOMEAN(V43,R43,N43) -> 199883.7 | AD43: =_xlfn.STDEV.S(N43,R43,V43) -> 38246.304 | AE43: =AD43/AA43 -> 0.18892038 | AF43: =AVERAGE(AA43) -> 202446.68 | AG43: PROMEDIO | AH43: SIN OBSERVACIONES
B44: VALOR TOTAL | K44: =SUM(N40:N43) -> 2308836.7 | O44: =SUM(R40:R43) -> 2110080.7 | S44: =SUM(V40:V43) -> 1578368 | AF44: =SUM(AF40:AF43) -> 1999095.1
B46: A-02-02-01-004-006 MAQUINARIA Y APARATOS ELÉCTRICOS
...

Sheet MÍNIMAS
B2: =ANÁLISIS!B4 -> A-02-02-01-002-008 DOTACIÓN (PRENDAS DE VESTIR DE CALZADO)
B3: ÍTEM | C3: CÓDIGO DANE | D3: DESCRIPCIÓN DEL BIEN Y/O SERVICIO | E3: UNIDAD MEDIDA | F3: EXISTENCIAS (STOCK - INVENTARIOS) | G3: NECESIDAD | H3: UNSPSC (CCE) | I3: CÓDIGO MATERIAL SAP (OPCIONAL) | J3: CÓDIGO OTAN - NOC (OPCIONAL) | K3: NECESIDAD TOTAL | L3: MÍNIMAS | M3: PRECIO DE REFERENCIA | N3: VALOR TOTAL | O3: BAABS3 | Q3: BAACA10 | S3: BAACA2 | U3: BAADA1 | W3: BACAC | Y3: BAEEV3 | AA3: BAMMA | AC3: BAS10 | AE3: BASAC | AG3: BATAC | AI3: BICAR | AK3: BIMOC | AM3: BITER10 | AO3: BMMA1 | AQ3: BR10 | AS3: GMMAT | AU3: GMRON
O4: M | P4: VALOR TOTAL NECESIDAD | Q4: M | R4: VALOR TOTAL NECESIDAD | S4: M | T4: VALOR TOTAL NECESIDAD | U4: M | V4: VALOR TOTAL NECESIDAD | W4: M | X4: VALOR TOTAL NECESIDAD | Y4: M | Z4: VALOR TOTAL NECESIDAD | AA4: M | AB4: VALOR TOTAL NECESIDAD | AC4: M | AD4: VALOR TOTAL NECESIDAD | AE4: M | AF4: VALOR TOTAL NECESIDAD | AG4: M | AH4: VALOR TOTAL NECESIDAD | AI4: M | AJ4: VALOR TOTAL NECESIDAD | AK4: M | AL4: VALOR TOTAL NECESIDAD | AM4: M | AN4: VALOR TOTAL NECESIDAD | AO4: M | AP4: VALOR TOTAL NECESIDAD | AQ4: M | AR4: VALOR TOTAL NECESIDAD | AS4: M | AT4: VALOR TOTAL NECESIDAD | AU4: M | AV4: VALOR TOTAL NECESIDAD
B5: =ANÁLISIS!B7 -> 1 | C5: =ANÁLISIS!C7 -> 2951001 | D5: =ANÁLISIS!D7 -> BOTA CAÑA ALTA DE CAUCHO: FABRICADA EN CAUCHO, ARMADA POR PARTES, VULCANIZADAS EN AUTOCLAVE. CAÑA REFORZADA, FORRO 100% ALGODÓN ABSORBENTE, PUNTERA EN ACERO DE SEGURIDAD E IMPERMEABLE 100% NORMA EN 12568 CON REFUERZO EN CAUCHO, SUELA ANTIDESLIZANTE COLOR AMARILLO, TALLAS 39 A 42, CAÑA LARGO 16” COLOR NEGRO, ALTURA MÁXIMA DE 37.5 CM. | E5: =ANÁLISIS!E7 -> PAR | F5: =ANÁLISIS!F7 -> 0 | G5: =ANÁLISIS!G7 -> 1 | H5: =ANÁLISIS!H7 -> 46181611 | I5: =ANÁLISIS!I7 -> 1264284 | J5: =ANÁLISIS!J7 -> 0 | K5: =ANÁLISIS!G7 -> 1 | L5: =SUM(W5,Y5,AA5,AI5,AK5,AM5,AS5) -> 0 | M5: =ANÁLISIS!AF7 -> 148415.7 | N5: =L5*M5 -> 0 | P5: =O5*M5 -> 0 | Q5: 0 | R5: =Q5*$M5 -> 0 | T5: =S5*$M5 -> 0 | V5: =U5*$M5 -> 0 | W5: 0 | X5: =W5*$M5 -> 0 | Z5: =Y5*$M5 -> 0 | AB5: =AA5*$M5 -> 0 | AD5: =AC5*$M5 -> 0 | AE5: 0 | AF5: =AE5*$M5 -> 0 | AG5: 0 | AH5: =AG5*$M5 -> 0 | AJ5: =AI5*$M5 -> 0 | AL5: =AK5*$M5 -> 0 | AN5: =AM5*$M5 -> 0 | AP5: =AO5*$M5 -> 0 | AR5: =AQ5*$M5 -> 0 | AT5: =AS5*$M5 -> 0 | AV5: =AU5*$M5 -> 0
B6: =ANÁLISIS!B8 -> 2 | C6: =ANÁLISIS!C8 -> 2929012 | D6: =ANÁLISIS!D8 -> CARTUCHO CONTRA VAPORES ORGÁNICOS PARA RESPIRADOR DE MEDIA CARA (CARACTERÍSTICAS DE ACUERDO AL MODELO DEL RESPIRADOR DEL ÍTEM N°5. NORMAS APLICABLES: APROBACIÓN NIOSH). | E6: =ANÁLISIS!E8 -> PAR | F6: =ANÁLISIS!F8 -> 0 | G6: =ANÁLISIS!G8 -> 1 | H6: =ANÁLISIS!H8 -> 46182005 | I6: =ANÁLISIS!I8 -> 1289556 | J6: =ANÁLISIS!J8 -> 0 | K6: =ANÁLISIS!G8 -> 1 | L6: =SUM(W6,Y6,AA6,AI6,AK6,AM6,AS6) -> 0 | M6: =ANÁLISIS!AF8 -> 143764.55 | N6: =L6*M6 -> 0 | P6: =O6*M6 -> 0 | Q6: 0 | R6: =Q6*$M6 -> 0 | T6: =S6*$M6 -> 0 | V6: =U6*$M6 -> 0 | W6: 0 | X6: =W6*$M6 -> 0 | Z6: =Y6*$M6 -> 0 | AB6: =AA6*$M6 -> 0 | AD6: =AC6*$M6 -> 0 | AE6: 0 | AF6: =AE6*$M6 -> 0 | AG6: 0 | AH6: =AG6*$M6 -> 0 | AJ6: =AI6*$M6 -> 0 | AL6: =AK6*$M6 -> 0 | AN6: =AM6*$M6 -> 0 | AP6: =AO6*$M6 -> 0 | AR6: =AQ6*$M6 -> 0 | AT6: =AS6*$M6 -> 0 | AV6: =AU6*$M6 -> 0
B7: =ANÁLISIS!B9 -> 3 | C7: =ANÁLISIS!C9 -> 3697101 | D7: =ANÁLISIS!D9 -> CASCOS DE SEGURIDAD CON BARBOQUEJO (CASCO INDUSTRIAL: TIPO 1 CLASE E, CASCO DIELÉCTRICO ESTÁNDAR FABRICADO EN POLIETILENO DE ALTA DENSIDAD, LIVIANO Y RESISTENTE CON MÍNIMO 4 PUNTOS DE AJUSTE, CON SISTEMA DE FIJACIÓN REGULABLE RATCHET, SISTEMA DE SUSPENSIÓN CON TRINQUETE, RANURAS DE VENTILACIÓN Y QUE PERMITAN LA INSTALACIÓN DE ELEMENTOS DE PROTECCIÓN FACIAL, AUDITIVA Y CARETAS, CON BARBOQUEJO FABRICADO EN REATA O CINTA ELÁSTICA PARA MAYOR DURACIÓN Y COMODIDAD, IDENTIFICACIÓN DE COLOR AMARILLO. NORMA ANSI Z89.1, 2014 - PROTECCIÓN DE IMPACTO DE PARTÍCULAS Y/O O EN 397 / EN50365.). | E7: =ANÁLISIS!E9 -> UN | F7: =ANÁLISIS!F9 -> 0 | G7: =ANÁLISIS!G9 -> 1 | H7: =ANÁLISIS!H9 -> 46181704 | I7: =ANÁLISIS!I9 -> 1327069 | J7: =ANÁLISIS!J9 -> 0 | K7: =ANÁLISIS!G9 -> 1 | L7: =SUM(W7,Y7,AA7,AI7,AK7,AM7,AS7) -> 0 | M7: =ANÁLISIS!AF9 -> 75802.617 | N7: =L7*M7 -> 0 | P7: =O7*M7 -> 0 | Q7: 0 | R7: =Q7*$M7 -> 0 | T7: =S7*$M7 -> 0 | V7: =U7*$M7 -> 0 | W7: 0 | X7: =W7*$M7 -> 0 | Z7: =Y7*$M7 -> 0 | AB7: =AA7*$M7 -> 0 | AD7: =AC7*$M7 -> 0 | AE7: 0 | AF7: =AE7*$M7 -> 0 | AG7: 0 | AH7: =AG7*$M7 -> 0 | AJ7: =AI7*$M7 -> 0 | AL7: =AK7*$M7 -> 0 | AN7: =AM7*$M7 -> 0 | AP7: =AO7*$M7 -> 0 | AR7: =AQ7*$M7 -> 0 | AT7: =AS7*$M7 -> 0 | AV7: =AU7*$M7 -> 0
B8: =ANÁLISIS!B10 -> 4 | C8: =ANÁLISIS!C10 -> 2929012 | D8: =ANÁLISIS!D10 -> CHALECO REFLECTIVO (TELA FLUORESCENTE COLOR NARANJA O VERDE, TEJIDO EN HILO 100% POLIÉSTER DE ALTA TENACIDAD, CON CINTAS REFLECTIVAS COLOR PLATA DE 2" VERTICALES Y CIERRE DELANTERO CON CREMALLERA). | E8: =ANÁLISIS!E10 -> UN | F8: =ANÁLISIS!F10 -> 0 | G8: =ANÁLISIS!G10 -> 1 | H8: =ANÁLISIS!H10 -> 46181507 | I8: =ANÁLISIS!I10 -> 1181307 | J8: =ANÁLISIS!J10 -> 0 | K8: =ANÁLISIS!G10 -> 1 | L8: =SUM(W8,Y8,AA8,AI8,AK8,AM8,AS8) -> 0 | M8: =ANÁLISIS!AF10 -> 20149.726 | N8: =L8*M8 -> 0 | P8: =O8*M8 -> 0 | Q8: 0 | R8: =Q8*$M8 -> 0 | T8: =S8*$M8 -> 0 | V8: =U8*$M8 -> 0 | W8: 0 | X8: =W8*$M8 -> 0 | Z8: =Y8*$M8 -> 0 | AB8: =AA8*$M8 -> 0 | AD8: =AC8*$M8 -> 0 | AE8: 0 | AF8: =AE8*$M8 -> 0 | AG8: 0 | AH8: =AG8*$M8 -> 0 | AJ8: =AI8*$M8 -> 0 | AL8: =AK8*$M8 -> 0 | AN8: =AM8*$M8 -> 0 | AP8: =AO8*$M8 -> 0 | AR8: =AQ8*$M8 -> 0 | AT8: =AS8*$M8 -> 0 | AV8: =AU8*$M8 -> 0
B9: =ANÁLISIS!B11 -> 5 | C9: =ANÁLISIS!C11 -> 2929012 | D9: =ANÁLISIS!D11 -> FILTROS RESPIRADORES DE VAPORES ORGÁNICOS. (CARACTERÍSTICAS DE ACUERDO AL MODELO DEL RESPIRADOR). DEL ÍTEM 7 | E9: =ANÁLISIS!E11 -> PAR | F9: =ANÁLISIS!F11 -> 0 | G9: =ANÁLISIS!G11 -> 1 | H9: =ANÁLISIS!H11 -> 46182005 | I9: =ANÁLISIS!I11 -> 1011887 | J9: =ANÁLISIS!J11 -> 0 | K9: =ANÁLISIS!G11 -> 1 | L9: =SUM(W9,Y9,AA9,AI9,AK9,AM9,AS9) -> 0 | M9: =ANÁLISIS!AF11 -> 28196.087 | N9: =L9*M9 -> 0 | P9: =O9*M9 -> 0 | Q9: 0 | R9: =Q9*$M9 -> 0 | T9: =S9*$M9 -> 0 | V9: =U9*$M9 -> 0 | W9: 0 | X9: =W9*$M9 -> 0 | Z9: =Y9*$M9 -> 0 | AB9: =AA9*$M9 -> 0 | AD9: =AC9*$M9 -> 0 | AE9: 0 | AF9: =AE9*$M9 -> 0 | AG9: 0 | AH9: =AG9*$M9 -> 0 | AJ9: =AI9*$M9 -> 0 | AL9: =AK9*$M9 -> 0 | AN9: =AM9*$M9 -> 0 | AP9: =AO9*$M9 -> 0 | AR9: =AQ9*$M9 -> 0 | AT9: =AS9*$M9 -> 0 | AV9: =AU9*$M9 -> 0
B10: =ANÁLISIS!B12 -> 6 | C10: =ANÁLISIS!C12 -> 4831204 | D10: =ANÁLISIS!D12 -> GAFAS DE SEGURIDAD (GAFAS EN POLICARBONATO, CON ANTIEMPAÑANTE Y PROTECCIÓN PARA LUZ ULTRAVIOLETA. QUE EVITA LA PROYECCIÓN DE PARTÍCULAS SÓLIDAS O LÍQUIDAS A LOS OJOS, TALES COMO, MANEJO DE SUSTANCIAS CORROSIVAS). | E10: =ANÁLISIS!E12 -> UN | F10: =ANÁLISIS!F12 -> 0 | G10: =ANÁLISIS!G12 -> 1 | H10: =ANÁLISIS!H12 -> 46181804 | I10: =ANÁLISIS!I12 -> 1309484 | J10: =ANÁLISIS!J12 -> 0 | K10: =ANÁLISIS!G12 -> 1 | L10: =SUM(W10,Y10,AA10,AI10,AK10,AM10,AS10) -> 0 | M10: =ANÁLISIS!AF12 -> 52346 | N10: =L10*M10 -> 0 | P10: =O10*M10 -> 0 | Q10: 0 | R10: =Q10*$M10 -> 0 | T10: =S10*$M10 -> 0 | V10: =U10*$M10 -> 0 | W10: 0 | X10: =W10*$M10 -> 0 | Z10: =Y10*$M10 -> 0 | AB10: =AA10*$M10 -> 0 | AD10: =AC10*$M10 -> 0 | AE10: 0 | AF10: =AE10*$M10 -> 0 | AG10: 0 | AH10: =AG10*$M10 -> 0 | AJ10: =AI10*$M10 -> 0 | AL10: =AK10*$M10 -> 0 | AN10: =AM10*$M10 -> 0 | AP10: =AO10*$M10 -> 0 | AR10: =AQ10*$M10 -> 0 | AT10: =AS10*$M10 -> 0 | AV10: =AU10*$M10 -> 0
B11: =ANÁLISIS!B13 -> 7 | C11: =ANÁLISIS!C13 -> 3899918 | D11: =ANÁLISIS!D13 -> GUANTE NITRILO MANGA LARGA (CLORINADO PUÑO LARGO DEBE SER RESISTENTE A QUÍMICOS, SOLVENTES, ALCOHOLES, ACETONAS. RESISTENCIA A UN AMPLIO RANGO DE SOLVENTES Y QUÍMICOS PELIGROSOS. MÍNIMO 18” DE LONGITUD. ESPESOR MÁXIMO 22 MILÉSIMAS. TALLAS SUJETAS A LAS NECESIDADES. EN 374-1:2016, EN 374-5:2016 Y EN 388:2016 MÍNIMO 2001X.). | E11: =ANÁLISIS!E13 -> PAR | F11: =ANÁLISIS!F13 -> 0 | G11: =ANÁLISIS!G13 -> 1 | H11: =ANÁLISIS!H13 -> 46181541 | I11: =ANÁLISIS!I13 -> 1901328 | J11: =ANÁLISIS!J13 -> 0 | K11: =ANÁLISIS!G13 -> 1 | L11: =SUM(W11,Y11,AA11,AI11,AK11,AM11,AS11) -> 0 | M11: =ANÁLISIS!AF13 -> 132547.55 | N11: =L11*M11 -> 0 | P11: =O11*M11 -> 0 | Q11: 0 | R11: =Q11*$M11 -> 0 | T11: =S11*$M11 -> 0 | V11: =U11*$M11 -> 0 | W11: 0 | X11: =W11*$M11 -> 0 | Z11: =Y11*$M11 -> 0 | AB11: =AA11*$M11 -> 0 | AD11: =AC11*$M11 -> 0 | AE11: 0 | AF11: =AE11*$M11 -> 0 | AG11: 0 | AH11: =AG11*$M11 -> 0 | AJ11: =AI11*$M11 -> 0 | AL11: =AK11*$M11 -> 0 | AN11: =AM11*$M11 -> 0 | AP11: =AO11*$M11 -> 0 | AR11: =AQ11*$M11 -> 0 | AT11: =AS11*$M11 -> 0 | AV11: =AU11*$M11 -> 0
B12: =ANÁLISIS!B14 -> 8 | C12: =ANÁLISIS!C14 -> 3899918 | D12: =ANÁLISIS!D14 -> GUANTES CALIBRE 35 MANGA LARGA (GUANTE DE PROTECCIÓN CON DISEÑO ANATÓMICO, DISEÑADO PARA BRINDAR MAYOR RESISTENCIA QUÍMICA A HIDROCARBUROS, INCLUYENDO DERIVADOS DEL PETRÓLEO, COMPUESTO POR UNA COMBINACIÓN DE NITRILO Y CAUCHO SINTÉTICO). | E12: =ANÁLISIS!E14 -> PAR | F12: =ANÁLISIS!F14 -> 0 | G12: =ANÁLISIS!G14 -> 1 | H12: =ANÁLISIS!H14 -> 46181536 | I12: =ANÁLISIS!I14 -> 1520930 | J12: =ANÁLISIS!J14 -> 0 | K12: =ANÁLISIS!G14 -> 1 | L12: =SUM(W12,Y12,AA12,AI12,AK12,AM12,AS12) -> 0 | M12: =ANÁLISIS!AF14 -> 71041 | N12: =L12*M12 -> 0 | P12: =O12*M12 -> 0 | Q12: 0 | R12: =Q12*$M12 -> 0 | T12: =S12*$M12 -> 0 | V12: =U12*$M12 -> 0 | W12: 0 | X12: =W12*$M12 -> 0 | Z12: =Y12*$M12 -> 0 | AB12: =AA12*$M12 -> 0 | AD12: =AC12*$M12 -> 0 | AE12: 0 | AF12: =AE12*$M12 -> 0 | AG12: 0 | AH12: =AG12*$M12 -> 0 | AJ12: =AI12*$M12 -> 0 | AL12: =AK12*$M12 -> 0 | AN12: =AM12*$M12 -> 0 | AP12: =AO12*$M12 -> 0 | AR12: =AQ12*$M12 -> 0 | AT12: =AS12*$M12 -> 0 | AV12: =AU12*$M12 -> 0
B13: =ANÁLISIS!B15 -> 9 | C13: =ANÁLISIS!C15 -> 3899918 | D13: =ANÁLISIS!D15 -> GUANTES DE VAQUETA TIPO INGENIERO DE 12 PULGADAS DE LARGO CON REFUERZO EN LA PALMA (CONFECCIONADO CON CARNAZA DE RES O VAQUETA Y COSIDO CON HILO DE POLIÉSTER O HILO DE NYLON Y POLIPROPILENO, PUÑO RECTO, MEDIO DE 14CM EN ADELANTE, CON REFUERZO EN PALMA Y DEDOS). | E13: =ANÁLISIS!E15 -> PAR | F13: =ANÁLISIS!F15 -> 0 | G13: =ANÁLISIS!G15 -> 1 | H13: =ANÁLISIS!H15 -> 46181536 | I13: =ANÁLISIS!I15 -> 1114739 | J13: =ANÁLISIS!J15 -> 0 | K13: =ANÁLISIS!G15 -> 1 | L13: =SUM(W13,Y13,AA13,AI13,AK13,AM13,AS13) -> 0 | M13: =ANÁLISIS!AF15 -> 71041 | N13: =L13*M13 -> 0 | P13: =O13*M13 -> 0 | Q13: 0 | R13: =Q13*$M13 -> 0 | T13: =S13*$M13 -> 0 | V13: =U13*$M13 -> 0 | W13: 0 | X13: =W13*$M13 -> 0 | Z13: =Y13*$M13 -> 0 | AB13: =AA13*$M13 -> 0 | AD13: =AC13*$M13 -> 0 | AE13: 0 | AF13: =AE13*$M13 -> 0 | AG13: 0 | AH13: =AG13*$M13 -> 0 | AJ13: =AI13*$M13 -> 0 | AL13: =AK13*$M13 -> 0 | AN13: =AM13*$M13 -> 0 | AP13: =AO13*$M13 -> 0 | AR13: =AQ13*$M13 -> 0 | AT13: =AS13*$M13 -> 0 | AV13: =AU13*$M13 -> 0
B14: =ANÁLISIS!B16 -> 10 | C14: =ANÁLISIS!C16 -> 2823610 | D14: =ANÁLISIS!D16 -> OVEROLES DE PROTECCIÓN ENTERIZOS EN TELA (FABRICADO EN TELA JEAN O NAILON, COLOR VERDE O AZUL. COMPOSICIÓN 100% ALGODÓN. COSTURAS RESISTENTES). | E14: =ANÁLISIS!E16 -> UN | F14: =ANÁLISIS!F16 -> 0 | G14: =ANÁLISIS!G16 -> 1 | H14: =ANÁLISIS!H16 -> 46181503 | I14: =ANÁLISIS!I16 -> 1499810 | J14: =ANÁLISIS!J16 -> 0 | K14: =ANÁLISIS!G16 -> 1 | L14: =SUM(W14,Y14,AA14,AI14,AK14,AM14,AS14) -> 0 | M14: =ANÁLISIS!AF16 -> 114794.78 | N14: =L14*M14 -> 0 | P14: =O14*M14 -> 0 | Q14: 0 | R14: =Q14*$M14 -> 0 | T14: =S14*$M14 -> 0 | V14: =U14*$M14 -> 0 | W14: 0 | X14: =W14*$M14 -> 0 | Z14: =Y14*$M14 -> 0 | AB14: =AA14*$M14 -> 0 | AD14: =AC14*$M14 -> 0 | AE14: 0 | AF14: =AE14*$M14 -> 0 | AG14: 0 | AH14: =AG14*$M14 -> 0 | AJ14: =AI14*$M14 -> 0 | AL14: =AK14*$M14 -> 0 | AN14: =AM14*$M14 -> 0 | AP14: =AO14*$M14 -> 0 | AR14: =AQ14*$M14 -> 0 | AT14: =AS14*$M14 -> 0 | AV14: =AU14*$M14 -> 0
B15: =ANÁLISIS!B17 -> 11 | C15: =ANÁLISIS!C17 -> 2823610 | D15: =ANÁLISIS!D17 -> OVEROLES DE PROTECCIÓN ENTERIZOS IMPERMEABLES (TRAJE ESCAFANDRA EN PVC CALIBRE 25 ENTERIZO. CONFECCIONADO CON MATERIAL VINÍLICO, SOPORTE TEXTIL EN POLIÉSTER PARA EVITAR DESGASTE, COSTURAS CON SISTEMA DE ELECTRO SELLADO QUE IMPIDEN FILTRACIONES. TALLAS SUJETAS A LAS NECESIDADES). | E15: =ANÁLISIS!E17 -> UN | F15: =ANÁLISIS!F17 -> 0 | G15: =ANÁLISIS!G17 -> 1 | H15: =ANÁLISIS!H17 -> 46181503 | I15: =ANÁLISIS!I17 -> 1398215 | J15: =ANÁLISIS!J17 -> 0 | K15: =ANÁLISIS!G17 -> 1 | L15: =SUM(W15,Y15,AA15,AI15,AK15,AM15,AS15) -> 0 | M15: =ANÁLISIS!AF17 -> 618617.55 | N15: =L15*M15 -> 0 | P15: =O15*M15 -> 0 | Q15: 0 | R15: =Q15*$M15 -> 0 | T15: =S15*$M15 -> 0 | V15: =U15*$M15 -> 0 | W15: 0 | X15: =W15*$M15 -> 0 | Z15: =Y15*$M15 -> 0 | AB15: =AA15*$M15 -> 0 | AD15: =AC15*$M15 -> 0 | AE15: 0 | AF15: =AE15*$M15 -> 0 | AG15: 0 | AH15: =AG15*$M15 -> 0 | AJ15: =AI15*$M15 -> 0 | AL15: =AK15*$M15 -> 0 | AN15: =AM15*$M15 -> 0 | AP15: =AO15*$M15 -> 0 | AR15: =AQ15*$M15 -> 0 | AT15: =AS15*$M15 -> 0 | AV15: =AU15*$M15 -> 0
B16: =ANÁLISIS!B18 -> 12 | C16: =ANÁLISIS!C18 -> 2823611 | D16: =ANÁLISIS!D18 -> PETO DE CARNAZA PARA SUSTANCIAS QUÍMICAS (ELABORADO EN POLÍMEROS SIMILARES AL CAUCHO Y/O FABRICADO EN CARNAZA DE RES (CUERO VACUNO CURTIDO), PROTECCIÓN CONTRA CHISPA DE SOLDADURA. QUE PERMITA SER ESTIRADO Y REFORMAR SU TAMAÑO ORIGINAL, CON UNA CORREA QUE SE AJUSTE EN EL CUELLO Y OTRA CORREA QUE SE AJUSTE EN LA PARTE POSTERIOR DEL TRONCO). | E16: =ANÁLISIS!E18 -> UN | F16: =ANÁLISIS!F18 -> 0 | G16: =ANÁLISIS!G18 -> 1 | H16: =ANÁLISIS!H18 -> 46181501 | I16: =ANÁLISIS!I18 -> 1017780 | J16: =ANÁLISIS!J18 -> 0 | K16: =ANÁLISIS!G18 -> 1 | L16: =SUM(W16,Y16,AA16,AI16,AK16,AM16,AS16) -> 0 | M16: =ANÁLISIS!AF18 -> 68984.55 | N16: =L16*M16 -> 0 | P16: =O16*M16 -> 0 | Q16: 0 | R16: =Q16*$M16 -> 0 | T16: =S16*$M16 -> 0 | V16: =U16*$M16 -> 0 | W16: 0 | X16: =W16*$M16 -> 0 | Z16: =Y16*$M16 -> 0 | AB16: =AA16*$M16 -> 0 | AD16: =AC16*$M16 -> 0 | AE16: 0 | AF16: =AE16*$M16 -> 0 | AG16: 0 | AH16: =AG16*$M16 -> 0 | AJ16: =AI16*$M16 -> 0 | AL16: =AK16*$M16 -> 0 | AN16: =AM16*$M16 -> 0 | AP16: =AO16*$M16 -> 0 | AR16: =AQ16*$M16 -> 0 | AT16: =AS16*$M16 -> 0 | AV16: =AU16*$M16 -> 0
... B21: =ANÁLISIS!B23 -> 17 | C21: =ANÁLISIS!C23 -> 2826203 | D21: =ANÁLISIS!D23 -> SOMBRERO TIPO PAVA (SOMBRERO EN TELA, CON ALA ANCHA Y CORDÓN. UTILIZADO PARA REALIZAR ACTIVIDADES A LA INTEMPERIE Y CUANDO SE ESTÉ EXPUESTO AL SOL. COLOR VERDE). | E21: =ANÁLISIS!E23 -> UN | F21: =ANÁLISIS!F23 -> 0 | G21: =ANÁLISIS!G23 -> 1 | H21: =ANÁLISIS!H23 -> 53102503 | I21: =ANÁLISIS!I23 -> 1732607 | J21: =ANÁLISIS!J23 -> 0 | K21: =ANÁLISIS!G23 -> 1 | L21: =SUM(W21,Y21,AA21,AI21,AK21,AM21,AS21) -> 0 | M21: =ANÁLISIS!AF23 -> 74593.05 | N21: =L21*M21 -> 0 | P21: =O21*M21 -> 0 | Q21: 0 | R21: =Q21*$M21 -> 0 | T21: =S21*$M21 -> 0 | V21: =U21*$M21 -> 0 | W21: 0 | X21: =W21*$M21 -> 0 | Z21: =Y21*$M21 -> 0 | AB21: =AA21*$M21 -> 0 | AD21: =AC21*$M21 -> 0 | AE21: 0 | AF21: =AE21*$M21 -> 0 | AG21: 0 | AH21: =AG21*$M21 -> 0 | AJ21: =AI21*$M21 -> 0 | AL21: =AK21*$M21 -> 0 | AN21: =AM21*$M21 -> 0 | AP21: =AO21*$M21 -> 0 | AR21: =AQ21*$M21 -> 0 | AT21: =AS21*$M21 -> 0 | AV21: =AU21*$M21 -> 0
B22: VALOR TOTAL NECESIDAD | O22: =SUM(P5:P21) -> 0 | Q22: =SUM(R5:R21) -> 0 | S22: =SUM(T5:T21) -> 0 | U22: =SUM(V5:V21) -> 0 | W22: =SUM(X5:X21) -> 0 | Y22: =SUM(Z5:Z21) -> 0 | AA22: =SUM(AB5:AB21) -> 0 | AC22: =SUM(AD5:AD21) -> 0 | AE22: =SUM(AF5:AF21) -> 0 | AG22: =SUM(AH5:AH21) -> 0 | AI22: =SUM(AJ5:AJ21) -> 0 | AK22: =SUM(AL5:AL21) -> 0 | AM22: =SUM(AN5:AN21) -> 0 | AO22: =SUM(AP5:AP21) -> 0 | AQ22: =SUM(AR5:AR21) -> 0 | AS22: =SUM(AT5:AT21) -> 0 | AU22: =SUM(AV5:AV21) -> 0
B23: PRESUPUESTO ASIGNADO | W23: 848385 | Y23: 932222 | AA23: 932222 | AI23: 932222 | AK23: 932222 | AM23: 932222 | AS23: 1398333 | AW23: =SUM(O23:AV23) -> 6907828
B24: SALDO | O24: =O23-O22 -> 0 | Q24: =Q23-Q22 -> 0 | S24: =S23-S22 -> 0 | U24: =U23-U22 -> 0 | W24: =W23-W22 -> 848385 | Y24: =Y23-Y22 -> 932222 | AA24: =AA23-AA22 -> 932222 | AC24: =AC23-AC22 -> 0 | AE24: =AE23-AE22 -> 0 | AG24: =AG23-AG22 -> 0 | AI24: =AI23-AI22 -> 932222 | AK24: =AK23-AK22 -> 932222 | AM24: =AM23-AM22 -> 932222 | AO24: =AO23-AO22 -> 0 | AQ24: =AQ23-AQ22 -> 0 | AS24: =AS23-AS22 -> 1398333 | AU24: =AU23-AU22 -> 0 | AW24: =SUM(O24:AV24) -> 6907828
B26: =ANÁLISIS!B28 -> A-02-02-01-004-008 APARATOS MÉDICOS, INSTRUMENTOS ÓPTICOS Y DE PRECISIÓN, RELOJES
B27: ÍTEM | C27: CÓDIGO DANE | D27: DESCRIPCIÓN DEL BIEN Y/O SERVICIO | E27: =ANÁLISIS!E29 -> UNIDAD MEDIDA | F27: =ANÁLISIS!F29 -> EXISTENCIAS (STOCK - INVENTARIOS) | G27: NECESIDAD | H27: =ANÁLISIS!H29 -> UNSPSC (CCE) | I27: =ANÁLISIS!I29 -> CÓDIGO MATERIAL SAP (OPCIONAL) | J27: =ANÁLISIS!J29 -> CÓDIGO OTAN - NOC (OPCIONAL) | K27: NECESIDAD TOTAL | L27: MÍNIMAS | M27: PRECIO DE REFERENCIA | N27: VALOR TOTAL | O27: BAABS3 | Q27: BAACA10 | S27: BAACA2 | U27: BAADA1 | W27: BACAC | Y27: BAEEV3 | AA27: BAMMA | AC27: BAS10 | AE27: BASAC | AG27: BATAC | AI27: BICAR | AK27: BIMOC | AM27: BITER10 | AO27: BMMA1 | AQ27: BR10 | AS27: GMMAT | AU27: GMRON
O28: M | P28: VALOR TOTAL NECESIDAD | Q28: M | R28: VALOR TOTAL NECESIDAD | S28: M | T28: VALOR TOTAL NECESIDAD | U28: M | V28: VALOR TOTAL NECESIDAD | W28: M | X28: VALOR TOTAL NECESIDAD | Y28: M | Z28: VALOR TOTAL NECESIDAD | AA28: M | AB28: VALOR TOTAL NECESIDAD | AC28: M | AD28: VALOR TOTAL NECESIDAD | AE28: M | AF28: VALOR TOTAL NECESIDAD | AG28: M | AH28: VALOR TOTAL NECESIDAD | AI28: M | AJ28: VALOR TOTAL NECESIDAD | AK28: M | AL28: VALOR TOTAL NECESIDAD | AM28: M | AN28: VALOR TOTAL NECESIDAD | AO28: M | AP28: VALOR TOTAL NECESIDAD | AQ28: M | AR28: VALOR TOTAL NECESIDAD | AS28: M | AT28: VALOR TOTAL NECESIDAD | AU28: M | AV28: VALOR TOTAL NECESIDAD
B29: =ANÁLISIS!B31 -> 18 | C29: =ANÁLISIS!C31 -> 48233 | D29: =ANÁLISIS!D31 -> CINTA MÉTRICA DE 50 M | E29: =ANÁLISIS!E31 -> UN | F29: =ANÁLISIS!F31 -> 0 | G29: =ANÁLISIS!G31 -> 1 | H29: =ANÁLISIS!H31 -> 27111801 | I29: =ANÁLISIS!I31 -> 1509008 | J29: =ANÁLISIS!J31 -> SIN CREAR | K29: =ANÁLISIS!G31 -> 1 | L29: =SUM(O29,Q29,S29,U29,W29,Y29,AA29,AC29,AE29,AG29,AI29,AK29,AM29,AO29,AQ29,AS29,AU29) -> 0 | M29: =ANÁLISIS!AF31 -> 133655.34 | N29: =L29*M29 -> 0 | P29: =$M29*O29 -> 0 | R29: =$M29*Q29 -> 0 | T29: =$M29*S29 -> 0 | V29: =$M29*U29 -> 0 | X29: =$M29*W29 -> 0 | Z29: =$M29*Y29 -> 0 | AB29: =$M29*AA29 -> 0 | AD29: =$M29*AC29 -> 0 | AF29: =$M29*AE29 -> 0 | AH29: =$M29*AG29 -> 0 | AJ29: =$M29*AI29 -> 0 | AL29: =$M29*AK29 -> 0 | AN29: =$M29*AM29 -> 0 | AP29: =$M29*AO29 -> 0 | AR29: =$M29*AQ29 -> 0 | AT29: =$M29*AS29 -> 0 | AV29: =$M29*AU29 -> 0
B30: =ANÁLISIS!B32 -> 19 | C30: =ANÁLISIS!C32 -> 4828101 | D30: =ANÁLISIS!D32 -> FLEXÓMETRO DE 8 METROS | E30: =ANÁLISIS!E32 -> UN | F30: =ANÁLISIS!F32 -> 0 | G30: =ANÁLISIS!G32 -> 1 | H30: =ANÁLISIS!H32 -> 95121632 | I30: =ANÁLISIS!I32 -> 1460149 | J30: =ANÁLISIS!J32 -> SIN CREAR | K30: =ANÁLISIS!G32 -> 1 | L30: =SUM(O30,Q30,S30,U30,W30,Y30,AA30,AC30,AE30,AG30,AI30,AK30,AM30,AO30,AQ30,AS30,AU30) -> 0 | M30: =ANÁLISIS!AF32 -> 79446.645 | N30: =L30*M30 -> 0 | P30: =$M30*O30 -> 0 | R30: =$M30*Q30 -> 0 | T30: =$M30*S30 -> 0 | V30: =$M30*U30 -> 0 | X30: =$M30*W30 -> 0 | Z30: =$M30*Y30 -> 0 | AB30: =$M30*AA30 -> 0 | AD30: =$M30*AC30 -> 0 | AF30: =$M30*AE30 -> 0 | AH30: =$M30*AG30 -> 0 | AJ30: =$M30*AI30 -> 0 | AL30: =$M30*AK30 -> 0 | AN30: =$M30*AM30 -> 0 | AP30: =$M30*AO30 -> 0 | AR30: =$M30*AQ30 -> 0 | AT30: =$M30*AS30 -> 0 | AV30: =$M30*AU30 -> 0
B31: =ANÁLISIS!B33 -> 20 | C31: =ANÁLISIS!C33 -> 4826601 | D31: =ANÁLISIS!D33 -> PLOMADA DE CONSTRUCCIÓN COMPLETA | E31: =ANÁLISIS!E33 -> UN | F31: =ANÁLISIS!F33 -> 0 | G31: =ANÁLISIS!G33 -> 1 | H31: =ANÁLISIS!H33 -> 27111804 | I31: =ANÁLISIS!I33 -> 1596693 | J31: =ANÁLISIS!J33 -> SIN CREAR | K31: =ANÁLISIS!G33 -> 1 | L31: =SUM(O31,Q31,S31,U31,W31,Y31,AA31,AC31,AE31,AG31,AI31,AK31,AM31,AO31,AQ31,AS31,AU31) -> 0 | M31: =ANÁLISIS!AF33 -> 68698.124 | N31: =L31*M31 -> 0 | P31: =$M31*O31 -> 0 | R31: =$M31*Q31 -> 0 | T31: =$M31*S31 -> 0 | V31: =$M31*U31 -> 0 | X31: =$M31*W31 -> 0 | Z31: =$M31*Y31 -> 0 | AB31: =$M31*AA31 -> 0 | AD31: =$M31*AC31 -> 0 | AF31: =$M31*AE31 -> 0 | AH31: =$M31*AG31 -> 0 | AJ31: =$M31*AI31 -> 0 | AL31: =$M31*AK31 -> 0 | AN31: =$M31*AM31 -> 0 | AP31: =$M31*AO31 -> 0 | AR31: =$M31*AQ31 -> 0 | AT31: =$M31*AS31 -> 0 | AV31: =$M31*AU31 -> 0
B32: =ANÁLISIS!B34 -> 21 | C32: =ANÁLISIS!C34 -> 4826601 | D32: =ANÁLISIS!D34 -> CIMBRA DE 30 METROS PARA CONSTRUCCIÓN | E32: =ANÁLISIS!E34 -> UN | F32: =ANÁLISIS!F34 -> 0 | G32: =ANÁLISIS!G34 -> 1 | H32: =ANÁLISIS!H34 -> 27112300 | I32: =ANÁLISIS!I34 -> 1088518 | J32: =ANÁLISIS!J34 -> SIN CREAR | K32: =ANÁLISIS!G34 -> 1 | L32: =SUM(O32,Q32,S32,U32,W32,Y32,AA32,AC32,AE32,AG32,AI32,AK32,AM32,AO32,AQ32,AS32,AU32) -> 0 | M32: =ANÁLISIS!AF34 -> 72953.76 | N32: =L32*M32 -> 0 | P32: =$M32*O32 -> 0 | R32: =$M32*Q32 -> 0 | T32: =$M32*S32 -> 0 | V32: =$M32*U32 -> 0 | X32: =$M32*W32 -> 0 | Z32: =$M32*Y32 -> 0 | AB32: =$M32*AA32 -> 0 | AD32: =$M32*AC32 -> 0 | AF32: =$M32*AE32 -> 0 | AH32: =$M32*AG32 -> 0 | AJ32: =$M32*AI32 -> 0 | AL32: =$M32*AK32 -> 0 | AN32: =$M32*AM32 -> 0 | AP32: =$M32*AO32 -> 0 | AR32: =$M32*AQ32 -> 0 | AT32: =$M32*AS32 -> 0 | AV32: =$M32*AU32 -> 0
B33: VALOR TOTAL NECESIDAD | O33: =SUM(P29:P32) -> 0 | Q33: =SUM(R29:R32) -> 0 | S33: =SUM(T29:T32) -> 0 | U33: =SUM(V29:V32) -> 0 | W33: =SUM(X29:X32) -> 0 | Y33: =SUM(Z29:Z32) -> 0 | AA33: =SUM(AB29:AB32) -> 0 | AC33: =SUM(AD29:AD32) -> 0 | AE33: =SUM(AF29:AF32) -> 0 | AG33: =SUM(AH29:AH32) -> 0 | AI33: =SUM(AJ29:AJ32) -> 0 | AK33: =SUM(AL29:AL32) -> 0 | AM33: =SUM(AN29:AN32) -> 0 | AO33: =SUM(AP29:AP32) -> 0 | AQ33: =SUM(AR29:AR32) -> 0 | AS33: =SUM(AT29:AT32) -> 0 | AU33: =SUM(AV29:AV32) -> 0
B34: PRESUPUESTO ASIGNADO | O34: 456312 | Q34: 456312 | S34: 456312 | U34: 456312 | W34: 456312 | Y34: 456312 | AA34: 456312 | AC34: 456312 | AE34: 456312 | AG34: 456312 | AI34: 456312 | AK34: 456312 | AM34: 456312 | AO34: 456312 | AQ34: 456312 | AS34: 456312 | AU34: 456312 | AW34: =SUM(O34:AV34) -> 7757304
B35: SALDO | O35: =O34-O33 -> 456312 | Q35: =Q34-Q33 -> 456312 | S35: =S34-S33 -> 456312 | U35: =U34-U33 -> 456312 | W35: =W34-W33 -> 456312 | Y35: =Y34-Y33 -> 456312 | AA35: =AA34-AA33 -> 456312 | AC35: =AC34-AC33 -> 456312 | AE35: =AE34-AE33 -> 456312 | AG35: =AG34-AG33 -> 456312 | AI35: =AI34-AI33 -> 456312 | AK35: =AK34-AK33 -> 456312 | AM35: =AM34-AM33 -> 456312 | AO35: =AO34-AO33 -> 456312 | AQ35: =AQ34-AQ33 -> 456312 | AS35: =AS34-AS33 -> 456312 | AU35: =AU34-AU33 -> 456312 | AW35: =SUM(O35:AV35) -> 7757304
B37: =ANÁLISIS!B37 -> A-02-02-01-002-007 ARTÍCULOS TEXTILES (EXCEPTO PRENDAS DE VESTIR)
B38: ÍTEM | C38: CÓDIGO DANE | D38: DESCRIPCIÓN DEL BIEN Y/O SERVICIO | E38: UNIDAD MEDIDA | F38: EXISTENCIAS (STOCK - INVENTARIOS) | G38: NECESIDAD | H38: UNSPSC (CCE) | I38: CÓDIGO MATERIAL SAP (OPCIONAL) | J38: CÓDIGO OTAN - NOC (OPCIONAL) | K38: NECESIDAD TOTAL | L38: MÍNIMAS | M38: PRECIO DE REFERENCIA | N38: VALOR TOTAL | O38: BAABS3 | Q38: BAACA10 | S38: BAACA2 | U38: BAADA1 | W38: BACAC | Y38: BAEEV3 | AA38: BAMMA | AC38: BAS10 | AE38: BASAC | AG38: BATAC | AI38: BICAR | AK38: BIMOC | AM38: BITER10 | AO38: BMMA1 | AQ38: BR10 | AS38: GMMAT | AU38: GMRON
O39: M | P39: VALOR TOTAL NECESIDAD | Q39: M | R39: VALOR TOTAL NECESIDAD | S39: M | T39: VALOR TOTAL NECESIDAD | U39: M | V39: VALOR TOTAL NECESIDAD | W39: M | X39: VALOR TOTAL NECESIDAD | Y39: M | Z39: VALOR TOTAL NECESIDAD | AA39: M | AB39: VALOR TOTAL NECESIDAD | AC39: M | AD39: VALOR TOTAL NECESIDAD | AE39: M | AF39: VALOR TOTAL NECESIDAD | AG39: M | AH39: VALOR TOTAL NECESIDAD | AI39: M | AJ39: VALOR TOTAL NECESIDAD | AK39: M | AL39: VALOR TOTAL NECESIDAD | AM39: M | AN39: VALOR TOTAL NECESIDAD | AO39: M | AP39: VALOR TOTAL NECESIDAD | AQ39: M | AR39: VALOR TOTAL NECESIDAD | AS39: M | AT39: VALOR TOTAL NECESIDAD | AU39: M | AV39: VALOR TOTAL NECESIDAD
B40: =ANÁLISIS!B40 -> 22 | C40: =ANÁLISIS!C40 -> 2732008 | D40: =ANÁLISIS!D40 -> ESLINGA RESTRICCIÓN EN Y CON ABSOLVEDOR | E40: =ANÁLISIS!E40 -> UN | F40: =ANÁLISIS!F40 -> 0 | G40: =ANÁLISIS!G40 -> 1 | H40: =ANÁLISIS!H40 -> 24101611 | I40: =ANÁLISIS!I40 -> 1331221 | J40: =ANÁLISIS!J40 -> SIN CREAR | K40: =ANÁLISIS!G40 -> 1 | L40: =SUM(O40,Q40,S40,U40,W40,Y40,AA40,AC40,AE40,AG40,AI40,AK40,AM40,AO40,AQ40,AS40,AU40) -> 0 | M40: =ANÁLISIS!AF40 -> 741493.91 | N40: =L40*M40 -> 0 | P40: =$M40*O40 -> 0 | R40: =$M40*Q40 -> 0 | T40: =$M40*S40 -> 0 | V40: =$M40*U40 -> 0 | X40: =$M40*W40 -> 0 | Z40: =$M40*Y40 -> 0 | AB40: =$M40*AA40 -> 0 | AD40: =$M40*AC40 -> 0 | AF40: =$M40*AE40 -> 0 | AH40: =$M40*AG40 -> 0 | AJ40: =$M40*AI40 -> 0 | AL40: =$M40*AK40 -> 0 | AN40: =$M40*AM40 -> 0 | AP40: =$M40*AO40 -> 0 | AR40: =$M40*AQ40 -> 0 | AT40: =$M40*AS40 -> 0 | AV40: =$M40*AU40 -> 0
B41: =ANÁLISIS!B41 -> 23 | C41: =ANÁLISIS!C41 -> 27320 | D41: =ANÁLISIS!D41 -> SOGA 3/4" 19 MM GOLDEN X 50 ML | E41: =ANÁLISIS!E41 -> UN | F41: =ANÁLISIS!F41 -> 0 | G41: =ANÁLISIS!G41 -> 1 | H41: =ANÁLISIS!H41 -> 31151500 | I41: =ANÁLISIS!I41 -> CREAR | J41: =ANÁLISIS!J41 -> SIN CREAR | K41: =ANÁLISIS!G41 -> 1 | L41: =SUM(O41,Q41,S41,U41,W41,Y41,AA41,AC41,AE41,AG41,AI41,AK41,AM41,AO41,AQ41,AS41,AU41) -> 0 | M41: =ANÁLISIS!AF41 -> 527577.27 | N41: =L41*M41 -> 0 | P41: =$M41*O41 -> 0 | R41: =$M41*Q41 -> 0 | T41: =$M41*S41 -> 0 | V41: =$M41*U41 -> 0 | X41: =$M41*W41 -> 0 | Z41: =$M41*Y41 -> 0 | AB41: =$M41*AA41 -> 0 | AD41: =$M41*AC41 -> 0 | AF41: =$M41*AE41 -> 0 | AH41: =$M41*AG41 -> 0 | AJ41: =$M41*AI41 -> 0 | AL41: =$M41*AK41 -> 0 | AN41: =$M41*AM41 -> 0 | AP41: =$M41*AO41 -> 0 | AR41: =$M41*AQ41 -> 0 | AT41: =$M41*AS41 -> 0 | AV41: =$M41*AU41 -> 0
B42: =ANÁLISIS!B42 -> 24 | C42: =ANÁLISIS!C42 -> 27320 | D42: =ANÁLISIS!D42 -> SOGA 3/8" 10 MM GOLDEN X 50 ML | E42: =ANÁLISIS!E42 -> UN | F42: =ANÁLISIS!F42 -> 0 | G42: =ANÁLISIS!G42 -> 1 | H42: =ANÁLISIS!H42 -> 31151500 | I42: =ANÁLISIS!I42 -> 1589740 | J42: =ANÁLISIS!J42 -> SIN CREAR | K42: =ANÁLISIS!G42 -> 1 | L42: =SUM(O42,Q42,S42,U42,W42,Y42,AA42,AC42,AE42,AG42,AI42,AK42,AM42,AO42,AQ42,AS42,AU42) -> 0 | M42: =ANÁLISIS!AF42 -> 527577.27 | N42: =L42*M42 -> 0 | P42: =$M42*O42 -> 0 | R42: =$M42*Q42 -> 0 | T42: =$M42*S42 -> 0 | V42: =$M42*U42 -> 0 | X42: =$M42*W42 -> 0 | Z42: =$M42*Y42 -> 0 | AB42: =$M42*AA42 -> 0 | AD42: =$M42*AC42 -> 0 | AF42: =$M42*AE42 -> 0 | AH42: =$M42*AG42 -> 0 | AJ42: =$M42*AI42 -> 0 | AL42: =$M42*AK42 -> 0 | AN42: =$M42*AM42 -> 0 | AP42: =$M42*AO42 -> 0 | AR42: =$M42*AQ42 -> 0 | AT42: =$M42*AS42 -> 0 | AV42: =$M42*AU42 -> 0
