Workbook
Name _________AFC1: [1]INV!$A$25:$D$28
Name _________AFC3: [1]INV!$F$25:$I$28
Name _________AFC5: [1]INV!$K$25:$N$28
Name _________BGC1: [1]INV!$A$5:$D$8
Name _________BGC3: [1]INV!$F$5:$I$8
Name _________BGC5: [1]INV!$K$5:$N$8
Name _________CAC1: [1]INV!$A$19:$D$22
Name _________CAC3: [1]INV!$F$19:$I$22
Name _________CAC5: [1]INV!$K$19:$N$22
Name _________PJ50: #REF!
Name _________PJ50: #REF!
Name _________SBC1: [1]INV!$A$12:$D$15
Name _________SBC3: [1]INV!$F$12:$I$15
Name _________SBC5: [1]INV!$K$12:$N$15
Name ________AFC1: [1]INV!$A$25:$D$28
Name ________AFC3: [1]INV!$F$25:$I$28
Name ________AFC5: [1]INV!$K$25:$N$28
Name ________BGC1: [1]INV!$A$5:$D$8
Name ________BGC3: [1]INV!$F$5:$I$8
Name ________BGC5: [1]INV!$K$5:$N$8
Name ________CAC1: [1]INV!$A$19:$D$22
Name ________CAC3: [1]INV!$F$19:$I$22
Name ________CAC5: [1]INV!$K$19:$N$22
Name ________MA2: #REF!
Name ________MA2: #REF!
Name ________PJ50: #REF!
Name ________PJ50: #REF!
Name ________SBC1: [1]INV!$A$12:$D$15
Name ________SBC3: [1]INV!$F$12:$I$15
Name ________SBC5: [1]INV!$K$12:$N$15
Name _______AFC1: [1]INV!$A$25:$D$28
Name _______AFC3: [1]INV!$F$25:$I$28
Name _______AFC5: [1]INV!$K$25:$N$28
Name _______BGC1: [1]INV!$A$5:$D$8
Name _______BGC3: [1]INV!$F$5:$I$8
Name _______BGC5: [1]INV!$K$5:$N$8
Name _______CAC1: [1]INV!$A$19:$D$22
Name _______CAC3: [1]INV!$F$19:$I$22
Name _______CAC5: [1]INV!$K$19:$N$22
Name _______MA2: #REF!
Name _______MA2: #REF!
Name _______PJ50: #REF!
Name _______PJ50: #REF!
Name _______SBC1: [1]INV!$A$12:$D$15
Name _______SBC3: [1]INV!$F$12:$I$15
Name _______SBC5: [1]INV!$K$12:$N$15
Name ______AFC1: [1]INV!$A$25:$D$28
Name ______AFC3: [1]INV!$F$25:$I$28
Name ______AFC5: [1]INV!$K$25:$N$28
Name ______BGC1: [1]INV!$A$5:$D$8
Name ______BGC3: [1]INV!$F$5:$I$8
Name ______BGC5: [1]INV!$K$5:$N$8
Name ______CAC1: [1]INV!$A$19:$D$22
Name ______CAC3: [1]INV!$F$19:$I$22
Name ______CAC5: [1]INV!$K$19:$N$22
Name ______MA2: #REF!
Name ______MA2: #REF!
Name ______PJ50: #REF!
Name ______PJ50: #REF!
Name ______pr01: #REF!

Sheet PRESUPUESTO OFICIAL (Entidad)
B1: Formulario 1 - Propuesta económica - Documento tipo de selección abreviada de menor cuantía - versión 1
B2: Versión: 1 del 21 de agosto de 2025
C5: FORMULARIO 1
C6: PRESUPUESTO OFICIAL
C7: [La entidad puede utilizar este formulario de detalle del presupuesto oficial para determinar las condiciones bajo las cuales los proponentes analizarán y presentarán su propuesta económica de forma detallada, sin perjuicio que la entidad pueda modificarlo o establecer la presentación de la oferta económica con un formulario distinto al indicado.]
C9: Adicionalmente, cuando el proceso de contratación es estructurado por precios unitarios, la Entidad debe aplicar las notas 1, 2 y 3 del presente formulario y las casillas de "Descripción", "Porcentaje" de la Administración, Imprevisto, Utilidad y total A.I.U. resaltadas en color amarillo. Tratándose de otras modalidades de precio, la Entidad puede o no configurar los mismos aspectos.
C11: Nº | D11: ITEM DE PAGO | E11: ESPECIFICACIONES | G11: DESCRIPCION | H11: UND. | I11: CANTIDAD | J11: VALOR UNITARIO | K11: VALOR TOTAL
E12: GENERAL | F12: PARTICULAR
C14: 1 | D14: 1 | E14: x | G14: Suministro y aplicación de pintura vinílica tipo 1 para muros interiores/exteriores, incluye preparación de superficie, resanes menores, sellador y dos manos | H14: m2 | I14: 1133 | J14: =+APUS!H10 -> 40244.16 | K14: =ROUND(I14*J14,2) -> 45596633
C15: 2 | D15: 2 | E15: x | G15: Suministro e instalación de estuco plástico (empastado) sobre muros, incluye preparación, aplicación, lijado y acabado | H15: m2 | I15: 300 | J15: =+APUS!H19 -> 41800.44 | K15: =ROUND(I15*J15,2) -> 12540132
C16: 3 | D16: 3 | E16: x | G16: Suministro y aplicación de pintura anticorrosiva y esmalte sobre rejas metálicas, incluye limpieza, lijado y acabado | H16: m2 | I16: 66 | J16: =+APUS!H29 -> 47526.6 | K16: =ROUND(I16*J16,2) -> 3136755.6
C17: 4 | D17: 4 | E17: x | G17: Mantenimiento de elementos metálicos tipo viga canal, incluye limpieza, desoxidado, anticorrosivo y pintura | H17: ml | I17: 92 | J17: =+APUS!H39 -> 33439.56 | K17: =ROUND(I17*J17,2) -> 3076439.5
C18: 5 | D18: 5 | E18: x | G18: Mantenimiento de muros, incluye limpieza, resanes, reposición de pañete y preparación de superficie | H18: m2 | I18: 56 | J18: =+APUS!H48 -> 14080.44 | K18: =ROUND(I18*J18,2) -> 788504.64
C19: 6 | D19: 6 | E19: x | G19: Lavado de superficies con hidrolavadora de alta presión, incluye equipos, insumos y retiro de suciedad | H19: m2 | I19: 1347.1925 | J19: =+APUS!H57 -> 5773.68 | K19: =ROUND(I19*J19,2) -> 7778258.2
C20: 7 | D20: 7 | E20: x | G20: Suministro y aplicación de revoque (pañete) en muros con mortero cemento-arena, incluye afinado | H20: m2 | I20: 80 | J20: =+APUS!H66 -> 46936.56 | K20: =ROUND(I20*J20,2) -> 3754924.8
C21: SUBTOTAL OBRAS | K21: =+SUM(K14:K20) -> 76671648
G26: SUBTOTAL OBRAS (INCLUYE IVA)
G30: VALOR TOTAL | K30: =+K21 -> 76671648
C33: NOTA 1: Se debe tener en cuenta que el PRECIO UNITARIO incluye el valor de A.I.U. | H33: DESCRIPCION | K33: PORCENTAJE
C34: NOTA 2: Cuando la fracción decimal del peso sea igual o superior a 5 se aproximara por exceso al número entero siguiente del peso y cuando la fracción decimal del peso sea inferior a 5 se aproximará por defecto al número entero del peso. | H34: ADMINISTRACION | J34: A= | K34: 0.27
C35: NOTA 3: El A.I.U y su discriminación deben estar en porcentaje (%). | H35: IMPREVISTO | J35: I= | K35: 0
H36: UTILIDAD | J36: U= | K36: 0.05
H37: TOTAL A.I.U | J37: A.I.U.= | K37: =+K36+K35+K34 -> 0.32

Sheet APUS
B1: ÍTEM | C1: CÓDIGO | D1: DESCRIPCIÓN | E1: UN | F1: CANT | G1: VR. UN. | H1: RENDIMIENTO, USOS, DESPEDICIOS | I1: VR. PARCIAL
A3: 1 | B3: 1-07-04 | D3: Suministro y aplicación de pintura vinílica tipo 1 para muros interiores/exteriores, incluye preparación de superficie, resanes menores, sellador y dos manos | E3: M2 | G3: =ROUND(SUM(I3:I7),0) -> 30488
B4: MAT | C4: MAT,304 | D4: Pintura vinilo tipo I ultralavable | E4: Gl | F4: 0.1 | G4: 70847.902 | H4: 1.03 | I4: =IF(H4>0,(H4*G4*F4),(G4*F4)) -> 7297.3339
B5: M. O. | C5: MOB015 | D5: Cuadrilla E 1 Of + 1 Ay (jornal + prestaciones) | E5: Día | F5: 1.0381614 | G5: 305639 | H5: =1/15 -> 0.066666667 | I5: =IF(H5>0,(H5*G5*F5),(G5*F5)) -> 21153.507
B6: EQUIPO | C6: EQU006 | D6: Andamio certificado (% mano obra) | E6: %MO | F6: 0.05 | G6: 20375.933 | H6: 0 | I6: =IF(H6>0,(H6*G6*F6),(G6*F6)) -> 1018.7967
C7: EQU002 | D7: Herramienta menor (% mano obra) | E7: %MO | F7: 0.05 | G7: 20375.933 | H7: 0 | I7: =IF(H7>0,(H7*G7*F7),(G7*F7)) -> 1018.7967
B8: ADMINISTRACION | G8: 0.27 | H8: =G3*G8 -> 8231.76
B9: UTILIDAD | G9: 0.05 | H9: =G3*G9 -> 1524.4
B10: TOTAL | H10: =+G3+H8+H9 -> 40244.16
A12: 2 | B12: 1-07-01 | D12: Suministro e instalación de estuco plástico (empastado) sobre muros, incluye preparación, aplicación, lijado y acabado | E12: M2 | G12: =ROUND(SUM(I12:I16),0) -> 31667
B13: MAT | C13: MAT,134 | D13: Estuco (25 Kg) | E13: Kg | F13: 1 | G13: 3476.1905 | H13: 1.05 | I13: =IF(H13>0,(H13*G13*F13),(G13*F13)) -> 3650
B14: M. O. | C14: MOB015 | D14: Cuadrilla E 1 Of + 1 Ay (jornal + prestaciones) | E14: Día | F14: 1 | G14: 305639 | H14: =1/12 -> 0.083333333 | I14: =IF(H14>0,(H14*G14*F14),(G14*F14)) -> 25469.917
B15: EQUIPO | C15: EQU006 | D15: Andamio certificado (% mano obra) | E15: %MO | F15: 0.05 | G15: =+I14 -> 25469.917 | H15: 0 | I15: =IF(H15>0,(H15*G15*F15),(G15*F15)) -> 1273.4958
C16: EQU002 | D16: Herramienta menor (% mano obra) | E16: %MO | F16: 0.05 | G16: =+G15 -> 25469.917 | H16: 0 | I16: =IF(H16>0,(H16*G16*F16),(G16*F16)) -> 1273.4958
B17: ADMINISTRACION | G17: 0.27 | H17: =G12*G17 -> 8550.09
B18: UTILIDAD | G18: 0.05 | H18: =G12*G18 -> 1583.35
B19: TOTAL | H19: =+G12+H17+H18 -> 41800.44
A21: 3 | B21: 1-07-10 | D21: Suministro y aplicación de pintura anticorrosiva y esmalte sobre rejas metálicas, incluye limpieza, lijado y acabado | E21: M2 | G21: =ROUND(SUM(I21:I26),0) -> 36005
B22: MAT | C22: MAT,298 | D22: Pintura esmalte para exteriores | E22: Gl | F22: 0.06 | G22: 68569 | H22: 1.0298876 | I22: =IF(H22>0,(H22*G22*F22),(G22*F22)) -> 4237.1019
B23: M. O. | C23: MOB015 | D23: Cuadrilla E 1 Of + 1 Ay (jornal + prestaciones) | E23: Día | F23: 1 | G23: 305639 | H23: 0.07725867 | I23: =IF(H23>0,(H23*G23*F23),(G23*F23)) -> 23613.263
B24: EQUIPO | C24: EQU006 | D24: Andamio certificado (% mano obra) | E24: %MO | F24: 0.05 | G24: 30563.9 | H24: 0 | I24: =IF(H24>0,(H24*G24*F24),(G24*F24)) -> 1528.195
C25: EQU021 | D25: Compresor pintura | E25: Día | F25: 1 | G25: 35700 | H25: =1/10 -> 0.1 | I25: =IF(H25>0,(H25*G25*F25),(G25*F25)) -> 3570
C26: EQU002 | D26: Herramienta menor (% mano obra) | E26: %MO | F26: 0.1 | G26: 30563.9 | H26: 0 | I26: =IF(H26>0,(H26*G26*F26),(G26*F26)) -> 3056.39
B27: ADMINISTRACION | G27: 0.27 | H27: =G21*G27 -> 9721.35
B28: UTILIDAD | G28: 0.05 | H28: =G21*G28 -> 1800.25
B29: TOTAL | H29: =+G21+H27+H28 -> 47526.6
B31: 1-08-03 | D31: Mantenimiento de elementos metálicos tipo viga canal, incluye limpieza, desoxidado, anticorrosivo y pintura | E31: M | G31: =ROUND(SUM(I31:I36),0) -> 25333
B32: MAT | C32: MAT,298 | D32: Pintura esmalte para exteriores | E32: Gl | F32: 0.12462881 | G32: =+G22 -> 68569 | H32: 1.0298876 | I32: =IF(H32>0,(H32*G32*F32),(G32*F32)) -> 8801.0825
B33: M. O. | C33: MOB017 | D33: Cuadrilla G 1 Of + 2 Ay (jornal + prestaciones) | E33: Día | F33: 1 | G33: 414796 | H33: 0.02 | I33: =IF(H33>0,(H33*G33*F33),(G33*F33)) -> 8295.92
B34: EQUIPO | C34: EQU006 | D34: Andamio certificado (% mano obra) | E34: %MO | F34: 0.05 | G34: 10369.9 | H34: 0 | I34: =IF(H34>0,(H34*G34*F34),(G34*F34)) -> 518.495
C35: EQU021 | D35: Compresor pintura | E35: Día | F35: 1 | G35: 35700 | H35: =1/10 -> 0.1 | I35: =IF(H35>0,(H35*G35*F35),(G35*F35)) -> 3570
C36: EQU002 | D36: Herramienta menor (% mano obra) | E36: %MO | F36: 0.4 | G36: 10369.9 | H36: 0 | I36: =IF(H36>0,(H36*G36*F36),(G36*F36)) -> 4147.96
B37: ADMINISTRACION | G37: 0.27 | H37: =G31*G37 -> 6839.91
B38: UTILIDAD | G38: 0.05 | H38: =G31*G38 -> 1266.65
B39: TOTAL | H39: =+G31+H37+H38 -> 33439.56
B41: 1-07-01 | D41: Mantenimiento de muros, incluye limpieza, resanes, reposición de pañete y preparación de superficie | E41: M2 | G41: =ROUND(SUM(I41:I45),0) -> 10667
B42: MAT | C42: MAT,134 | D42: Estuco (25 Kg) | E42: Kg | F42: 0.4 | G42: 1556 | H42: 1.05 | I42: =IF(H42>0,(H42*G42*F42),(G42*F42)) -> 653.52
B43: M. O. | C43: MOB015 | D43: Cuadrilla E 1 Of + 1 Ay (jornal + prestaciones) | E43: Día | F43: 1 | G43: 305639 | H43: 0.028816679 | I43: =IF(H43>0,(H43*G43*F43),(G43*F43)) -> 8807.5009
B44: EQUIPO | C44: EQU006 | D44: Andamio certificado (% mano obra) | E44: %MO | F44: 0.05 | G44: 12057.277 | H44: 0 | I44: =IF(H44>0,(H44*G44*F44),(G44*F44)) -> 602.86383
C45: EQU002 | D45: Herramienta menor (% mano obra) | E45: %MO | F45: 0.05 | G45: 12057.277 | H45: 0 | I45: =IF(H45>0,(H45*G45*F45),(G45*F45)) -> 602.86383
...

Sheet PROPUESTA ECONOMICA(Proponente)
B1: Formulario 1 - Propuesta económica - Documento tipo de selección abreviada de menor cuantía - versión 1
B2: Versión: 1 del 21 de agosto de 2025
C5: FORMULARIO 1
C6: PROPUESTA ECONOMICA
C7: [La entidad puede utilizar este formulario de presentación de propuesta económica de forma detallada, sin perjuicio que la entidad pueda modificarlo o establecer la presentación de la oferta económica con un formulario distinto al indicado.] [Los proponentes emplearán el formulario establecido por la entidad para determinar su propuesta económica conforme al Formulario 1 - Presupuesto Oficial publicado por la Entidad] [En caso de modificar el formulario, es importante tener en cuenta que no se deben incluir causales de rechazo, reglas o parámetros contrarios a los definidos en el documento base. Los términos del proceso solo se encuentran en el Documento Base, por lo que la Entidad no deberá incluir ningún tipo de notas que se configuren en reglas contrarias a las definidas en dicho documento, las notas únicamente pueden ser aclaratorias para efectos del diligenciamiento del formato]
C9: Cuando el proceso de contratación es estructurado por precios unitarios, la Entidad debe aplicar las notas 1, 2 y 3 del presente formato y las casillas de "Descripción", "Porcentaje" de la Administración, Imprevisto, Utilidad y total A.I.U. resaltadas en color amarillo.
C11: Nº | D11: ITEM DE PAGO | E11: ESPECIFICACIONES | G11: DESCRIPCION | H11: UND. | I11: CANTIDAD | J11: VALOR UNITARIO | K11: VALOR TOTAL
E12: GENERAL | F12: PARTICULAR
C15: Subtotal
C21: Subtotal
C31: Subtotal
C36: Subtotal
C39: Subtotal
C40: SUBTOTAL OBRAS
G45: SUBTOTAL OBRAS (INCLUYE IVA)
G49: VALOR TOTAL
C52: NOTA 1: Se debe tener en cuenta que el PRECIO UNITARIO incluye el valor de A.I.U. | H52: DESCRIPCION | K52: PORCENTAJE
C53: NOTA 2: Cuando la fracción decimal del peso sea igual o superior a 5 se aproximara por exceso al número entero siguiente del peso y cuando la fracción decimal del peso sea inferior a 5 se aproximará por defecto al número entero del peso. | H53: ADMINISTRACION | J53: A= | K53: [Ofrecimiento del Proponente]
C54: NOTA 3: El A.I.U y su discriminación deben estar en porcentaje (%). | H54: IMPREVISTO | J54: I= | K54: [Ofrecimiento del Proponente]
H55: UTILIDAD | J55: U= | K55: [Ofrecimiento del Proponente]
H56: TOTAL A.I.U | J56: A.I.U.= | K56: [Ofrecimiento del Proponente]
G59: Firma del Proponente o de su Representante Legal

Sheet INDICAR CÓDIGO DEL ITEM DE PAGO
B1: Formulario 1 - Propuesta económica - Documento tipo de selección abreviada de menor cuantía
B2: Versión: 1 del 21 de agosto de 2025
C5: [La entidad podrá utilizar este formato para la presentación de los análisis de precios unitarios el contratista en la oportunidad prevista en el numeral 8.2. del Documento Base]
D8: [NOMBRE DE LA ENTIDAD]
L9: VERSIÓN
D10: [NÚMERO DEL PROCESO]
L11: PÁGINA | M11: 1 | N11: DE | O11: 1
D13: ANALISIS DE PRECIOS UNITARIOS
L15: FECHA | M15: DD | N15: MM | O15: AA
C17: ITEMS DE LA PROPUESTA ECONÓMICA | I17: ITEMS NO PREVISTOS
C21: DATOS ESPECÍFICOS
C23: ITEM | D23: DESCRIPCIÓN | M23: UNIDAD | O23: CANTIDAD
C25: I. EQUIPO
C28: DESCRIPCIÓN | H28: MARCA | J28: TIPO | L28: TARIFA/HORA | M28: RENDIMIENTO | O28: Vr. UNITARIO
C32: SUBTOTAL $
C33: II. MATERIALES
C36: DESCRIPCIÓN | K36: UNIDAD | L36: CANTIDAD | M36: PRECIO UNIT. | O36: Vr. UNITARIO
C39: SUBTOTAL $ | O39: 0
C40: III. TRANSPORTES
C43: MATERIAL | J43: VOL. o PESO | K43: DISTANCIA | L43: M3 o Ton/Km | M43: TARIFA | O43: Vr. UNITARIO
C46: SUBTOTAL $
C47: IV. MANO DE OBRA
C50: TRABAJADOR | J50: JORNAL | K50: PRESTACIONES | L50: JORNAL TOTAL | M50: RENDIMIENTO | O50: Vr. UNITARIO
C55: SUBTOTAL $
C57: TOTAL COSTO DIRECTO $
C58: V. COSTOS INDIRECTOS
C61: Descripción | L61: Porcentaje | M61: Valor Total
C62: ADMINISTRACION
C63: IMPREVISTOS
C64: UTILIDAD
C65: SUBTOTAL $
C67: Precio Unitario Total Aproximado al peso $
H71: Firma
H72: Nombre:
H73: Representante Legal del Contratista o su Apoderado
H74: Matricula No. :
C76: OBSERVACIONES INTERVENTORÍA
C80: APROBACIÓN POR INTERVENTORÍA
C81: Nota 1: Cuando se trate de Análisis de precios unitarios correspondientes a ítems de la propuesta económica aprobada, el Interventor aprueba el desglose de los componentes manteniendo el mismo precio unitario de cada ítem, cumpliendo con las especificaciones de construcción vigentes para el proyecto.
C83: Nota 2: Cuando se trate de Análisis de precios unitarios de ítems no previstos, el Interventor aprueba el desglose y precio unitario de cada ítem no previsto, exigiendo la aplicación de los costos correspondientes a insumos y tarifas de la propuesta económica inicial cuando estén contemplados, cumpliendo con las especificaciones de construcción vigente para el proyecto.
...
