Workbook
Name _Toc199730894: 'Formato 1'!#REF!
Name _Toc199730894: 'Formato 2'!#REF!
Name _Toc199730894: 'Formato 3'!#REF!
Name _Toc199730894: 'Formato 4'!#REF!
Name _Toc199730894: 'Formato 5'!#REF!
Name OLE_LINK4: 'Formato 6'!#REF!

Sheet PROPONENTE
A1: FORMATOS A DILIGENCIAR PARA UN PROCESO DE SELECCIÓN DE CONTRATISTA
A3: Entidad Contratante | B3: AEROPUERTO INTERNACIONAL MATECAÑA DE PEREIRA
B4: ="PROCESO DE SELECCIÓN N° "&B5&" - "&B6 -> PROCESO DE SELECCIÓN N° 2026-059 - SELECCIÓN ABREVIADA DE MENOR CUANTIA
A5: Proceso de Selección N° | B5: 2026-059
A6: Modalidad | B6: SELECCIÓN ABREVIADA DE MENOR CUANTIA
A7: Objeto | B7: RENOVACIÓN Y ADQUISICIÓN DE LICENCIAS DE SOFTWARE Y HERRAMIENTAS TECNOLÓGICAS PARA LA GESTIÓN DE TI, CIBERSEGURIDAD, COMUNICACIONES DIGITALES, PRODUCCIÓN MULTIMEDIA Y CONSULTA NORMATIVA, INCLUYENDO LA IMPLEMENTACIÓN Y EL SERVICIO POSVENTA PARA EL AEROPUERTO INTERNACIONAL MATECAÑA
A10: Tipo de Contrato | B10: SUMINISTRO
A11: Proponente: | B11: -B8
B13: (Escriba en la casilla sombreada con amarillo el nombre completo o razón social completa del proponente)
A16: Formato | B16: Descripción | C16: Presentación
A17: 1 | B17: Carta de presentación de propuesta | C17: Obligatoria
A18: 2 | B18: Conformación de Unión Temporal | C18: Obligatoria si el proponente es Unión Temporal
A19: 3 | B19: Conformación de Consorcio | C19: Obligatoria si el proponente es Consorcio
A20: 4 | B20: Pacto anticorrupción | C20: Obligatoria
A21: 5 | B21: Experiencia Específica del Proponente | C21: Obligatoria
A22: 6 | C22: Obligatoria
A23: 7 | B23: ADQUISICIÓN Y RENOVACIÓN DE SERVIDOR (SERVICIOS DE AD, DNS, ETC), EQUIPOS DE RED FORTINET SERIES F E IMPLEMENTACIÓN DE LOS EQUIPOS (INSTALACIÓN, CONFIGURACIÓN, MIGRACIÓN, CAPACTIACIÓN Y SOPORTE) PARA EL AEROPUERTO INTERNACIONAL MATECAÑA | C23: Obligatoria

Sheet Formato 1
A1: =PROPONENTE!B3 -> AEROPUERTO INTERNACIONAL MATECAÑA DE PEREIRA
A2: =PROPONENTE!B4 -> PROCESO DE SELECCIÓN N° 2026-059 - SELECCIÓN ABREVIADA DE MENOR CUANTIA
A3: RENOVACIÓN Y ADQUISICIÓN DE LICENCIAS DE SOFTWARE Y HERRAMIENTAS TECNOLÓGICAS PARA LA GESTIÓN DE TI, CIBERSEGURIDAD, COMUNICACIONES DIGITALES, PRODUCCIÓN MULTIMEDIA Y CONSULTA NORMATIVA, INCLUYENDO LA IMPLEMENTACIÓN Y EL SERVICIO POSVENTA PARA EL AEROPUERTO INTERNACIONAL MATECAÑA
A5: FORMATO 1 - CARTA DE PRESENTACIÓN DE LA PROPUESTA
A7: PROPONENTE | B7: =PROPONENTE!B11 -> -B8
A9: Ciudad y fecha:
A11: Señores
A12: AEROPUERTO INTERNACIONAL MATECAÑA DE PEREIRA
A20: INFORMACIÓN DEL PROCESO DE CONTRATACIÓN
A21: Entidad Contratante | B21: =PROPONENTE!B3 -> AEROPUERTO INTERNACIONAL MATECAÑA DE PEREIRA
A22: Proceso de Contratación Nº | B22: =PROPONENTE!B5 -> 2026-059
A23: Tipo de Proceso de Selección | B23: =PROPONENTE!B6 -> SELECCIÓN ABREVIADA DE MENOR CUANTIA
A24: Objeto | B24: RENOVACIÓN Y ADQUISICIÓN DE LICENCIAS DE SOFTWARE Y HERRAMIENTAS TECNOLÓGICAS PARA LA GESTIÓN DE TI, CIBERSEGURIDAD, COMUNICACIONES DIGITALES, PRODUCCIÓN MULTIMEDIA Y CONSULTA NORMATIVA, INCLUYENDO LA IMPLEMENTACIÓN Y EL SERVICIO POSVENTA PARA EL AEROPUERTO INTERNACIONAL MATECAÑA
A27: Tipo de Contrato | B27: =+PROPONENTE!B10 -> SUMINISTRO
A29: INFORMACIÓN DEL PROPONENTE Y DATOS PARA COMUNICACIONES
A30: Nombre completo del Proponente
A32: Cédula de Ciudadanía ó NIT
A33: Nombre Representante Legal (RL)
A34: Cédula de Ciudadanía ó NIT del RL
A35: Dirección
A36: Teléfonos | B36: Fijo | D36: Celular | F36: Fax
A37: Ciudad
A38: Buzón de correo electrónico (Email)
A40: INFORMACIÓN DE LA PROPUESTA
A41: Total de adendas conocidas por el proponente
A42: Número de folios de que consta la propuesta
A43: La propuesta contiene folios con reserva legal (si/no)
A44: Plazo propuesto (meses)

Sheet Formato 2
A1: AEROPUERTO INTERNACIONAL MATECAÑA DE PEREIRA
A2: =PROPONENTE!B4 -> PROCESO DE SELECCIÓN N° 2026-059 - SELECCIÓN ABREVIADA DE MENOR CUANTIA
A3: RENOVACIÓN Y ADQUISICIÓN DE LICENCIAS DE SOFTWARE Y HERRAMIENTAS TECNOLÓGICAS PARA LA GESTIÓN DE TI, CIBERSEGURIDAD, COMUNICACIONES DIGITALES, PRODUCCIÓN MULTIMEDIA Y CONSULTA NORMATIVA, INCLUYENDO LA IMPLEMENTACIÓN Y EL SERVICIO POSVENTA PARA EL AEROPUERTO INTERNACIONAL MATECAÑA
A5: FORMATO 2 - DOCUMENTO DE CONFORMACIÓN DE UNIÓN TEMPORAL
A7: PROPONENTE | B7: =PROPONENTE!B11 -> -B8
A9: Ciudad y fecha:
A11: Señores
A12: AEROPUERTO INTERNACIONAL MATECAÑA DE PEREIRA
A21: INFORMACIÓN DEL PROCESO DE CONTRATACIÓN
A22: Entidad Contratante | B22: AEROPUERTO INTERNACIONAL MATECAÑA DE PEREIRA
A23: Proceso de Contratación Nº | B23: ='Formato 1'!B22 -> 2026-059
A24: Tipo de Proceso de Selección | B24: SELECCIÓN ABREVIADA MENOR CUANTIA
A25: Objeto | B25: RENOVACIÓN Y ADQUISICIÓN DE LICENCIAS DE SOFTWARE Y HERRAMIENTAS TECNOLÓGICAS PARA LA GESTIÓN DE TI, CIBERSEGURIDAD, COMUNICACIONES DIGITALES, PRODUCCIÓN MULTIMEDIA Y CONSULTA NORMATIVA, INCLUYENDO LA IMPLEMENTACIÓN Y EL SERVICIO POSVENTA PARA EL AEROPUERTO INTERNACIONAL MATECAÑA
A28: Tipo de Contrato | B28: ='Formato 1'!B27 -> SUMINISTRO
A30: INFORMACIÓN DE LA UNIÓN TEMPORAL Y DATOS PARA COMUNICACIONES
A31: Razón Social de la Unión Temporal
A33: Cédula de Ciudadanía ó NIT
A34: Representante Legal (RL)
A35: Cédula de Ciudadanía ó NIT del RL
A36: Representante Legal Suplente (RLS)
A37: Cédula de Ciudadanía ó NIT del RLS
A38: Número de Integrantes
A39: Dirección
A40: Teléfonos | B40: Fijo | D40: Celular | F40: Fax
A41: Ciudad
A42: Buzón de correo electrónico (Email)
A44: INFORMACIÓN DEL INTEGRANTE Nº 1 Y DATOS PARA COMUNICACIONES
A45: Nombre completo del Integrante
A47: Cédula de Ciudadanía ó NIT
A48: Representante Legal (RL)
A49: Cédula de Ciudadanía ó NIT del RL
A50: Dirección
A51: Teléfonos | B51: Fijo | D51: Celular | F51: Fax
A52: Ciudad
A53: Buzón de correo electrónico (Email)
A55: INFORMACIÓN DEL INTEGRANTE Nº 2 Y DATOS PARA COMUNICACIONES
A56: Nombre completo del Integrante
A58: Cédula de Ciudadanía ó NIT
A59: Representante Legal (RL)
A60: Cédula de Ciudadanía ó NIT del RL
...

Sheet Formato 3
A1: =PROPONENTE!B3 -> AEROPUERTO INTERNACIONAL MATECAÑA DE PEREIRA
A2: =PROPONENTE!B4 -> PROCESO DE SELECCIÓN N° 2026-059 - SELECCIÓN ABREVIADA DE MENOR CUANTIA
A3: RENOVACIÓN Y ADQUISICIÓN DE LICENCIAS DE SOFTWARE Y HERRAMIENTAS TECNOLÓGICAS PARA LA GESTIÓN DE TI, CIBERSEGURIDAD, COMUNICACIONES DIGITALES, PRODUCCIÓN MULTIMEDIA Y CONSULTA NORMATIVA, INCLUYENDO LA IMPLEMENTACIÓN Y EL SERVICIO POSVENTA PARA EL AEROPUERTO INTERNACIONAL MATECAÑA.
A5: FORMATO 3 - DOCUMENTO DE CONFORMACIÓN DE CONSORCIO
A7: PROPONENTE | B7: =PROPONENTE!B11 -> -B8
A9: Ciudad y fecha:
A11: Señores
A12: AEROPUERTO INTERNACIONAL MATECAÑA DE PEREIRA
A23: INFORMACIÓN DEL PROCESO DE CONTRATACIÓN
A24: Entidad Contratante | B24: AEROPUERTO INTERNACIONAL MATECAÑA
A25: Proceso de Contratación Nº | B25: 2026-059
A26: Tipo de Proceso de Selección | B26: ='Formato 1'!B23 -> SELECCIÓN ABREVIADA DE MENOR CUANTIA
A27: Objeto | B27: ='Formato 1'!B24 -> RENOVACIÓN Y ADQUISICIÓN DE LICENCIAS DE SOFTWARE Y HERRAMIENTAS TECNOLÓGICAS PARA LA GESTIÓN DE TI, CIBERSEGURIDAD, COMUNICACIONES DIGITALES, PRODUCCIÓN MULTIMEDIA Y CONSULTA NORMATIVA, INCLUYENDO LA IMPLEMENTACIÓN Y EL SERVICIO POSVENTA PARA EL AEROPUERTO INTERNACIONAL MATECAÑA
A30: Tipo de Contrato | B30: ='Formato 1'!B27 -> SUMINISTRO
A32: INFORMACIÓN DEL CONSORCIO Y DATOS PARA COMUNICACIONES
A33: Razón Social del Consorcio
A35: Cédula de Ciudadanía ó NIT
A36: Representante Legal (RL)
A37: Cédula de Ciudadanía ó NIT del RL
A38: Representante Legal Suplente (RLS)
A39: Cédula de Ciudadanía ó NIT del RLS
A40: Número de Integrantes
A41: Dirección
A42: Teléfonos | B42: Fijo | D42: Celular | F42: Fax
A43: Ciudad
A44: Buzón de correo electrónico (Email)
A46: INFORMACIÓN DEL INTEGRANTE Nº 1 Y DATOS PARA COMUNICACIONES
A47: Nombre completo del Integrante
A49: Cédula de Ciudadanía ó NIT
A50: Representante Legal (RL)
A51: Cédula de Ciudadanía ó NIT del RL
A52: Dirección
A53: Teléfonos | B53: Fijo | D53: Celular | F53: Fax
A54: Ciudad
A55: Buzón de correo electrónico (Email)
A57: INFORMACIÓN DEL INTEGRANTE Nº 2 Y DATOS PARA COMUNICACIONES
A58: Nombre completo del Integrante
A60: Cédula de Ciudadanía ó NIT
A61: Representante Legal (RL)
A62: Cédula de Ciudadanía ó NIT del RL
...

Sheet Formato 4
A1: =PROPONENTE!B3 -> AEROPUERTO INTERNACIONAL MATECAÑA DE PEREIRA
A2: =PROPONENTE!B4 -> PROCESO DE SELECCIÓN N° 2026-059 - SELECCIÓN ABREVIADA DE MENOR CUANTIA
A3: RENOVACIÓN Y ADQUISICIÓN DE LICENCIAS DE SOFTWARE Y HERRAMIENTAS TECNOLÓGICAS PARA LA GESTIÓN DE TI, CIBERSEGURIDAD, COMUNICACIONES DIGITALES, PRODUCCIÓN MULTIMEDIA Y CONSULTA NORMATIVA, INCLUYENDO LA IMPLEMENTACIÓN Y EL SERVICIO POSVENTA PARA EL AEROPUERTO INTERNACIONAL MATECAÑA
A5: FORMATO 4 - PACTO ANTICORRUPCIÓN
A7: PROPONENTE | B7: =PROPONENTE!B11 -> -B8
A9: Ciudad y fecha:
A11: Señores
A12: AEROPUERTO INTERNACIONAL MATECAÑA DE PEREIRA
A22: INFORMACIÓN DEL PROCESO DE CONTRATACIÓN
A23: Entidad Contratante | B23: AEROPUERTO INTERNACIONAL MATECAÑA DE PEREIRA
A24: Proceso de Contratación Nº | B24: 2026-059
A25: Tipo de Proceso de Selección | B25: Selección Abreviada de Menor Cuantía
A26: Objeto | B26: RENOVACIÓN Y ADQUISICIÓN DE LICENCIAS DE SOFTWARE Y HERRAMIENTAS TECNOLÓGICAS PARA LA GESTIÓN DE TI, CIBERSEGURIDAD, COMUNICACIONES DIGITALES, PRODUCCIÓN MULTIMEDIA Y CONSULTA NORMATIVA, INCLUYENDO LA IMPLEMENTACIÓN Y EL SERVICIO POSVENTA PARA EL AEROPUERTO INTERNACIONAL MATECAÑA
A29: Tipo de Contrato | B29: ='Formato 1'!B27 -> SUMINISTRO
A31: INFORMACIÓN DEL PROPONENTE Y DATOS PARA COMUNICACIONES
A32: Nombre completo del Proponente
A34: Cédula de Ciudadanía ó NIT
A35: Nombre Representante Legal (RL)
A36: Cédula de Ciudadanía ó NIT del RL
A37: Dirección
A38: Teléfonos | B38: Fijo | D38: Celular | F38: Fax
A39: Ciudad
A40: Buzón de correo electrónico (Email)

Sheet Formato 5
A1: =PROPONENTE!B3 -> AEROPUERTO INTERNACIONAL MATECAÑA DE PEREIRA
A2: =PROPONENTE!B4 -> PROCESO DE SELECCIÓN N° 2026-059 - SELECCIÓN ABREVIADA DE MENOR CUANTIA
A3: RENOVACIÓN Y ADQUISICIÓN DE LICENCIAS DE SOFTWARE Y HERRAMIENTAS TECNOLÓGICAS PARA LA GESTIÓN DE TI, CIBERSEGURIDAD, COMUNICACIONES DIGITALES, PRODUCCIÓN MULTIMEDIA Y CONSULTA NORMATIVA, INCLUYENDO LA IMPLEMENTACIÓN Y EL SERVICIO POSVENTA PARA EL AEROPUERTO INTERNACIONAL MATECAÑA
A5: FORMATO Nº 5 - EXPERIENCIA ESPECÍFICA DEL PROPONENTE
A7: PROPONENTE | B7: =PROPONENTE!B11 -> -B8
A9: Ciudad y fecha:
A11: CONTRATO | B11: ENTIDAD | C11: No. de Registro en el RUP | D11: PARTICIPACION (Individual - Consorcio - Unión Temporal) | E11: % PARTICIPACIÓN | F11: VALOR EN $ | G11: AÑO DE FIRMA DEL CONTRATO
E13: 0 | F13: 0
E14: 0 | F14: 0
E15: 0 | F15: 0
E16: 0 | F16: 0
E17: 0 | F17: 0
E18: 0 | F18: 0
A19: VALOR TOTAL CONTRATOS ACREDITADOS
A21: En caso de diferencia entre la información relacionada en este formato y las certificaciones y/o actas de recibo de trabajos prevalecerá la información contenida en estas últimas.
A28: FIRMA DEL PROPONENTE O SU REPRESENTANTE LEGAL

Sheet Formato 6
A1: =PROPONENTE!B3 -> AEROPUERTO INTERNACIONAL MATECAÑA DE PEREIRA
A2: =PROPONENTE!B4 -> PROCESO DE SELECCIÓN N° 2026-059 - SELECCIÓN ABREVIADA DE MENOR CUANTIA
A3: RENOVACIÓN Y ADQUISICIÓN DE LICENCIAS DE SOFTWARE Y HERRAMIENTAS TECNOLÓGICAS PARA LA GESTIÓN DE TI, CIBERSEGURIDAD, COMUNICACIONES DIGITALES, PRODUCCIÓN MULTIMEDIA Y CONSULTA NORMATIVA, INCLUYENDO LA IMPLEMENTACIÓN Y EL SERVICIO POSVENTA PARA EL AEROPUERTO INTERNACIONAL MATECAÑA
A4: FORMATO Nº 6- PROPUESTA ECONOMICA
A7: PROPONENTE
A8: Ciudad y fecha:
A10: ITEM | B10: DESCRIPCION | C10: CANTIDAD | D10: TIEMPO | E10: VALOR UNITARIO | F10: VALOR TOTAL
A11: 1 | B11: Herramienta Colaborativa Google Workspace Business Standard | C11: 35 | D11: 1 año
A12: 2 | B12: Hosting Web Business para WordPress – Hostinger Cloud Startup | C12: 1 | D12: 1 año
A13: 3 | B13: Plugins Web WordPress (Calendly Team) | C13: 1 | D13: 1 año
A14: 4 | B14: Plugins Web WordPress (AccessiBe) | C14: 1 | D14: 1 año
A15: 5 | B15: Plugins Web WordPress (Elementor Pro / add-ons) | C15: 1 | D15: 1 año
A16: 6 | B16: Plugins Web WordPress (Transkriptor TEAM) | C16: 1 | D16: 1 año
A17: 7 | B17: Plugins Web WordPress (YoastSEO Premium) | C17: 1 | D17: 1 año
A18: 8 | B18: Plugins Web WordPress (Malcare) | C18: 1 | D18: 1 año
A19: 9 | B19: FortiClient (EPP/APT) 2 x 25-pack | C19: 50 | D19: 1 año
A20: 10 | B20: Renovación del protocolo IPv6 LACNIC Pool (/42) | C20: 1 | D20: 1 año
A21: 11 | B21: Manage Engine: Service Desk Plus (2 Technicians – 250 nodos) | C21: 1 | D21: 1 año
A22: 12 | B22: Manage Engine: EndPoint Central (50 Computers – 10 Servers) | C22: 1 | D22: 1 año
... A30: 20 | B30: Mailtrap Infraestructura de Correo Transaccional (Basic) | C30: 1 | D30: 1 año
A31: TOTAL
A33: NOTA: El valor total de esta oferta comprende íntegramente los servicios de soporte postventa.

Sheet Formato 7 
A1: =[1]PROPONENTE!B3 -> AEROPUERTO INTERNACIONAL MATECAÑA DE PEREIRA
A2: PROCESO DE SELECCIÓN N° 2026-059 - SELECCIÓN ABREVIADA DE MENOR CUANTÍA
A3: RENOVACIÓN Y ADQUISICIÓN DE LICENCIAS DE SOFTWARE Y HERRAMIENTAS TECNOLÓGICAS PARA LA GESTIÓN DE TI, CIBERSEGURIDAD, COMUNICACIONES DIGITALES, PRODUCCIÓN MULTIMEDIA Y CONSULTA NORMATIVA, INCLUYENDO LA IMPLEMENTACIÓN Y EL SERVICIO POSVENTA PARA EL AEROPUERTO INTERNACIONAL MATECAÑA
A5: ACREDITACION CUMPLIMIENTO CONTRATOS ANTERIORES
A8: PROPONENTE | B8: =+[1]PROPONENTE!B13 -> -
A9: Ciudad y fecha:
A11: DECLARACIÓN DE MULTAS Y SANCIONES DURANTE LOS ÚLTIMOS DOS (2) AÑOS:
A13: 1) Declaro que (si/no) | C13: he tenido multas y/o sanciones durante los últimos dos años.
A15: RELACIÓN DE MULTAS Y/O SANCIONES DENTRO DE LOS ÚLTIMOS DOS AÑOS
A16: Objeto del Contrato | B16: Nº del Contrato | C16: Entidad Contratante | D16: Valor Contrato ($) | E16: MULTA ö SANCIÓN
E17: Fecha | F17: Valor ($) | G17: Valor (SMMLV)
D18: 0
D19: 0
D20: 0
D21: 0
D22: 0
D23: 0
A25: 2) Declaro bajo la gravedad de juramento que la información consignada en éste formato es totalmente cierta.
A31: FIRMA DEL PROPONENTE O SU REPRESENTANTE LEGAL
A34: SI
A35: NO
