Workbook
Name _____________CON123: '[1]Base Datos'!$B$8
Name _____________M14: '[1]Base Datos'!$B$9
Name _____________MAT1111: '[1]Base Datos'!$B$43
Name _____________MAT170: '[2]Base Datos'!$B$212
Name _____________MAT171: '[2]Base Datos'!$B$213
Name _____________MAT832: '[3]Base Datos'!$B$125
Name _____________MAY88: '[4]Base Datos'!$B$11
Name _________APU221: #REF!
Name _________APU465: [5]!absc
Name _________APU465: [5]!absc
Name _________APU465: [5]!absc
Name _________APU465: [5]!absc
Name _________PJ50: #REF!
Name _________pj51: #REF!
Name ________APU221: #REF!
Name ________APU465: [6]!absc
Name ________APU465: [6]!absc
Name ________APU465: [6]!absc
Name ________APU465: [6]!absc
Name ________cua1: '[7]ALCANTARILLADO RAS'!$A$4:$B$14
Name ________DMD1: #REF!
Name ________MA2: #REF!
Name ________PJ50: #REF!
Name ________PJ51: #REF!
Name ________rc: #REF!
Name ________VPD1: [8]TARIFAS!$C$582
Name ________VPI1: [8]TARIFAS!$C$580
Name ________VRA1: [8]TARIFAS!$C$579
Name _______AFC1: [9]INV!$A$25:$D$28
Name _______AFC3: [9]INV!$F$25:$I$28
Name _______AFC5: [9]INV!$K$25:$N$28
Name _______APU221: #REF!
Name _______APU465: [6]!absc
Name _______APU465: [6]!absc
Name _______APU465: [6]!absc
Name _______APU465: [6]!absc
Name _______BGC1: [9]INV!$A$5:$D$8
Name _______BGC3: [9]INV!$F$5:$I$8
Name _______BGC5: [9]INV!$K$5:$N$8
Name _______CAC1: [9]INV!$A$19:$D$22
Name _______CAC3: [9]INV!$F$19:$I$22
Name _______CAC5: [9]INV!$K$19:$N$22
Name _______cua1: '[7]ALCANTARILLADO RAS'!$A$4:$B$14
Name _______DMD1: #REF!
Name _______MA2: #REF!
Name _______PJ50: #REF!
Name _______pj51: #REF!
Name _______rc: #REF!
Name _______SBC1: [9]INV!$A$12:$D$15
Name _______SBC3: [9]INV!$F$12:$I$15
Name _______SBC5: [9]INV!$K$12:$N$15
Name _______VPD1: [8]TARIFAS!$C$582
Name _______VPI1: [8]TARIFAS!$C$580
Name _______VRA1: [8]TARIFAS!$C$579
Name ______AFC1: [9]INV!$A$25:$D$28
Name ______AFC3: [9]INV!$F$25:$I$28
Name ______AFC5: [9]INV!$K$25:$N$28
Name ______APU221: #REF!
Name ______APU465: [6]!absc
Name ______APU465: [6]!absc

Sheet Memoria de cantidades
H2: =+'Presupuesto Total'!B2 -> IMPLEMENTACIÓN DE ESQUEMAS DE PAGO POR SERVICIOS AMBIENTALES PARA LA CONSERVACIÓN HIDRICA Y SUS SERVICIOS ECOSISTÉMICOS EN EL MUNICPIO DE AGUACHICA, CESAR.
B4: MEMORIA DE CANTIDADES
B6: ACTIVIDAD | H6: ='Presupuesto Total'!$C$8 -> Formalizar los acuerdos voluntarios de pagos por servicios ambientales
B7: ITEM | D7: ='Presupuesto Total'!$B$8 -> 1 | G7: UNIDAD | J7: =+'Presupuesto Total'!$D$8 -> Und | O7: CANTIDAD: | Q7: =$R$31 -> 15
K8: LOCALIZACION | L8: PROPIETARIO | M8: DIMENSIONES | Q8: CANTIDAD | R8: CANT TOTAL
M9: LONG. | N9: ANCHO | O9: ALTURA | P9: AREA (Ha)
K10: vereda los llanos | Q10: 15 | R10: =+Q10 -> 15
B29: OBSERVACIONES: | K29: SUBTOTAL CANTIDADES | R29: =SUM(R10:R27) -> 15
K31: TOTAL | R31: =R29 -> 15
B32: REVISÒ Y APROBÒ | D32: KATHERINE HOYOS TORRES (GERENTE DE PLANEACION Y OBRAS)
B33: PROYECTO | D33: ADRIANA FIGUEROA (PROFESIONAL AREA AMBIENTAL)
B35: ACTIVIDAD | H35: ='Presupuesto Total'!$C$9 -> Realizar el aislamiento de hectáreas en proceso de preservación y restauración espontánea
B36: ITEM | D36: ='Presupuesto Total'!$B$9 -> 2 | G36: UNIDAD | J36: =+'Presupuesto Total'!$D$9 -> Hectareas | O36: CANTIDAD: | Q36: =+R60 -> 30
K37: LOCALIZACION | L37: PROPIETARIO | M37: DIMENSIONES | Q37: VOLUMEN (m3) | R37: CANT TOTAL
M38: LONG. | N38: ANCHO | O38: ALTURA | P38: AREA (Ha)
K39: vereda los llanos | P39: 30 | R39: =+P39 -> 30
B58: OBSERVACIONES: | K58: SUBTOTAL CANTIDADES | R58: =SUM(R39:R56) -> 30
K60: TOTAL | R60: =R58 -> 30
B61: REVISÒ Y APROBÒ | D61: KATHERINE HOYOS TORRES (GERENTE DE PLANEACION Y OBRAS)
B62: PROYECTO | D62: ADRIANA FIGUEROA (PROFESIONAL AREA AMBIENTAL)
B64: ACTIVIDAD | H64: ='Presupuesto Total'!$C$10 -> Otorgar el incentivo de pagos por servicios ambientales
B65: ITEM | D65: ='Presupuesto Total'!$B$10 -> 3 | G65: UNIDAD | J65: =+'Presupuesto Total'!$D$10 -> Hectareas | O65: CANTIDAD: | Q65: =+R85 -> 30
K66: LOCALIZACION | L66: PROPIETARIO | M66: DIMENSIONES | Q66: VOLUMEN (M3) | R66: CANT TOTAL
M67: LONG. | N67: ANCHO | O67: ALTURA | P67: AREA (Ha)
K68: vereda los llanos | P68: 30 | R68: =+P68 -> 30
B83: OBSERVACIONES: | K83: SUBTOTAL CANTIDADES | R83: =SUM(R68:R82) -> 30
K85: TOTAL | R85: =R83 -> 30
B86: REVISÒ Y APROBÒ | D86: KATHERINE HOYOS TORRES (GERENTE DE PLANEACION Y OBRAS)
B87: PROYECTO | D87: ADRIANA FIGUEROA (PROFESIONAL AREA AMBIENTAL)
B90: ACTIVIDAD | H90: ='Presupuesto Total'!$C$11 -> Desarrollar talleres de sensibilización ambiental
B91: ITEM | D91: ='Presupuesto Total'!$B$11 -> 4 | G91: UNIDAD | J91: =+'Presupuesto Total'!$D$11 -> Und | O91: CANTIDAD: | Q91: =+R115 -> 3
K92: LOCALIZACION | L92: ACTIVIDAD | M92: DIMENSIONES | Q92: CANTIDAD (UND) | R92: CANT TOTAL
M93: LONG. | N93: ANCHO | O93: ALTURA | P93: AREA (M2)
K94: ZONA ALTA | L94: CHARLA | Q94: 3 | R94: =+Q94 -> 3
B113: OBSERVACIONES: | K113: SUBTOTAL CANTIDADES | R113: =SUM(R94:R96) -> 3
K115: TOTAL | R115: =R113 -> 3
B116: REVISÒ Y APROBÒ | D116: KATHERINE HOYOS TORRES (GERENTE DE PLANEACION Y OBRAS)
B117: PROYECTO | D117: ADRIANA FIGUEROA (PROFESIONAL AREA AMBIENTAL)
B119: ACTIVIDAD | H119: ='Presupuesto Total'!$C$12 -> Realizar acciones de seguimiento y monitoreo
B120: ITEM | D120: ='Presupuesto Total'!$B$12 -> 5 | G120: UNIDAD | J120: =+'Presupuesto Total'!$D$12 -> Und | O120: CANTIDAD: | Q120: =+R144 -> 15
...

Sheet Presupuesto Total
B2: IMPLEMENTACIÓN DE ESQUEMAS DE PAGO POR SERVICIOS AMBIENTALES PARA LA CONSERVACIÓN HIDRICA Y SUS SERVICIOS ECOSISTÉMICOS EN EL MUNICPIO DE AGUACHICA, CESAR.
B5: PRESUPUESTO GENERAL
B6: MARZO 2026
B7: ITÉM | C7: ACTIVIDAD | D7: UNIDAD | E7: CANTIDAD | F7: VALOR UNITARIO | G7: VALOR TOTAL
B8: 1 | C8: Formalizar los acuerdos voluntarios de pagos por servicios ambientales | D8: Und | E8: =+'Memoria de cantidades'!R31 -> 15 | F8: =+'APU 1.'!G19 -> 2261500 | G8: =+F8*E8 -> 33922500
B9: 2 | C9: Realizar el aislamiento de hectáreas en proceso de preservación y restauración espontánea | D9: Hectareas | E9: =+'Memoria de cantidades'!R60 -> 30 | F9: =+'APU 2.'!G31 -> 5422700 | G9: =+F9*E9 -> 162681000
B10: 3 | C10: Otorgar el incentivo de pagos por servicios ambientales | D10: Hectareas | E10: =+'Memoria de cantidades'!R85 -> 30 | F10: =+'APU 3.'!G17 -> 900000 | G10: =+F10*E10 -> 27000000
B11: 4 | C11: Desarrollar talleres de sensibilización ambiental | D11: Und | E11: =+'Memoria de cantidades'!R115 -> 3 | F11: =+'APU 4.'!G18 -> 120000 | G11: =+F11*E11 -> 360000
B12: 5 | C12: Realizar acciones de seguimiento y monitoreo | D12: Und | E12: =+'Memoria de cantidades'!R144 -> 15 | F12: ='APU 5.'!G22 -> 868000 | G12: =+F12*E12 -> 13020000
B13: SUBTOTAL | G13: =SUM(G8:G12) -> 236983500
B14: ADMINISTRACION | F14: =G14/G13 -> 0.21591092 | G14: ='Administración y utilidad (AU)'!F26 -> 51167325
B15: UTILIDAD | F15: =G15/G13 -> 0.05 | G15: ='Administración y utilidad (AU)'!F28 -> 11849175
B16: TOTAL | G16: =SUM(G13:G15) -> 3e+08
C19: KATHERINE HOYOS TORRES
C20: GERENTE DE PLANEACION Y OBRAS

Sheet APU 1.
A1: ANALISIS DE PRECIOS UNITARIOS
A2: PROYECTO | B2: =+'Presupuesto Total'!B2 -> IMPLEMENTACIÓN DE ESQUEMAS DE PAGO POR SERVICIOS AMBIENTALES PARA LA CONSERVACIÓN HIDRICA Y SUS SERVICIOS ECOSISTÉMICOS EN EL MUNICPIO DE AGUACHICA, CESAR.
A3: ITEM | B3: =+'Presupuesto Total'!B8 -> 1 | D3: UNIDAD | F3: =+'Presupuesto Total'!D8 -> Und
A4: ACTIVIDAD | B4: =+'Presupuesto Total'!C8 -> Formalizar los acuerdos voluntarios de pagos por servicios ambientales
A5: 1. EQUIPOS
A6: DESCRIPCION | C6: UNIDAD | D6: CANTIDAD | F6: V. UNITARIO | G6: SUBTOTAL
A7: GPS 30x (alquiler) | C7: UNIDAD | D7: 0.05 | F7: 300000 | G7: =F7*D7 -> 15000
A8: Clinometro (alquiler) | C8: UNIDAD | D8: 0.05 | F8: 100000 | G8: =F8*D8 -> 5000
A9: Calibrador o pie de rey (alquiler) | C9: UNIDAD | D9: 0.05 | F9: 30000 | G9: =F9*D9 -> 1500
A10: SUBTOTAL EQUIPOS | G10: =SUM(G7:G9) -> 21500
A11: 2. PERSONAL
A12: DESCRIPCION | C12: UNIDAD | D12: CANTIDAD | F12: V. UNITARIO | G12: SUBTOTAL
A13: Cuadrilla topografica | C13: dedicacion | D13: 0.14 | F13: 16000000 | G13: =F13*D13 -> 2240000
A14: SUBTOTAL MO CALIFICADA | G14: =SUM(G13:G13) -> 2240000
A15: 3. MATERIALES
A16: DESCRIPCION | C16: UNIDAD | D16: CANTIDAD | F16: V. UNITARIO | G16: SUBTOTAL
A18: SUBTOTAL MATERIALES
A19: TOTAL | G19: =+G10+G14+G18 -> 2261500
A23: KATHERINE HOYOS TORRES
A24: GERENTE DE PLANEACION Y OBRAS

Sheet APU 2.
A1: ANALISIS DE PRECIOS UNITARIOS
A2: PROYECTO | B2: =+'Presupuesto Total'!B2 -> IMPLEMENTACIÓN DE ESQUEMAS DE PAGO POR SERVICIOS AMBIENTALES PARA LA CONSERVACIÓN HIDRICA Y SUS SERVICIOS ECOSISTÉMICOS EN EL MUNICPIO DE AGUACHICA, CESAR.
A3: ITEM | B3: =+'Presupuesto Total'!B9 -> 2 | D3: UNIDAD | F3: =+'Presupuesto Total'!D9 -> Hectareas
A4: ACTIVIDAD | B4: =+'Presupuesto Total'!C9 -> Realizar el aislamiento de hectáreas en proceso de preservación y restauración espontánea
A5: 1. EQUIPOS
A6: DESCRIPCION | C6: UNIDAD | D6: CANTIDAD | F6: V. UNITARIO | G6: SUBTOTAL
A7: herramienta menor | C7: % | D7: 0.05 | F7: 900000 | G7: =F7*D7 -> 45000
G8: =F8*D8 -> 0
G9: =F9*D9 -> 0
A10: SUBTOTAL EQUIPOS | G10: =SUM(G7:G9) -> 45000
A11: 2. PERSONAL
A12: DESCRIPCION | C12: UNIDAD | D12: CANTIDAD | F12: V. UNITARIO | G12: SUBTOTAL
A13: cuadrilla AA | C13: Hora | D13: 18.060935 | F13: =+MO!D87 -> 49831.308 | G13: =F13*D13 -> 900000
G14: =F14*D14 -> 0
G15: =F15*D15 -> 0
G16: =F16*D16 -> 0
G17: =F17*D17 -> 0
A18: SUBTOTAL MO CALIFICADA | G18: =SUM(G13:G17) -> 900000
A19: 3. TRASPORTE
A20: DESCRIPCION | C20: UNIDAD | D20: CANTIDAD | F20: V. UNITARIO | G20: SUBTOTAL
G21: =+D21*F21 -> 0
A22: SUBTOTAL TRANSPORTE | G22: =SUM(G21) -> 0
A23: 4. MATERIALES
A24: DESCRIPCION | C24: UNIDAD | D24: CANTIDAD | F24: V. UNITARIO | G24: SUBTOTAL
A25: Postes Madera (Altura 2.0 mts X 10 cms Diametro) | C25: Postes | D25: 134 | F25: 18000 | G25: =+D25*F25 -> 2412000
A26: Postes Vivos (Matarratón) entre 60 cm y 100 cm de altura | C26: Plántulas | D26: 134 | F26: 5000 | G26: =+D26*F26 -> 670000
A27: Madrinas ( Altura 2.0 mts X diametro 25 cms ) | C27: Unidad | D27: 8 | F27: 20000 | G27: =+D27*F27 -> 160000
A28: Alambre calibre 16 | C28: Rollo/400 m | D28: 4 | F28: 290000 | G28: =+D28*F28 -> 1160000
A29: Grapas | C29: Kg | D29: 5.0466667 | F29: 15000 | G29: =+D29*F29 -> 75700
A30: SUBTOTAL MATERIALES | G30: =SUM(G25:G29) -> 4477700
A31: TOTAL | G31: =+G10+G18+G22+G30 -> 5422700
A35: KATHERINE HOYOS TORRES
A36: GERENTE DE PLANEACION Y OBRAS

Sheet APU 3.
A1: ANALISIS DE PRECIOS UNITARIOS
A2: PROYECTO | B2: =+'Presupuesto Total'!B2 -> IMPLEMENTACIÓN DE ESQUEMAS DE PAGO POR SERVICIOS AMBIENTALES PARA LA CONSERVACIÓN HIDRICA Y SUS SERVICIOS ECOSISTÉMICOS EN EL MUNICPIO DE AGUACHICA, CESAR.
A3: ITEM | B3: =+'Presupuesto Total'!B10 -> 3 | D3: UNIDAD | F3: =+'Presupuesto Total'!D10 -> Hectareas
A4: ACTIVIDAD | B4: =+'Presupuesto Total'!C10 -> Otorgar el incentivo de pagos por servicios ambientales
A5: 1.PAGOS
A6: DESCRIPCION | C6: UNIDAD | D6: CANTIDAD | F6: V. UNITARIO | G6: SUBTOTAL
A7: Valor del incentivo PSA | C7: Ha | D7: 1 | F7: 900000 | G7: =F7*D7 -> 900000
G8: =F8*D8 -> 0
G9: =F9*D9 -> 0
A10: SUBTOTAL EQUIPOS | G10: =SUM(G7:G9) -> 900000
A11: 2. MATERIALES
A12: DESCRIPCION | C12: UNIDAD | D12: CANTIDAD | F12: V. UNITARIO | G12: SUBTOTAL
G13: =+D13*F13 -> 0
G14: =+D14*F14 -> 0
G15: =+D15*F15 -> 0
A16: SUBTOTAL MATERIALES | G16: =SUM(G13:G15) -> 0
A17: TOTAL | G17: =+G10+G16 -> 900000
A21: KATHERINE HOYOS TORRES
A22: GERENTE DE PLANEACION Y OBRAS

Sheet APU 4.
A1: ANALISIS DE PRECIOS UNITARIOS
A2: PROYECTO | B2: =+'Presupuesto Total'!B2 -> IMPLEMENTACIÓN DE ESQUEMAS DE PAGO POR SERVICIOS AMBIENTALES PARA LA CONSERVACIÓN HIDRICA Y SUS SERVICIOS ECOSISTÉMICOS EN EL MUNICPIO DE AGUACHICA, CESAR.
A3: ITEM | B3: =+'Presupuesto Total'!B11 -> 4 | D3: UNIDAD | F3: =+'Presupuesto Total'!D11 -> Und
A4: ACTIVIDAD | B4: =+'Presupuesto Total'!C11 -> Desarrollar talleres de sensibilización ambiental
A5: 1.EQUIPOS
A6: DESCRIPCION | C6: UNIDAD | D6: CANTIDAD | F6: V. UNITARIO | G6: SUBTOTAL
G7: =F7*D7 -> 0
G8: =F8*D8 -> 0
G9: =F9*D9 -> 0
A10: SUBTOTAL EQUIPOS | G10: =SUM(G7:G9) -> 0
A11: 2. MATERIALES
A12: DESCRIPCION | C12: UNIDAD | D12: CANTIDAD | F12: V. UNITARIO | G12: SUBTOTAL
A13: Refrigerios | C13: UNIDAD | D13: 15 | F13: 8000 | G13: =+D13*F13 -> 120000
G14: =+D14*F14 -> 0
G15: =+D15*F15 -> 0
G16: =+D16*F16 -> 0
A17: SUBTOTAL MATERIALES | G17: =SUM(G13:G16) -> 120000
A18: TOTAL | G18: =+G10+G17 -> 120000
A22: KATHERINE HOYOS TORRES
A23: GERENTE DE PLANEACION Y OBRAS

Sheet APU 5.
A1: ANALISIS DE PRECIOS UNITARIOS
A2: PROYECTO | B2: =+'Presupuesto Total'!B2 -> IMPLEMENTACIÓN DE ESQUEMAS DE PAGO POR SERVICIOS AMBIENTALES PARA LA CONSERVACIÓN HIDRICA Y SUS SERVICIOS ECOSISTÉMICOS EN EL MUNICPIO DE AGUACHICA, CESAR.
A3: ITEM | B3: ='Presupuesto Total'!B12 -> 5 | D3: UNIDAD | F3: =+'Presupuesto Total'!D11 -> Und
A4: ACTIVIDAD | B4: ='Presupuesto Total'!C12 -> Realizar acciones de seguimiento y monitoreo
A5: 1.EQUIPOS
A6: DESCRIPCION | C6: UNIDAD | D6: CANTIDAD | F6: V. UNITARIO | G6: SUBTOTAL
G7: =F7*D7 -> 0
G8: =F8*D8 -> 0
G9: =F9*D9 -> 0
A10: SUBTOTAL EQUIPOS | G10: =SUM(G7:G9) -> 0
A11: 2. MATERIALES
A12: DESCRIPCION | C12: UNIDAD | D12: CANTIDAD | F12: V. UNITARIO | G12: SUBTOTAL
A13: Placas de identificación de las especies vegetales | C13: UNIDAD | D13: 100 | F13: 500 | G13: =+D13*F13 -> 50000
A14: Aerosol | C14: UNIDAD | D14: 2 | F14: 25000 | G14: =+D14*F14 -> 50000
A15: Puntillas | C15: Caja | D15: 1 | F15: 12000 | G15: =+D15*F15 -> 12000
A16: Cinta Peligro 70Mmx100M | C16: Rollo | D16: 8 | F16: 32000 | G16: =+D16*F16 -> 256000
A17: Papelería | C17: UNIDAD | D17: 1 | F17: 500000 | G17: =+D17*F17 -> 500000
G18: =+D18*F18 -> 0
G19: =+D19*F19 -> 0
G20: =+D20*F20 -> 0
A21: SUBTOTAL MATERIALES | G21: =SUM(G13:G20) -> 868000
A22: TOTAL | G22: =+G10+G21 -> 868000
A26: KATHERINE HOYOS TORRES
A27: GERENTE DE PLANEACION Y OBRAS

Sheet MO
A1: =+'Presupuesto Total'!B2 -> IMPLEMENTACIÓN DE ESQUEMAS DE PAGO POR SERVICIOS AMBIENTALES PARA LA CONSERVACIÓN HIDRICA Y SUS SERVICIOS ECOSISTÉMICOS EN EL MUNICPIO DE AGUACHICA, CESAR.
A5: FECHA: MARZO 2026
A6: TARIFAS MANO DE OBRA Y PRESTACIONES SOCIALES 2025.
A7: 1.-SALARIOS DE MANO DE OBRA | E7: % | G7: AYUDANTE | H7: 1.2 | K7: OFICIAL | L7: 2.1
A9: A- Salario Minimo Legal | C9: 1746882 | G9: =+C9*H7 -> 2096258.4 | K9: =+C9*L7 -> 3668452.2
A10: B- Auxilio de Transporte | C10: 253118 | G10: =C10 -> 253118
A11: C- Total Mensual | C11: =SUM(C9:C10) -> 2000000 | G11: =SUM(G9:G10) -> 2349376.4 | K11: =SUM(K9:K10) -> 3668452.2
A12: D- Anual (Ax12) | C12: =+C9*12 -> 20962584 | G12: =+G9*12 -> 25155101 | K12: =+K9*12 -> 44021426
A13: Subsidio de Transporte Anual | C13: =+(C10/30)*(365-18-3-15) -> 2775860.7 | G13: =+(G10/30)*(365-18-3-15) -> 2775860.7 | K13: =+(K10/30)*(365-18) -> 0
A14: E- Anual con Subsidio de Transporte | C14: =+C12+C13 -> 23738445 | G14: =+G12+G13 -> 27930962 | K14: =+K12+K13 -> 44021426
A16: PRESTACIONES | B16: BASE
A17: Cesantias Por Ley | B17: E | C17: =+E17 -> 0.0833 | D17: =+E17*C14 -> 1977412.4 | E17: 0.0833 | G17: =+I17 -> 0.0833 | H17: =+I17*G14 -> 2326649.1 | I17: 0.0833 | K17: =+M17 -> 0.0833 | L17: =+M17*K14 -> 3666984.8 | M17: 0.0833
A18: Intereses | B18: =+A17 -> Cesantias Por Ley | C18: 0.12 | D18: =+D17*C18 -> 237289.49 | E18: 0.009996 | G18: 0.12 | H18: =+H17*G18 -> 279197.89 | I18: 0.009996 | K18: 0.12 | L18: =+L17*K18 -> 440038.18 | M18: 0.009996
A19: Vacaciones 15 Dias | B19: A | C19: 0.0417 | D19: =+C19*C12 -> 874139.75 | E19: =+D19/C12 -> 0.0417 | G19: 0.0417 | H19: =+G19*G12 -> 1048967.7 | I19: =+H19/G12 -> 0.0417 | K19: 0.0417 | L19: =+K19*K12 -> 1835693.5 | M19: =+L19/K12 -> 0.0417
A20: Primas 30 Dias | B20: C | C20: =+E20 -> 0.0833 | D20: =+D17 -> 1977412.4 | E20: =+D20/C14 -> 0.0833 | G20: =+C20 -> 0.0833 | H20: =+H17 -> 2326649.1 | I20: =+H20/G14 -> 0.0833 | K20: =+G20 -> 0.0833 | L20: =+L17 -> 3666984.8 | M20: =+L20/K14 -> 0.0833
A22: OTROS COSTOS
A23: Botas y Overol | B23: 135000 | C23: 3 | D23: =+$B$23*C23 -> 405000 | E23: =+D23/C12 -> 0.019320137 | G23: =+C23 -> 3 | H23: =+$B$23*G23 -> 405000 | I23: =+H23/G12 -> 0.016100114 | K23: =+G23 -> 3 | L23: =+$B$23*K23 -> 405000 | M23: =+L23/K12 -> 0.0092000654
A24: Seguro Colectivo | B24: D | C24: 0.015 | D24: =+C12*C24 -> 314438.76 | E24: =+D24/C12 -> 0.015 | G24: =+C24 -> 0.015 | H24: =+G24*G12 -> 377326.51 | I24: =+H24/G12 -> 0.015 | K24: =+G24 -> 0.015 | L24: =+K24*K12 -> 660321.4 | M24: =+L24/K12 -> 0.015
A25: Horas Extras | C25: 0.02 | D25: =+C25*C12 -> 419251.68 | E25: =+D25/C12 -> 0.02 | G25: =+C25 -> 0.02 | H25: =+G25*G12 -> 503102.02 | I25: =+H25/G12 -> 0.02 | L25: =+K25*K12 -> 0 | M25: =+L25/K12 -> 0
A27: SEGURIDAD SOCIAL
A28: Pensiones | B28: D | C28: 0.12 | D28: =+C12*C28 -> 2515510.1 | E28: 0.12 | G28: 0.12 | H28: =+G12*G28 -> 3018612.1 | I28: 0.12 | K28: 0.12 | L28: =+K12*K28 -> 5282571.2 | M28: 0.12
A29: Medicina Familiar | B29: D | C29: 0.085 | D29: =+C12*C29 -> 1781819.6 | E29: 0.085 | G29: 0.085 | H29: =+G12*G29 -> 2138183.6 | I29: 0.085 | K29: 0.085 | L29: =+K12*K29 -> 3741821.2 | M29: 0.085
A30: Riesgos Profesionales | B30: D | C30: 0.0696 | D30: =+C30*C12 -> 1458995.8 | E30: =+D30/C12 -> 0.0696 | G30: =+C30 -> 0.0696 | H30: =+G30*G12 -> 1750795 | I30: =+H30/G12 -> 0.0696 | K30: =+G30 -> 0.0696 | L30: =+K30*K12 -> 3063891.3 | M30: =+L30/K12 -> 0.0696
A31: Examen medico | C31: 0.015 | D31: =+C31*C12 -> 314438.76 | E31: =+D31/C12 -> 0.015 | G31: =+I31 -> 0.0125 | H31: =+D31 -> 314438.76 | I31: =+H31/G12 -> 0.0125 | K31: =+M31 -> 0.0071428571 | L31: =+H31 -> 314438.76 | M31: =+L31/K12 -> 0.0071428571
A32: Incremento variable | G32: 0.038121535 | H32: =+G32*G12 -> 958951.05 | I32: =+H32/G12 -> 0.038121535 | K32: 0.013542982 | L32: =+K32*K12 -> 596181.37 | M32: =+L32/K12 -> 0.013542982
A34: APORTES SENA
A35: Aporte Ordinario | B35: D | G35: 0 | H35: =+G12*G35 -> 0 | I35: =+H35/G12 -> 0 | K35: 0 | L35: =+K12*K35 -> 0 | M35: =+L35/K12 -> 0
A36: F.I.C (A*12/40) | B36: Nota 4 | C36: =+E36 -> 0.022076619 | D36: =+(C9*12)/40 -> 524064.6 | E36: =+D36/C14 -> 0.022076619 | G36: =+I36 -> 0.020833333 | H36: =+D36 -> 524064.6 | I36: =+H36/G12 -> 0.020833333 | K36: =+M36 -> 0.011904762 | L36: =+H36 -> 524064.6 | M36: =+L36/K12 -> 0.011904762
A38: OTROS APORTES
A39: I.C.B.F | B39: D | G39: 0 | H39: =+G12*G39 -> 0 | I39: =+H39/G12 -> 0 | K39: 0 | L39: =+K12*K39 -> 0 | M39: =+L39/K12 -> 0
A40: Subsidio Familiar | B40: D | C40: 0.04 | D40: =+C12*C40 -> 838503.36 | E40: =+D40/C12 -> 0.04 | G40: 0.04 | H40: =+G12*G40 -> 1006204 | I40: =+H40/G12 -> 0.04 | K40: 0.04 | L40: =+K12*K40 -> 1760857.1 | M40: =+L40/K12 -> 0.04
A42: VALOR REAL DEL SALARIO | D42: =SUM(D17:D41)+C14 -> 37376722 | E42: =SUM(E17:E41) -> 0.62429276 | H42: =SUM(H17:H41)+G14 -> 44909103 | I42: =SUM(I17:I41) -> 0.65545098 | L42: =SUM(L17:L41)+K14 -> 69980275 | M42: =SUM(M17:M41) -> 0.58968667
H43: =H42/365 -> 123038.64 | I43: =H43/8 -> 15379.83
A46: NOTAS:
A47: 1.- Subsidio de transporte solo se paga hasta sueldos de 2 salarios minimos mensules legales vigentes.
A48: 2.- Subsidio de transporte anual = Subsidio mensual / 30 x (365 dias-18 fiestas - 3 permisos- 15 dias vacaciones).
A49: 3.- Porcentajes solo son validos para actividades de construccion. Para otros empleados se debe utilizar 30 dias de cesantia y 2.2% (promedio para empresas de bajo riesgo).
A50: 4.- Un salario minimo por cada 40 trabajadores. El valor se obtiene asi: (Salario minimo x 12 / 40) / Salario annual estudiado.
A51: 5.- El crecimiento promedio del PIB entre 2005 y 2006 fue superior al 4%y por ello la cotizacion a pensiones por parte del patrono durante 2009 debe aumentar al 12%, segun lo dispuesto por la ley 297 del 2003.
A52: * Todos los porcentajes estan relacionados con el salario para 365 dias.
...

Sheet Administración y utilidad (AU)
A1: IMPLEMENTACIÓN DE ESQUEMAS DE PAGO POR SERVICIOS AMBIENTALES PARA LA CONSERVACIÓN HIDRICA Y SUS SERVICIOS ECOSISTÉMICOS EN EL MUNICPIO DE AGUACHICA, CESAR.
A3: VALOR DE LOS COSTOS DIRECTOS | B3: ='Presupuesto Total'!G13 -> 236983500 | F3: ADMINISTRACIÓN | G3: =G26 -> 0.21591092
A4: DURACIÓN DE ACTIVIDAD | B4: 3 | C4: MES | F4: IMPREVISTOS | G4: 0
A5: AUI CALCULADO | B5: =+G3+G4+G5 -> 0.26591092 | F5: UTILIDAD | G5: =G28 -> 0.05
A7: COSTOS ADMINISTRATIVOS | B7: VALOR MENSUAL $ | C7: CANTIDAD | D7: DEDICACIÓN MENSUAL % | E7: MESES | F7: VALOR PARCIAL | G7: % SOBRE COSTOS DIRECTOS
A8: PERSONAL PROFESIONAL Y TÉCNICO | F8: =SUM(F9:F14) -> 21140027 | G8: =SUM(G9:G14) -> 0.089204637
A9: Profesional social | B9: 4500000 | C9: 1 | D9: 1 | E9: 1 | F9: =+E9*D9*C9*B9 -> 4500000 | G9: =+F9/B$3 -> 0.018988664
A10: Profesional Juridico | B10: 4500000 | C10: 1 | D10: 0.720006 | E10: 1 | F10: =+E10*D10*C10*B10 -> 3240027 | G10: =+F10/B$3 -> 0.013671952
A11: Profesional Ambiental | B11: 4500000 | C11: 1 | D11: 1 | E11: 1 | F11: =+E11*D11*C11*B11 -> 4500000 | G11: =+F11/B$3 -> 0.018988664
A12: Profesional SIG | B12: 5000000 | C12: 1 | D12: 0.5 | E12: 1 | F12: =+E12*D12*C12*B12 -> 2500000 | G12: =+F12/B$3 -> 0.010549258
A13: Auxiliar Administrativo | B13: 2800000 | C13: 1 | D13: 1 | E13: 1 | F13: =+E13*D13*C13*B13 -> 2800000 | G13: =+F13/B$3 -> 0.011815169
A14: Contador | B14: 4500000 | C14: 1 | D14: 0.8 | E14: 1 | F14: =+E14*D14*C14*B14 -> 3600000 | G14: =+F14/B$3 -> 0.015190931
A16: OFICINA, PAPELERIA Y OTROS | F16: =SUM(F17:F19) -> 4125001.2 | G16: =SUM(G17:G19) -> 0.01740628
A17: Costo de oficina, incluye servicios públicos | B17: 1300000 | C17: 1 | D17: 0.3 | E17: 1 | F17: =B17*C17*D17*E17 -> 390000 | G17: =F17/B$3 -> 0.0016456842
A18: Papelería | B18: ='[134]APU 1.'!F30 -> 1671432 | C18: 1 | D18: 0.35 | E18: 1 | F18: =B18*C18*D18*E18 -> 585001.2 | G18: =F18/B$3 -> 0.0024685314
A19: Alquiler vehiculo con conductor | B19: 4500000 | C19: 1 | D19: 0.7 | E19: 1 | F19: =B19*C19*D19*E19 -> 3150000 | G19: =F19/B$3 -> 0.013292065
A21: LEGALIZACION DEL CONTRATO | F21: =SUM(F22:F24) -> 25902297 | G21: =SUM(G22:G24) -> 0.1093
A22: Gastos de legalizacion | E22: 0.01 | F22: =E22*B3 -> 2369835 | G22: =+F22/B$3 -> 0.01
A23: Estampillas municipales | E23: 0.0993 | F23: =E23*B3 -> 23532462 | G23: =+F23/B$3 -> 0.0993
A26: TOTAL COSTOS ADMINISTRATIVOS | F26: =SUM(F21+F16+F8) -> 51167325 | G26: =G21+G8+G16 -> 0.21591092
A28: UTILIDAD | F28: =+G28*B3 -> 11849175 | G28: 0.05
A30: TOTAL AIU | F30: =F26+F28 -> 63016500 | G30: =G26+G28 -> 0.26591092

Sheet Cronograma
A1: ='[134]PRESUPUESTO GENERAL'!A1:F4 -> IMPLEMENTACIÓN DE ESTRATEGIAS PARA LA CONSERVACIÓN Y MANTENIMIENTO DE LA BIODIVERSIDAD Y RECUPERACIÓN DE LOS SERVICIOS ECOSISTEMICOS EN EL MUNICIPIO DE AGUACHICA, DEPARTAMENTO DEL CESAR.
A4: ITEM | B4: ACTIVIDAD | C4: MES 1 | D4: MES 2 | H4: MES 3 | I4: Total
D5: SEM 1 | E5: SEM 2 | F5: SEM 3 | G5: SEM 4
B6: Etapa Contratacion
A7: 1 | B7: ='Presupuesto Total'!C8 -> Formalizar los acuerdos voluntarios de pagos por servicios ambientales
D8: ='Presupuesto Total'!G8/2 -> 16961250 | E8: =D8 -> 16961250 | I8: =SUM(D8:F8) -> 33922500
A9: 2 | B9: ='Presupuesto Total'!C9 -> Realizar el aislamiento de hectáreas en proceso de preservación y restauración espontánea
E10: ='Presupuesto Total'!G9/2 -> 81340500 | F10: =E10 -> 81340500 | I10: =SUM(E10:F10) -> 162681000
A11: 3 | B11: ='Presupuesto Total'!C10 -> Otorgar el incentivo de pagos por servicios ambientales
G12: ='Presupuesto Total'!G10 -> 27000000 | I12: =G12 -> 27000000
A13: 4 | B13: ='Presupuesto Total'!#REF! -> #REF!
E14: ='Presupuesto Total'!#REF!/2 -> #REF! | F14: =E14 -> #REF! | I14: =SUM(E14:G14) -> #REF!
A15: 5 | B15: ='Presupuesto Total'!C11 -> Desarrollar talleres de sensibilización ambiental
D16: ='Presupuesto Total'!G11/2 -> 180000 | G16: =D16 -> 180000 | I16: =SUM(D16:G16) -> 360000
A17: 6 | B17: ='Presupuesto Total'!C12 -> Realizar acciones de seguimiento y monitoreo
E18: ='Presupuesto Total'!G12/2 -> 6510000 | G18: =E18 -> 6510000 | I18: =SUM(E18:G18) -> 13020000
B19: Etapa Liquidacion
A20: ADMNISTRACIÓN 14,4%
D21: ='Administración y utilidad (AU)'!F26/4 -> 12791831 | E21: =D21 -> 12791831 | F21: =E21 -> 12791831 | G21: =F21 -> 12791831 | I21: =SUM(D21:G21) -> 51167325
A22: UTILIDAD 6,1%
D23: ='Administración y utilidad (AU)'!F28/4 -> 2962293.8 | E23: =D23 -> 2962293.8 | F23: =E23 -> 2962293.8 | G23: =F23 -> 2962293.8 | I23: =SUM(D23:G23) -> 11849175
A24: Total | D24: =D8+D16+D21+D23 -> 32895375 | E24: =E8+E10+E14+E18+E21+E23 -> #REF! | F24: =F10+F14+F21+F23 -> #REF! | G24: =G12+G16+G18+G21+G23 -> 49444125 | I24: =SUM(I8:I23) -> #REF!

Sheet Lista de insumos
C2: ANALISIS DE PRECIOS BASICOS
B3: ITEM | C3: COSTO DE 1 HAS DE RESTAURACIÓN PASIVA CON CERCAS VIVAS
C4: Unidad | D4: Cantidad | E4: V/Unitario $ | F4: Valor Total $
B5: Postes Madera (Altura 2.0 mts X 10 cms Diametro) | C5: Und | D5: 134 | E5: 18000 | F5: =D5*E5 -> 2412000
B6: Postes Vivos (Matarratón) entre 60 cm y 100 cm de altura | C6: Plántula | D6: 134 | E6: 5000 | F6: =D6*E6 -> 670000
B7: Madrinas ( Altura 2.0 mts X diametro 25 cms ) | C7: Und | D7: 8 | E7: 20000 | F7: =D7*E7 -> 160000
B8: Alambre calibre 16 | C8: Rollo 400m | D8: 4 | E8: 290000 | F8: =D8*E8 -> 1160000
B9: Grapas | C9: Kg | D9: 5.0466667 | E9: 15000 | F9: =D9*E9 -> 75700
B10: Instalación de cercado | C10: Jornal | D10: 10 | E10: 90000 | F10: =D10*E10 -> 900000
B11: Placas de identificación de las especies vegetales | C11: Und | D11: 100 | E11: 500 | F11: =E11*D11 -> 50000
B12: Aerosol | C12: Und | D12: 2 | E12: 25000 | F12: =E12*D12 -> 50000
B13: Puntillas | C13: Caja | D13: 1 | E13: 12000 | F13: =E13*D13 -> 12000
B14: Cinta Peligro 70Mmx100M | C14: Rollo | D14: 8 | E14: 32000 | F14: =E14*D14 -> 256000

Sheet Factor multiplicador
B2: ANALISIS FACTOR MULTIPLICADOR
B3: ANALISIS DEL FACTOR MULTIPLICADOR - COSTOS DIRECTOS
B4: DESCRIPCION | C4: BASE | D4: FACTOR (%) >2SMMLV | E4: FACTOR (%) <2SMMLV
B5: 1. SALARIO
B6: Salario Anual | D6: 1 | E6: 1
B7: SUB-TOTAL SALARIO | D7: =SUM(D6:D6) -> 1 | E7: =SUM(E6:E6) -> 1
B9: 2. PRESTACIONES SOCIALES, SEGURIDAD SOCIAL Y OTROS ASOCIADOS
B10: PRESTACIONES
B11: Cesantías por Ley | C11: E | D11: 0.0833 | E11: 0.0833
B12: Intereses sobre cesantía | D12: 0.01 | E12: 0.01
B13: Prima anual | C13: C | D13: 0.0833 | E13: 0.0833
B14: SENA | D14: 0.02 | E14: 0.02
B15: ICBF | D15: 0.03 | E15: 0.03
B16: Caja de Compensación Familiar | D16: 0.04 | E16: 0.04
B17: Sistema de seguridad social : Salud | D17: 0.085 | E17: 0.085
B18: Sistema de seguridad social : Pensión | D18: 0.12 | E18: 0.12
B19: Aseguradora de Riesgos Profesionales | D19: 0.0696 | E19: 0.0696
B20: Vacaciones | C20: A | D20: 0.0417 | E20: 0.0417
B21: OTROS COSTOS
B22: Dotación | E22: 0.05
B23: Auxilio de Trasnporte | E23: 0.1172
B24: SUB-TOTAL C. PRESTACIONALES | D24: =SUM(D11:D23) -> 0.5829 | E24: =SUM(E11:E23) -> 0.7501
B26: SUB-TOTAL (1 + 2) | D26: =D24+D7 -> 1.5829 | E26: =E24+E7 -> 1.7501
B28: 3. COSTOS INDIRECTOS
B30: Póliza de Calidad | D30: 0.0033 | E30: 0.0033
B31: Póliza de Cumplimiento | D31: 0.0034 | E31: 0.0034
B32: Póliza de Salarios y Prestaciones Sociales | D32: 0.0033 | E32: 0.0033
B33: Estampilla Pro Cultura | D33: 0.02 | E33: 0.02
B34: Estampilla del Adulto Mayor | D34: 0.04 | E34: 0.04
B35: Estampilla Pro Fronterizo | D35: 0.015 | E35: 0.015
B36: Tasa Pro Deporte | D36: 0.015 | E36: 0.015
B37: Estampilla Pro Universidad | D37: 0.005 | E37: 0.005
B38: Papeleria | D38: 0.02 | E38: 0.02
D39: =SUM(D29:D38) -> 0.125 | E39: =SUM(E29:E38) -> 0.125
B42: 5. HONORARIOS
B43: 5.1. Honorarios 10% | D43: 0.1 | E43: 0.1
B44: SUB-TOTAL (4) | D44: =D43 -> 0.1 | E44: =E43 -> 0.1
B46: FACTOR MULTIPLICADOR | D46: =D7+D24+D39+D44 -> 1.8079 | E46: =E7+E24+E39+E44 -> 1.9751
C50: BASE
B51: SALARIO MENSUAL | C51: A
...
